{"text_format":"1","workbook":"xlsx","n_sheets":26,"sheets":["ProjectInformation","PrintSheets","DE103_5PIE","DE103_6","DE103_5SP","DE103_7","DE103_10","DE104_5CEX","DE104_6","DE104_9","DE107_31SUR","DE104_5CWB","103_5PIE","103_6","103_5SP","103_7","103_10","104_5CEX","104_6","104_9","107_31SUR","104_5CWB","PrintSheetTemplate","Note1","BridgeBlock","Index"],"not_rendered":{"charts":0,"images":20,"macros":1,"external_links":1,"defined_names":8,"comments":3,"pivot_tables":0},"unopened":[],"bounds":{"document_bytes":16777216,"sheet_cells":100000,"rows_first":2000,"rows_last":500,"rows_between":2000,"halvings":0,"cell_chars":16384,"cell_head_chars":4096},"cells_cut":0,"cells_raw":0,"read":"whole","date_system":"1900"}

{"sheet":"ProjectInformation","index":0,"n_rows":11,"n_cols":2,"rows_kept":11,"cut":false,"hidden":false,"merged":[[0,0,0,1],[1,0,1,1],[9,0,9,1],[3,0,4,0]]}
["CPN DATA"]
["INFORMATION ADDED BY DESIGNER"]
["Section Engineer"]
["Design Team","HDR"]
[]
["County","TAMA"]
["Project Number","NHSX-030-6(189)--3H-86"]
["English or Metric","ENGLISH"]
["Revised"]
["Bridge Block"]
["File No."]

{"sheet":"PrintSheets","index":1,"n_rows":380,"n_cols":179,"rows_kept":380,"cut":false,"hidden":false,"merged":[[80,149,81,171],[80,172,81,177],[74,135,75,177],[76,149,76,177],[77,149,77,177],[78,149,78,177],[79,149,79,177],[93,65,93,100],[82,149,82,153],[82,172,82,174],[83,149,84,177],[85,149,85,158],[86,149,86,166],[86,167,86,168],[93,165,93,170],[88,136,88,153],[88,154,88,176],[89,136,89,176],[90,136,90,176],[93,1,93,7],[93,8,93,14],[93,15,93,21],[93,22,93,30],[93,31,93,64],[189,1,189,178],[93,171,93,178],[94,1,94,178],[188,1,188,7],[188,8,188,14],[188,15,188,21],[188,22,188,30],[188,31,188,64],[188,65,188,100],[188,101,188,106],[188,107,188,118],[93,101,93,106],[93,107,93,118],[93,119,93,148],[93,149,93,158],[93,159,93,164],[188,119,188,148],[188,149,188,158],[188,159,188,164],[188,165,188,170],[188,171,188,178],[283,165,283,170],[283,1,283,7],[283,8,283,14],[283,15,283,21],[283,22,283,30],[283,31,283,64],[283,65,283,100],[379,1,379,178],[283,171,283,178],[284,1,284,178],[378,1,378,7],[378,8,378,14],[378,15,378,21],[378,22,378,30],[378,31,378,64],[378,65,378,100],[378,101,378,106],[378,107,378,118],[283,101,283,106],[283,107,283,118],[283,119,283,148],[283,149,283,158],[283,159,283,164],[378,119,378,148],[378,149,378,158],[378,159,378,164],[378,165,378,170],[378,171,378,178]]}
[" "]
[]
[]
[]
[]
[]
[]
[]
[]
[]
[]
[]
[]
[]
[]
[]
[]
[]
[]
[]
[]
[]
[]
[]
[]
[]
[]
[]
[]
[]
[]
[]
[]
[]
[]
[]
[]
[]
[]
[]
[]
[]
[]
[]
[]
[]
[]
[]
[]
[]
[]
[]
[]
[]
[]
[]
[]
[]
[]
[]
[]
[]
[]
[]
[]
[]
[]
[]
[]
[]
[]
[]
[]
[null,null,null,null,null,null,null,null,null,null,null,null,null,null,null,null,null,null,null,null,null,null,null,null,null,null,null,null,null,null,null,null,null,null,null,null,null,null,null,null,null,null,null,null,null,null,null,null,null,null,null,null,null,null,null,null,null,null,null,null,null,null,null,null,null,null,null,null,null,null,null,null,null,null,null,null,null,null,null,null,null,null,null,null,null,null,null,null,null,null,null,null,null,null,null,null,null,null,null,null,null,null,null,null,null,null,null,null,null,null,null,null,null,null,null,null,null,null,null,null,null,null,null,null,null,null,null,null,null,null,null,null,null,null,null,"","","","","","","","","","","","","","","","","","","","","","","","","","","","","","","","","","","","","","","","","","",""]
[]
[]
[null,null,null,null,null,null,null,null,null,null,null,null,null,null,null,null,null,null,null,null,null,null,null,null,null,null,null,null,null,null,null,null,null,null,null,null,null,null,null,null,null,null,null,null,null,null,null,null,null,null,null,null,null,null,null,null,null,null,null,null,null,null,null,null,null,null,null,null,null,null,null,null,null,null,null,null,null,null,null,null,null,null,null,null,null,null,null,null,null,null,null,null,null,null,null,null,null,null,null,null,null,null,null,null,null,null,null,null,null,null,null,null,null,null,null,null,null,null,null,null,null,null,null,null,null,null,null,null,null,null,null,null,null,null,null,null,null,null,null,null,null,null,null,null,null,null,null,null,null,"I hereby certify that this engineering document was prepared"]
[null,null,null,null,null,null,null,null,null,null,null,null,null,null,null,null,null,null,null,null,null,null,null,null,null,null,null,null,null,null,null,null,null,null,null,null,null,null,null,null,null,null,null,null,null,null,null,null,null,null,null,null,null,null,null,null,null,null,null,null,null,null,null,null,null,null,null,null,null,null,null,null,null,null,null,null,null,null,null,null,null,null,null,null,null,null,null,null,null,null,null,null,null,null,null,null,null,null,null,null,null,null,null,null,null,null,null,null,null,null,null,null,null,null,null,null,null,null,null,null,null,null,null,null,null,null,null,null,null,null,null,null,null,null,null,null,null,null,null,null,null,null,null,null,null,null,null,null,null,"by me or under my direct personal supervision and that I"]
[null,null,null,null,null,null,null,null,null,null,null,null,null,null,null,null,null,null,null,null,null,null,null,null,null,null,null,null,null,null,null,null,null,null,null,null,null,null,null,null,null,null,null,null,null,null,null,null,null,null,null,null,null,null,null,null,null,null,null,null,null,null,null,null,null,null,null,null,null,null,null,null,null,null,null,null,null,null,null,null,null,null,null,null,null,null,null,null,null,null,null,null,null,null,null,null,null,null,null,null,null,null,null,null,null,null,null,null,null,null,null,null,null,null,null,null,null,null,null,null,null,null,null,null,null,null,null,null,null,null,null,null,null,null,null,null,null,null,null,null,null,null,null,null,null,null,null,null,null,"am a duly licensed Professional Engineer under the laws of"]
[null,null,null,null,null,null,null,null,null,null,null,null,null,null,null,null,null,null,null,null,null,null,null,null,null,null,null,null,null,null,null,null,null,null,null,null,null,null,null,null,null,null,null,null,null,null,null,null,null,null,null,null,null,null,null,null,null,null,null,null,null,null,null,null,null,null,null,null,null,null,null,null,null,null,null,null,null,null,null,null,null,null,null,null,null,null,null,null,null,null,null,null,null,null,null,null,null,null,null,null,null,null,null,null,null,null,null,null,null,null,null,null,null,null,null,null,null,null,null,null,null,null,null,null,null,null,null,null,null,null,null,null,null,null,null,null,null,null,null,null,null,null,null,null,null,null,null,null,null,"the State of Iowa."]
[]
[]
[null,null,null,null,null,null,null,null,null,null,null,null,null,null,null,null,null,null,null,null,null,null,null,null,null,null,null,null,null,null,null,null,null,null,null,null,null,null,null,null,null,null,null,null,null,null,null,null,null,null,null,null,null,null,null,null,null,null,null,null,null,null,null,null,null,null,null,null,null,null,null,null,null,null,null,null,null,null,null,null,null,null,null,null,null,null,null,null,null,null,null,null,null,null,null,null,null,null,null,null,null,null,null,null,null,null,null,null,null,null,null,null,null,null,null,null,null,null,null,null,null,null,null,null,null,null,null,null,null,null,null,null,null,null,null,null,null,null,null,null,null,null,null,null,null,null,null,null,null,"Signature",null,null,null,null,null,null,null,null,null,null,null,null,null,null,null,null,null,null,null,null,null,null,"Date"]
[]
[]
[null,null,null,null,null,null,null,null,null,null,null,null,null,null,null,null,null,null,null,null,null,null,null,null,null,null,null,null,null,null,null,null,null,null,null,null,null,null,null,null,null,null,null,null,null,null,null,null,null,null,null,null,null,null,null,null,null,null,null,null,null,null,null,null,null,null,null,null,null,null,null,null,null,null,null,null,null,null,null,null,null,null,null,null,null,null,null,null,null,null,null,null,null,null,null,null,null,null,null,null,null,null,null,null,null,null,null,null,null,null,null,null,null,null,null,null,null,null,null,null,null,null,null,null,null,null,null,null,null,null,null,null,null,null,null,null,null,null,null,null,null,null,null,null,null,null,null,null,null,"Printed or Typed Name"]
[null,null,null,null,null,null,null,null,null,null,null,null,null,null,null,null,null,null,null,null,null,null,null,null,null,null,null,null,null,null,null,null,null,null,null,null,null,null,null,null,null,null,null,null,null,null,null,null,null,null,null,null,null,null,null,null,null,null,null,null,null,null,null,null,null,null,null,null,null,null,null,null,null,null,null,null,null,null,null,null,null,null,null,null,null,null,null,null,null,null,null,null,null,null,null,null,null,null,null,null,null,null,null,null,null,null,null,null,null,null,null,null,null,null,null,null,null,null,null,null,null,null,null,null,null,null,null,null,null,null,null,null,null,null,null,null,null,null,null,null,null,null,null,null,null,null,null,null,null,"My license renewal date is December 31, 20",null,null,null,null,null,null,null,null,null,null,null,null,null,null,null,null,null,18]
[]
[null,null,null,null,null,null,null,null,null,null,null,null,null,null,null,null,null,null,null,null,null,null,null,null,null,null,null,null,null,null,null,null,null,null,null,null,null,null,null,null,null,null,null,null,null,null,null,null,null,null,null,null,null,null,null,null,null,null,null,null,null,null,null,null,null,null,null,null,null,null,null,null,null,null,null,null,null,null,null,null,null,null,null,null,null,null,null,null,null,null,null,null,null,null,null,null,null,null,null,null,null,null,null,null,null,null,null,null,null,null,null,null,null,null,null,null,null,null,null,null,null,null,null,null,null,null,null,null,null,null,null,null,null,null,null,null,"Pages or sheets covered by this seal:",null,null,null,null,null,null,null,null,null,null,null,null,null,null,null,null,null,"CS.1- CS.5, Q.1-Q.63"]
[]
[]
[]
[null,"","","","","","","","","","","","","","","","","","","","","","","","","","","","","","","","","","","","","","","","","","","","","","","","","","","","","","","","","","","","","","","","","","","","","","","","","","","","","","","","","","","","","","","","","","","","","","","","","","","","","","","","","","","","","","","","","","","","","","","","","","","","","","","","","","","","","","","","","","","","","","","","","","","","","","","",null,"","","","","","","","","","","","","","","","","","","","","","","","","",""]
[null,"FILE NO.",null,null,null,null,null,null,{"$f":"IF([1]ProjectInformation!$B$11<>\"\",[1]ProjectInformation!$B$11,\"\")","v":0},null,null,null,null,null,null,{"$f":"UPPER([1]ProjectInformation!B8)","v":"ENGLISH"},null,null,null,null,null,null,"DESIGN TEAM",null,null,null,null,null,null,null,null,{"$f":"ProjectInformation!$B$4","v":"HDR"},null,null,null,null,null,null,null,null,null,null,null,null,null,null,null,null,null,null,null,null,null,null,null,null,null,null,null,null,null,null,null,null,null,{"$f":"IF([1]ProjectInformation!$B$6<>\"\",[1]ProjectInformation!$B$6,\"\")","v":"TAMA"},null,null,null,null,null,null,null,null,null,null,null,null,null,null,null,null,null,null,null,null,null,null,null,null,null,null,null,null,null,null,null,null,null,null,null,"COUNTY",null,null,null,null,null,"PROJECT NUMBER",null,null,null,null,null,null,null,null,null,null,null,{"$f":"IF([1]ProjectInformation!$B$7<>\"\",[1]ProjectInformation!$B$7,\"\")","v":"NHSX-030-6(189)--3H-86 "},null,null,null,null,null,null,null,null,null,null,null,null,null,null,null,null,null,null,null,null,null,null,null,null,null,null,null,null,null,"SHEET NUMBER",null,null,null,null,null,null,null,null,null,"CS.1",null,null,null,null,null,{"$f":"IF(FP94<>\"\",\"REVISED\",\"\")","v":""}]
["","9/26/2017     10:20:59 AM     BHAVENS     G:\\Projects\\134 - 234358 - US 30 Tama County S2 & S4\\S3 Investigation & Ppsl Development\\Plan Sheet and Cross Section Development\\(189)\\CS Sheets\\86030189CS1.xlsm"]
[" "]
[]
[]
[]
[]
[]
[]
[]
[]
[]
[]
[]
[]
[]
[]
[]
[]
[]
[]
[]
[]
[]
[]
[]
[]
[]
[]
[]
[]
[]
[]
[]
[]
[]
[]
[]
[]
[]
[]
[]
[]
[]
[]
[]
[]
[]
[]
[]
[]
[]
[]
[]
[]
[]
[]
[]
[]
[]
[]
[]
[]
[]
[]
[]
[]
[]
[]
[]
[]
[]
[]
[]
[]
[]
[]
[]
[]
[]
[]
[]
[]
[]
[]
[]
[]
[]
[]
[]
[]
[]
[]
[]
[null,"","","","","","","","","","","","","","","","","","","","","","","","","","","","","","","","","","","","","","","","","","","","","","","","","","","","","","","","","","","","","","","","","","","","","","","","","","","","","","","","","","","","","","","","","","","","","","","","","","","","","","","","","","","","","","","","","","","","","","","","","","","","","","","","","","","","","","","","","","","","","","","","","","","","","","","",null,"","","","","","","","","","","","","","","","","","","","","","","","","",""]
[null,"FILE NO.",null,null,null,null,null,null,{"$f":"IF([1]ProjectInformation!$B$11<>\"\",[1]ProjectInformation!$B$11,\"\")","v":0},null,null,null,null,null,null,{"$f":"UPPER([1]ProjectInformation!B8)","v":"ENGLISH"},null,null,null,null,null,null,"DESIGN TEAM",null,null,null,null,null,null,null,null,{"$f":"ProjectInformation!$B$4","v":"HDR"},null,null,null,null,null,null,null,null,null,null,null,null,null,null,null,null,null,null,null,null,null,null,null,null,null,null,null,null,null,null,null,null,null,{"$f":"IF([1]ProjectInformation!$B$6<>\"\",[1]ProjectInformation!$B$6,\"\")","v":"TAMA"},null,null,null,null,null,null,null,null,null,null,null,null,null,null,null,null,null,null,null,null,null,null,null,null,null,null,null,null,null,null,null,null,null,null,null,"COUNTY",null,null,null,null,null,"PROJECT NUMBER",null,null,null,null,null,null,null,null,null,null,null,{"$f":"IF([1]ProjectInformation!$B$7<>\"\",[1]ProjectInformation!$B$7,\"\")","v":"NHSX-030-6(189)--3H-86 "},null,null,null,null,null,null,null,null,null,null,null,null,null,null,null,null,null,null,null,null,null,null,null,null,null,null,null,null,null,"SHEET NUMBER",null,null,null,null,null,null,null,null,null,"CS.2",null,null,null,null,null,{"$f":"IF(FP189<>\"\",\"REVISED\",\"\")","v":""}]
["","9/26/2017     10:20:59 AM     BHAVENS     G:\\Projects\\134 - 234358 - US 30 Tama County S2 & S4\\S3 Investigation & Ppsl Development\\Plan Sheet and Cross Section Development\\(189)\\CS Sheets\\86030189CS1.xlsm"]
[" "]
[]
[]
[]
[]
[]
[]
[]
[]
[]
[]
[]
[]
[]
[]
[]
[]
[]
[]
[]
[]
[]
[]
[]
[]
[]
[]
[]
[]
[]
[]
[]
[]
[]
[]
[]
[]
[]
[]
[]
[]
[]
[]
[]
[]
[]
[]
[]
[]
[]
[]
[]
[]
[]
[]
[]
[]
[]
[]
[]
[]
[]
[]
[]
[]
[]
[]
[]
[]
[]
[]
[]
[]
[]
[]
[]
[]
[]
[]
[]
[]
[]
[]
[]
[]
[]
[]
[]
[]
[]
[]
[]
[null,"","","","","","","","","","","","","","","","","","","","","","","","","","","","","","","","","","","","","","","","","","","","","","","","","","","","","","","","","","","","","","","","","","","","","","","","","","","","","","","","","","","","","","","","","","","","","","","","","","","","","","","","","","","","","","","","","","","","","","","","","","","","","","","","","","","","","","","","","","","","","","","","","","","","","","","",null,"","","","","","","","","","","","","","","","","","","","","","","","","",""]
[null,"FILE NO.",null,null,null,null,null,null,{"$f":"IF([1]ProjectInformation!$B$11<>\"\",[1]ProjectInformation!$B$11,\"\")","v":0},null,null,null,null,null,null,{"$f":"UPPER([1]ProjectInformation!B8)","v":"ENGLISH"},null,null,null,null,null,null,"DESIGN TEAM",null,null,null,null,null,null,null,null,{"$f":"ProjectInformation!$B$4","v":"HDR"},null,null,null,null,null,null,null,null,null,null,null,null,null,null,null,null,null,null,null,null,null,null,null,null,null,null,null,null,null,null,null,null,null,{"$f":"IF([1]ProjectInformation!$B$6<>\"\",[1]ProjectInformation!$B$6,\"\")","v":"TAMA"},null,null,null,null,null,null,null,null,null,null,null,null,null,null,null,null,null,null,null,null,null,null,null,null,null,null,null,null,null,null,null,null,null,null,null,"COUNTY",null,null,null,null,null,"PROJECT NUMBER",null,null,null,null,null,null,null,null,null,null,null,{"$f":"IF([1]ProjectInformation!$B$7<>\"\",[1]ProjectInformation!$B$7,\"\")","v":"NHSX-030-6(189)--3H-86 "},null,null,null,null,null,null,null,null,null,null,null,null,null,null,null,null,null,null,null,null,null,null,null,null,null,null,null,null,null,"SHEET NUMBER",null,null,null,null,null,null,null,null,null,"CS.3",null,null,null,null,null,{"$f":"IF(FP284<>\"\",\"REVISED\",\"\")","v":""}]
["","9/26/2017     10:20:59 AM     BHAVENS     G:\\Projects\\134 - 234358 - US 30 Tama County S2 & S4\\S3 Investigation & Ppsl Development\\Plan Sheet and Cross Section Development\\(189)\\CS Sheets\\86030189CS1.xlsm"]
[" "]
[]
[]
[]
[]
[]
[]
[]
[]
[]
[]
[]
[]
[]
[]
[]
[]
[]
[]
[]
[]
[]
[]
[]
[]
[]
[]
[]
[]
[]
[]
[]
[]
[]
[]
[]
[]
[]
[]
[]
[]
[]
[]
[]
[]
[]
[]
[]
[]
[]
[]
[]
[]
[]
[]
[]
[]
[]
[]
[]
[]
[]
[]
[]
[]
[]
[]
[]
[]
[]
[]
[]
[]
[]
[]
[]
[]
[]
[]
[]
[]
[]
[]
[]
[]
[]
[]
[]
[]
[]
[]
[]
[null,"","","","","","","","","","","","","","","","","","","","","","","","","","","","","","","","","","","","","","","","","","","","","","","","","","","","","","","","","","","","","","","","","","","","","","","","","","","","","","","","","","","","","","","","","","","","","","","","","","","","","","","","","","","","","","","","","","","","","","","","","","","","","","","","","","","","","","","","","","","","","","","","","","","","","","","",null,"","","","","","","","","","","","","","","","","","","","","","","","","",""]
[null,"FILE NO.",null,null,null,null,null,null,{"$f":"IF([1]ProjectInformation!$B$11<>\"\",[1]ProjectInformation!$B$11,\"\")","v":0},null,null,null,null,null,null,{"$f":"UPPER([1]ProjectInformation!B8)","v":"ENGLISH"},null,null,null,null,null,null,"DESIGN TEAM",null,null,null,null,null,null,null,null,{"$f":"ProjectInformation!$B$4","v":"HDR"},null,null,null,null,null,null,null,null,null,null,null,null,null,null,null,null,null,null,null,null,null,null,null,null,null,null,null,null,null,null,null,null,null,{"$f":"IF([1]ProjectInformation!$B$6<>\"\",[1]ProjectInformation!$B$6,\"\")","v":"TAMA"},null,null,null,null,null,null,null,null,null,null,null,null,null,null,null,null,null,null,null,null,null,null,null,null,null,null,null,null,null,null,null,null,null,null,null,"COUNTY",null,null,null,null,null,"PROJECT NUMBER",null,null,null,null,null,null,null,null,null,null,null,{"$f":"IF([1]ProjectInformation!$B$7<>\"\",[1]ProjectInformation!$B$7,\"\")","v":"NHSX-030-6(189)--3H-86 "},null,null,null,null,null,null,null,null,null,null,null,null,null,null,null,null,null,null,null,null,null,null,null,null,null,null,null,null,null,"SHEET NUMBER",null,null,null,null,null,null,null,null,null,"CS.4",null,null,null,null,null,{"$f":"IF(FP379<>\"\",\"REVISED\",\"\")","v":""}]
["","9/26/2017     10:20:59 AM     BHAVENS     G:\\Projects\\134 - 234358 - US 30 Tama County S2 & S4\\S3 Investigation & Ppsl Development\\Plan Sheet and Cross Section Development\\(189)\\CS Sheets\\86030189CS1.xlsm"]

{"sheet":"DE103_5PIE","index":2,"n_rows":33,"n_cols":11,"rows_kept":33,"cut":false,"hidden":false,"merged":[[14,2,15,5],[14,7,14,10],[15,7,15,10],[16,2,16,5],[16,7,17,10],[17,2,17,5],[18,2,20,2],[18,3,19,4],[18,5,20,5],[18,7,18,10],[19,7,21,7],[19,8,20,9],[19,10,21,10]]}
["TabTitle",{"$f":"C15","v":"PIEZOMETERS"}]
["Number of Tab Columns",4]
["DE Starter Row Number",22]
["TabSheet Starter Row Number",9]
["TabSheet Header Row Count",8]
["Top Header Cell","H15"]
["Bottom Header Cell","K22"]
["DESheet Row Count",12]
["Fixed Empty Rows",2]
["Usable Empty Rows",0]
["Total Rows Placed",14,"xlRight(1)","xlRight(1)","xlRight(1)","xlLeft(1)",null,{"$f":"C11","v":"xlRight(1)"},"xlRight(1)","xlRight(1)","xlLeft(1)"]
["Total Rows Needed",{"$f":"SUM(B8:B10)","v":14},"General","#+00.00","0.0","General",null,"General","#+00.00","0.0","General"]
["Last Tab DE Starter Row",22,{"$f":"CELL(\"width\",C13)","v":6},{"$f":"CELL(\"width\",D13)","v":16},{"$f":"CELL(\"width\",E13)","v":16},{"$f":"CELL(\"width\",F13)","v":37},null,{"$f":"CELL(\"width\",H13)","v":0},{"$f":"CELL(\"width\",I13)","v":0},{"$f":"CELL(\"width\",J13)","v":0},{"$f":"CELL(\"width\",K13)","v":0}]
["Last Tab Tabsheet Starter Row",9,"A","B","C","D",null,{"$f":"LOWER(C14)","v":"a"},{"$f":"LOWER(D14)","v":"b"},{"$f":"LOWER(E14)","v":"c"},{"$f":"LOWER(F14)","v":"d"}]
["Last Copy Starter Row",1,"PIEZOMETERS",null,null,null,null,"103-5A"]
["Tab Loop Number",2,null,null,null,null,null,"NEW"]
["Revision Date","2013-10-15","Refer to Special Provision for Piezometers",null,null,null,null,{"$f":"C15","v":"PIEZOMETERS"}]
["Tabulation Width",1,{"$f":"\"This Data Entry Sheet fills Tab \"&H15&\" effective \"&TEXT(B17,\"mm-dd-yy\")","v":"This Data Entry Sheet fills Tab 103-5A effective 10-15-13"}]
["Horizontal Grid Lines","Yes","No.","Location",null,"Remarks",null,{"$f":"C17","v":"Refer to Special Provision for Piezometers"}]
[null,null,null,null,null,null,null,{"$f":"C19","v":"No."},{"$f":"D19","v":"Location"},null,{"$f":"F19","v":"Remarks"}]
[null,null,null,"Station","Offset"]
[null,null,"P-1",38100,"60' LT","Tip Elevation = 827 feet",null,null,{"$f":"D21","v":"Station"},{"$f":"E21","v":"Offset"}]
[null,null,"P-2",38300,"30' LT","Tip Elevation = 820 feet"]
[null,null,"P-3",42675,"60' LT","Tip Elevation = 871 feet"]
[null,null,"P-4",42825,"30' LT","Tip Elevation = 869 feet"]
[null,null,"P-5",48000,"30' LT","Tip Elevation = 855 feet"]
[null,null,"P-6",48150,"60' LT","Tip Elevation = 845 feet"]
[null,null,"P-7",51125,"15' LT","Tip Elevation = 895 feet"]
[null,null,"P-8",51225,"70' LT","Tip Elevation = 897 feet"]
[null,null,"P-9",57700,"30' LT","Tip Elevation = 860 feet"]
[null,null,"P-10",57800,"60' LT","Tip Elevation = 864 feet"]
[null,null,"P-11",61225,"30' LT","Tip Elevation = 871 feet"]
[null,null,"P-12",61325,"60' LT","Tip Elevation = 871 feet"]

{"sheet":"DE103_6","index":3,"n_rows":22,"n_cols":5,"rows_kept":22,"cut":false,"hidden":false,"merged":[[14,2,16,2],[16,4,17,4]]}
["TabTitle",{"$f":"C15","v":"EMBANKMENT WITH MOISTURE CONTROL"}]
["Number of Tab Columns",1]
["DE Starter Row Number",19]
["TabSheet Starter Row Number",5]
["TabSheet Header Row Count",4]
["Top Header Cell","E15"]
["Bottom Header Cell","E18"]
["DESheet Row Count",4]
["Fixed Empty Rows",2]
["Usable Empty Rows",0]
["Total Rows Placed",6,"xlLeft(1)",null,{"$f":"C11","v":"xlLeft(1)"}]
["Total Rows Needed",{"$f":"SUM(B8:B10)","v":6},"#+00.0",null,{"$f":"C12","v":"#+00.0"}]
["Last Tab DE Starter Row",19,{"$f":"CELL(\"width\",C13)","v":77},null,{"$f":"CELL(\"width\",E13)","v":0}]
["Last Tab Tabsheet Starter Row",5,"A",null,{"$f":"LOWER(C14)","v":"a"}]
["Last Copy Starter Row",1,"EMBANKMENT WITH MOISTURE CONTROL",null,"103-6"]
["Tab Loop Number",2,null,null,{"$f":"B17","v":"2017-10-17"}]
["Revision Date","2017-10-17",null,null,{"$f":"C15","v":"EMBANKMENT WITH MOISTURE CONTROL"}]
["Tabulation Width",1,{"$f":"\"This Data Entry Sheet fills Tab \"&E15&\" effective \"&TEXT(B17,\"mm-dd-yy\")","v":"This Data Entry Sheet fills Tab 103-6 effective 10-17-17"}]
["Horizontal Grid Lines","No","Moisture Control is required for all Class 10 fill placed in all"]
[null,null,"locations and depths.  Topsoil will not require Moisture Control."]
[null,null,"Moisture Control is also required on all Select Treatment and is"]
[null,null,"incidental to the project."]

{"sheet":"DE103_5SP","index":4,"n_rows":43,"n_cols":11,"rows_kept":43,"cut":false,"hidden":false,"merged":[[14,2,15,5],[14,7,14,10],[15,7,15,10],[16,2,16,5],[16,7,17,10],[17,2,17,5],[18,2,20,2],[18,3,19,4],[18,5,20,5],[18,7,18,10],[19,7,21,7],[19,8,20,9],[19,10,21,10]]}
["TabTitle",{"$f":"C15","v":"SETTLEMENT PLATES"}]
["Number of Tab Columns",4]
["DE Starter Row Number",22]
["TabSheet Starter Row Number",9]
["TabSheet Header Row Count",8]
["Top Header Cell","H15"]
["Bottom Header Cell","K22"]
["DESheet Row Count",22]
["Fixed Empty Rows",2]
["Usable Empty Rows",4]
["Total Rows Placed",28,"xlRight(1)","xlRight(1)","xlRight(1)","xlLeft(1)",null,{"$f":"C11","v":"xlRight(1)"},"xlRight(1)","xlRight(1)","xlLeft(1)"]
["Total Rows Needed",{"$f":"SUM(B8:B10)","v":28},"General","#+00.00","0.0","General",null,"General","#+00.00","0.0","General"]
["Last Tab DE Starter Row",22,{"$f":"CELL(\"width\",C13)","v":6},{"$f":"CELL(\"width\",D13)","v":16},{"$f":"CELL(\"width\",E13)","v":16},{"$f":"CELL(\"width\",F13)","v":37},null,{"$f":"CELL(\"width\",H13)","v":0},{"$f":"CELL(\"width\",I13)","v":0},{"$f":"CELL(\"width\",J13)","v":0},{"$f":"CELL(\"width\",K13)","v":0}]
["Last Tab Tabsheet Starter Row",9,"A","B","C","D",null,{"$f":"LOWER(C14)","v":"a"},{"$f":"LOWER(D14)","v":"b"},{"$f":"LOWER(E14)","v":"c"},{"$f":"LOWER(F14)","v":"d"}]
["Last Copy Starter Row",1,"SETTLEMENT PLATES",null,null,null,null,"103-5"]
["Tab Loop Number",2,null,null,null,null,null,{"$f":"B17","v":"2013-10-15"}]
["Revision Date","2013-10-15","Refer to Standard Road Plan EW-212",null,null,null,null,{"$f":"C15","v":"SETTLEMENT PLATES"}]
["Tabulation Width",1,{"$f":"\"This Data Entry Sheet fills Tab \"&H15&\" effective \"&TEXT(B17,\"mm-dd-yy\")","v":"This Data Entry Sheet fills Tab 103-5 effective 10-15-13"}]
["Horizontal Grid Lines","Yes","No.","Location",null,"Remarks",null,{"$f":"C17","v":"Refer to Standard Road Plan EW-212"}]
[null,null,null,null,null,null,null,{"$f":"C19","v":"No."},{"$f":"D19","v":"Location"},null,{"$f":"F19","v":"Remarks"}]
[null,null,null,"Station","Offset"]
[null,null,"S-1",33775,"30' LT",null,null,null,{"$f":"D21","v":"Station"},{"$f":"E21","v":"Offset"}]
[null,null,"S-2",33900,"60' RT"]
[null,null,"S-3",38100,"60' LT","Install P-1 within 5 feet"]
[null,null,"S-4",38300,"30' LT","Install P-2 within 5 feet"]
[null,null,"S-5",38400,"30' RT"]
[null,null,"S-6",38525,"60' RT"]
[null,null,"S-7",39600,"60' LT"]
[null,null,"S-8",39900,"60' LT"]
[null,null,"S-9",42675,"60' LT","Install P-3 within 5 feet"]
[null,null,"S-10",42825,"30' LT","Install P-4 within 5 feet"]
[null,null,"S-11",48000,"30' LT","Install P-5 within 5 feet"]
[null,null,"S-12",48150,"60' LT","Install P-6 within 5 feet"]
[null,null,"S-13",51125,"15' LT","Install P-7 within 5 feet"]
[null,null,"S-14",51225,"70' LT","Install P-8 within 5 feet"]
[null,null,"S-15",57700,"30' LT","Install P-9 within 5 feet"]
[null,null,"S-16",57800,"60' LT","Install P-10 within 5 feet"]
[null,null,"S-17",61225,"30' LT","Install P-11 within 5 feet"]
[null,null,"S-18",61325,"60' LT","Install P-12 within 5 feet"]
[null,null,"SP-1",26638,"0' RT","Otter Creek Bridge Approach"]
[null,null,"SP-2",27025,"0' RT","Otter Creek Bridge Approach"]
[null,null,"SP-3",69556,"67' LT","Salt Creek Bridge Approach"]
[null,null,"SP-4",70085,"67' LT","Salt Creek Bridge Approach"]

{"sheet":"DE103_7","index":5,"n_rows":23,"n_cols":9,"rows_kept":23,"cut":false,"hidden":false,"merged":[[18,8,19,8],[14,2,15,4],[14,6,14,8],[15,6,15,8],[16,2,16,4],[16,6,17,8],[17,2,18,2],[17,3,18,3],[17,4,18,4],[18,6,19,6],[18,7,19,7]]}
["TabTitle",{"$f":"C15","v":"SHRINKAGE DATA"}]
["Number of Tab Columns",3]
["DE Starter Row Number",20]
["TabSheet Starter Row Number",7]
["TabSheet Header Row Count",6]
["Top Header Cell","G15"]
["Bottom Header Cell","I20"]
["DESheet Row Count",4]
["Fixed Empty Rows",2]
["Usable Empty Rows",0]
["Total Rows Placed",6,"xlLeft(1)","xlRight(1)","xlLeft(1)",null,{"$f":"C11","v":"xlLeft(1)"},"xlRight(1)","xlLeft(1)"]
["Total Rows Needed",{"$f":"SUM(B8:B10)","v":6},"General","0%","General",null,"General","0%","General"]
["Last Tab DE Starter Row",20,{"$f":"CELL(\"width\",C13)","v":32},{"$f":"CELL(\"width\",D13)","v":8},{"$f":"CELL(\"width\",E13)","v":35},null,{"$f":"CELL(\"width\",G13)","v":0},{"$f":"CELL(\"width\",H13)","v":0},{"$f":"CELL(\"width\",I13)","v":0}]
["Last Tab Tabsheet Starter Row",7,"A","B","C",null,{"$f":"LOWER(C14)","v":"a"},{"$f":"LOWER(D14)","v":"b"},{"$f":"LOWER(E14)","v":"c"}]
["Last Copy Starter Row",1,"SHRINKAGE DATA",null,null,null,"103-7"]
["Tab Loop Number",2,null,null,null,null,{"$f":"B17","v":"2008-08-01"}]
["Revision Date","2008-08-01",{"$f":"\"This Data Entry Sheet fills Tab \"&G15&\" effective \"&TEXT(B17,\"mm-dd-yy\")","v":"This Data Entry Sheet fills Tab 103-7 effective 08-01-08"},null,null,null,{"$f":"C15","v":"SHRINKAGE DATA"}]
["Tabulation Width",1,"Material","%","Remarks"]
["Horizontal Grid Lines","Yes",null,null,null,null,{"$f":"C18","v":"Material"},{"$f":"D18","v":"%"},{"$f":"E18","v":"Remarks"}]
[null,null,"Entire Project",0.3]
[null,null,"Topsoil",0.4]
[]
[null,null,"Boulder Estimate",null,"2500 CY"]

{"sheet":"DE103_10","index":6,"n_rows":5986,"n_cols":19,"rows_kept":5986,"cut":false,"hidden":false,"merged":[[14,12,14,18],[15,2,16,10],[15,12,15,18],[16,12,17,18],[17,2,17,10],[19,15,21,15],[18,16,20,16],[18,17,20,17],[18,18,21,18],[19,2,21,2],[19,3,21,3],[19,4,21,4],[19,5,21,5],[19,12,21,12],[19,13,21,13],[19,14,21,14],[18,2,18,5],[18,6,20,7],[18,8,20,9],[18,10,21,10],[18,12,18,15]]}
["TabTitle",{"$f":"C16","v":"TOPSOIL STRIPPING AND PLACEMENT"}]
["Number of Tab Columns",7]
["DE Starter Row Number",23]
["TabSheet Starter Row Number",9]
["TabSheet Header Row Count",8]
["Top Header Cell","M15"]
["Bottom Header Cell","S22"]
["DESheet Row Count",18]
["Fixed Empty Rows",3]
["Usable Empty Rows",0]
["Total Rows Placed",21,"xlLeft(1)","xlLeft(1)","xlRight(1)","xlRight(1)","xlRight(1)",null,"xlRight(1)",null,"xlLeft(1)",null,{"$f":"C11","v":"xlLeft(1)"},"xlLeft(1)","xlRight(1)","xlRight(1)","xlRight(1)",{"$f":"I11","v":"xlRight(1)"},{"$f":"K11","v":"xlLeft(1)"}]
["Total Rows Needed",{"$f":"SUM(B8:B10)","v":21},"General","General","#+00.00","#+00.00","0.0",null,"0.0",null,"General",null,"General","General","#+00.00","#+00.00","0.0",{"$f":"I12","v":"0.0"},{"$f":"K12","v":"General"}]
["Last Tab DE Starter Row",23,{"$f":"CELL(\"width\",C13)","v":30},{"$f":"CELL(\"width\",D13)","v":9},{"$f":"CELL(\"width\",E13)","v":16},{"$f":"CELL(\"width\",F13)","v":16},{"$f":"CELL(\"width\",G13)","v":21},null,{"$f":"CELL(\"width\",I13)","v":21},null,{"$f":"CELL(\"width\",K13)","v":41},null,{"$f":"CELL(\"width\",M13)","v":0},0,0,0,0,0,0]
["Last Tab Tabsheet Starter Row",9,"A","B","C","D","E",null,"F",null,"G",null,{"$f":"LOWER(C14)","v":"a"},{"$f":"LOWER(D14)","v":"b"},{"$f":"LOWER(E14)","v":"c"},{"$f":"LOWER(F14)","v":"d"},{"$f":"LOWER(G14)","v":"e"},{"$f":"LOWER(I14)","v":"f"},{"$f":"LOWER(K14)","v":"g"}]
["Last Copy Starter Row",1,null,null,null,"Totals:",{"$f":"SUBTOTAL(9,G23:G5986)","v":174},null,{"$f":"SUBTOTAL(9,I23:I5986)","v":144},null,null,null,"103-10"]
["Tab Loop Number",2,"TOPSOIL STRIPPING AND PLACEMENT",null,null,null,null,null,null,null,null,null,{"$f":"B17","v":"2017-04-18"}]
["Revision Date","2017-04-18",null,null,null,null,null,null,null,null,null,null,{"$f":"C16","v":"TOPSOIL STRIPPING AND PLACEMENT"}]
["Tabulation Width",2,{"$f":"\"This Data Entry Sheet fills Tab \"&M15&\" effective \"&TEXT(B17,\"mm-dd-yy\")","v":"This Data Entry Sheet fills Tab 103-10 effective 04-18-17"}]
["Horizontal Grid Lines","Yes","Location",null,null,null,"Topsoil Stripping Thickness",null,"Topsoil Placement Thickness",null,"Remarks",null,{"$f":"C19","v":"Location"},null,null,null,{"$f":"G19","v":"Topsoil Stripping Thickness"},{"$f":"I19","v":"Topsoil Placement Thickness"},{"$f":"K19","v":"Remarks"}]
[null,null,"Road Identification","Dir. of Traffic","Begin Station","End Station",null,null,null,null,null,null,{"$f":"C20","v":"Road Identification"},{"$f":"D20","v":"Dir. of Traffic"},{"$f":"E20","v":"Begin Station"},{"$f":"F20","v":"End Station"}]
[]
[null,null,null,null,null,null,"IN","FT","IN","FT",null,null,null,null,null,null,{"$f":"G22","v":"IN"},{"$f":"I22","v":"IN"}]
[null,null,"US 30","Both",10600,15000,6,{"$f":"IF(G23<>\"\",G23/12,\"\")","v":0.5},{"$f":"IF(G23<>\"\",8,\"\")","v":8},{"$f":"IF(I23<>\"\",I23/12,\"\")","v":0.66666666666666663}]
[null,null,"US 30","Both",15001,18500,12,1,8,0.66666666666666663]
[null,null,"US 30","Both",18501,20300,9,0.75,8,0.66666666666666663]
[null,null,"US 30","Both",20301,22200,6,0.5,8,0.66666666666666663]
[null,null,"US 30","Both",22201,28100,18,1.5,8,0.66666666666666663]
[null,null,"US 30","Both",28101,40000,9,0.75,8,0.66666666666666663]
[null,null,"US 30","Both",40001,66800,6,0.5,8,0.66666666666666663]
[null,null,"US 30","Both",66801,70500,18,1.5,8,0.66666666666666663]
[null,null,"County N","Both",115775,116050,12,1,8,0.66666666666666663]
[null,null,"County ON","Both",319775,320275,9,0.75,8,0.66666666666666663]
[null,null,"County PN","Both",528300,528475,9,0.75,8,0.66666666666666663]
[null,null,"County QN","Both",731600,731900,9,0.75,8,0.66666666666666663]
[null,null,"County R","Both",836900,837400,9,0.75,8,0.66666666666666663]
[null,null,"County T","Both",947500,948350,6,0.5,8,0.66666666666666663]
[null,null,"County U","Both",2149975,2150650,6,0.5,8,0.66666666666666663]
[null,null,"County V","Both",1158475,1158625,6,0.5,8,0.66666666666666663]
[null,null,"County W","Both",1262425,1262850,6,0.5,8,0.66666666666666663]
[null,null,"County X","Both",1369025,1369350,18,1.5,8,0.66666666666666663]
[null,null,null,null,null,null,null,"","",""]
[null,null,null,null,null,null,null,"","",""]
[null,null,null,null,null,null,null,"","",""]
[null,null,null,null,null,null,null,"","",""]
[null,null,null,null,null,null,null,"","",""]
[null,null,null,null,null,null,null,"","",""]
[null,null,null,null,null,null,null,"","",""]
[null,null,null,null,null,null,null,"","",""]
[null,null,null,null,null,null,null,"","",""]
[null,null,null,null,null,null,null,"","",""]
[null,null,null,null,null,null,null,"","",""]
[null,null,null,null,null,null,null,"","",""]
[null,null,null,null,null,null,null,"","",""]
[null,null,null,null,null,null,null,"","",""]
[null,null,null,null,null,null,null,"","",""]
[null,null,null,null,null,null,null,"","",""]
[null,null,null,null,null,null,null,"","",""]
[null,null,null,null,null,null,null,"","",""]
[null,null,null,null,null,null,null,"","",""]
[null,null,null,null,null,null,null,"","",""]
[null,null,null,null,null,null,null,"","",""]
[null,null,null,null,null,null,null,"","",""]
[null,null,null,null,null,null,null,"","",""]
[null,null,null,null,null,null,null,"","",""]
[null,null,null,null,null,null,null,"","",""]
[null,null,null,null,null,null,null,"","",""]
[null,null,null,null,null,null,null,"","",""]
[null,null,null,null,null,null,null,"","",""]
[null,null,null,null,null,null,null,"","",""]
[null,null,null,null,null,null,null,"","",""]
[null,null,null,null,null,null,null,"","",""]
[null,null,null,null,null,null,null,"","",""]
[null,null,null,null,null,null,null,"","",""]
[null,null,null,null,null,null,null,"","",""]
[null,null,null,null,null,null,null,"","",""]
[null,null,null,null,null,null,null,"","",""]
[null,null,null,null,null,null,null,"","",""]
[null,null,null,null,null,null,null,"","",""]
[null,null,null,null,null,null,null,"","",""]
[null,null,null,null,null,null,null,"","",""]
[null,null,null,null,null,null,null,{"$f":"IF(G81<>\"\",G81/12,\"\")","v":""},{"$f":"IF(G81<>\"\",8,\"\")","v":""},{"$f":"IF(I81<>\"\",I81/12,\"\")","v":""}]
[null,null,null,null,null,null,null,"","",""]
[null,null,null,null,null,null,null,"","",""]
[null,null,null,null,null,null,null,"","",""]
[null,null,null,null,null,null,null,"","",""]
[null,null,null,null,null,null,null,"","",""]
[null,null,null,null,null,null,null,"","",""]
[null,null,null,null,null,null,null,"","",""]
[null,null,null,null,null,null,null,"","",""]
[null,null,null,null,null,null,null,"","",""]
[null,null,null,null,null,null,null,"","",""]
[null,null,null,null,null,null,null,"","",""]
[null,null,null,null,null,null,null,"","",""]
[null,null,null,null,null,null,null,"","",""]
[null,null,null,null,null,null,null,"","",""]
[null,null,null,null,null,null,null,"","",""]
[null,null,null,null,null,null,null,"","",""]
[null,null,null,null,null,null,null,"","",""]
[null,null,null,null,null,null,null,"","",""]
[null,null,null,null,null,null,null,"","",""]
[null,null,null,null,null,null,null,"","",""]
[null,null,null,null,null,null,null,"","",""]
[null,null,null,null,null,null,null,"","",""]
[null,null,null,null,null,null,null,"","",""]
[null,null,null,null,null,null,null,"","",""]
[null,null,null,null,null,null,null,"","",""]
[null,null,null,null,null,null,null,"","",""]
[null,null,null,null,null,null,null,"","",""]
[null,null,null,null,null,null,null,"","",""]
[null,null,null,null,null,null,null,"","",""]
[null,null,null,null,null,null,null,"","",""]
[null,null,null,null,null,null,null,"","",""]
[null,null,null,null,null,null,null,"","",""]
[null,null,null,null,null,null,null,"","",""]
[null,null,null,null,null,null,null,"","",""]
[null,null,null,null,null,null,null,"","",""]
[null,null,null,null,null,null,null,"","",""]
[null,null,null,null,null,null,null,"","",""]
[null,null,null,null,null,null,null,"","",""]
[null,null,null,null,null,null,null,"","",""]
[null,null,null,null,null,null,null,"","",""]
[null,null,null,null,null,null,null,"","",""]
[null,null,null,null,null,null,null,"","",""]
[null,null,null,null,null,null,null,"","",""]
[null,null,null,null,null,null,null,"","",""]
[null,null,null,null,null,null,null,"","",""]
[null,null,null,null,null,null,null,"","",""]
[null,null,null,null,null,null,null,"","",""]
[null,null,null,null,null,null,null,"","",""]
[null,null,null,null,null,null,null,"","",""]
[null,null,null,null,null,null,null,"","",""]
[null,null,null,null,null,null,null,"","",""]
[null,null,null,null,null,null,null,"","",""]
[null,null,null,null,null,null,null,"","",""]
[null,null,null,null,null,null,null,"","",""]
[null,null,null,null,null,null,null,"","",""]
[null,null,null,null,null,null,null,"","",""]
[null,null,null,null,null,null,null,"","",""]
[null,null,null,null,null,null,null,"","",""]
[null,null,null,null,null,null,null,"","",""]
[null,null,null,null,null,null,null,"","",""]
[null,null,null,null,null,null,null,"","",""]
[null,null,null,null,null,null,null,"","",""]
[null,null,null,null,null,null,null,"","",""]
[null,null,null,null,null,null,null,{"$f":"IF(G145<>\"\",G145/12,\"\")","v":""},{"$f":"IF(G145<>\"\",8,\"\")","v":""},{"$f":"IF(I145<>\"\",I145/12,\"\")","v":""}]
[null,null,null,null,null,null,null,"","",""]
[null,null,null,null,null,null,null,"","",""]
[null,null,null,null,null,null,null,"","",""]
[null,null,null,null,null,null,null,"","",""]
[null,null,null,null,null,null,null,"","",""]
[null,null,null,null,null,null,null,"","",""]
[null,null,null,null,null,null,null,"","",""]
[null,null,null,null,null,null,null,"","",""]
[null,null,null,null,null,null,null,"","",""]
[null,null,null,null,null,null,null,"","",""]
[null,null,null,null,null,null,null,"","",""]
[null,null,null,null,null,null,null,"","",""]
[null,null,null,null,null,null,null,"","",""]
[null,null,null,null,null,null,null,"","",""]
[null,null,null,null,null,null,null,"","",""]
[null,null,null,null,null,null,null,"","",""]
[null,null,null,null,null,null,null,"","",""]
[null,null,null,null,null,null,null,"","",""]
[null,null,null,null,null,null,null,"","",""]
[null,null,null,null,null,null,null,"","",""]
[null,null,null,null,null,null,null,"","",""]
[null,null,null,null,null,null,null,"","",""]
[null,null,null,null,null,null,null,"","",""]
[null,null,null,null,null,null,null,"","",""]
[null,null,null,null,null,null,null,"","",""]
[null,null,null,null,null,null,null,"","",""]
[null,null,null,null,null,null,null,"","",""]
[null,null,null,null,null,null,null,"","",""]
[null,null,null,null,null,null,null,"","",""]
[null,null,null,null,null,null,null,"","",""]
[null,null,null,null,null,null,null,"","",""]
[null,null,null,null,null,null,null,"","",""]
[null,null,null,null,null,null,null,"","",""]
[null,null,null,null,null,null,null,"","",""]
[null,null,null,null,null,null,null,"","",""]
[null,null,null,null,null,null,null,"","",""]
[null,null,null,null,null,null,null,"","",""]
[null,null,null,null,null,null,null,"","",""]
[null,null,null,null,null,null,null,"","",""]
[null,null,null,null,null,null,null,"","",""]
[null,null,null,null,null,null,null,"","",""]
[null,null,null,null,null,null,null,"","",""]
[null,null,null,null,null,null,null,"","",""]
[null,null,null,null,null,null,null,"","",""]
[null,null,null,null,null,null,null,"","",""]
[null,null,null,null,null,null,null,"","",""]
[null,null,null,null,null,null,null,"","",""]
[null,null,null,null,null,null,null,"","",""]
[null,null,null,null,null,null,null,"","",""]
[null,null,null,null,null,null,null,"","",""]
[null,null,null,null,null,null,null,"","",""]
[null,null,null,null,null,null,null,"","",""]
[null,null,null,null,null,null,null,"","",""]
[null,null,null,null,null,null,null,"","",""]
[null,null,null,null,null,null,null,"","",""]
[null,null,null,null,null,null,null,"","",""]
[null,null,null,null,null,null,null,"","",""]
[null,null,null,null,null,null,null,"","",""]
[null,null,null,null,null,null,null,"","",""]
[null,null,null,null,null,null,null,"","",""]
[null,null,null,null,null,null,null,"","",""]
[null,null,null,null,null,null,null,"","",""]
[null,null,null,null,null,null,null,"","",""]
[null,null,null,null,null,null,null,{"$f":"IF(G209<>\"\",G209/12,\"\")","v":""},{"$f":"IF(G209<>\"\",8,\"\")","v":""},{"$f":"IF(I209<>\"\",I209/12,\"\")","v":""}]
[null,null,null,null,null,null,null,"","",""]
[null,null,null,null,null,null,null,"","",""]
[null,null,null,null,null,null,null,"","",""]
[null,null,null,null,null,null,null,"","",""]
[null,null,null,null,null,null,null,"","",""]
[null,null,null,null,null,null,null,"","",""]
[null,null,null,null,null,null,null,"","",""]
[null,null,null,null,null,null,null,"","",""]
[null,null,null,null,null,null,null,"","",""]
[null,null,null,null,null,null,null,"","",""]
[null,null,null,null,null,null,null,"","",""]
[null,null,null,null,null,null,null,"","",""]
[null,null,null,null,null,null,null,"","",""]
[null,null,null,null,null,null,null,"","",""]
[null,null,null,null,null,null,null,"","",""]
[null,null,null,null,null,null,null,"","",""]
[null,null,null,null,null,null,null,"","",""]
[null,null,null,null,null,null,null,"","",""]
[null,null,null,null,null,null,null,"","",""]
[null,null,null,null,null,null,null,"","",""]
[null,null,null,null,null,null,null,"","",""]
[null,null,null,null,null,null,null,"","",""]
[null,null,null,null,null,null,null,"","",""]
[null,null,null,null,null,null,null,"","",""]
[null,null,null,null,null,null,null,"","",""]
[null,null,null,null,null,null,null,"","",""]
[null,null,null,null,null,null,null,"","",""]
[null,null,null,null,null,null,null,"","",""]
[null,null,null,null,null,null,null,"","",""]
[null,null,null,null,null,null,null,"","",""]
[null,null,null,null,null,null,null,"","",""]
[null,null,null,null,null,null,null,"","",""]
[null,null,null,null,null,null,null,"","",""]
[null,null,null,null,null,null,null,"","",""]
[null,null,null,null,null,null,null,"","",""]
[null,null,null,null,null,null,null,"","",""]
[null,null,null,null,null,null,null,"","",""]
[null,null,null,null,null,null,null,"","",""]
[null,null,null,null,null,null,null,"","",""]
[null,null,null,null,null,null,null,"","",""]
[null,null,null,null,null,null,null,"","",""]
[null,null,null,null,null,null,null,"","",""]
[null,null,null,null,null,null,null,"","",""]
[null,null,null,null,null,null,null,"","",""]
[null,null,null,null,null,null,null,"","",""]
[null,null,null,null,null,null,null,"","",""]
[null,null,null,null,null,null,null,"","",""]
[null,null,null,null,null,null,null,"","",""]
[null,null,null,null,null,null,null,"","",""]
[null,null,null,null,null,null,null,"","",""]
[null,null,null,null,null,null,null,"","",""]
[null,null,null,null,null,null,null,"","",""]
[null,null,null,null,null,null,null,"","",""]
[null,null,null,null,null,null,null,"","",""]
[null,null,null,null,null,null,null,"","",""]
[null,null,null,null,null,null,null,"","",""]
[null,null,null,null,null,null,null,"","",""]
[null,null,null,null,null,null,null,"","",""]
[null,null,null,null,null,null,null,"","",""]
[null,null,null,null,null,null,null,"","",""]
[null,null,null,null,null,null,null,"","",""]
[null,null,null,null,null,null,null,"","",""]
[null,null,null,null,null,null,null,"","",""]
[null,null,null,null,null,null,null,{"$f":"IF(G273<>\"\",G273/12,\"\")","v":""},{"$f":"IF(G273<>\"\",8,\"\")","v":""},{"$f":"IF(I273<>\"\",I273/12,\"\")","v":""}]
[null,null,null,null,null,null,null,"","",""]
[null,null,null,null,null,null,null,"","",""]
[null,null,null,null,null,null,null,"","",""]
[null,null,null,null,null,null,null,"","",""]
[null,null,null,null,null,null,null,"","",""]
[null,null,null,null,null,null,null,"","",""]
[null,null,null,null,null,null,null,"","",""]
[null,null,null,null,null,null,null,"","",""]
[null,null,null,null,null,null,null,"","",""]
[null,null,null,null,null,null,null,"","",""]
[null,null,null,null,null,null,null,"","",""]
[null,null,null,null,null,null,null,"","",""]
[null,null,null,null,null,null,null,"","",""]
[null,null,null,null,null,null,null,"","",""]
[null,null,null,null,null,null,null,"","",""]
[null,null,null,null,null,null,null,"","",""]
[null,null,null,null,null,null,null,"","",""]
[null,null,null,null,null,null,null,"","",""]
[null,null,null,null,null,null,null,"","",""]
[null,null,null,null,null,null,null,"","",""]
[null,null,null,null,null,null,null,"","",""]
[null,null,null,null,null,null,null,"","",""]
[null,null,null,null,null,null,null,"","",""]
[null,null,null,null,null,null,null,"","",""]
[null,null,null,null,null,null,null,"","",""]
[null,null,null,null,null,null,null,"","",""]
[null,null,null,null,null,null,null,"","",""]
[null,null,null,null,null,null,null,"","",""]
[null,null,null,null,null,null,null,"","",""]
[null,null,null,null,null,null,null,"","",""]
[null,null,null,null,null,null,null,"","",""]
[null,null,null,null,null,null,null,"","",""]
[null,null,null,null,null,null,null,"","",""]
[null,null,null,null,null,null,null,"","",""]
[null,null,null,null,null,null,null,"","",""]
[null,null,null,null,null,null,null,"","",""]
[null,null,null,null,null,null,null,"","",""]
[null,null,null,null,null,null,null,"","",""]
[null,null,null,null,null,null,null,"","",""]
[null,null,null,null,null,null,null,"","",""]
[null,null,null,null,null,null,null,"","",""]
[null,null,null,null,null,null,null,"","",""]
[null,null,null,null,null,null,null,"","",""]
[null,null,null,null,null,null,null,"","",""]
[null,null,null,null,null,null,null,"","",""]
[null,null,null,null,null,null,null,"","",""]
[null,null,null,null,null,null,null,"","",""]
[null,null,null,null,null,null,null,"","",""]
[null,null,null,null,null,null,null,"","",""]
[null,null,null,null,null,null,null,"","",""]
[null,null,null,null,null,null,null,"","",""]
[null,null,null,null,null,null,null,"","",""]
[null,null,null,null,null,null,null,"","",""]
[null,null,null,null,null,null,null,"","",""]
[null,null,null,null,null,null,null,"","",""]
[null,null,null,null,null,null,null,"","",""]
[null,null,null,null,null,null,null,"","",""]
[null,null,null,null,null,null,null,"","",""]
[null,null,null,null,null,null,null,"","",""]
[null,null,null,null,null,null,null,"","",""]
[null,null,null,null,null,null,null,"","",""]
[null,null,null,null,null,null,null,"","",""]
[null,null,null,null,null,null,null,"","",""]
[null,null,null,null,null,null,null,{"$f":"IF(G337<>\"\",G337/12,\"\")","v":""},{"$f":"IF(G337<>\"\",8,\"\")","v":""},{"$f":"IF(I337<>\"\",I337/12,\"\")","v":""}]
[null,null,null,null,null,null,null,"","",""]
[null,null,null,null,null,null,null,"","",""]
[null,null,null,null,null,null,null,"","",""]
[null,null,null,null,null,null,null,"","",""]
[null,null,null,null,null,null,null,"","",""]
[null,null,null,null,null,null,null,"","",""]
[null,null,null,null,null,null,null,"","",""]
[null,null,null,null,null,null,null,"","",""]
[null,null,null,null,null,null,null,"","",""]
[null,null,null,null,null,null,null,"","",""]
[null,null,null,null,null,null,null,"","",""]
[null,null,null,null,null,null,null,"","",""]
[null,null,null,null,null,null,null,"","",""]
[null,null,null,null,null,null,null,"","",""]
[null,null,null,null,null,null,null,"","",""]
[null,null,null,null,null,null,null,"","",""]
[null,null,null,null,null,null,null,"","",""]
[null,null,null,null,null,null,null,"","",""]
[null,null,null,null,null,null,null,"","",""]
[null,null,null,null,null,null,null,"","",""]
[null,null,null,null,null,null,null,"","",""]
[null,null,null,null,null,null,null,"","",""]
[null,null,null,null,null,null,null,"","",""]
[null,null,null,null,null,null,null,"","",""]
[null,null,null,null,null,null,null,"","",""]
[null,null,null,null,null,null,null,"","",""]
[null,null,null,null,null,null,null,"","",""]
[null,null,null,null,null,null,null,"","",""]
[null,null,null,null,null,null,null,"","",""]
[null,null,null,null,null,null,null,"","",""]
[null,null,null,null,null,null,null,"","",""]
[null,null,null,null,null,null,null,"","",""]
[null,null,null,null,null,null,null,"","",""]
[null,null,null,null,null,null,null,"","",""]
[null,null,null,null,null,null,null,"","",""]
[null,null,null,null,null,null,null,"","",""]
[null,null,null,null,null,null,null,"","",""]
[null,null,null,null,null,null,null,"","",""]
[null,null,null,null,null,null,null,"","",""]
[null,null,null,null,null,null,null,"","",""]
[null,null,null,null,null,null,null,"","",""]
[null,null,null,null,null,null,null,"","",""]
[null,null,null,null,null,null,null,"","",""]
[null,null,null,null,null,null,null,"","",""]
[null,null,null,null,null,null,null,"","",""]
[null,null,null,null,null,null,null,"","",""]
[null,null,null,null,null,null,null,"","",""]
[null,null,null,null,null,null,null,"","",""]
[null,null,null,null,null,null,null,"","",""]
[null,null,null,null,null,null,null,"","",""]
[null,null,null,null,null,null,null,"","",""]
[null,null,null,null,null,null,null,"","",""]
[null,null,null,null,null,null,null,"","",""]
[null,null,null,null,null,null,null,"","",""]
[null,null,null,null,null,null,null,"","",""]
[null,null,null,null,null,null,null,"","",""]
[null,null,null,null,null,null,null,"","",""]
[null,null,null,null,null,null,null,"","",""]
[null,null,null,null,null,null,null,"","",""]
[null,null,null,null,null,null,null,"","",""]
[null,null,null,null,null,null,null,"","",""]
[null,null,null,null,null,null,null,"","",""]
[null,null,null,null,null,null,null,"","",""]
[null,null,null,null,null,null,null,{"$f":"IF(G401<>\"\",G401/12,\"\")","v":""},{"$f":"IF(G401<>\"\",8,\"\")","v":""},{"$f":"IF(I401<>\"\",I401/12,\"\")","v":""}]
[null,null,null,null,null,null,null,"","",""]
[null,null,null,null,null,null,null,"","",""]
[null,null,null,null,null,null,null,"","",""]
[null,null,null,null,null,null,null,"","",""]
[null,null,null,null,null,null,null,"","",""]
[null,null,null,null,null,null,null,"","",""]
[null,null,null,null,null,null,null,"","",""]
[null,null,null,null,null,null,null,"","",""]
[null,null,null,null,null,null,null,"","",""]
[null,null,null,null,null,null,null,"","",""]
[null,null,null,null,null,null,null,"","",""]
[null,null,null,null,null,null,null,"","",""]
[null,null,null,null,null,null,null,"","",""]
[null,null,null,null,null,null,null,"","",""]
[null,null,null,null,null,null,null,"","",""]
[null,null,null,null,null,null,null,"","",""]
[null,null,null,null,null,null,null,"","",""]
[null,null,null,null,null,null,null,"","",""]
[null,null,null,null,null,null,null,"","",""]
[null,null,null,null,null,null,null,"","",""]
[null,null,null,null,null,null,null,"","",""]
[null,null,null,null,null,null,null,"","",""]
[null,null,null,null,null,null,null,"","",""]
[null,null,null,null,null,null,null,"","",""]
[null,null,null,null,null,null,null,"","",""]
[null,null,null,null,null,null,null,"","",""]
[null,null,null,null,null,null,null,"","",""]
[null,null,null,null,null,null,null,"","",""]
[null,null,null,null,null,null,null,"","",""]
[null,null,null,null,null,null,null,"","",""]
[null,null,null,null,null,null,null,"","",""]
[null,null,null,null,null,null,null,"","",""]
[null,null,null,null,null,null,null,"","",""]
[null,null,null,null,null,null,null,"","",""]
[null,null,null,null,null,null,null,"","",""]
[null,null,null,null,null,null,null,"","",""]
[null,null,null,null,null,null,null,"","",""]
[null,null,null,null,null,null,null,"","",""]
[null,null,null,null,null,null,null,"","",""]
[null,null,null,null,null,null,null,"","",""]
[null,null,null,null,null,null,null,"","",""]
[null,null,null,null,null,null,null,"","",""]
[null,null,null,null,null,null,null,"","",""]
[null,null,null,null,null,null,null,"","",""]
[null,null,null,null,null,null,null,"","",""]
[null,null,null,null,null,null,null,"","",""]
[null,null,null,null,null,null,null,"","",""]
[null,null,null,null,null,null,null,"","",""]
[null,null,null,null,null,null,null,"","",""]
[null,null,null,null,null,null,null,"","",""]
[null,null,null,null,null,null,null,"","",""]
[null,null,null,null,null,null,null,"","",""]
[null,null,null,null,null,null,null,"","",""]
[null,null,null,null,null,null,null,"","",""]
[null,null,null,null,null,null,null,"","",""]
[null,null,null,null,null,null,null,"","",""]
[null,null,null,null,null,null,null,"","",""]
[null,null,null,null,null,null,null,"","",""]
[null,null,null,null,null,null,null,"","",""]
[null,null,null,null,null,null,null,"","",""]
[null,null,null,null,null,null,null,"","",""]
[null,null,null,null,null,null,null,"","",""]
[null,null,null,null,null,null,null,"","",""]
[null,null,null,null,null,null,null,{"$f":"IF(G465<>\"\",G465/12,\"\")","v":""},{"$f":"IF(G465<>\"\",8,\"\")","v":""},{"$f":"IF(I465<>\"\",I465/12,\"\")","v":""}]
[null,null,null,null,null,null,null,"","",""]
[null,null,null,null,null,null,null,"","",""]
[null,null,null,null,null,null,null,"","",""]
[null,null,null,null,null,null,null,"","",""]
[null,null,null,null,null,null,null,"","",""]
[null,null,null,null,null,null,null,"","",""]
[null,null,null,null,null,null,null,"","",""]
[null,null,null,null,null,null,null,"","",""]
[null,null,null,null,null,null,null,"","",""]
[null,null,null,null,null,null,null,"","",""]
[null,null,null,null,null,null,null,"","",""]
[null,null,null,null,null,null,null,"","",""]
[null,null,null,null,null,null,null,"","",""]
[null,null,null,null,null,null,null,"","",""]
[null,null,null,null,null,null,null,"","",""]
[null,null,null,null,null,null,null,"","",""]
[null,null,null,null,null,null,null,"","",""]
[null,null,null,null,null,null,null,"","",""]
[null,null,null,null,null,null,null,"","",""]
[null,null,null,null,null,null,null,"","",""]
[null,null,null,null,null,null,null,"","",""]
[null,null,null,null,null,null,null,"","",""]
[null,null,null,null,null,null,null,"","",""]
[null,null,null,null,null,null,null,"","",""]
[null,null,null,null,null,null,null,"","",""]
[null,null,null,null,null,null,null,"","",""]
[null,null,null,null,null,null,null,"","",""]
[null,null,null,null,null,null,null,"","",""]
[null,null,null,null,null,null,null,"","",""]
[null,null,null,null,null,null,null,"","",""]
[null,null,null,null,null,null,null,"","",""]
[null,null,null,null,null,null,null,"","",""]
[null,null,null,null,null,null,null,"","",""]
[null,null,null,null,null,null,null,"","",""]
[null,null,null,null,null,null,null,"","",""]
[null,null,null,null,null,null,null,"","",""]
[null,null,null,null,null,null,null,"","",""]
[null,null,null,null,null,null,null,"","",""]
[null,null,null,null,null,null,null,"","",""]
[null,null,null,null,null,null,null,"","",""]
[null,null,null,null,null,null,null,"","",""]
[null,null,null,null,null,null,null,"","",""]
[null,null,null,null,null,null,null,"","",""]
[null,null,null,null,null,null,null,"","",""]
[null,null,null,null,null,null,null,"","",""]
[null,null,null,null,null,null,null,"","",""]
[null,null,null,null,null,null,null,"","",""]
[null,null,null,null,null,null,null,"","",""]
[null,null,null,null,null,null,null,"","",""]
[null,null,null,null,null,null,null,"","",""]
[null,null,null,null,null,null,null,"","",""]
[null,null,null,null,null,null,null,"","",""]
[null,null,null,null,null,null,null,"","",""]
[null,null,null,null,null,null,null,"","",""]
[null,null,null,null,null,null,null,"","",""]
[null,null,null,null,null,null,null,"","",""]
[null,null,null,null,null,null,null,"","",""]
[null,null,null,null,null,null,null,"","",""]
[null,null,null,null,null,null,null,"","",""]
[null,null,null,null,null,null,null,"","",""]
[null,null,null,null,null,null,null,"","",""]
[null,null,null,null,null,null,null,"","",""]
[null,null,null,null,null,null,null,"","",""]
[null,null,null,null,null,null,null,{"$f":"IF(G529<>\"\",G529/12,\"\")","v":""},{"$f":"IF(G529<>\"\",8,\"\")","v":""},{"$f":"IF(I529<>\"\",I529/12,\"\")","v":""}]
[null,null,null,null,null,null,null,"","",""]
[null,null,null,null,null,null,null,"","",""]
[null,null,null,null,null,null,null,"","",""]
[null,null,null,null,null,null,null,"","",""]
[null,null,null,null,null,null,null,"","",""]
[null,null,null,null,null,null,null,"","",""]
[null,null,null,null,null,null,null,"","",""]
[null,null,null,null,null,null,null,"","",""]
[null,null,null,null,null,null,null,"","",""]
[null,null,null,null,null,null,null,"","",""]
[null,null,null,null,null,null,null,"","",""]
[null,null,null,null,null,null,null,"","",""]
[null,null,null,null,null,null,null,"","",""]
[null,null,null,null,null,null,null,"","",""]
[null,null,null,null,null,null,null,"","",""]
[null,null,null,null,null,null,null,"","",""]
[null,null,null,null,null,null,null,"","",""]
[null,null,null,null,null,null,null,"","",""]
[null,null,null,null,null,null,null,"","",""]
[null,null,null,null,null,null,null,"","",""]
[null,null,null,null,null,null,null,"","",""]
[null,null,null,null,null,null,null,"","",""]
[null,null,null,null,null,null,null,"","",""]
[null,null,null,null,null,null,null,"","",""]
[null,null,null,null,null,null,null,"","",""]
[null,null,null,null,null,null,null,"","",""]
[null,null,null,null,null,null,null,"","",""]
[null,null,null,null,null,null,null,"","",""]
[null,null,null,null,null,null,null,"","",""]
[null,null,null,null,null,null,null,"","",""]
[null,null,null,null,null,null,null,"","",""]
[null,null,null,null,null,null,null,"","",""]
[null,null,null,null,null,null,null,"","",""]
[null,null,null,null,null,null,null,"","",""]
[null,null,null,null,null,null,null,"","",""]
[null,null,null,null,null,null,null,"","",""]
[null,null,null,null,null,null,null,"","",""]
[null,null,null,null,null,null,null,"","",""]
[null,null,null,null,null,null,null,"","",""]
[null,null,null,null,null,null,null,"","",""]
[null,null,null,null,null,null,null,"","",""]
[null,null,null,null,null,null,null,"","",""]
[null,null,null,null,null,null,null,"","",""]
[null,null,null,null,null,null,null,"","",""]
[null,null,null,null,null,null,null,"","",""]
[null,null,null,null,null,null,null,"","",""]
[null,null,null,null,null,null,null,"","",""]
[null,null,null,null,null,null,null,"","",""]
[null,null,null,null,null,null,null,"","",""]
[null,null,null,null,null,null,null,"","",""]
[null,null,null,null,null,null,null,"","",""]
[null,null,null,null,null,null,null,"","",""]
[null,null,null,null,null,null,null,"","",""]
[null,null,null,null,null,null,null,"","",""]
[null,null,null,null,null,null,null,"","",""]
[null,null,null,null,null,null,null,"","",""]
[null,null,null,null,null,null,null,"","",""]
[null,null,null,null,null,null,null,"","",""]
[null,null,null,null,null,null,null,"","",""]
[null,null,null,null,null,null,null,"","",""]
[null,null,null,null,null,null,null,"","",""]
[null,null,null,null,null,null,null,"","",""]
[null,null,null,null,null,null,null,"","",""]
[null,null,null,null,null,null,null,{"$f":"IF(G593<>\"\",G593/12,\"\")","v":""},{"$f":"IF(G593<>\"\",8,\"\")","v":""},{"$f":"IF(I593<>\"\",I593/12,\"\")","v":""}]
[null,null,null,null,null,null,null,"","",""]
[null,null,null,null,null,null,null,"","",""]
[null,null,null,null,null,null,null,"","",""]
[null,null,null,null,null,null,null,"","",""]
[null,null,null,null,null,null,null,"","",""]
[null,null,null,null,null,null,null,"","",""]
[null,null,null,null,null,null,null,"","",""]
[null,null,null,null,null,null,null,"","",""]
[null,null,null,null,null,null,null,"","",""]
[null,null,null,null,null,null,null,"","",""]
[null,null,null,null,null,null,null,"","",""]
[null,null,null,null,null,null,null,"","",""]
[null,null,null,null,null,null,null,"","",""]
[null,null,null,null,null,null,null,"","",""]
[null,null,null,null,null,null,null,"","",""]
[null,null,null,null,null,null,null,"","",""]
[null,null,null,null,null,null,null,"","",""]
[null,null,null,null,null,null,null,"","",""]
[null,null,null,null,null,null,null,"","",""]
[null,null,null,null,null,null,null,"","",""]
[null,null,null,null,null,null,null,"","",""]
[null,null,null,null,null,null,null,"","",""]
[null,null,null,null,null,null,null,"","",""]
[null,null,null,null,null,null,null,"","",""]
[null,null,null,null,null,null,null,"","",""]
[null,null,null,null,null,null,null,"","",""]
[null,null,null,null,null,null,null,"","",""]
[null,null,null,null,null,null,null,"","",""]
[null,null,null,null,null,null,null,"","",""]
[null,null,null,null,null,null,null,"","",""]
[null,null,null,null,null,null,null,"","",""]
[null,null,null,null,null,null,null,"","",""]
[null,null,null,null,null,null,null,"","",""]
[null,null,null,null,null,null,null,"","",""]
[null,null,null,null,null,null,null,"","",""]
[null,null,null,null,null,null,null,"","",""]
[null,null,null,null,null,null,null,"","",""]
[null,null,null,null,null,null,null,"","",""]
[null,null,null,null,null,null,null,"","",""]
[null,null,null,null,null,null,null,"","",""]
[null,null,null,null,null,null,null,"","",""]
[null,null,null,null,null,null,null,"","",""]
[null,null,null,null,null,null,null,"","",""]
[null,null,null,null,null,null,null,"","",""]
[null,null,null,null,null,null,null,"","",""]
[null,null,null,null,null,null,null,"","",""]
[null,null,null,null,null,null,null,"","",""]
[null,null,null,null,null,null,null,"","",""]
[null,null,null,null,null,null,null,"","",""]
[null,null,null,null,null,null,null,"","",""]
[null,null,null,null,null,null,null,"","",""]
[null,null,null,null,null,null,null,"","",""]
[null,null,null,null,null,null,null,"","",""]
[null,null,null,null,null,null,null,"","",""]
[null,null,null,null,null,null,null,"","",""]
[null,null,null,null,null,null,null,"","",""]
[null,null,null,null,null,null,null,"","",""]
[null,null,null,null,null,null,null,"","",""]
[null,null,null,null,null,null,null,"","",""]
[null,null,null,null,null,null,null,"","",""]
[null,null,null,null,null,null,null,"","",""]
[null,null,null,null,null,null,null,"","",""]
[null,null,null,null,null,null,null,"","",""]
[null,null,null,null,null,null,null,{"$f":"IF(G657<>\"\",G657/12,\"\")","v":""},{"$f":"IF(G657<>\"\",8,\"\")","v":""},{"$f":"IF(I657<>\"\",I657/12,\"\")","v":""}]
[null,null,null,null,null,null,null,"","",""]
[null,null,null,null,null,null,null,"","",""]
[null,null,null,null,null,null,null,"","",""]
[null,null,null,null,null,null,null,"","",""]
[null,null,null,null,null,null,null,"","",""]
[null,null,null,null,null,null,null,"","",""]
[null,null,null,null,null,null,null,"","",""]
[null,null,null,null,null,null,null,"","",""]
[null,null,null,null,null,null,null,"","",""]
[null,null,null,null,null,null,null,"","",""]
[null,null,null,null,null,null,null,"","",""]
[null,null,null,null,null,null,null,"","",""]
[null,null,null,null,null,null,null,"","",""]
[null,null,null,null,null,null,null,"","",""]
[null,null,null,null,null,null,null,"","",""]
[null,null,null,null,null,null,null,"","",""]
[null,null,null,null,null,null,null,"","",""]
[null,null,null,null,null,null,null,"","",""]
[null,null,null,null,null,null,null,"","",""]
[null,null,null,null,null,null,null,"","",""]
[null,null,null,null,null,null,null,"","",""]
[null,null,null,null,null,null,null,"","",""]
[null,null,null,null,null,null,null,"","",""]
[null,null,null,null,null,null,null,"","",""]
[null,null,null,null,null,null,null,"","",""]
[null,null,null,null,null,null,null,"","",""]
[null,null,null,null,null,null,null,"","",""]
[null,null,null,null,null,null,null,"","",""]
[null,null,null,null,null,null,null,"","",""]
[null,null,null,null,null,null,null,"","",""]
[null,null,null,null,null,null,null,"","",""]
[null,null,null,null,null,null,null,"","",""]
[null,null,null,null,null,null,null,"","",""]
[null,null,null,null,null,null,null,"","",""]
[null,null,null,null,null,null,null,"","",""]
[null,null,null,null,null,null,null,"","",""]
[null,null,null,null,null,null,null,"","",""]
[null,null,null,null,null,null,null,"","",""]
[null,null,null,null,null,null,null,"","",""]
[null,null,null,null,null,null,null,"","",""]
[null,null,null,null,null,null,null,"","",""]
[null,null,null,null,null,null,null,"","",""]
[null,null,null,null,null,null,null,"","",""]
[null,null,null,null,null,null,null,"","",""]
[null,null,null,null,null,null,null,"","",""]
[null,null,null,null,null,null,null,"","",""]
[null,null,null,null,null,null,null,"","",""]
[null,null,null,null,null,null,null,"","",""]
[null,null,null,null,null,null,null,"","",""]
[null,null,null,null,null,null,null,"","",""]
[null,null,null,null,null,null,null,"","",""]
[null,null,null,null,null,null,null,"","",""]
[null,null,null,null,null,null,null,"","",""]
[null,null,null,null,null,null,null,"","",""]
[null,null,null,null,null,null,null,"","",""]
[null,null,null,null,null,null,null,"","",""]
[null,null,null,null,null,null,null,"","",""]
[null,null,null,null,null,null,null,"","",""]
[null,null,null,null,null,null,null,"","",""]
[null,null,null,null,null,null,null,"","",""]
[null,null,null,null,null,null,null,"","",""]
[null,null,null,null,null,null,null,"","",""]
[null,null,null,null,null,null,null,"","",""]
[null,null,null,null,null,null,null,{"$f":"IF(G721<>\"\",G721/12,\"\")","v":""},{"$f":"IF(G721<>\"\",8,\"\")","v":""},{"$f":"IF(I721<>\"\",I721/12,\"\")","v":""}]
[null,null,null,null,null,null,null,"","",""]
[null,null,null,null,null,null,null,"","",""]
[null,null,null,null,null,null,null,"","",""]
[null,null,null,null,null,null,null,"","",""]
[null,null,null,null,null,null,null,"","",""]
[null,null,null,null,null,null,null,"","",""]
[null,null,null,null,null,null,null,"","",""]
[null,null,null,null,null,null,null,"","",""]
[null,null,null,null,null,null,null,"","",""]
[null,null,null,null,null,null,null,"","",""]
[null,null,null,null,null,null,null,"","",""]
[null,null,null,null,null,null,null,"","",""]
[null,null,null,null,null,null,null,"","",""]
[null,null,null,null,null,null,null,"","",""]
[null,null,null,null,null,null,null,"","",""]
[null,null,null,null,null,null,null,"","",""]
[null,null,null,null,null,null,null,"","",""]
[null,null,null,null,null,null,null,"","",""]
[null,null,null,null,null,null,null,"","",""]
[null,null,null,null,null,null,null,"","",""]
[null,null,null,null,null,null,null,"","",""]
[null,null,null,null,null,null,null,"","",""]
[null,null,null,null,null,null,null,"","",""]
[null,null,null,null,null,null,null,"","",""]
[null,null,null,null,null,null,null,"","",""]
[null,null,null,null,null,null,null,"","",""]
[null,null,null,null,null,null,null,"","",""]
[null,null,null,null,null,null,null,"","",""]
[null,null,null,null,null,null,null,"","",""]
[null,null,null,null,null,null,null,"","",""]
[null,null,null,null,null,null,null,"","",""]
[null,null,null,null,null,null,null,"","",""]
[null,null,null,null,null,null,null,"","",""]
[null,null,null,null,null,null,null,"","",""]
[null,null,null,null,null,null,null,"","",""]
[null,null,null,null,null,null,null,"","",""]
[null,null,null,null,null,null,null,"","",""]
[null,null,null,null,null,null,null,"","",""]
[null,null,null,null,null,null,null,"","",""]
[null,null,null,null,null,null,null,"","",""]
[null,null,null,null,null,null,null,"","",""]
[null,null,null,null,null,null,null,"","",""]
[null,null,null,null,null,null,null,"","",""]
[null,null,null,null,null,null,null,"","",""]
[null,null,null,null,null,null,null,"","",""]
[null,null,null,null,null,null,null,"","",""]
[null,null,null,null,null,null,null,"","",""]
[null,null,null,null,null,null,null,"","",""]
[null,null,null,null,null,null,null,"","",""]
[null,null,null,null,null,null,null,"","",""]
[null,null,null,null,null,null,null,"","",""]
[null,null,null,null,null,null,null,"","",""]
[null,null,null,null,null,null,null,"","",""]
[null,null,null,null,null,null,null,"","",""]
[null,null,null,null,null,null,null,"","",""]
[null,null,null,null,null,null,null,"","",""]
[null,null,null,null,null,null,null,"","",""]
[null,null,null,null,null,null,null,"","",""]
[null,null,null,null,null,null,null,"","",""]
[null,null,null,null,null,null,null,"","",""]
[null,null,null,null,null,null,null,"","",""]
[null,null,null,null,null,null,null,"","",""]
[null,null,null,null,null,null,null,"","",""]
[null,null,null,null,null,null,null,{"$f":"IF(G785<>\"\",G785/12,\"\")","v":""},{"$f":"IF(G785<>\"\",8,\"\")","v":""},{"$f":"IF(I785<>\"\",I785/12,\"\")","v":""}]
[null,null,null,null,null,null,null,"","",""]
[null,null,null,null,null,null,null,"","",""]
[null,null,null,null,null,null,null,"","",""]
[null,null,null,null,null,null,null,"","",""]
[null,null,null,null,null,null,null,"","",""]
[null,null,null,null,null,null,null,"","",""]
[null,null,null,null,null,null,null,"","",""]
[null,null,null,null,null,null,null,"","",""]
[null,null,null,null,null,null,null,"","",""]
[null,null,null,null,null,null,null,"","",""]
[null,null,null,null,null,null,null,"","",""]
[null,null,null,null,null,null,null,"","",""]
[null,null,null,null,null,null,null,"","",""]
[null,null,null,null,null,null,null,"","",""]
[null,null,null,null,null,null,null,"","",""]
[null,null,null,null,null,null,null,"","",""]
[null,null,null,null,null,null,null,"","",""]
[null,null,null,null,null,null,null,"","",""]
[null,null,null,null,null,null,null,"","",""]
[null,null,null,null,null,null,null,"","",""]
[null,null,null,null,null,null,null,"","",""]
[null,null,null,null,null,null,null,"","",""]
[null,null,null,null,null,null,null,"","",""]
[null,null,null,null,null,null,null,"","",""]
[null,null,null,null,null,null,null,"","",""]
[null,null,null,null,null,null,null,"","",""]
[null,null,null,null,null,null,null,"","",""]
[null,null,null,null,null,null,null,"","",""]
[null,null,null,null,null,null,null,"","",""]
[null,null,null,null,null,null,null,"","",""]
[null,null,null,null,null,null,null,"","",""]
[null,null,null,null,null,null,null,"","",""]
[null,null,null,null,null,null,null,"","",""]
[null,null,null,null,null,null,null,"","",""]
[null,null,null,null,null,null,null,"","",""]
[null,null,null,null,null,null,null,"","",""]
[null,null,null,null,null,null,null,"","",""]
[null,null,null,null,null,null,null,"","",""]
[null,null,null,null,null,null,null,"","",""]
[null,null,null,null,null,null,null,"","",""]
[null,null,null,null,null,null,null,"","",""]
[null,null,null,null,null,null,null,"","",""]
[null,null,null,null,null,null,null,"","",""]
[null,null,null,null,null,null,null,"","",""]
[null,null,null,null,null,null,null,"","",""]
[null,null,null,null,null,null,null,"","",""]
[null,null,null,null,null,null,null,"","",""]
[null,null,null,null,null,null,null,"","",""]
[null,null,null,null,null,null,null,"","",""]
[null,null,null,null,null,null,null,"","",""]
[null,null,null,null,null,null,null,"","",""]
[null,null,null,null,null,null,null,"","",""]
[null,null,null,null,null,null,null,"","",""]
[null,null,null,null,null,null,null,"","",""]
[null,null,null,null,null,null,null,"","",""]
[null,null,null,null,null,null,null,"","",""]
[null,null,null,null,null,null,null,"","",""]
[null,null,null,null,null,null,null,"","",""]
[null,null,null,null,null,null,null,"","",""]
[null,null,null,null,null,null,null,"","",""]
[null,null,null,null,null,null,null,"","",""]
[null,null,null,null,null,null,null,"","",""]
[null,null,null,null,null,null,null,"","",""]
[null,null,null,null,null,null,null,{"$f":"IF(G849<>\"\",G849/12,\"\")","v":""},{"$f":"IF(G849<>\"\",8,\"\")","v":""},{"$f":"IF(I849<>\"\",I849/12,\"\")","v":""}]
[null,null,null,null,null,null,null,"","",""]
[null,null,null,null,null,null,null,"","",""]
[null,null,null,null,null,null,null,"","",""]
[null,null,null,null,null,null,null,"","",""]
[null,null,null,null,null,null,null,"","",""]
[null,null,null,null,null,null,null,"","",""]
[null,null,null,null,null,null,null,"","",""]
[null,null,null,null,null,null,null,"","",""]
[null,null,null,null,null,null,null,"","",""]
[null,null,null,null,null,null,null,"","",""]
[null,null,null,null,null,null,null,"","",""]
[null,null,null,null,null,null,null,"","",""]
[null,null,null,null,null,null,null,"","",""]
[null,null,null,null,null,null,null,"","",""]
[null,null,null,null,null,null,null,"","",""]
[null,null,null,null,null,null,null,"","",""]
[null,null,null,null,null,null,null,"","",""]
[null,null,null,null,null,null,null,"","",""]
[null,null,null,null,null,null,null,"","",""]
[null,null,null,null,null,null,null,"","",""]
[null,null,null,null,null,null,null,"","",""]
[null,null,null,null,null,null,null,"","",""]
[null,null,null,null,null,null,null,"","",""]
[null,null,null,null,null,null,null,"","",""]
[null,null,null,null,null,null,null,"","",""]
[null,null,null,null,null,null,null,"","",""]
[null,null,null,null,null,null,null,"","",""]
[null,null,null,null,null,null,null,"","",""]
[null,null,null,null,null,null,null,"","",""]
[null,null,null,null,null,null,null,"","",""]
[null,null,null,null,null,null,null,"","",""]
[null,null,null,null,null,null,null,"","",""]
[null,null,null,null,null,null,null,"","",""]
[null,null,null,null,null,null,null,"","",""]
[null,null,null,null,null,null,null,"","",""]
[null,null,null,null,null,null,null,"","",""]
[null,null,null,null,null,null,null,"","",""]
[null,null,null,null,null,null,null,"","",""]
[null,null,null,null,null,null,null,"","",""]
[null,null,null,null,null,null,null,"","",""]
[null,null,null,null,null,null,null,"","",""]
[null,null,null,null,null,null,null,"","",""]
[null,null,null,null,null,null,null,"","",""]
[null,null,null,null,null,null,null,"","",""]
[null,null,null,null,null,null,null,"","",""]
[null,null,null,null,null,null,null,"","",""]
[null,null,null,null,null,null,null,"","",""]
[null,null,null,null,null,null,null,"","",""]
[null,null,null,null,null,null,null,"","",""]
[null,null,null,null,null,null,null,"","",""]
[null,null,null,null,null,null,null,"","",""]
[null,null,null,null,null,null,null,"","",""]
[null,null,null,null,null,null,null,"","",""]
[null,null,null,null,null,null,null,"","",""]
[null,null,null,null,null,null,null,"","",""]
[null,null,null,null,null,null,null,"","",""]
[null,null,null,null,null,null,null,"","",""]
[null,null,null,null,null,null,null,"","",""]
[null,null,null,null,null,null,null,"","",""]
[null,null,null,null,null,null,null,"","",""]
[null,null,null,null,null,null,null,"","",""]
[null,null,null,null,null,null,null,"","",""]
[null,null,null,null,null,null,null,"","",""]
[null,null,null,null,null,null,null,{"$f":"IF(G913<>\"\",G913/12,\"\")","v":""},{"$f":"IF(G913<>\"\",8,\"\")","v":""},{"$f":"IF(I913<>\"\",I913/12,\"\")","v":""}]
[null,null,null,null,null,null,null,"","",""]
[null,null,null,null,null,null,null,"","",""]
[null,null,null,null,null,null,null,"","",""]
[null,null,null,null,null,null,null,"","",""]
[null,null,null,null,null,null,null,"","",""]
[null,null,null,null,null,null,null,"","",""]
[null,null,null,null,null,null,null,"","",""]
[null,null,null,null,null,null,null,"","",""]
[null,null,null,null,null,null,null,"","",""]
[null,null,null,null,null,null,null,"","",""]
[null,null,null,null,null,null,null,"","",""]
[null,null,null,null,null,null,null,"","",""]
[null,null,null,null,null,null,null,"","",""]
[null,null,null,null,null,null,null,"","",""]
[null,null,null,null,null,null,null,"","",""]
[null,null,null,null,null,null,null,"","",""]
[null,null,null,null,null,null,null,"","",""]
[null,null,null,null,null,null,null,"","",""]
[null,null,null,null,null,null,null,"","",""]
[null,null,null,null,null,null,null,"","",""]
[null,null,null,null,null,null,null,"","",""]
[null,null,null,null,null,null,null,"","",""]
[null,null,null,null,null,null,null,"","",""]
[null,null,null,null,null,null,null,"","",""]
[null,null,null,null,null,null,null,"","",""]
[null,null,null,null,null,null,null,"","",""]
[null,null,null,null,null,null,null,"","",""]
[null,null,null,null,null,null,null,"","",""]
[null,null,null,null,null,null,null,"","",""]
[null,null,null,null,null,null,null,"","",""]
[null,null,null,null,null,null,null,"","",""]
[null,null,null,null,null,null,null,"","",""]
[null,null,null,null,null,null,null,"","",""]
[null,null,null,null,null,null,null,"","",""]
[null,null,null,null,null,null,null,"","",""]
[null,null,null,null,null,null,null,"","",""]
[null,null,null,null,null,null,null,"","",""]
[null,null,null,null,null,null,null,"","",""]
[null,null,null,null,null,null,null,"","",""]
[null,null,null,null,null,null,null,"","",""]
[null,null,null,null,null,null,null,"","",""]
[null,null,null,null,null,null,null,"","",""]
[null,null,null,null,null,null,null,"","",""]
[null,null,null,null,null,null,null,"","",""]
[null,null,null,null,null,null,null,"","",""]
[null,null,null,null,null,null,null,"","",""]
[null,null,null,null,null,null,null,"","",""]
[null,null,null,null,null,null,null,"","",""]
[null,null,null,null,null,null,null,"","",""]
[null,null,null,null,null,null,null,"","",""]
[null,null,null,null,null,null,null,"","",""]
[null,null,null,null,null,null,null,"","",""]
[null,null,null,null,null,null,null,"","",""]
[null,null,null,null,null,null,null,"","",""]
[null,null,null,null,null,null,null,"","",""]
[null,null,null,null,null,null,null,"","",""]
[null,null,null,null,null,null,null,"","",""]
[null,null,null,null,null,null,null,"","",""]
[null,null,null,null,null,null,null,"","",""]
[null,null,null,null,null,null,null,"","",""]
[null,null,null,null,null,null,null,"","",""]
[null,null,null,null,null,null,null,"","",""]
[null,null,null,null,null,null,null,"","",""]
[null,null,null,null,null,null,null,{"$f":"IF(G977<>\"\",G977/12,\"\")","v":""},{"$f":"IF(G977<>\"\",8,\"\")","v":""},{"$f":"IF(I977<>\"\",I977/12,\"\")","v":""}]
[null,null,null,null,null,null,null,"","",""]
[null,null,null,null,null,null,null,"","",""]
[null,null,null,null,null,null,null,"","",""]
[null,null,null,null,null,null,null,"","",""]
[null,null,null,null,null,null,null,"","",""]
[null,null,null,null,null,null,null,"","",""]
[null,null,null,null,null,null,null,"","",""]
[null,null,null,null,null,null,null,"","",""]
[null,null,null,null,null,null,null,"","",""]
[null,null,null,null,null,null,null,"","",""]
[null,null,null,null,null,null,null,"","",""]
[null,null,null,null,null,null,null,"","",""]
[null,null,null,null,null,null,null,"","",""]
[null,null,null,null,null,null,null,"","",""]
[null,null,null,null,null,null,null,"","",""]
[null,null,null,null,null,null,null,"","",""]
[null,null,null,null,null,null,null,"","",""]
[null,null,null,null,null,null,null,"","",""]
[null,null,null,null,null,null,null,"","",""]
[null,null,null,null,null,null,null,"","",""]
[null,null,null,null,null,null,null,"","",""]
[null,null,null,null,null,null,null,"","",""]
[null,null,null,null,null,null,null,"","",""]
[null,null,null,null,null,null,null,"","",""]
[null,null,null,null,null,null,null,"","",""]
[null,null,null,null,null,null,null,"","",""]
[null,null,null,null,null,null,null,"","",""]
[null,null,null,null,null,null,null,"","",""]
[null,null,null,null,null,null,null,"","",""]
[null,null,null,null,null,null,null,"","",""]
[null,null,null,null,null,null,null,"","",""]
[null,null,null,null,null,null,null,"","",""]
[null,null,null,null,null,null,null,"","",""]
[null,null,null,null,null,null,null,"","",""]
[null,null,null,null,null,null,null,"","",""]
[null,null,null,null,null,null,null,"","",""]
[null,null,null,null,null,null,null,"","",""]
[null,null,null,null,null,null,null,"","",""]
[null,null,null,null,null,null,null,"","",""]
[null,null,null,null,null,null,null,"","",""]
[null,null,null,null,null,null,null,"","",""]
[null,null,null,null,null,null,null,"","",""]
[null,null,null,null,null,null,null,"","",""]
[null,null,null,null,null,null,null,"","",""]
[null,null,null,null,null,null,null,"","",""]
[null,null,null,null,null,null,null,"","",""]
[null,null,null,null,null,null,null,"","",""]
[null,null,null,null,null,null,null,"","",""]
[null,null,null,null,null,null,null,"","",""]
[null,null,null,null,null,null,null,"","",""]
[null,null,null,null,null,null,null,"","",""]
[null,null,null,null,null,null,null,"","",""]
[null,null,null,null,null,null,null,"","",""]
[null,null,null,null,null,null,null,"","",""]
[null,null,null,null,null,null,null,"","",""]
[null,null,null,null,null,null,null,"","",""]
[null,null,null,null,null,null,null,"","",""]
[null,null,null,null,null,null,null,"","",""]
[null,null,null,null,null,null,null,"","",""]
[null,null,null,null,null,null,null,"","",""]
[null,null,null,null,null,null,null,"","",""]
[null,null,null,null,null,null,null,"","",""]
[null,null,null,null,null,null,null,"","",""]
[null,null,null,null,null,null,null,{"$f":"IF(G1041<>\"\",G1041/12,\"\")","v":""},{"$f":"IF(G1041<>\"\",8,\"\")","v":""},{"$f":"IF(I1041<>\"\",I1041/12,\"\")","v":""}]
[null,null,null,null,null,null,null,"","",""]
[null,null,null,null,null,null,null,"","",""]
[null,null,null,null,null,null,null,"","",""]
[null,null,null,null,null,null,null,"","",""]
[null,null,null,null,null,null,null,"","",""]
[null,null,null,null,null,null,null,"","",""]
[null,null,null,null,null,null,null,"","",""]
[null,null,null,null,null,null,null,"","",""]
[null,null,null,null,null,null,null,"","",""]
[null,null,null,null,null,null,null,"","",""]
[null,null,null,null,null,null,null,"","",""]
[null,null,null,null,null,null,null,"","",""]
[null,null,null,null,null,null,null,"","",""]
[null,null,null,null,null,null,null,"","",""]
[null,null,null,null,null,null,null,"","",""]
[null,null,null,null,null,null,null,"","",""]
[null,null,null,null,null,null,null,"","",""]
[null,null,null,null,null,null,null,"","",""]
[null,null,null,null,null,null,null,"","",""]
[null,null,null,null,null,null,null,"","",""]
[null,null,null,null,null,null,null,"","",""]
[null,null,null,null,null,null,null,"","",""]
[null,null,null,null,null,null,null,"","",""]
[null,null,null,null,null,null,null,"","",""]
[null,null,null,null,null,null,null,"","",""]
[null,null,null,null,null,null,null,"","",""]
[null,null,null,null,null,null,null,"","",""]
[null,null,null,null,null,null,null,"","",""]
[null,null,null,null,null,null,null,"","",""]
[null,null,null,null,null,null,null,"","",""]
[null,null,null,null,null,null,null,"","",""]
[null,null,null,null,null,null,null,"","",""]
[null,null,null,null,null,null,null,"","",""]
[null,null,null,null,null,null,null,"","",""]
[null,null,null,null,null,null,null,"","",""]
[null,null,null,null,null,null,null,"","",""]
[null,null,null,null,null,null,null,"","",""]
[null,null,null,null,null,null,null,"","",""]
[null,null,null,null,null,null,null,"","",""]
[null,null,null,null,null,null,null,"","",""]
[null,null,null,null,null,null,null,"","",""]
[null,null,null,null,null,null,null,"","",""]
[null,null,null,null,null,null,null,"","",""]
[null,null,null,null,null,null,null,"","",""]
[null,null,null,null,null,null,null,"","",""]
[null,null,null,null,null,null,null,"","",""]
[null,null,null,null,null,null,null,"","",""]
[null,null,null,null,null,null,null,"","",""]
[null,null,null,null,null,null,null,"","",""]
[null,null,null,null,null,null,null,"","",""]
[null,null,null,null,null,null,null,"","",""]
[null,null,null,null,null,null,null,"","",""]
[null,null,null,null,null,null,null,"","",""]
[null,null,null,null,null,null,null,"","",""]
[null,null,null,null,null,null,null,"","",""]
[null,null,null,null,null,null,null,"","",""]
[null,null,null,null,null,null,null,"","",""]
[null,null,null,null,null,null,null,"","",""]
[null,null,null,null,null,null,null,"","",""]
[null,null,null,null,null,null,null,"","",""]
[null,null,null,null,null,null,null,"","",""]
[null,null,null,null,null,null,null,"","",""]
[null,null,null,null,null,null,null,"","",""]
[null,null,null,null,null,null,null,{"$f":"IF(G1105<>\"\",G1105/12,\"\")","v":""},{"$f":"IF(G1105<>\"\",8,\"\")","v":""},{"$f":"IF(I1105<>\"\",I1105/12,\"\")","v":""}]
[null,null,null,null,null,null,null,"","",""]
[null,null,null,null,null,null,null,"","",""]
[null,null,null,null,null,null,null,"","",""]
[null,null,null,null,null,null,null,"","",""]
[null,null,null,null,null,null,null,"","",""]
[null,null,null,null,null,null,null,"","",""]
[null,null,null,null,null,null,null,"","",""]
[null,null,null,null,null,null,null,"","",""]
[null,null,null,null,null,null,null,"","",""]
[null,null,null,null,null,null,null,"","",""]
[null,null,null,null,null,null,null,"","",""]
[null,null,null,null,null,null,null,"","",""]
[null,null,null,null,null,null,null,"","",""]
[null,null,null,null,null,null,null,"","",""]
[null,null,null,null,null,null,null,"","",""]
[null,null,null,null,null,null,null,"","",""]
[null,null,null,null,null,null,null,"","",""]
[null,null,null,null,null,null,null,"","",""]
[null,null,null,null,null,null,null,"","",""]
[null,null,null,null,null,null,null,"","",""]
[null,null,null,null,null,null,null,"","",""]
[null,null,null,null,null,null,null,"","",""]
[null,null,null,null,null,null,null,"","",""]
[null,null,null,null,null,null,null,"","",""]
[null,null,null,null,null,null,null,"","",""]
[null,null,null,null,null,null,null,"","",""]
[null,null,null,null,null,null,null,"","",""]
[null,null,null,null,null,null,null,"","",""]
[null,null,null,null,null,null,null,"","",""]
[null,null,null,null,null,null,null,"","",""]
[null,null,null,null,null,null,null,"","",""]
[null,null,null,null,null,null,null,"","",""]
[null,null,null,null,null,null,null,"","",""]
[null,null,null,null,null,null,null,"","",""]
[null,null,null,null,null,null,null,"","",""]
[null,null,null,null,null,null,null,"","",""]
[null,null,null,null,null,null,null,"","",""]
[null,null,null,null,null,null,null,"","",""]
[null,null,null,null,null,null,null,"","",""]
[null,null,null,null,null,null,null,"","",""]
[null,null,null,null,null,null,null,"","",""]
[null,null,null,null,null,null,null,"","",""]
[null,null,null,null,null,null,null,"","",""]
[null,null,null,null,null,null,null,"","",""]
[null,null,null,null,null,null,null,"","",""]
[null,null,null,null,null,null,null,"","",""]
[null,null,null,null,null,null,null,"","",""]
[null,null,null,null,null,null,null,"","",""]
[null,null,null,null,null,null,null,"","",""]
[null,null,null,null,null,null,null,"","",""]
[null,null,null,null,null,null,null,"","",""]
[null,null,null,null,null,null,null,"","",""]
[null,null,null,null,null,null,null,"","",""]
[null,null,null,null,null,null,null,"","",""]
[null,null,null,null,null,null,null,"","",""]
[null,null,null,null,null,null,null,"","",""]
[null,null,null,null,null,null,null,"","",""]
[null,null,null,null,null,null,null,"","",""]
[null,null,null,null,null,null,null,"","",""]
[null,null,null,null,null,null,null,"","",""]
[null,null,null,null,null,null,null,"","",""]
[null,null,null,null,null,null,null,"","",""]
[null,null,null,null,null,null,null,"","",""]
[null,null,null,null,null,null,null,{"$f":"IF(G1169<>\"\",G1169/12,\"\")","v":""},{"$f":"IF(G1169<>\"\",8,\"\")","v":""},{"$f":"IF(I1169<>\"\",I1169/12,\"\")","v":""}]
[null,null,null,null,null,null,null,"","",""]
[null,null,null,null,null,null,null,"","",""]
[null,null,null,null,null,null,null,"","",""]
[null,null,null,null,null,null,null,"","",""]
[null,null,null,null,null,null,null,"","",""]
[null,null,null,null,null,null,null,"","",""]
[null,null,null,null,null,null,null,"","",""]
[null,null,null,null,null,null,null,"","",""]
[null,null,null,null,null,null,null,"","",""]
[null,null,null,null,null,null,null,"","",""]
[null,null,null,null,null,null,null,"","",""]
[null,null,null,null,null,null,null,"","",""]
[null,null,null,null,null,null,null,"","",""]
[null,null,null,null,null,null,null,"","",""]
[null,null,null,null,null,null,null,"","",""]
[null,null,null,null,null,null,null,"","",""]
[null,null,null,null,null,null,null,"","",""]
[null,null,null,null,null,null,null,"","",""]
[null,null,null,null,null,null,null,"","",""]
[null,null,null,null,null,null,null,"","",""]
[null,null,null,null,null,null,null,"","",""]
[null,null,null,null,null,null,null,"","",""]
[null,null,null,null,null,null,null,"","",""]
[null,null,null,null,null,null,null,"","",""]
[null,null,null,null,null,null,null,"","",""]
[null,null,null,null,null,null,null,"","",""]
[null,null,null,null,null,null,null,"","",""]
[null,null,null,null,null,null,null,"","",""]
[null,null,null,null,null,null,null,"","",""]
[null,null,null,null,null,null,null,"","",""]
[null,null,null,null,null,null,null,"","",""]
[null,null,null,null,null,null,null,"","",""]
[null,null,null,null,null,null,null,"","",""]
[null,null,null,null,null,null,null,"","",""]
[null,null,null,null,null,null,null,"","",""]
[null,null,null,null,null,null,null,"","",""]
[null,null,null,null,null,null,null,"","",""]
[null,null,null,null,null,null,null,"","",""]
[null,null,null,null,null,null,null,"","",""]
[null,null,null,null,null,null,null,"","",""]
[null,null,null,null,null,null,null,"","",""]
[null,null,null,null,null,null,null,"","",""]
[null,null,null,null,null,null,null,"","",""]
[null,null,null,null,null,null,null,"","",""]
[null,null,null,null,null,null,null,"","",""]
[null,null,null,null,null,null,null,"","",""]
[null,null,null,null,null,null,null,"","",""]
[null,null,null,null,null,null,null,"","",""]
[null,null,null,null,null,null,null,"","",""]
[null,null,null,null,null,null,null,"","",""]
[null,null,null,null,null,null,null,"","",""]
[null,null,null,null,null,null,null,"","",""]
[null,null,null,null,null,null,null,"","",""]
[null,null,null,null,null,null,null,"","",""]
[null,null,null,null,null,null,null,"","",""]
[null,null,null,null,null,null,null,"","",""]
[null,null,null,null,null,null,null,"","",""]
[null,null,null,null,null,null,null,"","",""]
[null,null,null,null,null,null,null,"","",""]
[null,null,null,null,null,null,null,"","",""]
[null,null,null,null,null,null,null,"","",""]
[null,null,null,null,null,null,null,"","",""]
[null,null,null,null,null,null,null,"","",""]
[null,null,null,null,null,null,null,{"$f":"IF(G1233<>\"\",G1233/12,\"\")","v":""},{"$f":"IF(G1233<>\"\",8,\"\")","v":""},{"$f":"IF(I1233<>\"\",I1233/12,\"\")","v":""}]
[null,null,null,null,null,null,null,"","",""]
[null,null,null,null,null,null,null,"","",""]
[null,null,null,null,null,null,null,"","",""]
[null,null,null,null,null,null,null,"","",""]
[null,null,null,null,null,null,null,"","",""]
[null,null,null,null,null,null,null,"","",""]
[null,null,null,null,null,null,null,"","",""]
[null,null,null,null,null,null,null,"","",""]
[null,null,null,null,null,null,null,"","",""]
[null,null,null,null,null,null,null,"","",""]
[null,null,null,null,null,null,null,"","",""]
[null,null,null,null,null,null,null,"","",""]
[null,null,null,null,null,null,null,"","",""]
[null,null,null,null,null,null,null,"","",""]
[null,null,null,null,null,null,null,"","",""]
[null,null,null,null,null,null,null,"","",""]
[null,null,null,null,null,null,null,"","",""]
[null,null,null,null,null,null,null,"","",""]
[null,null,null,null,null,null,null,"","",""]
[null,null,null,null,null,null,null,"","",""]
[null,null,null,null,null,null,null,"","",""]
[null,null,null,null,null,null,null,"","",""]
[null,null,null,null,null,null,null,"","",""]
[null,null,null,null,null,null,null,"","",""]
[null,null,null,null,null,null,null,"","",""]
[null,null,null,null,null,null,null,"","",""]
[null,null,null,null,null,null,null,"","",""]
[null,null,null,null,null,null,null,"","",""]
[null,null,null,null,null,null,null,"","",""]
[null,null,null,null,null,null,null,"","",""]
[null,null,null,null,null,null,null,"","",""]
[null,null,null,null,null,null,null,"","",""]
[null,null,null,null,null,null,null,"","",""]
[null,null,null,null,null,null,null,"","",""]
[null,null,null,null,null,null,null,"","",""]
[null,null,null,null,null,null,null,"","",""]
[null,null,null,null,null,null,null,"","",""]
[null,null,null,null,null,null,null,"","",""]
[null,null,null,null,null,null,null,"","",""]
[null,null,null,null,null,null,null,"","",""]
[null,null,null,null,null,null,null,"","",""]
[null,null,null,null,null,null,null,"","",""]
[null,null,null,null,null,null,null,"","",""]
[null,null,null,null,null,null,null,"","",""]
[null,null,null,null,null,null,null,"","",""]
[null,null,null,null,null,null,null,"","",""]
[null,null,null,null,null,null,null,"","",""]
[null,null,null,null,null,null,null,"","",""]
[null,null,null,null,null,null,null,"","",""]
[null,null,null,null,null,null,null,"","",""]
[null,null,null,null,null,null,null,"","",""]
[null,null,null,null,null,null,null,"","",""]
[null,null,null,null,null,null,null,"","",""]
[null,null,null,null,null,null,null,"","",""]
[null,null,null,null,null,null,null,"","",""]
[null,null,null,null,null,null,null,"","",""]
[null,null,null,null,null,null,null,"","",""]
[null,null,null,null,null,null,null,"","",""]
[null,null,null,null,null,null,null,"","",""]
[null,null,null,null,null,null,null,"","",""]
[null,null,null,null,null,null,null,"","",""]
[null,null,null,null,null,null,null,"","",""]
[null,null,null,null,null,null,null,"","",""]
[null,null,null,null,null,null,null,{"$f":"IF(G1297<>\"\",G1297/12,\"\")","v":""},{"$f":"IF(G1297<>\"\",8,\"\")","v":""},{"$f":"IF(I1297<>\"\",I1297/12,\"\")","v":""}]
[null,null,null,null,null,null,null,"","",""]
[null,null,null,null,null,null,null,"","",""]
[null,null,null,null,null,null,null,"","",""]
[null,null,null,null,null,null,null,"","",""]
[null,null,null,null,null,null,null,"","",""]
[null,null,null,null,null,null,null,"","",""]
[null,null,null,null,null,null,null,"","",""]
[null,null,null,null,null,null,null,"","",""]
[null,null,null,null,null,null,null,"","",""]
[null,null,null,null,null,null,null,"","",""]
[null,null,null,null,null,null,null,"","",""]
[null,null,null,null,null,null,null,"","",""]
[null,null,null,null,null,null,null,"","",""]
[null,null,null,null,null,null,null,"","",""]
[null,null,null,null,null,null,null,"","",""]
[null,null,null,null,null,null,null,"","",""]
[null,null,null,null,null,null,null,"","",""]
[null,null,null,null,null,null,null,"","",""]
[null,null,null,null,null,null,null,"","",""]
[null,null,null,null,null,null,null,"","",""]
[null,null,null,null,null,null,null,"","",""]
[null,null,null,null,null,null,null,"","",""]
[null,null,null,null,null,null,null,"","",""]
[null,null,null,null,null,null,null,"","",""]
[null,null,null,null,null,null,null,"","",""]
[null,null,null,null,null,null,null,"","",""]
[null,null,null,null,null,null,null,"","",""]
[null,null,null,null,null,null,null,"","",""]
[null,null,null,null,null,null,null,"","",""]
[null,null,null,null,null,null,null,"","",""]
[null,null,null,null,null,null,null,"","",""]
[null,null,null,null,null,null,null,"","",""]
[null,null,null,null,null,null,null,"","",""]
[null,null,null,null,null,null,null,"","",""]
[null,null,null,null,null,null,null,"","",""]
[null,null,null,null,null,null,null,"","",""]
[null,null,null,null,null,null,null,"","",""]
[null,null,null,null,null,null,null,"","",""]
[null,null,null,null,null,null,null,"","",""]
[null,null,null,null,null,null,null,"","",""]
[null,null,null,null,null,null,null,"","",""]
[null,null,null,null,null,null,null,"","",""]
[null,null,null,null,null,null,null,"","",""]
[null,null,null,null,null,null,null,"","",""]
[null,null,null,null,null,null,null,"","",""]
[null,null,null,null,null,null,null,"","",""]
[null,null,null,null,null,null,null,"","",""]
[null,null,null,null,null,null,null,"","",""]
[null,null,null,null,null,null,null,"","",""]
[null,null,null,null,null,null,null,"","",""]
[null,null,null,null,null,null,null,"","",""]
[null,null,null,null,null,null,null,"","",""]
[null,null,null,null,null,null,null,"","",""]
[null,null,null,null,null,null,null,"","",""]
[null,null,null,null,null,null,null,"","",""]
[null,null,null,null,null,null,null,"","",""]
[null,null,null,null,null,null,null,"","",""]
[null,null,null,null,null,null,null,"","",""]
[null,null,null,null,null,null,null,"","",""]
[null,null,null,null,null,null,null,"","",""]
[null,null,null,null,null,null,null,"","",""]
[null,null,null,null,null,null,null,"","",""]
[null,null,null,null,null,null,null,"","",""]
[null,null,null,null,null,null,null,{"$f":"IF(G1361<>\"\",G1361/12,\"\")","v":""},{"$f":"IF(G1361<>\"\",8,\"\")","v":""},{"$f":"IF(I1361<>\"\",I1361/12,\"\")","v":""}]
[null,null,null,null,null,null,null,"","",""]
[null,null,null,null,null,null,null,"","",""]
[null,null,null,null,null,null,null,"","",""]
[null,null,null,null,null,null,null,"","",""]
[null,null,null,null,null,null,null,"","",""]
[null,null,null,null,null,null,null,"","",""]
[null,null,null,null,null,null,null,"","",""]
[null,null,null,null,null,null,null,"","",""]
[null,null,null,null,null,null,null,"","",""]
[null,null,null,null,null,null,null,"","",""]
[null,null,null,null,null,null,null,"","",""]
[null,null,null,null,null,null,null,"","",""]
[null,null,null,null,null,null,null,"","",""]
[null,null,null,null,null,null,null,"","",""]
[null,null,null,null,null,null,null,"","",""]
[null,null,null,null,null,null,null,"","",""]
[null,null,null,null,null,null,null,"","",""]
[null,null,null,null,null,null,null,"","",""]
[null,null,null,null,null,null,null,"","",""]
[null,null,null,null,null,null,null,"","",""]
[null,null,null,null,null,null,null,"","",""]
[null,null,null,null,null,null,null,"","",""]
[null,null,null,null,null,null,null,"","",""]
[null,null,null,null,null,null,null,"","",""]
[null,null,null,null,null,null,null,"","",""]
[null,null,null,null,null,null,null,"","",""]
[null,null,null,null,null,null,null,"","",""]
[null,null,null,null,null,null,null,"","",""]
[null,null,null,null,null,null,null,"","",""]
[null,null,null,null,null,null,null,"","",""]
[null,null,null,null,null,null,null,"","",""]
[null,null,null,null,null,null,null,"","",""]
[null,null,null,null,null,null,null,"","",""]
[null,null,null,null,null,null,null,"","",""]
[null,null,null,null,null,null,null,"","",""]
[null,null,null,null,null,null,null,"","",""]
[null,null,null,null,null,null,null,"","",""]
[null,null,null,null,null,null,null,"","",""]
[null,null,null,null,null,null,null,"","",""]
[null,null,null,null,null,null,null,"","",""]
[null,null,null,null,null,null,null,"","",""]
[null,null,null,null,null,null,null,"","",""]
[null,null,null,null,null,null,null,"","",""]
[null,null,null,null,null,null,null,"","",""]
[null,null,null,null,null,null,null,"","",""]
[null,null,null,null,null,null,null,"","",""]
[null,null,null,null,null,null,null,"","",""]
[null,null,null,null,null,null,null,"","",""]
[null,null,null,null,null,null,null,"","",""]
[null,null,null,null,null,null,null,"","",""]
[null,null,null,null,null,null,null,"","",""]
[null,null,null,null,null,null,null,"","",""]
[null,null,null,null,null,null,null,"","",""]
[null,null,null,null,null,null,null,"","",""]
[null,null,null,null,null,null,null,"","",""]
[null,null,null,null,null,null,null,"","",""]
[null,null,null,null,null,null,null,"","",""]
[null,null,null,null,null,null,null,"","",""]
[null,null,null,null,null,null,null,"","",""]
[null,null,null,null,null,null,null,"","",""]
[null,null,null,null,null,null,null,"","",""]
[null,null,null,null,null,null,null,"","",""]
[null,null,null,null,null,null,null,"","",""]
[null,null,null,null,null,null,null,{"$f":"IF(G1425<>\"\",G1425/12,\"\")","v":""},{"$f":"IF(G1425<>\"\",8,\"\")","v":""},{"$f":"IF(I1425<>\"\",I1425/12,\"\")","v":""}]
[null,null,null,null,null,null,null,"","",""]
[null,null,null,null,null,null,null,"","",""]
[null,null,null,null,null,null,null,"","",""]
[null,null,null,null,null,null,null,"","",""]
[null,null,null,null,null,null,null,"","",""]
[null,null,null,null,null,null,null,"","",""]
[null,null,null,null,null,null,null,"","",""]
[null,null,null,null,null,null,null,"","",""]
[null,null,null,null,null,null,null,"","",""]
[null,null,null,null,null,null,null,"","",""]
[null,null,null,null,null,null,null,"","",""]
[null,null,null,null,null,null,null,"","",""]
[null,null,null,null,null,null,null,"","",""]
[null,null,null,null,null,null,null,"","",""]
[null,null,null,null,null,null,null,"","",""]
[null,null,null,null,null,null,null,"","",""]
[null,null,null,null,null,null,null,"","",""]
[null,null,null,null,null,null,null,"","",""]
[null,null,null,null,null,null,null,"","",""]
[null,null,null,null,null,null,null,"","",""]
[null,null,null,null,null,null,null,"","",""]
[null,null,null,null,null,null,null,"","",""]
[null,null,null,null,null,null,null,"","",""]
[null,null,null,null,null,null,null,"","",""]
[null,null,null,null,null,null,null,"","",""]
[null,null,null,null,null,null,null,"","",""]
[null,null,null,null,null,null,null,"","",""]
[null,null,null,null,null,null,null,"","",""]
[null,null,null,null,null,null,null,"","",""]
[null,null,null,null,null,null,null,"","",""]
[null,null,null,null,null,null,null,"","",""]
[null,null,null,null,null,null,null,"","",""]
[null,null,null,null,null,null,null,"","",""]
[null,null,null,null,null,null,null,"","",""]
[null,null,null,null,null,null,null,"","",""]
[null,null,null,null,null,null,null,"","",""]
[null,null,null,null,null,null,null,"","",""]
[null,null,null,null,null,null,null,"","",""]
[null,null,null,null,null,null,null,"","",""]
[null,null,null,null,null,null,null,"","",""]
[null,null,null,null,null,null,null,"","",""]
[null,null,null,null,null,null,null,"","",""]
[null,null,null,null,null,null,null,"","",""]
[null,null,null,null,null,null,null,"","",""]
[null,null,null,null,null,null,null,"","",""]
[null,null,null,null,null,null,null,"","",""]
[null,null,null,null,null,null,null,"","",""]
[null,null,null,null,null,null,null,"","",""]
[null,null,null,null,null,null,null,"","",""]
[null,null,null,null,null,null,null,"","",""]
[null,null,null,null,null,null,null,"","",""]
[null,null,null,null,null,null,null,"","",""]
[null,null,null,null,null,null,null,"","",""]
[null,null,null,null,null,null,null,"","",""]
[null,null,null,null,null,null,null,"","",""]
[null,null,null,null,null,null,null,"","",""]
[null,null,null,null,null,null,null,"","",""]
[null,null,null,null,null,null,null,"","",""]
[null,null,null,null,null,null,null,"","",""]
[null,null,null,null,null,null,null,"","",""]
[null,null,null,null,null,null,null,"","",""]
[null,null,null,null,null,null,null,"","",""]
[null,null,null,null,null,null,null,"","",""]
[null,null,null,null,null,null,null,{"$f":"IF(G1489<>\"\",G1489/12,\"\")","v":""},{"$f":"IF(G1489<>\"\",8,\"\")","v":""},{"$f":"IF(I1489<>\"\",I1489/12,\"\")","v":""}]
[null,null,null,null,null,null,null,"","",""]
[null,null,null,null,null,null,null,"","",""]
[null,null,null,null,null,null,null,"","",""]
[null,null,null,null,null,null,null,"","",""]
[null,null,null,null,null,null,null,"","",""]
[null,null,null,null,null,null,null,"","",""]
[null,null,null,null,null,null,null,"","",""]
[null,null,null,null,null,null,null,"","",""]
[null,null,null,null,null,null,null,"","",""]
[null,null,null,null,null,null,null,"","",""]
[null,null,null,null,null,null,null,"","",""]
[null,null,null,null,null,null,null,"","",""]
[null,null,null,null,null,null,null,"","",""]
[null,null,null,null,null,null,null,"","",""]
[null,null,null,null,null,null,null,"","",""]
[null,null,null,null,null,null,null,"","",""]
[null,null,null,null,null,null,null,"","",""]
[null,null,null,null,null,null,null,"","",""]
[null,null,null,null,null,null,null,"","",""]
[null,null,null,null,null,null,null,"","",""]
[null,null,null,null,null,null,null,"","",""]
[null,null,null,null,null,null,null,"","",""]
[null,null,null,null,null,null,null,"","",""]
[null,null,null,null,null,null,null,"","",""]
[null,null,null,null,null,null,null,"","",""]
[null,null,null,null,null,null,null,"","",""]
[null,null,null,null,null,null,null,"","",""]
[null,null,null,null,null,null,null,"","",""]
[null,null,null,null,null,null,null,"","",""]
[null,null,null,null,null,null,null,"","",""]
[null,null,null,null,null,null,null,"","",""]
[null,null,null,null,null,null,null,"","",""]
[null,null,null,null,null,null,null,"","",""]
[null,null,null,null,null,null,null,"","",""]
[null,null,null,null,null,null,null,"","",""]
[null,null,null,null,null,null,null,"","",""]
[null,null,null,null,null,null,null,"","",""]
[null,null,null,null,null,null,null,"","",""]
[null,null,null,null,null,null,null,"","",""]
[null,null,null,null,null,null,null,"","",""]
[null,null,null,null,null,null,null,"","",""]
[null,null,null,null,null,null,null,"","",""]
[null,null,null,null,null,null,null,"","",""]
[null,null,null,null,null,null,null,"","",""]
[null,null,null,null,null,null,null,"","",""]
[null,null,null,null,null,null,null,"","",""]
[null,null,null,null,null,null,null,"","",""]
[null,null,null,null,null,null,null,"","",""]
[null,null,null,null,null,null,null,"","",""]
[null,null,null,null,null,null,null,"","",""]
[null,null,null,null,null,null,null,"","",""]
[null,null,null,null,null,null,null,"","",""]
[null,null,null,null,null,null,null,"","",""]
[null,null,null,null,null,null,null,"","",""]
[null,null,null,null,null,null,null,"","",""]
[null,null,null,null,null,null,null,"","",""]
[null,null,null,null,null,null,null,"","",""]
[null,null,null,null,null,null,null,"","",""]
[null,null,null,null,null,null,null,"","",""]
[null,null,null,null,null,null,null,"","",""]
[null,null,null,null,null,null,null,"","",""]
[null,null,null,null,null,null,null,"","",""]
[null,null,null,null,null,null,null,"","",""]
[null,null,null,null,null,null,null,{"$f":"IF(G1553<>\"\",G1553/12,\"\")","v":""},{"$f":"IF(G1553<>\"\",8,\"\")","v":""},{"$f":"IF(I1553<>\"\",I1553/12,\"\")","v":""}]
[null,null,null,null,null,null,null,"","",""]
[null,null,null,null,null,null,null,"","",""]
[null,null,null,null,null,null,null,"","",""]
[null,null,null,null,null,null,null,"","",""]
[null,null,null,null,null,null,null,"","",""]
[null,null,null,null,null,null,null,"","",""]
[null,null,null,null,null,null,null,"","",""]
[null,null,null,null,null,null,null,"","",""]
[null,null,null,null,null,null,null,"","",""]
[null,null,null,null,null,null,null,"","",""]
[null,null,null,null,null,null,null,"","",""]
[null,null,null,null,null,null,null,"","",""]
[null,null,null,null,null,null,null,"","",""]
[null,null,null,null,null,null,null,"","",""]
[null,null,null,null,null,null,null,"","",""]
[null,null,null,null,null,null,null,"","",""]
[null,null,null,null,null,null,null,"","",""]
[null,null,null,null,null,null,null,"","",""]
[null,null,null,null,null,null,null,"","",""]
[null,null,null,null,null,null,null,"","",""]
[null,null,null,null,null,null,null,"","",""]
[null,null,null,null,null,null,null,"","",""]
[null,null,null,null,null,null,null,"","",""]
[null,null,null,null,null,null,null,"","",""]
[null,null,null,null,null,null,null,"","",""]
[null,null,null,null,null,null,null,"","",""]
[null,null,null,null,null,null,null,"","",""]
[null,null,null,null,null,null,null,"","",""]
[null,null,null,null,null,null,null,"","",""]
[null,null,null,null,null,null,null,"","",""]
[null,null,null,null,null,null,null,"","",""]
[null,null,null,null,null,null,null,"","",""]
[null,null,null,null,null,null,null,"","",""]
[null,null,null,null,null,null,null,"","",""]
[null,null,null,null,null,null,null,"","",""]
[null,null,null,null,null,null,null,"","",""]
[null,null,null,null,null,null,null,"","",""]
[null,null,null,null,null,null,null,"","",""]
[null,null,null,null,null,null,null,"","",""]
[null,null,null,null,null,null,null,"","",""]
[null,null,null,null,null,null,null,"","",""]
[null,null,null,null,null,null,null,"","",""]
[null,null,null,null,null,null,null,"","",""]
[null,null,null,null,null,null,null,"","",""]
[null,null,null,null,null,null,null,"","",""]
[null,null,null,null,null,null,null,"","",""]
[null,null,null,null,null,null,null,"","",""]
[null,null,null,null,null,null,null,"","",""]
[null,null,null,null,null,null,null,"","",""]
[null,null,null,null,null,null,null,"","",""]
[null,null,null,null,null,null,null,"","",""]
[null,null,null,null,null,null,null,"","",""]
[null,null,null,null,null,null,null,"","",""]
[null,null,null,null,null,null,null,"","",""]
[null,null,null,null,null,null,null,"","",""]
[null,null,null,null,null,null,null,"","",""]
[null,null,null,null,null,null,null,"","",""]
[null,null,null,null,null,null,null,"","",""]
[null,null,null,null,null,null,null,"","",""]
[null,null,null,null,null,null,null,"","",""]
[null,null,null,null,null,null,null,"","",""]
[null,null,null,null,null,null,null,"","",""]
[null,null,null,null,null,null,null,"","",""]
[null,null,null,null,null,null,null,{"$f":"IF(G1617<>\"\",G1617/12,\"\")","v":""},{"$f":"IF(G1617<>\"\",8,\"\")","v":""},{"$f":"IF(I1617<>\"\",I1617/12,\"\")","v":""}]
[null,null,null,null,null,null,null,"","",""]
[null,null,null,null,null,null,null,"","",""]
[null,null,null,null,null,null,null,"","",""]
[null,null,null,null,null,null,null,"","",""]
[null,null,null,null,null,null,null,"","",""]
[null,null,null,null,null,null,null,"","",""]
[null,null,null,null,null,null,null,"","",""]
[null,null,null,null,null,null,null,"","",""]
[null,null,null,null,null,null,null,"","",""]
[null,null,null,null,null,null,null,"","",""]
[null,null,null,null,null,null,null,"","",""]
[null,null,null,null,null,null,null,"","",""]
[null,null,null,null,null,null,null,"","",""]
[null,null,null,null,null,null,null,"","",""]
[null,null,null,null,null,null,null,"","",""]
[null,null,null,null,null,null,null,"","",""]
[null,null,null,null,null,null,null,"","",""]
[null,null,null,null,null,null,null,"","",""]
[null,null,null,null,null,null,null,"","",""]
[null,null,null,null,null,null,null,"","",""]
[null,null,null,null,null,null,null,"","",""]
[null,null,null,null,null,null,null,"","",""]
[null,null,null,null,null,null,null,"","",""]
[null,null,null,null,null,null,null,"","",""]
[null,null,null,null,null,null,null,"","",""]
[null,null,null,null,null,null,null,"","",""]
[null,null,null,null,null,null,null,"","",""]
[null,null,null,null,null,null,null,"","",""]
[null,null,null,null,null,null,null,"","",""]
[null,null,null,null,null,null,null,"","",""]
[null,null,null,null,null,null,null,"","",""]
[null,null,null,null,null,null,null,"","",""]
[null,null,null,null,null,null,null,"","",""]
[null,null,null,null,null,null,null,"","",""]
[null,null,null,null,null,null,null,"","",""]
[null,null,null,null,null,null,null,"","",""]
[null,null,null,null,null,null,null,"","",""]
[null,null,null,null,null,null,null,"","",""]
[null,null,null,null,null,null,null,"","",""]
[null,null,null,null,null,null,null,"","",""]
[null,null,null,null,null,null,null,"","",""]
[null,null,null,null,null,null,null,"","",""]
[null,null,null,null,null,null,null,"","",""]
[null,null,null,null,null,null,null,"","",""]
[null,null,null,null,null,null,null,"","",""]
[null,null,null,null,null,null,null,"","",""]
[null,null,null,null,null,null,null,"","",""]
[null,null,null,null,null,null,null,"","",""]
[null,null,null,null,null,null,null,"","",""]
[null,null,null,null,null,null,null,"","",""]
[null,null,null,null,null,null,null,"","",""]
[null,null,null,null,null,null,null,"","",""]
[null,null,null,null,null,null,null,"","",""]
[null,null,null,null,null,null,null,"","",""]
[null,null,null,null,null,null,null,"","",""]
[null,null,null,null,null,null,null,"","",""]
[null,null,null,null,null,null,null,"","",""]
[null,null,null,null,null,null,null,"","",""]
[null,null,null,null,null,null,null,"","",""]
[null,null,null,null,null,null,null,"","",""]
[null,null,null,null,null,null,null,"","",""]
[null,null,null,null,null,null,null,"","",""]
[null,null,null,null,null,null,null,"","",""]
[null,null,null,null,null,null,null,{"$f":"IF(G1681<>\"\",G1681/12,\"\")","v":""},{"$f":"IF(G1681<>\"\",8,\"\")","v":""},{"$f":"IF(I1681<>\"\",I1681/12,\"\")","v":""}]
[null,null,null,null,null,null,null,"","",""]
[null,null,null,null,null,null,null,"","",""]
[null,null,null,null,null,null,null,"","",""]
[null,null,null,null,null,null,null,"","",""]
[null,null,null,null,null,null,null,"","",""]
[null,null,null,null,null,null,null,"","",""]
[null,null,null,null,null,null,null,"","",""]
[null,null,null,null,null,null,null,"","",""]
[null,null,null,null,null,null,null,"","",""]
[null,null,null,null,null,null,null,"","",""]
[null,null,null,null,null,null,null,"","",""]
[null,null,null,null,null,null,null,"","",""]
[null,null,null,null,null,null,null,"","",""]
[null,null,null,null,null,null,null,"","",""]
[null,null,null,null,null,null,null,"","",""]
[null,null,null,null,null,null,null,"","",""]
[null,null,null,null,null,null,null,"","",""]
[null,null,null,null,null,null,null,"","",""]
[null,null,null,null,null,null,null,"","",""]
[null,null,null,null,null,null,null,"","",""]
[null,null,null,null,null,null,null,"","",""]
[null,null,null,null,null,null,null,"","",""]
[null,null,null,null,null,null,null,"","",""]
[null,null,null,null,null,null,null,"","",""]
[null,null,null,null,null,null,null,"","",""]
[null,null,null,null,null,null,null,"","",""]
[null,null,null,null,null,null,null,"","",""]
[null,null,null,null,null,null,null,"","",""]
[null,null,null,null,null,null,null,"","",""]
[null,null,null,null,null,null,null,"","",""]
[null,null,null,null,null,null,null,"","",""]
[null,null,null,null,null,null,null,"","",""]
[null,null,null,null,null,null,null,"","",""]
[null,null,null,null,null,null,null,"","",""]
[null,null,null,null,null,null,null,"","",""]
[null,null,null,null,null,null,null,"","",""]
[null,null,null,null,null,null,null,"","",""]
[null,null,null,null,null,null,null,"","",""]
[null,null,null,null,null,null,null,"","",""]
[null,null,null,null,null,null,null,"","",""]
[null,null,null,null,null,null,null,"","",""]
[null,null,null,null,null,null,null,"","",""]
[null,null,null,null,null,null,null,"","",""]
[null,null,null,null,null,null,null,"","",""]
[null,null,null,null,null,null,null,"","",""]
[null,null,null,null,null,null,null,"","",""]
[null,null,null,null,null,null,null,"","",""]
[null,null,null,null,null,null,null,"","",""]
[null,null,null,null,null,null,null,"","",""]
[null,null,null,null,null,null,null,"","",""]
[null,null,null,null,null,null,null,"","",""]
[null,null,null,null,null,null,null,"","",""]
[null,null,null,null,null,null,null,"","",""]
[null,null,null,null,null,null,null,"","",""]
[null,null,null,null,null,null,null,"","",""]
[null,null,null,null,null,null,null,"","",""]
[null,null,null,null,null,null,null,"","",""]
[null,null,null,null,null,null,null,"","",""]
[null,null,null,null,null,null,null,"","",""]
[null,null,null,null,null,null,null,"","",""]
[null,null,null,null,null,null,null,"","",""]
[null,null,null,null,null,null,null,"","",""]
[null,null,null,null,null,null,null,"","",""]
[null,null,null,null,null,null,null,{"$f":"IF(G1745<>\"\",G1745/12,\"\")","v":""},{"$f":"IF(G1745<>\"\",8,\"\")","v":""},{"$f":"IF(I1745<>\"\",I1745/12,\"\")","v":""}]
[null,null,null,null,null,null,null,"","",""]
[null,null,null,null,null,null,null,"","",""]
[null,null,null,null,null,null,null,"","",""]
[null,null,null,null,null,null,null,"","",""]
[null,null,null,null,null,null,null,"","",""]
[null,null,null,null,null,null,null,"","",""]
[null,null,null,null,null,null,null,"","",""]
[null,null,null,null,null,null,null,"","",""]
[null,null,null,null,null,null,null,"","",""]
[null,null,null,null,null,null,null,"","",""]
[null,null,null,null,null,null,null,"","",""]
[null,null,null,null,null,null,null,"","",""]
[null,null,null,null,null,null,null,"","",""]
[null,null,null,null,null,null,null,"","",""]
[null,null,null,null,null,null,null,"","",""]
[null,null,null,null,null,null,null,"","",""]
[null,null,null,null,null,null,null,"","",""]
[null,null,null,null,null,null,null,"","",""]
[null,null,null,null,null,null,null,"","",""]
[null,null,null,null,null,null,null,"","",""]
[null,null,null,null,null,null,null,"","",""]
[null,null,null,null,null,null,null,"","",""]
[null,null,null,null,null,null,null,"","",""]
[null,null,null,null,null,null,null,"","",""]
[null,null,null,null,null,null,null,"","",""]
[null,null,null,null,null,null,null,"","",""]
[null,null,null,null,null,null,null,"","",""]
[null,null,null,null,null,null,null,"","",""]
[null,null,null,null,null,null,null,"","",""]
[null,null,null,null,null,null,null,"","",""]
[null,null,null,null,null,null,null,"","",""]
[null,null,null,null,null,null,null,"","",""]
[null,null,null,null,null,null,null,"","",""]
[null,null,null,null,null,null,null,"","",""]
[null,null,null,null,null,null,null,"","",""]
[null,null,null,null,null,null,null,"","",""]
[null,null,null,null,null,null,null,"","",""]
[null,null,null,null,null,null,null,"","",""]
[null,null,null,null,null,null,null,"","",""]
[null,null,null,null,null,null,null,"","",""]
[null,null,null,null,null,null,null,"","",""]
[null,null,null,null,null,null,null,"","",""]
[null,null,null,null,null,null,null,"","",""]
[null,null,null,null,null,null,null,"","",""]
[null,null,null,null,null,null,null,"","",""]
[null,null,null,null,null,null,null,"","",""]
[null,null,null,null,null,null,null,"","",""]
[null,null,null,null,null,null,null,"","",""]
[null,null,null,null,null,null,null,"","",""]
[null,null,null,null,null,null,null,"","",""]
[null,null,null,null,null,null,null,"","",""]
[null,null,null,null,null,null,null,"","",""]
[null,null,null,null,null,null,null,"","",""]
[null,null,null,null,null,null,null,"","",""]
[null,null,null,null,null,null,null,"","",""]
[null,null,null,null,null,null,null,"","",""]
[null,null,null,null,null,null,null,"","",""]
[null,null,null,null,null,null,null,"","",""]
[null,null,null,null,null,null,null,"","",""]
[null,null,null,null,null,null,null,"","",""]
[null,null,null,null,null,null,null,"","",""]
[null,null,null,null,null,null,null,"","",""]
[null,null,null,null,null,null,null,"","",""]
[null,null,null,null,null,null,null,{"$f":"IF(G1809<>\"\",G1809/12,\"\")","v":""},{"$f":"IF(G1809<>\"\",8,\"\")","v":""},{"$f":"IF(I1809<>\"\",I1809/12,\"\")","v":""}]
[null,null,null,null,null,null,null,"","",""]
[null,null,null,null,null,null,null,"","",""]
[null,null,null,null,null,null,null,"","",""]
[null,null,null,null,null,null,null,"","",""]
[null,null,null,null,null,null,null,"","",""]
[null,null,null,null,null,null,null,"","",""]
[null,null,null,null,null,null,null,"","",""]
[null,null,null,null,null,null,null,"","",""]
[null,null,null,null,null,null,null,"","",""]
[null,null,null,null,null,null,null,"","",""]
[null,null,null,null,null,null,null,"","",""]
[null,null,null,null,null,null,null,"","",""]
[null,null,null,null,null,null,null,"","",""]
[null,null,null,null,null,null,null,"","",""]
[null,null,null,null,null,null,null,"","",""]
[null,null,null,null,null,null,null,"","",""]
[null,null,null,null,null,null,null,"","",""]
[null,null,null,null,null,null,null,"","",""]
[null,null,null,null,null,null,null,"","",""]
[null,null,null,null,null,null,null,"","",""]
[null,null,null,null,null,null,null,"","",""]
[null,null,null,null,null,null,null,"","",""]
[null,null,null,null,null,null,null,"","",""]
[null,null,null,null,null,null,null,"","",""]
[null,null,null,null,null,null,null,"","",""]
[null,null,null,null,null,null,null,"","",""]
[null,null,null,null,null,null,null,"","",""]
[null,null,null,null,null,null,null,"","",""]
[null,null,null,null,null,null,null,"","",""]
[null,null,null,null,null,null,null,"","",""]
[null,null,null,null,null,null,null,"","",""]
[null,null,null,null,null,null,null,"","",""]
[null,null,null,null,null,null,null,"","",""]
[null,null,null,null,null,null,null,"","",""]
[null,null,null,null,null,null,null,"","",""]
[null,null,null,null,null,null,null,"","",""]
[null,null,null,null,null,null,null,"","",""]
[null,null,null,null,null,null,null,"","",""]
[null,null,null,null,null,null,null,"","",""]
[null,null,null,null,null,null,null,"","",""]
[null,null,null,null,null,null,null,"","",""]
[null,null,null,null,null,null,null,"","",""]
[null,null,null,null,null,null,null,"","",""]
[null,null,null,null,null,null,null,"","",""]
[null,null,null,null,null,null,null,"","",""]
[null,null,null,null,null,null,null,"","",""]
[null,null,null,null,null,null,null,"","",""]
[null,null,null,null,null,null,null,"","",""]
[null,null,null,null,null,null,null,"","",""]
[null,null,null,null,null,null,null,"","",""]
[null,null,null,null,null,null,null,"","",""]
[null,null,null,null,null,null,null,"","",""]
[null,null,null,null,null,null,null,"","",""]
[null,null,null,null,null,null,null,"","",""]
[null,null,null,null,null,null,null,"","",""]
[null,null,null,null,null,null,null,"","",""]
[null,null,null,null,null,null,null,"","",""]
[null,null,null,null,null,null,null,"","",""]
[null,null,null,null,null,null,null,"","",""]
[null,null,null,null,null,null,null,"","",""]
[null,null,null,null,null,null,null,"","",""]
[null,null,null,null,null,null,null,"","",""]
[null,null,null,null,null,null,null,"","",""]
[null,null,null,null,null,null,null,{"$f":"IF(G1873<>\"\",G1873/12,\"\")","v":""},{"$f":"IF(G1873<>\"\",8,\"\")","v":""},{"$f":"IF(I1873<>\"\",I1873/12,\"\")","v":""}]
[null,null,null,null,null,null,null,"","",""]
[null,null,null,null,null,null,null,"","",""]
[null,null,null,null,null,null,null,"","",""]
[null,null,null,null,null,null,null,"","",""]
[null,null,null,null,null,null,null,"","",""]
[null,null,null,null,null,null,null,"","",""]
[null,null,null,null,null,null,null,"","",""]
[null,null,null,null,null,null,null,"","",""]
[null,null,null,null,null,null,null,"","",""]
[null,null,null,null,null,null,null,"","",""]
[null,null,null,null,null,null,null,"","",""]
[null,null,null,null,null,null,null,"","",""]
[null,null,null,null,null,null,null,"","",""]
[null,null,null,null,null,null,null,"","",""]
[null,null,null,null,null,null,null,"","",""]
[null,null,null,null,null,null,null,"","",""]
[null,null,null,null,null,null,null,"","",""]
[null,null,null,null,null,null,null,"","",""]
[null,null,null,null,null,null,null,"","",""]
[null,null,null,null,null,null,null,"","",""]
[null,null,null,null,null,null,null,"","",""]
[null,null,null,null,null,null,null,"","",""]
[null,null,null,null,null,null,null,"","",""]
[null,null,null,null,null,null,null,"","",""]
[null,null,null,null,null,null,null,"","",""]
[null,null,null,null,null,null,null,"","",""]
[null,null,null,null,null,null,null,"","",""]
[null,null,null,null,null,null,null,"","",""]
[null,null,null,null,null,null,null,"","",""]
[null,null,null,null,null,null,null,"","",""]
[null,null,null,null,null,null,null,"","",""]
[null,null,null,null,null,null,null,"","",""]
[null,null,null,null,null,null,null,"","",""]
[null,null,null,null,null,null,null,"","",""]
[null,null,null,null,null,null,null,"","",""]
[null,null,null,null,null,null,null,"","",""]
[null,null,null,null,null,null,null,"","",""]
[null,null,null,null,null,null,null,"","",""]
[null,null,null,null,null,null,null,"","",""]
[null,null,null,null,null,null,null,"","",""]
[null,null,null,null,null,null,null,"","",""]
[null,null,null,null,null,null,null,"","",""]
[null,null,null,null,null,null,null,"","",""]
[null,null,null,null,null,null,null,"","",""]
[null,null,null,null,null,null,null,"","",""]
[null,null,null,null,null,null,null,"","",""]
[null,null,null,null,null,null,null,"","",""]
[null,null,null,null,null,null,null,"","",""]
[null,null,null,null,null,null,null,"","",""]
[null,null,null,null,null,null,null,"","",""]
[null,null,null,null,null,null,null,"","",""]
[null,null,null,null,null,null,null,"","",""]
[null,null,null,null,null,null,null,"","",""]
[null,null,null,null,null,null,null,"","",""]
[null,null,null,null,null,null,null,"","",""]
[null,null,null,null,null,null,null,"","",""]
[null,null,null,null,null,null,null,"","",""]
[null,null,null,null,null,null,null,"","",""]
[null,null,null,null,null,null,null,"","",""]
[null,null,null,null,null,null,null,"","",""]
[null,null,null,null,null,null,null,"","",""]
[null,null,null,null,null,null,null,"","",""]
[null,null,null,null,null,null,null,"","",""]
[null,null,null,null,null,null,null,{"$f":"IF(G1937<>\"\",G1937/12,\"\")","v":""},{"$f":"IF(G1937<>\"\",8,\"\")","v":""},{"$f":"IF(I1937<>\"\",I1937/12,\"\")","v":""}]
[null,null,null,null,null,null,null,"","",""]
[null,null,null,null,null,null,null,"","",""]
[null,null,null,null,null,null,null,"","",""]
[null,null,null,null,null,null,null,"","",""]
[null,null,null,null,null,null,null,"","",""]
[null,null,null,null,null,null,null,"","",""]
[null,null,null,null,null,null,null,"","",""]
[null,null,null,null,null,null,null,"","",""]
[null,null,null,null,null,null,null,"","",""]
[null,null,null,null,null,null,null,"","",""]
[null,null,null,null,null,null,null,"","",""]
[null,null,null,null,null,null,null,"","",""]
[null,null,null,null,null,null,null,"","",""]
[null,null,null,null,null,null,null,"","",""]
[null,null,null,null,null,null,null,"","",""]
[null,null,null,null,null,null,null,"","",""]
[null,null,null,null,null,null,null,"","",""]
[null,null,null,null,null,null,null,"","",""]
[null,null,null,null,null,null,null,"","",""]
[null,null,null,null,null,null,null,"","",""]
[null,null,null,null,null,null,null,"","",""]
[null,null,null,null,null,null,null,"","",""]
[null,null,null,null,null,null,null,"","",""]
[null,null,null,null,null,null,null,"","",""]
[null,null,null,null,null,null,null,"","",""]
[null,null,null,null,null,null,null,"","",""]
[null,null,null,null,null,null,null,"","",""]
[null,null,null,null,null,null,null,"","",""]
[null,null,null,null,null,null,null,"","",""]
[null,null,null,null,null,null,null,"","",""]
[null,null,null,null,null,null,null,"","",""]
[null,null,null,null,null,null,null,"","",""]
[null,null,null,null,null,null,null,"","",""]
[null,null,null,null,null,null,null,"","",""]
[null,null,null,null,null,null,null,"","",""]
[null,null,null,null,null,null,null,"","",""]
[null,null,null,null,null,null,null,"","",""]
[null,null,null,null,null,null,null,"","",""]
[null,null,null,null,null,null,null,"","",""]
[null,null,null,null,null,null,null,"","",""]
[null,null,null,null,null,null,null,"","",""]
[null,null,null,null,null,null,null,"","",""]
[null,null,null,null,null,null,null,"","",""]
[null,null,null,null,null,null,null,"","",""]
[null,null,null,null,null,null,null,"","",""]
[null,null,null,null,null,null,null,"","",""]
[null,null,null,null,null,null,null,"","",""]
[null,null,null,null,null,null,null,"","",""]
[null,null,null,null,null,null,null,"","",""]
[null,null,null,null,null,null,null,"","",""]
[null,null,null,null,null,null,null,"","",""]
[null,null,null,null,null,null,null,"","",""]
[null,null,null,null,null,null,null,"","",""]
[null,null,null,null,null,null,null,"","",""]
[null,null,null,null,null,null,null,"","",""]
[null,null,null,null,null,null,null,"","",""]
[null,null,null,null,null,null,null,"","",""]
[null,null,null,null,null,null,null,"","",""]
[null,null,null,null,null,null,null,"","",""]
[null,null,null,null,null,null,null,"","",""]
[null,null,null,null,null,null,null,"","",""]
[null,null,null,null,null,null,null,"","",""]
[null,null,null,null,null,null,null,"","",""]
[null,null,null,null,null,null,null,{"$f":"IF(G2001<>\"\",G2001/12,\"\")","v":""},{"$f":"IF(G2001<>\"\",8,\"\")","v":""},{"$f":"IF(I2001<>\"\",I2001/12,\"\")","v":""}]
[null,null,null,null,null,null,null,"","",""]
[null,null,null,null,null,null,null,"","",""]
[null,null,null,null,null,null,null,"","",""]
[null,null,null,null,null,null,null,"","",""]
[null,null,null,null,null,null,null,"","",""]
[null,null,null,null,null,null,null,"","",""]
[null,null,null,null,null,null,null,"","",""]
[null,null,null,null,null,null,null,"","",""]
[null,null,null,null,null,null,null,"","",""]
[null,null,null,null,null,null,null,"","",""]
[null,null,null,null,null,null,null,"","",""]
[null,null,null,null,null,null,null,"","",""]
[null,null,null,null,null,null,null,"","",""]
[null,null,null,null,null,null,null,"","",""]
[null,null,null,null,null,null,null,"","",""]
[null,null,null,null,null,null,null,"","",""]
[null,null,null,null,null,null,null,"","",""]
[null,null,null,null,null,null,null,"","",""]
[null,null,null,null,null,null,null,"","",""]
[null,null,null,null,null,null,null,"","",""]
[null,null,null,null,null,null,null,"","",""]
[null,null,null,null,null,null,null,"","",""]
[null,null,null,null,null,null,null,"","",""]
[null,null,null,null,null,null,null,"","",""]
[null,null,null,null,null,null,null,"","",""]
[null,null,null,null,null,null,null,"","",""]
[null,null,null,null,null,null,null,"","",""]
[null,null,null,null,null,null,null,"","",""]
[null,null,null,null,null,null,null,"","",""]
[null,null,null,null,null,null,null,"","",""]
[null,null,null,null,null,null,null,"","",""]
[null,null,null,null,null,null,null,"","",""]
[null,null,null,null,null,null,null,"","",""]
[null,null,null,null,null,null,null,"","",""]
[null,null,null,null,null,null,null,"","",""]
[null,null,null,null,null,null,null,"","",""]
[null,null,null,null,null,null,null,"","",""]
[null,null,null,null,null,null,null,"","",""]
[null,null,null,null,null,null,null,"","",""]
[null,null,null,null,null,null,null,"","",""]
[null,null,null,null,null,null,null,"","",""]
[null,null,null,null,null,null,null,"","",""]
[null,null,null,null,null,null,null,"","",""]
[null,null,null,null,null,null,null,"","",""]
[null,null,null,null,null,null,null,"","",""]
[null,null,null,null,null,null,null,"","",""]
[null,null,null,null,null,null,null,"","",""]
[null,null,null,null,null,null,null,"","",""]
[null,null,null,null,null,null,null,"","",""]
[null,null,null,null,null,null,null,"","",""]
[null,null,null,null,null,null,null,"","",""]
[null,null,null,null,null,null,null,"","",""]
[null,null,null,null,null,null,null,"","",""]
[null,null,null,null,null,null,null,"","",""]
[null,null,null,null,null,null,null,"","",""]
[null,null,null,null,null,null,null,"","",""]
[null,null,null,null,null,null,null,"","",""]
[null,null,null,null,null,null,null,"","",""]
[null,null,null,null,null,null,null,"","",""]
[null,null,null,null,null,null,null,"","",""]
[null,null,null,null,null,null,null,"","",""]
[null,null,null,null,null,null,null,"","",""]
[null,null,null,null,null,null,null,"","",""]
[null,null,null,null,null,null,null,{"$f":"IF(G2065<>\"\",G2065/12,\"\")","v":""},{"$f":"IF(G2065<>\"\",8,\"\")","v":""},{"$f":"IF(I2065<>\"\",I2065/12,\"\")","v":""}]
[null,null,null,null,null,null,null,"","",""]
[null,null,null,null,null,null,null,"","",""]
[null,null,null,null,null,null,null,"","",""]
[null,null,null,null,null,null,null,"","",""]
[null,null,null,null,null,null,null,"","",""]
[null,null,null,null,null,null,null,"","",""]
[null,null,null,null,null,null,null,"","",""]
[null,null,null,null,null,null,null,"","",""]
[null,null,null,null,null,null,null,"","",""]
[null,null,null,null,null,null,null,"","",""]
[null,null,null,null,null,null,null,"","",""]
[null,null,null,null,null,null,null,"","",""]
[null,null,null,null,null,null,null,"","",""]
[null,null,null,null,null,null,null,"","",""]
[null,null,null,null,null,null,null,"","",""]
[null,null,null,null,null,null,null,"","",""]
[null,null,null,null,null,null,null,"","",""]
[null,null,null,null,null,null,null,"","",""]
[null,null,null,null,null,null,null,"","",""]
[null,null,null,null,null,null,null,"","",""]
[null,null,null,null,null,null,null,"","",""]
[null,null,null,null,null,null,null,"","",""]
[null,null,null,null,null,null,null,"","",""]
[null,null,null,null,null,null,null,"","",""]
[null,null,null,null,null,null,null,"","",""]
[null,null,null,null,null,null,null,"","",""]
[null,null,null,null,null,null,null,"","",""]
[null,null,null,null,null,null,null,"","",""]
[null,null,null,null,null,null,null,"","",""]
[null,null,null,null,null,null,null,"","",""]
[null,null,null,null,null,null,null,"","",""]
[null,null,null,null,null,null,null,"","",""]
[null,null,null,null,null,null,null,"","",""]
[null,null,null,null,null,null,null,"","",""]
[null,null,null,null,null,null,null,"","",""]
[null,null,null,null,null,null,null,"","",""]
[null,null,null,null,null,null,null,"","",""]
[null,null,null,null,null,null,null,"","",""]
[null,null,null,null,null,null,null,"","",""]
[null,null,null,null,null,null,null,"","",""]
[null,null,null,null,null,null,null,"","",""]
[null,null,null,null,null,null,null,"","",""]
[null,null,null,null,null,null,null,"","",""]
[null,null,null,null,null,null,null,"","",""]
[null,null,null,null,null,null,null,"","",""]
[null,null,null,null,null,null,null,"","",""]
[null,null,null,null,null,null,null,"","",""]
[null,null,null,null,null,null,null,"","",""]
[null,null,null,null,null,null,null,"","",""]
[null,null,null,null,null,null,null,"","",""]
[null,null,null,null,null,null,null,"","",""]
[null,null,null,null,null,null,null,"","",""]
[null,null,null,null,null,null,null,"","",""]
[null,null,null,null,null,null,null,"","",""]
[null,null,null,null,null,null,null,"","",""]
[null,null,null,null,null,null,null,"","",""]
[null,null,null,null,null,null,null,"","",""]
[null,null,null,null,null,null,null,"","",""]
[null,null,null,null,null,null,null,"","",""]
[null,null,null,null,null,null,null,"","",""]
[null,null,null,null,null,null,null,"","",""]
[null,null,null,null,null,null,null,"","",""]
[null,null,null,null,null,null,null,"","",""]
[null,null,null,null,null,null,null,{"$f":"IF(G2129<>\"\",G2129/12,\"\")","v":""},{"$f":"IF(G2129<>\"\",8,\"\")","v":""},{"$f":"IF(I2129<>\"\",I2129/12,\"\")","v":""}]
[null,null,null,null,null,null,null,"","",""]
[null,null,null,null,null,null,null,"","",""]
[null,null,null,null,null,null,null,"","",""]
[null,null,null,null,null,null,null,"","",""]
[null,null,null,null,null,null,null,"","",""]
[null,null,null,null,null,null,null,"","",""]
[null,null,null,null,null,null,null,"","",""]
[null,null,null,null,null,null,null,"","",""]
[null,null,null,null,null,null,null,"","",""]
[null,null,null,null,null,null,null,"","",""]
[null,null,null,null,null,null,null,"","",""]
[null,null,null,null,null,null,null,"","",""]
[null,null,null,null,null,null,null,"","",""]
[null,null,null,null,null,null,null,"","",""]
[null,null,null,null,null,null,null,"","",""]
[null,null,null,null,null,null,null,"","",""]
[null,null,null,null,null,null,null,"","",""]
[null,null,null,null,null,null,null,"","",""]
[null,null,null,null,null,null,null,"","",""]
[null,null,null,null,null,null,null,"","",""]
[null,null,null,null,null,null,null,"","",""]
[null,null,null,null,null,null,null,"","",""]
[null,null,null,null,null,null,null,"","",""]
[null,null,null,null,null,null,null,"","",""]
[null,null,null,null,null,null,null,"","",""]
[null,null,null,null,null,null,null,"","",""]
[null,null,null,null,null,null,null,"","",""]
[null,null,null,null,null,null,null,"","",""]
[null,null,null,null,null,null,null,"","",""]
[null,null,null,null,null,null,null,"","",""]
[null,null,null,null,null,null,null,"","",""]
[null,null,null,null,null,null,null,"","",""]
[null,null,null,null,null,null,null,"","",""]
[null,null,null,null,null,null,null,"","",""]
[null,null,null,null,null,null,null,"","",""]
[null,null,null,null,null,null,null,"","",""]
[null,null,null,null,null,null,null,"","",""]
[null,null,null,null,null,null,null,"","",""]
[null,null,null,null,null,null,null,"","",""]
[null,null,null,null,null,null,null,"","",""]
[null,null,null,null,null,null,null,"","",""]
[null,null,null,null,null,null,null,"","",""]
[null,null,null,null,null,null,null,"","",""]
[null,null,null,null,null,null,null,"","",""]
[null,null,null,null,null,null,null,"","",""]
[null,null,null,null,null,null,null,"","",""]
[null,null,null,null,null,null,null,"","",""]
[null,null,null,null,null,null,null,"","",""]
[null,null,null,null,null,null,null,"","",""]
[null,null,null,null,null,null,null,"","",""]
[null,null,null,null,null,null,null,"","",""]
[null,null,null,null,null,null,null,"","",""]
[null,null,null,null,null,null,null,"","",""]
[null,null,null,null,null,null,null,"","",""]
[null,null,null,null,null,null,null,"","",""]
[null,null,null,null,null,null,null,"","",""]
[null,null,null,null,null,null,null,"","",""]
[null,null,null,null,null,null,null,"","",""]
[null,null,null,null,null,null,null,"","",""]
[null,null,null,null,null,null,null,"","",""]
[null,null,null,null,null,null,null,"","",""]
[null,null,null,null,null,null,null,"","",""]
[null,null,null,null,null,null,null,"","",""]
[null,null,null,null,null,null,null,{"$f":"IF(G2193<>\"\",G2193/12,\"\")","v":""},{"$f":"IF(G2193<>\"\",8,\"\")","v":""},{"$f":"IF(I2193<>\"\",I2193/12,\"\")","v":""}]
[null,null,null,null,null,null,null,"","",""]
[null,null,null,null,null,null,null,"","",""]
[null,null,null,null,null,null,null,"","",""]
[null,null,null,null,null,null,null,"","",""]
[null,null,null,null,null,null,null,"","",""]
[null,null,null,null,null,null,null,"","",""]
[null,null,null,null,null,null,null,"","",""]
[null,null,null,null,null,null,null,"","",""]
[null,null,null,null,null,null,null,"","",""]
[null,null,null,null,null,null,null,"","",""]
[null,null,null,null,null,null,null,"","",""]
[null,null,null,null,null,null,null,"","",""]
[null,null,null,null,null,null,null,"","",""]
[null,null,null,null,null,null,null,"","",""]
[null,null,null,null,null,null,null,"","",""]
[null,null,null,null,null,null,null,"","",""]
[null,null,null,null,null,null,null,"","",""]
[null,null,null,null,null,null,null,"","",""]
[null,null,null,null,null,null,null,"","",""]
[null,null,null,null,null,null,null,"","",""]
[null,null,null,null,null,null,null,"","",""]
[null,null,null,null,null,null,null,"","",""]
[null,null,null,null,null,null,null,"","",""]
[null,null,null,null,null,null,null,"","",""]
[null,null,null,null,null,null,null,"","",""]
[null,null,null,null,null,null,null,"","",""]
[null,null,null,null,null,null,null,"","",""]
[null,null,null,null,null,null,null,"","",""]
[null,null,null,null,null,null,null,"","",""]
[null,null,null,null,null,null,null,"","",""]
[null,null,null,null,null,null,null,"","",""]
[null,null,null,null,null,null,null,"","",""]
[null,null,null,null,null,null,null,"","",""]
[null,null,null,null,null,null,null,"","",""]
[null,null,null,null,null,null,null,"","",""]
[null,null,null,null,null,null,null,"","",""]
[null,null,null,null,null,null,null,"","",""]
[null,null,null,null,null,null,null,"","",""]
[null,null,null,null,null,null,null,"","",""]
[null,null,null,null,null,null,null,"","",""]
[null,null,null,null,null,null,null,"","",""]
[null,null,null,null,null,null,null,"","",""]
[null,null,null,null,null,null,null,"","",""]
[null,null,null,null,null,null,null,"","",""]
[null,null,null,null,null,null,null,"","",""]
[null,null,null,null,null,null,null,"","",""]
[null,null,null,null,null,null,null,"","",""]
[null,null,null,null,null,null,null,"","",""]
[null,null,null,null,null,null,null,"","",""]
[null,null,null,null,null,null,null,"","",""]
[null,null,null,null,null,null,null,"","",""]
[null,null,null,null,null,null,null,"","",""]
[null,null,null,null,null,null,null,"","",""]
[null,null,null,null,null,null,null,"","",""]
[null,null,null,null,null,null,null,"","",""]
[null,null,null,null,null,null,null,"","",""]
[null,null,null,null,null,null,null,"","",""]
[null,null,null,null,null,null,null,"","",""]
[null,null,null,null,null,null,null,"","",""]
[null,null,null,null,null,null,null,"","",""]
[null,null,null,null,null,null,null,"","",""]
[null,null,null,null,null,null,null,"","",""]
[null,null,null,null,null,null,null,"","",""]
[null,null,null,null,null,null,null,{"$f":"IF(G2257<>\"\",G2257/12,\"\")","v":""},{"$f":"IF(G2257<>\"\",8,\"\")","v":""},{"$f":"IF(I2257<>\"\",I2257/12,\"\")","v":""}]
[null,null,null,null,null,null,null,"","",""]
[null,null,null,null,null,null,null,"","",""]
[null,null,null,null,null,null,null,"","",""]
[null,null,null,null,null,null,null,"","",""]
[null,null,null,null,null,null,null,"","",""]
[null,null,null,null,null,null,null,"","",""]
[null,null,null,null,null,null,null,"","",""]
[null,null,null,null,null,null,null,"","",""]
[null,null,null,null,null,null,null,"","",""]
[null,null,null,null,null,null,null,"","",""]
[null,null,null,null,null,null,null,"","",""]
[null,null,null,null,null,null,null,"","",""]
[null,null,null,null,null,null,null,"","",""]
[null,null,null,null,null,null,null,"","",""]
[null,null,null,null,null,null,null,"","",""]
[null,null,null,null,null,null,null,"","",""]
[null,null,null,null,null,null,null,"","",""]
[null,null,null,null,null,null,null,"","",""]
[null,null,null,null,null,null,null,"","",""]
[null,null,null,null,null,null,null,"","",""]
[null,null,null,null,null,null,null,"","",""]
[null,null,null,null,null,null,null,"","",""]
[null,null,null,null,null,null,null,"","",""]
[null,null,null,null,null,null,null,"","",""]
[null,null,null,null,null,null,null,"","",""]
[null,null,null,null,null,null,null,"","",""]
[null,null,null,null,null,null,null,"","",""]
[null,null,null,null,null,null,null,"","",""]
[null,null,null,null,null,null,null,"","",""]
[null,null,null,null,null,null,null,"","",""]
[null,null,null,null,null,null,null,"","",""]
[null,null,null,null,null,null,null,"","",""]
[null,null,null,null,null,null,null,"","",""]
[null,null,null,null,null,null,null,"","",""]
[null,null,null,null,null,null,null,"","",""]
[null,null,null,null,null,null,null,"","",""]
[null,null,null,null,null,null,null,"","",""]
[null,null,null,null,null,null,null,"","",""]
[null,null,null,null,null,null,null,"","",""]
[null,null,null,null,null,null,null,"","",""]
[null,null,null,null,null,null,null,"","",""]
[null,null,null,null,null,null,null,"","",""]
[null,null,null,null,null,null,null,"","",""]
[null,null,null,null,null,null,null,"","",""]
[null,null,null,null,null,null,null,"","",""]
[null,null,null,null,null,null,null,"","",""]
[null,null,null,null,null,null,null,"","",""]
[null,null,null,null,null,null,null,"","",""]
[null,null,null,null,null,null,null,"","",""]
[null,null,null,null,null,null,null,"","",""]
[null,null,null,null,null,null,null,"","",""]
[null,null,null,null,null,null,null,"","",""]
[null,null,null,null,null,null,null,"","",""]
[null,null,null,null,null,null,null,"","",""]
[null,null,null,null,null,null,null,"","",""]
[null,null,null,null,null,null,null,"","",""]
[null,null,null,null,null,null,null,"","",""]
[null,null,null,null,null,null,null,"","",""]
[null,null,null,null,null,null,null,"","",""]
[null,null,null,null,null,null,null,"","",""]
[null,null,null,null,null,null,null,"","",""]
[null,null,null,null,null,null,null,"","",""]
[null,null,null,null,null,null,null,"","",""]
[null,null,null,null,null,null,null,{"$f":"IF(G2321<>\"\",G2321/12,\"\")","v":""},{"$f":"IF(G2321<>\"\",8,\"\")","v":""},{"$f":"IF(I2321<>\"\",I2321/12,\"\")","v":""}]
[null,null,null,null,null,null,null,"","",""]
[null,null,null,null,null,null,null,"","",""]
[null,null,null,null,null,null,null,"","",""]
[null,null,null,null,null,null,null,"","",""]
[null,null,null,null,null,null,null,"","",""]
[null,null,null,null,null,null,null,"","",""]
[null,null,null,null,null,null,null,"","",""]
[null,null,null,null,null,null,null,"","",""]
[null,null,null,null,null,null,null,"","",""]
[null,null,null,null,null,null,null,"","",""]
[null,null,null,null,null,null,null,"","",""]
[null,null,null,null,null,null,null,"","",""]
[null,null,null,null,null,null,null,"","",""]
[null,null,null,null,null,null,null,"","",""]
[null,null,null,null,null,null,null,"","",""]
[null,null,null,null,null,null,null,"","",""]
[null,null,null,null,null,null,null,"","",""]
[null,null,null,null,null,null,null,"","",""]
[null,null,null,null,null,null,null,"","",""]
[null,null,null,null,null,null,null,"","",""]
[null,null,null,null,null,null,null,"","",""]
[null,null,null,null,null,null,null,"","",""]
[null,null,null,null,null,null,null,"","",""]
[null,null,null,null,null,null,null,"","",""]
[null,null,null,null,null,null,null,"","",""]
[null,null,null,null,null,null,null,"","",""]
[null,null,null,null,null,null,null,"","",""]
[null,null,null,null,null,null,null,"","",""]
[null,null,null,null,null,null,null,"","",""]
[null,null,null,null,null,null,null,"","",""]
[null,null,null,null,null,null,null,"","",""]
[null,null,null,null,null,null,null,"","",""]
[null,null,null,null,null,null,null,"","",""]
[null,null,null,null,null,null,null,"","",""]
[null,null,null,null,null,null,null,"","",""]
[null,null,null,null,null,null,null,"","",""]
[null,null,null,null,null,null,null,"","",""]
[null,null,null,null,null,null,null,"","",""]
[null,null,null,null,null,null,null,"","",""]
[null,null,null,null,null,null,null,"","",""]
[null,null,null,null,null,null,null,"","",""]
[null,null,null,null,null,null,null,"","",""]
[null,null,null,null,null,null,null,"","",""]
[null,null,null,null,null,null,null,"","",""]
[null,null,null,null,null,null,null,"","",""]
[null,null,null,null,null,null,null,"","",""]
[null,null,null,null,null,null,null,"","",""]
[null,null,null,null,null,null,null,"","",""]
[null,null,null,null,null,null,null,"","",""]
[null,null,null,null,null,null,null,"","",""]
[null,null,null,null,null,null,null,"","",""]
[null,null,null,null,null,null,null,"","",""]
[null,null,null,null,null,null,null,"","",""]
[null,null,null,null,null,null,null,"","",""]
[null,null,null,null,null,null,null,"","",""]
[null,null,null,null,null,null,null,"","",""]
[null,null,null,null,null,null,null,"","",""]
[null,null,null,null,null,null,null,"","",""]
[null,null,null,null,null,null,null,"","",""]
[null,null,null,null,null,null,null,"","",""]
[null,null,null,null,null,null,null,"","",""]
[null,null,null,null,null,null,null,"","",""]
[null,null,null,null,null,null,null,"","",""]
[null,null,null,null,null,null,null,{"$f":"IF(G2385<>\"\",G2385/12,\"\")","v":""},{"$f":"IF(G2385<>\"\",8,\"\")","v":""},{"$f":"IF(I2385<>\"\",I2385/12,\"\")","v":""}]
[null,null,null,null,null,null,null,"","",""]
[null,null,null,null,null,null,null,"","",""]
[null,null,null,null,null,null,null,"","",""]
[null,null,null,null,null,null,null,"","",""]
[null,null,null,null,null,null,null,"","",""]
[null,null,null,null,null,null,null,"","",""]
[null,null,null,null,null,null,null,"","",""]
[null,null,null,null,null,null,null,"","",""]
[null,null,null,null,null,null,null,"","",""]
[null,null,null,null,null,null,null,"","",""]
[null,null,null,null,null,null,null,"","",""]
[null,null,null,null,null,null,null,"","",""]
[null,null,null,null,null,null,null,"","",""]
[null,null,null,null,null,null,null,"","",""]
[null,null,null,null,null,null,null,"","",""]
[null,null,null,null,null,null,null,"","",""]
[null,null,null,null,null,null,null,"","",""]
[null,null,null,null,null,null,null,"","",""]
[null,null,null,null,null,null,null,"","",""]
[null,null,null,null,null,null,null,"","",""]
[null,null,null,null,null,null,null,"","",""]
[null,null,null,null,null,null,null,"","",""]
[null,null,null,null,null,null,null,"","",""]
[null,null,null,null,null,null,null,"","",""]
[null,null,null,null,null,null,null,"","",""]
[null,null,null,null,null,null,null,"","",""]
[null,null,null,null,null,null,null,"","",""]
[null,null,null,null,null,null,null,"","",""]
[null,null,null,null,null,null,null,"","",""]
[null,null,null,null,null,null,null,"","",""]
[null,null,null,null,null,null,null,"","",""]
[null,null,null,null,null,null,null,"","",""]
[null,null,null,null,null,null,null,"","",""]
[null,null,null,null,null,null,null,"","",""]
[null,null,null,null,null,null,null,"","",""]
[null,null,null,null,null,null,null,"","",""]
[null,null,null,null,null,null,null,"","",""]
[null,null,null,null,null,null,null,"","",""]
[null,null,null,null,null,null,null,"","",""]
[null,null,null,null,null,null,null,"","",""]
[null,null,null,null,null,null,null,"","",""]
[null,null,null,null,null,null,null,"","",""]
[null,null,null,null,null,null,null,"","",""]
[null,null,null,null,null,null,null,"","",""]
[null,null,null,null,null,null,null,"","",""]
[null,null,null,null,null,null,null,"","",""]
[null,null,null,null,null,null,null,"","",""]
[null,null,null,null,null,null,null,"","",""]
[null,null,null,null,null,null,null,"","",""]
[null,null,null,null,null,null,null,"","",""]
[null,null,null,null,null,null,null,"","",""]
[null,null,null,null,null,null,null,"","",""]
[null,null,null,null,null,null,null,"","",""]
[null,null,null,null,null,null,null,"","",""]
[null,null,null,null,null,null,null,"","",""]
[null,null,null,null,null,null,null,"","",""]
[null,null,null,null,null,null,null,"","",""]
[null,null,null,null,null,null,null,"","",""]
[null,null,null,null,null,null,null,"","",""]
[null,null,null,null,null,null,null,"","",""]
[null,null,null,null,null,null,null,"","",""]
[null,null,null,null,null,null,null,"","",""]
[null,null,null,null,null,null,null,"","",""]
[null,null,null,null,null,null,null,{"$f":"IF(G2449<>\"\",G2449/12,\"\")","v":""},{"$f":"IF(G2449<>\"\",8,\"\")","v":""},{"$f":"IF(I2449<>\"\",I2449/12,\"\")","v":""}]
[null,null,null,null,null,null,null,"","",""]
[null,null,null,null,null,null,null,"","",""]
[null,null,null,null,null,null,null,"","",""]
[null,null,null,null,null,null,null,"","",""]
[null,null,null,null,null,null,null,"","",""]
[null,null,null,null,null,null,null,"","",""]
[null,null,null,null,null,null,null,"","",""]
[null,null,null,null,null,null,null,"","",""]
[null,null,null,null,null,null,null,"","",""]
[null,null,null,null,null,null,null,"","",""]
[null,null,null,null,null,null,null,"","",""]
[null,null,null,null,null,null,null,"","",""]
[null,null,null,null,null,null,null,"","",""]
[null,null,null,null,null,null,null,"","",""]
[null,null,null,null,null,null,null,"","",""]
[null,null,null,null,null,null,null,"","",""]
[null,null,null,null,null,null,null,"","",""]
[null,null,null,null,null,null,null,"","",""]
[null,null,null,null,null,null,null,"","",""]
[null,null,null,null,null,null,null,"","",""]
[null,null,null,null,null,null,null,"","",""]
[null,null,null,null,null,null,null,"","",""]
[null,null,null,null,null,null,null,"","",""]
[null,null,null,null,null,null,null,"","",""]
[null,null,null,null,null,null,null,"","",""]
[null,null,null,null,null,null,null,"","",""]
[null,null,null,null,null,null,null,"","",""]
[null,null,null,null,null,null,null,"","",""]
[null,null,null,null,null,null,null,"","",""]
[null,null,null,null,null,null,null,"","",""]
[null,null,null,null,null,null,null,"","",""]
[null,null,null,null,null,null,null,"","",""]
[null,null,null,null,null,null,null,"","",""]
[null,null,null,null,null,null,null,"","",""]
[null,null,null,null,null,null,null,"","",""]
[null,null,null,null,null,null,null,"","",""]
[null,null,null,null,null,null,null,"","",""]
[null,null,null,null,null,null,null,"","",""]
[null,null,null,null,null,null,null,"","",""]
[null,null,null,null,null,null,null,"","",""]
[null,null,null,null,null,null,null,"","",""]
[null,null,null,null,null,null,null,"","",""]
[null,null,null,null,null,null,null,"","",""]
[null,null,null,null,null,null,null,"","",""]
[null,null,null,null,null,null,null,"","",""]
[null,null,null,null,null,null,null,"","",""]
[null,null,null,null,null,null,null,"","",""]
[null,null,null,null,null,null,null,"","",""]
[null,null,null,null,null,null,null,"","",""]
[null,null,null,null,null,null,null,"","",""]
[null,null,null,null,null,null,null,"","",""]
[null,null,null,null,null,null,null,"","",""]
[null,null,null,null,null,null,null,"","",""]
[null,null,null,null,null,null,null,"","",""]
[null,null,null,null,null,null,null,"","",""]
[null,null,null,null,null,null,null,"","",""]
[null,null,null,null,null,null,null,"","",""]
[null,null,null,null,null,null,null,"","",""]
[null,null,null,null,null,null,null,"","",""]
[null,null,null,null,null,null,null,"","",""]
[null,null,null,null,null,null,null,"","",""]
[null,null,null,null,null,null,null,"","",""]
[null,null,null,null,null,null,null,"","",""]
[null,null,null,null,null,null,null,{"$f":"IF(G2513<>\"\",G2513/12,\"\")","v":""},{"$f":"IF(G2513<>\"\",8,\"\")","v":""},{"$f":"IF(I2513<>\"\",I2513/12,\"\")","v":""}]
[null,null,null,null,null,null,null,"","",""]
[null,null,null,null,null,null,null,"","",""]
[null,null,null,null,null,null,null,"","",""]
[null,null,null,null,null,null,null,"","",""]
[null,null,null,null,null,null,null,"","",""]
[null,null,null,null,null,null,null,"","",""]
[null,null,null,null,null,null,null,"","",""]
[null,null,null,null,null,null,null,"","",""]
[null,null,null,null,null,null,null,"","",""]
[null,null,null,null,null,null,null,"","",""]
[null,null,null,null,null,null,null,"","",""]
[null,null,null,null,null,null,null,"","",""]
[null,null,null,null,null,null,null,"","",""]
[null,null,null,null,null,null,null,"","",""]
[null,null,null,null,null,null,null,"","",""]
[null,null,null,null,null,null,null,"","",""]
[null,null,null,null,null,null,null,"","",""]
[null,null,null,null,null,null,null,"","",""]
[null,null,null,null,null,null,null,"","",""]
[null,null,null,null,null,null,null,"","",""]
[null,null,null,null,null,null,null,"","",""]
[null,null,null,null,null,null,null,"","",""]
[null,null,null,null,null,null,null,"","",""]
[null,null,null,null,null,null,null,"","",""]
[null,null,null,null,null,null,null,"","",""]
[null,null,null,null,null,null,null,"","",""]
[null,null,null,null,null,null,null,"","",""]
[null,null,null,null,null,null,null,"","",""]
[null,null,null,null,null,null,null,"","",""]
[null,null,null,null,null,null,null,"","",""]
[null,null,null,null,null,null,null,"","",""]
[null,null,null,null,null,null,null,"","",""]
[null,null,null,null,null,null,null,"","",""]
[null,null,null,null,null,null,null,"","",""]
[null,null,null,null,null,null,null,"","",""]
[null,null,null,null,null,null,null,"","",""]
[null,null,null,null,null,null,null,"","",""]
[null,null,null,null,null,null,null,"","",""]
[null,null,null,null,null,null,null,"","",""]
[null,null,null,null,null,null,null,"","",""]
[null,null,null,null,null,null,null,"","",""]
[null,null,null,null,null,null,null,"","",""]
[null,null,null,null,null,null,null,"","",""]
[null,null,null,null,null,null,null,"","",""]
[null,null,null,null,null,null,null,"","",""]
[null,null,null,null,null,null,null,"","",""]
[null,null,null,null,null,null,null,"","",""]
[null,null,null,null,null,null,null,"","",""]
[null,null,null,null,null,null,null,"","",""]
[null,null,null,null,null,null,null,"","",""]
[null,null,null,null,null,null,null,"","",""]
[null,null,null,null,null,null,null,"","",""]
[null,null,null,null,null,null,null,"","",""]
[null,null,null,null,null,null,null,"","",""]
[null,null,null,null,null,null,null,"","",""]
[null,null,null,null,null,null,null,"","",""]
[null,null,null,null,null,null,null,"","",""]
[null,null,null,null,null,null,null,"","",""]
[null,null,null,null,null,null,null,"","",""]
[null,null,null,null,null,null,null,"","",""]
[null,null,null,null,null,null,null,"","",""]
[null,null,null,null,null,null,null,"","",""]
[null,null,null,null,null,null,null,"","",""]
[null,null,null,null,null,null,null,{"$f":"IF(G2577<>\"\",G2577/12,\"\")","v":""},{"$f":"IF(G2577<>\"\",8,\"\")","v":""},{"$f":"IF(I2577<>\"\",I2577/12,\"\")","v":""}]
[null,null,null,null,null,null,null,"","",""]
[null,null,null,null,null,null,null,"","",""]
[null,null,null,null,null,null,null,"","",""]
[null,null,null,null,null,null,null,"","",""]
[null,null,null,null,null,null,null,"","",""]
[null,null,null,null,null,null,null,"","",""]
[null,null,null,null,null,null,null,"","",""]
[null,null,null,null,null,null,null,"","",""]
[null,null,null,null,null,null,null,"","",""]
[null,null,null,null,null,null,null,"","",""]
[null,null,null,null,null,null,null,"","",""]
[null,null,null,null,null,null,null,"","",""]
[null,null,null,null,null,null,null,"","",""]
[null,null,null,null,null,null,null,"","",""]
[null,null,null,null,null,null,null,"","",""]
[null,null,null,null,null,null,null,"","",""]
[null,null,null,null,null,null,null,"","",""]
[null,null,null,null,null,null,null,"","",""]
[null,null,null,null,null,null,null,"","",""]
[null,null,null,null,null,null,null,"","",""]
[null,null,null,null,null,null,null,"","",""]
[null,null,null,null,null,null,null,"","",""]
[null,null,null,null,null,null,null,"","",""]
[null,null,null,null,null,null,null,"","",""]
[null,null,null,null,null,null,null,"","",""]
[null,null,null,null,null,null,null,"","",""]
[null,null,null,null,null,null,null,"","",""]
[null,null,null,null,null,null,null,"","",""]
[null,null,null,null,null,null,null,"","",""]
[null,null,null,null,null,null,null,"","",""]
[null,null,null,null,null,null,null,"","",""]
[null,null,null,null,null,null,null,"","",""]
[null,null,null,null,null,null,null,"","",""]
[null,null,null,null,null,null,null,"","",""]
[null,null,null,null,null,null,null,"","",""]
[null,null,null,null,null,null,null,"","",""]
[null,null,null,null,null,null,null,"","",""]
[null,null,null,null,null,null,null,"","",""]
[null,null,null,null,null,null,null,"","",""]
[null,null,null,null,null,null,null,"","",""]
[null,null,null,null,null,null,null,"","",""]
[null,null,null,null,null,null,null,"","",""]
[null,null,null,null,null,null,null,"","",""]
[null,null,null,null,null,null,null,"","",""]
[null,null,null,null,null,null,null,"","",""]
[null,null,null,null,null,null,null,"","",""]
[null,null,null,null,null,null,null,"","",""]
[null,null,null,null,null,null,null,"","",""]
[null,null,null,null,null,null,null,"","",""]
[null,null,null,null,null,null,null,"","",""]
[null,null,null,null,null,null,null,"","",""]
[null,null,null,null,null,null,null,"","",""]
[null,null,null,null,null,null,null,"","",""]
[null,null,null,null,null,null,null,"","",""]
[null,null,null,null,null,null,null,"","",""]
[null,null,null,null,null,null,null,"","",""]
[null,null,null,null,null,null,null,"","",""]
[null,null,null,null,null,null,null,"","",""]
[null,null,null,null,null,null,null,"","",""]
[null,null,null,null,null,null,null,"","",""]
[null,null,null,null,null,null,null,"","",""]
[null,null,null,null,null,null,null,"","",""]
[null,null,null,null,null,null,null,"","",""]
[null,null,null,null,null,null,null,{"$f":"IF(G2641<>\"\",G2641/12,\"\")","v":""},{"$f":"IF(G2641<>\"\",8,\"\")","v":""},{"$f":"IF(I2641<>\"\",I2641/12,\"\")","v":""}]
[null,null,null,null,null,null,null,"","",""]
[null,null,null,null,null,null,null,"","",""]
[null,null,null,null,null,null,null,"","",""]
[null,null,null,null,null,null,null,"","",""]
[null,null,null,null,null,null,null,"","",""]
[null,null,null,null,null,null,null,"","",""]
[null,null,null,null,null,null,null,"","",""]
[null,null,null,null,null,null,null,"","",""]
[null,null,null,null,null,null,null,"","",""]
[null,null,null,null,null,null,null,"","",""]
[null,null,null,null,null,null,null,"","",""]
[null,null,null,null,null,null,null,"","",""]
[null,null,null,null,null,null,null,"","",""]
[null,null,null,null,null,null,null,"","",""]
[null,null,null,null,null,null,null,"","",""]
[null,null,null,null,null,null,null,"","",""]
[null,null,null,null,null,null,null,"","",""]
[null,null,null,null,null,null,null,"","",""]
[null,null,null,null,null,null,null,"","",""]
[null,null,null,null,null,null,null,"","",""]
[null,null,null,null,null,null,null,"","",""]
[null,null,null,null,null,null,null,"","",""]
[null,null,null,null,null,null,null,"","",""]
[null,null,null,null,null,null,null,"","",""]
[null,null,null,null,null,null,null,"","",""]
[null,null,null,null,null,null,null,"","",""]
[null,null,null,null,null,null,null,"","",""]
[null,null,null,null,null,null,null,"","",""]
[null,null,null,null,null,null,null,"","",""]
[null,null,null,null,null,null,null,"","",""]
[null,null,null,null,null,null,null,"","",""]
[null,null,null,null,null,null,null,"","",""]
[null,null,null,null,null,null,null,"","",""]
[null,null,null,null,null,null,null,"","",""]
[null,null,null,null,null,null,null,"","",""]
[null,null,null,null,null,null,null,"","",""]
[null,null,null,null,null,null,null,"","",""]
[null,null,null,null,null,null,null,"","",""]
[null,null,null,null,null,null,null,"","",""]
[null,null,null,null,null,null,null,"","",""]
[null,null,null,null,null,null,null,"","",""]
[null,null,null,null,null,null,null,"","",""]
[null,null,null,null,null,null,null,"","",""]
[null,null,null,null,null,null,null,"","",""]
[null,null,null,null,null,null,null,"","",""]
[null,null,null,null,null,null,null,"","",""]
[null,null,null,null,null,null,null,"","",""]
[null,null,null,null,null,null,null,"","",""]
[null,null,null,null,null,null,null,"","",""]
[null,null,null,null,null,null,null,"","",""]
[null,null,null,null,null,null,null,"","",""]
[null,null,null,null,null,null,null,"","",""]
[null,null,null,null,null,null,null,"","",""]
[null,null,null,null,null,null,null,"","",""]
[null,null,null,null,null,null,null,"","",""]
[null,null,null,null,null,null,null,"","",""]
[null,null,null,null,null,null,null,"","",""]
[null,null,null,null,null,null,null,"","",""]
[null,null,null,null,null,null,null,"","",""]
[null,null,null,null,null,null,null,"","",""]
[null,null,null,null,null,null,null,"","",""]
[null,null,null,null,null,null,null,"","",""]
[null,null,null,null,null,null,null,"","",""]
[null,null,null,null,null,null,null,{"$f":"IF(G2705<>\"\",G2705/12,\"\")","v":""},{"$f":"IF(G2705<>\"\",8,\"\")","v":""},{"$f":"IF(I2705<>\"\",I2705/12,\"\")","v":""}]
[null,null,null,null,null,null,null,"","",""]
[null,null,null,null,null,null,null,"","",""]
[null,null,null,null,null,null,null,"","",""]
[null,null,null,null,null,null,null,"","",""]
[null,null,null,null,null,null,null,"","",""]
[null,null,null,null,null,null,null,"","",""]
[null,null,null,null,null,null,null,"","",""]
[null,null,null,null,null,null,null,"","",""]
[null,null,null,null,null,null,null,"","",""]
[null,null,null,null,null,null,null,"","",""]
[null,null,null,null,null,null,null,"","",""]
[null,null,null,null,null,null,null,"","",""]
[null,null,null,null,null,null,null,"","",""]
[null,null,null,null,null,null,null,"","",""]
[null,null,null,null,null,null,null,"","",""]
[null,null,null,null,null,null,null,"","",""]
[null,null,null,null,null,null,null,"","",""]
[null,null,null,null,null,null,null,"","",""]
[null,null,null,null,null,null,null,"","",""]
[null,null,null,null,null,null,null,"","",""]
[null,null,null,null,null,null,null,"","",""]
[null,null,null,null,null,null,null,"","",""]
[null,null,null,null,null,null,null,"","",""]
[null,null,null,null,null,null,null,"","",""]
[null,null,null,null,null,null,null,"","",""]
[null,null,null,null,null,null,null,"","",""]
[null,null,null,null,null,null,null,"","",""]
[null,null,null,null,null,null,null,"","",""]
[null,null,null,null,null,null,null,"","",""]
[null,null,null,null,null,null,null,"","",""]
[null,null,null,null,null,null,null,"","",""]
[null,null,null,null,null,null,null,"","",""]
[null,null,null,null,null,null,null,"","",""]
[null,null,null,null,null,null,null,"","",""]
[null,null,null,null,null,null,null,"","",""]
[null,null,null,null,null,null,null,"","",""]
[null,null,null,null,null,null,null,"","",""]
[null,null,null,null,null,null,null,"","",""]
[null,null,null,null,null,null,null,"","",""]
[null,null,null,null,null,null,null,"","",""]
[null,null,null,null,null,null,null,"","",""]
[null,null,null,null,null,null,null,"","",""]
[null,null,null,null,null,null,null,"","",""]
[null,null,null,null,null,null,null,"","",""]
[null,null,null,null,null,null,null,"","",""]
[null,null,null,null,null,null,null,"","",""]
[null,null,null,null,null,null,null,"","",""]
[null,null,null,null,null,null,null,"","",""]
[null,null,null,null,null,null,null,"","",""]
[null,null,null,null,null,null,null,"","",""]
[null,null,null,null,null,null,null,"","",""]
[null,null,null,null,null,null,null,"","",""]
[null,null,null,null,null,null,null,"","",""]
[null,null,null,null,null,null,null,"","",""]
[null,null,null,null,null,null,null,"","",""]
[null,null,null,null,null,null,null,"","",""]
[null,null,null,null,null,null,null,"","",""]
[null,null,null,null,null,null,null,"","",""]
[null,null,null,null,null,null,null,"","",""]
[null,null,null,null,null,null,null,"","",""]
[null,null,null,null,null,null,null,"","",""]
[null,null,null,null,null,null,null,"","",""]
[null,null,null,null,null,null,null,"","",""]
[null,null,null,null,null,null,null,{"$f":"IF(G2769<>\"\",G2769/12,\"\")","v":""},{"$f":"IF(G2769<>\"\",8,\"\")","v":""},{"$f":"IF(I2769<>\"\",I2769/12,\"\")","v":""}]
[null,null,null,null,null,null,null,"","",""]
[null,null,null,null,null,null,null,"","",""]
[null,null,null,null,null,null,null,"","",""]
[null,null,null,null,null,null,null,"","",""]
[null,null,null,null,null,null,null,"","",""]
[null,null,null,null,null,null,null,"","",""]
[null,null,null,null,null,null,null,"","",""]
[null,null,null,null,null,null,null,"","",""]
[null,null,null,null,null,null,null,"","",""]
[null,null,null,null,null,null,null,"","",""]
[null,null,null,null,null,null,null,"","",""]
[null,null,null,null,null,null,null,"","",""]
[null,null,null,null,null,null,null,"","",""]
[null,null,null,null,null,null,null,"","",""]
[null,null,null,null,null,null,null,"","",""]
[null,null,null,null,null,null,null,"","",""]
[null,null,null,null,null,null,null,"","",""]
[null,null,null,null,null,null,null,"","",""]
[null,null,null,null,null,null,null,"","",""]
[null,null,null,null,null,null,null,"","",""]
[null,null,null,null,null,null,null,"","",""]
[null,null,null,null,null,null,null,"","",""]
[null,null,null,null,null,null,null,"","",""]
[null,null,null,null,null,null,null,"","",""]
[null,null,null,null,null,null,null,"","",""]
[null,null,null,null,null,null,null,"","",""]
[null,null,null,null,null,null,null,"","",""]
[null,null,null,null,null,null,null,"","",""]
[null,null,null,null,null,null,null,"","",""]
[null,null,null,null,null,null,null,"","",""]
[null,null,null,null,null,null,null,"","",""]
[null,null,null,null,null,null,null,"","",""]
[null,null,null,null,null,null,null,"","",""]
[null,null,null,null,null,null,null,"","",""]
[null,null,null,null,null,null,null,"","",""]
[null,null,null,null,null,null,null,"","",""]
[null,null,null,null,null,null,null,"","",""]
[null,null,null,null,null,null,null,"","",""]
[null,null,null,null,null,null,null,"","",""]
[null,null,null,null,null,null,null,"","",""]
[null,null,null,null,null,null,null,"","",""]
[null,null,null,null,null,null,null,"","",""]
[null,null,null,null,null,null,null,"","",""]
[null,null,null,null,null,null,null,"","",""]
[null,null,null,null,null,null,null,"","",""]
[null,null,null,null,null,null,null,"","",""]
[null,null,null,null,null,null,null,"","",""]
[null,null,null,null,null,null,null,"","",""]
[null,null,null,null,null,null,null,"","",""]
[null,null,null,null,null,null,null,"","",""]
[null,null,null,null,null,null,null,"","",""]
[null,null,null,null,null,null,null,"","",""]
[null,null,null,null,null,null,null,"","",""]
[null,null,null,null,null,null,null,"","",""]
[null,null,null,null,null,null,null,"","",""]
[null,null,null,null,null,null,null,"","",""]
[null,null,null,null,null,null,null,"","",""]
[null,null,null,null,null,null,null,"","",""]
[null,null,null,null,null,null,null,"","",""]
[null,null,null,null,null,null,null,"","",""]
[null,null,null,null,null,null,null,"","",""]
[null,null,null,null,null,null,null,"","",""]
[null,null,null,null,null,null,null,"","",""]
[null,null,null,null,null,null,null,{"$f":"IF(G2833<>\"\",G2833/12,\"\")","v":""},{"$f":"IF(G2833<>\"\",8,\"\")","v":""},{"$f":"IF(I2833<>\"\",I2833/12,\"\")","v":""}]
[null,null,null,null,null,null,null,"","",""]
[null,null,null,null,null,null,null,"","",""]
[null,null,null,null,null,null,null,"","",""]
[null,null,null,null,null,null,null,"","",""]
[null,null,null,null,null,null,null,"","",""]
[null,null,null,null,null,null,null,"","",""]
[null,null,null,null,null,null,null,"","",""]
[null,null,null,null,null,null,null,"","",""]
[null,null,null,null,null,null,null,"","",""]
[null,null,null,null,null,null,null,"","",""]
[null,null,null,null,null,null,null,"","",""]
[null,null,null,null,null,null,null,"","",""]
[null,null,null,null,null,null,null,"","",""]
[null,null,null,null,null,null,null,"","",""]
[null,null,null,null,null,null,null,"","",""]
[null,null,null,null,null,null,null,"","",""]
[null,null,null,null,null,null,null,"","",""]
[null,null,null,null,null,null,null,"","",""]
[null,null,null,null,null,null,null,"","",""]
[null,null,null,null,null,null,null,"","",""]
[null,null,null,null,null,null,null,"","",""]
[null,null,null,null,null,null,null,"","",""]
[null,null,null,null,null,null,null,"","",""]
[null,null,null,null,null,null,null,"","",""]
[null,null,null,null,null,null,null,"","",""]
[null,null,null,null,null,null,null,"","",""]
[null,null,null,null,null,null,null,"","",""]
[null,null,null,null,null,null,null,"","",""]
[null,null,null,null,null,null,null,"","",""]
[null,null,null,null,null,null,null,"","",""]
[null,null,null,null,null,null,null,"","",""]
[null,null,null,null,null,null,null,"","",""]
[null,null,null,null,null,null,null,"","",""]
[null,null,null,null,null,null,null,"","",""]
[null,null,null,null,null,null,null,"","",""]
[null,null,null,null,null,null,null,"","",""]
[null,null,null,null,null,null,null,"","",""]
[null,null,null,null,null,null,null,"","",""]
[null,null,null,null,null,null,null,"","",""]
[null,null,null,null,null,null,null,"","",""]
[null,null,null,null,null,null,null,"","",""]
[null,null,null,null,null,null,null,"","",""]
[null,null,null,null,null,null,null,"","",""]
[null,null,null,null,null,null,null,"","",""]
[null,null,null,null,null,null,null,"","",""]
[null,null,null,null,null,null,null,"","",""]
[null,null,null,null,null,null,null,"","",""]
[null,null,null,null,null,null,null,"","",""]
[null,null,null,null,null,null,null,"","",""]
[null,null,null,null,null,null,null,"","",""]
[null,null,null,null,null,null,null,"","",""]
[null,null,null,null,null,null,null,"","",""]
[null,null,null,null,null,null,null,"","",""]
[null,null,null,null,null,null,null,"","",""]
[null,null,null,null,null,null,null,"","",""]
[null,null,null,null,null,null,null,"","",""]
[null,null,null,null,null,null,null,"","",""]
[null,null,null,null,null,null,null,"","",""]
[null,null,null,null,null,null,null,"","",""]
[null,null,null,null,null,null,null,"","",""]
[null,null,null,null,null,null,null,"","",""]
[null,null,null,null,null,null,null,"","",""]
[null,null,null,null,null,null,null,"","",""]
[null,null,null,null,null,null,null,{"$f":"IF(G2897<>\"\",G2897/12,\"\")","v":""},{"$f":"IF(G2897<>\"\",8,\"\")","v":""},{"$f":"IF(I2897<>\"\",I2897/12,\"\")","v":""}]
[null,null,null,null,null,null,null,"","",""]
[null,null,null,null,null,null,null,"","",""]
[null,null,null,null,null,null,null,"","",""]
[null,null,null,null,null,null,null,"","",""]
[null,null,null,null,null,null,null,"","",""]
[null,null,null,null,null,null,null,"","",""]
[null,null,null,null,null,null,null,"","",""]
[null,null,null,null,null,null,null,"","",""]
[null,null,null,null,null,null,null,"","",""]
[null,null,null,null,null,null,null,"","",""]
[null,null,null,null,null,null,null,"","",""]
[null,null,null,null,null,null,null,"","",""]
[null,null,null,null,null,null,null,"","",""]
[null,null,null,null,null,null,null,"","",""]
[null,null,null,null,null,null,null,"","",""]
[null,null,null,null,null,null,null,"","",""]
[null,null,null,null,null,null,null,"","",""]
[null,null,null,null,null,null,null,"","",""]
[null,null,null,null,null,null,null,"","",""]
[null,null,null,null,null,null,null,"","",""]
[null,null,null,null,null,null,null,"","",""]
[null,null,null,null,null,null,null,"","",""]
[null,null,null,null,null,null,null,"","",""]
[null,null,null,null,null,null,null,"","",""]
[null,null,null,null,null,null,null,"","",""]
[null,null,null,null,null,null,null,"","",""]
[null,null,null,null,null,null,null,"","",""]
[null,null,null,null,null,null,null,"","",""]
[null,null,null,null,null,null,null,"","",""]
[null,null,null,null,null,null,null,"","",""]
[null,null,null,null,null,null,null,"","",""]
[null,null,null,null,null,null,null,"","",""]
[null,null,null,null,null,null,null,"","",""]
[null,null,null,null,null,null,null,"","",""]
[null,null,null,null,null,null,null,"","",""]
[null,null,null,null,null,null,null,"","",""]
[null,null,null,null,null,null,null,"","",""]
[null,null,null,null,null,null,null,"","",""]
[null,null,null,null,null,null,null,"","",""]
[null,null,null,null,null,null,null,"","",""]
[null,null,null,null,null,null,null,"","",""]
[null,null,null,null,null,null,null,"","",""]
[null,null,null,null,null,null,null,"","",""]
[null,null,null,null,null,null,null,"","",""]
[null,null,null,null,null,null,null,"","",""]
[null,null,null,null,null,null,null,"","",""]
[null,null,null,null,null,null,null,"","",""]
[null,null,null,null,null,null,null,"","",""]
[null,null,null,null,null,null,null,"","",""]
[null,null,null,null,null,null,null,"","",""]
[null,null,null,null,null,null,null,"","",""]
[null,null,null,null,null,null,null,"","",""]
[null,null,null,null,null,null,null,"","",""]
[null,null,null,null,null,null,null,"","",""]
[null,null,null,null,null,null,null,"","",""]
[null,null,null,null,null,null,null,"","",""]
[null,null,null,null,null,null,null,"","",""]
[null,null,null,null,null,null,null,"","",""]
[null,null,null,null,null,null,null,"","",""]
[null,null,null,null,null,null,null,"","",""]
[null,null,null,null,null,null,null,"","",""]
[null,null,null,null,null,null,null,"","",""]
[null,null,null,null,null,null,null,"","",""]
[null,null,null,null,null,null,null,{"$f":"IF(G2961<>\"\",G2961/12,\"\")","v":""},{"$f":"IF(G2961<>\"\",8,\"\")","v":""},{"$f":"IF(I2961<>\"\",I2961/12,\"\")","v":""}]
[null,null,null,null,null,null,null,"","",""]
[null,null,null,null,null,null,null,"","",""]
[null,null,null,null,null,null,null,"","",""]
[null,null,null,null,null,null,null,"","",""]
[null,null,null,null,null,null,null,"","",""]
[null,null,null,null,null,null,null,"","",""]
[null,null,null,null,null,null,null,"","",""]
[null,null,null,null,null,null,null,"","",""]
[null,null,null,null,null,null,null,"","",""]
[null,null,null,null,null,null,null,"","",""]
[null,null,null,null,null,null,null,"","",""]
[null,null,null,null,null,null,null,"","",""]
[null,null,null,null,null,null,null,"","",""]
[null,null,null,null,null,null,null,"","",""]
[null,null,null,null,null,null,null,"","",""]
[null,null,null,null,null,null,null,"","",""]
[null,null,null,null,null,null,null,"","",""]
[null,null,null,null,null,null,null,"","",""]
[null,null,null,null,null,null,null,"","",""]
[null,null,null,null,null,null,null,"","",""]
[null,null,null,null,null,null,null,"","",""]
[null,null,null,null,null,null,null,"","",""]
[null,null,null,null,null,null,null,"","",""]
[null,null,null,null,null,null,null,"","",""]
[null,null,null,null,null,null,null,"","",""]
[null,null,null,null,null,null,null,"","",""]
[null,null,null,null,null,null,null,"","",""]
[null,null,null,null,null,null,null,"","",""]
[null,null,null,null,null,null,null,"","",""]
[null,null,null,null,null,null,null,"","",""]
[null,null,null,null,null,null,null,"","",""]
[null,null,null,null,null,null,null,"","",""]
[null,null,null,null,null,null,null,"","",""]
[null,null,null,null,null,null,null,"","",""]
[null,null,null,null,null,null,null,"","",""]
[null,null,null,null,null,null,null,"","",""]
[null,null,null,null,null,null,null,"","",""]
[null,null,null,null,null,null,null,"","",""]
[null,null,null,null,null,null,null,"","",""]
[null,null,null,null,null,null,null,"","",""]
[null,null,null,null,null,null,null,"","",""]
[null,null,null,null,null,null,null,"","",""]
[null,null,null,null,null,null,null,"","",""]
[null,null,null,null,null,null,null,"","",""]
[null,null,null,null,null,null,null,"","",""]
[null,null,null,null,null,null,null,"","",""]
[null,null,null,null,null,null,null,"","",""]
[null,null,null,null,null,null,null,"","",""]
[null,null,null,null,null,null,null,"","",""]
[null,null,null,null,null,null,null,"","",""]
[null,null,null,null,null,null,null,"","",""]
[null,null,null,null,null,null,null,"","",""]
[null,null,null,null,null,null,null,"","",""]
[null,null,null,null,null,null,null,"","",""]
[null,null,null,null,null,null,null,"","",""]
[null,null,null,null,null,null,null,"","",""]
[null,null,null,null,null,null,null,"","",""]
[null,null,null,null,null,null,null,"","",""]
[null,null,null,null,null,null,null,"","",""]
[null,null,null,null,null,null,null,"","",""]
[null,null,null,null,null,null,null,"","",""]
[null,null,null,null,null,null,null,"","",""]
[null,null,null,null,null,null,null,"","",""]
[null,null,null,null,null,null,null,{"$f":"IF(G3025<>\"\",G3025/12,\"\")","v":""},{"$f":"IF(G3025<>\"\",8,\"\")","v":""},{"$f":"IF(I3025<>\"\",I3025/12,\"\")","v":""}]
[null,null,null,null,null,null,null,"","",""]
[null,null,null,null,null,null,null,"","",""]
[null,null,null,null,null,null,null,"","",""]
[null,null,null,null,null,null,null,"","",""]
[null,null,null,null,null,null,null,"","",""]
[null,null,null,null,null,null,null,"","",""]
[null,null,null,null,null,null,null,"","",""]
[null,null,null,null,null,null,null,"","",""]
[null,null,null,null,null,null,null,"","",""]
[null,null,null,null,null,null,null,"","",""]
[null,null,null,null,null,null,null,"","",""]
[null,null,null,null,null,null,null,"","",""]
[null,null,null,null,null,null,null,"","",""]
[null,null,null,null,null,null,null,"","",""]
[null,null,null,null,null,null,null,"","",""]
[null,null,null,null,null,null,null,"","",""]
[null,null,null,null,null,null,null,"","",""]
[null,null,null,null,null,null,null,"","",""]
[null,null,null,null,null,null,null,"","",""]
[null,null,null,null,null,null,null,"","",""]
[null,null,null,null,null,null,null,"","",""]
[null,null,null,null,null,null,null,"","",""]
[null,null,null,null,null,null,null,"","",""]
[null,null,null,null,null,null,null,"","",""]
[null,null,null,null,null,null,null,"","",""]
[null,null,null,null,null,null,null,"","",""]
[null,null,null,null,null,null,null,"","",""]
[null,null,null,null,null,null,null,"","",""]
[null,null,null,null,null,null,null,"","",""]
[null,null,null,null,null,null,null,"","",""]
[null,null,null,null,null,null,null,"","",""]
[null,null,null,null,null,null,null,"","",""]
[null,null,null,null,null,null,null,"","",""]
[null,null,null,null,null,null,null,"","",""]
[null,null,null,null,null,null,null,"","",""]
[null,null,null,null,null,null,null,"","",""]
[null,null,null,null,null,null,null,"","",""]
[null,null,null,null,null,null,null,"","",""]
[null,null,null,null,null,null,null,"","",""]
[null,null,null,null,null,null,null,"","",""]
[null,null,null,null,null,null,null,"","",""]
[null,null,null,null,null,null,null,"","",""]
[null,null,null,null,null,null,null,"","",""]
[null,null,null,null,null,null,null,"","",""]
[null,null,null,null,null,null,null,"","",""]
[null,null,null,null,null,null,null,"","",""]
[null,null,null,null,null,null,null,"","",""]
[null,null,null,null,null,null,null,"","",""]
[null,null,null,null,null,null,null,"","",""]
[null,null,null,null,null,null,null,"","",""]
[null,null,null,null,null,null,null,"","",""]
[null,null,null,null,null,null,null,"","",""]
[null,null,null,null,null,null,null,"","",""]
[null,null,null,null,null,null,null,"","",""]
[null,null,null,null,null,null,null,"","",""]
[null,null,null,null,null,null,null,"","",""]
[null,null,null,null,null,null,null,"","",""]
[null,null,null,null,null,null,null,"","",""]
[null,null,null,null,null,null,null,"","",""]
[null,null,null,null,null,null,null,"","",""]
[null,null,null,null,null,null,null,"","",""]
[null,null,null,null,null,null,null,"","",""]
[null,null,null,null,null,null,null,"","",""]
[null,null,null,null,null,null,null,{"$f":"IF(G3089<>\"\",G3089/12,\"\")","v":""},{"$f":"IF(G3089<>\"\",8,\"\")","v":""},{"$f":"IF(I3089<>\"\",I3089/12,\"\")","v":""}]
[null,null,null,null,null,null,null,"","",""]
[null,null,null,null,null,null,null,"","",""]
[null,null,null,null,null,null,null,"","",""]
[null,null,null,null,null,null,null,"","",""]
[null,null,null,null,null,null,null,"","",""]
[null,null,null,null,null,null,null,"","",""]
[null,null,null,null,null,null,null,"","",""]
[null,null,null,null,null,null,null,"","",""]
[null,null,null,null,null,null,null,"","",""]
[null,null,null,null,null,null,null,"","",""]
[null,null,null,null,null,null,null,"","",""]
[null,null,null,null,null,null,null,"","",""]
[null,null,null,null,null,null,null,"","",""]
[null,null,null,null,null,null,null,"","",""]
[null,null,null,null,null,null,null,"","",""]
[null,null,null,null,null,null,null,"","",""]
[null,null,null,null,null,null,null,"","",""]
[null,null,null,null,null,null,null,"","",""]
[null,null,null,null,null,null,null,"","",""]
[null,null,null,null,null,null,null,"","",""]
[null,null,null,null,null,null,null,"","",""]
[null,null,null,null,null,null,null,"","",""]
[null,null,null,null,null,null,null,"","",""]
[null,null,null,null,null,null,null,"","",""]
[null,null,null,null,null,null,null,"","",""]
[null,null,null,null,null,null,null,"","",""]
[null,null,null,null,null,null,null,"","",""]
[null,null,null,null,null,null,null,"","",""]
[null,null,null,null,null,null,null,"","",""]
[null,null,null,null,null,null,null,"","",""]
[null,null,null,null,null,null,null,"","",""]
[null,null,null,null,null,null,null,"","",""]
[null,null,null,null,null,null,null,"","",""]
[null,null,null,null,null,null,null,"","",""]
[null,null,null,null,null,null,null,"","",""]
[null,null,null,null,null,null,null,"","",""]
[null,null,null,null,null,null,null,"","",""]
[null,null,null,null,null,null,null,"","",""]
[null,null,null,null,null,null,null,"","",""]
[null,null,null,null,null,null,null,"","",""]
[null,null,null,null,null,null,null,"","",""]
[null,null,null,null,null,null,null,"","",""]
[null,null,null,null,null,null,null,"","",""]
[null,null,null,null,null,null,null,"","",""]
[null,null,null,null,null,null,null,"","",""]
[null,null,null,null,null,null,null,"","",""]
[null,null,null,null,null,null,null,"","",""]
[null,null,null,null,null,null,null,"","",""]
[null,null,null,null,null,null,null,"","",""]
[null,null,null,null,null,null,null,"","",""]
[null,null,null,null,null,null,null,"","",""]
[null,null,null,null,null,null,null,"","",""]
[null,null,null,null,null,null,null,"","",""]
[null,null,null,null,null,null,null,"","",""]
[null,null,null,null,null,null,null,"","",""]
[null,null,null,null,null,null,null,"","",""]
[null,null,null,null,null,null,null,"","",""]
[null,null,null,null,null,null,null,"","",""]
[null,null,null,null,null,null,null,"","",""]
[null,null,null,null,null,null,null,"","",""]
[null,null,null,null,null,null,null,"","",""]
[null,null,null,null,null,null,null,"","",""]
[null,null,null,null,null,null,null,"","",""]
[null,null,null,null,null,null,null,{"$f":"IF(G3153<>\"\",G3153/12,\"\")","v":""},{"$f":"IF(G3153<>\"\",8,\"\")","v":""},{"$f":"IF(I3153<>\"\",I3153/12,\"\")","v":""}]
[null,null,null,null,null,null,null,"","",""]
[null,null,null,null,null,null,null,"","",""]
[null,null,null,null,null,null,null,"","",""]
[null,null,null,null,null,null,null,"","",""]
[null,null,null,null,null,null,null,"","",""]
[null,null,null,null,null,null,null,"","",""]
[null,null,null,null,null,null,null,"","",""]
[null,null,null,null,null,null,null,"","",""]
[null,null,null,null,null,null,null,"","",""]
[null,null,null,null,null,null,null,"","",""]
[null,null,null,null,null,null,null,"","",""]
[null,null,null,null,null,null,null,"","",""]
[null,null,null,null,null,null,null,"","",""]
[null,null,null,null,null,null,null,"","",""]
[null,null,null,null,null,null,null,"","",""]
[null,null,null,null,null,null,null,"","",""]
[null,null,null,null,null,null,null,"","",""]
[null,null,null,null,null,null,null,"","",""]
[null,null,null,null,null,null,null,"","",""]
[null,null,null,null,null,null,null,"","",""]
[null,null,null,null,null,null,null,"","",""]
[null,null,null,null,null,null,null,"","",""]
[null,null,null,null,null,null,null,"","",""]
[null,null,null,null,null,null,null,"","",""]
[null,null,null,null,null,null,null,"","",""]
[null,null,null,null,null,null,null,"","",""]
[null,null,null,null,null,null,null,"","",""]
[null,null,null,null,null,null,null,"","",""]
[null,null,null,null,null,null,null,"","",""]
[null,null,null,null,null,null,null,"","",""]
[null,null,null,null,null,null,null,"","",""]
[null,null,null,null,null,null,null,"","",""]
[null,null,null,null,null,null,null,"","",""]
[null,null,null,null,null,null,null,"","",""]
[null,null,null,null,null,null,null,"","",""]
[null,null,null,null,null,null,null,"","",""]
[null,null,null,null,null,null,null,"","",""]
[null,null,null,null,null,null,null,"","",""]
[null,null,null,null,null,null,null,"","",""]
[null,null,null,null,null,null,null,"","",""]
[null,null,null,null,null,null,null,"","",""]
[null,null,null,null,null,null,null,"","",""]
[null,null,null,null,null,null,null,"","",""]
[null,null,null,null,null,null,null,"","",""]
[null,null,null,null,null,null,null,"","",""]
[null,null,null,null,null,null,null,"","",""]
[null,null,null,null,null,null,null,"","",""]
[null,null,null,null,null,null,null,"","",""]
[null,null,null,null,null,null,null,"","",""]
[null,null,null,null,null,null,null,"","",""]
[null,null,null,null,null,null,null,"","",""]
[null,null,null,null,null,null,null,"","",""]
[null,null,null,null,null,null,null,"","",""]
[null,null,null,null,null,null,null,"","",""]
[null,null,null,null,null,null,null,"","",""]
[null,null,null,null,null,null,null,"","",""]
[null,null,null,null,null,null,null,"","",""]
[null,null,null,null,null,null,null,"","",""]
[null,null,null,null,null,null,null,"","",""]
[null,null,null,null,null,null,null,"","",""]
[null,null,null,null,null,null,null,"","",""]
[null,null,null,null,null,null,null,"","",""]
[null,null,null,null,null,null,null,"","",""]
[null,null,null,null,null,null,null,{"$f":"IF(G3217<>\"\",G3217/12,\"\")","v":""},{"$f":"IF(G3217<>\"\",8,\"\")","v":""},{"$f":"IF(I3217<>\"\",I3217/12,\"\")","v":""}]
[null,null,null,null,null,null,null,"","",""]
[null,null,null,null,null,null,null,"","",""]
[null,null,null,null,null,null,null,"","",""]
[null,null,null,null,null,null,null,"","",""]
[null,null,null,null,null,null,null,"","",""]
[null,null,null,null,null,null,null,"","",""]
[null,null,null,null,null,null,null,"","",""]
[null,null,null,null,null,null,null,"","",""]
[null,null,null,null,null,null,null,"","",""]
[null,null,null,null,null,null,null,"","",""]
[null,null,null,null,null,null,null,"","",""]
[null,null,null,null,null,null,null,"","",""]
[null,null,null,null,null,null,null,"","",""]
[null,null,null,null,null,null,null,"","",""]
[null,null,null,null,null,null,null,"","",""]
[null,null,null,null,null,null,null,"","",""]
[null,null,null,null,null,null,null,"","",""]
[null,null,null,null,null,null,null,"","",""]
[null,null,null,null,null,null,null,"","",""]
[null,null,null,null,null,null,null,"","",""]
[null,null,null,null,null,null,null,"","",""]
[null,null,null,null,null,null,null,"","",""]
[null,null,null,null,null,null,null,"","",""]
[null,null,null,null,null,null,null,"","",""]
[null,null,null,null,null,null,null,"","",""]
[null,null,null,null,null,null,null,"","",""]
[null,null,null,null,null,null,null,"","",""]
[null,null,null,null,null,null,null,"","",""]
[null,null,null,null,null,null,null,"","",""]
[null,null,null,null,null,null,null,"","",""]
[null,null,null,null,null,null,null,"","",""]
[null,null,null,null,null,null,null,"","",""]
[null,null,null,null,null,null,null,"","",""]
[null,null,null,null,null,null,null,"","",""]
[null,null,null,null,null,null,null,"","",""]
[null,null,null,null,null,null,null,"","",""]
[null,null,null,null,null,null,null,"","",""]
[null,null,null,null,null,null,null,"","",""]
[null,null,null,null,null,null,null,"","",""]
[null,null,null,null,null,null,null,"","",""]
[null,null,null,null,null,null,null,"","",""]
[null,null,null,null,null,null,null,"","",""]
[null,null,null,null,null,null,null,"","",""]
[null,null,null,null,null,null,null,"","",""]
[null,null,null,null,null,null,null,"","",""]
[null,null,null,null,null,null,null,"","",""]
[null,null,null,null,null,null,null,"","",""]
[null,null,null,null,null,null,null,"","",""]
[null,null,null,null,null,null,null,"","",""]
[null,null,null,null,null,null,null,"","",""]
[null,null,null,null,null,null,null,"","",""]
[null,null,null,null,null,null,null,"","",""]
[null,null,null,null,null,null,null,"","",""]
[null,null,null,null,null,null,null,"","",""]
[null,null,null,null,null,null,null,"","",""]
[null,null,null,null,null,null,null,"","",""]
[null,null,null,null,null,null,null,"","",""]
[null,null,null,null,null,null,null,"","",""]
[null,null,null,null,null,null,null,"","",""]
[null,null,null,null,null,null,null,"","",""]
[null,null,null,null,null,null,null,"","",""]
[null,null,null,null,null,null,null,"","",""]
[null,null,null,null,null,null,null,"","",""]
[null,null,null,null,null,null,null,{"$f":"IF(G3281<>\"\",G3281/12,\"\")","v":""},{"$f":"IF(G3281<>\"\",8,\"\")","v":""},{"$f":"IF(I3281<>\"\",I3281/12,\"\")","v":""}]
[null,null,null,null,null,null,null,"","",""]
[null,null,null,null,null,null,null,"","",""]
[null,null,null,null,null,null,null,"","",""]
[null,null,null,null,null,null,null,"","",""]
[null,null,null,null,null,null,null,"","",""]
[null,null,null,null,null,null,null,"","",""]
[null,null,null,null,null,null,null,"","",""]
[null,null,null,null,null,null,null,"","",""]
[null,null,null,null,null,null,null,"","",""]
[null,null,null,null,null,null,null,"","",""]
[null,null,null,null,null,null,null,"","",""]
[null,null,null,null,null,null,null,"","",""]
[null,null,null,null,null,null,null,"","",""]
[null,null,null,null,null,null,null,"","",""]
[null,null,null,null,null,null,null,"","",""]
[null,null,null,null,null,null,null,"","",""]
[null,null,null,null,null,null,null,"","",""]
[null,null,null,null,null,null,null,"","",""]
[null,null,null,null,null,null,null,"","",""]
[null,null,null,null,null,null,null,"","",""]
[null,null,null,null,null,null,null,"","",""]
[null,null,null,null,null,null,null,"","",""]
[null,null,null,null,null,null,null,"","",""]
[null,null,null,null,null,null,null,"","",""]
[null,null,null,null,null,null,null,"","",""]
[null,null,null,null,null,null,null,"","",""]
[null,null,null,null,null,null,null,"","",""]
[null,null,null,null,null,null,null,"","",""]
[null,null,null,null,null,null,null,"","",""]
[null,null,null,null,null,null,null,"","",""]
[null,null,null,null,null,null,null,"","",""]
[null,null,null,null,null,null,null,"","",""]
[null,null,null,null,null,null,null,"","",""]
[null,null,null,null,null,null,null,"","",""]
[null,null,null,null,null,null,null,"","",""]
[null,null,null,null,null,null,null,"","",""]
[null,null,null,null,null,null,null,"","",""]
[null,null,null,null,null,null,null,"","",""]
[null,null,null,null,null,null,null,"","",""]
[null,null,null,null,null,null,null,"","",""]
[null,null,null,null,null,null,null,"","",""]
[null,null,null,null,null,null,null,"","",""]
[null,null,null,null,null,null,null,"","",""]
[null,null,null,null,null,null,null,"","",""]
[null,null,null,null,null,null,null,"","",""]
[null,null,null,null,null,null,null,"","",""]
[null,null,null,null,null,null,null,"","",""]
[null,null,null,null,null,null,null,"","",""]
[null,null,null,null,null,null,null,"","",""]
[null,null,null,null,null,null,null,"","",""]
[null,null,null,null,null,null,null,"","",""]
[null,null,null,null,null,null,null,"","",""]
[null,null,null,null,null,null,null,"","",""]
[null,null,null,null,null,null,null,"","",""]
[null,null,null,null,null,null,null,"","",""]
[null,null,null,null,null,null,null,"","",""]
[null,null,null,null,null,null,null,"","",""]
[null,null,null,null,null,null,null,"","",""]
[null,null,null,null,null,null,null,"","",""]
[null,null,null,null,null,null,null,"","",""]
[null,null,null,null,null,null,null,"","",""]
[null,null,null,null,null,null,null,"","",""]
[null,null,null,null,null,null,null,"","",""]
[null,null,null,null,null,null,null,{"$f":"IF(G3345<>\"\",G3345/12,\"\")","v":""},{"$f":"IF(G3345<>\"\",8,\"\")","v":""},{"$f":"IF(I3345<>\"\",I3345/12,\"\")","v":""}]
[null,null,null,null,null,null,null,"","",""]
[null,null,null,null,null,null,null,"","",""]
[null,null,null,null,null,null,null,"","",""]
[null,null,null,null,null,null,null,"","",""]
[null,null,null,null,null,null,null,"","",""]
[null,null,null,null,null,null,null,"","",""]
[null,null,null,null,null,null,null,"","",""]
[null,null,null,null,null,null,null,"","",""]
[null,null,null,null,null,null,null,"","",""]
[null,null,null,null,null,null,null,"","",""]
[null,null,null,null,null,null,null,"","",""]
[null,null,null,null,null,null,null,"","",""]
[null,null,null,null,null,null,null,"","",""]
[null,null,null,null,null,null,null,"","",""]
[null,null,null,null,null,null,null,"","",""]
[null,null,null,null,null,null,null,"","",""]
[null,null,null,null,null,null,null,"","",""]
[null,null,null,null,null,null,null,"","",""]
[null,null,null,null,null,null,null,"","",""]
[null,null,null,null,null,null,null,"","",""]
[null,null,null,null,null,null,null,"","",""]
[null,null,null,null,null,null,null,"","",""]
[null,null,null,null,null,null,null,"","",""]
[null,null,null,null,null,null,null,"","",""]
[null,null,null,null,null,null,null,"","",""]
[null,null,null,null,null,null,null,"","",""]
[null,null,null,null,null,null,null,"","",""]
[null,null,null,null,null,null,null,"","",""]
[null,null,null,null,null,null,null,"","",""]
[null,null,null,null,null,null,null,"","",""]
[null,null,null,null,null,null,null,"","",""]
[null,null,null,null,null,null,null,"","",""]
[null,null,null,null,null,null,null,"","",""]
[null,null,null,null,null,null,null,"","",""]
[null,null,null,null,null,null,null,"","",""]
[null,null,null,null,null,null,null,"","",""]
[null,null,null,null,null,null,null,"","",""]
[null,null,null,null,null,null,null,"","",""]
[null,null,null,null,null,null,null,"","",""]
[null,null,null,null,null,null,null,"","",""]
[null,null,null,null,null,null,null,"","",""]
[null,null,null,null,null,null,null,"","",""]
[null,null,null,null,null,null,null,"","",""]
[null,null,null,null,null,null,null,"","",""]
[null,null,null,null,null,null,null,"","",""]
[null,null,null,null,null,null,null,"","",""]
[null,null,null,null,null,null,null,"","",""]
[null,null,null,null,null,null,null,"","",""]
[null,null,null,null,null,null,null,"","",""]
[null,null,null,null,null,null,null,"","",""]
[null,null,null,null,null,null,null,"","",""]
[null,null,null,null,null,null,null,"","",""]
[null,null,null,null,null,null,null,"","",""]
[null,null,null,null,null,null,null,"","",""]
[null,null,null,null,null,null,null,"","",""]
[null,null,null,null,null,null,null,"","",""]
[null,null,null,null,null,null,null,"","",""]
[null,null,null,null,null,null,null,"","",""]
[null,null,null,null,null,null,null,"","",""]
[null,null,null,null,null,null,null,"","",""]
[null,null,null,null,null,null,null,"","",""]
[null,null,null,null,null,null,null,"","",""]
[null,null,null,null,null,null,null,"","",""]
[null,null,null,null,null,null,null,{"$f":"IF(G3409<>\"\",G3409/12,\"\")","v":""},{"$f":"IF(G3409<>\"\",8,\"\")","v":""},{"$f":"IF(I3409<>\"\",I3409/12,\"\")","v":""}]
[null,null,null,null,null,null,null,"","",""]
[null,null,null,null,null,null,null,"","",""]
[null,null,null,null,null,null,null,"","",""]
[null,null,null,null,null,null,null,"","",""]
[null,null,null,null,null,null,null,"","",""]
[null,null,null,null,null,null,null,"","",""]
[null,null,null,null,null,null,null,"","",""]
[null,null,null,null,null,null,null,"","",""]
[null,null,null,null,null,null,null,"","",""]
[null,null,null,null,null,null,null,"","",""]
[null,null,null,null,null,null,null,"","",""]
[null,null,null,null,null,null,null,"","",""]
[null,null,null,null,null,null,null,"","",""]
[null,null,null,null,null,null,null,"","",""]
[null,null,null,null,null,null,null,"","",""]
[null,null,null,null,null,null,null,"","",""]
[null,null,null,null,null,null,null,"","",""]
[null,null,null,null,null,null,null,"","",""]
[null,null,null,null,null,null,null,"","",""]
[null,null,null,null,null,null,null,"","",""]
[null,null,null,null,null,null,null,"","",""]
[null,null,null,null,null,null,null,"","",""]
[null,null,null,null,null,null,null,"","",""]
[null,null,null,null,null,null,null,"","",""]
[null,null,null,null,null,null,null,"","",""]
[null,null,null,null,null,null,null,"","",""]
[null,null,null,null,null,null,null,"","",""]
[null,null,null,null,null,null,null,"","",""]
[null,null,null,null,null,null,null,"","",""]
[null,null,null,null,null,null,null,"","",""]
[null,null,null,null,null,null,null,"","",""]
[null,null,null,null,null,null,null,"","",""]
[null,null,null,null,null,null,null,"","",""]
[null,null,null,null,null,null,null,"","",""]
[null,null,null,null,null,null,null,"","",""]
[null,null,null,null,null,null,null,"","",""]
[null,null,null,null,null,null,null,"","",""]
[null,null,null,null,null,null,null,"","",""]
[null,null,null,null,null,null,null,"","",""]
[null,null,null,null,null,null,null,"","",""]
[null,null,null,null,null,null,null,"","",""]
[null,null,null,null,null,null,null,"","",""]
[null,null,null,null,null,null,null,"","",""]
[null,null,null,null,null,null,null,"","",""]
[null,null,null,null,null,null,null,"","",""]
[null,null,null,null,null,null,null,"","",""]
[null,null,null,null,null,null,null,"","",""]
[null,null,null,null,null,null,null,"","",""]
[null,null,null,null,null,null,null,"","",""]
[null,null,null,null,null,null,null,"","",""]
[null,null,null,null,null,null,null,"","",""]
[null,null,null,null,null,null,null,"","",""]
[null,null,null,null,null,null,null,"","",""]
[null,null,null,null,null,null,null,"","",""]
[null,null,null,null,null,null,null,"","",""]
[null,null,null,null,null,null,null,"","",""]
[null,null,null,null,null,null,null,"","",""]
[null,null,null,null,null,null,null,"","",""]
[null,null,null,null,null,null,null,"","",""]
[null,null,null,null,null,null,null,"","",""]
[null,null,null,null,null,null,null,"","",""]
[null,null,null,null,null,null,null,"","",""]
[null,null,null,null,null,null,null,"","",""]
[null,null,null,null,null,null,null,{"$f":"IF(G3473<>\"\",G3473/12,\"\")","v":""},{"$f":"IF(G3473<>\"\",8,\"\")","v":""},{"$f":"IF(I3473<>\"\",I3473/12,\"\")","v":""}]
[null,null,null,null,null,null,null,"","",""]
[null,null,null,null,null,null,null,"","",""]
[null,null,null,null,null,null,null,"","",""]
[null,null,null,null,null,null,null,"","",""]
[null,null,null,null,null,null,null,"","",""]
[null,null,null,null,null,null,null,"","",""]
[null,null,null,null,null,null,null,"","",""]
[null,null,null,null,null,null,null,"","",""]
[null,null,null,null,null,null,null,"","",""]
[null,null,null,null,null,null,null,"","",""]
[null,null,null,null,null,null,null,"","",""]
[null,null,null,null,null,null,null,"","",""]
[null,null,null,null,null,null,null,"","",""]
[null,null,null,null,null,null,null,"","",""]
[null,null,null,null,null,null,null,"","",""]
[null,null,null,null,null,null,null,"","",""]
[null,null,null,null,null,null,null,"","",""]
[null,null,null,null,null,null,null,"","",""]
[null,null,null,null,null,null,null,"","",""]
[null,null,null,null,null,null,null,"","",""]
[null,null,null,null,null,null,null,"","",""]
[null,null,null,null,null,null,null,"","",""]
[null,null,null,null,null,null,null,"","",""]
[null,null,null,null,null,null,null,"","",""]
[null,null,null,null,null,null,null,"","",""]
[null,null,null,null,null,null,null,"","",""]
[null,null,null,null,null,null,null,"","",""]
[null,null,null,null,null,null,null,"","",""]
[null,null,null,null,null,null,null,"","",""]
[null,null,null,null,null,null,null,"","",""]
[null,null,null,null,null,null,null,"","",""]
[null,null,null,null,null,null,null,"","",""]
[null,null,null,null,null,null,null,"","",""]
[null,null,null,null,null,null,null,"","",""]
[null,null,null,null,null,null,null,"","",""]
[null,null,null,null,null,null,null,"","",""]
[null,null,null,null,null,null,null,"","",""]
[null,null,null,null,null,null,null,"","",""]
[null,null,null,null,null,null,null,"","",""]
[null,null,null,null,null,null,null,"","",""]
[null,null,null,null,null,null,null,"","",""]
[null,null,null,null,null,null,null,"","",""]
[null,null,null,null,null,null,null,"","",""]
[null,null,null,null,null,null,null,"","",""]
[null,null,null,null,null,null,null,"","",""]
[null,null,null,null,null,null,null,"","",""]
[null,null,null,null,null,null,null,"","",""]
[null,null,null,null,null,null,null,"","",""]
[null,null,null,null,null,null,null,"","",""]
[null,null,null,null,null,null,null,"","",""]
[null,null,null,null,null,null,null,"","",""]
[null,null,null,null,null,null,null,"","",""]
[null,null,null,null,null,null,null,"","",""]
[null,null,null,null,null,null,null,"","",""]
[null,null,null,null,null,null,null,"","",""]
[null,null,null,null,null,null,null,"","",""]
[null,null,null,null,null,null,null,"","",""]
[null,null,null,null,null,null,null,"","",""]
[null,null,null,null,null,null,null,"","",""]
[null,null,null,null,null,null,null,"","",""]
[null,null,null,null,null,null,null,"","",""]
[null,null,null,null,null,null,null,"","",""]
[null,null,null,null,null,null,null,"","",""]
[null,null,null,null,null,null,null,{"$f":"IF(G3537<>\"\",G3537/12,\"\")","v":""},{"$f":"IF(G3537<>\"\",8,\"\")","v":""},{"$f":"IF(I3537<>\"\",I3537/12,\"\")","v":""}]
[null,null,null,null,null,null,null,"","",""]
[null,null,null,null,null,null,null,"","",""]
[null,null,null,null,null,null,null,"","",""]
[null,null,null,null,null,null,null,"","",""]
[null,null,null,null,null,null,null,"","",""]
[null,null,null,null,null,null,null,"","",""]
[null,null,null,null,null,null,null,"","",""]
[null,null,null,null,null,null,null,"","",""]
[null,null,null,null,null,null,null,"","",""]
[null,null,null,null,null,null,null,"","",""]
[null,null,null,null,null,null,null,"","",""]
[null,null,null,null,null,null,null,"","",""]
[null,null,null,null,null,null,null,"","",""]
[null,null,null,null,null,null,null,"","",""]
[null,null,null,null,null,null,null,"","",""]
[null,null,null,null,null,null,null,"","",""]
[null,null,null,null,null,null,null,"","",""]
[null,null,null,null,null,null,null,"","",""]
[null,null,null,null,null,null,null,"","",""]
[null,null,null,null,null,null,null,"","",""]
[null,null,null,null,null,null,null,"","",""]
[null,null,null,null,null,null,null,"","",""]
[null,null,null,null,null,null,null,"","",""]
[null,null,null,null,null,null,null,"","",""]
[null,null,null,null,null,null,null,"","",""]
[null,null,null,null,null,null,null,"","",""]
[null,null,null,null,null,null,null,"","",""]
[null,null,null,null,null,null,null,"","",""]
[null,null,null,null,null,null,null,"","",""]
[null,null,null,null,null,null,null,"","",""]
[null,null,null,null,null,null,null,"","",""]
[null,null,null,null,null,null,null,"","",""]
[null,null,null,null,null,null,null,"","",""]
[null,null,null,null,null,null,null,"","",""]
[null,null,null,null,null,null,null,"","",""]
[null,null,null,null,null,null,null,"","",""]
[null,null,null,null,null,null,null,"","",""]
[null,null,null,null,null,null,null,"","",""]
[null,null,null,null,null,null,null,"","",""]
[null,null,null,null,null,null,null,"","",""]
[null,null,null,null,null,null,null,"","",""]
[null,null,null,null,null,null,null,"","",""]
[null,null,null,null,null,null,null,"","",""]
[null,null,null,null,null,null,null,"","",""]
[null,null,null,null,null,null,null,"","",""]
[null,null,null,null,null,null,null,"","",""]
[null,null,null,null,null,null,null,"","",""]
[null,null,null,null,null,null,null,"","",""]
[null,null,null,null,null,null,null,"","",""]
[null,null,null,null,null,null,null,"","",""]
[null,null,null,null,null,null,null,"","",""]
[null,null,null,null,null,null,null,"","",""]
[null,null,null,null,null,null,null,"","",""]
[null,null,null,null,null,null,null,"","",""]
[null,null,null,null,null,null,null,"","",""]
[null,null,null,null,null,null,null,"","",""]
[null,null,null,null,null,null,null,"","",""]
[null,null,null,null,null,null,null,"","",""]
[null,null,null,null,null,null,null,"","",""]
[null,null,null,null,null,null,null,"","",""]
[null,null,null,null,null,null,null,"","",""]
[null,null,null,null,null,null,null,"","",""]
[null,null,null,null,null,null,null,"","",""]
[null,null,null,null,null,null,null,{"$f":"IF(G3601<>\"\",G3601/12,\"\")","v":""},{"$f":"IF(G3601<>\"\",8,\"\")","v":""},{"$f":"IF(I3601<>\"\",I3601/12,\"\")","v":""}]
[null,null,null,null,null,null,null,"","",""]
[null,null,null,null,null,null,null,"","",""]
[null,null,null,null,null,null,null,"","",""]
[null,null,null,null,null,null,null,"","",""]
[null,null,null,null,null,null,null,"","",""]
[null,null,null,null,null,null,null,"","",""]
[null,null,null,null,null,null,null,"","",""]
[null,null,null,null,null,null,null,"","",""]
[null,null,null,null,null,null,null,"","",""]
[null,null,null,null,null,null,null,"","",""]
[null,null,null,null,null,null,null,"","",""]
[null,null,null,null,null,null,null,"","",""]
[null,null,null,null,null,null,null,"","",""]
[null,null,null,null,null,null,null,"","",""]
[null,null,null,null,null,null,null,"","",""]
[null,null,null,null,null,null,null,"","",""]
[null,null,null,null,null,null,null,"","",""]
[null,null,null,null,null,null,null,"","",""]
[null,null,null,null,null,null,null,"","",""]
[null,null,null,null,null,null,null,"","",""]
[null,null,null,null,null,null,null,"","",""]
[null,null,null,null,null,null,null,"","",""]
[null,null,null,null,null,null,null,"","",""]
[null,null,null,null,null,null,null,"","",""]
[null,null,null,null,null,null,null,"","",""]
[null,null,null,null,null,null,null,"","",""]
[null,null,null,null,null,null,null,"","",""]
[null,null,null,null,null,null,null,"","",""]
[null,null,null,null,null,null,null,"","",""]
[null,null,null,null,null,null,null,"","",""]
[null,null,null,null,null,null,null,"","",""]
[null,null,null,null,null,null,null,"","",""]
[null,null,null,null,null,null,null,"","",""]
[null,null,null,null,null,null,null,"","",""]
[null,null,null,null,null,null,null,"","",""]
[null,null,null,null,null,null,null,"","",""]
[null,null,null,null,null,null,null,"","",""]
[null,null,null,null,null,null,null,"","",""]
[null,null,null,null,null,null,null,"","",""]
[null,null,null,null,null,null,null,"","",""]
[null,null,null,null,null,null,null,"","",""]
[null,null,null,null,null,null,null,"","",""]
[null,null,null,null,null,null,null,"","",""]
[null,null,null,null,null,null,null,"","",""]
[null,null,null,null,null,null,null,"","",""]
[null,null,null,null,null,null,null,"","",""]
[null,null,null,null,null,null,null,"","",""]
[null,null,null,null,null,null,null,"","",""]
[null,null,null,null,null,null,null,"","",""]
[null,null,null,null,null,null,null,"","",""]
[null,null,null,null,null,null,null,"","",""]
[null,null,null,null,null,null,null,"","",""]
[null,null,null,null,null,null,null,"","",""]
[null,null,null,null,null,null,null,"","",""]
[null,null,null,null,null,null,null,"","",""]
[null,null,null,null,null,null,null,"","",""]
[null,null,null,null,null,null,null,"","",""]
[null,null,null,null,null,null,null,"","",""]
[null,null,null,null,null,null,null,"","",""]
[null,null,null,null,null,null,null,"","",""]
[null,null,null,null,null,null,null,"","",""]
[null,null,null,null,null,null,null,"","",""]
[null,null,null,null,null,null,null,"","",""]
[null,null,null,null,null,null,null,{"$f":"IF(G3665<>\"\",G3665/12,\"\")","v":""},{"$f":"IF(G3665<>\"\",8,\"\")","v":""},{"$f":"IF(I3665<>\"\",I3665/12,\"\")","v":""}]
[null,null,null,null,null,null,null,"","",""]
[null,null,null,null,null,null,null,"","",""]
[null,null,null,null,null,null,null,"","",""]
[null,null,null,null,null,null,null,"","",""]
[null,null,null,null,null,null,null,"","",""]
[null,null,null,null,null,null,null,"","",""]
[null,null,null,null,null,null,null,"","",""]
[null,null,null,null,null,null,null,"","",""]
[null,null,null,null,null,null,null,"","",""]
[null,null,null,null,null,null,null,"","",""]
[null,null,null,null,null,null,null,"","",""]
[null,null,null,null,null,null,null,"","",""]
[null,null,null,null,null,null,null,"","",""]
[null,null,null,null,null,null,null,"","",""]
[null,null,null,null,null,null,null,"","",""]
[null,null,null,null,null,null,null,"","",""]
[null,null,null,null,null,null,null,"","",""]
[null,null,null,null,null,null,null,"","",""]
[null,null,null,null,null,null,null,"","",""]
[null,null,null,null,null,null,null,"","",""]
[null,null,null,null,null,null,null,"","",""]
[null,null,null,null,null,null,null,"","",""]
[null,null,null,null,null,null,null,"","",""]
[null,null,null,null,null,null,null,"","",""]
[null,null,null,null,null,null,null,"","",""]
[null,null,null,null,null,null,null,"","",""]
[null,null,null,null,null,null,null,"","",""]
[null,null,null,null,null,null,null,"","",""]
[null,null,null,null,null,null,null,"","",""]
[null,null,null,null,null,null,null,"","",""]
[null,null,null,null,null,null,null,"","",""]
[null,null,null,null,null,null,null,"","",""]
[null,null,null,null,null,null,null,"","",""]
[null,null,null,null,null,null,null,"","",""]
[null,null,null,null,null,null,null,"","",""]
[null,null,null,null,null,null,null,"","",""]
[null,null,null,null,null,null,null,"","",""]
[null,null,null,null,null,null,null,"","",""]
[null,null,null,null,null,null,null,"","",""]
[null,null,null,null,null,null,null,"","",""]
[null,null,null,null,null,null,null,"","",""]
[null,null,null,null,null,null,null,"","",""]
[null,null,null,null,null,null,null,"","",""]
[null,null,null,null,null,null,null,"","",""]
[null,null,null,null,null,null,null,"","",""]
[null,null,null,null,null,null,null,"","",""]
[null,null,null,null,null,null,null,"","",""]
[null,null,null,null,null,null,null,"","",""]
[null,null,null,null,null,null,null,"","",""]
[null,null,null,null,null,null,null,"","",""]
[null,null,null,null,null,null,null,"","",""]
[null,null,null,null,null,null,null,"","",""]
[null,null,null,null,null,null,null,"","",""]
[null,null,null,null,null,null,null,"","",""]
[null,null,null,null,null,null,null,"","",""]
[null,null,null,null,null,null,null,"","",""]
[null,null,null,null,null,null,null,"","",""]
[null,null,null,null,null,null,null,"","",""]
[null,null,null,null,null,null,null,"","",""]
[null,null,null,null,null,null,null,"","",""]
[null,null,null,null,null,null,null,"","",""]
[null,null,null,null,null,null,null,"","",""]
[null,null,null,null,null,null,null,"","",""]
[null,null,null,null,null,null,null,{"$f":"IF(G3729<>\"\",G3729/12,\"\")","v":""},{"$f":"IF(G3729<>\"\",8,\"\")","v":""},{"$f":"IF(I3729<>\"\",I3729/12,\"\")","v":""}]
[null,null,null,null,null,null,null,"","",""]
[null,null,null,null,null,null,null,"","",""]
[null,null,null,null,null,null,null,"","",""]
[null,null,null,null,null,null,null,"","",""]
[null,null,null,null,null,null,null,"","",""]
[null,null,null,null,null,null,null,"","",""]
[null,null,null,null,null,null,null,"","",""]
[null,null,null,null,null,null,null,"","",""]
[null,null,null,null,null,null,null,"","",""]
[null,null,null,null,null,null,null,"","",""]
[null,null,null,null,null,null,null,"","",""]
[null,null,null,null,null,null,null,"","",""]
[null,null,null,null,null,null,null,"","",""]
[null,null,null,null,null,null,null,"","",""]
[null,null,null,null,null,null,null,"","",""]
[null,null,null,null,null,null,null,"","",""]
[null,null,null,null,null,null,null,"","",""]
[null,null,null,null,null,null,null,"","",""]
[null,null,null,null,null,null,null,"","",""]
[null,null,null,null,null,null,null,"","",""]
[null,null,null,null,null,null,null,"","",""]
[null,null,null,null,null,null,null,"","",""]
[null,null,null,null,null,null,null,"","",""]
[null,null,null,null,null,null,null,"","",""]
[null,null,null,null,null,null,null,"","",""]
[null,null,null,null,null,null,null,"","",""]
[null,null,null,null,null,null,null,"","",""]
[null,null,null,null,null,null,null,"","",""]
[null,null,null,null,null,null,null,"","",""]
[null,null,null,null,null,null,null,"","",""]
[null,null,null,null,null,null,null,"","",""]
[null,null,null,null,null,null,null,"","",""]
[null,null,null,null,null,null,null,"","",""]
[null,null,null,null,null,null,null,"","",""]
[null,null,null,null,null,null,null,"","",""]
[null,null,null,null,null,null,null,"","",""]
[null,null,null,null,null,null,null,"","",""]
[null,null,null,null,null,null,null,"","",""]
[null,null,null,null,null,null,null,"","",""]
[null,null,null,null,null,null,null,"","",""]
[null,null,null,null,null,null,null,"","",""]
[null,null,null,null,null,null,null,"","",""]
[null,null,null,null,null,null,null,"","",""]
[null,null,null,null,null,null,null,"","",""]
[null,null,null,null,null,null,null,"","",""]
[null,null,null,null,null,null,null,"","",""]
[null,null,null,null,null,null,null,"","",""]
[null,null,null,null,null,null,null,"","",""]
[null,null,null,null,null,null,null,"","",""]
[null,null,null,null,null,null,null,"","",""]
[null,null,null,null,null,null,null,"","",""]
[null,null,null,null,null,null,null,"","",""]
[null,null,null,null,null,null,null,"","",""]
[null,null,null,null,null,null,null,"","",""]
[null,null,null,null,null,null,null,"","",""]
[null,null,null,null,null,null,null,"","",""]
[null,null,null,null,null,null,null,"","",""]
[null,null,null,null,null,null,null,"","",""]
[null,null,null,null,null,null,null,"","",""]
[null,null,null,null,null,null,null,"","",""]
[null,null,null,null,null,null,null,"","",""]
[null,null,null,null,null,null,null,"","",""]
[null,null,null,null,null,null,null,"","",""]
[null,null,null,null,null,null,null,{"$f":"IF(G3793<>\"\",G3793/12,\"\")","v":""},{"$f":"IF(G3793<>\"\",8,\"\")","v":""},{"$f":"IF(I3793<>\"\",I3793/12,\"\")","v":""}]
[null,null,null,null,null,null,null,"","",""]
[null,null,null,null,null,null,null,"","",""]
[null,null,null,null,null,null,null,"","",""]
[null,null,null,null,null,null,null,"","",""]
[null,null,null,null,null,null,null,"","",""]
[null,null,null,null,null,null,null,"","",""]
[null,null,null,null,null,null,null,"","",""]
[null,null,null,null,null,null,null,"","",""]
[null,null,null,null,null,null,null,"","",""]
[null,null,null,null,null,null,null,"","",""]
[null,null,null,null,null,null,null,"","",""]
[null,null,null,null,null,null,null,"","",""]
[null,null,null,null,null,null,null,"","",""]
[null,null,null,null,null,null,null,"","",""]
[null,null,null,null,null,null,null,"","",""]
[null,null,null,null,null,null,null,"","",""]
[null,null,null,null,null,null,null,"","",""]
[null,null,null,null,null,null,null,"","",""]
[null,null,null,null,null,null,null,"","",""]
[null,null,null,null,null,null,null,"","",""]
[null,null,null,null,null,null,null,"","",""]
[null,null,null,null,null,null,null,"","",""]
[null,null,null,null,null,null,null,"","",""]
[null,null,null,null,null,null,null,"","",""]
[null,null,null,null,null,null,null,"","",""]
[null,null,null,null,null,null,null,"","",""]
[null,null,null,null,null,null,null,"","",""]
[null,null,null,null,null,null,null,"","",""]
[null,null,null,null,null,null,null,"","",""]
[null,null,null,null,null,null,null,"","",""]
[null,null,null,null,null,null,null,"","",""]
[null,null,null,null,null,null,null,"","",""]
[null,null,null,null,null,null,null,"","",""]
[null,null,null,null,null,null,null,"","",""]
[null,null,null,null,null,null,null,"","",""]
[null,null,null,null,null,null,null,"","",""]
[null,null,null,null,null,null,null,"","",""]
[null,null,null,null,null,null,null,"","",""]
[null,null,null,null,null,null,null,"","",""]
[null,null,null,null,null,null,null,"","",""]
[null,null,null,null,null,null,null,"","",""]
[null,null,null,null,null,null,null,"","",""]
[null,null,null,null,null,null,null,"","",""]
[null,null,null,null,null,null,null,"","",""]
[null,null,null,null,null,null,null,"","",""]
[null,null,null,null,null,null,null,"","",""]
[null,null,null,null,null,null,null,"","",""]
[null,null,null,null,null,null,null,"","",""]
[null,null,null,null,null,null,null,"","",""]
[null,null,null,null,null,null,null,"","",""]
[null,null,null,null,null,null,null,"","",""]
[null,null,null,null,null,null,null,"","",""]
[null,null,null,null,null,null,null,"","",""]
[null,null,null,null,null,null,null,"","",""]
[null,null,null,null,null,null,null,"","",""]
[null,null,null,null,null,null,null,"","",""]
[null,null,null,null,null,null,null,"","",""]
[null,null,null,null,null,null,null,"","",""]
[null,null,null,null,null,null,null,"","",""]
[null,null,null,null,null,null,null,"","",""]
[null,null,null,null,null,null,null,"","",""]
[null,null,null,null,null,null,null,"","",""]
[null,null,null,null,null,null,null,"","",""]
[null,null,null,null,null,null,null,{"$f":"IF(G3857<>\"\",G3857/12,\"\")","v":""},{"$f":"IF(G3857<>\"\",8,\"\")","v":""},{"$f":"IF(I3857<>\"\",I3857/12,\"\")","v":""}]
[null,null,null,null,null,null,null,"","",""]
[null,null,null,null,null,null,null,"","",""]
[null,null,null,null,null,null,null,"","",""]
[null,null,null,null,null,null,null,"","",""]
[null,null,null,null,null,null,null,"","",""]
[null,null,null,null,null,null,null,"","",""]
[null,null,null,null,null,null,null,"","",""]
[null,null,null,null,null,null,null,"","",""]
[null,null,null,null,null,null,null,"","",""]
[null,null,null,null,null,null,null,"","",""]
[null,null,null,null,null,null,null,"","",""]
[null,null,null,null,null,null,null,"","",""]
[null,null,null,null,null,null,null,"","",""]
[null,null,null,null,null,null,null,"","",""]
[null,null,null,null,null,null,null,"","",""]
[null,null,null,null,null,null,null,"","",""]
[null,null,null,null,null,null,null,"","",""]
[null,null,null,null,null,null,null,"","",""]
[null,null,null,null,null,null,null,"","",""]
[null,null,null,null,null,null,null,"","",""]
[null,null,null,null,null,null,null,"","",""]
[null,null,null,null,null,null,null,"","",""]
[null,null,null,null,null,null,null,"","",""]
[null,null,null,null,null,null,null,"","",""]
[null,null,null,null,null,null,null,"","",""]
[null,null,null,null,null,null,null,"","",""]
[null,null,null,null,null,null,null,"","",""]
[null,null,null,null,null,null,null,"","",""]
[null,null,null,null,null,null,null,"","",""]
[null,null,null,null,null,null,null,"","",""]
[null,null,null,null,null,null,null,"","",""]
[null,null,null,null,null,null,null,"","",""]
[null,null,null,null,null,null,null,"","",""]
[null,null,null,null,null,null,null,"","",""]
[null,null,null,null,null,null,null,"","",""]
[null,null,null,null,null,null,null,"","",""]
[null,null,null,null,null,null,null,"","",""]
[null,null,null,null,null,null,null,"","",""]
[null,null,null,null,null,null,null,"","",""]
[null,null,null,null,null,null,null,"","",""]
[null,null,null,null,null,null,null,"","",""]
[null,null,null,null,null,null,null,"","",""]
[null,null,null,null,null,null,null,"","",""]
[null,null,null,null,null,null,null,"","",""]
[null,null,null,null,null,null,null,"","",""]
[null,null,null,null,null,null,null,"","",""]
[null,null,null,null,null,null,null,"","",""]
[null,null,null,null,null,null,null,"","",""]
[null,null,null,null,null,null,null,"","",""]
[null,null,null,null,null,null,null,"","",""]
[null,null,null,null,null,null,null,"","",""]
[null,null,null,null,null,null,null,"","",""]
[null,null,null,null,null,null,null,"","",""]
[null,null,null,null,null,null,null,"","",""]
[null,null,null,null,null,null,null,"","",""]
[null,null,null,null,null,null,null,"","",""]
[null,null,null,null,null,null,null,"","",""]
[null,null,null,null,null,null,null,"","",""]
[null,null,null,null,null,null,null,"","",""]
[null,null,null,null,null,null,null,"","",""]
[null,null,null,null,null,null,null,"","",""]
[null,null,null,null,null,null,null,"","",""]
[null,null,null,null,null,null,null,"","",""]
[null,null,null,null,null,null,null,{"$f":"IF(G3921<>\"\",G3921/12,\"\")","v":""},{"$f":"IF(G3921<>\"\",8,\"\")","v":""},{"$f":"IF(I3921<>\"\",I3921/12,\"\")","v":""}]
[null,null,null,null,null,null,null,"","",""]
[null,null,null,null,null,null,null,"","",""]
[null,null,null,null,null,null,null,"","",""]
[null,null,null,null,null,null,null,"","",""]
[null,null,null,null,null,null,null,"","",""]
[null,null,null,null,null,null,null,"","",""]
[null,null,null,null,null,null,null,"","",""]
[null,null,null,null,null,null,null,"","",""]
[null,null,null,null,null,null,null,"","",""]
[null,null,null,null,null,null,null,"","",""]
[null,null,null,null,null,null,null,"","",""]
[null,null,null,null,null,null,null,"","",""]
[null,null,null,null,null,null,null,"","",""]
[null,null,null,null,null,null,null,"","",""]
[null,null,null,null,null,null,null,"","",""]
[null,null,null,null,null,null,null,"","",""]
[null,null,null,null,null,null,null,"","",""]
[null,null,null,null,null,null,null,"","",""]
[null,null,null,null,null,null,null,"","",""]
[null,null,null,null,null,null,null,"","",""]
[null,null,null,null,null,null,null,"","",""]
[null,null,null,null,null,null,null,"","",""]
[null,null,null,null,null,null,null,"","",""]
[null,null,null,null,null,null,null,"","",""]
[null,null,null,null,null,null,null,"","",""]
[null,null,null,null,null,null,null,"","",""]
[null,null,null,null,null,null,null,"","",""]
[null,null,null,null,null,null,null,"","",""]
[null,null,null,null,null,null,null,"","",""]
[null,null,null,null,null,null,null,"","",""]
[null,null,null,null,null,null,null,"","",""]
[null,null,null,null,null,null,null,"","",""]
[null,null,null,null,null,null,null,"","",""]
[null,null,null,null,null,null,null,"","",""]
[null,null,null,null,null,null,null,"","",""]
[null,null,null,null,null,null,null,"","",""]
[null,null,null,null,null,null,null,"","",""]
[null,null,null,null,null,null,null,"","",""]
[null,null,null,null,null,null,null,"","",""]
[null,null,null,null,null,null,null,"","",""]
[null,null,null,null,null,null,null,"","",""]
[null,null,null,null,null,null,null,"","",""]
[null,null,null,null,null,null,null,"","",""]
[null,null,null,null,null,null,null,"","",""]
[null,null,null,null,null,null,null,"","",""]
[null,null,null,null,null,null,null,"","",""]
[null,null,null,null,null,null,null,"","",""]
[null,null,null,null,null,null,null,"","",""]
[null,null,null,null,null,null,null,"","",""]
[null,null,null,null,null,null,null,"","",""]
[null,null,null,null,null,null,null,"","",""]
[null,null,null,null,null,null,null,"","",""]
[null,null,null,null,null,null,null,"","",""]
[null,null,null,null,null,null,null,"","",""]
[null,null,null,null,null,null,null,"","",""]
[null,null,null,null,null,null,null,"","",""]
[null,null,null,null,null,null,null,"","",""]
[null,null,null,null,null,null,null,"","",""]
[null,null,null,null,null,null,null,"","",""]
[null,null,null,null,null,null,null,"","",""]
[null,null,null,null,null,null,null,"","",""]
[null,null,null,null,null,null,null,"","",""]
[null,null,null,null,null,null,null,"","",""]
[null,null,null,null,null,null,null,{"$f":"IF(G3985<>\"\",G3985/12,\"\")","v":""},{"$f":"IF(G3985<>\"\",8,\"\")","v":""},{"$f":"IF(I3985<>\"\",I3985/12,\"\")","v":""}]
[null,null,null,null,null,null,null,"","",""]
[null,null,null,null,null,null,null,"","",""]
[null,null,null,null,null,null,null,"","",""]
[null,null,null,null,null,null,null,"","",""]
[null,null,null,null,null,null,null,"","",""]
[null,null,null,null,null,null,null,"","",""]
[null,null,null,null,null,null,null,"","",""]
[null,null,null,null,null,null,null,"","",""]
[null,null,null,null,null,null,null,"","",""]
[null,null,null,null,null,null,null,"","",""]
[null,null,null,null,null,null,null,"","",""]
[null,null,null,null,null,null,null,"","",""]
[null,null,null,null,null,null,null,"","",""]
[null,null,null,null,null,null,null,"","",""]
[null,null,null,null,null,null,null,"","",""]
[null,null,null,null,null,null,null,"","",""]
[null,null,null,null,null,null,null,"","",""]
[null,null,null,null,null,null,null,"","",""]
[null,null,null,null,null,null,null,"","",""]
[null,null,null,null,null,null,null,"","",""]
[null,null,null,null,null,null,null,"","",""]
[null,null,null,null,null,null,null,"","",""]
[null,null,null,null,null,null,null,"","",""]
[null,null,null,null,null,null,null,"","",""]
[null,null,null,null,null,null,null,"","",""]
[null,null,null,null,null,null,null,"","",""]
[null,null,null,null,null,null,null,"","",""]
[null,null,null,null,null,null,null,"","",""]
[null,null,null,null,null,null,null,"","",""]
[null,null,null,null,null,null,null,"","",""]
[null,null,null,null,null,null,null,"","",""]
[null,null,null,null,null,null,null,"","",""]
[null,null,null,null,null,null,null,"","",""]
[null,null,null,null,null,null,null,"","",""]
[null,null,null,null,null,null,null,"","",""]
[null,null,null,null,null,null,null,"","",""]
[null,null,null,null,null,null,null,"","",""]
[null,null,null,null,null,null,null,"","",""]
[null,null,null,null,null,null,null,"","",""]
[null,null,null,null,null,null,null,"","",""]
[null,null,null,null,null,null,null,"","",""]
[null,null,null,null,null,null,null,"","",""]
[null,null,null,null,null,null,null,"","",""]
[null,null,null,null,null,null,null,"","",""]
[null,null,null,null,null,null,null,"","",""]
[null,null,null,null,null,null,null,"","",""]
[null,null,null,null,null,null,null,"","",""]
[null,null,null,null,null,null,null,"","",""]
[null,null,null,null,null,null,null,"","",""]
[null,null,null,null,null,null,null,"","",""]
[null,null,null,null,null,null,null,"","",""]
[null,null,null,null,null,null,null,"","",""]
[null,null,null,null,null,null,null,"","",""]
[null,null,null,null,null,null,null,"","",""]
[null,null,null,null,null,null,null,"","",""]
[null,null,null,null,null,null,null,"","",""]
[null,null,null,null,null,null,null,"","",""]
[null,null,null,null,null,null,null,"","",""]
[null,null,null,null,null,null,null,"","",""]
[null,null,null,null,null,null,null,"","",""]
[null,null,null,null,null,null,null,"","",""]
[null,null,null,null,null,null,null,"","",""]
[null,null,null,null,null,null,null,"","",""]
[null,null,null,null,null,null,null,{"$f":"IF(G4049<>\"\",G4049/12,\"\")","v":""},{"$f":"IF(G4049<>\"\",8,\"\")","v":""},{"$f":"IF(I4049<>\"\",I4049/12,\"\")","v":""}]
[null,null,null,null,null,null,null,"","",""]
[null,null,null,null,null,null,null,"","",""]
[null,null,null,null,null,null,null,"","",""]
[null,null,null,null,null,null,null,"","",""]
[null,null,null,null,null,null,null,"","",""]
[null,null,null,null,null,null,null,"","",""]
[null,null,null,null,null,null,null,"","",""]
[null,null,null,null,null,null,null,"","",""]
[null,null,null,null,null,null,null,"","",""]
[null,null,null,null,null,null,null,"","",""]
[null,null,null,null,null,null,null,"","",""]
[null,null,null,null,null,null,null,"","",""]
[null,null,null,null,null,null,null,"","",""]
[null,null,null,null,null,null,null,"","",""]
[null,null,null,null,null,null,null,"","",""]
[null,null,null,null,null,null,null,"","",""]
[null,null,null,null,null,null,null,"","",""]
[null,null,null,null,null,null,null,"","",""]
[null,null,null,null,null,null,null,"","",""]
[null,null,null,null,null,null,null,"","",""]
[null,null,null,null,null,null,null,"","",""]
[null,null,null,null,null,null,null,"","",""]
[null,null,null,null,null,null,null,"","",""]
[null,null,null,null,null,null,null,"","",""]
[null,null,null,null,null,null,null,"","",""]
[null,null,null,null,null,null,null,"","",""]
[null,null,null,null,null,null,null,"","",""]
[null,null,null,null,null,null,null,"","",""]
[null,null,null,null,null,null,null,"","",""]
[null,null,null,null,null,null,null,"","",""]
[null,null,null,null,null,null,null,"","",""]
[null,null,null,null,null,null,null,"","",""]
[null,null,null,null,null,null,null,"","",""]
[null,null,null,null,null,null,null,"","",""]
[null,null,null,null,null,null,null,"","",""]
[null,null,null,null,null,null,null,"","",""]
[null,null,null,null,null,null,null,"","",""]
[null,null,null,null,null,null,null,"","",""]
[null,null,null,null,null,null,null,"","",""]
[null,null,null,null,null,null,null,"","",""]
[null,null,null,null,null,null,null,"","",""]
[null,null,null,null,null,null,null,"","",""]
[null,null,null,null,null,null,null,"","",""]
[null,null,null,null,null,null,null,"","",""]
[null,null,null,null,null,null,null,"","",""]
[null,null,null,null,null,null,null,"","",""]
[null,null,null,null,null,null,null,"","",""]
[null,null,null,null,null,null,null,"","",""]
[null,null,null,null,null,null,null,"","",""]
[null,null,null,null,null,null,null,"","",""]
[null,null,null,null,null,null,null,"","",""]
[null,null,null,null,null,null,null,"","",""]
[null,null,null,null,null,null,null,"","",""]
[null,null,null,null,null,null,null,"","",""]
[null,null,null,null,null,null,null,"","",""]
[null,null,null,null,null,null,null,"","",""]
[null,null,null,null,null,null,null,"","",""]
[null,null,null,null,null,null,null,"","",""]
[null,null,null,null,null,null,null,"","",""]
[null,null,null,null,null,null,null,"","",""]
[null,null,null,null,null,null,null,"","",""]
[null,null,null,null,null,null,null,"","",""]
[null,null,null,null,null,null,null,"","",""]
[null,null,null,null,null,null,null,{"$f":"IF(G4113<>\"\",G4113/12,\"\")","v":""},{"$f":"IF(G4113<>\"\",8,\"\")","v":""},{"$f":"IF(I4113<>\"\",I4113/12,\"\")","v":""}]
[null,null,null,null,null,null,null,"","",""]
[null,null,null,null,null,null,null,"","",""]
[null,null,null,null,null,null,null,"","",""]
[null,null,null,null,null,null,null,"","",""]
[null,null,null,null,null,null,null,"","",""]
[null,null,null,null,null,null,null,"","",""]
[null,null,null,null,null,null,null,"","",""]
[null,null,null,null,null,null,null,"","",""]
[null,null,null,null,null,null,null,"","",""]
[null,null,null,null,null,null,null,"","",""]
[null,null,null,null,null,null,null,"","",""]
[null,null,null,null,null,null,null,"","",""]
[null,null,null,null,null,null,null,"","",""]
[null,null,null,null,null,null,null,"","",""]
[null,null,null,null,null,null,null,"","",""]
[null,null,null,null,null,null,null,"","",""]
[null,null,null,null,null,null,null,"","",""]
[null,null,null,null,null,null,null,"","",""]
[null,null,null,null,null,null,null,"","",""]
[null,null,null,null,null,null,null,"","",""]
[null,null,null,null,null,null,null,"","",""]
[null,null,null,null,null,null,null,"","",""]
[null,null,null,null,null,null,null,"","",""]
[null,null,null,null,null,null,null,"","",""]
[null,null,null,null,null,null,null,"","",""]
[null,null,null,null,null,null,null,"","",""]
[null,null,null,null,null,null,null,"","",""]
[null,null,null,null,null,null,null,"","",""]
[null,null,null,null,null,null,null,"","",""]
[null,null,null,null,null,null,null,"","",""]
[null,null,null,null,null,null,null,"","",""]
[null,null,null,null,null,null,null,"","",""]
[null,null,null,null,null,null,null,"","",""]
[null,null,null,null,null,null,null,"","",""]
[null,null,null,null,null,null,null,"","",""]
[null,null,null,null,null,null,null,"","",""]
[null,null,null,null,null,null,null,"","",""]
[null,null,null,null,null,null,null,"","",""]
[null,null,null,null,null,null,null,"","",""]
[null,null,null,null,null,null,null,"","",""]
[null,null,null,null,null,null,null,"","",""]
[null,null,null,null,null,null,null,"","",""]
[null,null,null,null,null,null,null,"","",""]
[null,null,null,null,null,null,null,"","",""]
[null,null,null,null,null,null,null,"","",""]
[null,null,null,null,null,null,null,"","",""]
[null,null,null,null,null,null,null,"","",""]
[null,null,null,null,null,null,null,"","",""]
[null,null,null,null,null,null,null,"","",""]
[null,null,null,null,null,null,null,"","",""]
[null,null,null,null,null,null,null,"","",""]
[null,null,null,null,null,null,null,"","",""]
[null,null,null,null,null,null,null,"","",""]
[null,null,null,null,null,null,null,"","",""]
[null,null,null,null,null,null,null,"","",""]
[null,null,null,null,null,null,null,"","",""]
[null,null,null,null,null,null,null,"","",""]
[null,null,null,null,null,null,null,"","",""]
[null,null,null,null,null,null,null,"","",""]
[null,null,null,null,null,null,null,"","",""]
[null,null,null,null,null,null,null,"","",""]
[null,null,null,null,null,null,null,"","",""]
[null,null,null,null,null,null,null,"","",""]
[null,null,null,null,null,null,null,{"$f":"IF(G4177<>\"\",G4177/12,\"\")","v":""},{"$f":"IF(G4177<>\"\",8,\"\")","v":""},{"$f":"IF(I4177<>\"\",I4177/12,\"\")","v":""}]
[null,null,null,null,null,null,null,"","",""]
[null,null,null,null,null,null,null,"","",""]
[null,null,null,null,null,null,null,"","",""]
[null,null,null,null,null,null,null,"","",""]
[null,null,null,null,null,null,null,"","",""]
[null,null,null,null,null,null,null,"","",""]
[null,null,null,null,null,null,null,"","",""]
[null,null,null,null,null,null,null,"","",""]
[null,null,null,null,null,null,null,"","",""]
[null,null,null,null,null,null,null,"","",""]
[null,null,null,null,null,null,null,"","",""]
[null,null,null,null,null,null,null,"","",""]
[null,null,null,null,null,null,null,"","",""]
[null,null,null,null,null,null,null,"","",""]
[null,null,null,null,null,null,null,"","",""]
[null,null,null,null,null,null,null,"","",""]
[null,null,null,null,null,null,null,"","",""]
[null,null,null,null,null,null,null,"","",""]
[null,null,null,null,null,null,null,"","",""]
[null,null,null,null,null,null,null,"","",""]
[null,null,null,null,null,null,null,"","",""]
[null,null,null,null,null,null,null,"","",""]
[null,null,null,null,null,null,null,"","",""]
[null,null,null,null,null,null,null,"","",""]
[null,null,null,null,null,null,null,"","",""]
[null,null,null,null,null,null,null,"","",""]
[null,null,null,null,null,null,null,"","",""]
[null,null,null,null,null,null,null,"","",""]
[null,null,null,null,null,null,null,"","",""]
[null,null,null,null,null,null,null,"","",""]
[null,null,null,null,null,null,null,"","",""]
[null,null,null,null,null,null,null,"","",""]
[null,null,null,null,null,null,null,"","",""]
[null,null,null,null,null,null,null,"","",""]
[null,null,null,null,null,null,null,"","",""]
[null,null,null,null,null,null,null,"","",""]
[null,null,null,null,null,null,null,"","",""]
[null,null,null,null,null,null,null,"","",""]
[null,null,null,null,null,null,null,"","",""]
[null,null,null,null,null,null,null,"","",""]
[null,null,null,null,null,null,null,"","",""]
[null,null,null,null,null,null,null,"","",""]
[null,null,null,null,null,null,null,"","",""]
[null,null,null,null,null,null,null,"","",""]
[null,null,null,null,null,null,null,"","",""]
[null,null,null,null,null,null,null,"","",""]
[null,null,null,null,null,null,null,"","",""]
[null,null,null,null,null,null,null,"","",""]
[null,null,null,null,null,null,null,"","",""]
[null,null,null,null,null,null,null,"","",""]
[null,null,null,null,null,null,null,"","",""]
[null,null,null,null,null,null,null,"","",""]
[null,null,null,null,null,null,null,"","",""]
[null,null,null,null,null,null,null,"","",""]
[null,null,null,null,null,null,null,"","",""]
[null,null,null,null,null,null,null,"","",""]
[null,null,null,null,null,null,null,"","",""]
[null,null,null,null,null,null,null,"","",""]
[null,null,null,null,null,null,null,"","",""]
[null,null,null,null,null,null,null,"","",""]
[null,null,null,null,null,null,null,"","",""]
[null,null,null,null,null,null,null,"","",""]
[null,null,null,null,null,null,null,"","",""]
[null,null,null,null,null,null,null,{"$f":"IF(G4241<>\"\",G4241/12,\"\")","v":""},{"$f":"IF(G4241<>\"\",8,\"\")","v":""},{"$f":"IF(I4241<>\"\",I4241/12,\"\")","v":""}]
[null,null,null,null,null,null,null,"","",""]
[null,null,null,null,null,null,null,"","",""]
[null,null,null,null,null,null,null,"","",""]
[null,null,null,null,null,null,null,"","",""]
[null,null,null,null,null,null,null,"","",""]
[null,null,null,null,null,null,null,"","",""]
[null,null,null,null,null,null,null,"","",""]
[null,null,null,null,null,null,null,"","",""]
[null,null,null,null,null,null,null,"","",""]
[null,null,null,null,null,null,null,"","",""]
[null,null,null,null,null,null,null,"","",""]
[null,null,null,null,null,null,null,"","",""]
[null,null,null,null,null,null,null,"","",""]
[null,null,null,null,null,null,null,"","",""]
[null,null,null,null,null,null,null,"","",""]
[null,null,null,null,null,null,null,"","",""]
[null,null,null,null,null,null,null,"","",""]
[null,null,null,null,null,null,null,"","",""]
[null,null,null,null,null,null,null,"","",""]
[null,null,null,null,null,null,null,"","",""]
[null,null,null,null,null,null,null,"","",""]
[null,null,null,null,null,null,null,"","",""]
[null,null,null,null,null,null,null,"","",""]
[null,null,null,null,null,null,null,"","",""]
[null,null,null,null,null,null,null,"","",""]
[null,null,null,null,null,null,null,"","",""]
[null,null,null,null,null,null,null,"","",""]
[null,null,null,null,null,null,null,"","",""]
[null,null,null,null,null,null,null,"","",""]
[null,null,null,null,null,null,null,"","",""]
[null,null,null,null,null,null,null,"","",""]
[null,null,null,null,null,null,null,"","",""]
[null,null,null,null,null,null,null,"","",""]
[null,null,null,null,null,null,null,"","",""]
[null,null,null,null,null,null,null,"","",""]
[null,null,null,null,null,null,null,"","",""]
[null,null,null,null,null,null,null,"","",""]
[null,null,null,null,null,null,null,"","",""]
[null,null,null,null,null,null,null,"","",""]
[null,null,null,null,null,null,null,"","",""]
[null,null,null,null,null,null,null,"","",""]
[null,null,null,null,null,null,null,"","",""]
[null,null,null,null,null,null,null,"","",""]
[null,null,null,null,null,null,null,"","",""]
[null,null,null,null,null,null,null,"","",""]
[null,null,null,null,null,null,null,"","",""]
[null,null,null,null,null,null,null,"","",""]
[null,null,null,null,null,null,null,"","",""]
[null,null,null,null,null,null,null,"","",""]
[null,null,null,null,null,null,null,"","",""]
[null,null,null,null,null,null,null,"","",""]
[null,null,null,null,null,null,null,"","",""]
[null,null,null,null,null,null,null,"","",""]
[null,null,null,null,null,null,null,"","",""]
[null,null,null,null,null,null,null,"","",""]
[null,null,null,null,null,null,null,"","",""]
[null,null,null,null,null,null,null,"","",""]
[null,null,null,null,null,null,null,"","",""]
[null,null,null,null,null,null,null,"","",""]
[null,null,null,null,null,null,null,"","",""]
[null,null,null,null,null,null,null,"","",""]
[null,null,null,null,null,null,null,"","",""]
[null,null,null,null,null,null,null,"","",""]
[null,null,null,null,null,null,null,{"$f":"IF(G4305<>\"\",G4305/12,\"\")","v":""},{"$f":"IF(G4305<>\"\",8,\"\")","v":""},{"$f":"IF(I4305<>\"\",I4305/12,\"\")","v":""}]
[null,null,null,null,null,null,null,"","",""]
[null,null,null,null,null,null,null,"","",""]
[null,null,null,null,null,null,null,"","",""]
[null,null,null,null,null,null,null,"","",""]
[null,null,null,null,null,null,null,"","",""]
[null,null,null,null,null,null,null,"","",""]
[null,null,null,null,null,null,null,"","",""]
[null,null,null,null,null,null,null,"","",""]
[null,null,null,null,null,null,null,"","",""]
[null,null,null,null,null,null,null,"","",""]
[null,null,null,null,null,null,null,"","",""]
[null,null,null,null,null,null,null,"","",""]
[null,null,null,null,null,null,null,"","",""]
[null,null,null,null,null,null,null,"","",""]
[null,null,null,null,null,null,null,"","",""]
[null,null,null,null,null,null,null,"","",""]
[null,null,null,null,null,null,null,"","",""]
[null,null,null,null,null,null,null,"","",""]
[null,null,null,null,null,null,null,"","",""]
[null,null,null,null,null,null,null,"","",""]
[null,null,null,null,null,null,null,"","",""]
[null,null,null,null,null,null,null,"","",""]
[null,null,null,null,null,null,null,"","",""]
[null,null,null,null,null,null,null,"","",""]
[null,null,null,null,null,null,null,"","",""]
[null,null,null,null,null,null,null,"","",""]
[null,null,null,null,null,null,null,"","",""]
[null,null,null,null,null,null,null,"","",""]
[null,null,null,null,null,null,null,"","",""]
[null,null,null,null,null,null,null,"","",""]
[null,null,null,null,null,null,null,"","",""]
[null,null,null,null,null,null,null,"","",""]
[null,null,null,null,null,null,null,"","",""]
[null,null,null,null,null,null,null,"","",""]
[null,null,null,null,null,null,null,"","",""]
[null,null,null,null,null,null,null,"","",""]
[null,null,null,null,null,null,null,"","",""]
[null,null,null,null,null,null,null,"","",""]
[null,null,null,null,null,null,null,"","",""]
[null,null,null,null,null,null,null,"","",""]
[null,null,null,null,null,null,null,"","",""]
[null,null,null,null,null,null,null,"","",""]
[null,null,null,null,null,null,null,"","",""]
[null,null,null,null,null,null,null,"","",""]
[null,null,null,null,null,null,null,"","",""]
[null,null,null,null,null,null,null,"","",""]
[null,null,null,null,null,null,null,"","",""]
[null,null,null,null,null,null,null,"","",""]
[null,null,null,null,null,null,null,"","",""]
[null,null,null,null,null,null,null,"","",""]
[null,null,null,null,null,null,null,"","",""]
[null,null,null,null,null,null,null,"","",""]
[null,null,null,null,null,null,null,"","",""]
[null,null,null,null,null,null,null,"","",""]
[null,null,null,null,null,null,null,"","",""]
[null,null,null,null,null,null,null,"","",""]
[null,null,null,null,null,null,null,"","",""]
[null,null,null,null,null,null,null,"","",""]
[null,null,null,null,null,null,null,"","",""]
[null,null,null,null,null,null,null,"","",""]
[null,null,null,null,null,null,null,"","",""]
[null,null,null,null,null,null,null,"","",""]
[null,null,null,null,null,null,null,"","",""]
[null,null,null,null,null,null,null,{"$f":"IF(G4369<>\"\",G4369/12,\"\")","v":""},{"$f":"IF(G4369<>\"\",8,\"\")","v":""},{"$f":"IF(I4369<>\"\",I4369/12,\"\")","v":""}]
[null,null,null,null,null,null,null,"","",""]
[null,null,null,null,null,null,null,"","",""]
[null,null,null,null,null,null,null,"","",""]
[null,null,null,null,null,null,null,"","",""]
[null,null,null,null,null,null,null,"","",""]
[null,null,null,null,null,null,null,"","",""]
[null,null,null,null,null,null,null,"","",""]
[null,null,null,null,null,null,null,"","",""]
[null,null,null,null,null,null,null,"","",""]
[null,null,null,null,null,null,null,"","",""]
[null,null,null,null,null,null,null,"","",""]
[null,null,null,null,null,null,null,"","",""]
[null,null,null,null,null,null,null,"","",""]
[null,null,null,null,null,null,null,"","",""]
[null,null,null,null,null,null,null,"","",""]
[null,null,null,null,null,null,null,"","",""]
[null,null,null,null,null,null,null,"","",""]
[null,null,null,null,null,null,null,"","",""]
[null,null,null,null,null,null,null,"","",""]
[null,null,null,null,null,null,null,"","",""]
[null,null,null,null,null,null,null,"","",""]
[null,null,null,null,null,null,null,"","",""]
[null,null,null,null,null,null,null,"","",""]
[null,null,null,null,null,null,null,"","",""]
[null,null,null,null,null,null,null,"","",""]
[null,null,null,null,null,null,null,"","",""]
[null,null,null,null,null,null,null,"","",""]
[null,null,null,null,null,null,null,"","",""]
[null,null,null,null,null,null,null,"","",""]
[null,null,null,null,null,null,null,"","",""]
[null,null,null,null,null,null,null,"","",""]
[null,null,null,null,null,null,null,"","",""]
[null,null,null,null,null,null,null,"","",""]
[null,null,null,null,null,null,null,"","",""]
[null,null,null,null,null,null,null,"","",""]
[null,null,null,null,null,null,null,"","",""]
[null,null,null,null,null,null,null,"","",""]
[null,null,null,null,null,null,null,"","",""]
[null,null,null,null,null,null,null,"","",""]
[null,null,null,null,null,null,null,"","",""]
[null,null,null,null,null,null,null,"","",""]
[null,null,null,null,null,null,null,"","",""]
[null,null,null,null,null,null,null,"","",""]
[null,null,null,null,null,null,null,"","",""]
[null,null,null,null,null,null,null,"","",""]
[null,null,null,null,null,null,null,"","",""]
[null,null,null,null,null,null,null,"","",""]
[null,null,null,null,null,null,null,"","",""]
[null,null,null,null,null,null,null,"","",""]
[null,null,null,null,null,null,null,"","",""]
[null,null,null,null,null,null,null,"","",""]
[null,null,null,null,null,null,null,"","",""]
[null,null,null,null,null,null,null,"","",""]
[null,null,null,null,null,null,null,"","",""]
[null,null,null,null,null,null,null,"","",""]
[null,null,null,null,null,null,null,"","",""]
[null,null,null,null,null,null,null,"","",""]
[null,null,null,null,null,null,null,"","",""]
[null,null,null,null,null,null,null,"","",""]
[null,null,null,null,null,null,null,"","",""]
[null,null,null,null,null,null,null,"","",""]
[null,null,null,null,null,null,null,"","",""]
[null,null,null,null,null,null,null,"","",""]
[null,null,null,null,null,null,null,{"$f":"IF(G4433<>\"\",G4433/12,\"\")","v":""},{"$f":"IF(G4433<>\"\",8,\"\")","v":""},{"$f":"IF(I4433<>\"\",I4433/12,\"\")","v":""}]
[null,null,null,null,null,null,null,"","",""]
[null,null,null,null,null,null,null,"","",""]
[null,null,null,null,null,null,null,"","",""]
[null,null,null,null,null,null,null,"","",""]
[null,null,null,null,null,null,null,"","",""]
[null,null,null,null,null,null,null,"","",""]
[null,null,null,null,null,null,null,"","",""]
[null,null,null,null,null,null,null,"","",""]
[null,null,null,null,null,null,null,"","",""]
[null,null,null,null,null,null,null,"","",""]
[null,null,null,null,null,null,null,"","",""]
[null,null,null,null,null,null,null,"","",""]
[null,null,null,null,null,null,null,"","",""]
[null,null,null,null,null,null,null,"","",""]
[null,null,null,null,null,null,null,"","",""]
[null,null,null,null,null,null,null,"","",""]
[null,null,null,null,null,null,null,"","",""]
[null,null,null,null,null,null,null,"","",""]
[null,null,null,null,null,null,null,"","",""]
[null,null,null,null,null,null,null,"","",""]
[null,null,null,null,null,null,null,"","",""]
[null,null,null,null,null,null,null,"","",""]
[null,null,null,null,null,null,null,"","",""]
[null,null,null,null,null,null,null,"","",""]
[null,null,null,null,null,null,null,"","",""]
[null,null,null,null,null,null,null,"","",""]
[null,null,null,null,null,null,null,"","",""]
[null,null,null,null,null,null,null,"","",""]
[null,null,null,null,null,null,null,"","",""]
[null,null,null,null,null,null,null,"","",""]
[null,null,null,null,null,null,null,"","",""]
[null,null,null,null,null,null,null,"","",""]
[null,null,null,null,null,null,null,"","",""]
[null,null,null,null,null,null,null,"","",""]
[null,null,null,null,null,null,null,"","",""]
[null,null,null,null,null,null,null,"","",""]
[null,null,null,null,null,null,null,"","",""]
[null,null,null,null,null,null,null,"","",""]
[null,null,null,null,null,null,null,"","",""]
[null,null,null,null,null,null,null,"","",""]
[null,null,null,null,null,null,null,"","",""]
[null,null,null,null,null,null,null,"","",""]
[null,null,null,null,null,null,null,"","",""]
[null,null,null,null,null,null,null,"","",""]
[null,null,null,null,null,null,null,"","",""]
[null,null,null,null,null,null,null,"","",""]
[null,null,null,null,null,null,null,"","",""]
[null,null,null,null,null,null,null,"","",""]
[null,null,null,null,null,null,null,"","",""]
[null,null,null,null,null,null,null,"","",""]
[null,null,null,null,null,null,null,"","",""]
[null,null,null,null,null,null,null,"","",""]
[null,null,null,null,null,null,null,"","",""]
[null,null,null,null,null,null,null,"","",""]
[null,null,null,null,null,null,null,"","",""]
[null,null,null,null,null,null,null,"","",""]
[null,null,null,null,null,null,null,"","",""]
[null,null,null,null,null,null,null,"","",""]
[null,null,null,null,null,null,null,"","",""]
[null,null,null,null,null,null,null,"","",""]
[null,null,null,null,null,null,null,"","",""]
[null,null,null,null,null,null,null,"","",""]
[null,null,null,null,null,null,null,"","",""]
[null,null,null,null,null,null,null,{"$f":"IF(G4497<>\"\",G4497/12,\"\")","v":""},{"$f":"IF(G4497<>\"\",8,\"\")","v":""},{"$f":"IF(I4497<>\"\",I4497/12,\"\")","v":""}]
[null,null,null,null,null,null,null,"","",""]
[null,null,null,null,null,null,null,"","",""]
[null,null,null,null,null,null,null,"","",""]
[null,null,null,null,null,null,null,"","",""]
[null,null,null,null,null,null,null,"","",""]
[null,null,null,null,null,null,null,"","",""]
[null,null,null,null,null,null,null,"","",""]
[null,null,null,null,null,null,null,"","",""]
[null,null,null,null,null,null,null,"","",""]
[null,null,null,null,null,null,null,"","",""]
[null,null,null,null,null,null,null,"","",""]
[null,null,null,null,null,null,null,"","",""]
[null,null,null,null,null,null,null,"","",""]
[null,null,null,null,null,null,null,"","",""]
[null,null,null,null,null,null,null,"","",""]
[null,null,null,null,null,null,null,"","",""]
[null,null,null,null,null,null,null,"","",""]
[null,null,null,null,null,null,null,"","",""]
[null,null,null,null,null,null,null,"","",""]
[null,null,null,null,null,null,null,"","",""]
[null,null,null,null,null,null,null,"","",""]
[null,null,null,null,null,null,null,"","",""]
[null,null,null,null,null,null,null,"","",""]
[null,null,null,null,null,null,null,"","",""]
[null,null,null,null,null,null,null,"","",""]
[null,null,null,null,null,null,null,"","",""]
[null,null,null,null,null,null,null,"","",""]
[null,null,null,null,null,null,null,"","",""]
[null,null,null,null,null,null,null,"","",""]
[null,null,null,null,null,null,null,"","",""]
[null,null,null,null,null,null,null,"","",""]
[null,null,null,null,null,null,null,"","",""]
[null,null,null,null,null,null,null,"","",""]
[null,null,null,null,null,null,null,"","",""]
[null,null,null,null,null,null,null,"","",""]
[null,null,null,null,null,null,null,"","",""]
[null,null,null,null,null,null,null,"","",""]
[null,null,null,null,null,null,null,"","",""]
[null,null,null,null,null,null,null,"","",""]
[null,null,null,null,null,null,null,"","",""]
[null,null,null,null,null,null,null,"","",""]
[null,null,null,null,null,null,null,"","",""]
[null,null,null,null,null,null,null,"","",""]
[null,null,null,null,null,null,null,"","",""]
[null,null,null,null,null,null,null,"","",""]
[null,null,null,null,null,null,null,"","",""]
[null,null,null,null,null,null,null,"","",""]
[null,null,null,null,null,null,null,"","",""]
[null,null,null,null,null,null,null,"","",""]
[null,null,null,null,null,null,null,"","",""]
[null,null,null,null,null,null,null,"","",""]
[null,null,null,null,null,null,null,"","",""]
[null,null,null,null,null,null,null,"","",""]
[null,null,null,null,null,null,null,"","",""]
[null,null,null,null,null,null,null,"","",""]
[null,null,null,null,null,null,null,"","",""]
[null,null,null,null,null,null,null,"","",""]
[null,null,null,null,null,null,null,"","",""]
[null,null,null,null,null,null,null,"","",""]
[null,null,null,null,null,null,null,"","",""]
[null,null,null,null,null,null,null,"","",""]
[null,null,null,null,null,null,null,"","",""]
[null,null,null,null,null,null,null,"","",""]
[null,null,null,null,null,null,null,{"$f":"IF(G4561<>\"\",G4561/12,\"\")","v":""},{"$f":"IF(G4561<>\"\",8,\"\")","v":""},{"$f":"IF(I4561<>\"\",I4561/12,\"\")","v":""}]
[null,null,null,null,null,null,null,"","",""]
[null,null,null,null,null,null,null,"","",""]
[null,null,null,null,null,null,null,"","",""]
[null,null,null,null,null,null,null,"","",""]
[null,null,null,null,null,null,null,"","",""]
[null,null,null,null,null,null,null,"","",""]
[null,null,null,null,null,null,null,"","",""]
[null,null,null,null,null,null,null,"","",""]
[null,null,null,null,null,null,null,"","",""]
[null,null,null,null,null,null,null,"","",""]
[null,null,null,null,null,null,null,"","",""]
[null,null,null,null,null,null,null,"","",""]
[null,null,null,null,null,null,null,"","",""]
[null,null,null,null,null,null,null,"","",""]
[null,null,null,null,null,null,null,"","",""]
[null,null,null,null,null,null,null,"","",""]
[null,null,null,null,null,null,null,"","",""]
[null,null,null,null,null,null,null,"","",""]
[null,null,null,null,null,null,null,"","",""]
[null,null,null,null,null,null,null,"","",""]
[null,null,null,null,null,null,null,"","",""]
[null,null,null,null,null,null,null,"","",""]
[null,null,null,null,null,null,null,"","",""]
[null,null,null,null,null,null,null,"","",""]
[null,null,null,null,null,null,null,"","",""]
[null,null,null,null,null,null,null,"","",""]
[null,null,null,null,null,null,null,"","",""]
[null,null,null,null,null,null,null,"","",""]
[null,null,null,null,null,null,null,"","",""]
[null,null,null,null,null,null,null,"","",""]
[null,null,null,null,null,null,null,"","",""]
[null,null,null,null,null,null,null,"","",""]
[null,null,null,null,null,null,null,"","",""]
[null,null,null,null,null,null,null,"","",""]
[null,null,null,null,null,null,null,"","",""]
[null,null,null,null,null,null,null,"","",""]
[null,null,null,null,null,null,null,"","",""]
[null,null,null,null,null,null,null,"","",""]
[null,null,null,null,null,null,null,"","",""]
[null,null,null,null,null,null,null,"","",""]
[null,null,null,null,null,null,null,"","",""]
[null,null,null,null,null,null,null,"","",""]
[null,null,null,null,null,null,null,"","",""]
[null,null,null,null,null,null,null,"","",""]
[null,null,null,null,null,null,null,"","",""]
[null,null,null,null,null,null,null,"","",""]
[null,null,null,null,null,null,null,"","",""]
[null,null,null,null,null,null,null,"","",""]
[null,null,null,null,null,null,null,"","",""]
[null,null,null,null,null,null,null,"","",""]
[null,null,null,null,null,null,null,"","",""]
[null,null,null,null,null,null,null,"","",""]
[null,null,null,null,null,null,null,"","",""]
[null,null,null,null,null,null,null,"","",""]
[null,null,null,null,null,null,null,"","",""]
[null,null,null,null,null,null,null,"","",""]
[null,null,null,null,null,null,null,"","",""]
[null,null,null,null,null,null,null,"","",""]
[null,null,null,null,null,null,null,"","",""]
[null,null,null,null,null,null,null,"","",""]
[null,null,null,null,null,null,null,"","",""]
[null,null,null,null,null,null,null,"","",""]
[null,null,null,null,null,null,null,"","",""]
[null,null,null,null,null,null,null,{"$f":"IF(G4625<>\"\",G4625/12,\"\")","v":""},{"$f":"IF(G4625<>\"\",8,\"\")","v":""},{"$f":"IF(I4625<>\"\",I4625/12,\"\")","v":""}]
[null,null,null,null,null,null,null,"","",""]
[null,null,null,null,null,null,null,"","",""]
[null,null,null,null,null,null,null,"","",""]
[null,null,null,null,null,null,null,"","",""]
[null,null,null,null,null,null,null,"","",""]
[null,null,null,null,null,null,null,"","",""]
[null,null,null,null,null,null,null,"","",""]
[null,null,null,null,null,null,null,"","",""]
[null,null,null,null,null,null,null,"","",""]
[null,null,null,null,null,null,null,"","",""]
[null,null,null,null,null,null,null,"","",""]
[null,null,null,null,null,null,null,"","",""]
[null,null,null,null,null,null,null,"","",""]
[null,null,null,null,null,null,null,"","",""]
[null,null,null,null,null,null,null,"","",""]
[null,null,null,null,null,null,null,"","",""]
[null,null,null,null,null,null,null,"","",""]
[null,null,null,null,null,null,null,"","",""]
[null,null,null,null,null,null,null,"","",""]
[null,null,null,null,null,null,null,"","",""]
[null,null,null,null,null,null,null,"","",""]
[null,null,null,null,null,null,null,"","",""]
[null,null,null,null,null,null,null,"","",""]
[null,null,null,null,null,null,null,"","",""]
[null,null,null,null,null,null,null,"","",""]
[null,null,null,null,null,null,null,"","",""]
[null,null,null,null,null,null,null,"","",""]
[null,null,null,null,null,null,null,"","",""]
[null,null,null,null,null,null,null,"","",""]
[null,null,null,null,null,null,null,"","",""]
[null,null,null,null,null,null,null,"","",""]
[null,null,null,null,null,null,null,"","",""]
[null,null,null,null,null,null,null,"","",""]
[null,null,null,null,null,null,null,"","",""]
[null,null,null,null,null,null,null,"","",""]
[null,null,null,null,null,null,null,"","",""]
[null,null,null,null,null,null,null,"","",""]
[null,null,null,null,null,null,null,"","",""]
[null,null,null,null,null,null,null,"","",""]
[null,null,null,null,null,null,null,"","",""]
[null,null,null,null,null,null,null,"","",""]
[null,null,null,null,null,null,null,"","",""]
[null,null,null,null,null,null,null,"","",""]
[null,null,null,null,null,null,null,"","",""]
[null,null,null,null,null,null,null,"","",""]
[null,null,null,null,null,null,null,"","",""]
[null,null,null,null,null,null,null,"","",""]
[null,null,null,null,null,null,null,"","",""]
[null,null,null,null,null,null,null,"","",""]
[null,null,null,null,null,null,null,"","",""]
[null,null,null,null,null,null,null,"","",""]
[null,null,null,null,null,null,null,"","",""]
[null,null,null,null,null,null,null,"","",""]
[null,null,null,null,null,null,null,"","",""]
[null,null,null,null,null,null,null,"","",""]
[null,null,null,null,null,null,null,"","",""]
[null,null,null,null,null,null,null,"","",""]
[null,null,null,null,null,null,null,"","",""]
[null,null,null,null,null,null,null,"","",""]
[null,null,null,null,null,null,null,"","",""]
[null,null,null,null,null,null,null,"","",""]
[null,null,null,null,null,null,null,"","",""]
[null,null,null,null,null,null,null,"","",""]
[null,null,null,null,null,null,null,{"$f":"IF(G4689<>\"\",G4689/12,\"\")","v":""},{"$f":"IF(G4689<>\"\",8,\"\")","v":""},{"$f":"IF(I4689<>\"\",I4689/12,\"\")","v":""}]
[null,null,null,null,null,null,null,"","",""]
[null,null,null,null,null,null,null,"","",""]
[null,null,null,null,null,null,null,"","",""]
[null,null,null,null,null,null,null,"","",""]
[null,null,null,null,null,null,null,"","",""]
[null,null,null,null,null,null,null,"","",""]
[null,null,null,null,null,null,null,"","",""]
[null,null,null,null,null,null,null,"","",""]
[null,null,null,null,null,null,null,"","",""]
[null,null,null,null,null,null,null,"","",""]
[null,null,null,null,null,null,null,"","",""]
[null,null,null,null,null,null,null,"","",""]
[null,null,null,null,null,null,null,"","",""]
[null,null,null,null,null,null,null,"","",""]
[null,null,null,null,null,null,null,"","",""]
[null,null,null,null,null,null,null,"","",""]
[null,null,null,null,null,null,null,"","",""]
[null,null,null,null,null,null,null,"","",""]
[null,null,null,null,null,null,null,"","",""]
[null,null,null,null,null,null,null,"","",""]
[null,null,null,null,null,null,null,"","",""]
[null,null,null,null,null,null,null,"","",""]
[null,null,null,null,null,null,null,"","",""]
[null,null,null,null,null,null,null,"","",""]
[null,null,null,null,null,null,null,"","",""]
[null,null,null,null,null,null,null,"","",""]
[null,null,null,null,null,null,null,"","",""]
[null,null,null,null,null,null,null,"","",""]
[null,null,null,null,null,null,null,"","",""]
[null,null,null,null,null,null,null,"","",""]
[null,null,null,null,null,null,null,"","",""]
[null,null,null,null,null,null,null,"","",""]
[null,null,null,null,null,null,null,"","",""]
[null,null,null,null,null,null,null,"","",""]
[null,null,null,null,null,null,null,"","",""]
[null,null,null,null,null,null,null,"","",""]
[null,null,null,null,null,null,null,"","",""]
[null,null,null,null,null,null,null,"","",""]
[null,null,null,null,null,null,null,"","",""]
[null,null,null,null,null,null,null,"","",""]
[null,null,null,null,null,null,null,"","",""]
[null,null,null,null,null,null,null,"","",""]
[null,null,null,null,null,null,null,"","",""]
[null,null,null,null,null,null,null,"","",""]
[null,null,null,null,null,null,null,"","",""]
[null,null,null,null,null,null,null,"","",""]
[null,null,null,null,null,null,null,"","",""]
[null,null,null,null,null,null,null,"","",""]
[null,null,null,null,null,null,null,"","",""]
[null,null,null,null,null,null,null,"","",""]
[null,null,null,null,null,null,null,"","",""]
[null,null,null,null,null,null,null,"","",""]
[null,null,null,null,null,null,null,"","",""]
[null,null,null,null,null,null,null,"","",""]
[null,null,null,null,null,null,null,"","",""]
[null,null,null,null,null,null,null,"","",""]
[null,null,null,null,null,null,null,"","",""]
[null,null,null,null,null,null,null,"","",""]
[null,null,null,null,null,null,null,"","",""]
[null,null,null,null,null,null,null,"","",""]
[null,null,null,null,null,null,null,"","",""]
[null,null,null,null,null,null,null,"","",""]
[null,null,null,null,null,null,null,"","",""]
[null,null,null,null,null,null,null,{"$f":"IF(G4753<>\"\",G4753/12,\"\")","v":""},{"$f":"IF(G4753<>\"\",8,\"\")","v":""},{"$f":"IF(I4753<>\"\",I4753/12,\"\")","v":""}]
[null,null,null,null,null,null,null,"","",""]
[null,null,null,null,null,null,null,"","",""]
[null,null,null,null,null,null,null,"","",""]
[null,null,null,null,null,null,null,"","",""]
[null,null,null,null,null,null,null,"","",""]
[null,null,null,null,null,null,null,"","",""]
[null,null,null,null,null,null,null,"","",""]
[null,null,null,null,null,null,null,"","",""]
[null,null,null,null,null,null,null,"","",""]
[null,null,null,null,null,null,null,"","",""]
[null,null,null,null,null,null,null,"","",""]
[null,null,null,null,null,null,null,"","",""]
[null,null,null,null,null,null,null,"","",""]
[null,null,null,null,null,null,null,"","",""]
[null,null,null,null,null,null,null,"","",""]
[null,null,null,null,null,null,null,"","",""]
[null,null,null,null,null,null,null,"","",""]
[null,null,null,null,null,null,null,"","",""]
[null,null,null,null,null,null,null,"","",""]
[null,null,null,null,null,null,null,"","",""]
[null,null,null,null,null,null,null,"","",""]
[null,null,null,null,null,null,null,"","",""]
[null,null,null,null,null,null,null,"","",""]
[null,null,null,null,null,null,null,"","",""]
[null,null,null,null,null,null,null,"","",""]
[null,null,null,null,null,null,null,"","",""]
[null,null,null,null,null,null,null,"","",""]
[null,null,null,null,null,null,null,"","",""]
[null,null,null,null,null,null,null,"","",""]
[null,null,null,null,null,null,null,"","",""]
[null,null,null,null,null,null,null,"","",""]
[null,null,null,null,null,null,null,"","",""]
[null,null,null,null,null,null,null,"","",""]
[null,null,null,null,null,null,null,"","",""]
[null,null,null,null,null,null,null,"","",""]
[null,null,null,null,null,null,null,"","",""]
[null,null,null,null,null,null,null,"","",""]
[null,null,null,null,null,null,null,"","",""]
[null,null,null,null,null,null,null,"","",""]
[null,null,null,null,null,null,null,"","",""]
[null,null,null,null,null,null,null,"","",""]
[null,null,null,null,null,null,null,"","",""]
[null,null,null,null,null,null,null,"","",""]
[null,null,null,null,null,null,null,"","",""]
[null,null,null,null,null,null,null,"","",""]
[null,null,null,null,null,null,null,"","",""]
[null,null,null,null,null,null,null,"","",""]
[null,null,null,null,null,null,null,"","",""]
[null,null,null,null,null,null,null,"","",""]
[null,null,null,null,null,null,null,"","",""]
[null,null,null,null,null,null,null,"","",""]
[null,null,null,null,null,null,null,"","",""]
[null,null,null,null,null,null,null,"","",""]
[null,null,null,null,null,null,null,"","",""]
[null,null,null,null,null,null,null,"","",""]
[null,null,null,null,null,null,null,"","",""]
[null,null,null,null,null,null,null,"","",""]
[null,null,null,null,null,null,null,"","",""]
[null,null,null,null,null,null,null,"","",""]
[null,null,null,null,null,null,null,"","",""]
[null,null,null,null,null,null,null,"","",""]
[null,null,null,null,null,null,null,"","",""]
[null,null,null,null,null,null,null,"","",""]
[null,null,null,null,null,null,null,{"$f":"IF(G4817<>\"\",G4817/12,\"\")","v":""},{"$f":"IF(G4817<>\"\",8,\"\")","v":""},{"$f":"IF(I4817<>\"\",I4817/12,\"\")","v":""}]
[null,null,null,null,null,null,null,"","",""]
[null,null,null,null,null,null,null,"","",""]
[null,null,null,null,null,null,null,"","",""]
[null,null,null,null,null,null,null,"","",""]
[null,null,null,null,null,null,null,"","",""]
[null,null,null,null,null,null,null,"","",""]
[null,null,null,null,null,null,null,"","",""]
[null,null,null,null,null,null,null,"","",""]
[null,null,null,null,null,null,null,"","",""]
[null,null,null,null,null,null,null,"","",""]
[null,null,null,null,null,null,null,"","",""]
[null,null,null,null,null,null,null,"","",""]
[null,null,null,null,null,null,null,"","",""]
[null,null,null,null,null,null,null,"","",""]
[null,null,null,null,null,null,null,"","",""]
[null,null,null,null,null,null,null,"","",""]
[null,null,null,null,null,null,null,"","",""]
[null,null,null,null,null,null,null,"","",""]
[null,null,null,null,null,null,null,"","",""]
[null,null,null,null,null,null,null,"","",""]
[null,null,null,null,null,null,null,"","",""]
[null,null,null,null,null,null,null,"","",""]
[null,null,null,null,null,null,null,"","",""]
[null,null,null,null,null,null,null,"","",""]
[null,null,null,null,null,null,null,"","",""]
[null,null,null,null,null,null,null,"","",""]
[null,null,null,null,null,null,null,"","",""]
[null,null,null,null,null,null,null,"","",""]
[null,null,null,null,null,null,null,"","",""]
[null,null,null,null,null,null,null,"","",""]
[null,null,null,null,null,null,null,"","",""]
[null,null,null,null,null,null,null,"","",""]
[null,null,null,null,null,null,null,"","",""]
[null,null,null,null,null,null,null,"","",""]
[null,null,null,null,null,null,null,"","",""]
[null,null,null,null,null,null,null,"","",""]
[null,null,null,null,null,null,null,"","",""]
[null,null,null,null,null,null,null,"","",""]
[null,null,null,null,null,null,null,"","",""]
[null,null,null,null,null,null,null,"","",""]
[null,null,null,null,null,null,null,"","",""]
[null,null,null,null,null,null,null,"","",""]
[null,null,null,null,null,null,null,"","",""]
[null,null,null,null,null,null,null,"","",""]
[null,null,null,null,null,null,null,"","",""]
[null,null,null,null,null,null,null,"","",""]
[null,null,null,null,null,null,null,"","",""]
[null,null,null,null,null,null,null,"","",""]
[null,null,null,null,null,null,null,"","",""]
[null,null,null,null,null,null,null,"","",""]
[null,null,null,null,null,null,null,"","",""]
[null,null,null,null,null,null,null,"","",""]
[null,null,null,null,null,null,null,"","",""]
[null,null,null,null,null,null,null,"","",""]
[null,null,null,null,null,null,null,"","",""]
[null,null,null,null,null,null,null,"","",""]
[null,null,null,null,null,null,null,"","",""]
[null,null,null,null,null,null,null,"","",""]
[null,null,null,null,null,null,null,"","",""]
[null,null,null,null,null,null,null,"","",""]
[null,null,null,null,null,null,null,"","",""]
[null,null,null,null,null,null,null,"","",""]
[null,null,null,null,null,null,null,"","",""]
[null,null,null,null,null,null,null,{"$f":"IF(G4881<>\"\",G4881/12,\"\")","v":""},{"$f":"IF(G4881<>\"\",8,\"\")","v":""},{"$f":"IF(I4881<>\"\",I4881/12,\"\")","v":""}]
[null,null,null,null,null,null,null,"","",""]
[null,null,null,null,null,null,null,"","",""]
[null,null,null,null,null,null,null,"","",""]
[null,null,null,null,null,null,null,"","",""]
[null,null,null,null,null,null,null,"","",""]
[null,null,null,null,null,null,null,"","",""]
[null,null,null,null,null,null,null,"","",""]
[null,null,null,null,null,null,null,"","",""]
[null,null,null,null,null,null,null,"","",""]
[null,null,null,null,null,null,null,"","",""]
[null,null,null,null,null,null,null,"","",""]
[null,null,null,null,null,null,null,"","",""]
[null,null,null,null,null,null,null,"","",""]
[null,null,null,null,null,null,null,"","",""]
[null,null,null,null,null,null,null,"","",""]
[null,null,null,null,null,null,null,"","",""]
[null,null,null,null,null,null,null,"","",""]
[null,null,null,null,null,null,null,"","",""]
[null,null,null,null,null,null,null,"","",""]
[null,null,null,null,null,null,null,"","",""]
[null,null,null,null,null,null,null,"","",""]
[null,null,null,null,null,null,null,"","",""]
[null,null,null,null,null,null,null,"","",""]
[null,null,null,null,null,null,null,"","",""]
[null,null,null,null,null,null,null,"","",""]
[null,null,null,null,null,null,null,"","",""]
[null,null,null,null,null,null,null,"","",""]
[null,null,null,null,null,null,null,"","",""]
[null,null,null,null,null,null,null,"","",""]
[null,null,null,null,null,null,null,"","",""]
[null,null,null,null,null,null,null,"","",""]
[null,null,null,null,null,null,null,"","",""]
[null,null,null,null,null,null,null,"","",""]
[null,null,null,null,null,null,null,"","",""]
[null,null,null,null,null,null,null,"","",""]
[null,null,null,null,null,null,null,"","",""]
[null,null,null,null,null,null,null,"","",""]
[null,null,null,null,null,null,null,"","",""]
[null,null,null,null,null,null,null,"","",""]
[null,null,null,null,null,null,null,"","",""]
[null,null,null,null,null,null,null,"","",""]
[null,null,null,null,null,null,null,"","",""]
[null,null,null,null,null,null,null,"","",""]
[null,null,null,null,null,null,null,"","",""]
[null,null,null,null,null,null,null,"","",""]
[null,null,null,null,null,null,null,"","",""]
[null,null,null,null,null,null,null,"","",""]
[null,null,null,null,null,null,null,"","",""]
[null,null,null,null,null,null,null,"","",""]
[null,null,null,null,null,null,null,"","",""]
[null,null,null,null,null,null,null,"","",""]
[null,null,null,null,null,null,null,"","",""]
[null,null,null,null,null,null,null,"","",""]
[null,null,null,null,null,null,null,"","",""]
[null,null,null,null,null,null,null,"","",""]
[null,null,null,null,null,null,null,"","",""]
[null,null,null,null,null,null,null,"","",""]
[null,null,null,null,null,null,null,"","",""]
[null,null,null,null,null,null,null,"","",""]
[null,null,null,null,null,null,null,"","",""]
[null,null,null,null,null,null,null,"","",""]
[null,null,null,null,null,null,null,"","",""]
[null,null,null,null,null,null,null,"","",""]
[null,null,null,null,null,null,null,{"$f":"IF(G4945<>\"\",G4945/12,\"\")","v":""},{"$f":"IF(G4945<>\"\",8,\"\")","v":""},{"$f":"IF(I4945<>\"\",I4945/12,\"\")","v":""}]
[null,null,null,null,null,null,null,"","",""]
[null,null,null,null,null,null,null,"","",""]
[null,null,null,null,null,null,null,"","",""]
[null,null,null,null,null,null,null,"","",""]
[null,null,null,null,null,null,null,"","",""]
[null,null,null,null,null,null,null,"","",""]
[null,null,null,null,null,null,null,"","",""]
[null,null,null,null,null,null,null,"","",""]
[null,null,null,null,null,null,null,"","",""]
[null,null,null,null,null,null,null,"","",""]
[null,null,null,null,null,null,null,"","",""]
[null,null,null,null,null,null,null,"","",""]
[null,null,null,null,null,null,null,"","",""]
[null,null,null,null,null,null,null,"","",""]
[null,null,null,null,null,null,null,"","",""]
[null,null,null,null,null,null,null,"","",""]
[null,null,null,null,null,null,null,"","",""]
[null,null,null,null,null,null,null,"","",""]
[null,null,null,null,null,null,null,"","",""]
[null,null,null,null,null,null,null,"","",""]
[null,null,null,null,null,null,null,"","",""]
[null,null,null,null,null,null,null,"","",""]
[null,null,null,null,null,null,null,"","",""]
[null,null,null,null,null,null,null,"","",""]
[null,null,null,null,null,null,null,"","",""]
[null,null,null,null,null,null,null,"","",""]
[null,null,null,null,null,null,null,"","",""]
[null,null,null,null,null,null,null,"","",""]
[null,null,null,null,null,null,null,"","",""]
[null,null,null,null,null,null,null,"","",""]
[null,null,null,null,null,null,null,"","",""]
[null,null,null,null,null,null,null,"","",""]
[null,null,null,null,null,null,null,"","",""]
[null,null,null,null,null,null,null,"","",""]
[null,null,null,null,null,null,null,"","",""]
[null,null,null,null,null,null,null,"","",""]
[null,null,null,null,null,null,null,"","",""]
[null,null,null,null,null,null,null,"","",""]
[null,null,null,null,null,null,null,"","",""]
[null,null,null,null,null,null,null,"","",""]
[null,null,null,null,null,null,null,"","",""]
[null,null,null,null,null,null,null,"","",""]
[null,null,null,null,null,null,null,"","",""]
[null,null,null,null,null,null,null,"","",""]
[null,null,null,null,null,null,null,"","",""]
[null,null,null,null,null,null,null,"","",""]
[null,null,null,null,null,null,null,"","",""]
[null,null,null,null,null,null,null,"","",""]
[null,null,null,null,null,null,null,"","",""]
[null,null,null,null,null,null,null,"","",""]
[null,null,null,null,null,null,null,"","",""]
[null,null,null,null,null,null,null,"","",""]
[null,null,null,null,null,null,null,"","",""]
[null,null,null,null,null,null,null,"","",""]
[null,null,null,null,null,null,null,"","",""]
[null,null,null,null,null,null,null,"","",""]
[null,null,null,null,null,null,null,"","",""]
[null,null,null,null,null,null,null,"","",""]
[null,null,null,null,null,null,null,"","",""]
[null,null,null,null,null,null,null,"","",""]
[null,null,null,null,null,null,null,"","",""]
[null,null,null,null,null,null,null,"","",""]
[null,null,null,null,null,null,null,"","",""]
[null,null,null,null,null,null,null,{"$f":"IF(G5009<>\"\",G5009/12,\"\")","v":""},{"$f":"IF(G5009<>\"\",8,\"\")","v":""},{"$f":"IF(I5009<>\"\",I5009/12,\"\")","v":""}]
[null,null,null,null,null,null,null,"","",""]
[null,null,null,null,null,null,null,"","",""]
[null,null,null,null,null,null,null,"","",""]
[null,null,null,null,null,null,null,"","",""]
[null,null,null,null,null,null,null,"","",""]
[null,null,null,null,null,null,null,"","",""]
[null,null,null,null,null,null,null,"","",""]
[null,null,null,null,null,null,null,"","",""]
[null,null,null,null,null,null,null,"","",""]
[null,null,null,null,null,null,null,"","",""]
[null,null,null,null,null,null,null,"","",""]
[null,null,null,null,null,null,null,"","",""]
[null,null,null,null,null,null,null,"","",""]
[null,null,null,null,null,null,null,"","",""]
[null,null,null,null,null,null,null,"","",""]
[null,null,null,null,null,null,null,"","",""]
[null,null,null,null,null,null,null,"","",""]
[null,null,null,null,null,null,null,"","",""]
[null,null,null,null,null,null,null,"","",""]
[null,null,null,null,null,null,null,"","",""]
[null,null,null,null,null,null,null,"","",""]
[null,null,null,null,null,null,null,"","",""]
[null,null,null,null,null,null,null,"","",""]
[null,null,null,null,null,null,null,"","",""]
[null,null,null,null,null,null,null,"","",""]
[null,null,null,null,null,null,null,"","",""]
[null,null,null,null,null,null,null,"","",""]
[null,null,null,null,null,null,null,"","",""]
[null,null,null,null,null,null,null,"","",""]
[null,null,null,null,null,null,null,"","",""]
[null,null,null,null,null,null,null,"","",""]
[null,null,null,null,null,null,null,"","",""]
[null,null,null,null,null,null,null,"","",""]
[null,null,null,null,null,null,null,"","",""]
[null,null,null,null,null,null,null,"","",""]
[null,null,null,null,null,null,null,"","",""]
[null,null,null,null,null,null,null,"","",""]
[null,null,null,null,null,null,null,"","",""]
[null,null,null,null,null,null,null,"","",""]
[null,null,null,null,null,null,null,"","",""]
[null,null,null,null,null,null,null,"","",""]
[null,null,null,null,null,null,null,"","",""]
[null,null,null,null,null,null,null,"","",""]
[null,null,null,null,null,null,null,"","",""]
[null,null,null,null,null,null,null,"","",""]
[null,null,null,null,null,null,null,"","",""]
[null,null,null,null,null,null,null,"","",""]
[null,null,null,null,null,null,null,"","",""]
[null,null,null,null,null,null,null,"","",""]
[null,null,null,null,null,null,null,"","",""]
[null,null,null,null,null,null,null,"","",""]
[null,null,null,null,null,null,null,"","",""]
[null,null,null,null,null,null,null,"","",""]
[null,null,null,null,null,null,null,"","",""]
[null,null,null,null,null,null,null,"","",""]
[null,null,null,null,null,null,null,"","",""]
[null,null,null,null,null,null,null,"","",""]
[null,null,null,null,null,null,null,"","",""]
[null,null,null,null,null,null,null,"","",""]
[null,null,null,null,null,null,null,"","",""]
[null,null,null,null,null,null,null,"","",""]
[null,null,null,null,null,null,null,"","",""]
[null,null,null,null,null,null,null,"","",""]
[null,null,null,null,null,null,null,{"$f":"IF(G5073<>\"\",G5073/12,\"\")","v":""},{"$f":"IF(G5073<>\"\",8,\"\")","v":""},{"$f":"IF(I5073<>\"\",I5073/12,\"\")","v":""}]
[null,null,null,null,null,null,null,"","",""]
[null,null,null,null,null,null,null,"","",""]
[null,null,null,null,null,null,null,"","",""]
[null,null,null,null,null,null,null,"","",""]
[null,null,null,null,null,null,null,"","",""]
[null,null,null,null,null,null,null,"","",""]
[null,null,null,null,null,null,null,"","",""]
[null,null,null,null,null,null,null,"","",""]
[null,null,null,null,null,null,null,"","",""]
[null,null,null,null,null,null,null,"","",""]
[null,null,null,null,null,null,null,"","",""]
[null,null,null,null,null,null,null,"","",""]
[null,null,null,null,null,null,null,"","",""]
[null,null,null,null,null,null,null,"","",""]
[null,null,null,null,null,null,null,"","",""]
[null,null,null,null,null,null,null,"","",""]
[null,null,null,null,null,null,null,"","",""]
[null,null,null,null,null,null,null,"","",""]
[null,null,null,null,null,null,null,"","",""]
[null,null,null,null,null,null,null,"","",""]
[null,null,null,null,null,null,null,"","",""]
[null,null,null,null,null,null,null,"","",""]
[null,null,null,null,null,null,null,"","",""]
[null,null,null,null,null,null,null,"","",""]
[null,null,null,null,null,null,null,"","",""]
[null,null,null,null,null,null,null,"","",""]
[null,null,null,null,null,null,null,"","",""]
[null,null,null,null,null,null,null,"","",""]
[null,null,null,null,null,null,null,"","",""]
[null,null,null,null,null,null,null,"","",""]
[null,null,null,null,null,null,null,"","",""]
[null,null,null,null,null,null,null,"","",""]
[null,null,null,null,null,null,null,"","",""]
[null,null,null,null,null,null,null,"","",""]
[null,null,null,null,null,null,null,"","",""]
[null,null,null,null,null,null,null,"","",""]
[null,null,null,null,null,null,null,"","",""]
[null,null,null,null,null,null,null,"","",""]
[null,null,null,null,null,null,null,"","",""]
[null,null,null,null,null,null,null,"","",""]
[null,null,null,null,null,null,null,"","",""]
[null,null,null,null,null,null,null,"","",""]
[null,null,null,null,null,null,null,"","",""]
[null,null,null,null,null,null,null,"","",""]
[null,null,null,null,null,null,null,"","",""]
[null,null,null,null,null,null,null,"","",""]
[null,null,null,null,null,null,null,"","",""]
[null,null,null,null,null,null,null,"","",""]
[null,null,null,null,null,null,null,"","",""]
[null,null,null,null,null,null,null,"","",""]
[null,null,null,null,null,null,null,"","",""]
[null,null,null,null,null,null,null,"","",""]
[null,null,null,null,null,null,null,"","",""]
[null,null,null,null,null,null,null,"","",""]
[null,null,null,null,null,null,null,"","",""]
[null,null,null,null,null,null,null,"","",""]
[null,null,null,null,null,null,null,"","",""]
[null,null,null,null,null,null,null,"","",""]
[null,null,null,null,null,null,null,"","",""]
[null,null,null,null,null,null,null,"","",""]
[null,null,null,null,null,null,null,"","",""]
[null,null,null,null,null,null,null,"","",""]
[null,null,null,null,null,null,null,"","",""]
[null,null,null,null,null,null,null,{"$f":"IF(G5137<>\"\",G5137/12,\"\")","v":""},{"$f":"IF(G5137<>\"\",8,\"\")","v":""},{"$f":"IF(I5137<>\"\",I5137/12,\"\")","v":""}]
[null,null,null,null,null,null,null,"","",""]
[null,null,null,null,null,null,null,"","",""]
[null,null,null,null,null,null,null,"","",""]
[null,null,null,null,null,null,null,"","",""]
[null,null,null,null,null,null,null,"","",""]
[null,null,null,null,null,null,null,"","",""]
[null,null,null,null,null,null,null,"","",""]
[null,null,null,null,null,null,null,"","",""]
[null,null,null,null,null,null,null,"","",""]
[null,null,null,null,null,null,null,"","",""]
[null,null,null,null,null,null,null,"","",""]
[null,null,null,null,null,null,null,"","",""]
[null,null,null,null,null,null,null,"","",""]
[null,null,null,null,null,null,null,"","",""]
[null,null,null,null,null,null,null,"","",""]
[null,null,null,null,null,null,null,"","",""]
[null,null,null,null,null,null,null,"","",""]
[null,null,null,null,null,null,null,"","",""]
[null,null,null,null,null,null,null,"","",""]
[null,null,null,null,null,null,null,"","",""]
[null,null,null,null,null,null,null,"","",""]
[null,null,null,null,null,null,null,"","",""]
[null,null,null,null,null,null,null,"","",""]
[null,null,null,null,null,null,null,"","",""]
[null,null,null,null,null,null,null,"","",""]
[null,null,null,null,null,null,null,"","",""]
[null,null,null,null,null,null,null,"","",""]
[null,null,null,null,null,null,null,"","",""]
[null,null,null,null,null,null,null,"","",""]
[null,null,null,null,null,null,null,"","",""]
[null,null,null,null,null,null,null,"","",""]
[null,null,null,null,null,null,null,"","",""]
[null,null,null,null,null,null,null,"","",""]
[null,null,null,null,null,null,null,"","",""]
[null,null,null,null,null,null,null,"","",""]
[null,null,null,null,null,null,null,"","",""]
[null,null,null,null,null,null,null,"","",""]
[null,null,null,null,null,null,null,"","",""]
[null,null,null,null,null,null,null,"","",""]
[null,null,null,null,null,null,null,"","",""]
[null,null,null,null,null,null,null,"","",""]
[null,null,null,null,null,null,null,"","",""]
[null,null,null,null,null,null,null,"","",""]
[null,null,null,null,null,null,null,"","",""]
[null,null,null,null,null,null,null,"","",""]
[null,null,null,null,null,null,null,"","",""]
[null,null,null,null,null,null,null,"","",""]
[null,null,null,null,null,null,null,"","",""]
[null,null,null,null,null,null,null,"","",""]
[null,null,null,null,null,null,null,"","",""]
[null,null,null,null,null,null,null,"","",""]
[null,null,null,null,null,null,null,"","",""]
[null,null,null,null,null,null,null,"","",""]
[null,null,null,null,null,null,null,"","",""]
[null,null,null,null,null,null,null,"","",""]
[null,null,null,null,null,null,null,"","",""]
[null,null,null,null,null,null,null,"","",""]
[null,null,null,null,null,null,null,"","",""]
[null,null,null,null,null,null,null,"","",""]
[null,null,null,null,null,null,null,"","",""]
[null,null,null,null,null,null,null,"","",""]
[null,null,null,null,null,null,null,"","",""]
[null,null,null,null,null,null,null,"","",""]
[null,null,null,null,null,null,null,{"$f":"IF(G5201<>\"\",G5201/12,\"\")","v":""},{"$f":"IF(G5201<>\"\",8,\"\")","v":""},{"$f":"IF(I5201<>\"\",I5201/12,\"\")","v":""}]
[null,null,null,null,null,null,null,"","",""]
[null,null,null,null,null,null,null,"","",""]
[null,null,null,null,null,null,null,"","",""]
[null,null,null,null,null,null,null,"","",""]
[null,null,null,null,null,null,null,"","",""]
[null,null,null,null,null,null,null,"","",""]
[null,null,null,null,null,null,null,"","",""]
[null,null,null,null,null,null,null,"","",""]
[null,null,null,null,null,null,null,"","",""]
[null,null,null,null,null,null,null,"","",""]
[null,null,null,null,null,null,null,"","",""]
[null,null,null,null,null,null,null,"","",""]
[null,null,null,null,null,null,null,"","",""]
[null,null,null,null,null,null,null,"","",""]
[null,null,null,null,null,null,null,"","",""]
[null,null,null,null,null,null,null,"","",""]
[null,null,null,null,null,null,null,"","",""]
[null,null,null,null,null,null,null,"","",""]
[null,null,null,null,null,null,null,"","",""]
[null,null,null,null,null,null,null,"","",""]
[null,null,null,null,null,null,null,"","",""]
[null,null,null,null,null,null,null,"","",""]
[null,null,null,null,null,null,null,"","",""]
[null,null,null,null,null,null,null,"","",""]
[null,null,null,null,null,null,null,"","",""]
[null,null,null,null,null,null,null,"","",""]
[null,null,null,null,null,null,null,"","",""]
[null,null,null,null,null,null,null,"","",""]
[null,null,null,null,null,null,null,"","",""]
[null,null,null,null,null,null,null,"","",""]
[null,null,null,null,null,null,null,"","",""]
[null,null,null,null,null,null,null,"","",""]
[null,null,null,null,null,null,null,"","",""]
[null,null,null,null,null,null,null,"","",""]
[null,null,null,null,null,null,null,"","",""]
[null,null,null,null,null,null,null,"","",""]
[null,null,null,null,null,null,null,"","",""]
[null,null,null,null,null,null,null,"","",""]
[null,null,null,null,null,null,null,"","",""]
[null,null,null,null,null,null,null,"","",""]
[null,null,null,null,null,null,null,"","",""]
[null,null,null,null,null,null,null,"","",""]
[null,null,null,null,null,null,null,"","",""]
[null,null,null,null,null,null,null,"","",""]
[null,null,null,null,null,null,null,"","",""]
[null,null,null,null,null,null,null,"","",""]
[null,null,null,null,null,null,null,"","",""]
[null,null,null,null,null,null,null,"","",""]
[null,null,null,null,null,null,null,"","",""]
[null,null,null,null,null,null,null,"","",""]
[null,null,null,null,null,null,null,"","",""]
[null,null,null,null,null,null,null,"","",""]
[null,null,null,null,null,null,null,"","",""]
[null,null,null,null,null,null,null,"","",""]
[null,null,null,null,null,null,null,"","",""]
[null,null,null,null,null,null,null,"","",""]
[null,null,null,null,null,null,null,"","",""]
[null,null,null,null,null,null,null,"","",""]
[null,null,null,null,null,null,null,"","",""]
[null,null,null,null,null,null,null,"","",""]
[null,null,null,null,null,null,null,"","",""]
[null,null,null,null,null,null,null,"","",""]
[null,null,null,null,null,null,null,"","",""]
[null,null,null,null,null,null,null,{"$f":"IF(G5265<>\"\",G5265/12,\"\")","v":""},{"$f":"IF(G5265<>\"\",8,\"\")","v":""},{"$f":"IF(I5265<>\"\",I5265/12,\"\")","v":""}]
[null,null,null,null,null,null,null,"","",""]
[null,null,null,null,null,null,null,"","",""]
[null,null,null,null,null,null,null,"","",""]
[null,null,null,null,null,null,null,"","",""]
[null,null,null,null,null,null,null,"","",""]
[null,null,null,null,null,null,null,"","",""]
[null,null,null,null,null,null,null,"","",""]
[null,null,null,null,null,null,null,"","",""]
[null,null,null,null,null,null,null,"","",""]
[null,null,null,null,null,null,null,"","",""]
[null,null,null,null,null,null,null,"","",""]
[null,null,null,null,null,null,null,"","",""]
[null,null,null,null,null,null,null,"","",""]
[null,null,null,null,null,null,null,"","",""]
[null,null,null,null,null,null,null,"","",""]
[null,null,null,null,null,null,null,"","",""]
[null,null,null,null,null,null,null,"","",""]
[null,null,null,null,null,null,null,"","",""]
[null,null,null,null,null,null,null,"","",""]
[null,null,null,null,null,null,null,"","",""]
[null,null,null,null,null,null,null,"","",""]
[null,null,null,null,null,null,null,"","",""]
[null,null,null,null,null,null,null,"","",""]
[null,null,null,null,null,null,null,"","",""]
[null,null,null,null,null,null,null,"","",""]
[null,null,null,null,null,null,null,"","",""]
[null,null,null,null,null,null,null,"","",""]
[null,null,null,null,null,null,null,"","",""]
[null,null,null,null,null,null,null,"","",""]
[null,null,null,null,null,null,null,"","",""]
[null,null,null,null,null,null,null,"","",""]
[null,null,null,null,null,null,null,"","",""]
[null,null,null,null,null,null,null,"","",""]
[null,null,null,null,null,null,null,"","",""]
[null,null,null,null,null,null,null,"","",""]
[null,null,null,null,null,null,null,"","",""]
[null,null,null,null,null,null,null,"","",""]
[null,null,null,null,null,null,null,"","",""]
[null,null,null,null,null,null,null,"","",""]
[null,null,null,null,null,null,null,"","",""]
[null,null,null,null,null,null,null,"","",""]
[null,null,null,null,null,null,null,"","",""]
[null,null,null,null,null,null,null,"","",""]
[null,null,null,null,null,null,null,"","",""]
[null,null,null,null,null,null,null,"","",""]
[null,null,null,null,null,null,null,"","",""]
[null,null,null,null,null,null,null,"","",""]
[null,null,null,null,null,null,null,"","",""]
[null,null,null,null,null,null,null,"","",""]
[null,null,null,null,null,null,null,"","",""]
[null,null,null,null,null,null,null,"","",""]
[null,null,null,null,null,null,null,"","",""]
[null,null,null,null,null,null,null,"","",""]
[null,null,null,null,null,null,null,"","",""]
[null,null,null,null,null,null,null,"","",""]
[null,null,null,null,null,null,null,"","",""]
[null,null,null,null,null,null,null,"","",""]
[null,null,null,null,null,null,null,"","",""]
[null,null,null,null,null,null,null,"","",""]
[null,null,null,null,null,null,null,"","",""]
[null,null,null,null,null,null,null,"","",""]
[null,null,null,null,null,null,null,"","",""]
[null,null,null,null,null,null,null,"","",""]
[null,null,null,null,null,null,null,{"$f":"IF(G5329<>\"\",G5329/12,\"\")","v":""},{"$f":"IF(G5329<>\"\",8,\"\")","v":""},{"$f":"IF(I5329<>\"\",I5329/12,\"\")","v":""}]
[null,null,null,null,null,null,null,"","",""]
[null,null,null,null,null,null,null,"","",""]
[null,null,null,null,null,null,null,"","",""]
[null,null,null,null,null,null,null,"","",""]
[null,null,null,null,null,null,null,"","",""]
[null,null,null,null,null,null,null,"","",""]
[null,null,null,null,null,null,null,"","",""]
[null,null,null,null,null,null,null,"","",""]
[null,null,null,null,null,null,null,"","",""]
[null,null,null,null,null,null,null,"","",""]
[null,null,null,null,null,null,null,"","",""]
[null,null,null,null,null,null,null,"","",""]
[null,null,null,null,null,null,null,"","",""]
[null,null,null,null,null,null,null,"","",""]
[null,null,null,null,null,null,null,"","",""]
[null,null,null,null,null,null,null,"","",""]
[null,null,null,null,null,null,null,"","",""]
[null,null,null,null,null,null,null,"","",""]
[null,null,null,null,null,null,null,"","",""]
[null,null,null,null,null,null,null,"","",""]
[null,null,null,null,null,null,null,"","",""]
[null,null,null,null,null,null,null,"","",""]
[null,null,null,null,null,null,null,"","",""]
[null,null,null,null,null,null,null,"","",""]
[null,null,null,null,null,null,null,"","",""]
[null,null,null,null,null,null,null,"","",""]
[null,null,null,null,null,null,null,"","",""]
[null,null,null,null,null,null,null,"","",""]
[null,null,null,null,null,null,null,"","",""]
[null,null,null,null,null,null,null,"","",""]
[null,null,null,null,null,null,null,"","",""]
[null,null,null,null,null,null,null,"","",""]
[null,null,null,null,null,null,null,"","",""]
[null,null,null,null,null,null,null,"","",""]
[null,null,null,null,null,null,null,"","",""]
[null,null,null,null,null,null,null,"","",""]
[null,null,null,null,null,null,null,"","",""]
[null,null,null,null,null,null,null,"","",""]
[null,null,null,null,null,null,null,"","",""]
[null,null,null,null,null,null,null,"","",""]
[null,null,null,null,null,null,null,"","",""]
[null,null,null,null,null,null,null,"","",""]
[null,null,null,null,null,null,null,"","",""]
[null,null,null,null,null,null,null,"","",""]
[null,null,null,null,null,null,null,"","",""]
[null,null,null,null,null,null,null,"","",""]
[null,null,null,null,null,null,null,"","",""]
[null,null,null,null,null,null,null,"","",""]
[null,null,null,null,null,null,null,"","",""]
[null,null,null,null,null,null,null,"","",""]
[null,null,null,null,null,null,null,"","",""]
[null,null,null,null,null,null,null,"","",""]
[null,null,null,null,null,null,null,"","",""]
[null,null,null,null,null,null,null,"","",""]
[null,null,null,null,null,null,null,"","",""]
[null,null,null,null,null,null,null,"","",""]
[null,null,null,null,null,null,null,"","",""]
[null,null,null,null,null,null,null,"","",""]
[null,null,null,null,null,null,null,"","",""]
[null,null,null,null,null,null,null,"","",""]
[null,null,null,null,null,null,null,"","",""]
[null,null,null,null,null,null,null,"","",""]
[null,null,null,null,null,null,null,"","",""]
[null,null,null,null,null,null,null,{"$f":"IF(G5393<>\"\",G5393/12,\"\")","v":""},{"$f":"IF(G5393<>\"\",8,\"\")","v":""},{"$f":"IF(I5393<>\"\",I5393/12,\"\")","v":""}]
[null,null,null,null,null,null,null,"","",""]
[null,null,null,null,null,null,null,"","",""]
[null,null,null,null,null,null,null,"","",""]
[null,null,null,null,null,null,null,"","",""]
[null,null,null,null,null,null,null,"","",""]
[null,null,null,null,null,null,null,"","",""]
[null,null,null,null,null,null,null,"","",""]
[null,null,null,null,null,null,null,"","",""]
[null,null,null,null,null,null,null,"","",""]
[null,null,null,null,null,null,null,"","",""]
[null,null,null,null,null,null,null,"","",""]
[null,null,null,null,null,null,null,"","",""]
[null,null,null,null,null,null,null,"","",""]
[null,null,null,null,null,null,null,"","",""]
[null,null,null,null,null,null,null,"","",""]
[null,null,null,null,null,null,null,"","",""]
[null,null,null,null,null,null,null,"","",""]
[null,null,null,null,null,null,null,"","",""]
[null,null,null,null,null,null,null,"","",""]
[null,null,null,null,null,null,null,"","",""]
[null,null,null,null,null,null,null,"","",""]
[null,null,null,null,null,null,null,"","",""]
[null,null,null,null,null,null,null,"","",""]
[null,null,null,null,null,null,null,"","",""]
[null,null,null,null,null,null,null,"","",""]
[null,null,null,null,null,null,null,"","",""]
[null,null,null,null,null,null,null,"","",""]
[null,null,null,null,null,null,null,"","",""]
[null,null,null,null,null,null,null,"","",""]
[null,null,null,null,null,null,null,"","",""]
[null,null,null,null,null,null,null,"","",""]
[null,null,null,null,null,null,null,"","",""]
[null,null,null,null,null,null,null,"","",""]
[null,null,null,null,null,null,null,"","",""]
[null,null,null,null,null,null,null,"","",""]
[null,null,null,null,null,null,null,"","",""]
[null,null,null,null,null,null,null,"","",""]
[null,null,null,null,null,null,null,"","",""]
[null,null,null,null,null,null,null,"","",""]
[null,null,null,null,null,null,null,"","",""]
[null,null,null,null,null,null,null,"","",""]
[null,null,null,null,null,null,null,"","",""]
[null,null,null,null,null,null,null,"","",""]
[null,null,null,null,null,null,null,"","",""]
[null,null,null,null,null,null,null,"","",""]
[null,null,null,null,null,null,null,"","",""]
[null,null,null,null,null,null,null,"","",""]
[null,null,null,null,null,null,null,"","",""]
[null,null,null,null,null,null,null,"","",""]
[null,null,null,null,null,null,null,"","",""]
[null,null,null,null,null,null,null,"","",""]
[null,null,null,null,null,null,null,"","",""]
[null,null,null,null,null,null,null,"","",""]
[null,null,null,null,null,null,null,"","",""]
[null,null,null,null,null,null,null,"","",""]
[null,null,null,null,null,null,null,"","",""]
[null,null,null,null,null,null,null,"","",""]
[null,null,null,null,null,null,null,"","",""]
[null,null,null,null,null,null,null,"","",""]
[null,null,null,null,null,null,null,"","",""]
[null,null,null,null,null,null,null,"","",""]
[null,null,null,null,null,null,null,"","",""]
[null,null,null,null,null,null,null,"","",""]
[null,null,null,null,null,null,null,{"$f":"IF(G5457<>\"\",G5457/12,\"\")","v":""},{"$f":"IF(G5457<>\"\",8,\"\")","v":""},{"$f":"IF(I5457<>\"\",I5457/12,\"\")","v":""}]
[null,null,null,null,null,null,null,"","",""]
[null,null,null,null,null,null,null,"","",""]
[null,null,null,null,null,null,null,"","",""]
[null,null,null,null,null,null,null,"","",""]
[null,null,null,null,null,null,null,"","",""]
[null,null,null,null,null,null,null,"","",""]
[null,null,null,null,null,null,null,"","",""]
[null,null,null,null,null,null,null,"","",""]
[null,null,null,null,null,null,null,"","",""]
[null,null,null,null,null,null,null,"","",""]
[null,null,null,null,null,null,null,"","",""]
[null,null,null,null,null,null,null,"","",""]
[null,null,null,null,null,null,null,"","",""]
[null,null,null,null,null,null,null,"","",""]
[null,null,null,null,null,null,null,"","",""]
[null,null,null,null,null,null,null,"","",""]
[null,null,null,null,null,null,null,"","",""]
[null,null,null,null,null,null,null,"","",""]
[null,null,null,null,null,null,null,"","",""]
[null,null,null,null,null,null,null,"","",""]
[null,null,null,null,null,null,null,"","",""]
[null,null,null,null,null,null,null,"","",""]
[null,null,null,null,null,null,null,"","",""]
[null,null,null,null,null,null,null,"","",""]
[null,null,null,null,null,null,null,"","",""]
[null,null,null,null,null,null,null,"","",""]
[null,null,null,null,null,null,null,"","",""]
[null,null,null,null,null,null,null,"","",""]
[null,null,null,null,null,null,null,"","",""]
[null,null,null,null,null,null,null,"","",""]
[null,null,null,null,null,null,null,"","",""]
[null,null,null,null,null,null,null,"","",""]
[null,null,null,null,null,null,null,"","",""]
[null,null,null,null,null,null,null,"","",""]
[null,null,null,null,null,null,null,"","",""]
[null,null,null,null,null,null,null,"","",""]
[null,null,null,null,null,null,null,"","",""]
[null,null,null,null,null,null,null,"","",""]
[null,null,null,null,null,null,null,"","",""]
[null,null,null,null,null,null,null,"","",""]
[null,null,null,null,null,null,null,"","",""]
[null,null,null,null,null,null,null,"","",""]
[null,null,null,null,null,null,null,"","",""]
[null,null,null,null,null,null,null,"","",""]
[null,null,null,null,null,null,null,"","",""]
[null,null,null,null,null,null,null,"","",""]
[null,null,null,null,null,null,null,"","",""]
[null,null,null,null,null,null,null,"","",""]
[null,null,null,null,null,null,null,"","",""]
[null,null,null,null,null,null,null,"","",""]
[null,null,null,null,null,null,null,"","",""]
[null,null,null,null,null,null,null,"","",""]
[null,null,null,null,null,null,null,"","",""]
[null,null,null,null,null,null,null,"","",""]
[null,null,null,null,null,null,null,"","",""]
[null,null,null,null,null,null,null,"","",""]
[null,null,null,null,null,null,null,"","",""]
[null,null,null,null,null,null,null,"","",""]
[null,null,null,null,null,null,null,"","",""]
[null,null,null,null,null,null,null,"","",""]
[null,null,null,null,null,null,null,"","",""]
[null,null,null,null,null,null,null,"","",""]
[null,null,null,null,null,null,null,"","",""]
[null,null,null,null,null,null,null,{"$f":"IF(G5521<>\"\",G5521/12,\"\")","v":""},{"$f":"IF(G5521<>\"\",8,\"\")","v":""},{"$f":"IF(I5521<>\"\",I5521/12,\"\")","v":""}]
[null,null,null,null,null,null,null,"","",""]
[null,null,null,null,null,null,null,"","",""]
[null,null,null,null,null,null,null,"","",""]
[null,null,null,null,null,null,null,"","",""]
[null,null,null,null,null,null,null,"","",""]
[null,null,null,null,null,null,null,"","",""]
[null,null,null,null,null,null,null,"","",""]
[null,null,null,null,null,null,null,"","",""]
[null,null,null,null,null,null,null,"","",""]
[null,null,null,null,null,null,null,"","",""]
[null,null,null,null,null,null,null,"","",""]
[null,null,null,null,null,null,null,"","",""]
[null,null,null,null,null,null,null,"","",""]
[null,null,null,null,null,null,null,"","",""]
[null,null,null,null,null,null,null,"","",""]
[null,null,null,null,null,null,null,"","",""]
[null,null,null,null,null,null,null,"","",""]
[null,null,null,null,null,null,null,"","",""]
[null,null,null,null,null,null,null,"","",""]
[null,null,null,null,null,null,null,"","",""]
[null,null,null,null,null,null,null,"","",""]
[null,null,null,null,null,null,null,"","",""]
[null,null,null,null,null,null,null,"","",""]
[null,null,null,null,null,null,null,"","",""]
[null,null,null,null,null,null,null,"","",""]
[null,null,null,null,null,null,null,"","",""]
[null,null,null,null,null,null,null,"","",""]
[null,null,null,null,null,null,null,"","",""]
[null,null,null,null,null,null,null,"","",""]
[null,null,null,null,null,null,null,"","",""]
[null,null,null,null,null,null,null,"","",""]
[null,null,null,null,null,null,null,"","",""]
[null,null,null,null,null,null,null,"","",""]
[null,null,null,null,null,null,null,"","",""]
[null,null,null,null,null,null,null,"","",""]
[null,null,null,null,null,null,null,"","",""]
[null,null,null,null,null,null,null,"","",""]
[null,null,null,null,null,null,null,"","",""]
[null,null,null,null,null,null,null,"","",""]
[null,null,null,null,null,null,null,"","",""]
[null,null,null,null,null,null,null,"","",""]
[null,null,null,null,null,null,null,"","",""]
[null,null,null,null,null,null,null,"","",""]
[null,null,null,null,null,null,null,"","",""]
[null,null,null,null,null,null,null,"","",""]
[null,null,null,null,null,null,null,"","",""]
[null,null,null,null,null,null,null,"","",""]
[null,null,null,null,null,null,null,"","",""]
[null,null,null,null,null,null,null,"","",""]
[null,null,null,null,null,null,null,"","",""]
[null,null,null,null,null,null,null,"","",""]
[null,null,null,null,null,null,null,"","",""]
[null,null,null,null,null,null,null,"","",""]
[null,null,null,null,null,null,null,"","",""]
[null,null,null,null,null,null,null,"","",""]
[null,null,null,null,null,null,null,"","",""]
[null,null,null,null,null,null,null,"","",""]
[null,null,null,null,null,null,null,"","",""]
[null,null,null,null,null,null,null,"","",""]
[null,null,null,null,null,null,null,"","",""]
[null,null,null,null,null,null,null,"","",""]
[null,null,null,null,null,null,null,"","",""]
[null,null,null,null,null,null,null,"","",""]
[null,null,null,null,null,null,null,{"$f":"IF(G5585<>\"\",G5585/12,\"\")","v":""},{"$f":"IF(G5585<>\"\",8,\"\")","v":""},{"$f":"IF(I5585<>\"\",I5585/12,\"\")","v":""}]
[null,null,null,null,null,null,null,"","",""]
[null,null,null,null,null,null,null,"","",""]
[null,null,null,null,null,null,null,"","",""]
[null,null,null,null,null,null,null,"","",""]
[null,null,null,null,null,null,null,"","",""]
[null,null,null,null,null,null,null,"","",""]
[null,null,null,null,null,null,null,"","",""]
[null,null,null,null,null,null,null,"","",""]
[null,null,null,null,null,null,null,"","",""]
[null,null,null,null,null,null,null,"","",""]
[null,null,null,null,null,null,null,"","",""]
[null,null,null,null,null,null,null,"","",""]
[null,null,null,null,null,null,null,"","",""]
[null,null,null,null,null,null,null,"","",""]
[null,null,null,null,null,null,null,"","",""]
[null,null,null,null,null,null,null,"","",""]
[null,null,null,null,null,null,null,"","",""]
[null,null,null,null,null,null,null,"","",""]
[null,null,null,null,null,null,null,"","",""]
[null,null,null,null,null,null,null,"","",""]
[null,null,null,null,null,null,null,"","",""]
[null,null,null,null,null,null,null,"","",""]
[null,null,null,null,null,null,null,"","",""]
[null,null,null,null,null,null,null,"","",""]
[null,null,null,null,null,null,null,"","",""]
[null,null,null,null,null,null,null,"","",""]
[null,null,null,null,null,null,null,"","",""]
[null,null,null,null,null,null,null,"","",""]
[null,null,null,null,null,null,null,"","",""]
[null,null,null,null,null,null,null,"","",""]
[null,null,null,null,null,null,null,"","",""]
[null,null,null,null,null,null,null,"","",""]
[null,null,null,null,null,null,null,"","",""]
[null,null,null,null,null,null,null,"","",""]
[null,null,null,null,null,null,null,"","",""]
[null,null,null,null,null,null,null,"","",""]
[null,null,null,null,null,null,null,"","",""]
[null,null,null,null,null,null,null,"","",""]
[null,null,null,null,null,null,null,"","",""]
[null,null,null,null,null,null,null,"","",""]
[null,null,null,null,null,null,null,"","",""]
[null,null,null,null,null,null,null,"","",""]
[null,null,null,null,null,null,null,"","",""]
[null,null,null,null,null,null,null,"","",""]
[null,null,null,null,null,null,null,"","",""]
[null,null,null,null,null,null,null,"","",""]
[null,null,null,null,null,null,null,"","",""]
[null,null,null,null,null,null,null,"","",""]
[null,null,null,null,null,null,null,"","",""]
[null,null,null,null,null,null,null,"","",""]
[null,null,null,null,null,null,null,"","",""]
[null,null,null,null,null,null,null,"","",""]
[null,null,null,null,null,null,null,"","",""]
[null,null,null,null,null,null,null,"","",""]
[null,null,null,null,null,null,null,"","",""]
[null,null,null,null,null,null,null,"","",""]
[null,null,null,null,null,null,null,"","",""]
[null,null,null,null,null,null,null,"","",""]
[null,null,null,null,null,null,null,"","",""]
[null,null,null,null,null,null,null,"","",""]
[null,null,null,null,null,null,null,"","",""]
[null,null,null,null,null,null,null,"","",""]
[null,null,null,null,null,null,null,"","",""]
[null,null,null,null,null,null,null,{"$f":"IF(G5649<>\"\",G5649/12,\"\")","v":""},{"$f":"IF(G5649<>\"\",8,\"\")","v":""},{"$f":"IF(I5649<>\"\",I5649/12,\"\")","v":""}]
[null,null,null,null,null,null,null,"","",""]
[null,null,null,null,null,null,null,"","",""]
[null,null,null,null,null,null,null,"","",""]
[null,null,null,null,null,null,null,"","",""]
[null,null,null,null,null,null,null,"","",""]
[null,null,null,null,null,null,null,"","",""]
[null,null,null,null,null,null,null,"","",""]
[null,null,null,null,null,null,null,"","",""]
[null,null,null,null,null,null,null,"","",""]
[null,null,null,null,null,null,null,"","",""]
[null,null,null,null,null,null,null,"","",""]
[null,null,null,null,null,null,null,"","",""]
[null,null,null,null,null,null,null,"","",""]
[null,null,null,null,null,null,null,"","",""]
[null,null,null,null,null,null,null,"","",""]
[null,null,null,null,null,null,null,"","",""]
[null,null,null,null,null,null,null,"","",""]
[null,null,null,null,null,null,null,"","",""]
[null,null,null,null,null,null,null,"","",""]
[null,null,null,null,null,null,null,"","",""]
[null,null,null,null,null,null,null,"","",""]
[null,null,null,null,null,null,null,"","",""]
[null,null,null,null,null,null,null,"","",""]
[null,null,null,null,null,null,null,"","",""]
[null,null,null,null,null,null,null,"","",""]
[null,null,null,null,null,null,null,"","",""]
[null,null,null,null,null,null,null,"","",""]
[null,null,null,null,null,null,null,"","",""]
[null,null,null,null,null,null,null,"","",""]
[null,null,null,null,null,null,null,"","",""]
[null,null,null,null,null,null,null,"","",""]
[null,null,null,null,null,null,null,"","",""]
[null,null,null,null,null,null,null,"","",""]
[null,null,null,null,null,null,null,"","",""]
[null,null,null,null,null,null,null,"","",""]
[null,null,null,null,null,null,null,"","",""]
[null,null,null,null,null,null,null,"","",""]
[null,null,null,null,null,null,null,"","",""]
[null,null,null,null,null,null,null,"","",""]
[null,null,null,null,null,null,null,"","",""]
[null,null,null,null,null,null,null,"","",""]
[null,null,null,null,null,null,null,"","",""]
[null,null,null,null,null,null,null,"","",""]
[null,null,null,null,null,null,null,"","",""]
[null,null,null,null,null,null,null,"","",""]
[null,null,null,null,null,null,null,"","",""]
[null,null,null,null,null,null,null,"","",""]
[null,null,null,null,null,null,null,"","",""]
[null,null,null,null,null,null,null,"","",""]
[null,null,null,null,null,null,null,"","",""]
[null,null,null,null,null,null,null,"","",""]
[null,null,null,null,null,null,null,"","",""]
[null,null,null,null,null,null,null,"","",""]
[null,null,null,null,null,null,null,"","",""]
[null,null,null,null,null,null,null,"","",""]
[null,null,null,null,null,null,null,"","",""]
[null,null,null,null,null,null,null,"","",""]
[null,null,null,null,null,null,null,"","",""]
[null,null,null,null,null,null,null,"","",""]
[null,null,null,null,null,null,null,"","",""]
[null,null,null,null,null,null,null,"","",""]
[null,null,null,null,null,null,null,"","",""]
[null,null,null,null,null,null,null,"","",""]
[null,null,null,null,null,null,null,{"$f":"IF(G5713<>\"\",G5713/12,\"\")","v":""},{"$f":"IF(G5713<>\"\",8,\"\")","v":""},{"$f":"IF(I5713<>\"\",I5713/12,\"\")","v":""}]
[null,null,null,null,null,null,null,"","",""]
[null,null,null,null,null,null,null,"","",""]
[null,null,null,null,null,null,null,"","",""]
[null,null,null,null,null,null,null,"","",""]
[null,null,null,null,null,null,null,"","",""]
[null,null,null,null,null,null,null,"","",""]
[null,null,null,null,null,null,null,"","",""]
[null,null,null,null,null,null,null,"","",""]
[null,null,null,null,null,null,null,"","",""]
[null,null,null,null,null,null,null,"","",""]
[null,null,null,null,null,null,null,"","",""]
[null,null,null,null,null,null,null,"","",""]
[null,null,null,null,null,null,null,"","",""]
[null,null,null,null,null,null,null,"","",""]
[null,null,null,null,null,null,null,"","",""]
[null,null,null,null,null,null,null,"","",""]
[null,null,null,null,null,null,null,"","",""]
[null,null,null,null,null,null,null,"","",""]
[null,null,null,null,null,null,null,"","",""]
[null,null,null,null,null,null,null,"","",""]
[null,null,null,null,null,null,null,"","",""]
[null,null,null,null,null,null,null,"","",""]
[null,null,null,null,null,null,null,"","",""]
[null,null,null,null,null,null,null,"","",""]
[null,null,null,null,null,null,null,"","",""]
[null,null,null,null,null,null,null,"","",""]
[null,null,null,null,null,null,null,"","",""]
[null,null,null,null,null,null,null,"","",""]
[null,null,null,null,null,null,null,"","",""]
[null,null,null,null,null,null,null,"","",""]
[null,null,null,null,null,null,null,"","",""]
[null,null,null,null,null,null,null,"","",""]
[null,null,null,null,null,null,null,"","",""]
[null,null,null,null,null,null,null,"","",""]
[null,null,null,null,null,null,null,"","",""]
[null,null,null,null,null,null,null,"","",""]
[null,null,null,null,null,null,null,"","",""]
[null,null,null,null,null,null,null,"","",""]
[null,null,null,null,null,null,null,"","",""]
[null,null,null,null,null,null,null,"","",""]
[null,null,null,null,null,null,null,"","",""]
[null,null,null,null,null,null,null,"","",""]
[null,null,null,null,null,null,null,"","",""]
[null,null,null,null,null,null,null,"","",""]
[null,null,null,null,null,null,null,"","",""]
[null,null,null,null,null,null,null,"","",""]
[null,null,null,null,null,null,null,"","",""]
[null,null,null,null,null,null,null,"","",""]
[null,null,null,null,null,null,null,"","",""]
[null,null,null,null,null,null,null,"","",""]
[null,null,null,null,null,null,null,"","",""]
[null,null,null,null,null,null,null,"","",""]
[null,null,null,null,null,null,null,"","",""]
[null,null,null,null,null,null,null,"","",""]
[null,null,null,null,null,null,null,"","",""]
[null,null,null,null,null,null,null,"","",""]
[null,null,null,null,null,null,null,"","",""]
[null,null,null,null,null,null,null,"","",""]
[null,null,null,null,null,null,null,"","",""]
[null,null,null,null,null,null,null,"","",""]
[null,null,null,null,null,null,null,"","",""]
[null,null,null,null,null,null,null,"","",""]
[null,null,null,null,null,null,null,"","",""]
[null,null,null,null,null,null,null,{"$f":"IF(G5777<>\"\",G5777/12,\"\")","v":""},{"$f":"IF(G5777<>\"\",8,\"\")","v":""},{"$f":"IF(I5777<>\"\",I5777/12,\"\")","v":""}]
[null,null,null,null,null,null,null,"","",""]
[null,null,null,null,null,null,null,"","",""]
[null,null,null,null,null,null,null,"","",""]
[null,null,null,null,null,null,null,"","",""]
[null,null,null,null,null,null,null,"","",""]
[null,null,null,null,null,null,null,"","",""]
[null,null,null,null,null,null,null,"","",""]
[null,null,null,null,null,null,null,"","",""]
[null,null,null,null,null,null,null,"","",""]
[null,null,null,null,null,null,null,"","",""]
[null,null,null,null,null,null,null,"","",""]
[null,null,null,null,null,null,null,"","",""]
[null,null,null,null,null,null,null,"","",""]
[null,null,null,null,null,null,null,"","",""]
[null,null,null,null,null,null,null,"","",""]
[null,null,null,null,null,null,null,"","",""]
[null,null,null,null,null,null,null,"","",""]
[null,null,null,null,null,null,null,"","",""]
[null,null,null,null,null,null,null,"","",""]
[null,null,null,null,null,null,null,"","",""]
[null,null,null,null,null,null,null,"","",""]
[null,null,null,null,null,null,null,"","",""]
[null,null,null,null,null,null,null,"","",""]
[null,null,null,null,null,null,null,"","",""]
[null,null,null,null,null,null,null,"","",""]
[null,null,null,null,null,null,null,"","",""]
[null,null,null,null,null,null,null,"","",""]
[null,null,null,null,null,null,null,"","",""]
[null,null,null,null,null,null,null,"","",""]
[null,null,null,null,null,null,null,"","",""]
[null,null,null,null,null,null,null,"","",""]
[null,null,null,null,null,null,null,"","",""]
[null,null,null,null,null,null,null,"","",""]
[null,null,null,null,null,null,null,"","",""]
[null,null,null,null,null,null,null,"","",""]
[null,null,null,null,null,null,null,"","",""]
[null,null,null,null,null,null,null,"","",""]
[null,null,null,null,null,null,null,"","",""]
[null,null,null,null,null,null,null,"","",""]
[null,null,null,null,null,null,null,"","",""]
[null,null,null,null,null,null,null,"","",""]
[null,null,null,null,null,null,null,"","",""]
[null,null,null,null,null,null,null,"","",""]
[null,null,null,null,null,null,null,"","",""]
[null,null,null,null,null,null,null,"","",""]
[null,null,null,null,null,null,null,"","",""]
[null,null,null,null,null,null,null,"","",""]
[null,null,null,null,null,null,null,"","",""]
[null,null,null,null,null,null,null,"","",""]
[null,null,null,null,null,null,null,"","",""]
[null,null,null,null,null,null,null,"","",""]
[null,null,null,null,null,null,null,"","",""]
[null,null,null,null,null,null,null,"","",""]
[null,null,null,null,null,null,null,"","",""]
[null,null,null,null,null,null,null,"","",""]
[null,null,null,null,null,null,null,"","",""]
[null,null,null,null,null,null,null,"","",""]
[null,null,null,null,null,null,null,"","",""]
[null,null,null,null,null,null,null,"","",""]
[null,null,null,null,null,null,null,"","",""]
[null,null,null,null,null,null,null,"","",""]
[null,null,null,null,null,null,null,"","",""]
[null,null,null,null,null,null,null,"","",""]
[null,null,null,null,null,null,null,{"$f":"IF(G5841<>\"\",G5841/12,\"\")","v":""},{"$f":"IF(G5841<>\"\",8,\"\")","v":""},{"$f":"IF(I5841<>\"\",I5841/12,\"\")","v":""}]
[null,null,null,null,null,null,null,"","",""]
[null,null,null,null,null,null,null,"","",""]
[null,null,null,null,null,null,null,"","",""]
[null,null,null,null,null,null,null,"","",""]
[null,null,null,null,null,null,null,"","",""]
[null,null,null,null,null,null,null,"","",""]
[null,null,null,null,null,null,null,"","",""]
[null,null,null,null,null,null,null,"","",""]
[null,null,null,null,null,null,null,"","",""]
[null,null,null,null,null,null,null,"","",""]
[null,null,null,null,null,null,null,"","",""]
[null,null,null,null,null,null,null,"","",""]
[null,null,null,null,null,null,null,"","",""]
[null,null,null,null,null,null,null,"","",""]
[null,null,null,null,null,null,null,"","",""]
[null,null,null,null,null,null,null,"","",""]
[null,null,null,null,null,null,null,"","",""]
[null,null,null,null,null,null,null,"","",""]
[null,null,null,null,null,null,null,"","",""]
[null,null,null,null,null,null,null,"","",""]
[null,null,null,null,null,null,null,"","",""]
[null,null,null,null,null,null,null,"","",""]
[null,null,null,null,null,null,null,"","",""]
[null,null,null,null,null,null,null,"","",""]
[null,null,null,null,null,null,null,"","",""]
[null,null,null,null,null,null,null,"","",""]
[null,null,null,null,null,null,null,"","",""]
[null,null,null,null,null,null,null,"","",""]
[null,null,null,null,null,null,null,"","",""]
[null,null,null,null,null,null,null,"","",""]
[null,null,null,null,null,null,null,"","",""]
[null,null,null,null,null,null,null,"","",""]
[null,null,null,null,null,null,null,"","",""]
[null,null,null,null,null,null,null,"","",""]
[null,null,null,null,null,null,null,"","",""]
[null,null,null,null,null,null,null,"","",""]
[null,null,null,null,null,null,null,"","",""]
[null,null,null,null,null,null,null,"","",""]
[null,null,null,null,null,null,null,"","",""]
[null,null,null,null,null,null,null,"","",""]
[null,null,null,null,null,null,null,"","",""]
[null,null,null,null,null,null,null,"","",""]
[null,null,null,null,null,null,null,"","",""]
[null,null,null,null,null,null,null,"","",""]
[null,null,null,null,null,null,null,"","",""]
[null,null,null,null,null,null,null,"","",""]
[null,null,null,null,null,null,null,"","",""]
[null,null,null,null,null,null,null,"","",""]
[null,null,null,null,null,null,null,"","",""]
[null,null,null,null,null,null,null,"","",""]
[null,null,null,null,null,null,null,"","",""]
[null,null,null,null,null,null,null,"","",""]
[null,null,null,null,null,null,null,"","",""]
[null,null,null,null,null,null,null,"","",""]
[null,null,null,null,null,null,null,"","",""]
[null,null,null,null,null,null,null,"","",""]
[null,null,null,null,null,null,null,"","",""]
[null,null,null,null,null,null,null,"","",""]
[null,null,null,null,null,null,null,"","",""]
[null,null,null,null,null,null,null,"","",""]
[null,null,null,null,null,null,null,"","",""]
[null,null,null,null,null,null,null,"","",""]
[null,null,null,null,null,null,null,"","",""]
[null,null,null,null,null,null,null,{"$f":"IF(G5905<>\"\",G5905/12,\"\")","v":""},{"$f":"IF(G5905<>\"\",8,\"\")","v":""},{"$f":"IF(I5905<>\"\",I5905/12,\"\")","v":""}]
[null,null,null,null,null,null,null,"","",""]
[null,null,null,null,null,null,null,"","",""]
[null,null,null,null,null,null,null,"","",""]
[null,null,null,null,null,null,null,"","",""]
[null,null,null,null,null,null,null,"","",""]
[null,null,null,null,null,null,null,"","",""]
[null,null,null,null,null,null,null,"","",""]
[null,null,null,null,null,null,null,"","",""]
[null,null,null,null,null,null,null,"","",""]
[null,null,null,null,null,null,null,"","",""]
[null,null,null,null,null,null,null,"","",""]
[null,null,null,null,null,null,null,"","",""]
[null,null,null,null,null,null,null,"","",""]
[null,null,null,null,null,null,null,"","",""]
[null,null,null,null,null,null,null,"","",""]
[null,null,null,null,null,null,null,"","",""]
[null,null,null,null,null,null,null,"","",""]
[null,null,null,null,null,null,null,"","",""]
[null,null,null,null,null,null,null,"","",""]
[null,null,null,null,null,null,null,"","",""]
[null,null,null,null,null,null,null,"","",""]
[null,null,null,null,null,null,null,"","",""]
[null,null,null,null,null,null,null,"","",""]
[null,null,null,null,null,null,null,"","",""]
[null,null,null,null,null,null,null,"","",""]
[null,null,null,null,null,null,null,"","",""]
[null,null,null,null,null,null,null,"","",""]
[null,null,null,null,null,null,null,"","",""]
[null,null,null,null,null,null,null,"","",""]
[null,null,null,null,null,null,null,"","",""]
[null,null,null,null,null,null,null,"","",""]
[null,null,null,null,null,null,null,"","",""]
[null,null,null,null,null,null,null,"","",""]
[null,null,null,null,null,null,null,"","",""]
[null,null,null,null,null,null,null,"","",""]
[null,null,null,null,null,null,null,"","",""]
[null,null,null,null,null,null,null,"","",""]
[null,null,null,null,null,null,null,"","",""]
[null,null,null,null,null,null,null,"","",""]
[null,null,null,null,null,null,null,"","",""]
[null,null,null,null,null,null,null,"","",""]
[null,null,null,null,null,null,null,"","",""]
[null,null,null,null,null,null,null,"","",""]
[null,null,null,null,null,null,null,"","",""]
[null,null,null,null,null,null,null,"","",""]
[null,null,null,null,null,null,null,"","",""]
[null,null,null,null,null,null,null,"","",""]
[null,null,null,null,null,null,null,"","",""]
[null,null,null,null,null,null,null,"","",""]
[null,null,null,null,null,null,null,"","",""]
[null,null,null,null,null,null,null,"","",""]
[null,null,null,null,null,null,null,"","",""]
[null,null,null,null,null,null,null,"","",""]
[null,null,null,null,null,null,null,"","",""]
[null,null,null,null,null,null,null,"","",""]
[null,null,null,null,null,null,null,"","",""]
[null,null,null,null,null,null,null,"","",""]
[null,null,null,null,null,null,null,"","",""]
[null,null,null,null,null,null,null,"","",""]
[null,null,null,null,null,null,null,"","",""]
[null,null,null,null,null,null,null,"","",""]
[null,null,null,null,null,null,null,"","",""]
[null,null,null,null,null,null,null,"","",""]
[null,null,null,null,null,null,null,{"$f":"IF(G5969<>\"\",G5969/12,\"\")","v":""},{"$f":"IF(G5969<>\"\",8,\"\")","v":""},{"$f":"IF(I5969<>\"\",I5969/12,\"\")","v":""}]
[null,null,null,null,null,null,null,"","",""]
[null,null,null,null,null,null,null,"","",""]
[null,null,null,null,null,null,null,"","",""]
[null,null,null,null,null,null,null,"","",""]
[null,null,null,null,null,null,null,"","",""]
[null,null,null,null,null,null,null,"","",""]
[null,null,null,null,null,null,null,"","",""]
[null,null,null,null,null,null,null,"","",""]
[null,null,null,null,null,null,null,"","",""]
[null,null,null,null,null,null,null,"","",""]
[null,null,null,null,null,null,null,"","",""]
[null,null,null,null,null,null,null,"","",""]
[null,null,null,null,null,null,null,"","",""]
[null,null,null,null,null,null,null,"","",""]
[null,null,null,null,null,null,null,"","",""]
[null,null,null,null,null,null,null,"","",""]
[null,null,null,null,null,null,null,"","",""]

{"sheet":"DE104_5CEX","index":7,"n_rows":33,"n_cols":48,"rows_kept":33,"cut":false,"hidden":false,"merged":[[18,2,18,21],[18,23,18,42],[14,23,14,42],[15,2,16,21],[15,23,15,42],[16,23,17,42],[17,2,17,21],[19,2,19,21],[19,23,19,42],[20,2,21,5],[20,6,21,8],[20,9,21,10],[20,11,21,14],[20,15,23,16],[20,17,24,17],[20,18,23,18],[20,19,24,19],[20,41,25,41],[20,42,26,42],[25,36,25,37],[20,20,24,20],[20,21,25,21],[20,23,21,26],[20,27,21,29],[20,30,21,31],[20,32,21,35],[22,24,26,25],[22,26,25,26],[22,27,26,27],[22,28,25,28],[22,32,25,32],[22,33,25,34],[22,8,24,8],[20,36,24,37],[20,38,25,38],[20,39,24,39],[20,40,25,40],[22,35,25,35],[22,9,24,9],[22,10,24,10],[22,11,24,11],[22,12,24,13],[22,14,24,14],[22,23,26,23],[24,15,24,16],[22,29,25,29],[22,30,25,30],[22,31,25,31],[22,2,25,2],[22,3,25,4],[22,5,24,5],[22,6,25,6],[22,7,24,7]]}
["TabTitle",{"$f":"C16","v":"COREOUT"}]
["Number of Tab Columns",20]
["DE Starter Row Number",27]
["TabSheet Starter Row Number",14]
["TabSheet Header Row Count",13]
["Top Header Cell","X15"]
["Bottom Header Cell","AQ27"]
["DESheet Row Count",4]
["Fixed Empty Rows",2]
["Usable Empty Rows",0]
["Total Rows Placed",6,"xlRight(1)","xlRight(1)","xlRight(1)","xlLeft(1)","xlLeft(1)","xlRight(1)","xlRight(1)","xlRight(1)","xlRight(1)","xlRight(1)","xlRight(1)","xlRight(1)","xlRight(1)","xlLeft(1)","xlRight(1)","xlRight(1)","xlRight(1)","xlRight(1)","xlRight(1)","xlLeft(1)",null,{"$f":"C11","v":"xlRight(1)"},{"$f":"D11","v":"xlRight(1)"},"xlRight(1)","xlLeft(1)","xlLeft(1)","xlRight(1)","xlRight(1)","xlRight(1)","xlRight(1)","xlRight(1)","xlRight(1)","xlRight(1)","xlRight(1)","xlLeft(1)","xlRight(1)","xlRight(1)","xlRight(1)",{"$f":"T11","v":"xlRight(1)"},"xlRight(1)","xlLeft(1)"]
["Total Rows Needed",{"$f":"SUM(B8:B10)","v":6},"General","#+00.00","#+00.00","General","General","0.0","0","0","0","0","General","0","0","General","0","0.0","0.0","0.0","0.0","General",null,{"$f":"C12","v":"General"},"#+00.00","#+00.00","General","General","0.0","0","0","0","0","General","0","0","General","0","0.0","0.0","0.0","0.0","General"]
["Last Tab DE Starter Row",27,{"$f":"CELL(\"width\",C13)","v":8},16,16,28,22,8,9,8,8,8,8,8,8,12,6,14,14,14,14,81,null,{"$f":"CELL(\"width\",X13)","v":0},0,0,0,0,0,0,0,0,0,0,0,0,0,0,0,0,0,0,0]
["Last Tab Tabsheet Starter Row",14,"A","B","C","D","E","F","G","H","I","J","K","L","M","N","O","P","Q","R","S","T",null,{"$f":"LOWER(C14)","v":"a"},{"$f":"LOWER(D14)","v":"b"},"c","d","e","f","g","h","i","j","k","l","m","n","o","p","q","r","s","t"]
["Last Copy Starter Row",1,null,null,null,null,null,null,null,null,null,null,null,null,null,"Totals:",null,{"$f":"SUBTOTAL(9,R27:R6000)","v":0},{"$f":"SUBTOTAL(9,S27:S6000)","v":0},null,null,null,null,"104-5CA",null,null,null,null,null,null,null,null,null,null,null,null,null,null,null,null,null,null,null,null,{"$f":"F23","v":"Type of\nInstallation"},{"$f":"G21","v":"Pipe"},{"$f":"L21&M23","v":"OutletsDR-305"},{"$f":"P21","v":"Connected Pipe\nJoints*"}]
["Tab Loop Number",2,"COREOUT",null,null,null,null,null,null,null,null,null,null,null,null,null,null,null,null,null,null,null,null,"NEW",null,null,null,null,null,null,null,null,null,null,null,null,null,null,null,null,null,null,null,null,"DR-301, Type 1","Concrete","A","Type 1"]
["Revision Date","2017-10-17",null,null,null,null,null,null,null,null,null,null,null,null,null,null,null,null,null,null,null,null,null,{"$f":"C16","v":"COREOUT"},null,null,null,null,null,null,null,null,null,null,null,null,null,null,null,null,null,null,null,null,"DR-301, Type 2","C.M.P.","B","Type 2"]
["Tabulation Width",4,"Refer to  Sheets Q.12 and Q.13.",null,null,null,null,null,null,null,null,null,null,null,null,null,null,null,null,null,null,null,null,null,null,null,null,null,null,null,null,null,null,null,null,null,null,null,null,null,null,null,null,null,"DR-301, Type 3","Plastic","C","Type 3"]
["Horizontal Grid Lines","Yes","* Not a bid item",null,null,null,null,null,null,null,null,null,null,null,null,null,null,null,null,null,null,null,null,{"$f":"C18","v":"Refer to  Sheets Q.12 and Q.13."},null,null,null,null,null,null,null,null,null,null,null,null,null,null,null,null,null,null,null,null,"DR-301, Type 4"]
[null,null,{"$f":"\"This Data Entry Sheet fills Tab \"&X15&\" effective \"&TEXT(B17,\"mm-dd-yy\")","v":"This Data Entry Sheet fills Tab 104-5CA effective 10-17-17"},null,null,null,null,null,null,null,null,null,null,null,null,null,null,null,null,null,null,null,null,{"$f":"C19","v":"* Not a bid item"},null,null,null,null,null,null,null,null,null,null,null,null,null,null,null,null,null,null,null,null,"DR-302, Case A"]
[null,null,"Location",null,null,null,"Pipe",null,null,"Aprons",null,"Outlets",null,null,null,"Connected Pipe\nJoints*",null,"Trench\nDrain","Granular\nMaterial","Removal of Wing Dike Revetment Fill","Refill with Class 10 Fill","Remarks",null,{"$f":"C21","v":"Location"},null,null,null,{"$f":"G21","v":"Pipe"},null,null,{"$f":"J21","v":"Aprons"},null,{"$f":"L21","v":"Outlets"},null,null,null,{"$f":"P21","v":"Connected Pipe\nJoints*"},null,{"$f":"R21","v":"Trench\nDrain"},{"$f":"S21","v":"Granular\nMaterial"},{"$f":"T21","v":"Removal of Wing Dike Revetment Fill"},{"$f":"U21","v":"Refill with Class 10 Fill"},{"$f":"V21","v":"Remarks"},null,"DR-302, Case B"]
[null,null,null,null,null,null,null,null,null,null,null,null,null,null,null,null,null,null,null,null,null,null,null,null,null,null,null,null,null,null,null,null,null,null,null,null,null,null,null,null,null,null,null,null,"DR-302, Case C"]
[null,null,"No.","Station to Station",null,"Type of\nInstallation","Concrete, C.M.P., or Plastic","Dia.","Length","DR-201","DR-203","500-10","DR-305",null,"DR-306",null,null,null,null,null,null,null,null,{"$f":"C23","v":"No."},{"$f":"D23","v":"Station to Station"},null,{"$f":"F23","v":"Type of\nInstallation"},"Concrete, C.M.P., or Plastic","Dia.","Length","DR-201","DR-203","500-10","DR-305",null,{"$f":"O23","v":"DR-306"},null,null,null,null,null,null,null,null,"DR-303, Type 5"]
[null,null,null,null,null,null,null,null,null,null,null,null,null,null,null,null,null,null,null,null,null,null,null,null,null,null,null,null,null,null,null,null,null,null,null,null,null,null,null,null,null,null,null,null,"DR-303, Type 6"]
[null,null,null,null,null,null,null,null,null,null,null,null,null,null,null,"DR-121",null,null,"Blanket",null,null,null,null,null,null,null,null,null,null,null,null,null,null,null,null,null,null,null,null,null,null,null,null,null,"DR-303, Type 7A"]
[null,null,null,null,null,"DR-301, DR-302, DR-303",null,"IN","LF","No.","No.","No.","Type","No.","No.","Type","No.","LF","CY","CY","CY",null,null,null,null,null,null,null,null,null,null,null,null,null,null,null,{"$f":"P25","v":"DR-121"},null,null,{"$f":"S25","v":"Blanket"},null,null,null,null,"DR-303, Type 7B"]
[null,null,1,26670,26780,null,null,null,null,null,null,null,null,null,null,null,null,null,null,1004,1305,"Overexcavate existing wing dike Class 20 revetment fill down to ",null,null,null,null,{"$f":"F26","v":"DR-301, DR-302, DR-303"},null,{"$f":"H26","v":"IN"},{"$f":"I26","v":"LF"},{"$f":"J26","v":"No."},{"$f":"K26","v":"No."},{"$f":"L26","v":"No."},{"$f":"M26","v":"Type"},"No.",{"$f":"O26","v":"No."},{"$f":"P26","v":"Type"},{"$f":"Q26","v":"No."},{"$f":"R26","v":"LF"},{"$f":"S26","v":"CY"},{"$f":"T26","v":"CY"},{"$f":"U26","v":"CY"},null,null,"DR-303, Type 8A"]
[null,null,null,null,null,null,null,null,null,null,null,null,null,null,null,null,null,null,null,null,null,"Elevation 804 and replace with Class 10 fill.  Actual limits and  ",null,null,null,null,null,null,null,null,null,null,null,null,null,null,null,null,null,null,null,null,null,null,"DR-303, Type 8B"]
[null,null,null,null,null,null,null,null,null,null,null,null,null,null,null,null,null,null,null,null,null,"depth of overexcavation to be determined during construction by Iowa ",null,null,null,null,null,null,null,null,null,null,null,null,null,null,null,null,null,null,null,null,null,null,"DR-303, Type 9"]
[null,null,null,null,null,null,null,null,null,null,null,null,null,null,null,null,null,null,null,null,null,"DOT Resident Construction Engineer (or a representative of the RCE).",null,null,null,null,null,null,null,null,null,null,null,null,null,null,null,null,null,null,null,null,null,null,"DR-303, Type 11"]
[null,null,null,null,null,null,null,null,null,null,null,null,null,null,null,null,null,null,null,null,null,null,null,null,null,null,null,null,null,null,null,null,null,null,null,null,null,null,null,null,null,null,null,null,"DR-303, Type 12"]
[null,null,null,null,null,null,null,null,null,null,null,null,null,null,null,null,null,null,null,null,null,null,null,null,null,null,null,null,null,null,null,null,null,null,null,null,null,null,null,null,null,null,null,null,"DR-303, Type 13"]
[null,null,null,null,null,null,null,null,null,null,null,null,null,null,null,null,null,null,null,null,null,null,null,null,null,null,null,null,null,null,null,null,null,null,null,null,null,null,null,null,null,null,null,null,"DR-303, Type 14"]

{"sheet":"DE104_6","index":8,"n_rows":6000,"n_cols":37,"rows_kept":6000,"cut":false,"hidden":false,"merged":[[14,8,14,9],[14,19,14,34],[15,2,16,17],[15,19,15,34],[16,19,17,34],[17,2,17,17],[18,2,18,17],[18,19,18,34],[19,2,19,17],[19,19,19,34],[20,2,21,3],[20,4,21,5],[20,6,21,7],[20,8,21,10],[20,11,25,11],[20,12,25,12],[20,31,21,33],[20,34,26,34],[22,25,25,25],[22,26,25,26],[22,27,25,27],[22,31,25,31],[22,8,25,8],[20,25,21,27],[20,28,25,28],[20,29,25,29],[20,30,25,30],[20,13,25,13],[20,14,21,16],[20,17,26,17],[20,19,21,20],[20,21,21,22],[20,23,21,24],[22,22,25,22],[22,23,26,23],[22,24,25,24],[22,2,26,3],[22,4,26,4],[22,5,25,5],[22,6,26,6],[22,7,25,7],[22,32,25,33],[22,9,25,9],[22,10,25,10],[22,14,25,14],[22,15,25,16],[22,19,26,20],[22,21,26,21]]}
["TabTitle",{"$f":"C16","v":"WICK DRAIN OR SAND DRAIN FIELDS"}]
["Number of Tab Columns",16]
["DE Starter Row Number",28]
["TabSheet Starter Row Number",14]
["TabSheet Header Row Count",13]
["Top Header Cell","T15"]
["Bottom Header Cell","AI27"]
["DESheet Row Count",7]
["Fixed Empty Rows",2]
["Usable Empty Rows",5]
["Total Rows Placed",14,"xlRight(1)","xlRight(1)","xlRight(1)","xlRight(1)","xlRight(1)","xlRight(1)","xlRight(1)","xlRight(1)","xlRight(1)","xlRight(1)","xlRight(1)","xlRight(1)","xlRight(1)","xlRight(1)","xlRight(1)","xlLeft(1)",null,{"$f":"C11","v":"xlRight(1)"},"xlRight(1)","xlRight(1)","xlRight(1)","xlRight(1)","xlRight(1)","xlRight(1)","xlRight(1)","xlRight(1)","xlRight(1)","xlRight(1)","xlRight(1)","xlRight(1)","xlRight(1)","xlRight(1)","xlLeft(1)"]
["Total Rows Needed",{"$f":"SUM(B8:B10)","v":14},"#+00.00","#+00.00",0,0,"0","0.0","0.0","0.0","0.0","0.0","0.0","0.0","0","General","0","General",null,"#+00.00","#+00.00",0,0,"0","0.0","0.0","0.0","0.0","0.0","0.0","0.0","0","General","0","General"]
["Last Tab DE Starter Row",28,{"$f":"CELL(\"width\",C13)","v":16},16,10,15,10,15,15,15,15,15,15,15,8,8,8,117,null,{"$f":"CELL(\"width\",T13)","v":0},0,{"$f":"CELL(\"width\",V13)","v":0},0,0,0,0,0,0,0,0,0,0,0,0,0]
["Last Tab Tabsheet Starter Row",14,"A","B","C","D","E","F","G","H","I","J","K","L","M","N","O","P",null,{"$f":"LOWER(C14)","v":"a"},"b","c","d","e","f","g","h","i","j","k","l","m","n","o","p"]
["Last Copy Starter Row",1,null,null,"Totals:",{"$f":"SUBTOTAL(9,F28:F6000)","v":0},null,{"$f":"SUBTOTAL(9,H28:H6000)","v":170895},null,null,{"$f":"SUBTOTAL(9,K28:K6000)","v":26230},{"$f":"SUBTOTAL(9,L28:L6000)","v":0},{"$f":"SUBTOTAL(9,M28:M6000)","v":0},null,{"$f":"SUBTOTAL(9,O28:O6000)","v":0},null,{"$f":"SUBTOTAL(9,Q28:Q6000)","v":0},null,null,"104-6",null,null,null,null,null,null,null,null,null,null,null,null,null,null,null,null,"DR-305 Type"]
["Tab Loop Number",2,"WICK DRAIN OR SAND DRAIN FIELDS",null,null,null,null,null,null,null,null,null,null,null,null,null,null,null,null,{"$f":"B17","v":"2017-10-17"},null,null,null,null,null,null,null,null,null,null,null,null,null,null,null,null,"A"]
["Revision Date","2017-10-17",null,null,null,null,null,null,null,null,null,null,null,null,null,null,null,null,null,{"$f":"C16","v":"WICK DRAIN OR SAND DRAIN FIELDS"},null,null,null,null,null,null,null,null,null,null,null,null,null,null,null,null,"B"]
["Tabulation Width",4,"Possible Standards: DR-301 and DR-305, Detail 500-10, and Tabulation 104-5C.",null,null,null,null,null,null,null,null,null,null,null,null,null,null,null,null,null,null,null,null,null,null,null,null,null,null,null,null,null,null,null,null,null,"C"]
["Horizontal Grid Lines","Yes"," * Not a bid item.",null,null,null,null,null,null,null,null,null,null,null,null,null,null,null,null,{"$f":"C18","v":"Possible Standards: DR-301 and DR-305, Detail 500-10, and Tabulation 104-5C."}]
[null,null,{"$f":"\"This Data Entry Sheet fills Tab \"&T15&\" effective \"&TEXT(B17,\"mm-dd-yy\")","v":"This Data Entry Sheet fills Tab 104-6 effective 10-17-17"},null,null,null,null,null,null,null,null,null,null,null,null,null,null,null,null,{"$f":"C19","v":" * Not a bid item."}]
[null,null,"Location",null,"Sand Drains",null,"Wick Drains",null,"Horizontal Strip Drains",null,null,"Granular Material for Blanket and Subdrain","Drain\nDR-301\nType 2","Porous\nBackfill*","Subdrain Outlets",null,null,"Remarks",null,{"$f":"C21","v":"Location"},null,{"$f":"E21","v":"Sand Drains"},null,{"$f":"G21","v":"Wick Drains"},null,{"$f":"I21","v":"Horizontal Strip Drains"},null,null,{"$f":"L21","v":"Granular Material for Blanket and Subdrain"},{"$f":"M21","v":"Drain\nDR-301\nType 2"},"Porous\nBackfill*",{"$f":"O21","v":"Subdrain Outlets"},null,null,{"$f":"R21","v":"Remarks"}]
[]
[null,null,"Station to Station",null,"Number of Drains*","Total Length","Number of Drains*","Total Length","Longitudinal","Transverse","Total Length",null,null,null,"500-10","DR-305",null,null,null,{"$f":"C23","v":"Station to Station"},null,{"$f":"E23","v":"Number of Drains*"},"Total Length","Number of Drains*","Total Length","Longitudinal","Transverse","Total Length",null,null,null,{"$f":"O23","v":"500-10"},{"$f":"P23","v":"DR-305"}]
[]
[]
[]
[null,null,null,null,null,"LF",null,"LF","LF","LF","LF","CY","LF","CY","NO.","TYPE","NO.",null,null,null,null,null,{"$f":"F27","v":"LF"},null,{"$f":"H27","v":"LF"},{"$f":"I27","v":"LF"},{"$f":"J27","v":"LF"},{"$f":"K27","v":"LF"},{"$f":"L27","v":"CY"},"LF","CY","NO.","TYPE","NO."]
[null,null,38000,38150,null,null,334,16533,1156,616,{"$f":"IF(OR(I28<>\"\",J28<>\"\"),I28+J28,\"\")","v":1772},null,null,null,null,null,null,"Layout \"1\" See Q.62 & Q.63"]
[null,null,38000,38150,null,null,118,5959,543,642,{"$f":"IF(OR(I29<>\"\",J29<>\"\"),I29+J29,\"\")","v":1185},null,null,null,null,null,null,"Layout \"4\" See Q.62 & Q.63"]
[null,null,38025,38325,null,null,1103,43568.5,3722,1850,{"$f":"IF(OR(I30<>\"\",J30<>\"\"),I30+J30,\"\")","v":5572},null,null,null,null,null,null,"Layout \"2\" See Q.62 & Q.63"]
[null,null,38150,38325,null,null,209,8464.5,939,2053,2992,null,null,null,null,null,null,"Layout \"5\" See Q.62 & Q.63"]
[null,null,38325,38400,null,null,257,10922.5,1125,469,1594,null,null,null,null,null,null,"Layout \"3\" See Q.62 & Q.63"]
[null,null,null,null,null,null,null,null,null,null,""]
[null,null,"Totals",null,null,null,{"$f":"SUM(G28:G32)","v":2021},{"$f":"SUM(H28:H32)","v":85447.5},null,null,13115]
[null,null,null,null,null,null,null,null,null,null,""]
[null,null,null,null,null,null,null,null,null,null,""]
[null,null,null,null,null,null,null,null,null,null,""]
[null,null,null,null,null,null,null,null,null,null,""]
[null,null,null,null,null,null,null,null,null,null,""]
[null,null,null,null,null,null,null,null,null,null,""]
[null,null,null,null,null,null,null,null,null,null,""]
[null,null,null,null,null,null,null,null,null,null,""]
[null,null,null,null,null,null,null,null,null,null,""]
[null,null,null,null,null,null,null,null,null,null,""]
[null,null,null,null,null,null,null,null,null,null,""]
[null,null,null,null,null,null,null,null,null,null,""]
[null,null,null,null,null,null,null,null,null,null,""]
[null,null,null,null,null,null,null,null,null,null,""]
[null,null,null,null,null,null,null,null,null,null,""]
[null,null,null,null,null,null,null,null,null,null,""]
[null,null,null,null,null,null,null,null,null,null,""]
[null,null,null,null,null,null,null,null,null,null,""]
[null,null,null,null,null,null,null,null,null,null,""]
[null,null,null,null,null,null,null,null,null,null,""]
[null,null,null,null,null,null,null,null,null,null,""]
[null,null,null,null,null,null,null,null,null,null,""]
[null,null,null,null,null,null,null,null,null,null,""]
[null,null,null,null,null,null,null,null,null,null,""]
[null,null,null,null,null,null,null,null,null,null,""]
[null,null,null,null,null,null,null,null,null,null,""]
[null,null,null,null,null,null,null,null,null,null,""]
[null,null,null,null,null,null,null,null,null,null,""]
[null,null,null,null,null,null,null,null,null,null,""]
[null,null,null,null,null,null,null,null,null,null,""]
[null,null,null,null,null,null,null,null,null,null,""]
[null,null,null,null,null,null,null,null,null,null,""]
[null,null,null,null,null,null,null,null,null,null,""]
[null,null,null,null,null,null,null,null,null,null,""]
[null,null,null,null,null,null,null,null,null,null,""]
[null,null,null,null,null,null,null,null,null,null,""]
[null,null,null,null,null,null,null,null,null,null,""]
[null,null,null,null,null,null,null,null,null,null,""]
[null,null,null,null,null,null,null,null,null,null,""]
[null,null,null,null,null,null,null,null,null,null,""]
[null,null,null,null,null,null,null,null,null,null,""]
[null,null,null,null,null,null,null,null,null,null,""]
[null,null,null,null,null,null,null,null,null,null,""]
[null,null,null,null,null,null,null,null,null,null,""]
[null,null,null,null,null,null,null,null,null,null,""]
[null,null,null,null,null,null,null,null,null,null,""]
[null,null,null,null,null,null,null,null,null,null,""]
[null,null,null,null,null,null,null,null,null,null,""]
[null,null,null,null,null,null,null,null,null,null,""]
[null,null,null,null,null,null,null,null,null,null,""]
[null,null,null,null,null,null,null,null,null,null,""]
[null,null,null,null,null,null,null,null,null,null,""]
[null,null,null,null,null,null,null,null,null,null,""]
[null,null,null,null,null,null,null,null,null,null,""]
[null,null,null,null,null,null,null,null,null,null,""]
[null,null,null,null,null,null,null,null,null,null,""]
[null,null,null,null,null,null,null,null,null,null,""]
[null,null,null,null,null,null,null,null,null,null,""]
[null,null,null,null,null,null,null,null,null,null,""]
[null,null,null,null,null,null,null,null,null,null,{"$f":"IF(OR(I94<>\"\",J94<>\"\"),I94+J94,\"\")","v":""}]
[null,null,null,null,null,null,null,null,null,null,""]
[null,null,null,null,null,null,null,null,null,null,""]
[null,null,null,null,null,null,null,null,null,null,""]
[null,null,null,null,null,null,null,null,null,null,""]
[null,null,null,null,null,null,null,null,null,null,""]
[null,null,null,null,null,null,null,null,null,null,""]
[null,null,null,null,null,null,null,null,null,null,""]
[null,null,null,null,null,null,null,null,null,null,""]
[null,null,null,null,null,null,null,null,null,null,""]
[null,null,null,null,null,null,null,null,null,null,""]
[null,null,null,null,null,null,null,null,null,null,""]
[null,null,null,null,null,null,null,null,null,null,""]
[null,null,null,null,null,null,null,null,null,null,""]
[null,null,null,null,null,null,null,null,null,null,""]
[null,null,null,null,null,null,null,null,null,null,""]
[null,null,null,null,null,null,null,null,null,null,""]
[null,null,null,null,null,null,null,null,null,null,""]
[null,null,null,null,null,null,null,null,null,null,""]
[null,null,null,null,null,null,null,null,null,null,""]
[null,null,null,null,null,null,null,null,null,null,""]
[null,null,null,null,null,null,null,null,null,null,""]
[null,null,null,null,null,null,null,null,null,null,""]
[null,null,null,null,null,null,null,null,null,null,""]
[null,null,null,null,null,null,null,null,null,null,""]
[null,null,null,null,null,null,null,null,null,null,""]
[null,null,null,null,null,null,null,null,null,null,""]
[null,null,null,null,null,null,null,null,null,null,""]
[null,null,null,null,null,null,null,null,null,null,""]
[null,null,null,null,null,null,null,null,null,null,""]
[null,null,null,null,null,null,null,null,null,null,""]
[null,null,null,null,null,null,null,null,null,null,""]
[null,null,null,null,null,null,null,null,null,null,""]
[null,null,null,null,null,null,null,null,null,null,""]
[null,null,null,null,null,null,null,null,null,null,""]
[null,null,null,null,null,null,null,null,null,null,""]
[null,null,null,null,null,null,null,null,null,null,""]
[null,null,null,null,null,null,null,null,null,null,""]
[null,null,null,null,null,null,null,null,null,null,""]
[null,null,null,null,null,null,null,null,null,null,""]
[null,null,null,null,null,null,null,null,null,null,""]
[null,null,null,null,null,null,null,null,null,null,""]
[null,null,null,null,null,null,null,null,null,null,""]
[null,null,null,null,null,null,null,null,null,null,""]
[null,null,null,null,null,null,null,null,null,null,""]
[null,null,null,null,null,null,null,null,null,null,""]
[null,null,null,null,null,null,null,null,null,null,""]
[null,null,null,null,null,null,null,null,null,null,""]
[null,null,null,null,null,null,null,null,null,null,""]
[null,null,null,null,null,null,null,null,null,null,""]
[null,null,null,null,null,null,null,null,null,null,""]
[null,null,null,null,null,null,null,null,null,null,""]
[null,null,null,null,null,null,null,null,null,null,""]
[null,null,null,null,null,null,null,null,null,null,""]
[null,null,null,null,null,null,null,null,null,null,""]
[null,null,null,null,null,null,null,null,null,null,""]
[null,null,null,null,null,null,null,null,null,null,""]
[null,null,null,null,null,null,null,null,null,null,""]
[null,null,null,null,null,null,null,null,null,null,""]
[null,null,null,null,null,null,null,null,null,null,""]
[null,null,null,null,null,null,null,null,null,null,""]
[null,null,null,null,null,null,null,null,null,null,""]
[null,null,null,null,null,null,null,null,null,null,""]
[null,null,null,null,null,null,null,null,null,null,""]
[null,null,null,null,null,null,null,null,null,null,{"$f":"IF(OR(I158<>\"\",J158<>\"\"),I158+J158,\"\")","v":""}]
[null,null,null,null,null,null,null,null,null,null,""]
[null,null,null,null,null,null,null,null,null,null,""]
[null,null,null,null,null,null,null,null,null,null,""]
[null,null,null,null,null,null,null,null,null,null,""]
[null,null,null,null,null,null,null,null,null,null,""]
[null,null,null,null,null,null,null,null,null,null,""]
[null,null,null,null,null,null,null,null,null,null,""]
[null,null,null,null,null,null,null,null,null,null,""]
[null,null,null,null,null,null,null,null,null,null,""]
[null,null,null,null,null,null,null,null,null,null,""]
[null,null,null,null,null,null,null,null,null,null,""]
[null,null,null,null,null,null,null,null,null,null,""]
[null,null,null,null,null,null,null,null,null,null,""]
[null,null,null,null,null,null,null,null,null,null,""]
[null,null,null,null,null,null,null,null,null,null,""]
[null,null,null,null,null,null,null,null,null,null,""]
[null,null,null,null,null,null,null,null,null,null,""]
[null,null,null,null,null,null,null,null,null,null,""]
[null,null,null,null,null,null,null,null,null,null,""]
[null,null,null,null,null,null,null,null,null,null,""]
[null,null,null,null,null,null,null,null,null,null,""]
[null,null,null,null,null,null,null,null,null,null,""]
[null,null,null,null,null,null,null,null,null,null,""]
[null,null,null,null,null,null,null,null,null,null,""]
[null,null,null,null,null,null,null,null,null,null,""]
[null,null,null,null,null,null,null,null,null,null,""]
[null,null,null,null,null,null,null,null,null,null,""]
[null,null,null,null,null,null,null,null,null,null,""]
[null,null,null,null,null,null,null,null,null,null,""]
[null,null,null,null,null,null,null,null,null,null,""]
[null,null,null,null,null,null,null,null,null,null,""]
[null,null,null,null,null,null,null,null,null,null,""]
[null,null,null,null,null,null,null,null,null,null,""]
[null,null,null,null,null,null,null,null,null,null,""]
[null,null,null,null,null,null,null,null,null,null,""]
[null,null,null,null,null,null,null,null,null,null,""]
[null,null,null,null,null,null,null,null,null,null,""]
[null,null,null,null,null,null,null,null,null,null,""]
[null,null,null,null,null,null,null,null,null,null,""]
[null,null,null,null,null,null,null,null,null,null,""]
[null,null,null,null,null,null,null,null,null,null,""]
[null,null,null,null,null,null,null,null,null,null,""]
[null,null,null,null,null,null,null,null,null,null,""]
[null,null,null,null,null,null,null,null,null,null,""]
[null,null,null,null,null,null,null,null,null,null,""]
[null,null,null,null,null,null,null,null,null,null,""]
[null,null,null,null,null,null,null,null,null,null,""]
[null,null,null,null,null,null,null,null,null,null,""]
[null,null,null,null,null,null,null,null,null,null,""]
[null,null,null,null,null,null,null,null,null,null,""]
[null,null,null,null,null,null,null,null,null,null,""]
[null,null,null,null,null,null,null,null,null,null,""]
[null,null,null,null,null,null,null,null,null,null,""]
[null,null,null,null,null,null,null,null,null,null,""]
[null,null,null,null,null,null,null,null,null,null,""]
[null,null,null,null,null,null,null,null,null,null,""]
[null,null,null,null,null,null,null,null,null,null,""]
[null,null,null,null,null,null,null,null,null,null,""]
[null,null,null,null,null,null,null,null,null,null,""]
[null,null,null,null,null,null,null,null,null,null,""]
[null,null,null,null,null,null,null,null,null,null,""]
[null,null,null,null,null,null,null,null,null,null,""]
[null,null,null,null,null,null,null,null,null,null,""]
[null,null,null,null,null,null,null,null,null,null,{"$f":"IF(OR(I222<>\"\",J222<>\"\"),I222+J222,\"\")","v":""}]
[null,null,null,null,null,null,null,null,null,null,""]
[null,null,null,null,null,null,null,null,null,null,""]
[null,null,null,null,null,null,null,null,null,null,""]
[null,null,null,null,null,null,null,null,null,null,""]
[null,null,null,null,null,null,null,null,null,null,""]
[null,null,null,null,null,null,null,null,null,null,""]
[null,null,null,null,null,null,null,null,null,null,""]
[null,null,null,null,null,null,null,null,null,null,""]
[null,null,null,null,null,null,null,null,null,null,""]
[null,null,null,null,null,null,null,null,null,null,""]
[null,null,null,null,null,null,null,null,null,null,""]
[null,null,null,null,null,null,null,null,null,null,""]
[null,null,null,null,null,null,null,null,null,null,""]
[null,null,null,null,null,null,null,null,null,null,""]
[null,null,null,null,null,null,null,null,null,null,""]
[null,null,null,null,null,null,null,null,null,null,""]
[null,null,null,null,null,null,null,null,null,null,""]
[null,null,null,null,null,null,null,null,null,null,""]
[null,null,null,null,null,null,null,null,null,null,""]
[null,null,null,null,null,null,null,null,null,null,""]
[null,null,null,null,null,null,null,null,null,null,""]
[null,null,null,null,null,null,null,null,null,null,""]
[null,null,null,null,null,null,null,null,null,null,""]
[null,null,null,null,null,null,null,null,null,null,""]
[null,null,null,null,null,null,null,null,null,null,""]
[null,null,null,null,null,null,null,null,null,null,""]
[null,null,null,null,null,null,null,null,null,null,""]
[null,null,null,null,null,null,null,null,null,null,""]
[null,null,null,null,null,null,null,null,null,null,""]
[null,null,null,null,null,null,null,null,null,null,""]
[null,null,null,null,null,null,null,null,null,null,""]
[null,null,null,null,null,null,null,null,null,null,""]
[null,null,null,null,null,null,null,null,null,null,""]
[null,null,null,null,null,null,null,null,null,null,""]
[null,null,null,null,null,null,null,null,null,null,""]
[null,null,null,null,null,null,null,null,null,null,""]
[null,null,null,null,null,null,null,null,null,null,""]
[null,null,null,null,null,null,null,null,null,null,""]
[null,null,null,null,null,null,null,null,null,null,""]
[null,null,null,null,null,null,null,null,null,null,""]
[null,null,null,null,null,null,null,null,null,null,""]
[null,null,null,null,null,null,null,null,null,null,""]
[null,null,null,null,null,null,null,null,null,null,""]
[null,null,null,null,null,null,null,null,null,null,""]
[null,null,null,null,null,null,null,null,null,null,""]
[null,null,null,null,null,null,null,null,null,null,""]
[null,null,null,null,null,null,null,null,null,null,""]
[null,null,null,null,null,null,null,null,null,null,""]
[null,null,null,null,null,null,null,null,null,null,""]
[null,null,null,null,null,null,null,null,null,null,""]
[null,null,null,null,null,null,null,null,null,null,""]
[null,null,null,null,null,null,null,null,null,null,""]
[null,null,null,null,null,null,null,null,null,null,""]
[null,null,null,null,null,null,null,null,null,null,""]
[null,null,null,null,null,null,null,null,null,null,""]
[null,null,null,null,null,null,null,null,null,null,""]
[null,null,null,null,null,null,null,null,null,null,""]
[null,null,null,null,null,null,null,null,null,null,""]
[null,null,null,null,null,null,null,null,null,null,""]
[null,null,null,null,null,null,null,null,null,null,""]
[null,null,null,null,null,null,null,null,null,null,""]
[null,null,null,null,null,null,null,null,null,null,""]
[null,null,null,null,null,null,null,null,null,null,""]
[null,null,null,null,null,null,null,null,null,null,{"$f":"IF(OR(I286<>\"\",J286<>\"\"),I286+J286,\"\")","v":""}]
[null,null,null,null,null,null,null,null,null,null,""]
[null,null,null,null,null,null,null,null,null,null,""]
[null,null,null,null,null,null,null,null,null,null,""]
[null,null,null,null,null,null,null,null,null,null,""]
[null,null,null,null,null,null,null,null,null,null,""]
[null,null,null,null,null,null,null,null,null,null,""]
[null,null,null,null,null,null,null,null,null,null,""]
[null,null,null,null,null,null,null,null,null,null,""]
[null,null,null,null,null,null,null,null,null,null,""]
[null,null,null,null,null,null,null,null,null,null,""]
[null,null,null,null,null,null,null,null,null,null,""]
[null,null,null,null,null,null,null,null,null,null,""]
[null,null,null,null,null,null,null,null,null,null,""]
[null,null,null,null,null,null,null,null,null,null,""]
[null,null,null,null,null,null,null,null,null,null,""]
[null,null,null,null,null,null,null,null,null,null,""]
[null,null,null,null,null,null,null,null,null,null,""]
[null,null,null,null,null,null,null,null,null,null,""]
[null,null,null,null,null,null,null,null,null,null,""]
[null,null,null,null,null,null,null,null,null,null,""]
[null,null,null,null,null,null,null,null,null,null,""]
[null,null,null,null,null,null,null,null,null,null,""]
[null,null,null,null,null,null,null,null,null,null,""]
[null,null,null,null,null,null,null,null,null,null,""]
[null,null,null,null,null,null,null,null,null,null,""]
[null,null,null,null,null,null,null,null,null,null,""]
[null,null,null,null,null,null,null,null,null,null,""]
[null,null,null,null,null,null,null,null,null,null,""]
[null,null,null,null,null,null,null,null,null,null,""]
[null,null,null,null,null,null,null,null,null,null,""]
[null,null,null,null,null,null,null,null,null,null,""]
[null,null,null,null,null,null,null,null,null,null,""]
[null,null,null,null,null,null,null,null,null,null,""]
[null,null,null,null,null,null,null,null,null,null,""]
[null,null,null,null,null,null,null,null,null,null,""]
[null,null,null,null,null,null,null,null,null,null,""]
[null,null,null,null,null,null,null,null,null,null,""]
[null,null,null,null,null,null,null,null,null,null,""]
[null,null,null,null,null,null,null,null,null,null,""]
[null,null,null,null,null,null,null,null,null,null,""]
[null,null,null,null,null,null,null,null,null,null,""]
[null,null,null,null,null,null,null,null,null,null,""]
[null,null,null,null,null,null,null,null,null,null,""]
[null,null,null,null,null,null,null,null,null,null,""]
[null,null,null,null,null,null,null,null,null,null,""]
[null,null,null,null,null,null,null,null,null,null,""]
[null,null,null,null,null,null,null,null,null,null,""]
[null,null,null,null,null,null,null,null,null,null,""]
[null,null,null,null,null,null,null,null,null,null,""]
[null,null,null,null,null,null,null,null,null,null,""]
[null,null,null,null,null,null,null,null,null,null,""]
[null,null,null,null,null,null,null,null,null,null,""]
[null,null,null,null,null,null,null,null,null,null,""]
[null,null,null,null,null,null,null,null,null,null,""]
[null,null,null,null,null,null,null,null,null,null,""]
[null,null,null,null,null,null,null,null,null,null,""]
[null,null,null,null,null,null,null,null,null,null,""]
[null,null,null,null,null,null,null,null,null,null,""]
[null,null,null,null,null,null,null,null,null,null,""]
[null,null,null,null,null,null,null,null,null,null,""]
[null,null,null,null,null,null,null,null,null,null,""]
[null,null,null,null,null,null,null,null,null,null,""]
[null,null,null,null,null,null,null,null,null,null,""]
[null,null,null,null,null,null,null,null,null,null,{"$f":"IF(OR(I350<>\"\",J350<>\"\"),I350+J350,\"\")","v":""}]
[null,null,null,null,null,null,null,null,null,null,""]
[null,null,null,null,null,null,null,null,null,null,""]
[null,null,null,null,null,null,null,null,null,null,""]
[null,null,null,null,null,null,null,null,null,null,""]
[null,null,null,null,null,null,null,null,null,null,""]
[null,null,null,null,null,null,null,null,null,null,""]
[null,null,null,null,null,null,null,null,null,null,""]
[null,null,null,null,null,null,null,null,null,null,""]
[null,null,null,null,null,null,null,null,null,null,""]
[null,null,null,null,null,null,null,null,null,null,""]
[null,null,null,null,null,null,null,null,null,null,""]
[null,null,null,null,null,null,null,null,null,null,""]
[null,null,null,null,null,null,null,null,null,null,""]
[null,null,null,null,null,null,null,null,null,null,""]
[null,null,null,null,null,null,null,null,null,null,""]
[null,null,null,null,null,null,null,null,null,null,""]
[null,null,null,null,null,null,null,null,null,null,""]
[null,null,null,null,null,null,null,null,null,null,""]
[null,null,null,null,null,null,null,null,null,null,""]
[null,null,null,null,null,null,null,null,null,null,""]
[null,null,null,null,null,null,null,null,null,null,""]
[null,null,null,null,null,null,null,null,null,null,""]
[null,null,null,null,null,null,null,null,null,null,""]
[null,null,null,null,null,null,null,null,null,null,""]
[null,null,null,null,null,null,null,null,null,null,""]
[null,null,null,null,null,null,null,null,null,null,""]
[null,null,null,null,null,null,null,null,null,null,""]
[null,null,null,null,null,null,null,null,null,null,""]
[null,null,null,null,null,null,null,null,null,null,""]
[null,null,null,null,null,null,null,null,null,null,""]
[null,null,null,null,null,null,null,null,null,null,""]
[null,null,null,null,null,null,null,null,null,null,""]
[null,null,null,null,null,null,null,null,null,null,""]
[null,null,null,null,null,null,null,null,null,null,""]
[null,null,null,null,null,null,null,null,null,null,""]
[null,null,null,null,null,null,null,null,null,null,""]
[null,null,null,null,null,null,null,null,null,null,""]
[null,null,null,null,null,null,null,null,null,null,""]
[null,null,null,null,null,null,null,null,null,null,""]
[null,null,null,null,null,null,null,null,null,null,""]
[null,null,null,null,null,null,null,null,null,null,""]
[null,null,null,null,null,null,null,null,null,null,""]
[null,null,null,null,null,null,null,null,null,null,""]
[null,null,null,null,null,null,null,null,null,null,""]
[null,null,null,null,null,null,null,null,null,null,""]
[null,null,null,null,null,null,null,null,null,null,""]
[null,null,null,null,null,null,null,null,null,null,""]
[null,null,null,null,null,null,null,null,null,null,""]
[null,null,null,null,null,null,null,null,null,null,""]
[null,null,null,null,null,null,null,null,null,null,""]
[null,null,null,null,null,null,null,null,null,null,""]
[null,null,null,null,null,null,null,null,null,null,""]
[null,null,null,null,null,null,null,null,null,null,""]
[null,null,null,null,null,null,null,null,null,null,""]
[null,null,null,null,null,null,null,null,null,null,""]
[null,null,null,null,null,null,null,null,null,null,""]
[null,null,null,null,null,null,null,null,null,null,""]
[null,null,null,null,null,null,null,null,null,null,""]
[null,null,null,null,null,null,null,null,null,null,""]
[null,null,null,null,null,null,null,null,null,null,""]
[null,null,null,null,null,null,null,null,null,null,""]
[null,null,null,null,null,null,null,null,null,null,""]
[null,null,null,null,null,null,null,null,null,null,""]
[null,null,null,null,null,null,null,null,null,null,{"$f":"IF(OR(I414<>\"\",J414<>\"\"),I414+J414,\"\")","v":""}]
[null,null,null,null,null,null,null,null,null,null,""]
[null,null,null,null,null,null,null,null,null,null,""]
[null,null,null,null,null,null,null,null,null,null,""]
[null,null,null,null,null,null,null,null,null,null,""]
[null,null,null,null,null,null,null,null,null,null,""]
[null,null,null,null,null,null,null,null,null,null,""]
[null,null,null,null,null,null,null,null,null,null,""]
[null,null,null,null,null,null,null,null,null,null,""]
[null,null,null,null,null,null,null,null,null,null,""]
[null,null,null,null,null,null,null,null,null,null,""]
[null,null,null,null,null,null,null,null,null,null,""]
[null,null,null,null,null,null,null,null,null,null,""]
[null,null,null,null,null,null,null,null,null,null,""]
[null,null,null,null,null,null,null,null,null,null,""]
[null,null,null,null,null,null,null,null,null,null,""]
[null,null,null,null,null,null,null,null,null,null,""]
[null,null,null,null,null,null,null,null,null,null,""]
[null,null,null,null,null,null,null,null,null,null,""]
[null,null,null,null,null,null,null,null,null,null,""]
[null,null,null,null,null,null,null,null,null,null,""]
[null,null,null,null,null,null,null,null,null,null,""]
[null,null,null,null,null,null,null,null,null,null,""]
[null,null,null,null,null,null,null,null,null,null,""]
[null,null,null,null,null,null,null,null,null,null,""]
[null,null,null,null,null,null,null,null,null,null,""]
[null,null,null,null,null,null,null,null,null,null,""]
[null,null,null,null,null,null,null,null,null,null,""]
[null,null,null,null,null,null,null,null,null,null,""]
[null,null,null,null,null,null,null,null,null,null,""]
[null,null,null,null,null,null,null,null,null,null,""]
[null,null,null,null,null,null,null,null,null,null,""]
[null,null,null,null,null,null,null,null,null,null,""]
[null,null,null,null,null,null,null,null,null,null,""]
[null,null,null,null,null,null,null,null,null,null,""]
[null,null,null,null,null,null,null,null,null,null,""]
[null,null,null,null,null,null,null,null,null,null,""]
[null,null,null,null,null,null,null,null,null,null,""]
[null,null,null,null,null,null,null,null,null,null,""]
[null,null,null,null,null,null,null,null,null,null,""]
[null,null,null,null,null,null,null,null,null,null,""]
[null,null,null,null,null,null,null,null,null,null,""]
[null,null,null,null,null,null,null,null,null,null,""]
[null,null,null,null,null,null,null,null,null,null,""]
[null,null,null,null,null,null,null,null,null,null,""]
[null,null,null,null,null,null,null,null,null,null,""]
[null,null,null,null,null,null,null,null,null,null,""]
[null,null,null,null,null,null,null,null,null,null,""]
[null,null,null,null,null,null,null,null,null,null,""]
[null,null,null,null,null,null,null,null,null,null,""]
[null,null,null,null,null,null,null,null,null,null,""]
[null,null,null,null,null,null,null,null,null,null,""]
[null,null,null,null,null,null,null,null,null,null,""]
[null,null,null,null,null,null,null,null,null,null,""]
[null,null,null,null,null,null,null,null,null,null,""]
[null,null,null,null,null,null,null,null,null,null,""]
[null,null,null,null,null,null,null,null,null,null,""]
[null,null,null,null,null,null,null,null,null,null,""]
[null,null,null,null,null,null,null,null,null,null,""]
[null,null,null,null,null,null,null,null,null,null,""]
[null,null,null,null,null,null,null,null,null,null,""]
[null,null,null,null,null,null,null,null,null,null,""]
[null,null,null,null,null,null,null,null,null,null,""]
[null,null,null,null,null,null,null,null,null,null,""]
[null,null,null,null,null,null,null,null,null,null,{"$f":"IF(OR(I478<>\"\",J478<>\"\"),I478+J478,\"\")","v":""}]
[null,null,null,null,null,null,null,null,null,null,""]
[null,null,null,null,null,null,null,null,null,null,""]
[null,null,null,null,null,null,null,null,null,null,""]
[null,null,null,null,null,null,null,null,null,null,""]
[null,null,null,null,null,null,null,null,null,null,""]
[null,null,null,null,null,null,null,null,null,null,""]
[null,null,null,null,null,null,null,null,null,null,""]
[null,null,null,null,null,null,null,null,null,null,""]
[null,null,null,null,null,null,null,null,null,null,""]
[null,null,null,null,null,null,null,null,null,null,""]
[null,null,null,null,null,null,null,null,null,null,""]
[null,null,null,null,null,null,null,null,null,null,""]
[null,null,null,null,null,null,null,null,null,null,""]
[null,null,null,null,null,null,null,null,null,null,""]
[null,null,null,null,null,null,null,null,null,null,""]
[null,null,null,null,null,null,null,null,null,null,""]
[null,null,null,null,null,null,null,null,null,null,""]
[null,null,null,null,null,null,null,null,null,null,""]
[null,null,null,null,null,null,null,null,null,null,""]
[null,null,null,null,null,null,null,null,null,null,""]
[null,null,null,null,null,null,null,null,null,null,""]
[null,null,null,null,null,null,null,null,null,null,""]
[null,null,null,null,null,null,null,null,null,null,""]
[null,null,null,null,null,null,null,null,null,null,""]
[null,null,null,null,null,null,null,null,null,null,""]
[null,null,null,null,null,null,null,null,null,null,""]
[null,null,null,null,null,null,null,null,null,null,""]
[null,null,null,null,null,null,null,null,null,null,""]
[null,null,null,null,null,null,null,null,null,null,""]
[null,null,null,null,null,null,null,null,null,null,""]
[null,null,null,null,null,null,null,null,null,null,""]
[null,null,null,null,null,null,null,null,null,null,""]
[null,null,null,null,null,null,null,null,null,null,""]
[null,null,null,null,null,null,null,null,null,null,""]
[null,null,null,null,null,null,null,null,null,null,""]
[null,null,null,null,null,null,null,null,null,null,""]
[null,null,null,null,null,null,null,null,null,null,""]
[null,null,null,null,null,null,null,null,null,null,""]
[null,null,null,null,null,null,null,null,null,null,""]
[null,null,null,null,null,null,null,null,null,null,""]
[null,null,null,null,null,null,null,null,null,null,""]
[null,null,null,null,null,null,null,null,null,null,""]
[null,null,null,null,null,null,null,null,null,null,""]
[null,null,null,null,null,null,null,null,null,null,""]
[null,null,null,null,null,null,null,null,null,null,""]
[null,null,null,null,null,null,null,null,null,null,""]
[null,null,null,null,null,null,null,null,null,null,""]
[null,null,null,null,null,null,null,null,null,null,""]
[null,null,null,null,null,null,null,null,null,null,""]
[null,null,null,null,null,null,null,null,null,null,""]
[null,null,null,null,null,null,null,null,null,null,""]
[null,null,null,null,null,null,null,null,null,null,""]
[null,null,null,null,null,null,null,null,null,null,""]
[null,null,null,null,null,null,null,null,null,null,""]
[null,null,null,null,null,null,null,null,null,null,""]
[null,null,null,null,null,null,null,null,null,null,""]
[null,null,null,null,null,null,null,null,null,null,""]
[null,null,null,null,null,null,null,null,null,null,""]
[null,null,null,null,null,null,null,null,null,null,""]
[null,null,null,null,null,null,null,null,null,null,""]
[null,null,null,null,null,null,null,null,null,null,""]
[null,null,null,null,null,null,null,null,null,null,""]
[null,null,null,null,null,null,null,null,null,null,""]
[null,null,null,null,null,null,null,null,null,null,{"$f":"IF(OR(I542<>\"\",J542<>\"\"),I542+J542,\"\")","v":""}]
[null,null,null,null,null,null,null,null,null,null,""]
[null,null,null,null,null,null,null,null,null,null,""]
[null,null,null,null,null,null,null,null,null,null,""]
[null,null,null,null,null,null,null,null,null,null,""]
[null,null,null,null,null,null,null,null,null,null,""]
[null,null,null,null,null,null,null,null,null,null,""]
[null,null,null,null,null,null,null,null,null,null,""]
[null,null,null,null,null,null,null,null,null,null,""]
[null,null,null,null,null,null,null,null,null,null,""]
[null,null,null,null,null,null,null,null,null,null,""]
[null,null,null,null,null,null,null,null,null,null,""]
[null,null,null,null,null,null,null,null,null,null,""]
[null,null,null,null,null,null,null,null,null,null,""]
[null,null,null,null,null,null,null,null,null,null,""]
[null,null,null,null,null,null,null,null,null,null,""]
[null,null,null,null,null,null,null,null,null,null,""]
[null,null,null,null,null,null,null,null,null,null,""]
[null,null,null,null,null,null,null,null,null,null,""]
[null,null,null,null,null,null,null,null,null,null,""]
[null,null,null,null,null,null,null,null,null,null,""]
[null,null,null,null,null,null,null,null,null,null,""]
[null,null,null,null,null,null,null,null,null,null,""]
[null,null,null,null,null,null,null,null,null,null,""]
[null,null,null,null,null,null,null,null,null,null,""]
[null,null,null,null,null,null,null,null,null,null,""]
[null,null,null,null,null,null,null,null,null,null,""]
[null,null,null,null,null,null,null,null,null,null,""]
[null,null,null,null,null,null,null,null,null,null,""]
[null,null,null,null,null,null,null,null,null,null,""]
[null,null,null,null,null,null,null,null,null,null,""]
[null,null,null,null,null,null,null,null,null,null,""]
[null,null,null,null,null,null,null,null,null,null,""]
[null,null,null,null,null,null,null,null,null,null,""]
[null,null,null,null,null,null,null,null,null,null,""]
[null,null,null,null,null,null,null,null,null,null,""]
[null,null,null,null,null,null,null,null,null,null,""]
[null,null,null,null,null,null,null,null,null,null,""]
[null,null,null,null,null,null,null,null,null,null,""]
[null,null,null,null,null,null,null,null,null,null,""]
[null,null,null,null,null,null,null,null,null,null,""]
[null,null,null,null,null,null,null,null,null,null,""]
[null,null,null,null,null,null,null,null,null,null,""]
[null,null,null,null,null,null,null,null,null,null,""]
[null,null,null,null,null,null,null,null,null,null,""]
[null,null,null,null,null,null,null,null,null,null,""]
[null,null,null,null,null,null,null,null,null,null,""]
[null,null,null,null,null,null,null,null,null,null,""]
[null,null,null,null,null,null,null,null,null,null,""]
[null,null,null,null,null,null,null,null,null,null,""]
[null,null,null,null,null,null,null,null,null,null,""]
[null,null,null,null,null,null,null,null,null,null,""]
[null,null,null,null,null,null,null,null,null,null,""]
[null,null,null,null,null,null,null,null,null,null,""]
[null,null,null,null,null,null,null,null,null,null,""]
[null,null,null,null,null,null,null,null,null,null,""]
[null,null,null,null,null,null,null,null,null,null,""]
[null,null,null,null,null,null,null,null,null,null,""]
[null,null,null,null,null,null,null,null,null,null,""]
[null,null,null,null,null,null,null,null,null,null,""]
[null,null,null,null,null,null,null,null,null,null,""]
[null,null,null,null,null,null,null,null,null,null,""]
[null,null,null,null,null,null,null,null,null,null,""]
[null,null,null,null,null,null,null,null,null,null,""]
[null,null,null,null,null,null,null,null,null,null,{"$f":"IF(OR(I606<>\"\",J606<>\"\"),I606+J606,\"\")","v":""}]
[null,null,null,null,null,null,null,null,null,null,""]
[null,null,null,null,null,null,null,null,null,null,""]
[null,null,null,null,null,null,null,null,null,null,""]
[null,null,null,null,null,null,null,null,null,null,""]
[null,null,null,null,null,null,null,null,null,null,""]
[null,null,null,null,null,null,null,null,null,null,""]
[null,null,null,null,null,null,null,null,null,null,""]
[null,null,null,null,null,null,null,null,null,null,""]
[null,null,null,null,null,null,null,null,null,null,""]
[null,null,null,null,null,null,null,null,null,null,""]
[null,null,null,null,null,null,null,null,null,null,""]
[null,null,null,null,null,null,null,null,null,null,""]
[null,null,null,null,null,null,null,null,null,null,""]
[null,null,null,null,null,null,null,null,null,null,""]
[null,null,null,null,null,null,null,null,null,null,""]
[null,null,null,null,null,null,null,null,null,null,""]
[null,null,null,null,null,null,null,null,null,null,""]
[null,null,null,null,null,null,null,null,null,null,""]
[null,null,null,null,null,null,null,null,null,null,""]
[null,null,null,null,null,null,null,null,null,null,""]
[null,null,null,null,null,null,null,null,null,null,""]
[null,null,null,null,null,null,null,null,null,null,""]
[null,null,null,null,null,null,null,null,null,null,""]
[null,null,null,null,null,null,null,null,null,null,""]
[null,null,null,null,null,null,null,null,null,null,""]
[null,null,null,null,null,null,null,null,null,null,""]
[null,null,null,null,null,null,null,null,null,null,""]
[null,null,null,null,null,null,null,null,null,null,""]
[null,null,null,null,null,null,null,null,null,null,""]
[null,null,null,null,null,null,null,null,null,null,""]
[null,null,null,null,null,null,null,null,null,null,""]
[null,null,null,null,null,null,null,null,null,null,""]
[null,null,null,null,null,null,null,null,null,null,""]
[null,null,null,null,null,null,null,null,null,null,""]
[null,null,null,null,null,null,null,null,null,null,""]
[null,null,null,null,null,null,null,null,null,null,""]
[null,null,null,null,null,null,null,null,null,null,""]
[null,null,null,null,null,null,null,null,null,null,""]
[null,null,null,null,null,null,null,null,null,null,""]
[null,null,null,null,null,null,null,null,null,null,""]
[null,null,null,null,null,null,null,null,null,null,""]
[null,null,null,null,null,null,null,null,null,null,""]
[null,null,null,null,null,null,null,null,null,null,""]
[null,null,null,null,null,null,null,null,null,null,""]
[null,null,null,null,null,null,null,null,null,null,""]
[null,null,null,null,null,null,null,null,null,null,""]
[null,null,null,null,null,null,null,null,null,null,""]
[null,null,null,null,null,null,null,null,null,null,""]
[null,null,null,null,null,null,null,null,null,null,""]
[null,null,null,null,null,null,null,null,null,null,""]
[null,null,null,null,null,null,null,null,null,null,""]
[null,null,null,null,null,null,null,null,null,null,""]
[null,null,null,null,null,null,null,null,null,null,""]
[null,null,null,null,null,null,null,null,null,null,""]
[null,null,null,null,null,null,null,null,null,null,""]
[null,null,null,null,null,null,null,null,null,null,""]
[null,null,null,null,null,null,null,null,null,null,""]
[null,null,null,null,null,null,null,null,null,null,""]
[null,null,null,null,null,null,null,null,null,null,""]
[null,null,null,null,null,null,null,null,null,null,""]
[null,null,null,null,null,null,null,null,null,null,""]
[null,null,null,null,null,null,null,null,null,null,""]
[null,null,null,null,null,null,null,null,null,null,""]
[null,null,null,null,null,null,null,null,null,null,{"$f":"IF(OR(I670<>\"\",J670<>\"\"),I670+J670,\"\")","v":""}]
[null,null,null,null,null,null,null,null,null,null,""]
[null,null,null,null,null,null,null,null,null,null,""]
[null,null,null,null,null,null,null,null,null,null,""]
[null,null,null,null,null,null,null,null,null,null,""]
[null,null,null,null,null,null,null,null,null,null,""]
[null,null,null,null,null,null,null,null,null,null,""]
[null,null,null,null,null,null,null,null,null,null,""]
[null,null,null,null,null,null,null,null,null,null,""]
[null,null,null,null,null,null,null,null,null,null,""]
[null,null,null,null,null,null,null,null,null,null,""]
[null,null,null,null,null,null,null,null,null,null,""]
[null,null,null,null,null,null,null,null,null,null,""]
[null,null,null,null,null,null,null,null,null,null,""]
[null,null,null,null,null,null,null,null,null,null,""]
[null,null,null,null,null,null,null,null,null,null,""]
[null,null,null,null,null,null,null,null,null,null,""]
[null,null,null,null,null,null,null,null,null,null,""]
[null,null,null,null,null,null,null,null,null,null,""]
[null,null,null,null,null,null,null,null,null,null,""]
[null,null,null,null,null,null,null,null,null,null,""]
[null,null,null,null,null,null,null,null,null,null,""]
[null,null,null,null,null,null,null,null,null,null,""]
[null,null,null,null,null,null,null,null,null,null,""]
[null,null,null,null,null,null,null,null,null,null,""]
[null,null,null,null,null,null,null,null,null,null,""]
[null,null,null,null,null,null,null,null,null,null,""]
[null,null,null,null,null,null,null,null,null,null,""]
[null,null,null,null,null,null,null,null,null,null,""]
[null,null,null,null,null,null,null,null,null,null,""]
[null,null,null,null,null,null,null,null,null,null,""]
[null,null,null,null,null,null,null,null,null,null,""]
[null,null,null,null,null,null,null,null,null,null,""]
[null,null,null,null,null,null,null,null,null,null,""]
[null,null,null,null,null,null,null,null,null,null,""]
[null,null,null,null,null,null,null,null,null,null,""]
[null,null,null,null,null,null,null,null,null,null,""]
[null,null,null,null,null,null,null,null,null,null,""]
[null,null,null,null,null,null,null,null,null,null,""]
[null,null,null,null,null,null,null,null,null,null,""]
[null,null,null,null,null,null,null,null,null,null,""]
[null,null,null,null,null,null,null,null,null,null,""]
[null,null,null,null,null,null,null,null,null,null,""]
[null,null,null,null,null,null,null,null,null,null,""]
[null,null,null,null,null,null,null,null,null,null,""]
[null,null,null,null,null,null,null,null,null,null,""]
[null,null,null,null,null,null,null,null,null,null,""]
[null,null,null,null,null,null,null,null,null,null,""]
[null,null,null,null,null,null,null,null,null,null,""]
[null,null,null,null,null,null,null,null,null,null,""]
[null,null,null,null,null,null,null,null,null,null,""]
[null,null,null,null,null,null,null,null,null,null,""]
[null,null,null,null,null,null,null,null,null,null,""]
[null,null,null,null,null,null,null,null,null,null,""]
[null,null,null,null,null,null,null,null,null,null,""]
[null,null,null,null,null,null,null,null,null,null,""]
[null,null,null,null,null,null,null,null,null,null,""]
[null,null,null,null,null,null,null,null,null,null,""]
[null,null,null,null,null,null,null,null,null,null,""]
[null,null,null,null,null,null,null,null,null,null,""]
[null,null,null,null,null,null,null,null,null,null,""]
[null,null,null,null,null,null,null,null,null,null,""]
[null,null,null,null,null,null,null,null,null,null,""]
[null,null,null,null,null,null,null,null,null,null,""]
[null,null,null,null,null,null,null,null,null,null,{"$f":"IF(OR(I734<>\"\",J734<>\"\"),I734+J734,\"\")","v":""}]
[null,null,null,null,null,null,null,null,null,null,""]
[null,null,null,null,null,null,null,null,null,null,""]
[null,null,null,null,null,null,null,null,null,null,""]
[null,null,null,null,null,null,null,null,null,null,""]
[null,null,null,null,null,null,null,null,null,null,""]
[null,null,null,null,null,null,null,null,null,null,""]
[null,null,null,null,null,null,null,null,null,null,""]
[null,null,null,null,null,null,null,null,null,null,""]
[null,null,null,null,null,null,null,null,null,null,""]
[null,null,null,null,null,null,null,null,null,null,""]
[null,null,null,null,null,null,null,null,null,null,""]
[null,null,null,null,null,null,null,null,null,null,""]
[null,null,null,null,null,null,null,null,null,null,""]
[null,null,null,null,null,null,null,null,null,null,""]
[null,null,null,null,null,null,null,null,null,null,""]
[null,null,null,null,null,null,null,null,null,null,""]
[null,null,null,null,null,null,null,null,null,null,""]
[null,null,null,null,null,null,null,null,null,null,""]
[null,null,null,null,null,null,null,null,null,null,""]
[null,null,null,null,null,null,null,null,null,null,""]
[null,null,null,null,null,null,null,null,null,null,""]
[null,null,null,null,null,null,null,null,null,null,""]
[null,null,null,null,null,null,null,null,null,null,""]
[null,null,null,null,null,null,null,null,null,null,""]
[null,null,null,null,null,null,null,null,null,null,""]
[null,null,null,null,null,null,null,null,null,null,""]
[null,null,null,null,null,null,null,null,null,null,""]
[null,null,null,null,null,null,null,null,null,null,""]
[null,null,null,null,null,null,null,null,null,null,""]
[null,null,null,null,null,null,null,null,null,null,""]
[null,null,null,null,null,null,null,null,null,null,""]
[null,null,null,null,null,null,null,null,null,null,""]
[null,null,null,null,null,null,null,null,null,null,""]
[null,null,null,null,null,null,null,null,null,null,""]
[null,null,null,null,null,null,null,null,null,null,""]
[null,null,null,null,null,null,null,null,null,null,""]
[null,null,null,null,null,null,null,null,null,null,""]
[null,null,null,null,null,null,null,null,null,null,""]
[null,null,null,null,null,null,null,null,null,null,""]
[null,null,null,null,null,null,null,null,null,null,""]
[null,null,null,null,null,null,null,null,null,null,""]
[null,null,null,null,null,null,null,null,null,null,""]
[null,null,null,null,null,null,null,null,null,null,""]
[null,null,null,null,null,null,null,null,null,null,""]
[null,null,null,null,null,null,null,null,null,null,""]
[null,null,null,null,null,null,null,null,null,null,""]
[null,null,null,null,null,null,null,null,null,null,""]
[null,null,null,null,null,null,null,null,null,null,""]
[null,null,null,null,null,null,null,null,null,null,""]
[null,null,null,null,null,null,null,null,null,null,""]
[null,null,null,null,null,null,null,null,null,null,""]
[null,null,null,null,null,null,null,null,null,null,""]
[null,null,null,null,null,null,null,null,null,null,""]
[null,null,null,null,null,null,null,null,null,null,""]
[null,null,null,null,null,null,null,null,null,null,""]
[null,null,null,null,null,null,null,null,null,null,""]
[null,null,null,null,null,null,null,null,null,null,""]
[null,null,null,null,null,null,null,null,null,null,""]
[null,null,null,null,null,null,null,null,null,null,""]
[null,null,null,null,null,null,null,null,null,null,""]
[null,null,null,null,null,null,null,null,null,null,""]
[null,null,null,null,null,null,null,null,null,null,""]
[null,null,null,null,null,null,null,null,null,null,""]
[null,null,null,null,null,null,null,null,null,null,{"$f":"IF(OR(I798<>\"\",J798<>\"\"),I798+J798,\"\")","v":""}]
[null,null,null,null,null,null,null,null,null,null,""]
[null,null,null,null,null,null,null,null,null,null,""]
[null,null,null,null,null,null,null,null,null,null,""]
[null,null,null,null,null,null,null,null,null,null,""]
[null,null,null,null,null,null,null,null,null,null,""]
[null,null,null,null,null,null,null,null,null,null,""]
[null,null,null,null,null,null,null,null,null,null,""]
[null,null,null,null,null,null,null,null,null,null,""]
[null,null,null,null,null,null,null,null,null,null,""]
[null,null,null,null,null,null,null,null,null,null,""]
[null,null,null,null,null,null,null,null,null,null,""]
[null,null,null,null,null,null,null,null,null,null,""]
[null,null,null,null,null,null,null,null,null,null,""]
[null,null,null,null,null,null,null,null,null,null,""]
[null,null,null,null,null,null,null,null,null,null,""]
[null,null,null,null,null,null,null,null,null,null,""]
[null,null,null,null,null,null,null,null,null,null,""]
[null,null,null,null,null,null,null,null,null,null,""]
[null,null,null,null,null,null,null,null,null,null,""]
[null,null,null,null,null,null,null,null,null,null,""]
[null,null,null,null,null,null,null,null,null,null,""]
[null,null,null,null,null,null,null,null,null,null,""]
[null,null,null,null,null,null,null,null,null,null,""]
[null,null,null,null,null,null,null,null,null,null,""]
[null,null,null,null,null,null,null,null,null,null,""]
[null,null,null,null,null,null,null,null,null,null,""]
[null,null,null,null,null,null,null,null,null,null,""]
[null,null,null,null,null,null,null,null,null,null,""]
[null,null,null,null,null,null,null,null,null,null,""]
[null,null,null,null,null,null,null,null,null,null,""]
[null,null,null,null,null,null,null,null,null,null,""]
[null,null,null,null,null,null,null,null,null,null,""]
[null,null,null,null,null,null,null,null,null,null,""]
[null,null,null,null,null,null,null,null,null,null,""]
[null,null,null,null,null,null,null,null,null,null,""]
[null,null,null,null,null,null,null,null,null,null,""]
[null,null,null,null,null,null,null,null,null,null,""]
[null,null,null,null,null,null,null,null,null,null,""]
[null,null,null,null,null,null,null,null,null,null,""]
[null,null,null,null,null,null,null,null,null,null,""]
[null,null,null,null,null,null,null,null,null,null,""]
[null,null,null,null,null,null,null,null,null,null,""]
[null,null,null,null,null,null,null,null,null,null,""]
[null,null,null,null,null,null,null,null,null,null,""]
[null,null,null,null,null,null,null,null,null,null,""]
[null,null,null,null,null,null,null,null,null,null,""]
[null,null,null,null,null,null,null,null,null,null,""]
[null,null,null,null,null,null,null,null,null,null,""]
[null,null,null,null,null,null,null,null,null,null,""]
[null,null,null,null,null,null,null,null,null,null,""]
[null,null,null,null,null,null,null,null,null,null,""]
[null,null,null,null,null,null,null,null,null,null,""]
[null,null,null,null,null,null,null,null,null,null,""]
[null,null,null,null,null,null,null,null,null,null,""]
[null,null,null,null,null,null,null,null,null,null,""]
[null,null,null,null,null,null,null,null,null,null,""]
[null,null,null,null,null,null,null,null,null,null,""]
[null,null,null,null,null,null,null,null,null,null,""]
[null,null,null,null,null,null,null,null,null,null,""]
[null,null,null,null,null,null,null,null,null,null,""]
[null,null,null,null,null,null,null,null,null,null,""]
[null,null,null,null,null,null,null,null,null,null,""]
[null,null,null,null,null,null,null,null,null,null,""]
[null,null,null,null,null,null,null,null,null,null,{"$f":"IF(OR(I862<>\"\",J862<>\"\"),I862+J862,\"\")","v":""}]
[null,null,null,null,null,null,null,null,null,null,""]
[null,null,null,null,null,null,null,null,null,null,""]
[null,null,null,null,null,null,null,null,null,null,""]
[null,null,null,null,null,null,null,null,null,null,""]
[null,null,null,null,null,null,null,null,null,null,""]
[null,null,null,null,null,null,null,null,null,null,""]
[null,null,null,null,null,null,null,null,null,null,""]
[null,null,null,null,null,null,null,null,null,null,""]
[null,null,null,null,null,null,null,null,null,null,""]
[null,null,null,null,null,null,null,null,null,null,""]
[null,null,null,null,null,null,null,null,null,null,""]
[null,null,null,null,null,null,null,null,null,null,""]
[null,null,null,null,null,null,null,null,null,null,""]
[null,null,null,null,null,null,null,null,null,null,""]
[null,null,null,null,null,null,null,null,null,null,""]
[null,null,null,null,null,null,null,null,null,null,""]
[null,null,null,null,null,null,null,null,null,null,""]
[null,null,null,null,null,null,null,null,null,null,""]
[null,null,null,null,null,null,null,null,null,null,""]
[null,null,null,null,null,null,null,null,null,null,""]
[null,null,null,null,null,null,null,null,null,null,""]
[null,null,null,null,null,null,null,null,null,null,""]
[null,null,null,null,null,null,null,null,null,null,""]
[null,null,null,null,null,null,null,null,null,null,""]
[null,null,null,null,null,null,null,null,null,null,""]
[null,null,null,null,null,null,null,null,null,null,""]
[null,null,null,null,null,null,null,null,null,null,""]
[null,null,null,null,null,null,null,null,null,null,""]
[null,null,null,null,null,null,null,null,null,null,""]
[null,null,null,null,null,null,null,null,null,null,""]
[null,null,null,null,null,null,null,null,null,null,""]
[null,null,null,null,null,null,null,null,null,null,""]
[null,null,null,null,null,null,null,null,null,null,""]
[null,null,null,null,null,null,null,null,null,null,""]
[null,null,null,null,null,null,null,null,null,null,""]
[null,null,null,null,null,null,null,null,null,null,""]
[null,null,null,null,null,null,null,null,null,null,""]
[null,null,null,null,null,null,null,null,null,null,""]
[null,null,null,null,null,null,null,null,null,null,""]
[null,null,null,null,null,null,null,null,null,null,""]
[null,null,null,null,null,null,null,null,null,null,""]
[null,null,null,null,null,null,null,null,null,null,""]
[null,null,null,null,null,null,null,null,null,null,""]
[null,null,null,null,null,null,null,null,null,null,""]
[null,null,null,null,null,null,null,null,null,null,""]
[null,null,null,null,null,null,null,null,null,null,""]
[null,null,null,null,null,null,null,null,null,null,""]
[null,null,null,null,null,null,null,null,null,null,""]
[null,null,null,null,null,null,null,null,null,null,""]
[null,null,null,null,null,null,null,null,null,null,""]
[null,null,null,null,null,null,null,null,null,null,""]
[null,null,null,null,null,null,null,null,null,null,""]
[null,null,null,null,null,null,null,null,null,null,""]
[null,null,null,null,null,null,null,null,null,null,""]
[null,null,null,null,null,null,null,null,null,null,""]
[null,null,null,null,null,null,null,null,null,null,""]
[null,null,null,null,null,null,null,null,null,null,""]
[null,null,null,null,null,null,null,null,null,null,""]
[null,null,null,null,null,null,null,null,null,null,""]
[null,null,null,null,null,null,null,null,null,null,""]
[null,null,null,null,null,null,null,null,null,null,""]
[null,null,null,null,null,null,null,null,null,null,""]
[null,null,null,null,null,null,null,null,null,null,""]
[null,null,null,null,null,null,null,null,null,null,{"$f":"IF(OR(I926<>\"\",J926<>\"\"),I926+J926,\"\")","v":""}]
[null,null,null,null,null,null,null,null,null,null,""]
[null,null,null,null,null,null,null,null,null,null,""]
[null,null,null,null,null,null,null,null,null,null,""]
[null,null,null,null,null,null,null,null,null,null,""]
[null,null,null,null,null,null,null,null,null,null,""]
[null,null,null,null,null,null,null,null,null,null,""]
[null,null,null,null,null,null,null,null,null,null,""]
[null,null,null,null,null,null,null,null,null,null,""]
[null,null,null,null,null,null,null,null,null,null,""]
[null,null,null,null,null,null,null,null,null,null,""]
[null,null,null,null,null,null,null,null,null,null,""]
[null,null,null,null,null,null,null,null,null,null,""]
[null,null,null,null,null,null,null,null,null,null,""]
[null,null,null,null,null,null,null,null,null,null,""]
[null,null,null,null,null,null,null,null,null,null,""]
[null,null,null,null,null,null,null,null,null,null,""]
[null,null,null,null,null,null,null,null,null,null,""]
[null,null,null,null,null,null,null,null,null,null,""]
[null,null,null,null,null,null,null,null,null,null,""]
[null,null,null,null,null,null,null,null,null,null,""]
[null,null,null,null,null,null,null,null,null,null,""]
[null,null,null,null,null,null,null,null,null,null,""]
[null,null,null,null,null,null,null,null,null,null,""]
[null,null,null,null,null,null,null,null,null,null,""]
[null,null,null,null,null,null,null,null,null,null,""]
[null,null,null,null,null,null,null,null,null,null,""]
[null,null,null,null,null,null,null,null,null,null,""]
[null,null,null,null,null,null,null,null,null,null,""]
[null,null,null,null,null,null,null,null,null,null,""]
[null,null,null,null,null,null,null,null,null,null,""]
[null,null,null,null,null,null,null,null,null,null,""]
[null,null,null,null,null,null,null,null,null,null,""]
[null,null,null,null,null,null,null,null,null,null,""]
[null,null,null,null,null,null,null,null,null,null,""]
[null,null,null,null,null,null,null,null,null,null,""]
[null,null,null,null,null,null,null,null,null,null,""]
[null,null,null,null,null,null,null,null,null,null,""]
[null,null,null,null,null,null,null,null,null,null,""]
[null,null,null,null,null,null,null,null,null,null,""]
[null,null,null,null,null,null,null,null,null,null,""]
[null,null,null,null,null,null,null,null,null,null,""]
[null,null,null,null,null,null,null,null,null,null,""]
[null,null,null,null,null,null,null,null,null,null,""]
[null,null,null,null,null,null,null,null,null,null,""]
[null,null,null,null,null,null,null,null,null,null,""]
[null,null,null,null,null,null,null,null,null,null,""]
[null,null,null,null,null,null,null,null,null,null,""]
[null,null,null,null,null,null,null,null,null,null,""]
[null,null,null,null,null,null,null,null,null,null,""]
[null,null,null,null,null,null,null,null,null,null,""]
[null,null,null,null,null,null,null,null,null,null,""]
[null,null,null,null,null,null,null,null,null,null,""]
[null,null,null,null,null,null,null,null,null,null,""]
[null,null,null,null,null,null,null,null,null,null,""]
[null,null,null,null,null,null,null,null,null,null,""]
[null,null,null,null,null,null,null,null,null,null,""]
[null,null,null,null,null,null,null,null,null,null,""]
[null,null,null,null,null,null,null,null,null,null,""]
[null,null,null,null,null,null,null,null,null,null,""]
[null,null,null,null,null,null,null,null,null,null,""]
[null,null,null,null,null,null,null,null,null,null,""]
[null,null,null,null,null,null,null,null,null,null,""]
[null,null,null,null,null,null,null,null,null,null,""]
[null,null,null,null,null,null,null,null,null,null,{"$f":"IF(OR(I990<>\"\",J990<>\"\"),I990+J990,\"\")","v":""}]
[null,null,null,null,null,null,null,null,null,null,""]
[null,null,null,null,null,null,null,null,null,null,""]
[null,null,null,null,null,null,null,null,null,null,""]
[null,null,null,null,null,null,null,null,null,null,""]
[null,null,null,null,null,null,null,null,null,null,""]
[null,null,null,null,null,null,null,null,null,null,""]
[null,null,null,null,null,null,null,null,null,null,""]
[null,null,null,null,null,null,null,null,null,null,""]
[null,null,null,null,null,null,null,null,null,null,""]
[null,null,null,null,null,null,null,null,null,null,""]
[null,null,null,null,null,null,null,null,null,null,""]
[null,null,null,null,null,null,null,null,null,null,""]
[null,null,null,null,null,null,null,null,null,null,""]
[null,null,null,null,null,null,null,null,null,null,""]
[null,null,null,null,null,null,null,null,null,null,""]
[null,null,null,null,null,null,null,null,null,null,""]
[null,null,null,null,null,null,null,null,null,null,""]
[null,null,null,null,null,null,null,null,null,null,""]
[null,null,null,null,null,null,null,null,null,null,""]
[null,null,null,null,null,null,null,null,null,null,""]
[null,null,null,null,null,null,null,null,null,null,""]
[null,null,null,null,null,null,null,null,null,null,""]
[null,null,null,null,null,null,null,null,null,null,""]
[null,null,null,null,null,null,null,null,null,null,""]
[null,null,null,null,null,null,null,null,null,null,""]
[null,null,null,null,null,null,null,null,null,null,""]
[null,null,null,null,null,null,null,null,null,null,""]
[null,null,null,null,null,null,null,null,null,null,""]
[null,null,null,null,null,null,null,null,null,null,""]
[null,null,null,null,null,null,null,null,null,null,""]
[null,null,null,null,null,null,null,null,null,null,""]
[null,null,null,null,null,null,null,null,null,null,""]
[null,null,null,null,null,null,null,null,null,null,""]
[null,null,null,null,null,null,null,null,null,null,""]
[null,null,null,null,null,null,null,null,null,null,""]
[null,null,null,null,null,null,null,null,null,null,""]
[null,null,null,null,null,null,null,null,null,null,""]
[null,null,null,null,null,null,null,null,null,null,""]
[null,null,null,null,null,null,null,null,null,null,""]
[null,null,null,null,null,null,null,null,null,null,""]
[null,null,null,null,null,null,null,null,null,null,""]
[null,null,null,null,null,null,null,null,null,null,""]
[null,null,null,null,null,null,null,null,null,null,""]
[null,null,null,null,null,null,null,null,null,null,""]
[null,null,null,null,null,null,null,null,null,null,""]
[null,null,null,null,null,null,null,null,null,null,""]
[null,null,null,null,null,null,null,null,null,null,""]
[null,null,null,null,null,null,null,null,null,null,""]
[null,null,null,null,null,null,null,null,null,null,""]
[null,null,null,null,null,null,null,null,null,null,""]
[null,null,null,null,null,null,null,null,null,null,""]
[null,null,null,null,null,null,null,null,null,null,""]
[null,null,null,null,null,null,null,null,null,null,""]
[null,null,null,null,null,null,null,null,null,null,""]
[null,null,null,null,null,null,null,null,null,null,""]
[null,null,null,null,null,null,null,null,null,null,""]
[null,null,null,null,null,null,null,null,null,null,""]
[null,null,null,null,null,null,null,null,null,null,""]
[null,null,null,null,null,null,null,null,null,null,""]
[null,null,null,null,null,null,null,null,null,null,""]
[null,null,null,null,null,null,null,null,null,null,""]
[null,null,null,null,null,null,null,null,null,null,""]
[null,null,null,null,null,null,null,null,null,null,""]
[null,null,null,null,null,null,null,null,null,null,{"$f":"IF(OR(I1054<>\"\",J1054<>\"\"),I1054+J1054,\"\")","v":""}]
[null,null,null,null,null,null,null,null,null,null,""]
[null,null,null,null,null,null,null,null,null,null,""]
[null,null,null,null,null,null,null,null,null,null,""]
[null,null,null,null,null,null,null,null,null,null,""]
[null,null,null,null,null,null,null,null,null,null,""]
[null,null,null,null,null,null,null,null,null,null,""]
[null,null,null,null,null,null,null,null,null,null,""]
[null,null,null,null,null,null,null,null,null,null,""]
[null,null,null,null,null,null,null,null,null,null,""]
[null,null,null,null,null,null,null,null,null,null,""]
[null,null,null,null,null,null,null,null,null,null,""]
[null,null,null,null,null,null,null,null,null,null,""]
[null,null,null,null,null,null,null,null,null,null,""]
[null,null,null,null,null,null,null,null,null,null,""]
[null,null,null,null,null,null,null,null,null,null,""]
[null,null,null,null,null,null,null,null,null,null,""]
[null,null,null,null,null,null,null,null,null,null,""]
[null,null,null,null,null,null,null,null,null,null,""]
[null,null,null,null,null,null,null,null,null,null,""]
[null,null,null,null,null,null,null,null,null,null,""]
[null,null,null,null,null,null,null,null,null,null,""]
[null,null,null,null,null,null,null,null,null,null,""]
[null,null,null,null,null,null,null,null,null,null,""]
[null,null,null,null,null,null,null,null,null,null,""]
[null,null,null,null,null,null,null,null,null,null,""]
[null,null,null,null,null,null,null,null,null,null,""]
[null,null,null,null,null,null,null,null,null,null,""]
[null,null,null,null,null,null,null,null,null,null,""]
[null,null,null,null,null,null,null,null,null,null,""]
[null,null,null,null,null,null,null,null,null,null,""]
[null,null,null,null,null,null,null,null,null,null,""]
[null,null,null,null,null,null,null,null,null,null,""]
[null,null,null,null,null,null,null,null,null,null,""]
[null,null,null,null,null,null,null,null,null,null,""]
[null,null,null,null,null,null,null,null,null,null,""]
[null,null,null,null,null,null,null,null,null,null,""]
[null,null,null,null,null,null,null,null,null,null,""]
[null,null,null,null,null,null,null,null,null,null,""]
[null,null,null,null,null,null,null,null,null,null,""]
[null,null,null,null,null,null,null,null,null,null,""]
[null,null,null,null,null,null,null,null,null,null,""]
[null,null,null,null,null,null,null,null,null,null,""]
[null,null,null,null,null,null,null,null,null,null,""]
[null,null,null,null,null,null,null,null,null,null,""]
[null,null,null,null,null,null,null,null,null,null,""]
[null,null,null,null,null,null,null,null,null,null,""]
[null,null,null,null,null,null,null,null,null,null,""]
[null,null,null,null,null,null,null,null,null,null,""]
[null,null,null,null,null,null,null,null,null,null,""]
[null,null,null,null,null,null,null,null,null,null,""]
[null,null,null,null,null,null,null,null,null,null,""]
[null,null,null,null,null,null,null,null,null,null,""]
[null,null,null,null,null,null,null,null,null,null,""]
[null,null,null,null,null,null,null,null,null,null,""]
[null,null,null,null,null,null,null,null,null,null,""]
[null,null,null,null,null,null,null,null,null,null,""]
[null,null,null,null,null,null,null,null,null,null,""]
[null,null,null,null,null,null,null,null,null,null,""]
[null,null,null,null,null,null,null,null,null,null,""]
[null,null,null,null,null,null,null,null,null,null,""]
[null,null,null,null,null,null,null,null,null,null,""]
[null,null,null,null,null,null,null,null,null,null,""]
[null,null,null,null,null,null,null,null,null,null,""]
[null,null,null,null,null,null,null,null,null,null,{"$f":"IF(OR(I1118<>\"\",J1118<>\"\"),I1118+J1118,\"\")","v":""}]
[null,null,null,null,null,null,null,null,null,null,""]
[null,null,null,null,null,null,null,null,null,null,""]
[null,null,null,null,null,null,null,null,null,null,""]
[null,null,null,null,null,null,null,null,null,null,""]
[null,null,null,null,null,null,null,null,null,null,""]
[null,null,null,null,null,null,null,null,null,null,""]
[null,null,null,null,null,null,null,null,null,null,""]
[null,null,null,null,null,null,null,null,null,null,""]
[null,null,null,null,null,null,null,null,null,null,""]
[null,null,null,null,null,null,null,null,null,null,""]
[null,null,null,null,null,null,null,null,null,null,""]
[null,null,null,null,null,null,null,null,null,null,""]
[null,null,null,null,null,null,null,null,null,null,""]
[null,null,null,null,null,null,null,null,null,null,""]
[null,null,null,null,null,null,null,null,null,null,""]
[null,null,null,null,null,null,null,null,null,null,""]
[null,null,null,null,null,null,null,null,null,null,""]
[null,null,null,null,null,null,null,null,null,null,""]
[null,null,null,null,null,null,null,null,null,null,""]
[null,null,null,null,null,null,null,null,null,null,""]
[null,null,null,null,null,null,null,null,null,null,""]
[null,null,null,null,null,null,null,null,null,null,""]
[null,null,null,null,null,null,null,null,null,null,""]
[null,null,null,null,null,null,null,null,null,null,""]
[null,null,null,null,null,null,null,null,null,null,""]
[null,null,null,null,null,null,null,null,null,null,""]
[null,null,null,null,null,null,null,null,null,null,""]
[null,null,null,null,null,null,null,null,null,null,""]
[null,null,null,null,null,null,null,null,null,null,""]
[null,null,null,null,null,null,null,null,null,null,""]
[null,null,null,null,null,null,null,null,null,null,""]
[null,null,null,null,null,null,null,null,null,null,""]
[null,null,null,null,null,null,null,null,null,null,""]
[null,null,null,null,null,null,null,null,null,null,""]
[null,null,null,null,null,null,null,null,null,null,""]
[null,null,null,null,null,null,null,null,null,null,""]
[null,null,null,null,null,null,null,null,null,null,""]
[null,null,null,null,null,null,null,null,null,null,""]
[null,null,null,null,null,null,null,null,null,null,""]
[null,null,null,null,null,null,null,null,null,null,""]
[null,null,null,null,null,null,null,null,null,null,""]
[null,null,null,null,null,null,null,null,null,null,""]
[null,null,null,null,null,null,null,null,null,null,""]
[null,null,null,null,null,null,null,null,null,null,""]
[null,null,null,null,null,null,null,null,null,null,""]
[null,null,null,null,null,null,null,null,null,null,""]
[null,null,null,null,null,null,null,null,null,null,""]
[null,null,null,null,null,null,null,null,null,null,""]
[null,null,null,null,null,null,null,null,null,null,""]
[null,null,null,null,null,null,null,null,null,null,""]
[null,null,null,null,null,null,null,null,null,null,""]
[null,null,null,null,null,null,null,null,null,null,""]
[null,null,null,null,null,null,null,null,null,null,""]
[null,null,null,null,null,null,null,null,null,null,""]
[null,null,null,null,null,null,null,null,null,null,""]
[null,null,null,null,null,null,null,null,null,null,""]
[null,null,null,null,null,null,null,null,null,null,""]
[null,null,null,null,null,null,null,null,null,null,""]
[null,null,null,null,null,null,null,null,null,null,""]
[null,null,null,null,null,null,null,null,null,null,""]
[null,null,null,null,null,null,null,null,null,null,""]
[null,null,null,null,null,null,null,null,null,null,""]
[null,null,null,null,null,null,null,null,null,null,""]
[null,null,null,null,null,null,null,null,null,null,{"$f":"IF(OR(I1182<>\"\",J1182<>\"\"),I1182+J1182,\"\")","v":""}]
[null,null,null,null,null,null,null,null,null,null,""]
[null,null,null,null,null,null,null,null,null,null,""]
[null,null,null,null,null,null,null,null,null,null,""]
[null,null,null,null,null,null,null,null,null,null,""]
[null,null,null,null,null,null,null,null,null,null,""]
[null,null,null,null,null,null,null,null,null,null,""]
[null,null,null,null,null,null,null,null,null,null,""]
[null,null,null,null,null,null,null,null,null,null,""]
[null,null,null,null,null,null,null,null,null,null,""]
[null,null,null,null,null,null,null,null,null,null,""]
[null,null,null,null,null,null,null,null,null,null,""]
[null,null,null,null,null,null,null,null,null,null,""]
[null,null,null,null,null,null,null,null,null,null,""]
[null,null,null,null,null,null,null,null,null,null,""]
[null,null,null,null,null,null,null,null,null,null,""]
[null,null,null,null,null,null,null,null,null,null,""]
[null,null,null,null,null,null,null,null,null,null,""]
[null,null,null,null,null,null,null,null,null,null,""]
[null,null,null,null,null,null,null,null,null,null,""]
[null,null,null,null,null,null,null,null,null,null,""]
[null,null,null,null,null,null,null,null,null,null,""]
[null,null,null,null,null,null,null,null,null,null,""]
[null,null,null,null,null,null,null,null,null,null,""]
[null,null,null,null,null,null,null,null,null,null,""]
[null,null,null,null,null,null,null,null,null,null,""]
[null,null,null,null,null,null,null,null,null,null,""]
[null,null,null,null,null,null,null,null,null,null,""]
[null,null,null,null,null,null,null,null,null,null,""]
[null,null,null,null,null,null,null,null,null,null,""]
[null,null,null,null,null,null,null,null,null,null,""]
[null,null,null,null,null,null,null,null,null,null,""]
[null,null,null,null,null,null,null,null,null,null,""]
[null,null,null,null,null,null,null,null,null,null,""]
[null,null,null,null,null,null,null,null,null,null,""]
[null,null,null,null,null,null,null,null,null,null,""]
[null,null,null,null,null,null,null,null,null,null,""]
[null,null,null,null,null,null,null,null,null,null,""]
[null,null,null,null,null,null,null,null,null,null,""]
[null,null,null,null,null,null,null,null,null,null,""]
[null,null,null,null,null,null,null,null,null,null,""]
[null,null,null,null,null,null,null,null,null,null,""]
[null,null,null,null,null,null,null,null,null,null,""]
[null,null,null,null,null,null,null,null,null,null,""]
[null,null,null,null,null,null,null,null,null,null,""]
[null,null,null,null,null,null,null,null,null,null,""]
[null,null,null,null,null,null,null,null,null,null,""]
[null,null,null,null,null,null,null,null,null,null,""]
[null,null,null,null,null,null,null,null,null,null,""]
[null,null,null,null,null,null,null,null,null,null,""]
[null,null,null,null,null,null,null,null,null,null,""]
[null,null,null,null,null,null,null,null,null,null,""]
[null,null,null,null,null,null,null,null,null,null,""]
[null,null,null,null,null,null,null,null,null,null,""]
[null,null,null,null,null,null,null,null,null,null,""]
[null,null,null,null,null,null,null,null,null,null,""]
[null,null,null,null,null,null,null,null,null,null,""]
[null,null,null,null,null,null,null,null,null,null,""]
[null,null,null,null,null,null,null,null,null,null,""]
[null,null,null,null,null,null,null,null,null,null,""]
[null,null,null,null,null,null,null,null,null,null,""]
[null,null,null,null,null,null,null,null,null,null,""]
[null,null,null,null,null,null,null,null,null,null,""]
[null,null,null,null,null,null,null,null,null,null,""]
[null,null,null,null,null,null,null,null,null,null,{"$f":"IF(OR(I1246<>\"\",J1246<>\"\"),I1246+J1246,\"\")","v":""}]
[null,null,null,null,null,null,null,null,null,null,""]
[null,null,null,null,null,null,null,null,null,null,""]
[null,null,null,null,null,null,null,null,null,null,""]
[null,null,null,null,null,null,null,null,null,null,""]
[null,null,null,null,null,null,null,null,null,null,""]
[null,null,null,null,null,null,null,null,null,null,""]
[null,null,null,null,null,null,null,null,null,null,""]
[null,null,null,null,null,null,null,null,null,null,""]
[null,null,null,null,null,null,null,null,null,null,""]
[null,null,null,null,null,null,null,null,null,null,""]
[null,null,null,null,null,null,null,null,null,null,""]
[null,null,null,null,null,null,null,null,null,null,""]
[null,null,null,null,null,null,null,null,null,null,""]
[null,null,null,null,null,null,null,null,null,null,""]
[null,null,null,null,null,null,null,null,null,null,""]
[null,null,null,null,null,null,null,null,null,null,""]
[null,null,null,null,null,null,null,null,null,null,""]
[null,null,null,null,null,null,null,null,null,null,""]
[null,null,null,null,null,null,null,null,null,null,""]
[null,null,null,null,null,null,null,null,null,null,""]
[null,null,null,null,null,null,null,null,null,null,""]
[null,null,null,null,null,null,null,null,null,null,""]
[null,null,null,null,null,null,null,null,null,null,""]
[null,null,null,null,null,null,null,null,null,null,""]
[null,null,null,null,null,null,null,null,null,null,""]
[null,null,null,null,null,null,null,null,null,null,""]
[null,null,null,null,null,null,null,null,null,null,""]
[null,null,null,null,null,null,null,null,null,null,""]
[null,null,null,null,null,null,null,null,null,null,""]
[null,null,null,null,null,null,null,null,null,null,""]
[null,null,null,null,null,null,null,null,null,null,""]
[null,null,null,null,null,null,null,null,null,null,""]
[null,null,null,null,null,null,null,null,null,null,""]
[null,null,null,null,null,null,null,null,null,null,""]
[null,null,null,null,null,null,null,null,null,null,""]
[null,null,null,null,null,null,null,null,null,null,""]
[null,null,null,null,null,null,null,null,null,null,""]
[null,null,null,null,null,null,null,null,null,null,""]
[null,null,null,null,null,null,null,null,null,null,""]
[null,null,null,null,null,null,null,null,null,null,""]
[null,null,null,null,null,null,null,null,null,null,""]
[null,null,null,null,null,null,null,null,null,null,""]
[null,null,null,null,null,null,null,null,null,null,""]
[null,null,null,null,null,null,null,null,null,null,""]
[null,null,null,null,null,null,null,null,null,null,""]
[null,null,null,null,null,null,null,null,null,null,""]
[null,null,null,null,null,null,null,null,null,null,""]
[null,null,null,null,null,null,null,null,null,null,""]
[null,null,null,null,null,null,null,null,null,null,""]
[null,null,null,null,null,null,null,null,null,null,""]
[null,null,null,null,null,null,null,null,null,null,""]
[null,null,null,null,null,null,null,null,null,null,""]
[null,null,null,null,null,null,null,null,null,null,""]
[null,null,null,null,null,null,null,null,null,null,""]
[null,null,null,null,null,null,null,null,null,null,""]
[null,null,null,null,null,null,null,null,null,null,""]
[null,null,null,null,null,null,null,null,null,null,""]
[null,null,null,null,null,null,null,null,null,null,""]
[null,null,null,null,null,null,null,null,null,null,""]
[null,null,null,null,null,null,null,null,null,null,""]
[null,null,null,null,null,null,null,null,null,null,""]
[null,null,null,null,null,null,null,null,null,null,""]
[null,null,null,null,null,null,null,null,null,null,""]
[null,null,null,null,null,null,null,null,null,null,{"$f":"IF(OR(I1310<>\"\",J1310<>\"\"),I1310+J1310,\"\")","v":""}]
[null,null,null,null,null,null,null,null,null,null,""]
[null,null,null,null,null,null,null,null,null,null,""]
[null,null,null,null,null,null,null,null,null,null,""]
[null,null,null,null,null,null,null,null,null,null,""]
[null,null,null,null,null,null,null,null,null,null,""]
[null,null,null,null,null,null,null,null,null,null,""]
[null,null,null,null,null,null,null,null,null,null,""]
[null,null,null,null,null,null,null,null,null,null,""]
[null,null,null,null,null,null,null,null,null,null,""]
[null,null,null,null,null,null,null,null,null,null,""]
[null,null,null,null,null,null,null,null,null,null,""]
[null,null,null,null,null,null,null,null,null,null,""]
[null,null,null,null,null,null,null,null,null,null,""]
[null,null,null,null,null,null,null,null,null,null,""]
[null,null,null,null,null,null,null,null,null,null,""]
[null,null,null,null,null,null,null,null,null,null,""]
[null,null,null,null,null,null,null,null,null,null,""]
[null,null,null,null,null,null,null,null,null,null,""]
[null,null,null,null,null,null,null,null,null,null,""]
[null,null,null,null,null,null,null,null,null,null,""]
[null,null,null,null,null,null,null,null,null,null,""]
[null,null,null,null,null,null,null,null,null,null,""]
[null,null,null,null,null,null,null,null,null,null,""]
[null,null,null,null,null,null,null,null,null,null,""]
[null,null,null,null,null,null,null,null,null,null,""]
[null,null,null,null,null,null,null,null,null,null,""]
[null,null,null,null,null,null,null,null,null,null,""]
[null,null,null,null,null,null,null,null,null,null,""]
[null,null,null,null,null,null,null,null,null,null,""]
[null,null,null,null,null,null,null,null,null,null,""]
[null,null,null,null,null,null,null,null,null,null,""]
[null,null,null,null,null,null,null,null,null,null,""]
[null,null,null,null,null,null,null,null,null,null,""]
[null,null,null,null,null,null,null,null,null,null,""]
[null,null,null,null,null,null,null,null,null,null,""]
[null,null,null,null,null,null,null,null,null,null,""]
[null,null,null,null,null,null,null,null,null,null,""]
[null,null,null,null,null,null,null,null,null,null,""]
[null,null,null,null,null,null,null,null,null,null,""]
[null,null,null,null,null,null,null,null,null,null,""]
[null,null,null,null,null,null,null,null,null,null,""]
[null,null,null,null,null,null,null,null,null,null,""]
[null,null,null,null,null,null,null,null,null,null,""]
[null,null,null,null,null,null,null,null,null,null,""]
[null,null,null,null,null,null,null,null,null,null,""]
[null,null,null,null,null,null,null,null,null,null,""]
[null,null,null,null,null,null,null,null,null,null,""]
[null,null,null,null,null,null,null,null,null,null,""]
[null,null,null,null,null,null,null,null,null,null,""]
[null,null,null,null,null,null,null,null,null,null,""]
[null,null,null,null,null,null,null,null,null,null,""]
[null,null,null,null,null,null,null,null,null,null,""]
[null,null,null,null,null,null,null,null,null,null,""]
[null,null,null,null,null,null,null,null,null,null,""]
[null,null,null,null,null,null,null,null,null,null,""]
[null,null,null,null,null,null,null,null,null,null,""]
[null,null,null,null,null,null,null,null,null,null,""]
[null,null,null,null,null,null,null,null,null,null,""]
[null,null,null,null,null,null,null,null,null,null,""]
[null,null,null,null,null,null,null,null,null,null,""]
[null,null,null,null,null,null,null,null,null,null,""]
[null,null,null,null,null,null,null,null,null,null,""]
[null,null,null,null,null,null,null,null,null,null,""]
[null,null,null,null,null,null,null,null,null,null,{"$f":"IF(OR(I1374<>\"\",J1374<>\"\"),I1374+J1374,\"\")","v":""}]
[null,null,null,null,null,null,null,null,null,null,""]
[null,null,null,null,null,null,null,null,null,null,""]
[null,null,null,null,null,null,null,null,null,null,""]
[null,null,null,null,null,null,null,null,null,null,""]
[null,null,null,null,null,null,null,null,null,null,""]
[null,null,null,null,null,null,null,null,null,null,""]
[null,null,null,null,null,null,null,null,null,null,""]
[null,null,null,null,null,null,null,null,null,null,""]
[null,null,null,null,null,null,null,null,null,null,""]
[null,null,null,null,null,null,null,null,null,null,""]
[null,null,null,null,null,null,null,null,null,null,""]
[null,null,null,null,null,null,null,null,null,null,""]
[null,null,null,null,null,null,null,null,null,null,""]
[null,null,null,null,null,null,null,null,null,null,""]
[null,null,null,null,null,null,null,null,null,null,""]
[null,null,null,null,null,null,null,null,null,null,""]
[null,null,null,null,null,null,null,null,null,null,""]
[null,null,null,null,null,null,null,null,null,null,""]
[null,null,null,null,null,null,null,null,null,null,""]
[null,null,null,null,null,null,null,null,null,null,""]
[null,null,null,null,null,null,null,null,null,null,""]
[null,null,null,null,null,null,null,null,null,null,""]
[null,null,null,null,null,null,null,null,null,null,""]
[null,null,null,null,null,null,null,null,null,null,""]
[null,null,null,null,null,null,null,null,null,null,""]
[null,null,null,null,null,null,null,null,null,null,""]
[null,null,null,null,null,null,null,null,null,null,""]
[null,null,null,null,null,null,null,null,null,null,""]
[null,null,null,null,null,null,null,null,null,null,""]
[null,null,null,null,null,null,null,null,null,null,""]
[null,null,null,null,null,null,null,null,null,null,""]
[null,null,null,null,null,null,null,null,null,null,""]
[null,null,null,null,null,null,null,null,null,null,""]
[null,null,null,null,null,null,null,null,null,null,""]
[null,null,null,null,null,null,null,null,null,null,""]
[null,null,null,null,null,null,null,null,null,null,""]
[null,null,null,null,null,null,null,null,null,null,""]
[null,null,null,null,null,null,null,null,null,null,""]
[null,null,null,null,null,null,null,null,null,null,""]
[null,null,null,null,null,null,null,null,null,null,""]
[null,null,null,null,null,null,null,null,null,null,""]
[null,null,null,null,null,null,null,null,null,null,""]
[null,null,null,null,null,null,null,null,null,null,""]
[null,null,null,null,null,null,null,null,null,null,""]
[null,null,null,null,null,null,null,null,null,null,""]
[null,null,null,null,null,null,null,null,null,null,""]
[null,null,null,null,null,null,null,null,null,null,""]
[null,null,null,null,null,null,null,null,null,null,""]
[null,null,null,null,null,null,null,null,null,null,""]
[null,null,null,null,null,null,null,null,null,null,""]
[null,null,null,null,null,null,null,null,null,null,""]
[null,null,null,null,null,null,null,null,null,null,""]
[null,null,null,null,null,null,null,null,null,null,""]
[null,null,null,null,null,null,null,null,null,null,""]
[null,null,null,null,null,null,null,null,null,null,""]
[null,null,null,null,null,null,null,null,null,null,""]
[null,null,null,null,null,null,null,null,null,null,""]
[null,null,null,null,null,null,null,null,null,null,""]
[null,null,null,null,null,null,null,null,null,null,""]
[null,null,null,null,null,null,null,null,null,null,""]
[null,null,null,null,null,null,null,null,null,null,""]
[null,null,null,null,null,null,null,null,null,null,""]
[null,null,null,null,null,null,null,null,null,null,""]
[null,null,null,null,null,null,null,null,null,null,{"$f":"IF(OR(I1438<>\"\",J1438<>\"\"),I1438+J1438,\"\")","v":""}]
[null,null,null,null,null,null,null,null,null,null,""]
[null,null,null,null,null,null,null,null,null,null,""]
[null,null,null,null,null,null,null,null,null,null,""]
[null,null,null,null,null,null,null,null,null,null,""]
[null,null,null,null,null,null,null,null,null,null,""]
[null,null,null,null,null,null,null,null,null,null,""]
[null,null,null,null,null,null,null,null,null,null,""]
[null,null,null,null,null,null,null,null,null,null,""]
[null,null,null,null,null,null,null,null,null,null,""]
[null,null,null,null,null,null,null,null,null,null,""]
[null,null,null,null,null,null,null,null,null,null,""]
[null,null,null,null,null,null,null,null,null,null,""]
[null,null,null,null,null,null,null,null,null,null,""]
[null,null,null,null,null,null,null,null,null,null,""]
[null,null,null,null,null,null,null,null,null,null,""]
[null,null,null,null,null,null,null,null,null,null,""]
[null,null,null,null,null,null,null,null,null,null,""]
[null,null,null,null,null,null,null,null,null,null,""]
[null,null,null,null,null,null,null,null,null,null,""]
[null,null,null,null,null,null,null,null,null,null,""]
[null,null,null,null,null,null,null,null,null,null,""]
[null,null,null,null,null,null,null,null,null,null,""]
[null,null,null,null,null,null,null,null,null,null,""]
[null,null,null,null,null,null,null,null,null,null,""]
[null,null,null,null,null,null,null,null,null,null,""]
[null,null,null,null,null,null,null,null,null,null,""]
[null,null,null,null,null,null,null,null,null,null,""]
[null,null,null,null,null,null,null,null,null,null,""]
[null,null,null,null,null,null,null,null,null,null,""]
[null,null,null,null,null,null,null,null,null,null,""]
[null,null,null,null,null,null,null,null,null,null,""]
[null,null,null,null,null,null,null,null,null,null,""]
[null,null,null,null,null,null,null,null,null,null,""]
[null,null,null,null,null,null,null,null,null,null,""]
[null,null,null,null,null,null,null,null,null,null,""]
[null,null,null,null,null,null,null,null,null,null,""]
[null,null,null,null,null,null,null,null,null,null,""]
[null,null,null,null,null,null,null,null,null,null,""]
[null,null,null,null,null,null,null,null,null,null,""]
[null,null,null,null,null,null,null,null,null,null,""]
[null,null,null,null,null,null,null,null,null,null,""]
[null,null,null,null,null,null,null,null,null,null,""]
[null,null,null,null,null,null,null,null,null,null,""]
[null,null,null,null,null,null,null,null,null,null,""]
[null,null,null,null,null,null,null,null,null,null,""]
[null,null,null,null,null,null,null,null,null,null,""]
[null,null,null,null,null,null,null,null,null,null,""]
[null,null,null,null,null,null,null,null,null,null,""]
[null,null,null,null,null,null,null,null,null,null,""]
[null,null,null,null,null,null,null,null,null,null,""]
[null,null,null,null,null,null,null,null,null,null,""]
[null,null,null,null,null,null,null,null,null,null,""]
[null,null,null,null,null,null,null,null,null,null,""]
[null,null,null,null,null,null,null,null,null,null,""]
[null,null,null,null,null,null,null,null,null,null,""]
[null,null,null,null,null,null,null,null,null,null,""]
[null,null,null,null,null,null,null,null,null,null,""]
[null,null,null,null,null,null,null,null,null,null,""]
[null,null,null,null,null,null,null,null,null,null,""]
[null,null,null,null,null,null,null,null,null,null,""]
[null,null,null,null,null,null,null,null,null,null,""]
[null,null,null,null,null,null,null,null,null,null,""]
[null,null,null,null,null,null,null,null,null,null,""]
[null,null,null,null,null,null,null,null,null,null,{"$f":"IF(OR(I1502<>\"\",J1502<>\"\"),I1502+J1502,\"\")","v":""}]
[null,null,null,null,null,null,null,null,null,null,""]
[null,null,null,null,null,null,null,null,null,null,""]
[null,null,null,null,null,null,null,null,null,null,""]
[null,null,null,null,null,null,null,null,null,null,""]
[null,null,null,null,null,null,null,null,null,null,""]
[null,null,null,null,null,null,null,null,null,null,""]
[null,null,null,null,null,null,null,null,null,null,""]
[null,null,null,null,null,null,null,null,null,null,""]
[null,null,null,null,null,null,null,null,null,null,""]
[null,null,null,null,null,null,null,null,null,null,""]
[null,null,null,null,null,null,null,null,null,null,""]
[null,null,null,null,null,null,null,null,null,null,""]
[null,null,null,null,null,null,null,null,null,null,""]
[null,null,null,null,null,null,null,null,null,null,""]
[null,null,null,null,null,null,null,null,null,null,""]
[null,null,null,null,null,null,null,null,null,null,""]
[null,null,null,null,null,null,null,null,null,null,""]
[null,null,null,null,null,null,null,null,null,null,""]
[null,null,null,null,null,null,null,null,null,null,""]
[null,null,null,null,null,null,null,null,null,null,""]
[null,null,null,null,null,null,null,null,null,null,""]
[null,null,null,null,null,null,null,null,null,null,""]
[null,null,null,null,null,null,null,null,null,null,""]
[null,null,null,null,null,null,null,null,null,null,""]
[null,null,null,null,null,null,null,null,null,null,""]
[null,null,null,null,null,null,null,null,null,null,""]
[null,null,null,null,null,null,null,null,null,null,""]
[null,null,null,null,null,null,null,null,null,null,""]
[null,null,null,null,null,null,null,null,null,null,""]
[null,null,null,null,null,null,null,null,null,null,""]
[null,null,null,null,null,null,null,null,null,null,""]
[null,null,null,null,null,null,null,null,null,null,""]
[null,null,null,null,null,null,null,null,null,null,""]
[null,null,null,null,null,null,null,null,null,null,""]
[null,null,null,null,null,null,null,null,null,null,""]
[null,null,null,null,null,null,null,null,null,null,""]
[null,null,null,null,null,null,null,null,null,null,""]
[null,null,null,null,null,null,null,null,null,null,""]
[null,null,null,null,null,null,null,null,null,null,""]
[null,null,null,null,null,null,null,null,null,null,""]
[null,null,null,null,null,null,null,null,null,null,""]
[null,null,null,null,null,null,null,null,null,null,""]
[null,null,null,null,null,null,null,null,null,null,""]
[null,null,null,null,null,null,null,null,null,null,""]
[null,null,null,null,null,null,null,null,null,null,""]
[null,null,null,null,null,null,null,null,null,null,""]
[null,null,null,null,null,null,null,null,null,null,""]
[null,null,null,null,null,null,null,null,null,null,""]
[null,null,null,null,null,null,null,null,null,null,""]
[null,null,null,null,null,null,null,null,null,null,""]
[null,null,null,null,null,null,null,null,null,null,""]
[null,null,null,null,null,null,null,null,null,null,""]
[null,null,null,null,null,null,null,null,null,null,""]
[null,null,null,null,null,null,null,null,null,null,""]
[null,null,null,null,null,null,null,null,null,null,""]
[null,null,null,null,null,null,null,null,null,null,""]
[null,null,null,null,null,null,null,null,null,null,""]
[null,null,null,null,null,null,null,null,null,null,""]
[null,null,null,null,null,null,null,null,null,null,""]
[null,null,null,null,null,null,null,null,null,null,""]
[null,null,null,null,null,null,null,null,null,null,""]
[null,null,null,null,null,null,null,null,null,null,""]
[null,null,null,null,null,null,null,null,null,null,""]
[null,null,null,null,null,null,null,null,null,null,{"$f":"IF(OR(I1566<>\"\",J1566<>\"\"),I1566+J1566,\"\")","v":""}]
[null,null,null,null,null,null,null,null,null,null,""]
[null,null,null,null,null,null,null,null,null,null,""]
[null,null,null,null,null,null,null,null,null,null,""]
[null,null,null,null,null,null,null,null,null,null,""]
[null,null,null,null,null,null,null,null,null,null,""]
[null,null,null,null,null,null,null,null,null,null,""]
[null,null,null,null,null,null,null,null,null,null,""]
[null,null,null,null,null,null,null,null,null,null,""]
[null,null,null,null,null,null,null,null,null,null,""]
[null,null,null,null,null,null,null,null,null,null,""]
[null,null,null,null,null,null,null,null,null,null,""]
[null,null,null,null,null,null,null,null,null,null,""]
[null,null,null,null,null,null,null,null,null,null,""]
[null,null,null,null,null,null,null,null,null,null,""]
[null,null,null,null,null,null,null,null,null,null,""]
[null,null,null,null,null,null,null,null,null,null,""]
[null,null,null,null,null,null,null,null,null,null,""]
[null,null,null,null,null,null,null,null,null,null,""]
[null,null,null,null,null,null,null,null,null,null,""]
[null,null,null,null,null,null,null,null,null,null,""]
[null,null,null,null,null,null,null,null,null,null,""]
[null,null,null,null,null,null,null,null,null,null,""]
[null,null,null,null,null,null,null,null,null,null,""]
[null,null,null,null,null,null,null,null,null,null,""]
[null,null,null,null,null,null,null,null,null,null,""]
[null,null,null,null,null,null,null,null,null,null,""]
[null,null,null,null,null,null,null,null,null,null,""]
[null,null,null,null,null,null,null,null,null,null,""]
[null,null,null,null,null,null,null,null,null,null,""]
[null,null,null,null,null,null,null,null,null,null,""]
[null,null,null,null,null,null,null,null,null,null,""]
[null,null,null,null,null,null,null,null,null,null,""]
[null,null,null,null,null,null,null,null,null,null,""]
[null,null,null,null,null,null,null,null,null,null,""]
[null,null,null,null,null,null,null,null,null,null,""]
[null,null,null,null,null,null,null,null,null,null,""]
[null,null,null,null,null,null,null,null,null,null,""]
[null,null,null,null,null,null,null,null,null,null,""]
[null,null,null,null,null,null,null,null,null,null,""]
[null,null,null,null,null,null,null,null,null,null,""]
[null,null,null,null,null,null,null,null,null,null,""]
[null,null,null,null,null,null,null,null,null,null,""]
[null,null,null,null,null,null,null,null,null,null,""]
[null,null,null,null,null,null,null,null,null,null,""]
[null,null,null,null,null,null,null,null,null,null,""]
[null,null,null,null,null,null,null,null,null,null,""]
[null,null,null,null,null,null,null,null,null,null,""]
[null,null,null,null,null,null,null,null,null,null,""]
[null,null,null,null,null,null,null,null,null,null,""]
[null,null,null,null,null,null,null,null,null,null,""]
[null,null,null,null,null,null,null,null,null,null,""]
[null,null,null,null,null,null,null,null,null,null,""]
[null,null,null,null,null,null,null,null,null,null,""]
[null,null,null,null,null,null,null,null,null,null,""]
[null,null,null,null,null,null,null,null,null,null,""]
[null,null,null,null,null,null,null,null,null,null,""]
[null,null,null,null,null,null,null,null,null,null,""]
[null,null,null,null,null,null,null,null,null,null,""]
[null,null,null,null,null,null,null,null,null,null,""]
[null,null,null,null,null,null,null,null,null,null,""]
[null,null,null,null,null,null,null,null,null,null,""]
[null,null,null,null,null,null,null,null,null,null,""]
[null,null,null,null,null,null,null,null,null,null,""]
[null,null,null,null,null,null,null,null,null,null,{"$f":"IF(OR(I1630<>\"\",J1630<>\"\"),I1630+J1630,\"\")","v":""}]
[null,null,null,null,null,null,null,null,null,null,""]
[null,null,null,null,null,null,null,null,null,null,""]
[null,null,null,null,null,null,null,null,null,null,""]
[null,null,null,null,null,null,null,null,null,null,""]
[null,null,null,null,null,null,null,null,null,null,""]
[null,null,null,null,null,null,null,null,null,null,""]
[null,null,null,null,null,null,null,null,null,null,""]
[null,null,null,null,null,null,null,null,null,null,""]
[null,null,null,null,null,null,null,null,null,null,""]
[null,null,null,null,null,null,null,null,null,null,""]
[null,null,null,null,null,null,null,null,null,null,""]
[null,null,null,null,null,null,null,null,null,null,""]
[null,null,null,null,null,null,null,null,null,null,""]
[null,null,null,null,null,null,null,null,null,null,""]
[null,null,null,null,null,null,null,null,null,null,""]
[null,null,null,null,null,null,null,null,null,null,""]
[null,null,null,null,null,null,null,null,null,null,""]
[null,null,null,null,null,null,null,null,null,null,""]
[null,null,null,null,null,null,null,null,null,null,""]
[null,null,null,null,null,null,null,null,null,null,""]
[null,null,null,null,null,null,null,null,null,null,""]
[null,null,null,null,null,null,null,null,null,null,""]
[null,null,null,null,null,null,null,null,null,null,""]
[null,null,null,null,null,null,null,null,null,null,""]
[null,null,null,null,null,null,null,null,null,null,""]
[null,null,null,null,null,null,null,null,null,null,""]
[null,null,null,null,null,null,null,null,null,null,""]
[null,null,null,null,null,null,null,null,null,null,""]
[null,null,null,null,null,null,null,null,null,null,""]
[null,null,null,null,null,null,null,null,null,null,""]
[null,null,null,null,null,null,null,null,null,null,""]
[null,null,null,null,null,null,null,null,null,null,""]
[null,null,null,null,null,null,null,null,null,null,""]
[null,null,null,null,null,null,null,null,null,null,""]
[null,null,null,null,null,null,null,null,null,null,""]
[null,null,null,null,null,null,null,null,null,null,""]
[null,null,null,null,null,null,null,null,null,null,""]
[null,null,null,null,null,null,null,null,null,null,""]
[null,null,null,null,null,null,null,null,null,null,""]
[null,null,null,null,null,null,null,null,null,null,""]
[null,null,null,null,null,null,null,null,null,null,""]
[null,null,null,null,null,null,null,null,null,null,""]
[null,null,null,null,null,null,null,null,null,null,""]
[null,null,null,null,null,null,null,null,null,null,""]
[null,null,null,null,null,null,null,null,null,null,""]
[null,null,null,null,null,null,null,null,null,null,""]
[null,null,null,null,null,null,null,null,null,null,""]
[null,null,null,null,null,null,null,null,null,null,""]
[null,null,null,null,null,null,null,null,null,null,""]
[null,null,null,null,null,null,null,null,null,null,""]
[null,null,null,null,null,null,null,null,null,null,""]
[null,null,null,null,null,null,null,null,null,null,""]
[null,null,null,null,null,null,null,null,null,null,""]
[null,null,null,null,null,null,null,null,null,null,""]
[null,null,null,null,null,null,null,null,null,null,""]
[null,null,null,null,null,null,null,null,null,null,""]
[null,null,null,null,null,null,null,null,null,null,""]
[null,null,null,null,null,null,null,null,null,null,""]
[null,null,null,null,null,null,null,null,null,null,""]
[null,null,null,null,null,null,null,null,null,null,""]
[null,null,null,null,null,null,null,null,null,null,""]
[null,null,null,null,null,null,null,null,null,null,""]
[null,null,null,null,null,null,null,null,null,null,""]
[null,null,null,null,null,null,null,null,null,null,{"$f":"IF(OR(I1694<>\"\",J1694<>\"\"),I1694+J1694,\"\")","v":""}]
[null,null,null,null,null,null,null,null,null,null,""]
[null,null,null,null,null,null,null,null,null,null,""]
[null,null,null,null,null,null,null,null,null,null,""]
[null,null,null,null,null,null,null,null,null,null,""]
[null,null,null,null,null,null,null,null,null,null,""]
[null,null,null,null,null,null,null,null,null,null,""]
[null,null,null,null,null,null,null,null,null,null,""]
[null,null,null,null,null,null,null,null,null,null,""]
[null,null,null,null,null,null,null,null,null,null,""]
[null,null,null,null,null,null,null,null,null,null,""]
[null,null,null,null,null,null,null,null,null,null,""]
[null,null,null,null,null,null,null,null,null,null,""]
[null,null,null,null,null,null,null,null,null,null,""]
[null,null,null,null,null,null,null,null,null,null,""]
[null,null,null,null,null,null,null,null,null,null,""]
[null,null,null,null,null,null,null,null,null,null,""]
[null,null,null,null,null,null,null,null,null,null,""]
[null,null,null,null,null,null,null,null,null,null,""]
[null,null,null,null,null,null,null,null,null,null,""]
[null,null,null,null,null,null,null,null,null,null,""]
[null,null,null,null,null,null,null,null,null,null,""]
[null,null,null,null,null,null,null,null,null,null,""]
[null,null,null,null,null,null,null,null,null,null,""]
[null,null,null,null,null,null,null,null,null,null,""]
[null,null,null,null,null,null,null,null,null,null,""]
[null,null,null,null,null,null,null,null,null,null,""]
[null,null,null,null,null,null,null,null,null,null,""]
[null,null,null,null,null,null,null,null,null,null,""]
[null,null,null,null,null,null,null,null,null,null,""]
[null,null,null,null,null,null,null,null,null,null,""]
[null,null,null,null,null,null,null,null,null,null,""]
[null,null,null,null,null,null,null,null,null,null,""]
[null,null,null,null,null,null,null,null,null,null,""]
[null,null,null,null,null,null,null,null,null,null,""]
[null,null,null,null,null,null,null,null,null,null,""]
[null,null,null,null,null,null,null,null,null,null,""]
[null,null,null,null,null,null,null,null,null,null,""]
[null,null,null,null,null,null,null,null,null,null,""]
[null,null,null,null,null,null,null,null,null,null,""]
[null,null,null,null,null,null,null,null,null,null,""]
[null,null,null,null,null,null,null,null,null,null,""]
[null,null,null,null,null,null,null,null,null,null,""]
[null,null,null,null,null,null,null,null,null,null,""]
[null,null,null,null,null,null,null,null,null,null,""]
[null,null,null,null,null,null,null,null,null,null,""]
[null,null,null,null,null,null,null,null,null,null,""]
[null,null,null,null,null,null,null,null,null,null,""]
[null,null,null,null,null,null,null,null,null,null,""]
[null,null,null,null,null,null,null,null,null,null,""]
[null,null,null,null,null,null,null,null,null,null,""]
[null,null,null,null,null,null,null,null,null,null,""]
[null,null,null,null,null,null,null,null,null,null,""]
[null,null,null,null,null,null,null,null,null,null,""]
[null,null,null,null,null,null,null,null,null,null,""]
[null,null,null,null,null,null,null,null,null,null,""]
[null,null,null,null,null,null,null,null,null,null,""]
[null,null,null,null,null,null,null,null,null,null,""]
[null,null,null,null,null,null,null,null,null,null,""]
[null,null,null,null,null,null,null,null,null,null,""]
[null,null,null,null,null,null,null,null,null,null,""]
[null,null,null,null,null,null,null,null,null,null,""]
[null,null,null,null,null,null,null,null,null,null,""]
[null,null,null,null,null,null,null,null,null,null,""]
[null,null,null,null,null,null,null,null,null,null,{"$f":"IF(OR(I1758<>\"\",J1758<>\"\"),I1758+J1758,\"\")","v":""}]
[null,null,null,null,null,null,null,null,null,null,""]
[null,null,null,null,null,null,null,null,null,null,""]
[null,null,null,null,null,null,null,null,null,null,""]
[null,null,null,null,null,null,null,null,null,null,""]
[null,null,null,null,null,null,null,null,null,null,""]
[null,null,null,null,null,null,null,null,null,null,""]
[null,null,null,null,null,null,null,null,null,null,""]
[null,null,null,null,null,null,null,null,null,null,""]
[null,null,null,null,null,null,null,null,null,null,""]
[null,null,null,null,null,null,null,null,null,null,""]
[null,null,null,null,null,null,null,null,null,null,""]
[null,null,null,null,null,null,null,null,null,null,""]
[null,null,null,null,null,null,null,null,null,null,""]
[null,null,null,null,null,null,null,null,null,null,""]
[null,null,null,null,null,null,null,null,null,null,""]
[null,null,null,null,null,null,null,null,null,null,""]
[null,null,null,null,null,null,null,null,null,null,""]
[null,null,null,null,null,null,null,null,null,null,""]
[null,null,null,null,null,null,null,null,null,null,""]
[null,null,null,null,null,null,null,null,null,null,""]
[null,null,null,null,null,null,null,null,null,null,""]
[null,null,null,null,null,null,null,null,null,null,""]
[null,null,null,null,null,null,null,null,null,null,""]
[null,null,null,null,null,null,null,null,null,null,""]
[null,null,null,null,null,null,null,null,null,null,""]
[null,null,null,null,null,null,null,null,null,null,""]
[null,null,null,null,null,null,null,null,null,null,""]
[null,null,null,null,null,null,null,null,null,null,""]
[null,null,null,null,null,null,null,null,null,null,""]
[null,null,null,null,null,null,null,null,null,null,""]
[null,null,null,null,null,null,null,null,null,null,""]
[null,null,null,null,null,null,null,null,null,null,""]
[null,null,null,null,null,null,null,null,null,null,""]
[null,null,null,null,null,null,null,null,null,null,""]
[null,null,null,null,null,null,null,null,null,null,""]
[null,null,null,null,null,null,null,null,null,null,""]
[null,null,null,null,null,null,null,null,null,null,""]
[null,null,null,null,null,null,null,null,null,null,""]
[null,null,null,null,null,null,null,null,null,null,""]
[null,null,null,null,null,null,null,null,null,null,""]
[null,null,null,null,null,null,null,null,null,null,""]
[null,null,null,null,null,null,null,null,null,null,""]
[null,null,null,null,null,null,null,null,null,null,""]
[null,null,null,null,null,null,null,null,null,null,""]
[null,null,null,null,null,null,null,null,null,null,""]
[null,null,null,null,null,null,null,null,null,null,""]
[null,null,null,null,null,null,null,null,null,null,""]
[null,null,null,null,null,null,null,null,null,null,""]
[null,null,null,null,null,null,null,null,null,null,""]
[null,null,null,null,null,null,null,null,null,null,""]
[null,null,null,null,null,null,null,null,null,null,""]
[null,null,null,null,null,null,null,null,null,null,""]
[null,null,null,null,null,null,null,null,null,null,""]
[null,null,null,null,null,null,null,null,null,null,""]
[null,null,null,null,null,null,null,null,null,null,""]
[null,null,null,null,null,null,null,null,null,null,""]
[null,null,null,null,null,null,null,null,null,null,""]
[null,null,null,null,null,null,null,null,null,null,""]
[null,null,null,null,null,null,null,null,null,null,""]
[null,null,null,null,null,null,null,null,null,null,""]
[null,null,null,null,null,null,null,null,null,null,""]
[null,null,null,null,null,null,null,null,null,null,""]
[null,null,null,null,null,null,null,null,null,null,""]
[null,null,null,null,null,null,null,null,null,null,{"$f":"IF(OR(I1822<>\"\",J1822<>\"\"),I1822+J1822,\"\")","v":""}]
[null,null,null,null,null,null,null,null,null,null,""]
[null,null,null,null,null,null,null,null,null,null,""]
[null,null,null,null,null,null,null,null,null,null,""]
[null,null,null,null,null,null,null,null,null,null,""]
[null,null,null,null,null,null,null,null,null,null,""]
[null,null,null,null,null,null,null,null,null,null,""]
[null,null,null,null,null,null,null,null,null,null,""]
[null,null,null,null,null,null,null,null,null,null,""]
[null,null,null,null,null,null,null,null,null,null,""]
[null,null,null,null,null,null,null,null,null,null,""]
[null,null,null,null,null,null,null,null,null,null,""]
[null,null,null,null,null,null,null,null,null,null,""]
[null,null,null,null,null,null,null,null,null,null,""]
[null,null,null,null,null,null,null,null,null,null,""]
[null,null,null,null,null,null,null,null,null,null,""]
[null,null,null,null,null,null,null,null,null,null,""]
[null,null,null,null,null,null,null,null,null,null,""]
[null,null,null,null,null,null,null,null,null,null,""]
[null,null,null,null,null,null,null,null,null,null,""]
[null,null,null,null,null,null,null,null,null,null,""]
[null,null,null,null,null,null,null,null,null,null,""]
[null,null,null,null,null,null,null,null,null,null,""]
[null,null,null,null,null,null,null,null,null,null,""]
[null,null,null,null,null,null,null,null,null,null,""]
[null,null,null,null,null,null,null,null,null,null,""]
[null,null,null,null,null,null,null,null,null,null,""]
[null,null,null,null,null,null,null,null,null,null,""]
[null,null,null,null,null,null,null,null,null,null,""]
[null,null,null,null,null,null,null,null,null,null,""]
[null,null,null,null,null,null,null,null,null,null,""]
[null,null,null,null,null,null,null,null,null,null,""]
[null,null,null,null,null,null,null,null,null,null,""]
[null,null,null,null,null,null,null,null,null,null,""]
[null,null,null,null,null,null,null,null,null,null,""]
[null,null,null,null,null,null,null,null,null,null,""]
[null,null,null,null,null,null,null,null,null,null,""]
[null,null,null,null,null,null,null,null,null,null,""]
[null,null,null,null,null,null,null,null,null,null,""]
[null,null,null,null,null,null,null,null,null,null,""]
[null,null,null,null,null,null,null,null,null,null,""]
[null,null,null,null,null,null,null,null,null,null,""]
[null,null,null,null,null,null,null,null,null,null,""]
[null,null,null,null,null,null,null,null,null,null,""]
[null,null,null,null,null,null,null,null,null,null,""]
[null,null,null,null,null,null,null,null,null,null,""]
[null,null,null,null,null,null,null,null,null,null,""]
[null,null,null,null,null,null,null,null,null,null,""]
[null,null,null,null,null,null,null,null,null,null,""]
[null,null,null,null,null,null,null,null,null,null,""]
[null,null,null,null,null,null,null,null,null,null,""]
[null,null,null,null,null,null,null,null,null,null,""]
[null,null,null,null,null,null,null,null,null,null,""]
[null,null,null,null,null,null,null,null,null,null,""]
[null,null,null,null,null,null,null,null,null,null,""]
[null,null,null,null,null,null,null,null,null,null,""]
[null,null,null,null,null,null,null,null,null,null,""]
[null,null,null,null,null,null,null,null,null,null,""]
[null,null,null,null,null,null,null,null,null,null,""]
[null,null,null,null,null,null,null,null,null,null,""]
[null,null,null,null,null,null,null,null,null,null,""]
[null,null,null,null,null,null,null,null,null,null,""]
[null,null,null,null,null,null,null,null,null,null,""]
[null,null,null,null,null,null,null,null,null,null,""]
[null,null,null,null,null,null,null,null,null,null,{"$f":"IF(OR(I1886<>\"\",J1886<>\"\"),I1886+J1886,\"\")","v":""}]
[null,null,null,null,null,null,null,null,null,null,""]
[null,null,null,null,null,null,null,null,null,null,""]
[null,null,null,null,null,null,null,null,null,null,""]
[null,null,null,null,null,null,null,null,null,null,""]
[null,null,null,null,null,null,null,null,null,null,""]
[null,null,null,null,null,null,null,null,null,null,""]
[null,null,null,null,null,null,null,null,null,null,""]
[null,null,null,null,null,null,null,null,null,null,""]
[null,null,null,null,null,null,null,null,null,null,""]
[null,null,null,null,null,null,null,null,null,null,""]
[null,null,null,null,null,null,null,null,null,null,""]
[null,null,null,null,null,null,null,null,null,null,""]
[null,null,null,null,null,null,null,null,null,null,""]
[null,null,null,null,null,null,null,null,null,null,""]
[null,null,null,null,null,null,null,null,null,null,""]
[null,null,null,null,null,null,null,null,null,null,""]
[null,null,null,null,null,null,null,null,null,null,""]
[null,null,null,null,null,null,null,null,null,null,""]
[null,null,null,null,null,null,null,null,null,null,""]
[null,null,null,null,null,null,null,null,null,null,""]
[null,null,null,null,null,null,null,null,null,null,""]
[null,null,null,null,null,null,null,null,null,null,""]
[null,null,null,null,null,null,null,null,null,null,""]
[null,null,null,null,null,null,null,null,null,null,""]
[null,null,null,null,null,null,null,null,null,null,""]
[null,null,null,null,null,null,null,null,null,null,""]
[null,null,null,null,null,null,null,null,null,null,""]
[null,null,null,null,null,null,null,null,null,null,""]
[null,null,null,null,null,null,null,null,null,null,""]
[null,null,null,null,null,null,null,null,null,null,""]
[null,null,null,null,null,null,null,null,null,null,""]
[null,null,null,null,null,null,null,null,null,null,""]
[null,null,null,null,null,null,null,null,null,null,""]
[null,null,null,null,null,null,null,null,null,null,""]
[null,null,null,null,null,null,null,null,null,null,""]
[null,null,null,null,null,null,null,null,null,null,""]
[null,null,null,null,null,null,null,null,null,null,""]
[null,null,null,null,null,null,null,null,null,null,""]
[null,null,null,null,null,null,null,null,null,null,""]
[null,null,null,null,null,null,null,null,null,null,""]
[null,null,null,null,null,null,null,null,null,null,""]
[null,null,null,null,null,null,null,null,null,null,""]
[null,null,null,null,null,null,null,null,null,null,""]
[null,null,null,null,null,null,null,null,null,null,""]
[null,null,null,null,null,null,null,null,null,null,""]
[null,null,null,null,null,null,null,null,null,null,""]
[null,null,null,null,null,null,null,null,null,null,""]
[null,null,null,null,null,null,null,null,null,null,""]
[null,null,null,null,null,null,null,null,null,null,""]
[null,null,null,null,null,null,null,null,null,null,""]
[null,null,null,null,null,null,null,null,null,null,""]
[null,null,null,null,null,null,null,null,null,null,""]
[null,null,null,null,null,null,null,null,null,null,""]
[null,null,null,null,null,null,null,null,null,null,""]
[null,null,null,null,null,null,null,null,null,null,""]
[null,null,null,null,null,null,null,null,null,null,""]
[null,null,null,null,null,null,null,null,null,null,""]
[null,null,null,null,null,null,null,null,null,null,""]
[null,null,null,null,null,null,null,null,null,null,""]
[null,null,null,null,null,null,null,null,null,null,""]
[null,null,null,null,null,null,null,null,null,null,""]
[null,null,null,null,null,null,null,null,null,null,""]
[null,null,null,null,null,null,null,null,null,null,""]
[null,null,null,null,null,null,null,null,null,null,{"$f":"IF(OR(I1950<>\"\",J1950<>\"\"),I1950+J1950,\"\")","v":""}]
[null,null,null,null,null,null,null,null,null,null,""]
[null,null,null,null,null,null,null,null,null,null,""]
[null,null,null,null,null,null,null,null,null,null,""]
[null,null,null,null,null,null,null,null,null,null,""]
[null,null,null,null,null,null,null,null,null,null,""]
[null,null,null,null,null,null,null,null,null,null,""]
[null,null,null,null,null,null,null,null,null,null,""]
[null,null,null,null,null,null,null,null,null,null,""]
[null,null,null,null,null,null,null,null,null,null,""]
[null,null,null,null,null,null,null,null,null,null,""]
[null,null,null,null,null,null,null,null,null,null,""]
[null,null,null,null,null,null,null,null,null,null,""]
[null,null,null,null,null,null,null,null,null,null,""]
[null,null,null,null,null,null,null,null,null,null,""]
[null,null,null,null,null,null,null,null,null,null,""]
[null,null,null,null,null,null,null,null,null,null,""]
[null,null,null,null,null,null,null,null,null,null,""]
[null,null,null,null,null,null,null,null,null,null,""]
[null,null,null,null,null,null,null,null,null,null,""]
[null,null,null,null,null,null,null,null,null,null,""]
[null,null,null,null,null,null,null,null,null,null,""]
[null,null,null,null,null,null,null,null,null,null,""]
[null,null,null,null,null,null,null,null,null,null,""]
[null,null,null,null,null,null,null,null,null,null,""]
[null,null,null,null,null,null,null,null,null,null,""]
[null,null,null,null,null,null,null,null,null,null,""]
[null,null,null,null,null,null,null,null,null,null,""]
[null,null,null,null,null,null,null,null,null,null,""]
[null,null,null,null,null,null,null,null,null,null,""]
[null,null,null,null,null,null,null,null,null,null,""]
[null,null,null,null,null,null,null,null,null,null,""]
[null,null,null,null,null,null,null,null,null,null,""]
[null,null,null,null,null,null,null,null,null,null,""]
[null,null,null,null,null,null,null,null,null,null,""]
[null,null,null,null,null,null,null,null,null,null,""]
[null,null,null,null,null,null,null,null,null,null,""]
[null,null,null,null,null,null,null,null,null,null,""]
[null,null,null,null,null,null,null,null,null,null,""]
[null,null,null,null,null,null,null,null,null,null,""]
[null,null,null,null,null,null,null,null,null,null,""]
[null,null,null,null,null,null,null,null,null,null,""]
[null,null,null,null,null,null,null,null,null,null,""]
[null,null,null,null,null,null,null,null,null,null,""]
[null,null,null,null,null,null,null,null,null,null,""]
[null,null,null,null,null,null,null,null,null,null,""]
[null,null,null,null,null,null,null,null,null,null,""]
[null,null,null,null,null,null,null,null,null,null,""]
[null,null,null,null,null,null,null,null,null,null,""]
[null,null,null,null,null,null,null,null,null,null,""]
[null,null,null,null,null,null,null,null,null,null,""]
[null,null,null,null,null,null,null,null,null,null,""]
[null,null,null,null,null,null,null,null,null,null,""]
[null,null,null,null,null,null,null,null,null,null,""]
[null,null,null,null,null,null,null,null,null,null,""]
[null,null,null,null,null,null,null,null,null,null,""]
[null,null,null,null,null,null,null,null,null,null,""]
[null,null,null,null,null,null,null,null,null,null,""]
[null,null,null,null,null,null,null,null,null,null,""]
[null,null,null,null,null,null,null,null,null,null,""]
[null,null,null,null,null,null,null,null,null,null,""]
[null,null,null,null,null,null,null,null,null,null,""]
[null,null,null,null,null,null,null,null,null,null,""]
[null,null,null,null,null,null,null,null,null,null,""]
[null,null,null,null,null,null,null,null,null,null,{"$f":"IF(OR(I2014<>\"\",J2014<>\"\"),I2014+J2014,\"\")","v":""}]
[null,null,null,null,null,null,null,null,null,null,""]
[null,null,null,null,null,null,null,null,null,null,""]
[null,null,null,null,null,null,null,null,null,null,""]
[null,null,null,null,null,null,null,null,null,null,""]
[null,null,null,null,null,null,null,null,null,null,""]
[null,null,null,null,null,null,null,null,null,null,""]
[null,null,null,null,null,null,null,null,null,null,""]
[null,null,null,null,null,null,null,null,null,null,""]
[null,null,null,null,null,null,null,null,null,null,""]
[null,null,null,null,null,null,null,null,null,null,""]
[null,null,null,null,null,null,null,null,null,null,""]
[null,null,null,null,null,null,null,null,null,null,""]
[null,null,null,null,null,null,null,null,null,null,""]
[null,null,null,null,null,null,null,null,null,null,""]
[null,null,null,null,null,null,null,null,null,null,""]
[null,null,null,null,null,null,null,null,null,null,""]
[null,null,null,null,null,null,null,null,null,null,""]
[null,null,null,null,null,null,null,null,null,null,""]
[null,null,null,null,null,null,null,null,null,null,""]
[null,null,null,null,null,null,null,null,null,null,""]
[null,null,null,null,null,null,null,null,null,null,""]
[null,null,null,null,null,null,null,null,null,null,""]
[null,null,null,null,null,null,null,null,null,null,""]
[null,null,null,null,null,null,null,null,null,null,""]
[null,null,null,null,null,null,null,null,null,null,""]
[null,null,null,null,null,null,null,null,null,null,""]
[null,null,null,null,null,null,null,null,null,null,""]
[null,null,null,null,null,null,null,null,null,null,""]
[null,null,null,null,null,null,null,null,null,null,""]
[null,null,null,null,null,null,null,null,null,null,""]
[null,null,null,null,null,null,null,null,null,null,""]
[null,null,null,null,null,null,null,null,null,null,""]
[null,null,null,null,null,null,null,null,null,null,""]
[null,null,null,null,null,null,null,null,null,null,""]
[null,null,null,null,null,null,null,null,null,null,""]
[null,null,null,null,null,null,null,null,null,null,""]
[null,null,null,null,null,null,null,null,null,null,""]
[null,null,null,null,null,null,null,null,null,null,""]
[null,null,null,null,null,null,null,null,null,null,""]
[null,null,null,null,null,null,null,null,null,null,""]
[null,null,null,null,null,null,null,null,null,null,""]
[null,null,null,null,null,null,null,null,null,null,""]
[null,null,null,null,null,null,null,null,null,null,""]
[null,null,null,null,null,null,null,null,null,null,""]
[null,null,null,null,null,null,null,null,null,null,""]
[null,null,null,null,null,null,null,null,null,null,""]
[null,null,null,null,null,null,null,null,null,null,""]
[null,null,null,null,null,null,null,null,null,null,""]
[null,null,null,null,null,null,null,null,null,null,""]
[null,null,null,null,null,null,null,null,null,null,""]
[null,null,null,null,null,null,null,null,null,null,""]
[null,null,null,null,null,null,null,null,null,null,""]
[null,null,null,null,null,null,null,null,null,null,""]
[null,null,null,null,null,null,null,null,null,null,""]
[null,null,null,null,null,null,null,null,null,null,""]
[null,null,null,null,null,null,null,null,null,null,""]
[null,null,null,null,null,null,null,null,null,null,""]
[null,null,null,null,null,null,null,null,null,null,""]
[null,null,null,null,null,null,null,null,null,null,""]
[null,null,null,null,null,null,null,null,null,null,""]
[null,null,null,null,null,null,null,null,null,null,""]
[null,null,null,null,null,null,null,null,null,null,""]
[null,null,null,null,null,null,null,null,null,null,""]
[null,null,null,null,null,null,null,null,null,null,{"$f":"IF(OR(I2078<>\"\",J2078<>\"\"),I2078+J2078,\"\")","v":""}]
[null,null,null,null,null,null,null,null,null,null,""]
[null,null,null,null,null,null,null,null,null,null,""]
[null,null,null,null,null,null,null,null,null,null,""]
[null,null,null,null,null,null,null,null,null,null,""]
[null,null,null,null,null,null,null,null,null,null,""]
[null,null,null,null,null,null,null,null,null,null,""]
[null,null,null,null,null,null,null,null,null,null,""]
[null,null,null,null,null,null,null,null,null,null,""]
[null,null,null,null,null,null,null,null,null,null,""]
[null,null,null,null,null,null,null,null,null,null,""]
[null,null,null,null,null,null,null,null,null,null,""]
[null,null,null,null,null,null,null,null,null,null,""]
[null,null,null,null,null,null,null,null,null,null,""]
[null,null,null,null,null,null,null,null,null,null,""]
[null,null,null,null,null,null,null,null,null,null,""]
[null,null,null,null,null,null,null,null,null,null,""]
[null,null,null,null,null,null,null,null,null,null,""]
[null,null,null,null,null,null,null,null,null,null,""]
[null,null,null,null,null,null,null,null,null,null,""]
[null,null,null,null,null,null,null,null,null,null,""]
[null,null,null,null,null,null,null,null,null,null,""]
[null,null,null,null,null,null,null,null,null,null,""]
[null,null,null,null,null,null,null,null,null,null,""]
[null,null,null,null,null,null,null,null,null,null,""]
[null,null,null,null,null,null,null,null,null,null,""]
[null,null,null,null,null,null,null,null,null,null,""]
[null,null,null,null,null,null,null,null,null,null,""]
[null,null,null,null,null,null,null,null,null,null,""]
[null,null,null,null,null,null,null,null,null,null,""]
[null,null,null,null,null,null,null,null,null,null,""]
[null,null,null,null,null,null,null,null,null,null,""]
[null,null,null,null,null,null,null,null,null,null,""]
[null,null,null,null,null,null,null,null,null,null,""]
[null,null,null,null,null,null,null,null,null,null,""]
[null,null,null,null,null,null,null,null,null,null,""]
[null,null,null,null,null,null,null,null,null,null,""]
[null,null,null,null,null,null,null,null,null,null,""]
[null,null,null,null,null,null,null,null,null,null,""]
[null,null,null,null,null,null,null,null,null,null,""]
[null,null,null,null,null,null,null,null,null,null,""]
[null,null,null,null,null,null,null,null,null,null,""]
[null,null,null,null,null,null,null,null,null,null,""]
[null,null,null,null,null,null,null,null,null,null,""]
[null,null,null,null,null,null,null,null,null,null,""]
[null,null,null,null,null,null,null,null,null,null,""]
[null,null,null,null,null,null,null,null,null,null,""]
[null,null,null,null,null,null,null,null,null,null,""]
[null,null,null,null,null,null,null,null,null,null,""]
[null,null,null,null,null,null,null,null,null,null,""]
[null,null,null,null,null,null,null,null,null,null,""]
[null,null,null,null,null,null,null,null,null,null,""]
[null,null,null,null,null,null,null,null,null,null,""]
[null,null,null,null,null,null,null,null,null,null,""]
[null,null,null,null,null,null,null,null,null,null,""]
[null,null,null,null,null,null,null,null,null,null,""]
[null,null,null,null,null,null,null,null,null,null,""]
[null,null,null,null,null,null,null,null,null,null,""]
[null,null,null,null,null,null,null,null,null,null,""]
[null,null,null,null,null,null,null,null,null,null,""]
[null,null,null,null,null,null,null,null,null,null,""]
[null,null,null,null,null,null,null,null,null,null,""]
[null,null,null,null,null,null,null,null,null,null,""]
[null,null,null,null,null,null,null,null,null,null,""]
[null,null,null,null,null,null,null,null,null,null,{"$f":"IF(OR(I2142<>\"\",J2142<>\"\"),I2142+J2142,\"\")","v":""}]
[null,null,null,null,null,null,null,null,null,null,""]
[null,null,null,null,null,null,null,null,null,null,""]
[null,null,null,null,null,null,null,null,null,null,""]
[null,null,null,null,null,null,null,null,null,null,""]
[null,null,null,null,null,null,null,null,null,null,""]
[null,null,null,null,null,null,null,null,null,null,""]
[null,null,null,null,null,null,null,null,null,null,""]
[null,null,null,null,null,null,null,null,null,null,""]
[null,null,null,null,null,null,null,null,null,null,""]
[null,null,null,null,null,null,null,null,null,null,""]
[null,null,null,null,null,null,null,null,null,null,""]
[null,null,null,null,null,null,null,null,null,null,""]
[null,null,null,null,null,null,null,null,null,null,""]
[null,null,null,null,null,null,null,null,null,null,""]
[null,null,null,null,null,null,null,null,null,null,""]
[null,null,null,null,null,null,null,null,null,null,""]
[null,null,null,null,null,null,null,null,null,null,""]
[null,null,null,null,null,null,null,null,null,null,""]
[null,null,null,null,null,null,null,null,null,null,""]
[null,null,null,null,null,null,null,null,null,null,""]
[null,null,null,null,null,null,null,null,null,null,""]
[null,null,null,null,null,null,null,null,null,null,""]
[null,null,null,null,null,null,null,null,null,null,""]
[null,null,null,null,null,null,null,null,null,null,""]
[null,null,null,null,null,null,null,null,null,null,""]
[null,null,null,null,null,null,null,null,null,null,""]
[null,null,null,null,null,null,null,null,null,null,""]
[null,null,null,null,null,null,null,null,null,null,""]
[null,null,null,null,null,null,null,null,null,null,""]
[null,null,null,null,null,null,null,null,null,null,""]
[null,null,null,null,null,null,null,null,null,null,""]
[null,null,null,null,null,null,null,null,null,null,""]
[null,null,null,null,null,null,null,null,null,null,""]
[null,null,null,null,null,null,null,null,null,null,""]
[null,null,null,null,null,null,null,null,null,null,""]
[null,null,null,null,null,null,null,null,null,null,""]
[null,null,null,null,null,null,null,null,null,null,""]
[null,null,null,null,null,null,null,null,null,null,""]
[null,null,null,null,null,null,null,null,null,null,""]
[null,null,null,null,null,null,null,null,null,null,""]
[null,null,null,null,null,null,null,null,null,null,""]
[null,null,null,null,null,null,null,null,null,null,""]
[null,null,null,null,null,null,null,null,null,null,""]
[null,null,null,null,null,null,null,null,null,null,""]
[null,null,null,null,null,null,null,null,null,null,""]
[null,null,null,null,null,null,null,null,null,null,""]
[null,null,null,null,null,null,null,null,null,null,""]
[null,null,null,null,null,null,null,null,null,null,""]
[null,null,null,null,null,null,null,null,null,null,""]
[null,null,null,null,null,null,null,null,null,null,""]
[null,null,null,null,null,null,null,null,null,null,""]
[null,null,null,null,null,null,null,null,null,null,""]
[null,null,null,null,null,null,null,null,null,null,""]
[null,null,null,null,null,null,null,null,null,null,""]
[null,null,null,null,null,null,null,null,null,null,""]
[null,null,null,null,null,null,null,null,null,null,""]
[null,null,null,null,null,null,null,null,null,null,""]
[null,null,null,null,null,null,null,null,null,null,""]
[null,null,null,null,null,null,null,null,null,null,""]
[null,null,null,null,null,null,null,null,null,null,""]
[null,null,null,null,null,null,null,null,null,null,""]
[null,null,null,null,null,null,null,null,null,null,""]
[null,null,null,null,null,null,null,null,null,null,""]
[null,null,null,null,null,null,null,null,null,null,{"$f":"IF(OR(I2206<>\"\",J2206<>\"\"),I2206+J2206,\"\")","v":""}]
[null,null,null,null,null,null,null,null,null,null,""]
[null,null,null,null,null,null,null,null,null,null,""]
[null,null,null,null,null,null,null,null,null,null,""]
[null,null,null,null,null,null,null,null,null,null,""]
[null,null,null,null,null,null,null,null,null,null,""]
[null,null,null,null,null,null,null,null,null,null,""]
[null,null,null,null,null,null,null,null,null,null,""]
[null,null,null,null,null,null,null,null,null,null,""]
[null,null,null,null,null,null,null,null,null,null,""]
[null,null,null,null,null,null,null,null,null,null,""]
[null,null,null,null,null,null,null,null,null,null,""]
[null,null,null,null,null,null,null,null,null,null,""]
[null,null,null,null,null,null,null,null,null,null,""]
[null,null,null,null,null,null,null,null,null,null,""]
[null,null,null,null,null,null,null,null,null,null,""]
[null,null,null,null,null,null,null,null,null,null,""]
[null,null,null,null,null,null,null,null,null,null,""]
[null,null,null,null,null,null,null,null,null,null,""]
[null,null,null,null,null,null,null,null,null,null,""]
[null,null,null,null,null,null,null,null,null,null,""]
[null,null,null,null,null,null,null,null,null,null,""]
[null,null,null,null,null,null,null,null,null,null,""]
[null,null,null,null,null,null,null,null,null,null,""]
[null,null,null,null,null,null,null,null,null,null,""]
[null,null,null,null,null,null,null,null,null,null,""]
[null,null,null,null,null,null,null,null,null,null,""]
[null,null,null,null,null,null,null,null,null,null,""]
[null,null,null,null,null,null,null,null,null,null,""]
[null,null,null,null,null,null,null,null,null,null,""]
[null,null,null,null,null,null,null,null,null,null,""]
[null,null,null,null,null,null,null,null,null,null,""]
[null,null,null,null,null,null,null,null,null,null,""]
[null,null,null,null,null,null,null,null,null,null,""]
[null,null,null,null,null,null,null,null,null,null,""]
[null,null,null,null,null,null,null,null,null,null,""]
[null,null,null,null,null,null,null,null,null,null,""]
[null,null,null,null,null,null,null,null,null,null,""]
[null,null,null,null,null,null,null,null,null,null,""]
[null,null,null,null,null,null,null,null,null,null,""]
[null,null,null,null,null,null,null,null,null,null,""]
[null,null,null,null,null,null,null,null,null,null,""]
[null,null,null,null,null,null,null,null,null,null,""]
[null,null,null,null,null,null,null,null,null,null,""]
[null,null,null,null,null,null,null,null,null,null,""]
[null,null,null,null,null,null,null,null,null,null,""]
[null,null,null,null,null,null,null,null,null,null,""]
[null,null,null,null,null,null,null,null,null,null,""]
[null,null,null,null,null,null,null,null,null,null,""]
[null,null,null,null,null,null,null,null,null,null,""]
[null,null,null,null,null,null,null,null,null,null,""]
[null,null,null,null,null,null,null,null,null,null,""]
[null,null,null,null,null,null,null,null,null,null,""]
[null,null,null,null,null,null,null,null,null,null,""]
[null,null,null,null,null,null,null,null,null,null,""]
[null,null,null,null,null,null,null,null,null,null,""]
[null,null,null,null,null,null,null,null,null,null,""]
[null,null,null,null,null,null,null,null,null,null,""]
[null,null,null,null,null,null,null,null,null,null,""]
[null,null,null,null,null,null,null,null,null,null,""]
[null,null,null,null,null,null,null,null,null,null,""]
[null,null,null,null,null,null,null,null,null,null,""]
[null,null,null,null,null,null,null,null,null,null,""]
[null,null,null,null,null,null,null,null,null,null,""]
[null,null,null,null,null,null,null,null,null,null,{"$f":"IF(OR(I2270<>\"\",J2270<>\"\"),I2270+J2270,\"\")","v":""}]
[null,null,null,null,null,null,null,null,null,null,""]
[null,null,null,null,null,null,null,null,null,null,""]
[null,null,null,null,null,null,null,null,null,null,""]
[null,null,null,null,null,null,null,null,null,null,""]
[null,null,null,null,null,null,null,null,null,null,""]
[null,null,null,null,null,null,null,null,null,null,""]
[null,null,null,null,null,null,null,null,null,null,""]
[null,null,null,null,null,null,null,null,null,null,""]
[null,null,null,null,null,null,null,null,null,null,""]
[null,null,null,null,null,null,null,null,null,null,""]
[null,null,null,null,null,null,null,null,null,null,""]
[null,null,null,null,null,null,null,null,null,null,""]
[null,null,null,null,null,null,null,null,null,null,""]
[null,null,null,null,null,null,null,null,null,null,""]
[null,null,null,null,null,null,null,null,null,null,""]
[null,null,null,null,null,null,null,null,null,null,""]
[null,null,null,null,null,null,null,null,null,null,""]
[null,null,null,null,null,null,null,null,null,null,""]
[null,null,null,null,null,null,null,null,null,null,""]
[null,null,null,null,null,null,null,null,null,null,""]
[null,null,null,null,null,null,null,null,null,null,""]
[null,null,null,null,null,null,null,null,null,null,""]
[null,null,null,null,null,null,null,null,null,null,""]
[null,null,null,null,null,null,null,null,null,null,""]
[null,null,null,null,null,null,null,null,null,null,""]
[null,null,null,null,null,null,null,null,null,null,""]
[null,null,null,null,null,null,null,null,null,null,""]
[null,null,null,null,null,null,null,null,null,null,""]
[null,null,null,null,null,null,null,null,null,null,""]
[null,null,null,null,null,null,null,null,null,null,""]
[null,null,null,null,null,null,null,null,null,null,""]
[null,null,null,null,null,null,null,null,null,null,""]
[null,null,null,null,null,null,null,null,null,null,""]
[null,null,null,null,null,null,null,null,null,null,""]
[null,null,null,null,null,null,null,null,null,null,""]
[null,null,null,null,null,null,null,null,null,null,""]
[null,null,null,null,null,null,null,null,null,null,""]
[null,null,null,null,null,null,null,null,null,null,""]
[null,null,null,null,null,null,null,null,null,null,""]
[null,null,null,null,null,null,null,null,null,null,""]
[null,null,null,null,null,null,null,null,null,null,""]
[null,null,null,null,null,null,null,null,null,null,""]
[null,null,null,null,null,null,null,null,null,null,""]
[null,null,null,null,null,null,null,null,null,null,""]
[null,null,null,null,null,null,null,null,null,null,""]
[null,null,null,null,null,null,null,null,null,null,""]
[null,null,null,null,null,null,null,null,null,null,""]
[null,null,null,null,null,null,null,null,null,null,""]
[null,null,null,null,null,null,null,null,null,null,""]
[null,null,null,null,null,null,null,null,null,null,""]
[null,null,null,null,null,null,null,null,null,null,""]
[null,null,null,null,null,null,null,null,null,null,""]
[null,null,null,null,null,null,null,null,null,null,""]
[null,null,null,null,null,null,null,null,null,null,""]
[null,null,null,null,null,null,null,null,null,null,""]
[null,null,null,null,null,null,null,null,null,null,""]
[null,null,null,null,null,null,null,null,null,null,""]
[null,null,null,null,null,null,null,null,null,null,""]
[null,null,null,null,null,null,null,null,null,null,""]
[null,null,null,null,null,null,null,null,null,null,""]
[null,null,null,null,null,null,null,null,null,null,""]
[null,null,null,null,null,null,null,null,null,null,""]
[null,null,null,null,null,null,null,null,null,null,""]
[null,null,null,null,null,null,null,null,null,null,{"$f":"IF(OR(I2334<>\"\",J2334<>\"\"),I2334+J2334,\"\")","v":""}]
[null,null,null,null,null,null,null,null,null,null,""]
[null,null,null,null,null,null,null,null,null,null,""]
[null,null,null,null,null,null,null,null,null,null,""]
[null,null,null,null,null,null,null,null,null,null,""]
[null,null,null,null,null,null,null,null,null,null,""]
[null,null,null,null,null,null,null,null,null,null,""]
[null,null,null,null,null,null,null,null,null,null,""]
[null,null,null,null,null,null,null,null,null,null,""]
[null,null,null,null,null,null,null,null,null,null,""]
[null,null,null,null,null,null,null,null,null,null,""]
[null,null,null,null,null,null,null,null,null,null,""]
[null,null,null,null,null,null,null,null,null,null,""]
[null,null,null,null,null,null,null,null,null,null,""]
[null,null,null,null,null,null,null,null,null,null,""]
[null,null,null,null,null,null,null,null,null,null,""]
[null,null,null,null,null,null,null,null,null,null,""]
[null,null,null,null,null,null,null,null,null,null,""]
[null,null,null,null,null,null,null,null,null,null,""]
[null,null,null,null,null,null,null,null,null,null,""]
[null,null,null,null,null,null,null,null,null,null,""]
[null,null,null,null,null,null,null,null,null,null,""]
[null,null,null,null,null,null,null,null,null,null,""]
[null,null,null,null,null,null,null,null,null,null,""]
[null,null,null,null,null,null,null,null,null,null,""]
[null,null,null,null,null,null,null,null,null,null,""]
[null,null,null,null,null,null,null,null,null,null,""]
[null,null,null,null,null,null,null,null,null,null,""]
[null,null,null,null,null,null,null,null,null,null,""]
[null,null,null,null,null,null,null,null,null,null,""]
[null,null,null,null,null,null,null,null,null,null,""]
[null,null,null,null,null,null,null,null,null,null,""]
[null,null,null,null,null,null,null,null,null,null,""]
[null,null,null,null,null,null,null,null,null,null,""]
[null,null,null,null,null,null,null,null,null,null,""]
[null,null,null,null,null,null,null,null,null,null,""]
[null,null,null,null,null,null,null,null,null,null,""]
[null,null,null,null,null,null,null,null,null,null,""]
[null,null,null,null,null,null,null,null,null,null,""]
[null,null,null,null,null,null,null,null,null,null,""]
[null,null,null,null,null,null,null,null,null,null,""]
[null,null,null,null,null,null,null,null,null,null,""]
[null,null,null,null,null,null,null,null,null,null,""]
[null,null,null,null,null,null,null,null,null,null,""]
[null,null,null,null,null,null,null,null,null,null,""]
[null,null,null,null,null,null,null,null,null,null,""]
[null,null,null,null,null,null,null,null,null,null,""]
[null,null,null,null,null,null,null,null,null,null,""]
[null,null,null,null,null,null,null,null,null,null,""]
[null,null,null,null,null,null,null,null,null,null,""]
[null,null,null,null,null,null,null,null,null,null,""]
[null,null,null,null,null,null,null,null,null,null,""]
[null,null,null,null,null,null,null,null,null,null,""]
[null,null,null,null,null,null,null,null,null,null,""]
[null,null,null,null,null,null,null,null,null,null,""]
[null,null,null,null,null,null,null,null,null,null,""]
[null,null,null,null,null,null,null,null,null,null,""]
[null,null,null,null,null,null,null,null,null,null,""]
[null,null,null,null,null,null,null,null,null,null,""]
[null,null,null,null,null,null,null,null,null,null,""]
[null,null,null,null,null,null,null,null,null,null,""]
[null,null,null,null,null,null,null,null,null,null,""]
[null,null,null,null,null,null,null,null,null,null,""]
[null,null,null,null,null,null,null,null,null,null,""]
[null,null,null,null,null,null,null,null,null,null,{"$f":"IF(OR(I2398<>\"\",J2398<>\"\"),I2398+J2398,\"\")","v":""}]
[null,null,null,null,null,null,null,null,null,null,""]
[null,null,null,null,null,null,null,null,null,null,""]
[null,null,null,null,null,null,null,null,null,null,""]
[null,null,null,null,null,null,null,null,null,null,""]
[null,null,null,null,null,null,null,null,null,null,""]
[null,null,null,null,null,null,null,null,null,null,""]
[null,null,null,null,null,null,null,null,null,null,""]
[null,null,null,null,null,null,null,null,null,null,""]
[null,null,null,null,null,null,null,null,null,null,""]
[null,null,null,null,null,null,null,null,null,null,""]
[null,null,null,null,null,null,null,null,null,null,""]
[null,null,null,null,null,null,null,null,null,null,""]
[null,null,null,null,null,null,null,null,null,null,""]
[null,null,null,null,null,null,null,null,null,null,""]
[null,null,null,null,null,null,null,null,null,null,""]
[null,null,null,null,null,null,null,null,null,null,""]
[null,null,null,null,null,null,null,null,null,null,""]
[null,null,null,null,null,null,null,null,null,null,""]
[null,null,null,null,null,null,null,null,null,null,""]
[null,null,null,null,null,null,null,null,null,null,""]
[null,null,null,null,null,null,null,null,null,null,""]
[null,null,null,null,null,null,null,null,null,null,""]
[null,null,null,null,null,null,null,null,null,null,""]
[null,null,null,null,null,null,null,null,null,null,""]
[null,null,null,null,null,null,null,null,null,null,""]
[null,null,null,null,null,null,null,null,null,null,""]
[null,null,null,null,null,null,null,null,null,null,""]
[null,null,null,null,null,null,null,null,null,null,""]
[null,null,null,null,null,null,null,null,null,null,""]
[null,null,null,null,null,null,null,null,null,null,""]
[null,null,null,null,null,null,null,null,null,null,""]
[null,null,null,null,null,null,null,null,null,null,""]
[null,null,null,null,null,null,null,null,null,null,""]
[null,null,null,null,null,null,null,null,null,null,""]
[null,null,null,null,null,null,null,null,null,null,""]
[null,null,null,null,null,null,null,null,null,null,""]
[null,null,null,null,null,null,null,null,null,null,""]
[null,null,null,null,null,null,null,null,null,null,""]
[null,null,null,null,null,null,null,null,null,null,""]
[null,null,null,null,null,null,null,null,null,null,""]
[null,null,null,null,null,null,null,null,null,null,""]
[null,null,null,null,null,null,null,null,null,null,""]
[null,null,null,null,null,null,null,null,null,null,""]
[null,null,null,null,null,null,null,null,null,null,""]
[null,null,null,null,null,null,null,null,null,null,""]
[null,null,null,null,null,null,null,null,null,null,""]
[null,null,null,null,null,null,null,null,null,null,""]
[null,null,null,null,null,null,null,null,null,null,""]
[null,null,null,null,null,null,null,null,null,null,""]
[null,null,null,null,null,null,null,null,null,null,""]
[null,null,null,null,null,null,null,null,null,null,""]
[null,null,null,null,null,null,null,null,null,null,""]
[null,null,null,null,null,null,null,null,null,null,""]
[null,null,null,null,null,null,null,null,null,null,""]
[null,null,null,null,null,null,null,null,null,null,""]
[null,null,null,null,null,null,null,null,null,null,""]
[null,null,null,null,null,null,null,null,null,null,""]
[null,null,null,null,null,null,null,null,null,null,""]
[null,null,null,null,null,null,null,null,null,null,""]
[null,null,null,null,null,null,null,null,null,null,""]
[null,null,null,null,null,null,null,null,null,null,""]
[null,null,null,null,null,null,null,null,null,null,""]
[null,null,null,null,null,null,null,null,null,null,""]
[null,null,null,null,null,null,null,null,null,null,{"$f":"IF(OR(I2462<>\"\",J2462<>\"\"),I2462+J2462,\"\")","v":""}]
[null,null,null,null,null,null,null,null,null,null,""]
[null,null,null,null,null,null,null,null,null,null,""]
[null,null,null,null,null,null,null,null,null,null,""]
[null,null,null,null,null,null,null,null,null,null,""]
[null,null,null,null,null,null,null,null,null,null,""]
[null,null,null,null,null,null,null,null,null,null,""]
[null,null,null,null,null,null,null,null,null,null,""]
[null,null,null,null,null,null,null,null,null,null,""]
[null,null,null,null,null,null,null,null,null,null,""]
[null,null,null,null,null,null,null,null,null,null,""]
[null,null,null,null,null,null,null,null,null,null,""]
[null,null,null,null,null,null,null,null,null,null,""]
[null,null,null,null,null,null,null,null,null,null,""]
[null,null,null,null,null,null,null,null,null,null,""]
[null,null,null,null,null,null,null,null,null,null,""]
[null,null,null,null,null,null,null,null,null,null,""]
[null,null,null,null,null,null,null,null,null,null,""]
[null,null,null,null,null,null,null,null,null,null,""]
[null,null,null,null,null,null,null,null,null,null,""]
[null,null,null,null,null,null,null,null,null,null,""]
[null,null,null,null,null,null,null,null,null,null,""]
[null,null,null,null,null,null,null,null,null,null,""]
[null,null,null,null,null,null,null,null,null,null,""]
[null,null,null,null,null,null,null,null,null,null,""]
[null,null,null,null,null,null,null,null,null,null,""]
[null,null,null,null,null,null,null,null,null,null,""]
[null,null,null,null,null,null,null,null,null,null,""]
[null,null,null,null,null,null,null,null,null,null,""]
[null,null,null,null,null,null,null,null,null,null,""]
[null,null,null,null,null,null,null,null,null,null,""]
[null,null,null,null,null,null,null,null,null,null,""]
[null,null,null,null,null,null,null,null,null,null,""]
[null,null,null,null,null,null,null,null,null,null,""]
[null,null,null,null,null,null,null,null,null,null,""]
[null,null,null,null,null,null,null,null,null,null,""]
[null,null,null,null,null,null,null,null,null,null,""]
[null,null,null,null,null,null,null,null,null,null,""]
[null,null,null,null,null,null,null,null,null,null,""]
[null,null,null,null,null,null,null,null,null,null,""]
[null,null,null,null,null,null,null,null,null,null,""]
[null,null,null,null,null,null,null,null,null,null,""]
[null,null,null,null,null,null,null,null,null,null,""]
[null,null,null,null,null,null,null,null,null,null,""]
[null,null,null,null,null,null,null,null,null,null,""]
[null,null,null,null,null,null,null,null,null,null,""]
[null,null,null,null,null,null,null,null,null,null,""]
[null,null,null,null,null,null,null,null,null,null,""]
[null,null,null,null,null,null,null,null,null,null,""]
[null,null,null,null,null,null,null,null,null,null,""]
[null,null,null,null,null,null,null,null,null,null,""]
[null,null,null,null,null,null,null,null,null,null,""]
[null,null,null,null,null,null,null,null,null,null,""]
[null,null,null,null,null,null,null,null,null,null,""]
[null,null,null,null,null,null,null,null,null,null,""]
[null,null,null,null,null,null,null,null,null,null,""]
[null,null,null,null,null,null,null,null,null,null,""]
[null,null,null,null,null,null,null,null,null,null,""]
[null,null,null,null,null,null,null,null,null,null,""]
[null,null,null,null,null,null,null,null,null,null,""]
[null,null,null,null,null,null,null,null,null,null,""]
[null,null,null,null,null,null,null,null,null,null,""]
[null,null,null,null,null,null,null,null,null,null,""]
[null,null,null,null,null,null,null,null,null,null,""]
[null,null,null,null,null,null,null,null,null,null,{"$f":"IF(OR(I2526<>\"\",J2526<>\"\"),I2526+J2526,\"\")","v":""}]
[null,null,null,null,null,null,null,null,null,null,""]
[null,null,null,null,null,null,null,null,null,null,""]
[null,null,null,null,null,null,null,null,null,null,""]
[null,null,null,null,null,null,null,null,null,null,""]
[null,null,null,null,null,null,null,null,null,null,""]
[null,null,null,null,null,null,null,null,null,null,""]
[null,null,null,null,null,null,null,null,null,null,""]
[null,null,null,null,null,null,null,null,null,null,""]
[null,null,null,null,null,null,null,null,null,null,""]
[null,null,null,null,null,null,null,null,null,null,""]
[null,null,null,null,null,null,null,null,null,null,""]
[null,null,null,null,null,null,null,null,null,null,""]
[null,null,null,null,null,null,null,null,null,null,""]
[null,null,null,null,null,null,null,null,null,null,""]
[null,null,null,null,null,null,null,null,null,null,""]
[null,null,null,null,null,null,null,null,null,null,""]
[null,null,null,null,null,null,null,null,null,null,""]
[null,null,null,null,null,null,null,null,null,null,""]
[null,null,null,null,null,null,null,null,null,null,""]
[null,null,null,null,null,null,null,null,null,null,""]
[null,null,null,null,null,null,null,null,null,null,""]
[null,null,null,null,null,null,null,null,null,null,""]
[null,null,null,null,null,null,null,null,null,null,""]
[null,null,null,null,null,null,null,null,null,null,""]
[null,null,null,null,null,null,null,null,null,null,""]
[null,null,null,null,null,null,null,null,null,null,""]
[null,null,null,null,null,null,null,null,null,null,""]
[null,null,null,null,null,null,null,null,null,null,""]
[null,null,null,null,null,null,null,null,null,null,""]
[null,null,null,null,null,null,null,null,null,null,""]
[null,null,null,null,null,null,null,null,null,null,""]
[null,null,null,null,null,null,null,null,null,null,""]
[null,null,null,null,null,null,null,null,null,null,""]
[null,null,null,null,null,null,null,null,null,null,""]
[null,null,null,null,null,null,null,null,null,null,""]
[null,null,null,null,null,null,null,null,null,null,""]
[null,null,null,null,null,null,null,null,null,null,""]
[null,null,null,null,null,null,null,null,null,null,""]
[null,null,null,null,null,null,null,null,null,null,""]
[null,null,null,null,null,null,null,null,null,null,""]
[null,null,null,null,null,null,null,null,null,null,""]
[null,null,null,null,null,null,null,null,null,null,""]
[null,null,null,null,null,null,null,null,null,null,""]
[null,null,null,null,null,null,null,null,null,null,""]
[null,null,null,null,null,null,null,null,null,null,""]
[null,null,null,null,null,null,null,null,null,null,""]
[null,null,null,null,null,null,null,null,null,null,""]
[null,null,null,null,null,null,null,null,null,null,""]
[null,null,null,null,null,null,null,null,null,null,""]
[null,null,null,null,null,null,null,null,null,null,""]
[null,null,null,null,null,null,null,null,null,null,""]
[null,null,null,null,null,null,null,null,null,null,""]
[null,null,null,null,null,null,null,null,null,null,""]
[null,null,null,null,null,null,null,null,null,null,""]
[null,null,null,null,null,null,null,null,null,null,""]
[null,null,null,null,null,null,null,null,null,null,""]
[null,null,null,null,null,null,null,null,null,null,""]
[null,null,null,null,null,null,null,null,null,null,""]
[null,null,null,null,null,null,null,null,null,null,""]
[null,null,null,null,null,null,null,null,null,null,""]
[null,null,null,null,null,null,null,null,null,null,""]
[null,null,null,null,null,null,null,null,null,null,""]
[null,null,null,null,null,null,null,null,null,null,""]
[null,null,null,null,null,null,null,null,null,null,{"$f":"IF(OR(I2590<>\"\",J2590<>\"\"),I2590+J2590,\"\")","v":""}]
[null,null,null,null,null,null,null,null,null,null,""]
[null,null,null,null,null,null,null,null,null,null,""]
[null,null,null,null,null,null,null,null,null,null,""]
[null,null,null,null,null,null,null,null,null,null,""]
[null,null,null,null,null,null,null,null,null,null,""]
[null,null,null,null,null,null,null,null,null,null,""]
[null,null,null,null,null,null,null,null,null,null,""]
[null,null,null,null,null,null,null,null,null,null,""]
[null,null,null,null,null,null,null,null,null,null,""]
[null,null,null,null,null,null,null,null,null,null,""]
[null,null,null,null,null,null,null,null,null,null,""]
[null,null,null,null,null,null,null,null,null,null,""]
[null,null,null,null,null,null,null,null,null,null,""]
[null,null,null,null,null,null,null,null,null,null,""]
[null,null,null,null,null,null,null,null,null,null,""]
[null,null,null,null,null,null,null,null,null,null,""]
[null,null,null,null,null,null,null,null,null,null,""]
[null,null,null,null,null,null,null,null,null,null,""]
[null,null,null,null,null,null,null,null,null,null,""]
[null,null,null,null,null,null,null,null,null,null,""]
[null,null,null,null,null,null,null,null,null,null,""]
[null,null,null,null,null,null,null,null,null,null,""]
[null,null,null,null,null,null,null,null,null,null,""]
[null,null,null,null,null,null,null,null,null,null,""]
[null,null,null,null,null,null,null,null,null,null,""]
[null,null,null,null,null,null,null,null,null,null,""]
[null,null,null,null,null,null,null,null,null,null,""]
[null,null,null,null,null,null,null,null,null,null,""]
[null,null,null,null,null,null,null,null,null,null,""]
[null,null,null,null,null,null,null,null,null,null,""]
[null,null,null,null,null,null,null,null,null,null,""]
[null,null,null,null,null,null,null,null,null,null,""]
[null,null,null,null,null,null,null,null,null,null,""]
[null,null,null,null,null,null,null,null,null,null,""]
[null,null,null,null,null,null,null,null,null,null,""]
[null,null,null,null,null,null,null,null,null,null,""]
[null,null,null,null,null,null,null,null,null,null,""]
[null,null,null,null,null,null,null,null,null,null,""]
[null,null,null,null,null,null,null,null,null,null,""]
[null,null,null,null,null,null,null,null,null,null,""]
[null,null,null,null,null,null,null,null,null,null,""]
[null,null,null,null,null,null,null,null,null,null,""]
[null,null,null,null,null,null,null,null,null,null,""]
[null,null,null,null,null,null,null,null,null,null,""]
[null,null,null,null,null,null,null,null,null,null,""]
[null,null,null,null,null,null,null,null,null,null,""]
[null,null,null,null,null,null,null,null,null,null,""]
[null,null,null,null,null,null,null,null,null,null,""]
[null,null,null,null,null,null,null,null,null,null,""]
[null,null,null,null,null,null,null,null,null,null,""]
[null,null,null,null,null,null,null,null,null,null,""]
[null,null,null,null,null,null,null,null,null,null,""]
[null,null,null,null,null,null,null,null,null,null,""]
[null,null,null,null,null,null,null,null,null,null,""]
[null,null,null,null,null,null,null,null,null,null,""]
[null,null,null,null,null,null,null,null,null,null,""]
[null,null,null,null,null,null,null,null,null,null,""]
[null,null,null,null,null,null,null,null,null,null,""]
[null,null,null,null,null,null,null,null,null,null,""]
[null,null,null,null,null,null,null,null,null,null,""]
[null,null,null,null,null,null,null,null,null,null,""]
[null,null,null,null,null,null,null,null,null,null,""]
[null,null,null,null,null,null,null,null,null,null,""]
[null,null,null,null,null,null,null,null,null,null,{"$f":"IF(OR(I2654<>\"\",J2654<>\"\"),I2654+J2654,\"\")","v":""}]
[null,null,null,null,null,null,null,null,null,null,""]
[null,null,null,null,null,null,null,null,null,null,""]
[null,null,null,null,null,null,null,null,null,null,""]
[null,null,null,null,null,null,null,null,null,null,""]
[null,null,null,null,null,null,null,null,null,null,""]
[null,null,null,null,null,null,null,null,null,null,""]
[null,null,null,null,null,null,null,null,null,null,""]
[null,null,null,null,null,null,null,null,null,null,""]
[null,null,null,null,null,null,null,null,null,null,""]
[null,null,null,null,null,null,null,null,null,null,""]
[null,null,null,null,null,null,null,null,null,null,""]
[null,null,null,null,null,null,null,null,null,null,""]
[null,null,null,null,null,null,null,null,null,null,""]
[null,null,null,null,null,null,null,null,null,null,""]
[null,null,null,null,null,null,null,null,null,null,""]
[null,null,null,null,null,null,null,null,null,null,""]
[null,null,null,null,null,null,null,null,null,null,""]
[null,null,null,null,null,null,null,null,null,null,""]
[null,null,null,null,null,null,null,null,null,null,""]
[null,null,null,null,null,null,null,null,null,null,""]
[null,null,null,null,null,null,null,null,null,null,""]
[null,null,null,null,null,null,null,null,null,null,""]
[null,null,null,null,null,null,null,null,null,null,""]
[null,null,null,null,null,null,null,null,null,null,""]
[null,null,null,null,null,null,null,null,null,null,""]
[null,null,null,null,null,null,null,null,null,null,""]
[null,null,null,null,null,null,null,null,null,null,""]
[null,null,null,null,null,null,null,null,null,null,""]
[null,null,null,null,null,null,null,null,null,null,""]
[null,null,null,null,null,null,null,null,null,null,""]
[null,null,null,null,null,null,null,null,null,null,""]
[null,null,null,null,null,null,null,null,null,null,""]
[null,null,null,null,null,null,null,null,null,null,""]
[null,null,null,null,null,null,null,null,null,null,""]
[null,null,null,null,null,null,null,null,null,null,""]
[null,null,null,null,null,null,null,null,null,null,""]
[null,null,null,null,null,null,null,null,null,null,""]
[null,null,null,null,null,null,null,null,null,null,""]
[null,null,null,null,null,null,null,null,null,null,""]
[null,null,null,null,null,null,null,null,null,null,""]
[null,null,null,null,null,null,null,null,null,null,""]
[null,null,null,null,null,null,null,null,null,null,""]
[null,null,null,null,null,null,null,null,null,null,""]
[null,null,null,null,null,null,null,null,null,null,""]
[null,null,null,null,null,null,null,null,null,null,""]
[null,null,null,null,null,null,null,null,null,null,""]
[null,null,null,null,null,null,null,null,null,null,""]
[null,null,null,null,null,null,null,null,null,null,""]
[null,null,null,null,null,null,null,null,null,null,""]
[null,null,null,null,null,null,null,null,null,null,""]
[null,null,null,null,null,null,null,null,null,null,""]
[null,null,null,null,null,null,null,null,null,null,""]
[null,null,null,null,null,null,null,null,null,null,""]
[null,null,null,null,null,null,null,null,null,null,""]
[null,null,null,null,null,null,null,null,null,null,""]
[null,null,null,null,null,null,null,null,null,null,""]
[null,null,null,null,null,null,null,null,null,null,""]
[null,null,null,null,null,null,null,null,null,null,""]
[null,null,null,null,null,null,null,null,null,null,""]
[null,null,null,null,null,null,null,null,null,null,""]
[null,null,null,null,null,null,null,null,null,null,""]
[null,null,null,null,null,null,null,null,null,null,""]
[null,null,null,null,null,null,null,null,null,null,""]
[null,null,null,null,null,null,null,null,null,null,{"$f":"IF(OR(I2718<>\"\",J2718<>\"\"),I2718+J2718,\"\")","v":""}]
[null,null,null,null,null,null,null,null,null,null,""]
[null,null,null,null,null,null,null,null,null,null,""]
[null,null,null,null,null,null,null,null,null,null,""]
[null,null,null,null,null,null,null,null,null,null,""]
[null,null,null,null,null,null,null,null,null,null,""]
[null,null,null,null,null,null,null,null,null,null,""]
[null,null,null,null,null,null,null,null,null,null,""]
[null,null,null,null,null,null,null,null,null,null,""]
[null,null,null,null,null,null,null,null,null,null,""]
[null,null,null,null,null,null,null,null,null,null,""]
[null,null,null,null,null,null,null,null,null,null,""]
[null,null,null,null,null,null,null,null,null,null,""]
[null,null,null,null,null,null,null,null,null,null,""]
[null,null,null,null,null,null,null,null,null,null,""]
[null,null,null,null,null,null,null,null,null,null,""]
[null,null,null,null,null,null,null,null,null,null,""]
[null,null,null,null,null,null,null,null,null,null,""]
[null,null,null,null,null,null,null,null,null,null,""]
[null,null,null,null,null,null,null,null,null,null,""]
[null,null,null,null,null,null,null,null,null,null,""]
[null,null,null,null,null,null,null,null,null,null,""]
[null,null,null,null,null,null,null,null,null,null,""]
[null,null,null,null,null,null,null,null,null,null,""]
[null,null,null,null,null,null,null,null,null,null,""]
[null,null,null,null,null,null,null,null,null,null,""]
[null,null,null,null,null,null,null,null,null,null,""]
[null,null,null,null,null,null,null,null,null,null,""]
[null,null,null,null,null,null,null,null,null,null,""]
[null,null,null,null,null,null,null,null,null,null,""]
[null,null,null,null,null,null,null,null,null,null,""]
[null,null,null,null,null,null,null,null,null,null,""]
[null,null,null,null,null,null,null,null,null,null,""]
[null,null,null,null,null,null,null,null,null,null,""]
[null,null,null,null,null,null,null,null,null,null,""]
[null,null,null,null,null,null,null,null,null,null,""]
[null,null,null,null,null,null,null,null,null,null,""]
[null,null,null,null,null,null,null,null,null,null,""]
[null,null,null,null,null,null,null,null,null,null,""]
[null,null,null,null,null,null,null,null,null,null,""]
[null,null,null,null,null,null,null,null,null,null,""]
[null,null,null,null,null,null,null,null,null,null,""]
[null,null,null,null,null,null,null,null,null,null,""]
[null,null,null,null,null,null,null,null,null,null,""]
[null,null,null,null,null,null,null,null,null,null,""]
[null,null,null,null,null,null,null,null,null,null,""]
[null,null,null,null,null,null,null,null,null,null,""]
[null,null,null,null,null,null,null,null,null,null,""]
[null,null,null,null,null,null,null,null,null,null,""]
[null,null,null,null,null,null,null,null,null,null,""]
[null,null,null,null,null,null,null,null,null,null,""]
[null,null,null,null,null,null,null,null,null,null,""]
[null,null,null,null,null,null,null,null,null,null,""]
[null,null,null,null,null,null,null,null,null,null,""]
[null,null,null,null,null,null,null,null,null,null,""]
[null,null,null,null,null,null,null,null,null,null,""]
[null,null,null,null,null,null,null,null,null,null,""]
[null,null,null,null,null,null,null,null,null,null,""]
[null,null,null,null,null,null,null,null,null,null,""]
[null,null,null,null,null,null,null,null,null,null,""]
[null,null,null,null,null,null,null,null,null,null,""]
[null,null,null,null,null,null,null,null,null,null,""]
[null,null,null,null,null,null,null,null,null,null,""]
[null,null,null,null,null,null,null,null,null,null,""]
[null,null,null,null,null,null,null,null,null,null,{"$f":"IF(OR(I2782<>\"\",J2782<>\"\"),I2782+J2782,\"\")","v":""}]
[null,null,null,null,null,null,null,null,null,null,""]
[null,null,null,null,null,null,null,null,null,null,""]
[null,null,null,null,null,null,null,null,null,null,""]
[null,null,null,null,null,null,null,null,null,null,""]
[null,null,null,null,null,null,null,null,null,null,""]
[null,null,null,null,null,null,null,null,null,null,""]
[null,null,null,null,null,null,null,null,null,null,""]
[null,null,null,null,null,null,null,null,null,null,""]
[null,null,null,null,null,null,null,null,null,null,""]
[null,null,null,null,null,null,null,null,null,null,""]
[null,null,null,null,null,null,null,null,null,null,""]
[null,null,null,null,null,null,null,null,null,null,""]
[null,null,null,null,null,null,null,null,null,null,""]
[null,null,null,null,null,null,null,null,null,null,""]
[null,null,null,null,null,null,null,null,null,null,""]
[null,null,null,null,null,null,null,null,null,null,""]
[null,null,null,null,null,null,null,null,null,null,""]
[null,null,null,null,null,null,null,null,null,null,""]
[null,null,null,null,null,null,null,null,null,null,""]
[null,null,null,null,null,null,null,null,null,null,""]
[null,null,null,null,null,null,null,null,null,null,""]
[null,null,null,null,null,null,null,null,null,null,""]
[null,null,null,null,null,null,null,null,null,null,""]
[null,null,null,null,null,null,null,null,null,null,""]
[null,null,null,null,null,null,null,null,null,null,""]
[null,null,null,null,null,null,null,null,null,null,""]
[null,null,null,null,null,null,null,null,null,null,""]
[null,null,null,null,null,null,null,null,null,null,""]
[null,null,null,null,null,null,null,null,null,null,""]
[null,null,null,null,null,null,null,null,null,null,""]
[null,null,null,null,null,null,null,null,null,null,""]
[null,null,null,null,null,null,null,null,null,null,""]
[null,null,null,null,null,null,null,null,null,null,""]
[null,null,null,null,null,null,null,null,null,null,""]
[null,null,null,null,null,null,null,null,null,null,""]
[null,null,null,null,null,null,null,null,null,null,""]
[null,null,null,null,null,null,null,null,null,null,""]
[null,null,null,null,null,null,null,null,null,null,""]
[null,null,null,null,null,null,null,null,null,null,""]
[null,null,null,null,null,null,null,null,null,null,""]
[null,null,null,null,null,null,null,null,null,null,""]
[null,null,null,null,null,null,null,null,null,null,""]
[null,null,null,null,null,null,null,null,null,null,""]
[null,null,null,null,null,null,null,null,null,null,""]
[null,null,null,null,null,null,null,null,null,null,""]
[null,null,null,null,null,null,null,null,null,null,""]
[null,null,null,null,null,null,null,null,null,null,""]
[null,null,null,null,null,null,null,null,null,null,""]
[null,null,null,null,null,null,null,null,null,null,""]
[null,null,null,null,null,null,null,null,null,null,""]
[null,null,null,null,null,null,null,null,null,null,""]
[null,null,null,null,null,null,null,null,null,null,""]
[null,null,null,null,null,null,null,null,null,null,""]
[null,null,null,null,null,null,null,null,null,null,""]
[null,null,null,null,null,null,null,null,null,null,""]
[null,null,null,null,null,null,null,null,null,null,""]
[null,null,null,null,null,null,null,null,null,null,""]
[null,null,null,null,null,null,null,null,null,null,""]
[null,null,null,null,null,null,null,null,null,null,""]
[null,null,null,null,null,null,null,null,null,null,""]
[null,null,null,null,null,null,null,null,null,null,""]
[null,null,null,null,null,null,null,null,null,null,""]
[null,null,null,null,null,null,null,null,null,null,""]
[null,null,null,null,null,null,null,null,null,null,{"$f":"IF(OR(I2846<>\"\",J2846<>\"\"),I2846+J2846,\"\")","v":""}]
[null,null,null,null,null,null,null,null,null,null,""]
[null,null,null,null,null,null,null,null,null,null,""]
[null,null,null,null,null,null,null,null,null,null,""]
[null,null,null,null,null,null,null,null,null,null,""]
[null,null,null,null,null,null,null,null,null,null,""]
[null,null,null,null,null,null,null,null,null,null,""]
[null,null,null,null,null,null,null,null,null,null,""]
[null,null,null,null,null,null,null,null,null,null,""]
[null,null,null,null,null,null,null,null,null,null,""]
[null,null,null,null,null,null,null,null,null,null,""]
[null,null,null,null,null,null,null,null,null,null,""]
[null,null,null,null,null,null,null,null,null,null,""]
[null,null,null,null,null,null,null,null,null,null,""]
[null,null,null,null,null,null,null,null,null,null,""]
[null,null,null,null,null,null,null,null,null,null,""]
[null,null,null,null,null,null,null,null,null,null,""]
[null,null,null,null,null,null,null,null,null,null,""]
[null,null,null,null,null,null,null,null,null,null,""]
[null,null,null,null,null,null,null,null,null,null,""]
[null,null,null,null,null,null,null,null,null,null,""]
[null,null,null,null,null,null,null,null,null,null,""]
[null,null,null,null,null,null,null,null,null,null,""]
[null,null,null,null,null,null,null,null,null,null,""]
[null,null,null,null,null,null,null,null,null,null,""]
[null,null,null,null,null,null,null,null,null,null,""]
[null,null,null,null,null,null,null,null,null,null,""]
[null,null,null,null,null,null,null,null,null,null,""]
[null,null,null,null,null,null,null,null,null,null,""]
[null,null,null,null,null,null,null,null,null,null,""]
[null,null,null,null,null,null,null,null,null,null,""]
[null,null,null,null,null,null,null,null,null,null,""]
[null,null,null,null,null,null,null,null,null,null,""]
[null,null,null,null,null,null,null,null,null,null,""]
[null,null,null,null,null,null,null,null,null,null,""]
[null,null,null,null,null,null,null,null,null,null,""]
[null,null,null,null,null,null,null,null,null,null,""]
[null,null,null,null,null,null,null,null,null,null,""]
[null,null,null,null,null,null,null,null,null,null,""]
[null,null,null,null,null,null,null,null,null,null,""]
[null,null,null,null,null,null,null,null,null,null,""]
[null,null,null,null,null,null,null,null,null,null,""]
[null,null,null,null,null,null,null,null,null,null,""]
[null,null,null,null,null,null,null,null,null,null,""]
[null,null,null,null,null,null,null,null,null,null,""]
[null,null,null,null,null,null,null,null,null,null,""]
[null,null,null,null,null,null,null,null,null,null,""]
[null,null,null,null,null,null,null,null,null,null,""]
[null,null,null,null,null,null,null,null,null,null,""]
[null,null,null,null,null,null,null,null,null,null,""]
[null,null,null,null,null,null,null,null,null,null,""]
[null,null,null,null,null,null,null,null,null,null,""]
[null,null,null,null,null,null,null,null,null,null,""]
[null,null,null,null,null,null,null,null,null,null,""]
[null,null,null,null,null,null,null,null,null,null,""]
[null,null,null,null,null,null,null,null,null,null,""]
[null,null,null,null,null,null,null,null,null,null,""]
[null,null,null,null,null,null,null,null,null,null,""]
[null,null,null,null,null,null,null,null,null,null,""]
[null,null,null,null,null,null,null,null,null,null,""]
[null,null,null,null,null,null,null,null,null,null,""]
[null,null,null,null,null,null,null,null,null,null,""]
[null,null,null,null,null,null,null,null,null,null,""]
[null,null,null,null,null,null,null,null,null,null,""]
[null,null,null,null,null,null,null,null,null,null,{"$f":"IF(OR(I2910<>\"\",J2910<>\"\"),I2910+J2910,\"\")","v":""}]
[null,null,null,null,null,null,null,null,null,null,""]
[null,null,null,null,null,null,null,null,null,null,""]
[null,null,null,null,null,null,null,null,null,null,""]
[null,null,null,null,null,null,null,null,null,null,""]
[null,null,null,null,null,null,null,null,null,null,""]
[null,null,null,null,null,null,null,null,null,null,""]
[null,null,null,null,null,null,null,null,null,null,""]
[null,null,null,null,null,null,null,null,null,null,""]
[null,null,null,null,null,null,null,null,null,null,""]
[null,null,null,null,null,null,null,null,null,null,""]
[null,null,null,null,null,null,null,null,null,null,""]
[null,null,null,null,null,null,null,null,null,null,""]
[null,null,null,null,null,null,null,null,null,null,""]
[null,null,null,null,null,null,null,null,null,null,""]
[null,null,null,null,null,null,null,null,null,null,""]
[null,null,null,null,null,null,null,null,null,null,""]
[null,null,null,null,null,null,null,null,null,null,""]
[null,null,null,null,null,null,null,null,null,null,""]
[null,null,null,null,null,null,null,null,null,null,""]
[null,null,null,null,null,null,null,null,null,null,""]
[null,null,null,null,null,null,null,null,null,null,""]
[null,null,null,null,null,null,null,null,null,null,""]
[null,null,null,null,null,null,null,null,null,null,""]
[null,null,null,null,null,null,null,null,null,null,""]
[null,null,null,null,null,null,null,null,null,null,""]
[null,null,null,null,null,null,null,null,null,null,""]
[null,null,null,null,null,null,null,null,null,null,""]
[null,null,null,null,null,null,null,null,null,null,""]
[null,null,null,null,null,null,null,null,null,null,""]
[null,null,null,null,null,null,null,null,null,null,""]
[null,null,null,null,null,null,null,null,null,null,""]
[null,null,null,null,null,null,null,null,null,null,""]
[null,null,null,null,null,null,null,null,null,null,""]
[null,null,null,null,null,null,null,null,null,null,""]
[null,null,null,null,null,null,null,null,null,null,""]
[null,null,null,null,null,null,null,null,null,null,""]
[null,null,null,null,null,null,null,null,null,null,""]
[null,null,null,null,null,null,null,null,null,null,""]
[null,null,null,null,null,null,null,null,null,null,""]
[null,null,null,null,null,null,null,null,null,null,""]
[null,null,null,null,null,null,null,null,null,null,""]
[null,null,null,null,null,null,null,null,null,null,""]
[null,null,null,null,null,null,null,null,null,null,""]
[null,null,null,null,null,null,null,null,null,null,""]
[null,null,null,null,null,null,null,null,null,null,""]
[null,null,null,null,null,null,null,null,null,null,""]
[null,null,null,null,null,null,null,null,null,null,""]
[null,null,null,null,null,null,null,null,null,null,""]
[null,null,null,null,null,null,null,null,null,null,""]
[null,null,null,null,null,null,null,null,null,null,""]
[null,null,null,null,null,null,null,null,null,null,""]
[null,null,null,null,null,null,null,null,null,null,""]
[null,null,null,null,null,null,null,null,null,null,""]
[null,null,null,null,null,null,null,null,null,null,""]
[null,null,null,null,null,null,null,null,null,null,""]
[null,null,null,null,null,null,null,null,null,null,""]
[null,null,null,null,null,null,null,null,null,null,""]
[null,null,null,null,null,null,null,null,null,null,""]
[null,null,null,null,null,null,null,null,null,null,""]
[null,null,null,null,null,null,null,null,null,null,""]
[null,null,null,null,null,null,null,null,null,null,""]
[null,null,null,null,null,null,null,null,null,null,""]
[null,null,null,null,null,null,null,null,null,null,""]
[null,null,null,null,null,null,null,null,null,null,{"$f":"IF(OR(I2974<>\"\",J2974<>\"\"),I2974+J2974,\"\")","v":""}]
[null,null,null,null,null,null,null,null,null,null,""]
[null,null,null,null,null,null,null,null,null,null,""]
[null,null,null,null,null,null,null,null,null,null,""]
[null,null,null,null,null,null,null,null,null,null,""]
[null,null,null,null,null,null,null,null,null,null,""]
[null,null,null,null,null,null,null,null,null,null,""]
[null,null,null,null,null,null,null,null,null,null,""]
[null,null,null,null,null,null,null,null,null,null,""]
[null,null,null,null,null,null,null,null,null,null,""]
[null,null,null,null,null,null,null,null,null,null,""]
[null,null,null,null,null,null,null,null,null,null,""]
[null,null,null,null,null,null,null,null,null,null,""]
[null,null,null,null,null,null,null,null,null,null,""]
[null,null,null,null,null,null,null,null,null,null,""]
[null,null,null,null,null,null,null,null,null,null,""]
[null,null,null,null,null,null,null,null,null,null,""]
[null,null,null,null,null,null,null,null,null,null,""]
[null,null,null,null,null,null,null,null,null,null,""]
[null,null,null,null,null,null,null,null,null,null,""]
[null,null,null,null,null,null,null,null,null,null,""]
[null,null,null,null,null,null,null,null,null,null,""]
[null,null,null,null,null,null,null,null,null,null,""]
[null,null,null,null,null,null,null,null,null,null,""]
[null,null,null,null,null,null,null,null,null,null,""]
[null,null,null,null,null,null,null,null,null,null,""]
[null,null,null,null,null,null,null,null,null,null,""]
[null,null,null,null,null,null,null,null,null,null,""]
[null,null,null,null,null,null,null,null,null,null,""]
[null,null,null,null,null,null,null,null,null,null,""]
[null,null,null,null,null,null,null,null,null,null,""]
[null,null,null,null,null,null,null,null,null,null,""]
[null,null,null,null,null,null,null,null,null,null,""]
[null,null,null,null,null,null,null,null,null,null,""]
[null,null,null,null,null,null,null,null,null,null,""]
[null,null,null,null,null,null,null,null,null,null,""]
[null,null,null,null,null,null,null,null,null,null,""]
[null,null,null,null,null,null,null,null,null,null,""]
[null,null,null,null,null,null,null,null,null,null,""]
[null,null,null,null,null,null,null,null,null,null,""]
[null,null,null,null,null,null,null,null,null,null,""]
[null,null,null,null,null,null,null,null,null,null,""]
[null,null,null,null,null,null,null,null,null,null,""]
[null,null,null,null,null,null,null,null,null,null,""]
[null,null,null,null,null,null,null,null,null,null,""]
[null,null,null,null,null,null,null,null,null,null,""]
[null,null,null,null,null,null,null,null,null,null,""]
[null,null,null,null,null,null,null,null,null,null,""]
[null,null,null,null,null,null,null,null,null,null,""]
[null,null,null,null,null,null,null,null,null,null,""]
[null,null,null,null,null,null,null,null,null,null,""]
[null,null,null,null,null,null,null,null,null,null,""]
[null,null,null,null,null,null,null,null,null,null,""]
[null,null,null,null,null,null,null,null,null,null,""]
[null,null,null,null,null,null,null,null,null,null,""]
[null,null,null,null,null,null,null,null,null,null,""]
[null,null,null,null,null,null,null,null,null,null,""]
[null,null,null,null,null,null,null,null,null,null,""]
[null,null,null,null,null,null,null,null,null,null,""]
[null,null,null,null,null,null,null,null,null,null,""]
[null,null,null,null,null,null,null,null,null,null,""]
[null,null,null,null,null,null,null,null,null,null,""]
[null,null,null,null,null,null,null,null,null,null,""]
[null,null,null,null,null,null,null,null,null,null,""]
[null,null,null,null,null,null,null,null,null,null,{"$f":"IF(OR(I3038<>\"\",J3038<>\"\"),I3038+J3038,\"\")","v":""}]
[null,null,null,null,null,null,null,null,null,null,""]
[null,null,null,null,null,null,null,null,null,null,""]
[null,null,null,null,null,null,null,null,null,null,""]
[null,null,null,null,null,null,null,null,null,null,""]
[null,null,null,null,null,null,null,null,null,null,""]
[null,null,null,null,null,null,null,null,null,null,""]
[null,null,null,null,null,null,null,null,null,null,""]
[null,null,null,null,null,null,null,null,null,null,""]
[null,null,null,null,null,null,null,null,null,null,""]
[null,null,null,null,null,null,null,null,null,null,""]
[null,null,null,null,null,null,null,null,null,null,""]
[null,null,null,null,null,null,null,null,null,null,""]
[null,null,null,null,null,null,null,null,null,null,""]
[null,null,null,null,null,null,null,null,null,null,""]
[null,null,null,null,null,null,null,null,null,null,""]
[null,null,null,null,null,null,null,null,null,null,""]
[null,null,null,null,null,null,null,null,null,null,""]
[null,null,null,null,null,null,null,null,null,null,""]
[null,null,null,null,null,null,null,null,null,null,""]
[null,null,null,null,null,null,null,null,null,null,""]
[null,null,null,null,null,null,null,null,null,null,""]
[null,null,null,null,null,null,null,null,null,null,""]
[null,null,null,null,null,null,null,null,null,null,""]
[null,null,null,null,null,null,null,null,null,null,""]
[null,null,null,null,null,null,null,null,null,null,""]
[null,null,null,null,null,null,null,null,null,null,""]
[null,null,null,null,null,null,null,null,null,null,""]
[null,null,null,null,null,null,null,null,null,null,""]
[null,null,null,null,null,null,null,null,null,null,""]
[null,null,null,null,null,null,null,null,null,null,""]
[null,null,null,null,null,null,null,null,null,null,""]
[null,null,null,null,null,null,null,null,null,null,""]
[null,null,null,null,null,null,null,null,null,null,""]
[null,null,null,null,null,null,null,null,null,null,""]
[null,null,null,null,null,null,null,null,null,null,""]
[null,null,null,null,null,null,null,null,null,null,""]
[null,null,null,null,null,null,null,null,null,null,""]
[null,null,null,null,null,null,null,null,null,null,""]
[null,null,null,null,null,null,null,null,null,null,""]
[null,null,null,null,null,null,null,null,null,null,""]
[null,null,null,null,null,null,null,null,null,null,""]
[null,null,null,null,null,null,null,null,null,null,""]
[null,null,null,null,null,null,null,null,null,null,""]
[null,null,null,null,null,null,null,null,null,null,""]
[null,null,null,null,null,null,null,null,null,null,""]
[null,null,null,null,null,null,null,null,null,null,""]
[null,null,null,null,null,null,null,null,null,null,""]
[null,null,null,null,null,null,null,null,null,null,""]
[null,null,null,null,null,null,null,null,null,null,""]
[null,null,null,null,null,null,null,null,null,null,""]
[null,null,null,null,null,null,null,null,null,null,""]
[null,null,null,null,null,null,null,null,null,null,""]
[null,null,null,null,null,null,null,null,null,null,""]
[null,null,null,null,null,null,null,null,null,null,""]
[null,null,null,null,null,null,null,null,null,null,""]
[null,null,null,null,null,null,null,null,null,null,""]
[null,null,null,null,null,null,null,null,null,null,""]
[null,null,null,null,null,null,null,null,null,null,""]
[null,null,null,null,null,null,null,null,null,null,""]
[null,null,null,null,null,null,null,null,null,null,""]
[null,null,null,null,null,null,null,null,null,null,""]
[null,null,null,null,null,null,null,null,null,null,""]
[null,null,null,null,null,null,null,null,null,null,""]
[null,null,null,null,null,null,null,null,null,null,{"$f":"IF(OR(I3102<>\"\",J3102<>\"\"),I3102+J3102,\"\")","v":""}]
[null,null,null,null,null,null,null,null,null,null,""]
[null,null,null,null,null,null,null,null,null,null,""]
[null,null,null,null,null,null,null,null,null,null,""]
[null,null,null,null,null,null,null,null,null,null,""]
[null,null,null,null,null,null,null,null,null,null,""]
[null,null,null,null,null,null,null,null,null,null,""]
[null,null,null,null,null,null,null,null,null,null,""]
[null,null,null,null,null,null,null,null,null,null,""]
[null,null,null,null,null,null,null,null,null,null,""]
[null,null,null,null,null,null,null,null,null,null,""]
[null,null,null,null,null,null,null,null,null,null,""]
[null,null,null,null,null,null,null,null,null,null,""]
[null,null,null,null,null,null,null,null,null,null,""]
[null,null,null,null,null,null,null,null,null,null,""]
[null,null,null,null,null,null,null,null,null,null,""]
[null,null,null,null,null,null,null,null,null,null,""]
[null,null,null,null,null,null,null,null,null,null,""]
[null,null,null,null,null,null,null,null,null,null,""]
[null,null,null,null,null,null,null,null,null,null,""]
[null,null,null,null,null,null,null,null,null,null,""]
[null,null,null,null,null,null,null,null,null,null,""]
[null,null,null,null,null,null,null,null,null,null,""]
[null,null,null,null,null,null,null,null,null,null,""]
[null,null,null,null,null,null,null,null,null,null,""]
[null,null,null,null,null,null,null,null,null,null,""]
[null,null,null,null,null,null,null,null,null,null,""]
[null,null,null,null,null,null,null,null,null,null,""]
[null,null,null,null,null,null,null,null,null,null,""]
[null,null,null,null,null,null,null,null,null,null,""]
[null,null,null,null,null,null,null,null,null,null,""]
[null,null,null,null,null,null,null,null,null,null,""]
[null,null,null,null,null,null,null,null,null,null,""]
[null,null,null,null,null,null,null,null,null,null,""]
[null,null,null,null,null,null,null,null,null,null,""]
[null,null,null,null,null,null,null,null,null,null,""]
[null,null,null,null,null,null,null,null,null,null,""]
[null,null,null,null,null,null,null,null,null,null,""]
[null,null,null,null,null,null,null,null,null,null,""]
[null,null,null,null,null,null,null,null,null,null,""]
[null,null,null,null,null,null,null,null,null,null,""]
[null,null,null,null,null,null,null,null,null,null,""]
[null,null,null,null,null,null,null,null,null,null,""]
[null,null,null,null,null,null,null,null,null,null,""]
[null,null,null,null,null,null,null,null,null,null,""]
[null,null,null,null,null,null,null,null,null,null,""]
[null,null,null,null,null,null,null,null,null,null,""]
[null,null,null,null,null,null,null,null,null,null,""]
[null,null,null,null,null,null,null,null,null,null,""]
[null,null,null,null,null,null,null,null,null,null,""]
[null,null,null,null,null,null,null,null,null,null,""]
[null,null,null,null,null,null,null,null,null,null,""]
[null,null,null,null,null,null,null,null,null,null,""]
[null,null,null,null,null,null,null,null,null,null,""]
[null,null,null,null,null,null,null,null,null,null,""]
[null,null,null,null,null,null,null,null,null,null,""]
[null,null,null,null,null,null,null,null,null,null,""]
[null,null,null,null,null,null,null,null,null,null,""]
[null,null,null,null,null,null,null,null,null,null,""]
[null,null,null,null,null,null,null,null,null,null,""]
[null,null,null,null,null,null,null,null,null,null,""]
[null,null,null,null,null,null,null,null,null,null,""]
[null,null,null,null,null,null,null,null,null,null,""]
[null,null,null,null,null,null,null,null,null,null,""]
[null,null,null,null,null,null,null,null,null,null,{"$f":"IF(OR(I3166<>\"\",J3166<>\"\"),I3166+J3166,\"\")","v":""}]
[null,null,null,null,null,null,null,null,null,null,""]
[null,null,null,null,null,null,null,null,null,null,""]
[null,null,null,null,null,null,null,null,null,null,""]
[null,null,null,null,null,null,null,null,null,null,""]
[null,null,null,null,null,null,null,null,null,null,""]
[null,null,null,null,null,null,null,null,null,null,""]
[null,null,null,null,null,null,null,null,null,null,""]
[null,null,null,null,null,null,null,null,null,null,""]
[null,null,null,null,null,null,null,null,null,null,""]
[null,null,null,null,null,null,null,null,null,null,""]
[null,null,null,null,null,null,null,null,null,null,""]
[null,null,null,null,null,null,null,null,null,null,""]
[null,null,null,null,null,null,null,null,null,null,""]
[null,null,null,null,null,null,null,null,null,null,""]
[null,null,null,null,null,null,null,null,null,null,""]
[null,null,null,null,null,null,null,null,null,null,""]
[null,null,null,null,null,null,null,null,null,null,""]
[null,null,null,null,null,null,null,null,null,null,""]
[null,null,null,null,null,null,null,null,null,null,""]
[null,null,null,null,null,null,null,null,null,null,""]
[null,null,null,null,null,null,null,null,null,null,""]
[null,null,null,null,null,null,null,null,null,null,""]
[null,null,null,null,null,null,null,null,null,null,""]
[null,null,null,null,null,null,null,null,null,null,""]
[null,null,null,null,null,null,null,null,null,null,""]
[null,null,null,null,null,null,null,null,null,null,""]
[null,null,null,null,null,null,null,null,null,null,""]
[null,null,null,null,null,null,null,null,null,null,""]
[null,null,null,null,null,null,null,null,null,null,""]
[null,null,null,null,null,null,null,null,null,null,""]
[null,null,null,null,null,null,null,null,null,null,""]
[null,null,null,null,null,null,null,null,null,null,""]
[null,null,null,null,null,null,null,null,null,null,""]
[null,null,null,null,null,null,null,null,null,null,""]
[null,null,null,null,null,null,null,null,null,null,""]
[null,null,null,null,null,null,null,null,null,null,""]
[null,null,null,null,null,null,null,null,null,null,""]
[null,null,null,null,null,null,null,null,null,null,""]
[null,null,null,null,null,null,null,null,null,null,""]
[null,null,null,null,null,null,null,null,null,null,""]
[null,null,null,null,null,null,null,null,null,null,""]
[null,null,null,null,null,null,null,null,null,null,""]
[null,null,null,null,null,null,null,null,null,null,""]
[null,null,null,null,null,null,null,null,null,null,""]
[null,null,null,null,null,null,null,null,null,null,""]
[null,null,null,null,null,null,null,null,null,null,""]
[null,null,null,null,null,null,null,null,null,null,""]
[null,null,null,null,null,null,null,null,null,null,""]
[null,null,null,null,null,null,null,null,null,null,""]
[null,null,null,null,null,null,null,null,null,null,""]
[null,null,null,null,null,null,null,null,null,null,""]
[null,null,null,null,null,null,null,null,null,null,""]
[null,null,null,null,null,null,null,null,null,null,""]
[null,null,null,null,null,null,null,null,null,null,""]
[null,null,null,null,null,null,null,null,null,null,""]
[null,null,null,null,null,null,null,null,null,null,""]
[null,null,null,null,null,null,null,null,null,null,""]
[null,null,null,null,null,null,null,null,null,null,""]
[null,null,null,null,null,null,null,null,null,null,""]
[null,null,null,null,null,null,null,null,null,null,""]
[null,null,null,null,null,null,null,null,null,null,""]
[null,null,null,null,null,null,null,null,null,null,""]
[null,null,null,null,null,null,null,null,null,null,""]
[null,null,null,null,null,null,null,null,null,null,{"$f":"IF(OR(I3230<>\"\",J3230<>\"\"),I3230+J3230,\"\")","v":""}]
[null,null,null,null,null,null,null,null,null,null,""]
[null,null,null,null,null,null,null,null,null,null,""]
[null,null,null,null,null,null,null,null,null,null,""]
[null,null,null,null,null,null,null,null,null,null,""]
[null,null,null,null,null,null,null,null,null,null,""]
[null,null,null,null,null,null,null,null,null,null,""]
[null,null,null,null,null,null,null,null,null,null,""]
[null,null,null,null,null,null,null,null,null,null,""]
[null,null,null,null,null,null,null,null,null,null,""]
[null,null,null,null,null,null,null,null,null,null,""]
[null,null,null,null,null,null,null,null,null,null,""]
[null,null,null,null,null,null,null,null,null,null,""]
[null,null,null,null,null,null,null,null,null,null,""]
[null,null,null,null,null,null,null,null,null,null,""]
[null,null,null,null,null,null,null,null,null,null,""]
[null,null,null,null,null,null,null,null,null,null,""]
[null,null,null,null,null,null,null,null,null,null,""]
[null,null,null,null,null,null,null,null,null,null,""]
[null,null,null,null,null,null,null,null,null,null,""]
[null,null,null,null,null,null,null,null,null,null,""]
[null,null,null,null,null,null,null,null,null,null,""]
[null,null,null,null,null,null,null,null,null,null,""]
[null,null,null,null,null,null,null,null,null,null,""]
[null,null,null,null,null,null,null,null,null,null,""]
[null,null,null,null,null,null,null,null,null,null,""]
[null,null,null,null,null,null,null,null,null,null,""]
[null,null,null,null,null,null,null,null,null,null,""]
[null,null,null,null,null,null,null,null,null,null,""]
[null,null,null,null,null,null,null,null,null,null,""]
[null,null,null,null,null,null,null,null,null,null,""]
[null,null,null,null,null,null,null,null,null,null,""]
[null,null,null,null,null,null,null,null,null,null,""]
[null,null,null,null,null,null,null,null,null,null,""]
[null,null,null,null,null,null,null,null,null,null,""]
[null,null,null,null,null,null,null,null,null,null,""]
[null,null,null,null,null,null,null,null,null,null,""]
[null,null,null,null,null,null,null,null,null,null,""]
[null,null,null,null,null,null,null,null,null,null,""]
[null,null,null,null,null,null,null,null,null,null,""]
[null,null,null,null,null,null,null,null,null,null,""]
[null,null,null,null,null,null,null,null,null,null,""]
[null,null,null,null,null,null,null,null,null,null,""]
[null,null,null,null,null,null,null,null,null,null,""]
[null,null,null,null,null,null,null,null,null,null,""]
[null,null,null,null,null,null,null,null,null,null,""]
[null,null,null,null,null,null,null,null,null,null,""]
[null,null,null,null,null,null,null,null,null,null,""]
[null,null,null,null,null,null,null,null,null,null,""]
[null,null,null,null,null,null,null,null,null,null,""]
[null,null,null,null,null,null,null,null,null,null,""]
[null,null,null,null,null,null,null,null,null,null,""]
[null,null,null,null,null,null,null,null,null,null,""]
[null,null,null,null,null,null,null,null,null,null,""]
[null,null,null,null,null,null,null,null,null,null,""]
[null,null,null,null,null,null,null,null,null,null,""]
[null,null,null,null,null,null,null,null,null,null,""]
[null,null,null,null,null,null,null,null,null,null,""]
[null,null,null,null,null,null,null,null,null,null,""]
[null,null,null,null,null,null,null,null,null,null,""]
[null,null,null,null,null,null,null,null,null,null,""]
[null,null,null,null,null,null,null,null,null,null,""]
[null,null,null,null,null,null,null,null,null,null,""]
[null,null,null,null,null,null,null,null,null,null,""]
[null,null,null,null,null,null,null,null,null,null,{"$f":"IF(OR(I3294<>\"\",J3294<>\"\"),I3294+J3294,\"\")","v":""}]
[null,null,null,null,null,null,null,null,null,null,""]
[null,null,null,null,null,null,null,null,null,null,""]
[null,null,null,null,null,null,null,null,null,null,""]
[null,null,null,null,null,null,null,null,null,null,""]
[null,null,null,null,null,null,null,null,null,null,""]
[null,null,null,null,null,null,null,null,null,null,""]
[null,null,null,null,null,null,null,null,null,null,""]
[null,null,null,null,null,null,null,null,null,null,""]
[null,null,null,null,null,null,null,null,null,null,""]
[null,null,null,null,null,null,null,null,null,null,""]
[null,null,null,null,null,null,null,null,null,null,""]
[null,null,null,null,null,null,null,null,null,null,""]
[null,null,null,null,null,null,null,null,null,null,""]
[null,null,null,null,null,null,null,null,null,null,""]
[null,null,null,null,null,null,null,null,null,null,""]
[null,null,null,null,null,null,null,null,null,null,""]
[null,null,null,null,null,null,null,null,null,null,""]
[null,null,null,null,null,null,null,null,null,null,""]
[null,null,null,null,null,null,null,null,null,null,""]
[null,null,null,null,null,null,null,null,null,null,""]
[null,null,null,null,null,null,null,null,null,null,""]
[null,null,null,null,null,null,null,null,null,null,""]
[null,null,null,null,null,null,null,null,null,null,""]
[null,null,null,null,null,null,null,null,null,null,""]
[null,null,null,null,null,null,null,null,null,null,""]
[null,null,null,null,null,null,null,null,null,null,""]
[null,null,null,null,null,null,null,null,null,null,""]
[null,null,null,null,null,null,null,null,null,null,""]
[null,null,null,null,null,null,null,null,null,null,""]
[null,null,null,null,null,null,null,null,null,null,""]
[null,null,null,null,null,null,null,null,null,null,""]
[null,null,null,null,null,null,null,null,null,null,""]
[null,null,null,null,null,null,null,null,null,null,""]
[null,null,null,null,null,null,null,null,null,null,""]
[null,null,null,null,null,null,null,null,null,null,""]
[null,null,null,null,null,null,null,null,null,null,""]
[null,null,null,null,null,null,null,null,null,null,""]
[null,null,null,null,null,null,null,null,null,null,""]
[null,null,null,null,null,null,null,null,null,null,""]
[null,null,null,null,null,null,null,null,null,null,""]
[null,null,null,null,null,null,null,null,null,null,""]
[null,null,null,null,null,null,null,null,null,null,""]
[null,null,null,null,null,null,null,null,null,null,""]
[null,null,null,null,null,null,null,null,null,null,""]
[null,null,null,null,null,null,null,null,null,null,""]
[null,null,null,null,null,null,null,null,null,null,""]
[null,null,null,null,null,null,null,null,null,null,""]
[null,null,null,null,null,null,null,null,null,null,""]
[null,null,null,null,null,null,null,null,null,null,""]
[null,null,null,null,null,null,null,null,null,null,""]
[null,null,null,null,null,null,null,null,null,null,""]
[null,null,null,null,null,null,null,null,null,null,""]
[null,null,null,null,null,null,null,null,null,null,""]
[null,null,null,null,null,null,null,null,null,null,""]
[null,null,null,null,null,null,null,null,null,null,""]
[null,null,null,null,null,null,null,null,null,null,""]
[null,null,null,null,null,null,null,null,null,null,""]
[null,null,null,null,null,null,null,null,null,null,""]
[null,null,null,null,null,null,null,null,null,null,""]
[null,null,null,null,null,null,null,null,null,null,""]
[null,null,null,null,null,null,null,null,null,null,""]
[null,null,null,null,null,null,null,null,null,null,""]
[null,null,null,null,null,null,null,null,null,null,""]
[null,null,null,null,null,null,null,null,null,null,{"$f":"IF(OR(I3358<>\"\",J3358<>\"\"),I3358+J3358,\"\")","v":""}]
[null,null,null,null,null,null,null,null,null,null,""]
[null,null,null,null,null,null,null,null,null,null,""]
[null,null,null,null,null,null,null,null,null,null,""]
[null,null,null,null,null,null,null,null,null,null,""]
[null,null,null,null,null,null,null,null,null,null,""]
[null,null,null,null,null,null,null,null,null,null,""]
[null,null,null,null,null,null,null,null,null,null,""]
[null,null,null,null,null,null,null,null,null,null,""]
[null,null,null,null,null,null,null,null,null,null,""]
[null,null,null,null,null,null,null,null,null,null,""]
[null,null,null,null,null,null,null,null,null,null,""]
[null,null,null,null,null,null,null,null,null,null,""]
[null,null,null,null,null,null,null,null,null,null,""]
[null,null,null,null,null,null,null,null,null,null,""]
[null,null,null,null,null,null,null,null,null,null,""]
[null,null,null,null,null,null,null,null,null,null,""]
[null,null,null,null,null,null,null,null,null,null,""]
[null,null,null,null,null,null,null,null,null,null,""]
[null,null,null,null,null,null,null,null,null,null,""]
[null,null,null,null,null,null,null,null,null,null,""]
[null,null,null,null,null,null,null,null,null,null,""]
[null,null,null,null,null,null,null,null,null,null,""]
[null,null,null,null,null,null,null,null,null,null,""]
[null,null,null,null,null,null,null,null,null,null,""]
[null,null,null,null,null,null,null,null,null,null,""]
[null,null,null,null,null,null,null,null,null,null,""]
[null,null,null,null,null,null,null,null,null,null,""]
[null,null,null,null,null,null,null,null,null,null,""]
[null,null,null,null,null,null,null,null,null,null,""]
[null,null,null,null,null,null,null,null,null,null,""]
[null,null,null,null,null,null,null,null,null,null,""]
[null,null,null,null,null,null,null,null,null,null,""]
[null,null,null,null,null,null,null,null,null,null,""]
[null,null,null,null,null,null,null,null,null,null,""]
[null,null,null,null,null,null,null,null,null,null,""]
[null,null,null,null,null,null,null,null,null,null,""]
[null,null,null,null,null,null,null,null,null,null,""]
[null,null,null,null,null,null,null,null,null,null,""]
[null,null,null,null,null,null,null,null,null,null,""]
[null,null,null,null,null,null,null,null,null,null,""]
[null,null,null,null,null,null,null,null,null,null,""]
[null,null,null,null,null,null,null,null,null,null,""]
[null,null,null,null,null,null,null,null,null,null,""]
[null,null,null,null,null,null,null,null,null,null,""]
[null,null,null,null,null,null,null,null,null,null,""]
[null,null,null,null,null,null,null,null,null,null,""]
[null,null,null,null,null,null,null,null,null,null,""]
[null,null,null,null,null,null,null,null,null,null,""]
[null,null,null,null,null,null,null,null,null,null,""]
[null,null,null,null,null,null,null,null,null,null,""]
[null,null,null,null,null,null,null,null,null,null,""]
[null,null,null,null,null,null,null,null,null,null,""]
[null,null,null,null,null,null,null,null,null,null,""]
[null,null,null,null,null,null,null,null,null,null,""]
[null,null,null,null,null,null,null,null,null,null,""]
[null,null,null,null,null,null,null,null,null,null,""]
[null,null,null,null,null,null,null,null,null,null,""]
[null,null,null,null,null,null,null,null,null,null,""]
[null,null,null,null,null,null,null,null,null,null,""]
[null,null,null,null,null,null,null,null,null,null,""]
[null,null,null,null,null,null,null,null,null,null,""]
[null,null,null,null,null,null,null,null,null,null,""]
[null,null,null,null,null,null,null,null,null,null,""]
[null,null,null,null,null,null,null,null,null,null,{"$f":"IF(OR(I3422<>\"\",J3422<>\"\"),I3422+J3422,\"\")","v":""}]
[null,null,null,null,null,null,null,null,null,null,""]
[null,null,null,null,null,null,null,null,null,null,""]
[null,null,null,null,null,null,null,null,null,null,""]
[null,null,null,null,null,null,null,null,null,null,""]
[null,null,null,null,null,null,null,null,null,null,""]
[null,null,null,null,null,null,null,null,null,null,""]
[null,null,null,null,null,null,null,null,null,null,""]
[null,null,null,null,null,null,null,null,null,null,""]
[null,null,null,null,null,null,null,null,null,null,""]
[null,null,null,null,null,null,null,null,null,null,""]
[null,null,null,null,null,null,null,null,null,null,""]
[null,null,null,null,null,null,null,null,null,null,""]
[null,null,null,null,null,null,null,null,null,null,""]
[null,null,null,null,null,null,null,null,null,null,""]
[null,null,null,null,null,null,null,null,null,null,""]
[null,null,null,null,null,null,null,null,null,null,""]
[null,null,null,null,null,null,null,null,null,null,""]
[null,null,null,null,null,null,null,null,null,null,""]
[null,null,null,null,null,null,null,null,null,null,""]
[null,null,null,null,null,null,null,null,null,null,""]
[null,null,null,null,null,null,null,null,null,null,""]
[null,null,null,null,null,null,null,null,null,null,""]
[null,null,null,null,null,null,null,null,null,null,""]
[null,null,null,null,null,null,null,null,null,null,""]
[null,null,null,null,null,null,null,null,null,null,""]
[null,null,null,null,null,null,null,null,null,null,""]
[null,null,null,null,null,null,null,null,null,null,""]
[null,null,null,null,null,null,null,null,null,null,""]
[null,null,null,null,null,null,null,null,null,null,""]
[null,null,null,null,null,null,null,null,null,null,""]
[null,null,null,null,null,null,null,null,null,null,""]
[null,null,null,null,null,null,null,null,null,null,""]
[null,null,null,null,null,null,null,null,null,null,""]
[null,null,null,null,null,null,null,null,null,null,""]
[null,null,null,null,null,null,null,null,null,null,""]
[null,null,null,null,null,null,null,null,null,null,""]
[null,null,null,null,null,null,null,null,null,null,""]
[null,null,null,null,null,null,null,null,null,null,""]
[null,null,null,null,null,null,null,null,null,null,""]
[null,null,null,null,null,null,null,null,null,null,""]
[null,null,null,null,null,null,null,null,null,null,""]
[null,null,null,null,null,null,null,null,null,null,""]
[null,null,null,null,null,null,null,null,null,null,""]
[null,null,null,null,null,null,null,null,null,null,""]
[null,null,null,null,null,null,null,null,null,null,""]
[null,null,null,null,null,null,null,null,null,null,""]
[null,null,null,null,null,null,null,null,null,null,""]
[null,null,null,null,null,null,null,null,null,null,""]
[null,null,null,null,null,null,null,null,null,null,""]
[null,null,null,null,null,null,null,null,null,null,""]
[null,null,null,null,null,null,null,null,null,null,""]
[null,null,null,null,null,null,null,null,null,null,""]
[null,null,null,null,null,null,null,null,null,null,""]
[null,null,null,null,null,null,null,null,null,null,""]
[null,null,null,null,null,null,null,null,null,null,""]
[null,null,null,null,null,null,null,null,null,null,""]
[null,null,null,null,null,null,null,null,null,null,""]
[null,null,null,null,null,null,null,null,null,null,""]
[null,null,null,null,null,null,null,null,null,null,""]
[null,null,null,null,null,null,null,null,null,null,""]
[null,null,null,null,null,null,null,null,null,null,""]
[null,null,null,null,null,null,null,null,null,null,""]
[null,null,null,null,null,null,null,null,null,null,""]
[null,null,null,null,null,null,null,null,null,null,{"$f":"IF(OR(I3486<>\"\",J3486<>\"\"),I3486+J3486,\"\")","v":""}]
[null,null,null,null,null,null,null,null,null,null,""]
[null,null,null,null,null,null,null,null,null,null,""]
[null,null,null,null,null,null,null,null,null,null,""]
[null,null,null,null,null,null,null,null,null,null,""]
[null,null,null,null,null,null,null,null,null,null,""]
[null,null,null,null,null,null,null,null,null,null,""]
[null,null,null,null,null,null,null,null,null,null,""]
[null,null,null,null,null,null,null,null,null,null,""]
[null,null,null,null,null,null,null,null,null,null,""]
[null,null,null,null,null,null,null,null,null,null,""]
[null,null,null,null,null,null,null,null,null,null,""]
[null,null,null,null,null,null,null,null,null,null,""]
[null,null,null,null,null,null,null,null,null,null,""]
[null,null,null,null,null,null,null,null,null,null,""]
[null,null,null,null,null,null,null,null,null,null,""]
[null,null,null,null,null,null,null,null,null,null,""]
[null,null,null,null,null,null,null,null,null,null,""]
[null,null,null,null,null,null,null,null,null,null,""]
[null,null,null,null,null,null,null,null,null,null,""]
[null,null,null,null,null,null,null,null,null,null,""]
[null,null,null,null,null,null,null,null,null,null,""]
[null,null,null,null,null,null,null,null,null,null,""]
[null,null,null,null,null,null,null,null,null,null,""]
[null,null,null,null,null,null,null,null,null,null,""]
[null,null,null,null,null,null,null,null,null,null,""]
[null,null,null,null,null,null,null,null,null,null,""]
[null,null,null,null,null,null,null,null,null,null,""]
[null,null,null,null,null,null,null,null,null,null,""]
[null,null,null,null,null,null,null,null,null,null,""]
[null,null,null,null,null,null,null,null,null,null,""]
[null,null,null,null,null,null,null,null,null,null,""]
[null,null,null,null,null,null,null,null,null,null,""]
[null,null,null,null,null,null,null,null,null,null,""]
[null,null,null,null,null,null,null,null,null,null,""]
[null,null,null,null,null,null,null,null,null,null,""]
[null,null,null,null,null,null,null,null,null,null,""]
[null,null,null,null,null,null,null,null,null,null,""]
[null,null,null,null,null,null,null,null,null,null,""]
[null,null,null,null,null,null,null,null,null,null,""]
[null,null,null,null,null,null,null,null,null,null,""]
[null,null,null,null,null,null,null,null,null,null,""]
[null,null,null,null,null,null,null,null,null,null,""]
[null,null,null,null,null,null,null,null,null,null,""]
[null,null,null,null,null,null,null,null,null,null,""]
[null,null,null,null,null,null,null,null,null,null,""]
[null,null,null,null,null,null,null,null,null,null,""]
[null,null,null,null,null,null,null,null,null,null,""]
[null,null,null,null,null,null,null,null,null,null,""]
[null,null,null,null,null,null,null,null,null,null,""]
[null,null,null,null,null,null,null,null,null,null,""]
[null,null,null,null,null,null,null,null,null,null,""]
[null,null,null,null,null,null,null,null,null,null,""]
[null,null,null,null,null,null,null,null,null,null,""]
[null,null,null,null,null,null,null,null,null,null,""]
[null,null,null,null,null,null,null,null,null,null,""]
[null,null,null,null,null,null,null,null,null,null,""]
[null,null,null,null,null,null,null,null,null,null,""]
[null,null,null,null,null,null,null,null,null,null,""]
[null,null,null,null,null,null,null,null,null,null,""]
[null,null,null,null,null,null,null,null,null,null,""]
[null,null,null,null,null,null,null,null,null,null,""]
[null,null,null,null,null,null,null,null,null,null,""]
[null,null,null,null,null,null,null,null,null,null,""]
[null,null,null,null,null,null,null,null,null,null,{"$f":"IF(OR(I3550<>\"\",J3550<>\"\"),I3550+J3550,\"\")","v":""}]
[null,null,null,null,null,null,null,null,null,null,""]
[null,null,null,null,null,null,null,null,null,null,""]
[null,null,null,null,null,null,null,null,null,null,""]
[null,null,null,null,null,null,null,null,null,null,""]
[null,null,null,null,null,null,null,null,null,null,""]
[null,null,null,null,null,null,null,null,null,null,""]
[null,null,null,null,null,null,null,null,null,null,""]
[null,null,null,null,null,null,null,null,null,null,""]
[null,null,null,null,null,null,null,null,null,null,""]
[null,null,null,null,null,null,null,null,null,null,""]
[null,null,null,null,null,null,null,null,null,null,""]
[null,null,null,null,null,null,null,null,null,null,""]
[null,null,null,null,null,null,null,null,null,null,""]
[null,null,null,null,null,null,null,null,null,null,""]
[null,null,null,null,null,null,null,null,null,null,""]
[null,null,null,null,null,null,null,null,null,null,""]
[null,null,null,null,null,null,null,null,null,null,""]
[null,null,null,null,null,null,null,null,null,null,""]
[null,null,null,null,null,null,null,null,null,null,""]
[null,null,null,null,null,null,null,null,null,null,""]
[null,null,null,null,null,null,null,null,null,null,""]
[null,null,null,null,null,null,null,null,null,null,""]
[null,null,null,null,null,null,null,null,null,null,""]
[null,null,null,null,null,null,null,null,null,null,""]
[null,null,null,null,null,null,null,null,null,null,""]
[null,null,null,null,null,null,null,null,null,null,""]
[null,null,null,null,null,null,null,null,null,null,""]
[null,null,null,null,null,null,null,null,null,null,""]
[null,null,null,null,null,null,null,null,null,null,""]
[null,null,null,null,null,null,null,null,null,null,""]
[null,null,null,null,null,null,null,null,null,null,""]
[null,null,null,null,null,null,null,null,null,null,""]
[null,null,null,null,null,null,null,null,null,null,""]
[null,null,null,null,null,null,null,null,null,null,""]
[null,null,null,null,null,null,null,null,null,null,""]
[null,null,null,null,null,null,null,null,null,null,""]
[null,null,null,null,null,null,null,null,null,null,""]
[null,null,null,null,null,null,null,null,null,null,""]
[null,null,null,null,null,null,null,null,null,null,""]
[null,null,null,null,null,null,null,null,null,null,""]
[null,null,null,null,null,null,null,null,null,null,""]
[null,null,null,null,null,null,null,null,null,null,""]
[null,null,null,null,null,null,null,null,null,null,""]
[null,null,null,null,null,null,null,null,null,null,""]
[null,null,null,null,null,null,null,null,null,null,""]
[null,null,null,null,null,null,null,null,null,null,""]
[null,null,null,null,null,null,null,null,null,null,""]
[null,null,null,null,null,null,null,null,null,null,""]
[null,null,null,null,null,null,null,null,null,null,""]
[null,null,null,null,null,null,null,null,null,null,""]
[null,null,null,null,null,null,null,null,null,null,""]
[null,null,null,null,null,null,null,null,null,null,""]
[null,null,null,null,null,null,null,null,null,null,""]
[null,null,null,null,null,null,null,null,null,null,""]
[null,null,null,null,null,null,null,null,null,null,""]
[null,null,null,null,null,null,null,null,null,null,""]
[null,null,null,null,null,null,null,null,null,null,""]
[null,null,null,null,null,null,null,null,null,null,""]
[null,null,null,null,null,null,null,null,null,null,""]
[null,null,null,null,null,null,null,null,null,null,""]
[null,null,null,null,null,null,null,null,null,null,""]
[null,null,null,null,null,null,null,null,null,null,""]
[null,null,null,null,null,null,null,null,null,null,""]
[null,null,null,null,null,null,null,null,null,null,{"$f":"IF(OR(I3614<>\"\",J3614<>\"\"),I3614+J3614,\"\")","v":""}]
[null,null,null,null,null,null,null,null,null,null,""]
[null,null,null,null,null,null,null,null,null,null,""]
[null,null,null,null,null,null,null,null,null,null,""]
[null,null,null,null,null,null,null,null,null,null,""]
[null,null,null,null,null,null,null,null,null,null,""]
[null,null,null,null,null,null,null,null,null,null,""]
[null,null,null,null,null,null,null,null,null,null,""]
[null,null,null,null,null,null,null,null,null,null,""]
[null,null,null,null,null,null,null,null,null,null,""]
[null,null,null,null,null,null,null,null,null,null,""]
[null,null,null,null,null,null,null,null,null,null,""]
[null,null,null,null,null,null,null,null,null,null,""]
[null,null,null,null,null,null,null,null,null,null,""]
[null,null,null,null,null,null,null,null,null,null,""]
[null,null,null,null,null,null,null,null,null,null,""]
[null,null,null,null,null,null,null,null,null,null,""]
[null,null,null,null,null,null,null,null,null,null,""]
[null,null,null,null,null,null,null,null,null,null,""]
[null,null,null,null,null,null,null,null,null,null,""]
[null,null,null,null,null,null,null,null,null,null,""]
[null,null,null,null,null,null,null,null,null,null,""]
[null,null,null,null,null,null,null,null,null,null,""]
[null,null,null,null,null,null,null,null,null,null,""]
[null,null,null,null,null,null,null,null,null,null,""]
[null,null,null,null,null,null,null,null,null,null,""]
[null,null,null,null,null,null,null,null,null,null,""]
[null,null,null,null,null,null,null,null,null,null,""]
[null,null,null,null,null,null,null,null,null,null,""]
[null,null,null,null,null,null,null,null,null,null,""]
[null,null,null,null,null,null,null,null,null,null,""]
[null,null,null,null,null,null,null,null,null,null,""]
[null,null,null,null,null,null,null,null,null,null,""]
[null,null,null,null,null,null,null,null,null,null,""]
[null,null,null,null,null,null,null,null,null,null,""]
[null,null,null,null,null,null,null,null,null,null,""]
[null,null,null,null,null,null,null,null,null,null,""]
[null,null,null,null,null,null,null,null,null,null,""]
[null,null,null,null,null,null,null,null,null,null,""]
[null,null,null,null,null,null,null,null,null,null,""]
[null,null,null,null,null,null,null,null,null,null,""]
[null,null,null,null,null,null,null,null,null,null,""]
[null,null,null,null,null,null,null,null,null,null,""]
[null,null,null,null,null,null,null,null,null,null,""]
[null,null,null,null,null,null,null,null,null,null,""]
[null,null,null,null,null,null,null,null,null,null,""]
[null,null,null,null,null,null,null,null,null,null,""]
[null,null,null,null,null,null,null,null,null,null,""]
[null,null,null,null,null,null,null,null,null,null,""]
[null,null,null,null,null,null,null,null,null,null,""]
[null,null,null,null,null,null,null,null,null,null,""]
[null,null,null,null,null,null,null,null,null,null,""]
[null,null,null,null,null,null,null,null,null,null,""]
[null,null,null,null,null,null,null,null,null,null,""]
[null,null,null,null,null,null,null,null,null,null,""]
[null,null,null,null,null,null,null,null,null,null,""]
[null,null,null,null,null,null,null,null,null,null,""]
[null,null,null,null,null,null,null,null,null,null,""]
[null,null,null,null,null,null,null,null,null,null,""]
[null,null,null,null,null,null,null,null,null,null,""]
[null,null,null,null,null,null,null,null,null,null,""]
[null,null,null,null,null,null,null,null,null,null,""]
[null,null,null,null,null,null,null,null,null,null,""]
[null,null,null,null,null,null,null,null,null,null,""]
[null,null,null,null,null,null,null,null,null,null,{"$f":"IF(OR(I3678<>\"\",J3678<>\"\"),I3678+J3678,\"\")","v":""}]
[null,null,null,null,null,null,null,null,null,null,""]
[null,null,null,null,null,null,null,null,null,null,""]
[null,null,null,null,null,null,null,null,null,null,""]
[null,null,null,null,null,null,null,null,null,null,""]
[null,null,null,null,null,null,null,null,null,null,""]
[null,null,null,null,null,null,null,null,null,null,""]
[null,null,null,null,null,null,null,null,null,null,""]
[null,null,null,null,null,null,null,null,null,null,""]
[null,null,null,null,null,null,null,null,null,null,""]
[null,null,null,null,null,null,null,null,null,null,""]
[null,null,null,null,null,null,null,null,null,null,""]
[null,null,null,null,null,null,null,null,null,null,""]
[null,null,null,null,null,null,null,null,null,null,""]
[null,null,null,null,null,null,null,null,null,null,""]
[null,null,null,null,null,null,null,null,null,null,""]
[null,null,null,null,null,null,null,null,null,null,""]
[null,null,null,null,null,null,null,null,null,null,""]
[null,null,null,null,null,null,null,null,null,null,""]
[null,null,null,null,null,null,null,null,null,null,""]
[null,null,null,null,null,null,null,null,null,null,""]
[null,null,null,null,null,null,null,null,null,null,""]
[null,null,null,null,null,null,null,null,null,null,""]
[null,null,null,null,null,null,null,null,null,null,""]
[null,null,null,null,null,null,null,null,null,null,""]
[null,null,null,null,null,null,null,null,null,null,""]
[null,null,null,null,null,null,null,null,null,null,""]
[null,null,null,null,null,null,null,null,null,null,""]
[null,null,null,null,null,null,null,null,null,null,""]
[null,null,null,null,null,null,null,null,null,null,""]
[null,null,null,null,null,null,null,null,null,null,""]
[null,null,null,null,null,null,null,null,null,null,""]
[null,null,null,null,null,null,null,null,null,null,""]
[null,null,null,null,null,null,null,null,null,null,""]
[null,null,null,null,null,null,null,null,null,null,""]
[null,null,null,null,null,null,null,null,null,null,""]
[null,null,null,null,null,null,null,null,null,null,""]
[null,null,null,null,null,null,null,null,null,null,""]
[null,null,null,null,null,null,null,null,null,null,""]
[null,null,null,null,null,null,null,null,null,null,""]
[null,null,null,null,null,null,null,null,null,null,""]
[null,null,null,null,null,null,null,null,null,null,""]
[null,null,null,null,null,null,null,null,null,null,""]
[null,null,null,null,null,null,null,null,null,null,""]
[null,null,null,null,null,null,null,null,null,null,""]
[null,null,null,null,null,null,null,null,null,null,""]
[null,null,null,null,null,null,null,null,null,null,""]
[null,null,null,null,null,null,null,null,null,null,""]
[null,null,null,null,null,null,null,null,null,null,""]
[null,null,null,null,null,null,null,null,null,null,""]
[null,null,null,null,null,null,null,null,null,null,""]
[null,null,null,null,null,null,null,null,null,null,""]
[null,null,null,null,null,null,null,null,null,null,""]
[null,null,null,null,null,null,null,null,null,null,""]
[null,null,null,null,null,null,null,null,null,null,""]
[null,null,null,null,null,null,null,null,null,null,""]
[null,null,null,null,null,null,null,null,null,null,""]
[null,null,null,null,null,null,null,null,null,null,""]
[null,null,null,null,null,null,null,null,null,null,""]
[null,null,null,null,null,null,null,null,null,null,""]
[null,null,null,null,null,null,null,null,null,null,""]
[null,null,null,null,null,null,null,null,null,null,""]
[null,null,null,null,null,null,null,null,null,null,""]
[null,null,null,null,null,null,null,null,null,null,""]
[null,null,null,null,null,null,null,null,null,null,{"$f":"IF(OR(I3742<>\"\",J3742<>\"\"),I3742+J3742,\"\")","v":""}]
[null,null,null,null,null,null,null,null,null,null,""]
[null,null,null,null,null,null,null,null,null,null,""]
[null,null,null,null,null,null,null,null,null,null,""]
[null,null,null,null,null,null,null,null,null,null,""]
[null,null,null,null,null,null,null,null,null,null,""]
[null,null,null,null,null,null,null,null,null,null,""]
[null,null,null,null,null,null,null,null,null,null,""]
[null,null,null,null,null,null,null,null,null,null,""]
[null,null,null,null,null,null,null,null,null,null,""]
[null,null,null,null,null,null,null,null,null,null,""]
[null,null,null,null,null,null,null,null,null,null,""]
[null,null,null,null,null,null,null,null,null,null,""]
[null,null,null,null,null,null,null,null,null,null,""]
[null,null,null,null,null,null,null,null,null,null,""]
[null,null,null,null,null,null,null,null,null,null,""]
[null,null,null,null,null,null,null,null,null,null,""]
[null,null,null,null,null,null,null,null,null,null,""]
[null,null,null,null,null,null,null,null,null,null,""]
[null,null,null,null,null,null,null,null,null,null,""]
[null,null,null,null,null,null,null,null,null,null,""]
[null,null,null,null,null,null,null,null,null,null,""]
[null,null,null,null,null,null,null,null,null,null,""]
[null,null,null,null,null,null,null,null,null,null,""]
[null,null,null,null,null,null,null,null,null,null,""]
[null,null,null,null,null,null,null,null,null,null,""]
[null,null,null,null,null,null,null,null,null,null,""]
[null,null,null,null,null,null,null,null,null,null,""]
[null,null,null,null,null,null,null,null,null,null,""]
[null,null,null,null,null,null,null,null,null,null,""]
[null,null,null,null,null,null,null,null,null,null,""]
[null,null,null,null,null,null,null,null,null,null,""]
[null,null,null,null,null,null,null,null,null,null,""]
[null,null,null,null,null,null,null,null,null,null,""]
[null,null,null,null,null,null,null,null,null,null,""]
[null,null,null,null,null,null,null,null,null,null,""]
[null,null,null,null,null,null,null,null,null,null,""]
[null,null,null,null,null,null,null,null,null,null,""]
[null,null,null,null,null,null,null,null,null,null,""]
[null,null,null,null,null,null,null,null,null,null,""]
[null,null,null,null,null,null,null,null,null,null,""]
[null,null,null,null,null,null,null,null,null,null,""]
[null,null,null,null,null,null,null,null,null,null,""]
[null,null,null,null,null,null,null,null,null,null,""]
[null,null,null,null,null,null,null,null,null,null,""]
[null,null,null,null,null,null,null,null,null,null,""]
[null,null,null,null,null,null,null,null,null,null,""]
[null,null,null,null,null,null,null,null,null,null,""]
[null,null,null,null,null,null,null,null,null,null,""]
[null,null,null,null,null,null,null,null,null,null,""]
[null,null,null,null,null,null,null,null,null,null,""]
[null,null,null,null,null,null,null,null,null,null,""]
[null,null,null,null,null,null,null,null,null,null,""]
[null,null,null,null,null,null,null,null,null,null,""]
[null,null,null,null,null,null,null,null,null,null,""]
[null,null,null,null,null,null,null,null,null,null,""]
[null,null,null,null,null,null,null,null,null,null,""]
[null,null,null,null,null,null,null,null,null,null,""]
[null,null,null,null,null,null,null,null,null,null,""]
[null,null,null,null,null,null,null,null,null,null,""]
[null,null,null,null,null,null,null,null,null,null,""]
[null,null,null,null,null,null,null,null,null,null,""]
[null,null,null,null,null,null,null,null,null,null,""]
[null,null,null,null,null,null,null,null,null,null,""]
[null,null,null,null,null,null,null,null,null,null,{"$f":"IF(OR(I3806<>\"\",J3806<>\"\"),I3806+J3806,\"\")","v":""}]
[null,null,null,null,null,null,null,null,null,null,""]
[null,null,null,null,null,null,null,null,null,null,""]
[null,null,null,null,null,null,null,null,null,null,""]
[null,null,null,null,null,null,null,null,null,null,""]
[null,null,null,null,null,null,null,null,null,null,""]
[null,null,null,null,null,null,null,null,null,null,""]
[null,null,null,null,null,null,null,null,null,null,""]
[null,null,null,null,null,null,null,null,null,null,""]
[null,null,null,null,null,null,null,null,null,null,""]
[null,null,null,null,null,null,null,null,null,null,""]
[null,null,null,null,null,null,null,null,null,null,""]
[null,null,null,null,null,null,null,null,null,null,""]
[null,null,null,null,null,null,null,null,null,null,""]
[null,null,null,null,null,null,null,null,null,null,""]
[null,null,null,null,null,null,null,null,null,null,""]
[null,null,null,null,null,null,null,null,null,null,""]
[null,null,null,null,null,null,null,null,null,null,""]
[null,null,null,null,null,null,null,null,null,null,""]
[null,null,null,null,null,null,null,null,null,null,""]
[null,null,null,null,null,null,null,null,null,null,""]
[null,null,null,null,null,null,null,null,null,null,""]
[null,null,null,null,null,null,null,null,null,null,""]
[null,null,null,null,null,null,null,null,null,null,""]
[null,null,null,null,null,null,null,null,null,null,""]
[null,null,null,null,null,null,null,null,null,null,""]
[null,null,null,null,null,null,null,null,null,null,""]
[null,null,null,null,null,null,null,null,null,null,""]
[null,null,null,null,null,null,null,null,null,null,""]
[null,null,null,null,null,null,null,null,null,null,""]
[null,null,null,null,null,null,null,null,null,null,""]
[null,null,null,null,null,null,null,null,null,null,""]
[null,null,null,null,null,null,null,null,null,null,""]
[null,null,null,null,null,null,null,null,null,null,""]
[null,null,null,null,null,null,null,null,null,null,""]
[null,null,null,null,null,null,null,null,null,null,""]
[null,null,null,null,null,null,null,null,null,null,""]
[null,null,null,null,null,null,null,null,null,null,""]
[null,null,null,null,null,null,null,null,null,null,""]
[null,null,null,null,null,null,null,null,null,null,""]
[null,null,null,null,null,null,null,null,null,null,""]
[null,null,null,null,null,null,null,null,null,null,""]
[null,null,null,null,null,null,null,null,null,null,""]
[null,null,null,null,null,null,null,null,null,null,""]
[null,null,null,null,null,null,null,null,null,null,""]
[null,null,null,null,null,null,null,null,null,null,""]
[null,null,null,null,null,null,null,null,null,null,""]
[null,null,null,null,null,null,null,null,null,null,""]
[null,null,null,null,null,null,null,null,null,null,""]
[null,null,null,null,null,null,null,null,null,null,""]
[null,null,null,null,null,null,null,null,null,null,""]
[null,null,null,null,null,null,null,null,null,null,""]
[null,null,null,null,null,null,null,null,null,null,""]
[null,null,null,null,null,null,null,null,null,null,""]
[null,null,null,null,null,null,null,null,null,null,""]
[null,null,null,null,null,null,null,null,null,null,""]
[null,null,null,null,null,null,null,null,null,null,""]
[null,null,null,null,null,null,null,null,null,null,""]
[null,null,null,null,null,null,null,null,null,null,""]
[null,null,null,null,null,null,null,null,null,null,""]
[null,null,null,null,null,null,null,null,null,null,""]
[null,null,null,null,null,null,null,null,null,null,""]
[null,null,null,null,null,null,null,null,null,null,""]
[null,null,null,null,null,null,null,null,null,null,""]
[null,null,null,null,null,null,null,null,null,null,{"$f":"IF(OR(I3870<>\"\",J3870<>\"\"),I3870+J3870,\"\")","v":""}]
[null,null,null,null,null,null,null,null,null,null,""]
[null,null,null,null,null,null,null,null,null,null,""]
[null,null,null,null,null,null,null,null,null,null,""]
[null,null,null,null,null,null,null,null,null,null,""]
[null,null,null,null,null,null,null,null,null,null,""]
[null,null,null,null,null,null,null,null,null,null,""]
[null,null,null,null,null,null,null,null,null,null,""]
[null,null,null,null,null,null,null,null,null,null,""]
[null,null,null,null,null,null,null,null,null,null,""]
[null,null,null,null,null,null,null,null,null,null,""]
[null,null,null,null,null,null,null,null,null,null,""]
[null,null,null,null,null,null,null,null,null,null,""]
[null,null,null,null,null,null,null,null,null,null,""]
[null,null,null,null,null,null,null,null,null,null,""]
[null,null,null,null,null,null,null,null,null,null,""]
[null,null,null,null,null,null,null,null,null,null,""]
[null,null,null,null,null,null,null,null,null,null,""]
[null,null,null,null,null,null,null,null,null,null,""]
[null,null,null,null,null,null,null,null,null,null,""]
[null,null,null,null,null,null,null,null,null,null,""]
[null,null,null,null,null,null,null,null,null,null,""]
[null,null,null,null,null,null,null,null,null,null,""]
[null,null,null,null,null,null,null,null,null,null,""]
[null,null,null,null,null,null,null,null,null,null,""]
[null,null,null,null,null,null,null,null,null,null,""]
[null,null,null,null,null,null,null,null,null,null,""]
[null,null,null,null,null,null,null,null,null,null,""]
[null,null,null,null,null,null,null,null,null,null,""]
[null,null,null,null,null,null,null,null,null,null,""]
[null,null,null,null,null,null,null,null,null,null,""]
[null,null,null,null,null,null,null,null,null,null,""]
[null,null,null,null,null,null,null,null,null,null,""]
[null,null,null,null,null,null,null,null,null,null,""]
[null,null,null,null,null,null,null,null,null,null,""]
[null,null,null,null,null,null,null,null,null,null,""]
[null,null,null,null,null,null,null,null,null,null,""]
[null,null,null,null,null,null,null,null,null,null,""]
[null,null,null,null,null,null,null,null,null,null,""]
[null,null,null,null,null,null,null,null,null,null,""]
[null,null,null,null,null,null,null,null,null,null,""]
[null,null,null,null,null,null,null,null,null,null,""]
[null,null,null,null,null,null,null,null,null,null,""]
[null,null,null,null,null,null,null,null,null,null,""]
[null,null,null,null,null,null,null,null,null,null,""]
[null,null,null,null,null,null,null,null,null,null,""]
[null,null,null,null,null,null,null,null,null,null,""]
[null,null,null,null,null,null,null,null,null,null,""]
[null,null,null,null,null,null,null,null,null,null,""]
[null,null,null,null,null,null,null,null,null,null,""]
[null,null,null,null,null,null,null,null,null,null,""]
[null,null,null,null,null,null,null,null,null,null,""]
[null,null,null,null,null,null,null,null,null,null,""]
[null,null,null,null,null,null,null,null,null,null,""]
[null,null,null,null,null,null,null,null,null,null,""]
[null,null,null,null,null,null,null,null,null,null,""]
[null,null,null,null,null,null,null,null,null,null,""]
[null,null,null,null,null,null,null,null,null,null,""]
[null,null,null,null,null,null,null,null,null,null,""]
[null,null,null,null,null,null,null,null,null,null,""]
[null,null,null,null,null,null,null,null,null,null,""]
[null,null,null,null,null,null,null,null,null,null,""]
[null,null,null,null,null,null,null,null,null,null,""]
[null,null,null,null,null,null,null,null,null,null,""]
[null,null,null,null,null,null,null,null,null,null,{"$f":"IF(OR(I3934<>\"\",J3934<>\"\"),I3934+J3934,\"\")","v":""}]
[null,null,null,null,null,null,null,null,null,null,""]
[null,null,null,null,null,null,null,null,null,null,""]
[null,null,null,null,null,null,null,null,null,null,""]
[null,null,null,null,null,null,null,null,null,null,""]
[null,null,null,null,null,null,null,null,null,null,""]
[null,null,null,null,null,null,null,null,null,null,""]
[null,null,null,null,null,null,null,null,null,null,""]
[null,null,null,null,null,null,null,null,null,null,""]
[null,null,null,null,null,null,null,null,null,null,""]
[null,null,null,null,null,null,null,null,null,null,""]
[null,null,null,null,null,null,null,null,null,null,""]
[null,null,null,null,null,null,null,null,null,null,""]
[null,null,null,null,null,null,null,null,null,null,""]
[null,null,null,null,null,null,null,null,null,null,""]
[null,null,null,null,null,null,null,null,null,null,""]
[null,null,null,null,null,null,null,null,null,null,""]
[null,null,null,null,null,null,null,null,null,null,""]
[null,null,null,null,null,null,null,null,null,null,""]
[null,null,null,null,null,null,null,null,null,null,""]
[null,null,null,null,null,null,null,null,null,null,""]
[null,null,null,null,null,null,null,null,null,null,""]
[null,null,null,null,null,null,null,null,null,null,""]
[null,null,null,null,null,null,null,null,null,null,""]
[null,null,null,null,null,null,null,null,null,null,""]
[null,null,null,null,null,null,null,null,null,null,""]
[null,null,null,null,null,null,null,null,null,null,""]
[null,null,null,null,null,null,null,null,null,null,""]
[null,null,null,null,null,null,null,null,null,null,""]
[null,null,null,null,null,null,null,null,null,null,""]
[null,null,null,null,null,null,null,null,null,null,""]
[null,null,null,null,null,null,null,null,null,null,""]
[null,null,null,null,null,null,null,null,null,null,""]
[null,null,null,null,null,null,null,null,null,null,""]
[null,null,null,null,null,null,null,null,null,null,""]
[null,null,null,null,null,null,null,null,null,null,""]
[null,null,null,null,null,null,null,null,null,null,""]
[null,null,null,null,null,null,null,null,null,null,""]
[null,null,null,null,null,null,null,null,null,null,""]
[null,null,null,null,null,null,null,null,null,null,""]
[null,null,null,null,null,null,null,null,null,null,""]
[null,null,null,null,null,null,null,null,null,null,""]
[null,null,null,null,null,null,null,null,null,null,""]
[null,null,null,null,null,null,null,null,null,null,""]
[null,null,null,null,null,null,null,null,null,null,""]
[null,null,null,null,null,null,null,null,null,null,""]
[null,null,null,null,null,null,null,null,null,null,""]
[null,null,null,null,null,null,null,null,null,null,""]
[null,null,null,null,null,null,null,null,null,null,""]
[null,null,null,null,null,null,null,null,null,null,""]
[null,null,null,null,null,null,null,null,null,null,""]
[null,null,null,null,null,null,null,null,null,null,""]
[null,null,null,null,null,null,null,null,null,null,""]
[null,null,null,null,null,null,null,null,null,null,""]
[null,null,null,null,null,null,null,null,null,null,""]
[null,null,null,null,null,null,null,null,null,null,""]
[null,null,null,null,null,null,null,null,null,null,""]
[null,null,null,null,null,null,null,null,null,null,""]
[null,null,null,null,null,null,null,null,null,null,""]
[null,null,null,null,null,null,null,null,null,null,""]
[null,null,null,null,null,null,null,null,null,null,""]
[null,null,null,null,null,null,null,null,null,null,""]
[null,null,null,null,null,null,null,null,null,null,""]
[null,null,null,null,null,null,null,null,null,null,""]
[null,null,null,null,null,null,null,null,null,null,{"$f":"IF(OR(I3998<>\"\",J3998<>\"\"),I3998+J3998,\"\")","v":""}]
[null,null,null,null,null,null,null,null,null,null,""]
[null,null,null,null,null,null,null,null,null,null,""]
[null,null,null,null,null,null,null,null,null,null,""]
[null,null,null,null,null,null,null,null,null,null,""]
[null,null,null,null,null,null,null,null,null,null,""]
[null,null,null,null,null,null,null,null,null,null,""]
[null,null,null,null,null,null,null,null,null,null,""]
[null,null,null,null,null,null,null,null,null,null,""]
[null,null,null,null,null,null,null,null,null,null,""]
[null,null,null,null,null,null,null,null,null,null,""]
[null,null,null,null,null,null,null,null,null,null,""]
[null,null,null,null,null,null,null,null,null,null,""]
[null,null,null,null,null,null,null,null,null,null,""]
[null,null,null,null,null,null,null,null,null,null,""]
[null,null,null,null,null,null,null,null,null,null,""]
[null,null,null,null,null,null,null,null,null,null,""]
[null,null,null,null,null,null,null,null,null,null,""]
[null,null,null,null,null,null,null,null,null,null,""]
[null,null,null,null,null,null,null,null,null,null,""]
[null,null,null,null,null,null,null,null,null,null,""]
[null,null,null,null,null,null,null,null,null,null,""]
[null,null,null,null,null,null,null,null,null,null,""]
[null,null,null,null,null,null,null,null,null,null,""]
[null,null,null,null,null,null,null,null,null,null,""]
[null,null,null,null,null,null,null,null,null,null,""]
[null,null,null,null,null,null,null,null,null,null,""]
[null,null,null,null,null,null,null,null,null,null,""]
[null,null,null,null,null,null,null,null,null,null,""]
[null,null,null,null,null,null,null,null,null,null,""]
[null,null,null,null,null,null,null,null,null,null,""]
[null,null,null,null,null,null,null,null,null,null,""]
[null,null,null,null,null,null,null,null,null,null,""]
[null,null,null,null,null,null,null,null,null,null,""]
[null,null,null,null,null,null,null,null,null,null,""]
[null,null,null,null,null,null,null,null,null,null,""]
[null,null,null,null,null,null,null,null,null,null,""]
[null,null,null,null,null,null,null,null,null,null,""]
[null,null,null,null,null,null,null,null,null,null,""]
[null,null,null,null,null,null,null,null,null,null,""]
[null,null,null,null,null,null,null,null,null,null,""]
[null,null,null,null,null,null,null,null,null,null,""]
[null,null,null,null,null,null,null,null,null,null,""]
[null,null,null,null,null,null,null,null,null,null,""]
[null,null,null,null,null,null,null,null,null,null,""]
[null,null,null,null,null,null,null,null,null,null,""]
[null,null,null,null,null,null,null,null,null,null,""]
[null,null,null,null,null,null,null,null,null,null,""]
[null,null,null,null,null,null,null,null,null,null,""]
[null,null,null,null,null,null,null,null,null,null,""]
[null,null,null,null,null,null,null,null,null,null,""]
[null,null,null,null,null,null,null,null,null,null,""]
[null,null,null,null,null,null,null,null,null,null,""]
[null,null,null,null,null,null,null,null,null,null,""]
[null,null,null,null,null,null,null,null,null,null,""]
[null,null,null,null,null,null,null,null,null,null,""]
[null,null,null,null,null,null,null,null,null,null,""]
[null,null,null,null,null,null,null,null,null,null,""]
[null,null,null,null,null,null,null,null,null,null,""]
[null,null,null,null,null,null,null,null,null,null,""]
[null,null,null,null,null,null,null,null,null,null,""]
[null,null,null,null,null,null,null,null,null,null,""]
[null,null,null,null,null,null,null,null,null,null,""]
[null,null,null,null,null,null,null,null,null,null,""]
[null,null,null,null,null,null,null,null,null,null,{"$f":"IF(OR(I4062<>\"\",J4062<>\"\"),I4062+J4062,\"\")","v":""}]
[null,null,null,null,null,null,null,null,null,null,""]
[null,null,null,null,null,null,null,null,null,null,""]
[null,null,null,null,null,null,null,null,null,null,""]
[null,null,null,null,null,null,null,null,null,null,""]
[null,null,null,null,null,null,null,null,null,null,""]
[null,null,null,null,null,null,null,null,null,null,""]
[null,null,null,null,null,null,null,null,null,null,""]
[null,null,null,null,null,null,null,null,null,null,""]
[null,null,null,null,null,null,null,null,null,null,""]
[null,null,null,null,null,null,null,null,null,null,""]
[null,null,null,null,null,null,null,null,null,null,""]
[null,null,null,null,null,null,null,null,null,null,""]
[null,null,null,null,null,null,null,null,null,null,""]
[null,null,null,null,null,null,null,null,null,null,""]
[null,null,null,null,null,null,null,null,null,null,""]
[null,null,null,null,null,null,null,null,null,null,""]
[null,null,null,null,null,null,null,null,null,null,""]
[null,null,null,null,null,null,null,null,null,null,""]
[null,null,null,null,null,null,null,null,null,null,""]
[null,null,null,null,null,null,null,null,null,null,""]
[null,null,null,null,null,null,null,null,null,null,""]
[null,null,null,null,null,null,null,null,null,null,""]
[null,null,null,null,null,null,null,null,null,null,""]
[null,null,null,null,null,null,null,null,null,null,""]
[null,null,null,null,null,null,null,null,null,null,""]
[null,null,null,null,null,null,null,null,null,null,""]
[null,null,null,null,null,null,null,null,null,null,""]
[null,null,null,null,null,null,null,null,null,null,""]
[null,null,null,null,null,null,null,null,null,null,""]
[null,null,null,null,null,null,null,null,null,null,""]
[null,null,null,null,null,null,null,null,null,null,""]
[null,null,null,null,null,null,null,null,null,null,""]
[null,null,null,null,null,null,null,null,null,null,""]
[null,null,null,null,null,null,null,null,null,null,""]
[null,null,null,null,null,null,null,null,null,null,""]
[null,null,null,null,null,null,null,null,null,null,""]
[null,null,null,null,null,null,null,null,null,null,""]
[null,null,null,null,null,null,null,null,null,null,""]
[null,null,null,null,null,null,null,null,null,null,""]
[null,null,null,null,null,null,null,null,null,null,""]
[null,null,null,null,null,null,null,null,null,null,""]
[null,null,null,null,null,null,null,null,null,null,""]
[null,null,null,null,null,null,null,null,null,null,""]
[null,null,null,null,null,null,null,null,null,null,""]
[null,null,null,null,null,null,null,null,null,null,""]
[null,null,null,null,null,null,null,null,null,null,""]
[null,null,null,null,null,null,null,null,null,null,""]
[null,null,null,null,null,null,null,null,null,null,""]
[null,null,null,null,null,null,null,null,null,null,""]
[null,null,null,null,null,null,null,null,null,null,""]
[null,null,null,null,null,null,null,null,null,null,""]
[null,null,null,null,null,null,null,null,null,null,""]
[null,null,null,null,null,null,null,null,null,null,""]
[null,null,null,null,null,null,null,null,null,null,""]
[null,null,null,null,null,null,null,null,null,null,""]
[null,null,null,null,null,null,null,null,null,null,""]
[null,null,null,null,null,null,null,null,null,null,""]
[null,null,null,null,null,null,null,null,null,null,""]
[null,null,null,null,null,null,null,null,null,null,""]
[null,null,null,null,null,null,null,null,null,null,""]
[null,null,null,null,null,null,null,null,null,null,""]
[null,null,null,null,null,null,null,null,null,null,""]
[null,null,null,null,null,null,null,null,null,null,""]
[null,null,null,null,null,null,null,null,null,null,{"$f":"IF(OR(I4126<>\"\",J4126<>\"\"),I4126+J4126,\"\")","v":""}]
[null,null,null,null,null,null,null,null,null,null,""]
[null,null,null,null,null,null,null,null,null,null,""]
[null,null,null,null,null,null,null,null,null,null,""]
[null,null,null,null,null,null,null,null,null,null,""]
[null,null,null,null,null,null,null,null,null,null,""]
[null,null,null,null,null,null,null,null,null,null,""]
[null,null,null,null,null,null,null,null,null,null,""]
[null,null,null,null,null,null,null,null,null,null,""]
[null,null,null,null,null,null,null,null,null,null,""]
[null,null,null,null,null,null,null,null,null,null,""]
[null,null,null,null,null,null,null,null,null,null,""]
[null,null,null,null,null,null,null,null,null,null,""]
[null,null,null,null,null,null,null,null,null,null,""]
[null,null,null,null,null,null,null,null,null,null,""]
[null,null,null,null,null,null,null,null,null,null,""]
[null,null,null,null,null,null,null,null,null,null,""]
[null,null,null,null,null,null,null,null,null,null,""]
[null,null,null,null,null,null,null,null,null,null,""]
[null,null,null,null,null,null,null,null,null,null,""]
[null,null,null,null,null,null,null,null,null,null,""]
[null,null,null,null,null,null,null,null,null,null,""]
[null,null,null,null,null,null,null,null,null,null,""]
[null,null,null,null,null,null,null,null,null,null,""]
[null,null,null,null,null,null,null,null,null,null,""]
[null,null,null,null,null,null,null,null,null,null,""]
[null,null,null,null,null,null,null,null,null,null,""]
[null,null,null,null,null,null,null,null,null,null,""]
[null,null,null,null,null,null,null,null,null,null,""]
[null,null,null,null,null,null,null,null,null,null,""]
[null,null,null,null,null,null,null,null,null,null,""]
[null,null,null,null,null,null,null,null,null,null,""]
[null,null,null,null,null,null,null,null,null,null,""]
[null,null,null,null,null,null,null,null,null,null,""]
[null,null,null,null,null,null,null,null,null,null,""]
[null,null,null,null,null,null,null,null,null,null,""]
[null,null,null,null,null,null,null,null,null,null,""]
[null,null,null,null,null,null,null,null,null,null,""]
[null,null,null,null,null,null,null,null,null,null,""]
[null,null,null,null,null,null,null,null,null,null,""]
[null,null,null,null,null,null,null,null,null,null,""]
[null,null,null,null,null,null,null,null,null,null,""]
[null,null,null,null,null,null,null,null,null,null,""]
[null,null,null,null,null,null,null,null,null,null,""]
[null,null,null,null,null,null,null,null,null,null,""]
[null,null,null,null,null,null,null,null,null,null,""]
[null,null,null,null,null,null,null,null,null,null,""]
[null,null,null,null,null,null,null,null,null,null,""]
[null,null,null,null,null,null,null,null,null,null,""]
[null,null,null,null,null,null,null,null,null,null,""]
[null,null,null,null,null,null,null,null,null,null,""]
[null,null,null,null,null,null,null,null,null,null,""]
[null,null,null,null,null,null,null,null,null,null,""]
[null,null,null,null,null,null,null,null,null,null,""]
[null,null,null,null,null,null,null,null,null,null,""]
[null,null,null,null,null,null,null,null,null,null,""]
[null,null,null,null,null,null,null,null,null,null,""]
[null,null,null,null,null,null,null,null,null,null,""]
[null,null,null,null,null,null,null,null,null,null,""]
[null,null,null,null,null,null,null,null,null,null,""]
[null,null,null,null,null,null,null,null,null,null,""]
[null,null,null,null,null,null,null,null,null,null,""]
[null,null,null,null,null,null,null,null,null,null,""]
[null,null,null,null,null,null,null,null,null,null,""]
[null,null,null,null,null,null,null,null,null,null,{"$f":"IF(OR(I4190<>\"\",J4190<>\"\"),I4190+J4190,\"\")","v":""}]
[null,null,null,null,null,null,null,null,null,null,""]
[null,null,null,null,null,null,null,null,null,null,""]
[null,null,null,null,null,null,null,null,null,null,""]
[null,null,null,null,null,null,null,null,null,null,""]
[null,null,null,null,null,null,null,null,null,null,""]
[null,null,null,null,null,null,null,null,null,null,""]
[null,null,null,null,null,null,null,null,null,null,""]
[null,null,null,null,null,null,null,null,null,null,""]
[null,null,null,null,null,null,null,null,null,null,""]
[null,null,null,null,null,null,null,null,null,null,""]
[null,null,null,null,null,null,null,null,null,null,""]
[null,null,null,null,null,null,null,null,null,null,""]
[null,null,null,null,null,null,null,null,null,null,""]
[null,null,null,null,null,null,null,null,null,null,""]
[null,null,null,null,null,null,null,null,null,null,""]
[null,null,null,null,null,null,null,null,null,null,""]
[null,null,null,null,null,null,null,null,null,null,""]
[null,null,null,null,null,null,null,null,null,null,""]
[null,null,null,null,null,null,null,null,null,null,""]
[null,null,null,null,null,null,null,null,null,null,""]
[null,null,null,null,null,null,null,null,null,null,""]
[null,null,null,null,null,null,null,null,null,null,""]
[null,null,null,null,null,null,null,null,null,null,""]
[null,null,null,null,null,null,null,null,null,null,""]
[null,null,null,null,null,null,null,null,null,null,""]
[null,null,null,null,null,null,null,null,null,null,""]
[null,null,null,null,null,null,null,null,null,null,""]
[null,null,null,null,null,null,null,null,null,null,""]
[null,null,null,null,null,null,null,null,null,null,""]
[null,null,null,null,null,null,null,null,null,null,""]
[null,null,null,null,null,null,null,null,null,null,""]
[null,null,null,null,null,null,null,null,null,null,""]
[null,null,null,null,null,null,null,null,null,null,""]
[null,null,null,null,null,null,null,null,null,null,""]
[null,null,null,null,null,null,null,null,null,null,""]
[null,null,null,null,null,null,null,null,null,null,""]
[null,null,null,null,null,null,null,null,null,null,""]
[null,null,null,null,null,null,null,null,null,null,""]
[null,null,null,null,null,null,null,null,null,null,""]
[null,null,null,null,null,null,null,null,null,null,""]
[null,null,null,null,null,null,null,null,null,null,""]
[null,null,null,null,null,null,null,null,null,null,""]
[null,null,null,null,null,null,null,null,null,null,""]
[null,null,null,null,null,null,null,null,null,null,""]
[null,null,null,null,null,null,null,null,null,null,""]
[null,null,null,null,null,null,null,null,null,null,""]
[null,null,null,null,null,null,null,null,null,null,""]
[null,null,null,null,null,null,null,null,null,null,""]
[null,null,null,null,null,null,null,null,null,null,""]
[null,null,null,null,null,null,null,null,null,null,""]
[null,null,null,null,null,null,null,null,null,null,""]
[null,null,null,null,null,null,null,null,null,null,""]
[null,null,null,null,null,null,null,null,null,null,""]
[null,null,null,null,null,null,null,null,null,null,""]
[null,null,null,null,null,null,null,null,null,null,""]
[null,null,null,null,null,null,null,null,null,null,""]
[null,null,null,null,null,null,null,null,null,null,""]
[null,null,null,null,null,null,null,null,null,null,""]
[null,null,null,null,null,null,null,null,null,null,""]
[null,null,null,null,null,null,null,null,null,null,""]
[null,null,null,null,null,null,null,null,null,null,""]
[null,null,null,null,null,null,null,null,null,null,""]
[null,null,null,null,null,null,null,null,null,null,""]
[null,null,null,null,null,null,null,null,null,null,{"$f":"IF(OR(I4254<>\"\",J4254<>\"\"),I4254+J4254,\"\")","v":""}]
[null,null,null,null,null,null,null,null,null,null,""]
[null,null,null,null,null,null,null,null,null,null,""]
[null,null,null,null,null,null,null,null,null,null,""]
[null,null,null,null,null,null,null,null,null,null,""]
[null,null,null,null,null,null,null,null,null,null,""]
[null,null,null,null,null,null,null,null,null,null,""]
[null,null,null,null,null,null,null,null,null,null,""]
[null,null,null,null,null,null,null,null,null,null,""]
[null,null,null,null,null,null,null,null,null,null,""]
[null,null,null,null,null,null,null,null,null,null,""]
[null,null,null,null,null,null,null,null,null,null,""]
[null,null,null,null,null,null,null,null,null,null,""]
[null,null,null,null,null,null,null,null,null,null,""]
[null,null,null,null,null,null,null,null,null,null,""]
[null,null,null,null,null,null,null,null,null,null,""]
[null,null,null,null,null,null,null,null,null,null,""]
[null,null,null,null,null,null,null,null,null,null,""]
[null,null,null,null,null,null,null,null,null,null,""]
[null,null,null,null,null,null,null,null,null,null,""]
[null,null,null,null,null,null,null,null,null,null,""]
[null,null,null,null,null,null,null,null,null,null,""]
[null,null,null,null,null,null,null,null,null,null,""]
[null,null,null,null,null,null,null,null,null,null,""]
[null,null,null,null,null,null,null,null,null,null,""]
[null,null,null,null,null,null,null,null,null,null,""]
[null,null,null,null,null,null,null,null,null,null,""]
[null,null,null,null,null,null,null,null,null,null,""]
[null,null,null,null,null,null,null,null,null,null,""]
[null,null,null,null,null,null,null,null,null,null,""]
[null,null,null,null,null,null,null,null,null,null,""]
[null,null,null,null,null,null,null,null,null,null,""]
[null,null,null,null,null,null,null,null,null,null,""]
[null,null,null,null,null,null,null,null,null,null,""]
[null,null,null,null,null,null,null,null,null,null,""]
[null,null,null,null,null,null,null,null,null,null,""]
[null,null,null,null,null,null,null,null,null,null,""]
[null,null,null,null,null,null,null,null,null,null,""]
[null,null,null,null,null,null,null,null,null,null,""]
[null,null,null,null,null,null,null,null,null,null,""]
[null,null,null,null,null,null,null,null,null,null,""]
[null,null,null,null,null,null,null,null,null,null,""]
[null,null,null,null,null,null,null,null,null,null,""]
[null,null,null,null,null,null,null,null,null,null,""]
[null,null,null,null,null,null,null,null,null,null,""]
[null,null,null,null,null,null,null,null,null,null,""]
[null,null,null,null,null,null,null,null,null,null,""]
[null,null,null,null,null,null,null,null,null,null,""]
[null,null,null,null,null,null,null,null,null,null,""]
[null,null,null,null,null,null,null,null,null,null,""]
[null,null,null,null,null,null,null,null,null,null,""]
[null,null,null,null,null,null,null,null,null,null,""]
[null,null,null,null,null,null,null,null,null,null,""]
[null,null,null,null,null,null,null,null,null,null,""]
[null,null,null,null,null,null,null,null,null,null,""]
[null,null,null,null,null,null,null,null,null,null,""]
[null,null,null,null,null,null,null,null,null,null,""]
[null,null,null,null,null,null,null,null,null,null,""]
[null,null,null,null,null,null,null,null,null,null,""]
[null,null,null,null,null,null,null,null,null,null,""]
[null,null,null,null,null,null,null,null,null,null,""]
[null,null,null,null,null,null,null,null,null,null,""]
[null,null,null,null,null,null,null,null,null,null,""]
[null,null,null,null,null,null,null,null,null,null,""]
[null,null,null,null,null,null,null,null,null,null,{"$f":"IF(OR(I4318<>\"\",J4318<>\"\"),I4318+J4318,\"\")","v":""}]
[null,null,null,null,null,null,null,null,null,null,""]
[null,null,null,null,null,null,null,null,null,null,""]
[null,null,null,null,null,null,null,null,null,null,""]
[null,null,null,null,null,null,null,null,null,null,""]
[null,null,null,null,null,null,null,null,null,null,""]
[null,null,null,null,null,null,null,null,null,null,""]
[null,null,null,null,null,null,null,null,null,null,""]
[null,null,null,null,null,null,null,null,null,null,""]
[null,null,null,null,null,null,null,null,null,null,""]
[null,null,null,null,null,null,null,null,null,null,""]
[null,null,null,null,null,null,null,null,null,null,""]
[null,null,null,null,null,null,null,null,null,null,""]
[null,null,null,null,null,null,null,null,null,null,""]
[null,null,null,null,null,null,null,null,null,null,""]
[null,null,null,null,null,null,null,null,null,null,""]
[null,null,null,null,null,null,null,null,null,null,""]
[null,null,null,null,null,null,null,null,null,null,""]
[null,null,null,null,null,null,null,null,null,null,""]
[null,null,null,null,null,null,null,null,null,null,""]
[null,null,null,null,null,null,null,null,null,null,""]
[null,null,null,null,null,null,null,null,null,null,""]
[null,null,null,null,null,null,null,null,null,null,""]
[null,null,null,null,null,null,null,null,null,null,""]
[null,null,null,null,null,null,null,null,null,null,""]
[null,null,null,null,null,null,null,null,null,null,""]
[null,null,null,null,null,null,null,null,null,null,""]
[null,null,null,null,null,null,null,null,null,null,""]
[null,null,null,null,null,null,null,null,null,null,""]
[null,null,null,null,null,null,null,null,null,null,""]
[null,null,null,null,null,null,null,null,null,null,""]
[null,null,null,null,null,null,null,null,null,null,""]
[null,null,null,null,null,null,null,null,null,null,""]
[null,null,null,null,null,null,null,null,null,null,""]
[null,null,null,null,null,null,null,null,null,null,""]
[null,null,null,null,null,null,null,null,null,null,""]
[null,null,null,null,null,null,null,null,null,null,""]
[null,null,null,null,null,null,null,null,null,null,""]
[null,null,null,null,null,null,null,null,null,null,""]
[null,null,null,null,null,null,null,null,null,null,""]
[null,null,null,null,null,null,null,null,null,null,""]
[null,null,null,null,null,null,null,null,null,null,""]
[null,null,null,null,null,null,null,null,null,null,""]
[null,null,null,null,null,null,null,null,null,null,""]
[null,null,null,null,null,null,null,null,null,null,""]
[null,null,null,null,null,null,null,null,null,null,""]
[null,null,null,null,null,null,null,null,null,null,""]
[null,null,null,null,null,null,null,null,null,null,""]
[null,null,null,null,null,null,null,null,null,null,""]
[null,null,null,null,null,null,null,null,null,null,""]
[null,null,null,null,null,null,null,null,null,null,""]
[null,null,null,null,null,null,null,null,null,null,""]
[null,null,null,null,null,null,null,null,null,null,""]
[null,null,null,null,null,null,null,null,null,null,""]
[null,null,null,null,null,null,null,null,null,null,""]
[null,null,null,null,null,null,null,null,null,null,""]
[null,null,null,null,null,null,null,null,null,null,""]
[null,null,null,null,null,null,null,null,null,null,""]
[null,null,null,null,null,null,null,null,null,null,""]
[null,null,null,null,null,null,null,null,null,null,""]
[null,null,null,null,null,null,null,null,null,null,""]
[null,null,null,null,null,null,null,null,null,null,""]
[null,null,null,null,null,null,null,null,null,null,""]
[null,null,null,null,null,null,null,null,null,null,""]
[null,null,null,null,null,null,null,null,null,null,{"$f":"IF(OR(I4382<>\"\",J4382<>\"\"),I4382+J4382,\"\")","v":""}]
[null,null,null,null,null,null,null,null,null,null,""]
[null,null,null,null,null,null,null,null,null,null,""]
[null,null,null,null,null,null,null,null,null,null,""]
[null,null,null,null,null,null,null,null,null,null,""]
[null,null,null,null,null,null,null,null,null,null,""]
[null,null,null,null,null,null,null,null,null,null,""]
[null,null,null,null,null,null,null,null,null,null,""]
[null,null,null,null,null,null,null,null,null,null,""]
[null,null,null,null,null,null,null,null,null,null,""]
[null,null,null,null,null,null,null,null,null,null,""]
[null,null,null,null,null,null,null,null,null,null,""]
[null,null,null,null,null,null,null,null,null,null,""]
[null,null,null,null,null,null,null,null,null,null,""]
[null,null,null,null,null,null,null,null,null,null,""]
[null,null,null,null,null,null,null,null,null,null,""]
[null,null,null,null,null,null,null,null,null,null,""]
[null,null,null,null,null,null,null,null,null,null,""]
[null,null,null,null,null,null,null,null,null,null,""]
[null,null,null,null,null,null,null,null,null,null,""]
[null,null,null,null,null,null,null,null,null,null,""]
[null,null,null,null,null,null,null,null,null,null,""]
[null,null,null,null,null,null,null,null,null,null,""]
[null,null,null,null,null,null,null,null,null,null,""]
[null,null,null,null,null,null,null,null,null,null,""]
[null,null,null,null,null,null,null,null,null,null,""]
[null,null,null,null,null,null,null,null,null,null,""]
[null,null,null,null,null,null,null,null,null,null,""]
[null,null,null,null,null,null,null,null,null,null,""]
[null,null,null,null,null,null,null,null,null,null,""]
[null,null,null,null,null,null,null,null,null,null,""]
[null,null,null,null,null,null,null,null,null,null,""]
[null,null,null,null,null,null,null,null,null,null,""]
[null,null,null,null,null,null,null,null,null,null,""]
[null,null,null,null,null,null,null,null,null,null,""]
[null,null,null,null,null,null,null,null,null,null,""]
[null,null,null,null,null,null,null,null,null,null,""]
[null,null,null,null,null,null,null,null,null,null,""]
[null,null,null,null,null,null,null,null,null,null,""]
[null,null,null,null,null,null,null,null,null,null,""]
[null,null,null,null,null,null,null,null,null,null,""]
[null,null,null,null,null,null,null,null,null,null,""]
[null,null,null,null,null,null,null,null,null,null,""]
[null,null,null,null,null,null,null,null,null,null,""]
[null,null,null,null,null,null,null,null,null,null,""]
[null,null,null,null,null,null,null,null,null,null,""]
[null,null,null,null,null,null,null,null,null,null,""]
[null,null,null,null,null,null,null,null,null,null,""]
[null,null,null,null,null,null,null,null,null,null,""]
[null,null,null,null,null,null,null,null,null,null,""]
[null,null,null,null,null,null,null,null,null,null,""]
[null,null,null,null,null,null,null,null,null,null,""]
[null,null,null,null,null,null,null,null,null,null,""]
[null,null,null,null,null,null,null,null,null,null,""]
[null,null,null,null,null,null,null,null,null,null,""]
[null,null,null,null,null,null,null,null,null,null,""]
[null,null,null,null,null,null,null,null,null,null,""]
[null,null,null,null,null,null,null,null,null,null,""]
[null,null,null,null,null,null,null,null,null,null,""]
[null,null,null,null,null,null,null,null,null,null,""]
[null,null,null,null,null,null,null,null,null,null,""]
[null,null,null,null,null,null,null,null,null,null,""]
[null,null,null,null,null,null,null,null,null,null,""]
[null,null,null,null,null,null,null,null,null,null,""]
[null,null,null,null,null,null,null,null,null,null,{"$f":"IF(OR(I4446<>\"\",J4446<>\"\"),I4446+J4446,\"\")","v":""}]
[null,null,null,null,null,null,null,null,null,null,""]
[null,null,null,null,null,null,null,null,null,null,""]
[null,null,null,null,null,null,null,null,null,null,""]
[null,null,null,null,null,null,null,null,null,null,""]
[null,null,null,null,null,null,null,null,null,null,""]
[null,null,null,null,null,null,null,null,null,null,""]
[null,null,null,null,null,null,null,null,null,null,""]
[null,null,null,null,null,null,null,null,null,null,""]
[null,null,null,null,null,null,null,null,null,null,""]
[null,null,null,null,null,null,null,null,null,null,""]
[null,null,null,null,null,null,null,null,null,null,""]
[null,null,null,null,null,null,null,null,null,null,""]
[null,null,null,null,null,null,null,null,null,null,""]
[null,null,null,null,null,null,null,null,null,null,""]
[null,null,null,null,null,null,null,null,null,null,""]
[null,null,null,null,null,null,null,null,null,null,""]
[null,null,null,null,null,null,null,null,null,null,""]
[null,null,null,null,null,null,null,null,null,null,""]
[null,null,null,null,null,null,null,null,null,null,""]
[null,null,null,null,null,null,null,null,null,null,""]
[null,null,null,null,null,null,null,null,null,null,""]
[null,null,null,null,null,null,null,null,null,null,""]
[null,null,null,null,null,null,null,null,null,null,""]
[null,null,null,null,null,null,null,null,null,null,""]
[null,null,null,null,null,null,null,null,null,null,""]
[null,null,null,null,null,null,null,null,null,null,""]
[null,null,null,null,null,null,null,null,null,null,""]
[null,null,null,null,null,null,null,null,null,null,""]
[null,null,null,null,null,null,null,null,null,null,""]
[null,null,null,null,null,null,null,null,null,null,""]
[null,null,null,null,null,null,null,null,null,null,""]
[null,null,null,null,null,null,null,null,null,null,""]
[null,null,null,null,null,null,null,null,null,null,""]
[null,null,null,null,null,null,null,null,null,null,""]
[null,null,null,null,null,null,null,null,null,null,""]
[null,null,null,null,null,null,null,null,null,null,""]
[null,null,null,null,null,null,null,null,null,null,""]
[null,null,null,null,null,null,null,null,null,null,""]
[null,null,null,null,null,null,null,null,null,null,""]
[null,null,null,null,null,null,null,null,null,null,""]
[null,null,null,null,null,null,null,null,null,null,""]
[null,null,null,null,null,null,null,null,null,null,""]
[null,null,null,null,null,null,null,null,null,null,""]
[null,null,null,null,null,null,null,null,null,null,""]
[null,null,null,null,null,null,null,null,null,null,""]
[null,null,null,null,null,null,null,null,null,null,""]
[null,null,null,null,null,null,null,null,null,null,""]
[null,null,null,null,null,null,null,null,null,null,""]
[null,null,null,null,null,null,null,null,null,null,""]
[null,null,null,null,null,null,null,null,null,null,""]
[null,null,null,null,null,null,null,null,null,null,""]
[null,null,null,null,null,null,null,null,null,null,""]
[null,null,null,null,null,null,null,null,null,null,""]
[null,null,null,null,null,null,null,null,null,null,""]
[null,null,null,null,null,null,null,null,null,null,""]
[null,null,null,null,null,null,null,null,null,null,""]
[null,null,null,null,null,null,null,null,null,null,""]
[null,null,null,null,null,null,null,null,null,null,""]
[null,null,null,null,null,null,null,null,null,null,""]
[null,null,null,null,null,null,null,null,null,null,""]
[null,null,null,null,null,null,null,null,null,null,""]
[null,null,null,null,null,null,null,null,null,null,""]
[null,null,null,null,null,null,null,null,null,null,""]
[null,null,null,null,null,null,null,null,null,null,{"$f":"IF(OR(I4510<>\"\",J4510<>\"\"),I4510+J4510,\"\")","v":""}]
[null,null,null,null,null,null,null,null,null,null,""]
[null,null,null,null,null,null,null,null,null,null,""]
[null,null,null,null,null,null,null,null,null,null,""]
[null,null,null,null,null,null,null,null,null,null,""]
[null,null,null,null,null,null,null,null,null,null,""]
[null,null,null,null,null,null,null,null,null,null,""]
[null,null,null,null,null,null,null,null,null,null,""]
[null,null,null,null,null,null,null,null,null,null,""]
[null,null,null,null,null,null,null,null,null,null,""]
[null,null,null,null,null,null,null,null,null,null,""]
[null,null,null,null,null,null,null,null,null,null,""]
[null,null,null,null,null,null,null,null,null,null,""]
[null,null,null,null,null,null,null,null,null,null,""]
[null,null,null,null,null,null,null,null,null,null,""]
[null,null,null,null,null,null,null,null,null,null,""]
[null,null,null,null,null,null,null,null,null,null,""]
[null,null,null,null,null,null,null,null,null,null,""]
[null,null,null,null,null,null,null,null,null,null,""]
[null,null,null,null,null,null,null,null,null,null,""]
[null,null,null,null,null,null,null,null,null,null,""]
[null,null,null,null,null,null,null,null,null,null,""]
[null,null,null,null,null,null,null,null,null,null,""]
[null,null,null,null,null,null,null,null,null,null,""]
[null,null,null,null,null,null,null,null,null,null,""]
[null,null,null,null,null,null,null,null,null,null,""]
[null,null,null,null,null,null,null,null,null,null,""]
[null,null,null,null,null,null,null,null,null,null,""]
[null,null,null,null,null,null,null,null,null,null,""]
[null,null,null,null,null,null,null,null,null,null,""]
[null,null,null,null,null,null,null,null,null,null,""]
[null,null,null,null,null,null,null,null,null,null,""]
[null,null,null,null,null,null,null,null,null,null,""]
[null,null,null,null,null,null,null,null,null,null,""]
[null,null,null,null,null,null,null,null,null,null,""]
[null,null,null,null,null,null,null,null,null,null,""]
[null,null,null,null,null,null,null,null,null,null,""]
[null,null,null,null,null,null,null,null,null,null,""]
[null,null,null,null,null,null,null,null,null,null,""]
[null,null,null,null,null,null,null,null,null,null,""]
[null,null,null,null,null,null,null,null,null,null,""]
[null,null,null,null,null,null,null,null,null,null,""]
[null,null,null,null,null,null,null,null,null,null,""]
[null,null,null,null,null,null,null,null,null,null,""]
[null,null,null,null,null,null,null,null,null,null,""]
[null,null,null,null,null,null,null,null,null,null,""]
[null,null,null,null,null,null,null,null,null,null,""]
[null,null,null,null,null,null,null,null,null,null,""]
[null,null,null,null,null,null,null,null,null,null,""]
[null,null,null,null,null,null,null,null,null,null,""]
[null,null,null,null,null,null,null,null,null,null,""]
[null,null,null,null,null,null,null,null,null,null,""]
[null,null,null,null,null,null,null,null,null,null,""]
[null,null,null,null,null,null,null,null,null,null,""]
[null,null,null,null,null,null,null,null,null,null,""]
[null,null,null,null,null,null,null,null,null,null,""]
[null,null,null,null,null,null,null,null,null,null,""]
[null,null,null,null,null,null,null,null,null,null,""]
[null,null,null,null,null,null,null,null,null,null,""]
[null,null,null,null,null,null,null,null,null,null,""]
[null,null,null,null,null,null,null,null,null,null,""]
[null,null,null,null,null,null,null,null,null,null,""]
[null,null,null,null,null,null,null,null,null,null,""]
[null,null,null,null,null,null,null,null,null,null,""]
[null,null,null,null,null,null,null,null,null,null,{"$f":"IF(OR(I4574<>\"\",J4574<>\"\"),I4574+J4574,\"\")","v":""}]
[null,null,null,null,null,null,null,null,null,null,""]
[null,null,null,null,null,null,null,null,null,null,""]
[null,null,null,null,null,null,null,null,null,null,""]
[null,null,null,null,null,null,null,null,null,null,""]
[null,null,null,null,null,null,null,null,null,null,""]
[null,null,null,null,null,null,null,null,null,null,""]
[null,null,null,null,null,null,null,null,null,null,""]
[null,null,null,null,null,null,null,null,null,null,""]
[null,null,null,null,null,null,null,null,null,null,""]
[null,null,null,null,null,null,null,null,null,null,""]
[null,null,null,null,null,null,null,null,null,null,""]
[null,null,null,null,null,null,null,null,null,null,""]
[null,null,null,null,null,null,null,null,null,null,""]
[null,null,null,null,null,null,null,null,null,null,""]
[null,null,null,null,null,null,null,null,null,null,""]
[null,null,null,null,null,null,null,null,null,null,""]
[null,null,null,null,null,null,null,null,null,null,""]
[null,null,null,null,null,null,null,null,null,null,""]
[null,null,null,null,null,null,null,null,null,null,""]
[null,null,null,null,null,null,null,null,null,null,""]
[null,null,null,null,null,null,null,null,null,null,""]
[null,null,null,null,null,null,null,null,null,null,""]
[null,null,null,null,null,null,null,null,null,null,""]
[null,null,null,null,null,null,null,null,null,null,""]
[null,null,null,null,null,null,null,null,null,null,""]
[null,null,null,null,null,null,null,null,null,null,""]
[null,null,null,null,null,null,null,null,null,null,""]
[null,null,null,null,null,null,null,null,null,null,""]
[null,null,null,null,null,null,null,null,null,null,""]
[null,null,null,null,null,null,null,null,null,null,""]
[null,null,null,null,null,null,null,null,null,null,""]
[null,null,null,null,null,null,null,null,null,null,""]
[null,null,null,null,null,null,null,null,null,null,""]
[null,null,null,null,null,null,null,null,null,null,""]
[null,null,null,null,null,null,null,null,null,null,""]
[null,null,null,null,null,null,null,null,null,null,""]
[null,null,null,null,null,null,null,null,null,null,""]
[null,null,null,null,null,null,null,null,null,null,""]
[null,null,null,null,null,null,null,null,null,null,""]
[null,null,null,null,null,null,null,null,null,null,""]
[null,null,null,null,null,null,null,null,null,null,""]
[null,null,null,null,null,null,null,null,null,null,""]
[null,null,null,null,null,null,null,null,null,null,""]
[null,null,null,null,null,null,null,null,null,null,""]
[null,null,null,null,null,null,null,null,null,null,""]
[null,null,null,null,null,null,null,null,null,null,""]
[null,null,null,null,null,null,null,null,null,null,""]
[null,null,null,null,null,null,null,null,null,null,""]
[null,null,null,null,null,null,null,null,null,null,""]
[null,null,null,null,null,null,null,null,null,null,""]
[null,null,null,null,null,null,null,null,null,null,""]
[null,null,null,null,null,null,null,null,null,null,""]
[null,null,null,null,null,null,null,null,null,null,""]
[null,null,null,null,null,null,null,null,null,null,""]
[null,null,null,null,null,null,null,null,null,null,""]
[null,null,null,null,null,null,null,null,null,null,""]
[null,null,null,null,null,null,null,null,null,null,""]
[null,null,null,null,null,null,null,null,null,null,""]
[null,null,null,null,null,null,null,null,null,null,""]
[null,null,null,null,null,null,null,null,null,null,""]
[null,null,null,null,null,null,null,null,null,null,""]
[null,null,null,null,null,null,null,null,null,null,""]
[null,null,null,null,null,null,null,null,null,null,""]
[null,null,null,null,null,null,null,null,null,null,{"$f":"IF(OR(I4638<>\"\",J4638<>\"\"),I4638+J4638,\"\")","v":""}]
[null,null,null,null,null,null,null,null,null,null,""]
[null,null,null,null,null,null,null,null,null,null,""]
[null,null,null,null,null,null,null,null,null,null,""]
[null,null,null,null,null,null,null,null,null,null,""]
[null,null,null,null,null,null,null,null,null,null,""]
[null,null,null,null,null,null,null,null,null,null,""]
[null,null,null,null,null,null,null,null,null,null,""]
[null,null,null,null,null,null,null,null,null,null,""]
[null,null,null,null,null,null,null,null,null,null,""]
[null,null,null,null,null,null,null,null,null,null,""]
[null,null,null,null,null,null,null,null,null,null,""]
[null,null,null,null,null,null,null,null,null,null,""]
[null,null,null,null,null,null,null,null,null,null,""]
[null,null,null,null,null,null,null,null,null,null,""]
[null,null,null,null,null,null,null,null,null,null,""]
[null,null,null,null,null,null,null,null,null,null,""]
[null,null,null,null,null,null,null,null,null,null,""]
[null,null,null,null,null,null,null,null,null,null,""]
[null,null,null,null,null,null,null,null,null,null,""]
[null,null,null,null,null,null,null,null,null,null,""]
[null,null,null,null,null,null,null,null,null,null,""]
[null,null,null,null,null,null,null,null,null,null,""]
[null,null,null,null,null,null,null,null,null,null,""]
[null,null,null,null,null,null,null,null,null,null,""]
[null,null,null,null,null,null,null,null,null,null,""]
[null,null,null,null,null,null,null,null,null,null,""]
[null,null,null,null,null,null,null,null,null,null,""]
[null,null,null,null,null,null,null,null,null,null,""]
[null,null,null,null,null,null,null,null,null,null,""]
[null,null,null,null,null,null,null,null,null,null,""]
[null,null,null,null,null,null,null,null,null,null,""]
[null,null,null,null,null,null,null,null,null,null,""]
[null,null,null,null,null,null,null,null,null,null,""]
[null,null,null,null,null,null,null,null,null,null,""]
[null,null,null,null,null,null,null,null,null,null,""]
[null,null,null,null,null,null,null,null,null,null,""]
[null,null,null,null,null,null,null,null,null,null,""]
[null,null,null,null,null,null,null,null,null,null,""]
[null,null,null,null,null,null,null,null,null,null,""]
[null,null,null,null,null,null,null,null,null,null,""]
[null,null,null,null,null,null,null,null,null,null,""]
[null,null,null,null,null,null,null,null,null,null,""]
[null,null,null,null,null,null,null,null,null,null,""]
[null,null,null,null,null,null,null,null,null,null,""]
[null,null,null,null,null,null,null,null,null,null,""]
[null,null,null,null,null,null,null,null,null,null,""]
[null,null,null,null,null,null,null,null,null,null,""]
[null,null,null,null,null,null,null,null,null,null,""]
[null,null,null,null,null,null,null,null,null,null,""]
[null,null,null,null,null,null,null,null,null,null,""]
[null,null,null,null,null,null,null,null,null,null,""]
[null,null,null,null,null,null,null,null,null,null,""]
[null,null,null,null,null,null,null,null,null,null,""]
[null,null,null,null,null,null,null,null,null,null,""]
[null,null,null,null,null,null,null,null,null,null,""]
[null,null,null,null,null,null,null,null,null,null,""]
[null,null,null,null,null,null,null,null,null,null,""]
[null,null,null,null,null,null,null,null,null,null,""]
[null,null,null,null,null,null,null,null,null,null,""]
[null,null,null,null,null,null,null,null,null,null,""]
[null,null,null,null,null,null,null,null,null,null,""]
[null,null,null,null,null,null,null,null,null,null,""]
[null,null,null,null,null,null,null,null,null,null,""]
[null,null,null,null,null,null,null,null,null,null,{"$f":"IF(OR(I4702<>\"\",J4702<>\"\"),I4702+J4702,\"\")","v":""}]
[null,null,null,null,null,null,null,null,null,null,""]
[null,null,null,null,null,null,null,null,null,null,""]
[null,null,null,null,null,null,null,null,null,null,""]
[null,null,null,null,null,null,null,null,null,null,""]
[null,null,null,null,null,null,null,null,null,null,""]
[null,null,null,null,null,null,null,null,null,null,""]
[null,null,null,null,null,null,null,null,null,null,""]
[null,null,null,null,null,null,null,null,null,null,""]
[null,null,null,null,null,null,null,null,null,null,""]
[null,null,null,null,null,null,null,null,null,null,""]
[null,null,null,null,null,null,null,null,null,null,""]
[null,null,null,null,null,null,null,null,null,null,""]
[null,null,null,null,null,null,null,null,null,null,""]
[null,null,null,null,null,null,null,null,null,null,""]
[null,null,null,null,null,null,null,null,null,null,""]
[null,null,null,null,null,null,null,null,null,null,""]
[null,null,null,null,null,null,null,null,null,null,""]
[null,null,null,null,null,null,null,null,null,null,""]
[null,null,null,null,null,null,null,null,null,null,""]
[null,null,null,null,null,null,null,null,null,null,""]
[null,null,null,null,null,null,null,null,null,null,""]
[null,null,null,null,null,null,null,null,null,null,""]
[null,null,null,null,null,null,null,null,null,null,""]
[null,null,null,null,null,null,null,null,null,null,""]
[null,null,null,null,null,null,null,null,null,null,""]
[null,null,null,null,null,null,null,null,null,null,""]
[null,null,null,null,null,null,null,null,null,null,""]
[null,null,null,null,null,null,null,null,null,null,""]
[null,null,null,null,null,null,null,null,null,null,""]
[null,null,null,null,null,null,null,null,null,null,""]
[null,null,null,null,null,null,null,null,null,null,""]
[null,null,null,null,null,null,null,null,null,null,""]
[null,null,null,null,null,null,null,null,null,null,""]
[null,null,null,null,null,null,null,null,null,null,""]
[null,null,null,null,null,null,null,null,null,null,""]
[null,null,null,null,null,null,null,null,null,null,""]
[null,null,null,null,null,null,null,null,null,null,""]
[null,null,null,null,null,null,null,null,null,null,""]
[null,null,null,null,null,null,null,null,null,null,""]
[null,null,null,null,null,null,null,null,null,null,""]
[null,null,null,null,null,null,null,null,null,null,""]
[null,null,null,null,null,null,null,null,null,null,""]
[null,null,null,null,null,null,null,null,null,null,""]
[null,null,null,null,null,null,null,null,null,null,""]
[null,null,null,null,null,null,null,null,null,null,""]
[null,null,null,null,null,null,null,null,null,null,""]
[null,null,null,null,null,null,null,null,null,null,""]
[null,null,null,null,null,null,null,null,null,null,""]
[null,null,null,null,null,null,null,null,null,null,""]
[null,null,null,null,null,null,null,null,null,null,""]
[null,null,null,null,null,null,null,null,null,null,""]
[null,null,null,null,null,null,null,null,null,null,""]
[null,null,null,null,null,null,null,null,null,null,""]
[null,null,null,null,null,null,null,null,null,null,""]
[null,null,null,null,null,null,null,null,null,null,""]
[null,null,null,null,null,null,null,null,null,null,""]
[null,null,null,null,null,null,null,null,null,null,""]
[null,null,null,null,null,null,null,null,null,null,""]
[null,null,null,null,null,null,null,null,null,null,""]
[null,null,null,null,null,null,null,null,null,null,""]
[null,null,null,null,null,null,null,null,null,null,""]
[null,null,null,null,null,null,null,null,null,null,""]
[null,null,null,null,null,null,null,null,null,null,""]
[null,null,null,null,null,null,null,null,null,null,{"$f":"IF(OR(I4766<>\"\",J4766<>\"\"),I4766+J4766,\"\")","v":""}]
[null,null,null,null,null,null,null,null,null,null,""]
[null,null,null,null,null,null,null,null,null,null,""]
[null,null,null,null,null,null,null,null,null,null,""]
[null,null,null,null,null,null,null,null,null,null,""]
[null,null,null,null,null,null,null,null,null,null,""]
[null,null,null,null,null,null,null,null,null,null,""]
[null,null,null,null,null,null,null,null,null,null,""]
[null,null,null,null,null,null,null,null,null,null,""]
[null,null,null,null,null,null,null,null,null,null,""]
[null,null,null,null,null,null,null,null,null,null,""]
[null,null,null,null,null,null,null,null,null,null,""]
[null,null,null,null,null,null,null,null,null,null,""]
[null,null,null,null,null,null,null,null,null,null,""]
[null,null,null,null,null,null,null,null,null,null,""]
[null,null,null,null,null,null,null,null,null,null,""]
[null,null,null,null,null,null,null,null,null,null,""]
[null,null,null,null,null,null,null,null,null,null,""]
[null,null,null,null,null,null,null,null,null,null,""]
[null,null,null,null,null,null,null,null,null,null,""]
[null,null,null,null,null,null,null,null,null,null,""]
[null,null,null,null,null,null,null,null,null,null,""]
[null,null,null,null,null,null,null,null,null,null,""]
[null,null,null,null,null,null,null,null,null,null,""]
[null,null,null,null,null,null,null,null,null,null,""]
[null,null,null,null,null,null,null,null,null,null,""]
[null,null,null,null,null,null,null,null,null,null,""]
[null,null,null,null,null,null,null,null,null,null,""]
[null,null,null,null,null,null,null,null,null,null,""]
[null,null,null,null,null,null,null,null,null,null,""]
[null,null,null,null,null,null,null,null,null,null,""]
[null,null,null,null,null,null,null,null,null,null,""]
[null,null,null,null,null,null,null,null,null,null,""]
[null,null,null,null,null,null,null,null,null,null,""]
[null,null,null,null,null,null,null,null,null,null,""]
[null,null,null,null,null,null,null,null,null,null,""]
[null,null,null,null,null,null,null,null,null,null,""]
[null,null,null,null,null,null,null,null,null,null,""]
[null,null,null,null,null,null,null,null,null,null,""]
[null,null,null,null,null,null,null,null,null,null,""]
[null,null,null,null,null,null,null,null,null,null,""]
[null,null,null,null,null,null,null,null,null,null,""]
[null,null,null,null,null,null,null,null,null,null,""]
[null,null,null,null,null,null,null,null,null,null,""]
[null,null,null,null,null,null,null,null,null,null,""]
[null,null,null,null,null,null,null,null,null,null,""]
[null,null,null,null,null,null,null,null,null,null,""]
[null,null,null,null,null,null,null,null,null,null,""]
[null,null,null,null,null,null,null,null,null,null,""]
[null,null,null,null,null,null,null,null,null,null,""]
[null,null,null,null,null,null,null,null,null,null,""]
[null,null,null,null,null,null,null,null,null,null,""]
[null,null,null,null,null,null,null,null,null,null,""]
[null,null,null,null,null,null,null,null,null,null,""]
[null,null,null,null,null,null,null,null,null,null,""]
[null,null,null,null,null,null,null,null,null,null,""]
[null,null,null,null,null,null,null,null,null,null,""]
[null,null,null,null,null,null,null,null,null,null,""]
[null,null,null,null,null,null,null,null,null,null,""]
[null,null,null,null,null,null,null,null,null,null,""]
[null,null,null,null,null,null,null,null,null,null,""]
[null,null,null,null,null,null,null,null,null,null,""]
[null,null,null,null,null,null,null,null,null,null,""]
[null,null,null,null,null,null,null,null,null,null,""]
[null,null,null,null,null,null,null,null,null,null,{"$f":"IF(OR(I4830<>\"\",J4830<>\"\"),I4830+J4830,\"\")","v":""}]
[null,null,null,null,null,null,null,null,null,null,""]
[null,null,null,null,null,null,null,null,null,null,""]
[null,null,null,null,null,null,null,null,null,null,""]
[null,null,null,null,null,null,null,null,null,null,""]
[null,null,null,null,null,null,null,null,null,null,""]
[null,null,null,null,null,null,null,null,null,null,""]
[null,null,null,null,null,null,null,null,null,null,""]
[null,null,null,null,null,null,null,null,null,null,""]
[null,null,null,null,null,null,null,null,null,null,""]
[null,null,null,null,null,null,null,null,null,null,""]
[null,null,null,null,null,null,null,null,null,null,""]
[null,null,null,null,null,null,null,null,null,null,""]
[null,null,null,null,null,null,null,null,null,null,""]
[null,null,null,null,null,null,null,null,null,null,""]
[null,null,null,null,null,null,null,null,null,null,""]
[null,null,null,null,null,null,null,null,null,null,""]
[null,null,null,null,null,null,null,null,null,null,""]
[null,null,null,null,null,null,null,null,null,null,""]
[null,null,null,null,null,null,null,null,null,null,""]
[null,null,null,null,null,null,null,null,null,null,""]
[null,null,null,null,null,null,null,null,null,null,""]
[null,null,null,null,null,null,null,null,null,null,""]
[null,null,null,null,null,null,null,null,null,null,""]
[null,null,null,null,null,null,null,null,null,null,""]
[null,null,null,null,null,null,null,null,null,null,""]
[null,null,null,null,null,null,null,null,null,null,""]
[null,null,null,null,null,null,null,null,null,null,""]
[null,null,null,null,null,null,null,null,null,null,""]
[null,null,null,null,null,null,null,null,null,null,""]
[null,null,null,null,null,null,null,null,null,null,""]
[null,null,null,null,null,null,null,null,null,null,""]
[null,null,null,null,null,null,null,null,null,null,""]
[null,null,null,null,null,null,null,null,null,null,""]
[null,null,null,null,null,null,null,null,null,null,""]
[null,null,null,null,null,null,null,null,null,null,""]
[null,null,null,null,null,null,null,null,null,null,""]
[null,null,null,null,null,null,null,null,null,null,""]
[null,null,null,null,null,null,null,null,null,null,""]
[null,null,null,null,null,null,null,null,null,null,""]
[null,null,null,null,null,null,null,null,null,null,""]
[null,null,null,null,null,null,null,null,null,null,""]
[null,null,null,null,null,null,null,null,null,null,""]
[null,null,null,null,null,null,null,null,null,null,""]
[null,null,null,null,null,null,null,null,null,null,""]
[null,null,null,null,null,null,null,null,null,null,""]
[null,null,null,null,null,null,null,null,null,null,""]
[null,null,null,null,null,null,null,null,null,null,""]
[null,null,null,null,null,null,null,null,null,null,""]
[null,null,null,null,null,null,null,null,null,null,""]
[null,null,null,null,null,null,null,null,null,null,""]
[null,null,null,null,null,null,null,null,null,null,""]
[null,null,null,null,null,null,null,null,null,null,""]
[null,null,null,null,null,null,null,null,null,null,""]
[null,null,null,null,null,null,null,null,null,null,""]
[null,null,null,null,null,null,null,null,null,null,""]
[null,null,null,null,null,null,null,null,null,null,""]
[null,null,null,null,null,null,null,null,null,null,""]
[null,null,null,null,null,null,null,null,null,null,""]
[null,null,null,null,null,null,null,null,null,null,""]
[null,null,null,null,null,null,null,null,null,null,""]
[null,null,null,null,null,null,null,null,null,null,""]
[null,null,null,null,null,null,null,null,null,null,""]
[null,null,null,null,null,null,null,null,null,null,""]
[null,null,null,null,null,null,null,null,null,null,{"$f":"IF(OR(I4894<>\"\",J4894<>\"\"),I4894+J4894,\"\")","v":""}]
[null,null,null,null,null,null,null,null,null,null,""]
[null,null,null,null,null,null,null,null,null,null,""]
[null,null,null,null,null,null,null,null,null,null,""]
[null,null,null,null,null,null,null,null,null,null,""]
[null,null,null,null,null,null,null,null,null,null,""]
[null,null,null,null,null,null,null,null,null,null,""]
[null,null,null,null,null,null,null,null,null,null,""]
[null,null,null,null,null,null,null,null,null,null,""]
[null,null,null,null,null,null,null,null,null,null,""]
[null,null,null,null,null,null,null,null,null,null,""]
[null,null,null,null,null,null,null,null,null,null,""]
[null,null,null,null,null,null,null,null,null,null,""]
[null,null,null,null,null,null,null,null,null,null,""]
[null,null,null,null,null,null,null,null,null,null,""]
[null,null,null,null,null,null,null,null,null,null,""]
[null,null,null,null,null,null,null,null,null,null,""]
[null,null,null,null,null,null,null,null,null,null,""]
[null,null,null,null,null,null,null,null,null,null,""]
[null,null,null,null,null,null,null,null,null,null,""]
[null,null,null,null,null,null,null,null,null,null,""]
[null,null,null,null,null,null,null,null,null,null,""]
[null,null,null,null,null,null,null,null,null,null,""]
[null,null,null,null,null,null,null,null,null,null,""]
[null,null,null,null,null,null,null,null,null,null,""]
[null,null,null,null,null,null,null,null,null,null,""]
[null,null,null,null,null,null,null,null,null,null,""]
[null,null,null,null,null,null,null,null,null,null,""]
[null,null,null,null,null,null,null,null,null,null,""]
[null,null,null,null,null,null,null,null,null,null,""]
[null,null,null,null,null,null,null,null,null,null,""]
[null,null,null,null,null,null,null,null,null,null,""]
[null,null,null,null,null,null,null,null,null,null,""]
[null,null,null,null,null,null,null,null,null,null,""]
[null,null,null,null,null,null,null,null,null,null,""]
[null,null,null,null,null,null,null,null,null,null,""]
[null,null,null,null,null,null,null,null,null,null,""]
[null,null,null,null,null,null,null,null,null,null,""]
[null,null,null,null,null,null,null,null,null,null,""]
[null,null,null,null,null,null,null,null,null,null,""]
[null,null,null,null,null,null,null,null,null,null,""]
[null,null,null,null,null,null,null,null,null,null,""]
[null,null,null,null,null,null,null,null,null,null,""]
[null,null,null,null,null,null,null,null,null,null,""]
[null,null,null,null,null,null,null,null,null,null,""]
[null,null,null,null,null,null,null,null,null,null,""]
[null,null,null,null,null,null,null,null,null,null,""]
[null,null,null,null,null,null,null,null,null,null,""]
[null,null,null,null,null,null,null,null,null,null,""]
[null,null,null,null,null,null,null,null,null,null,""]
[null,null,null,null,null,null,null,null,null,null,""]
[null,null,null,null,null,null,null,null,null,null,""]
[null,null,null,null,null,null,null,null,null,null,""]
[null,null,null,null,null,null,null,null,null,null,""]
[null,null,null,null,null,null,null,null,null,null,""]
[null,null,null,null,null,null,null,null,null,null,""]
[null,null,null,null,null,null,null,null,null,null,""]
[null,null,null,null,null,null,null,null,null,null,""]
[null,null,null,null,null,null,null,null,null,null,""]
[null,null,null,null,null,null,null,null,null,null,""]
[null,null,null,null,null,null,null,null,null,null,""]
[null,null,null,null,null,null,null,null,null,null,""]
[null,null,null,null,null,null,null,null,null,null,""]
[null,null,null,null,null,null,null,null,null,null,""]
[null,null,null,null,null,null,null,null,null,null,{"$f":"IF(OR(I4958<>\"\",J4958<>\"\"),I4958+J4958,\"\")","v":""}]
[null,null,null,null,null,null,null,null,null,null,""]
[null,null,null,null,null,null,null,null,null,null,""]
[null,null,null,null,null,null,null,null,null,null,""]
[null,null,null,null,null,null,null,null,null,null,""]
[null,null,null,null,null,null,null,null,null,null,""]
[null,null,null,null,null,null,null,null,null,null,""]
[null,null,null,null,null,null,null,null,null,null,""]
[null,null,null,null,null,null,null,null,null,null,""]
[null,null,null,null,null,null,null,null,null,null,""]
[null,null,null,null,null,null,null,null,null,null,""]
[null,null,null,null,null,null,null,null,null,null,""]
[null,null,null,null,null,null,null,null,null,null,""]
[null,null,null,null,null,null,null,null,null,null,""]
[null,null,null,null,null,null,null,null,null,null,""]
[null,null,null,null,null,null,null,null,null,null,""]
[null,null,null,null,null,null,null,null,null,null,""]
[null,null,null,null,null,null,null,null,null,null,""]
[null,null,null,null,null,null,null,null,null,null,""]
[null,null,null,null,null,null,null,null,null,null,""]
[null,null,null,null,null,null,null,null,null,null,""]
[null,null,null,null,null,null,null,null,null,null,""]
[null,null,null,null,null,null,null,null,null,null,""]
[null,null,null,null,null,null,null,null,null,null,""]
[null,null,null,null,null,null,null,null,null,null,""]
[null,null,null,null,null,null,null,null,null,null,""]
[null,null,null,null,null,null,null,null,null,null,""]
[null,null,null,null,null,null,null,null,null,null,""]
[null,null,null,null,null,null,null,null,null,null,""]
[null,null,null,null,null,null,null,null,null,null,""]
[null,null,null,null,null,null,null,null,null,null,""]
[null,null,null,null,null,null,null,null,null,null,""]
[null,null,null,null,null,null,null,null,null,null,""]
[null,null,null,null,null,null,null,null,null,null,""]
[null,null,null,null,null,null,null,null,null,null,""]
[null,null,null,null,null,null,null,null,null,null,""]
[null,null,null,null,null,null,null,null,null,null,""]
[null,null,null,null,null,null,null,null,null,null,""]
[null,null,null,null,null,null,null,null,null,null,""]
[null,null,null,null,null,null,null,null,null,null,""]
[null,null,null,null,null,null,null,null,null,null,""]
[null,null,null,null,null,null,null,null,null,null,""]
[null,null,null,null,null,null,null,null,null,null,""]
[null,null,null,null,null,null,null,null,null,null,""]
[null,null,null,null,null,null,null,null,null,null,""]
[null,null,null,null,null,null,null,null,null,null,""]
[null,null,null,null,null,null,null,null,null,null,""]
[null,null,null,null,null,null,null,null,null,null,""]
[null,null,null,null,null,null,null,null,null,null,""]
[null,null,null,null,null,null,null,null,null,null,""]
[null,null,null,null,null,null,null,null,null,null,""]
[null,null,null,null,null,null,null,null,null,null,""]
[null,null,null,null,null,null,null,null,null,null,""]
[null,null,null,null,null,null,null,null,null,null,""]
[null,null,null,null,null,null,null,null,null,null,""]
[null,null,null,null,null,null,null,null,null,null,""]
[null,null,null,null,null,null,null,null,null,null,""]
[null,null,null,null,null,null,null,null,null,null,""]
[null,null,null,null,null,null,null,null,null,null,""]
[null,null,null,null,null,null,null,null,null,null,""]
[null,null,null,null,null,null,null,null,null,null,""]
[null,null,null,null,null,null,null,null,null,null,""]
[null,null,null,null,null,null,null,null,null,null,""]
[null,null,null,null,null,null,null,null,null,null,""]
[null,null,null,null,null,null,null,null,null,null,{"$f":"IF(OR(I5022<>\"\",J5022<>\"\"),I5022+J5022,\"\")","v":""}]
[null,null,null,null,null,null,null,null,null,null,""]
[null,null,null,null,null,null,null,null,null,null,""]
[null,null,null,null,null,null,null,null,null,null,""]
[null,null,null,null,null,null,null,null,null,null,""]
[null,null,null,null,null,null,null,null,null,null,""]
[null,null,null,null,null,null,null,null,null,null,""]
[null,null,null,null,null,null,null,null,null,null,""]
[null,null,null,null,null,null,null,null,null,null,""]
[null,null,null,null,null,null,null,null,null,null,""]
[null,null,null,null,null,null,null,null,null,null,""]
[null,null,null,null,null,null,null,null,null,null,""]
[null,null,null,null,null,null,null,null,null,null,""]
[null,null,null,null,null,null,null,null,null,null,""]
[null,null,null,null,null,null,null,null,null,null,""]
[null,null,null,null,null,null,null,null,null,null,""]
[null,null,null,null,null,null,null,null,null,null,""]
[null,null,null,null,null,null,null,null,null,null,""]
[null,null,null,null,null,null,null,null,null,null,""]
[null,null,null,null,null,null,null,null,null,null,""]
[null,null,null,null,null,null,null,null,null,null,""]
[null,null,null,null,null,null,null,null,null,null,""]
[null,null,null,null,null,null,null,null,null,null,""]
[null,null,null,null,null,null,null,null,null,null,""]
[null,null,null,null,null,null,null,null,null,null,""]
[null,null,null,null,null,null,null,null,null,null,""]
[null,null,null,null,null,null,null,null,null,null,""]
[null,null,null,null,null,null,null,null,null,null,""]
[null,null,null,null,null,null,null,null,null,null,""]
[null,null,null,null,null,null,null,null,null,null,""]
[null,null,null,null,null,null,null,null,null,null,""]
[null,null,null,null,null,null,null,null,null,null,""]
[null,null,null,null,null,null,null,null,null,null,""]
[null,null,null,null,null,null,null,null,null,null,""]
[null,null,null,null,null,null,null,null,null,null,""]
[null,null,null,null,null,null,null,null,null,null,""]
[null,null,null,null,null,null,null,null,null,null,""]
[null,null,null,null,null,null,null,null,null,null,""]
[null,null,null,null,null,null,null,null,null,null,""]
[null,null,null,null,null,null,null,null,null,null,""]
[null,null,null,null,null,null,null,null,null,null,""]
[null,null,null,null,null,null,null,null,null,null,""]
[null,null,null,null,null,null,null,null,null,null,""]
[null,null,null,null,null,null,null,null,null,null,""]
[null,null,null,null,null,null,null,null,null,null,""]
[null,null,null,null,null,null,null,null,null,null,""]
[null,null,null,null,null,null,null,null,null,null,""]
[null,null,null,null,null,null,null,null,null,null,""]
[null,null,null,null,null,null,null,null,null,null,""]
[null,null,null,null,null,null,null,null,null,null,""]
[null,null,null,null,null,null,null,null,null,null,""]
[null,null,null,null,null,null,null,null,null,null,""]
[null,null,null,null,null,null,null,null,null,null,""]
[null,null,null,null,null,null,null,null,null,null,""]
[null,null,null,null,null,null,null,null,null,null,""]
[null,null,null,null,null,null,null,null,null,null,""]
[null,null,null,null,null,null,null,null,null,null,""]
[null,null,null,null,null,null,null,null,null,null,""]
[null,null,null,null,null,null,null,null,null,null,""]
[null,null,null,null,null,null,null,null,null,null,""]
[null,null,null,null,null,null,null,null,null,null,""]
[null,null,null,null,null,null,null,null,null,null,""]
[null,null,null,null,null,null,null,null,null,null,""]
[null,null,null,null,null,null,null,null,null,null,""]
[null,null,null,null,null,null,null,null,null,null,{"$f":"IF(OR(I5086<>\"\",J5086<>\"\"),I5086+J5086,\"\")","v":""}]
[null,null,null,null,null,null,null,null,null,null,""]
[null,null,null,null,null,null,null,null,null,null,""]
[null,null,null,null,null,null,null,null,null,null,""]
[null,null,null,null,null,null,null,null,null,null,""]
[null,null,null,null,null,null,null,null,null,null,""]
[null,null,null,null,null,null,null,null,null,null,""]
[null,null,null,null,null,null,null,null,null,null,""]
[null,null,null,null,null,null,null,null,null,null,""]
[null,null,null,null,null,null,null,null,null,null,""]
[null,null,null,null,null,null,null,null,null,null,""]
[null,null,null,null,null,null,null,null,null,null,""]
[null,null,null,null,null,null,null,null,null,null,""]
[null,null,null,null,null,null,null,null,null,null,""]
[null,null,null,null,null,null,null,null,null,null,""]
[null,null,null,null,null,null,null,null,null,null,""]
[null,null,null,null,null,null,null,null,null,null,""]
[null,null,null,null,null,null,null,null,null,null,""]
[null,null,null,null,null,null,null,null,null,null,""]
[null,null,null,null,null,null,null,null,null,null,""]
[null,null,null,null,null,null,null,null,null,null,""]
[null,null,null,null,null,null,null,null,null,null,""]
[null,null,null,null,null,null,null,null,null,null,""]
[null,null,null,null,null,null,null,null,null,null,""]
[null,null,null,null,null,null,null,null,null,null,""]
[null,null,null,null,null,null,null,null,null,null,""]
[null,null,null,null,null,null,null,null,null,null,""]
[null,null,null,null,null,null,null,null,null,null,""]
[null,null,null,null,null,null,null,null,null,null,""]
[null,null,null,null,null,null,null,null,null,null,""]
[null,null,null,null,null,null,null,null,null,null,""]
[null,null,null,null,null,null,null,null,null,null,""]
[null,null,null,null,null,null,null,null,null,null,""]
[null,null,null,null,null,null,null,null,null,null,""]
[null,null,null,null,null,null,null,null,null,null,""]
[null,null,null,null,null,null,null,null,null,null,""]
[null,null,null,null,null,null,null,null,null,null,""]
[null,null,null,null,null,null,null,null,null,null,""]
[null,null,null,null,null,null,null,null,null,null,""]
[null,null,null,null,null,null,null,null,null,null,""]
[null,null,null,null,null,null,null,null,null,null,""]
[null,null,null,null,null,null,null,null,null,null,""]
[null,null,null,null,null,null,null,null,null,null,""]
[null,null,null,null,null,null,null,null,null,null,""]
[null,null,null,null,null,null,null,null,null,null,""]
[null,null,null,null,null,null,null,null,null,null,""]
[null,null,null,null,null,null,null,null,null,null,""]
[null,null,null,null,null,null,null,null,null,null,""]
[null,null,null,null,null,null,null,null,null,null,""]
[null,null,null,null,null,null,null,null,null,null,""]
[null,null,null,null,null,null,null,null,null,null,""]
[null,null,null,null,null,null,null,null,null,null,""]
[null,null,null,null,null,null,null,null,null,null,""]
[null,null,null,null,null,null,null,null,null,null,""]
[null,null,null,null,null,null,null,null,null,null,""]
[null,null,null,null,null,null,null,null,null,null,""]
[null,null,null,null,null,null,null,null,null,null,""]
[null,null,null,null,null,null,null,null,null,null,""]
[null,null,null,null,null,null,null,null,null,null,""]
[null,null,null,null,null,null,null,null,null,null,""]
[null,null,null,null,null,null,null,null,null,null,""]
[null,null,null,null,null,null,null,null,null,null,""]
[null,null,null,null,null,null,null,null,null,null,""]
[null,null,null,null,null,null,null,null,null,null,""]
[null,null,null,null,null,null,null,null,null,null,{"$f":"IF(OR(I5150<>\"\",J5150<>\"\"),I5150+J5150,\"\")","v":""}]
[null,null,null,null,null,null,null,null,null,null,""]
[null,null,null,null,null,null,null,null,null,null,""]
[null,null,null,null,null,null,null,null,null,null,""]
[null,null,null,null,null,null,null,null,null,null,""]
[null,null,null,null,null,null,null,null,null,null,""]
[null,null,null,null,null,null,null,null,null,null,""]
[null,null,null,null,null,null,null,null,null,null,""]
[null,null,null,null,null,null,null,null,null,null,""]
[null,null,null,null,null,null,null,null,null,null,""]
[null,null,null,null,null,null,null,null,null,null,""]
[null,null,null,null,null,null,null,null,null,null,""]
[null,null,null,null,null,null,null,null,null,null,""]
[null,null,null,null,null,null,null,null,null,null,""]
[null,null,null,null,null,null,null,null,null,null,""]
[null,null,null,null,null,null,null,null,null,null,""]
[null,null,null,null,null,null,null,null,null,null,""]
[null,null,null,null,null,null,null,null,null,null,""]
[null,null,null,null,null,null,null,null,null,null,""]
[null,null,null,null,null,null,null,null,null,null,""]
[null,null,null,null,null,null,null,null,null,null,""]
[null,null,null,null,null,null,null,null,null,null,""]
[null,null,null,null,null,null,null,null,null,null,""]
[null,null,null,null,null,null,null,null,null,null,""]
[null,null,null,null,null,null,null,null,null,null,""]
[null,null,null,null,null,null,null,null,null,null,""]
[null,null,null,null,null,null,null,null,null,null,""]
[null,null,null,null,null,null,null,null,null,null,""]
[null,null,null,null,null,null,null,null,null,null,""]
[null,null,null,null,null,null,null,null,null,null,""]
[null,null,null,null,null,null,null,null,null,null,""]
[null,null,null,null,null,null,null,null,null,null,""]
[null,null,null,null,null,null,null,null,null,null,""]
[null,null,null,null,null,null,null,null,null,null,""]
[null,null,null,null,null,null,null,null,null,null,""]
[null,null,null,null,null,null,null,null,null,null,""]
[null,null,null,null,null,null,null,null,null,null,""]
[null,null,null,null,null,null,null,null,null,null,""]
[null,null,null,null,null,null,null,null,null,null,""]
[null,null,null,null,null,null,null,null,null,null,""]
[null,null,null,null,null,null,null,null,null,null,""]
[null,null,null,null,null,null,null,null,null,null,""]
[null,null,null,null,null,null,null,null,null,null,""]
[null,null,null,null,null,null,null,null,null,null,""]
[null,null,null,null,null,null,null,null,null,null,""]
[null,null,null,null,null,null,null,null,null,null,""]
[null,null,null,null,null,null,null,null,null,null,""]
[null,null,null,null,null,null,null,null,null,null,""]
[null,null,null,null,null,null,null,null,null,null,""]
[null,null,null,null,null,null,null,null,null,null,""]
[null,null,null,null,null,null,null,null,null,null,""]
[null,null,null,null,null,null,null,null,null,null,""]
[null,null,null,null,null,null,null,null,null,null,""]
[null,null,null,null,null,null,null,null,null,null,""]
[null,null,null,null,null,null,null,null,null,null,""]
[null,null,null,null,null,null,null,null,null,null,""]
[null,null,null,null,null,null,null,null,null,null,""]
[null,null,null,null,null,null,null,null,null,null,""]
[null,null,null,null,null,null,null,null,null,null,""]
[null,null,null,null,null,null,null,null,null,null,""]
[null,null,null,null,null,null,null,null,null,null,""]
[null,null,null,null,null,null,null,null,null,null,""]
[null,null,null,null,null,null,null,null,null,null,""]
[null,null,null,null,null,null,null,null,null,null,""]
[null,null,null,null,null,null,null,null,null,null,{"$f":"IF(OR(I5214<>\"\",J5214<>\"\"),I5214+J5214,\"\")","v":""}]
[null,null,null,null,null,null,null,null,null,null,""]
[null,null,null,null,null,null,null,null,null,null,""]
[null,null,null,null,null,null,null,null,null,null,""]
[null,null,null,null,null,null,null,null,null,null,""]
[null,null,null,null,null,null,null,null,null,null,""]
[null,null,null,null,null,null,null,null,null,null,""]
[null,null,null,null,null,null,null,null,null,null,""]
[null,null,null,null,null,null,null,null,null,null,""]
[null,null,null,null,null,null,null,null,null,null,""]
[null,null,null,null,null,null,null,null,null,null,""]
[null,null,null,null,null,null,null,null,null,null,""]
[null,null,null,null,null,null,null,null,null,null,""]
[null,null,null,null,null,null,null,null,null,null,""]
[null,null,null,null,null,null,null,null,null,null,""]
[null,null,null,null,null,null,null,null,null,null,""]
[null,null,null,null,null,null,null,null,null,null,""]
[null,null,null,null,null,null,null,null,null,null,""]
[null,null,null,null,null,null,null,null,null,null,""]
[null,null,null,null,null,null,null,null,null,null,""]
[null,null,null,null,null,null,null,null,null,null,""]
[null,null,null,null,null,null,null,null,null,null,""]
[null,null,null,null,null,null,null,null,null,null,""]
[null,null,null,null,null,null,null,null,null,null,""]
[null,null,null,null,null,null,null,null,null,null,""]
[null,null,null,null,null,null,null,null,null,null,""]
[null,null,null,null,null,null,null,null,null,null,""]
[null,null,null,null,null,null,null,null,null,null,""]
[null,null,null,null,null,null,null,null,null,null,""]
[null,null,null,null,null,null,null,null,null,null,""]
[null,null,null,null,null,null,null,null,null,null,""]
[null,null,null,null,null,null,null,null,null,null,""]
[null,null,null,null,null,null,null,null,null,null,""]
[null,null,null,null,null,null,null,null,null,null,""]
[null,null,null,null,null,null,null,null,null,null,""]
[null,null,null,null,null,null,null,null,null,null,""]
[null,null,null,null,null,null,null,null,null,null,""]
[null,null,null,null,null,null,null,null,null,null,""]
[null,null,null,null,null,null,null,null,null,null,""]
[null,null,null,null,null,null,null,null,null,null,""]
[null,null,null,null,null,null,null,null,null,null,""]
[null,null,null,null,null,null,null,null,null,null,""]
[null,null,null,null,null,null,null,null,null,null,""]
[null,null,null,null,null,null,null,null,null,null,""]
[null,null,null,null,null,null,null,null,null,null,""]
[null,null,null,null,null,null,null,null,null,null,""]
[null,null,null,null,null,null,null,null,null,null,""]
[null,null,null,null,null,null,null,null,null,null,""]
[null,null,null,null,null,null,null,null,null,null,""]
[null,null,null,null,null,null,null,null,null,null,""]
[null,null,null,null,null,null,null,null,null,null,""]
[null,null,null,null,null,null,null,null,null,null,""]
[null,null,null,null,null,null,null,null,null,null,""]
[null,null,null,null,null,null,null,null,null,null,""]
[null,null,null,null,null,null,null,null,null,null,""]
[null,null,null,null,null,null,null,null,null,null,""]
[null,null,null,null,null,null,null,null,null,null,""]
[null,null,null,null,null,null,null,null,null,null,""]
[null,null,null,null,null,null,null,null,null,null,""]
[null,null,null,null,null,null,null,null,null,null,""]
[null,null,null,null,null,null,null,null,null,null,""]
[null,null,null,null,null,null,null,null,null,null,""]
[null,null,null,null,null,null,null,null,null,null,""]
[null,null,null,null,null,null,null,null,null,null,""]
[null,null,null,null,null,null,null,null,null,null,{"$f":"IF(OR(I5278<>\"\",J5278<>\"\"),I5278+J5278,\"\")","v":""}]
[null,null,null,null,null,null,null,null,null,null,""]
[null,null,null,null,null,null,null,null,null,null,""]
[null,null,null,null,null,null,null,null,null,null,""]
[null,null,null,null,null,null,null,null,null,null,""]
[null,null,null,null,null,null,null,null,null,null,""]
[null,null,null,null,null,null,null,null,null,null,""]
[null,null,null,null,null,null,null,null,null,null,""]
[null,null,null,null,null,null,null,null,null,null,""]
[null,null,null,null,null,null,null,null,null,null,""]
[null,null,null,null,null,null,null,null,null,null,""]
[null,null,null,null,null,null,null,null,null,null,""]
[null,null,null,null,null,null,null,null,null,null,""]
[null,null,null,null,null,null,null,null,null,null,""]
[null,null,null,null,null,null,null,null,null,null,""]
[null,null,null,null,null,null,null,null,null,null,""]
[null,null,null,null,null,null,null,null,null,null,""]
[null,null,null,null,null,null,null,null,null,null,""]
[null,null,null,null,null,null,null,null,null,null,""]
[null,null,null,null,null,null,null,null,null,null,""]
[null,null,null,null,null,null,null,null,null,null,""]
[null,null,null,null,null,null,null,null,null,null,""]
[null,null,null,null,null,null,null,null,null,null,""]
[null,null,null,null,null,null,null,null,null,null,""]
[null,null,null,null,null,null,null,null,null,null,""]
[null,null,null,null,null,null,null,null,null,null,""]
[null,null,null,null,null,null,null,null,null,null,""]
[null,null,null,null,null,null,null,null,null,null,""]
[null,null,null,null,null,null,null,null,null,null,""]
[null,null,null,null,null,null,null,null,null,null,""]
[null,null,null,null,null,null,null,null,null,null,""]
[null,null,null,null,null,null,null,null,null,null,""]
[null,null,null,null,null,null,null,null,null,null,""]
[null,null,null,null,null,null,null,null,null,null,""]
[null,null,null,null,null,null,null,null,null,null,""]
[null,null,null,null,null,null,null,null,null,null,""]
[null,null,null,null,null,null,null,null,null,null,""]
[null,null,null,null,null,null,null,null,null,null,""]
[null,null,null,null,null,null,null,null,null,null,""]
[null,null,null,null,null,null,null,null,null,null,""]
[null,null,null,null,null,null,null,null,null,null,""]
[null,null,null,null,null,null,null,null,null,null,""]
[null,null,null,null,null,null,null,null,null,null,""]
[null,null,null,null,null,null,null,null,null,null,""]
[null,null,null,null,null,null,null,null,null,null,""]
[null,null,null,null,null,null,null,null,null,null,""]
[null,null,null,null,null,null,null,null,null,null,""]
[null,null,null,null,null,null,null,null,null,null,""]
[null,null,null,null,null,null,null,null,null,null,""]
[null,null,null,null,null,null,null,null,null,null,""]
[null,null,null,null,null,null,null,null,null,null,""]
[null,null,null,null,null,null,null,null,null,null,""]
[null,null,null,null,null,null,null,null,null,null,""]
[null,null,null,null,null,null,null,null,null,null,""]
[null,null,null,null,null,null,null,null,null,null,""]
[null,null,null,null,null,null,null,null,null,null,""]
[null,null,null,null,null,null,null,null,null,null,""]
[null,null,null,null,null,null,null,null,null,null,""]
[null,null,null,null,null,null,null,null,null,null,""]
[null,null,null,null,null,null,null,null,null,null,""]
[null,null,null,null,null,null,null,null,null,null,""]
[null,null,null,null,null,null,null,null,null,null,""]
[null,null,null,null,null,null,null,null,null,null,""]
[null,null,null,null,null,null,null,null,null,null,""]
[null,null,null,null,null,null,null,null,null,null,{"$f":"IF(OR(I5342<>\"\",J5342<>\"\"),I5342+J5342,\"\")","v":""}]
[null,null,null,null,null,null,null,null,null,null,""]
[null,null,null,null,null,null,null,null,null,null,""]
[null,null,null,null,null,null,null,null,null,null,""]
[null,null,null,null,null,null,null,null,null,null,""]
[null,null,null,null,null,null,null,null,null,null,""]
[null,null,null,null,null,null,null,null,null,null,""]
[null,null,null,null,null,null,null,null,null,null,""]
[null,null,null,null,null,null,null,null,null,null,""]
[null,null,null,null,null,null,null,null,null,null,""]
[null,null,null,null,null,null,null,null,null,null,""]
[null,null,null,null,null,null,null,null,null,null,""]
[null,null,null,null,null,null,null,null,null,null,""]
[null,null,null,null,null,null,null,null,null,null,""]
[null,null,null,null,null,null,null,null,null,null,""]
[null,null,null,null,null,null,null,null,null,null,""]
[null,null,null,null,null,null,null,null,null,null,""]
[null,null,null,null,null,null,null,null,null,null,""]
[null,null,null,null,null,null,null,null,null,null,""]
[null,null,null,null,null,null,null,null,null,null,""]
[null,null,null,null,null,null,null,null,null,null,""]
[null,null,null,null,null,null,null,null,null,null,""]
[null,null,null,null,null,null,null,null,null,null,""]
[null,null,null,null,null,null,null,null,null,null,""]
[null,null,null,null,null,null,null,null,null,null,""]
[null,null,null,null,null,null,null,null,null,null,""]
[null,null,null,null,null,null,null,null,null,null,""]
[null,null,null,null,null,null,null,null,null,null,""]
[null,null,null,null,null,null,null,null,null,null,""]
[null,null,null,null,null,null,null,null,null,null,""]
[null,null,null,null,null,null,null,null,null,null,""]
[null,null,null,null,null,null,null,null,null,null,""]
[null,null,null,null,null,null,null,null,null,null,""]
[null,null,null,null,null,null,null,null,null,null,""]
[null,null,null,null,null,null,null,null,null,null,""]
[null,null,null,null,null,null,null,null,null,null,""]
[null,null,null,null,null,null,null,null,null,null,""]
[null,null,null,null,null,null,null,null,null,null,""]
[null,null,null,null,null,null,null,null,null,null,""]
[null,null,null,null,null,null,null,null,null,null,""]
[null,null,null,null,null,null,null,null,null,null,""]
[null,null,null,null,null,null,null,null,null,null,""]
[null,null,null,null,null,null,null,null,null,null,""]
[null,null,null,null,null,null,null,null,null,null,""]
[null,null,null,null,null,null,null,null,null,null,""]
[null,null,null,null,null,null,null,null,null,null,""]
[null,null,null,null,null,null,null,null,null,null,""]
[null,null,null,null,null,null,null,null,null,null,""]
[null,null,null,null,null,null,null,null,null,null,""]
[null,null,null,null,null,null,null,null,null,null,""]
[null,null,null,null,null,null,null,null,null,null,""]
[null,null,null,null,null,null,null,null,null,null,""]
[null,null,null,null,null,null,null,null,null,null,""]
[null,null,null,null,null,null,null,null,null,null,""]
[null,null,null,null,null,null,null,null,null,null,""]
[null,null,null,null,null,null,null,null,null,null,""]
[null,null,null,null,null,null,null,null,null,null,""]
[null,null,null,null,null,null,null,null,null,null,""]
[null,null,null,null,null,null,null,null,null,null,""]
[null,null,null,null,null,null,null,null,null,null,""]
[null,null,null,null,null,null,null,null,null,null,""]
[null,null,null,null,null,null,null,null,null,null,""]
[null,null,null,null,null,null,null,null,null,null,""]
[null,null,null,null,null,null,null,null,null,null,""]
[null,null,null,null,null,null,null,null,null,null,{"$f":"IF(OR(I5406<>\"\",J5406<>\"\"),I5406+J5406,\"\")","v":""}]
[null,null,null,null,null,null,null,null,null,null,""]
[null,null,null,null,null,null,null,null,null,null,""]
[null,null,null,null,null,null,null,null,null,null,""]
[null,null,null,null,null,null,null,null,null,null,""]
[null,null,null,null,null,null,null,null,null,null,""]
[null,null,null,null,null,null,null,null,null,null,""]
[null,null,null,null,null,null,null,null,null,null,""]
[null,null,null,null,null,null,null,null,null,null,""]
[null,null,null,null,null,null,null,null,null,null,""]
[null,null,null,null,null,null,null,null,null,null,""]
[null,null,null,null,null,null,null,null,null,null,""]
[null,null,null,null,null,null,null,null,null,null,""]
[null,null,null,null,null,null,null,null,null,null,""]
[null,null,null,null,null,null,null,null,null,null,""]
[null,null,null,null,null,null,null,null,null,null,""]
[null,null,null,null,null,null,null,null,null,null,""]
[null,null,null,null,null,null,null,null,null,null,""]
[null,null,null,null,null,null,null,null,null,null,""]
[null,null,null,null,null,null,null,null,null,null,""]
[null,null,null,null,null,null,null,null,null,null,""]
[null,null,null,null,null,null,null,null,null,null,""]
[null,null,null,null,null,null,null,null,null,null,""]
[null,null,null,null,null,null,null,null,null,null,""]
[null,null,null,null,null,null,null,null,null,null,""]
[null,null,null,null,null,null,null,null,null,null,""]
[null,null,null,null,null,null,null,null,null,null,""]
[null,null,null,null,null,null,null,null,null,null,""]
[null,null,null,null,null,null,null,null,null,null,""]
[null,null,null,null,null,null,null,null,null,null,""]
[null,null,null,null,null,null,null,null,null,null,""]
[null,null,null,null,null,null,null,null,null,null,""]
[null,null,null,null,null,null,null,null,null,null,""]
[null,null,null,null,null,null,null,null,null,null,""]
[null,null,null,null,null,null,null,null,null,null,""]
[null,null,null,null,null,null,null,null,null,null,""]
[null,null,null,null,null,null,null,null,null,null,""]
[null,null,null,null,null,null,null,null,null,null,""]
[null,null,null,null,null,null,null,null,null,null,""]
[null,null,null,null,null,null,null,null,null,null,""]
[null,null,null,null,null,null,null,null,null,null,""]
[null,null,null,null,null,null,null,null,null,null,""]
[null,null,null,null,null,null,null,null,null,null,""]
[null,null,null,null,null,null,null,null,null,null,""]
[null,null,null,null,null,null,null,null,null,null,""]
[null,null,null,null,null,null,null,null,null,null,""]
[null,null,null,null,null,null,null,null,null,null,""]
[null,null,null,null,null,null,null,null,null,null,""]
[null,null,null,null,null,null,null,null,null,null,""]
[null,null,null,null,null,null,null,null,null,null,""]
[null,null,null,null,null,null,null,null,null,null,""]
[null,null,null,null,null,null,null,null,null,null,""]
[null,null,null,null,null,null,null,null,null,null,""]
[null,null,null,null,null,null,null,null,null,null,""]
[null,null,null,null,null,null,null,null,null,null,""]
[null,null,null,null,null,null,null,null,null,null,""]
[null,null,null,null,null,null,null,null,null,null,""]
[null,null,null,null,null,null,null,null,null,null,""]
[null,null,null,null,null,null,null,null,null,null,""]
[null,null,null,null,null,null,null,null,null,null,""]
[null,null,null,null,null,null,null,null,null,null,""]
[null,null,null,null,null,null,null,null,null,null,""]
[null,null,null,null,null,null,null,null,null,null,""]
[null,null,null,null,null,null,null,null,null,null,""]
[null,null,null,null,null,null,null,null,null,null,{"$f":"IF(OR(I5470<>\"\",J5470<>\"\"),I5470+J5470,\"\")","v":""}]
[null,null,null,null,null,null,null,null,null,null,""]
[null,null,null,null,null,null,null,null,null,null,""]
[null,null,null,null,null,null,null,null,null,null,""]
[null,null,null,null,null,null,null,null,null,null,""]
[null,null,null,null,null,null,null,null,null,null,""]
[null,null,null,null,null,null,null,null,null,null,""]
[null,null,null,null,null,null,null,null,null,null,""]
[null,null,null,null,null,null,null,null,null,null,""]
[null,null,null,null,null,null,null,null,null,null,""]
[null,null,null,null,null,null,null,null,null,null,""]
[null,null,null,null,null,null,null,null,null,null,""]
[null,null,null,null,null,null,null,null,null,null,""]
[null,null,null,null,null,null,null,null,null,null,""]
[null,null,null,null,null,null,null,null,null,null,""]
[null,null,null,null,null,null,null,null,null,null,""]
[null,null,null,null,null,null,null,null,null,null,""]
[null,null,null,null,null,null,null,null,null,null,""]
[null,null,null,null,null,null,null,null,null,null,""]
[null,null,null,null,null,null,null,null,null,null,""]
[null,null,null,null,null,null,null,null,null,null,""]
[null,null,null,null,null,null,null,null,null,null,""]
[null,null,null,null,null,null,null,null,null,null,""]
[null,null,null,null,null,null,null,null,null,null,""]
[null,null,null,null,null,null,null,null,null,null,""]
[null,null,null,null,null,null,null,null,null,null,""]
[null,null,null,null,null,null,null,null,null,null,""]
[null,null,null,null,null,null,null,null,null,null,""]
[null,null,null,null,null,null,null,null,null,null,""]
[null,null,null,null,null,null,null,null,null,null,""]
[null,null,null,null,null,null,null,null,null,null,""]
[null,null,null,null,null,null,null,null,null,null,""]
[null,null,null,null,null,null,null,null,null,null,""]
[null,null,null,null,null,null,null,null,null,null,""]
[null,null,null,null,null,null,null,null,null,null,""]
[null,null,null,null,null,null,null,null,null,null,""]
[null,null,null,null,null,null,null,null,null,null,""]
[null,null,null,null,null,null,null,null,null,null,""]
[null,null,null,null,null,null,null,null,null,null,""]
[null,null,null,null,null,null,null,null,null,null,""]
[null,null,null,null,null,null,null,null,null,null,""]
[null,null,null,null,null,null,null,null,null,null,""]
[null,null,null,null,null,null,null,null,null,null,""]
[null,null,null,null,null,null,null,null,null,null,""]
[null,null,null,null,null,null,null,null,null,null,""]
[null,null,null,null,null,null,null,null,null,null,""]
[null,null,null,null,null,null,null,null,null,null,""]
[null,null,null,null,null,null,null,null,null,null,""]
[null,null,null,null,null,null,null,null,null,null,""]
[null,null,null,null,null,null,null,null,null,null,""]
[null,null,null,null,null,null,null,null,null,null,""]
[null,null,null,null,null,null,null,null,null,null,""]
[null,null,null,null,null,null,null,null,null,null,""]
[null,null,null,null,null,null,null,null,null,null,""]
[null,null,null,null,null,null,null,null,null,null,""]
[null,null,null,null,null,null,null,null,null,null,""]
[null,null,null,null,null,null,null,null,null,null,""]
[null,null,null,null,null,null,null,null,null,null,""]
[null,null,null,null,null,null,null,null,null,null,""]
[null,null,null,null,null,null,null,null,null,null,""]
[null,null,null,null,null,null,null,null,null,null,""]
[null,null,null,null,null,null,null,null,null,null,""]
[null,null,null,null,null,null,null,null,null,null,""]
[null,null,null,null,null,null,null,null,null,null,""]
[null,null,null,null,null,null,null,null,null,null,{"$f":"IF(OR(I5534<>\"\",J5534<>\"\"),I5534+J5534,\"\")","v":""}]
[null,null,null,null,null,null,null,null,null,null,""]
[null,null,null,null,null,null,null,null,null,null,""]
[null,null,null,null,null,null,null,null,null,null,""]
[null,null,null,null,null,null,null,null,null,null,""]
[null,null,null,null,null,null,null,null,null,null,""]
[null,null,null,null,null,null,null,null,null,null,""]
[null,null,null,null,null,null,null,null,null,null,""]
[null,null,null,null,null,null,null,null,null,null,""]
[null,null,null,null,null,null,null,null,null,null,""]
[null,null,null,null,null,null,null,null,null,null,""]
[null,null,null,null,null,null,null,null,null,null,""]
[null,null,null,null,null,null,null,null,null,null,""]
[null,null,null,null,null,null,null,null,null,null,""]
[null,null,null,null,null,null,null,null,null,null,""]
[null,null,null,null,null,null,null,null,null,null,""]
[null,null,null,null,null,null,null,null,null,null,""]
[null,null,null,null,null,null,null,null,null,null,""]
[null,null,null,null,null,null,null,null,null,null,""]
[null,null,null,null,null,null,null,null,null,null,""]
[null,null,null,null,null,null,null,null,null,null,""]
[null,null,null,null,null,null,null,null,null,null,""]
[null,null,null,null,null,null,null,null,null,null,""]
[null,null,null,null,null,null,null,null,null,null,""]
[null,null,null,null,null,null,null,null,null,null,""]
[null,null,null,null,null,null,null,null,null,null,""]
[null,null,null,null,null,null,null,null,null,null,""]
[null,null,null,null,null,null,null,null,null,null,""]
[null,null,null,null,null,null,null,null,null,null,""]
[null,null,null,null,null,null,null,null,null,null,""]
[null,null,null,null,null,null,null,null,null,null,""]
[null,null,null,null,null,null,null,null,null,null,""]
[null,null,null,null,null,null,null,null,null,null,""]
[null,null,null,null,null,null,null,null,null,null,""]
[null,null,null,null,null,null,null,null,null,null,""]
[null,null,null,null,null,null,null,null,null,null,""]
[null,null,null,null,null,null,null,null,null,null,""]
[null,null,null,null,null,null,null,null,null,null,""]
[null,null,null,null,null,null,null,null,null,null,""]
[null,null,null,null,null,null,null,null,null,null,""]
[null,null,null,null,null,null,null,null,null,null,""]
[null,null,null,null,null,null,null,null,null,null,""]
[null,null,null,null,null,null,null,null,null,null,""]
[null,null,null,null,null,null,null,null,null,null,""]
[null,null,null,null,null,null,null,null,null,null,""]
[null,null,null,null,null,null,null,null,null,null,""]
[null,null,null,null,null,null,null,null,null,null,""]
[null,null,null,null,null,null,null,null,null,null,""]
[null,null,null,null,null,null,null,null,null,null,""]
[null,null,null,null,null,null,null,null,null,null,""]
[null,null,null,null,null,null,null,null,null,null,""]
[null,null,null,null,null,null,null,null,null,null,""]
[null,null,null,null,null,null,null,null,null,null,""]
[null,null,null,null,null,null,null,null,null,null,""]
[null,null,null,null,null,null,null,null,null,null,""]
[null,null,null,null,null,null,null,null,null,null,""]
[null,null,null,null,null,null,null,null,null,null,""]
[null,null,null,null,null,null,null,null,null,null,""]
[null,null,null,null,null,null,null,null,null,null,""]
[null,null,null,null,null,null,null,null,null,null,""]
[null,null,null,null,null,null,null,null,null,null,""]
[null,null,null,null,null,null,null,null,null,null,""]
[null,null,null,null,null,null,null,null,null,null,""]
[null,null,null,null,null,null,null,null,null,null,""]
[null,null,null,null,null,null,null,null,null,null,{"$f":"IF(OR(I5598<>\"\",J5598<>\"\"),I5598+J5598,\"\")","v":""}]
[null,null,null,null,null,null,null,null,null,null,""]
[null,null,null,null,null,null,null,null,null,null,""]
[null,null,null,null,null,null,null,null,null,null,""]
[null,null,null,null,null,null,null,null,null,null,""]
[null,null,null,null,null,null,null,null,null,null,""]
[null,null,null,null,null,null,null,null,null,null,""]
[null,null,null,null,null,null,null,null,null,null,""]
[null,null,null,null,null,null,null,null,null,null,""]
[null,null,null,null,null,null,null,null,null,null,""]
[null,null,null,null,null,null,null,null,null,null,""]
[null,null,null,null,null,null,null,null,null,null,""]
[null,null,null,null,null,null,null,null,null,null,""]
[null,null,null,null,null,null,null,null,null,null,""]
[null,null,null,null,null,null,null,null,null,null,""]
[null,null,null,null,null,null,null,null,null,null,""]
[null,null,null,null,null,null,null,null,null,null,""]
[null,null,null,null,null,null,null,null,null,null,""]
[null,null,null,null,null,null,null,null,null,null,""]
[null,null,null,null,null,null,null,null,null,null,""]
[null,null,null,null,null,null,null,null,null,null,""]
[null,null,null,null,null,null,null,null,null,null,""]
[null,null,null,null,null,null,null,null,null,null,""]
[null,null,null,null,null,null,null,null,null,null,""]
[null,null,null,null,null,null,null,null,null,null,""]
[null,null,null,null,null,null,null,null,null,null,""]
[null,null,null,null,null,null,null,null,null,null,""]
[null,null,null,null,null,null,null,null,null,null,""]
[null,null,null,null,null,null,null,null,null,null,""]
[null,null,null,null,null,null,null,null,null,null,""]
[null,null,null,null,null,null,null,null,null,null,""]
[null,null,null,null,null,null,null,null,null,null,""]
[null,null,null,null,null,null,null,null,null,null,""]
[null,null,null,null,null,null,null,null,null,null,""]
[null,null,null,null,null,null,null,null,null,null,""]
[null,null,null,null,null,null,null,null,null,null,""]
[null,null,null,null,null,null,null,null,null,null,""]
[null,null,null,null,null,null,null,null,null,null,""]
[null,null,null,null,null,null,null,null,null,null,""]
[null,null,null,null,null,null,null,null,null,null,""]
[null,null,null,null,null,null,null,null,null,null,""]
[null,null,null,null,null,null,null,null,null,null,""]
[null,null,null,null,null,null,null,null,null,null,""]
[null,null,null,null,null,null,null,null,null,null,""]
[null,null,null,null,null,null,null,null,null,null,""]
[null,null,null,null,null,null,null,null,null,null,""]
[null,null,null,null,null,null,null,null,null,null,""]
[null,null,null,null,null,null,null,null,null,null,""]
[null,null,null,null,null,null,null,null,null,null,""]
[null,null,null,null,null,null,null,null,null,null,""]
[null,null,null,null,null,null,null,null,null,null,""]
[null,null,null,null,null,null,null,null,null,null,""]
[null,null,null,null,null,null,null,null,null,null,""]
[null,null,null,null,null,null,null,null,null,null,""]
[null,null,null,null,null,null,null,null,null,null,""]
[null,null,null,null,null,null,null,null,null,null,""]
[null,null,null,null,null,null,null,null,null,null,""]
[null,null,null,null,null,null,null,null,null,null,""]
[null,null,null,null,null,null,null,null,null,null,""]
[null,null,null,null,null,null,null,null,null,null,""]
[null,null,null,null,null,null,null,null,null,null,""]
[null,null,null,null,null,null,null,null,null,null,""]
[null,null,null,null,null,null,null,null,null,null,""]
[null,null,null,null,null,null,null,null,null,null,""]
[null,null,null,null,null,null,null,null,null,null,{"$f":"IF(OR(I5662<>\"\",J5662<>\"\"),I5662+J5662,\"\")","v":""}]
[null,null,null,null,null,null,null,null,null,null,""]
[null,null,null,null,null,null,null,null,null,null,""]
[null,null,null,null,null,null,null,null,null,null,""]
[null,null,null,null,null,null,null,null,null,null,""]
[null,null,null,null,null,null,null,null,null,null,""]
[null,null,null,null,null,null,null,null,null,null,""]
[null,null,null,null,null,null,null,null,null,null,""]
[null,null,null,null,null,null,null,null,null,null,""]
[null,null,null,null,null,null,null,null,null,null,""]
[null,null,null,null,null,null,null,null,null,null,""]
[null,null,null,null,null,null,null,null,null,null,""]
[null,null,null,null,null,null,null,null,null,null,""]
[null,null,null,null,null,null,null,null,null,null,""]
[null,null,null,null,null,null,null,null,null,null,""]
[null,null,null,null,null,null,null,null,null,null,""]
[null,null,null,null,null,null,null,null,null,null,""]
[null,null,null,null,null,null,null,null,null,null,""]
[null,null,null,null,null,null,null,null,null,null,""]
[null,null,null,null,null,null,null,null,null,null,""]
[null,null,null,null,null,null,null,null,null,null,""]
[null,null,null,null,null,null,null,null,null,null,""]
[null,null,null,null,null,null,null,null,null,null,""]
[null,null,null,null,null,null,null,null,null,null,""]
[null,null,null,null,null,null,null,null,null,null,""]
[null,null,null,null,null,null,null,null,null,null,""]
[null,null,null,null,null,null,null,null,null,null,""]
[null,null,null,null,null,null,null,null,null,null,""]
[null,null,null,null,null,null,null,null,null,null,""]
[null,null,null,null,null,null,null,null,null,null,""]
[null,null,null,null,null,null,null,null,null,null,""]
[null,null,null,null,null,null,null,null,null,null,""]
[null,null,null,null,null,null,null,null,null,null,""]
[null,null,null,null,null,null,null,null,null,null,""]
[null,null,null,null,null,null,null,null,null,null,""]
[null,null,null,null,null,null,null,null,null,null,""]
[null,null,null,null,null,null,null,null,null,null,""]
[null,null,null,null,null,null,null,null,null,null,""]
[null,null,null,null,null,null,null,null,null,null,""]
[null,null,null,null,null,null,null,null,null,null,""]
[null,null,null,null,null,null,null,null,null,null,""]
[null,null,null,null,null,null,null,null,null,null,""]
[null,null,null,null,null,null,null,null,null,null,""]
[null,null,null,null,null,null,null,null,null,null,""]
[null,null,null,null,null,null,null,null,null,null,""]
[null,null,null,null,null,null,null,null,null,null,""]
[null,null,null,null,null,null,null,null,null,null,""]
[null,null,null,null,null,null,null,null,null,null,""]
[null,null,null,null,null,null,null,null,null,null,""]
[null,null,null,null,null,null,null,null,null,null,""]
[null,null,null,null,null,null,null,null,null,null,""]
[null,null,null,null,null,null,null,null,null,null,""]
[null,null,null,null,null,null,null,null,null,null,""]
[null,null,null,null,null,null,null,null,null,null,""]
[null,null,null,null,null,null,null,null,null,null,""]
[null,null,null,null,null,null,null,null,null,null,""]
[null,null,null,null,null,null,null,null,null,null,""]
[null,null,null,null,null,null,null,null,null,null,""]
[null,null,null,null,null,null,null,null,null,null,""]
[null,null,null,null,null,null,null,null,null,null,""]
[null,null,null,null,null,null,null,null,null,null,""]
[null,null,null,null,null,null,null,null,null,null,""]
[null,null,null,null,null,null,null,null,null,null,""]
[null,null,null,null,null,null,null,null,null,null,""]
[null,null,null,null,null,null,null,null,null,null,{"$f":"IF(OR(I5726<>\"\",J5726<>\"\"),I5726+J5726,\"\")","v":""}]
[null,null,null,null,null,null,null,null,null,null,""]
[null,null,null,null,null,null,null,null,null,null,""]
[null,null,null,null,null,null,null,null,null,null,""]
[null,null,null,null,null,null,null,null,null,null,""]
[null,null,null,null,null,null,null,null,null,null,""]
[null,null,null,null,null,null,null,null,null,null,""]
[null,null,null,null,null,null,null,null,null,null,""]
[null,null,null,null,null,null,null,null,null,null,""]
[null,null,null,null,null,null,null,null,null,null,""]
[null,null,null,null,null,null,null,null,null,null,""]
[null,null,null,null,null,null,null,null,null,null,""]
[null,null,null,null,null,null,null,null,null,null,""]
[null,null,null,null,null,null,null,null,null,null,""]
[null,null,null,null,null,null,null,null,null,null,""]
[null,null,null,null,null,null,null,null,null,null,""]
[null,null,null,null,null,null,null,null,null,null,""]
[null,null,null,null,null,null,null,null,null,null,""]
[null,null,null,null,null,null,null,null,null,null,""]
[null,null,null,null,null,null,null,null,null,null,""]
[null,null,null,null,null,null,null,null,null,null,""]
[null,null,null,null,null,null,null,null,null,null,""]
[null,null,null,null,null,null,null,null,null,null,""]
[null,null,null,null,null,null,null,null,null,null,""]
[null,null,null,null,null,null,null,null,null,null,""]
[null,null,null,null,null,null,null,null,null,null,""]
[null,null,null,null,null,null,null,null,null,null,""]
[null,null,null,null,null,null,null,null,null,null,""]
[null,null,null,null,null,null,null,null,null,null,""]
[null,null,null,null,null,null,null,null,null,null,""]
[null,null,null,null,null,null,null,null,null,null,""]
[null,null,null,null,null,null,null,null,null,null,""]
[null,null,null,null,null,null,null,null,null,null,""]
[null,null,null,null,null,null,null,null,null,null,""]
[null,null,null,null,null,null,null,null,null,null,""]
[null,null,null,null,null,null,null,null,null,null,""]
[null,null,null,null,null,null,null,null,null,null,""]
[null,null,null,null,null,null,null,null,null,null,""]
[null,null,null,null,null,null,null,null,null,null,""]
[null,null,null,null,null,null,null,null,null,null,""]
[null,null,null,null,null,null,null,null,null,null,""]
[null,null,null,null,null,null,null,null,null,null,""]
[null,null,null,null,null,null,null,null,null,null,""]
[null,null,null,null,null,null,null,null,null,null,""]
[null,null,null,null,null,null,null,null,null,null,""]
[null,null,null,null,null,null,null,null,null,null,""]
[null,null,null,null,null,null,null,null,null,null,""]
[null,null,null,null,null,null,null,null,null,null,""]
[null,null,null,null,null,null,null,null,null,null,""]
[null,null,null,null,null,null,null,null,null,null,""]
[null,null,null,null,null,null,null,null,null,null,""]
[null,null,null,null,null,null,null,null,null,null,""]
[null,null,null,null,null,null,null,null,null,null,""]
[null,null,null,null,null,null,null,null,null,null,""]
[null,null,null,null,null,null,null,null,null,null,""]
[null,null,null,null,null,null,null,null,null,null,""]
[null,null,null,null,null,null,null,null,null,null,""]
[null,null,null,null,null,null,null,null,null,null,""]
[null,null,null,null,null,null,null,null,null,null,""]
[null,null,null,null,null,null,null,null,null,null,""]
[null,null,null,null,null,null,null,null,null,null,""]
[null,null,null,null,null,null,null,null,null,null,""]
[null,null,null,null,null,null,null,null,null,null,""]
[null,null,null,null,null,null,null,null,null,null,""]
[null,null,null,null,null,null,null,null,null,null,{"$f":"IF(OR(I5790<>\"\",J5790<>\"\"),I5790+J5790,\"\")","v":""}]
[null,null,null,null,null,null,null,null,null,null,""]
[null,null,null,null,null,null,null,null,null,null,""]
[null,null,null,null,null,null,null,null,null,null,""]
[null,null,null,null,null,null,null,null,null,null,""]
[null,null,null,null,null,null,null,null,null,null,""]
[null,null,null,null,null,null,null,null,null,null,""]
[null,null,null,null,null,null,null,null,null,null,""]
[null,null,null,null,null,null,null,null,null,null,""]
[null,null,null,null,null,null,null,null,null,null,""]
[null,null,null,null,null,null,null,null,null,null,""]
[null,null,null,null,null,null,null,null,null,null,""]
[null,null,null,null,null,null,null,null,null,null,""]
[null,null,null,null,null,null,null,null,null,null,""]
[null,null,null,null,null,null,null,null,null,null,""]
[null,null,null,null,null,null,null,null,null,null,""]
[null,null,null,null,null,null,null,null,null,null,""]
[null,null,null,null,null,null,null,null,null,null,""]
[null,null,null,null,null,null,null,null,null,null,""]
[null,null,null,null,null,null,null,null,null,null,""]
[null,null,null,null,null,null,null,null,null,null,""]
[null,null,null,null,null,null,null,null,null,null,""]
[null,null,null,null,null,null,null,null,null,null,""]
[null,null,null,null,null,null,null,null,null,null,""]
[null,null,null,null,null,null,null,null,null,null,""]
[null,null,null,null,null,null,null,null,null,null,""]
[null,null,null,null,null,null,null,null,null,null,""]
[null,null,null,null,null,null,null,null,null,null,""]
[null,null,null,null,null,null,null,null,null,null,""]
[null,null,null,null,null,null,null,null,null,null,""]
[null,null,null,null,null,null,null,null,null,null,""]
[null,null,null,null,null,null,null,null,null,null,""]
[null,null,null,null,null,null,null,null,null,null,""]
[null,null,null,null,null,null,null,null,null,null,""]
[null,null,null,null,null,null,null,null,null,null,""]
[null,null,null,null,null,null,null,null,null,null,""]
[null,null,null,null,null,null,null,null,null,null,""]
[null,null,null,null,null,null,null,null,null,null,""]
[null,null,null,null,null,null,null,null,null,null,""]
[null,null,null,null,null,null,null,null,null,null,""]
[null,null,null,null,null,null,null,null,null,null,""]
[null,null,null,null,null,null,null,null,null,null,""]
[null,null,null,null,null,null,null,null,null,null,""]
[null,null,null,null,null,null,null,null,null,null,""]
[null,null,null,null,null,null,null,null,null,null,""]
[null,null,null,null,null,null,null,null,null,null,""]
[null,null,null,null,null,null,null,null,null,null,""]
[null,null,null,null,null,null,null,null,null,null,""]
[null,null,null,null,null,null,null,null,null,null,""]
[null,null,null,null,null,null,null,null,null,null,""]
[null,null,null,null,null,null,null,null,null,null,""]
[null,null,null,null,null,null,null,null,null,null,""]
[null,null,null,null,null,null,null,null,null,null,""]
[null,null,null,null,null,null,null,null,null,null,""]
[null,null,null,null,null,null,null,null,null,null,""]
[null,null,null,null,null,null,null,null,null,null,""]
[null,null,null,null,null,null,null,null,null,null,""]
[null,null,null,null,null,null,null,null,null,null,""]
[null,null,null,null,null,null,null,null,null,null,""]
[null,null,null,null,null,null,null,null,null,null,""]
[null,null,null,null,null,null,null,null,null,null,""]
[null,null,null,null,null,null,null,null,null,null,""]
[null,null,null,null,null,null,null,null,null,null,""]
[null,null,null,null,null,null,null,null,null,null,""]
[null,null,null,null,null,null,null,null,null,null,{"$f":"IF(OR(I5854<>\"\",J5854<>\"\"),I5854+J5854,\"\")","v":""}]
[null,null,null,null,null,null,null,null,null,null,""]
[null,null,null,null,null,null,null,null,null,null,""]
[null,null,null,null,null,null,null,null,null,null,""]
[null,null,null,null,null,null,null,null,null,null,""]
[null,null,null,null,null,null,null,null,null,null,""]
[null,null,null,null,null,null,null,null,null,null,""]
[null,null,null,null,null,null,null,null,null,null,""]
[null,null,null,null,null,null,null,null,null,null,""]
[null,null,null,null,null,null,null,null,null,null,""]
[null,null,null,null,null,null,null,null,null,null,""]
[null,null,null,null,null,null,null,null,null,null,""]
[null,null,null,null,null,null,null,null,null,null,""]
[null,null,null,null,null,null,null,null,null,null,""]
[null,null,null,null,null,null,null,null,null,null,""]
[null,null,null,null,null,null,null,null,null,null,""]
[null,null,null,null,null,null,null,null,null,null,""]
[null,null,null,null,null,null,null,null,null,null,""]
[null,null,null,null,null,null,null,null,null,null,""]
[null,null,null,null,null,null,null,null,null,null,""]
[null,null,null,null,null,null,null,null,null,null,""]
[null,null,null,null,null,null,null,null,null,null,""]
[null,null,null,null,null,null,null,null,null,null,""]
[null,null,null,null,null,null,null,null,null,null,""]
[null,null,null,null,null,null,null,null,null,null,""]
[null,null,null,null,null,null,null,null,null,null,""]
[null,null,null,null,null,null,null,null,null,null,""]
[null,null,null,null,null,null,null,null,null,null,""]
[null,null,null,null,null,null,null,null,null,null,""]
[null,null,null,null,null,null,null,null,null,null,""]
[null,null,null,null,null,null,null,null,null,null,""]
[null,null,null,null,null,null,null,null,null,null,""]
[null,null,null,null,null,null,null,null,null,null,""]
[null,null,null,null,null,null,null,null,null,null,""]
[null,null,null,null,null,null,null,null,null,null,""]
[null,null,null,null,null,null,null,null,null,null,""]
[null,null,null,null,null,null,null,null,null,null,""]
[null,null,null,null,null,null,null,null,null,null,""]
[null,null,null,null,null,null,null,null,null,null,""]
[null,null,null,null,null,null,null,null,null,null,""]
[null,null,null,null,null,null,null,null,null,null,""]
[null,null,null,null,null,null,null,null,null,null,""]
[null,null,null,null,null,null,null,null,null,null,""]
[null,null,null,null,null,null,null,null,null,null,""]
[null,null,null,null,null,null,null,null,null,null,""]
[null,null,null,null,null,null,null,null,null,null,""]
[null,null,null,null,null,null,null,null,null,null,""]
[null,null,null,null,null,null,null,null,null,null,""]
[null,null,null,null,null,null,null,null,null,null,""]
[null,null,null,null,null,null,null,null,null,null,""]
[null,null,null,null,null,null,null,null,null,null,""]
[null,null,null,null,null,null,null,null,null,null,""]
[null,null,null,null,null,null,null,null,null,null,""]
[null,null,null,null,null,null,null,null,null,null,""]
[null,null,null,null,null,null,null,null,null,null,""]
[null,null,null,null,null,null,null,null,null,null,""]
[null,null,null,null,null,null,null,null,null,null,""]
[null,null,null,null,null,null,null,null,null,null,""]
[null,null,null,null,null,null,null,null,null,null,""]
[null,null,null,null,null,null,null,null,null,null,""]
[null,null,null,null,null,null,null,null,null,null,""]
[null,null,null,null,null,null,null,null,null,null,""]
[null,null,null,null,null,null,null,null,null,null,""]
[null,null,null,null,null,null,null,null,null,null,""]
[null,null,null,null,null,null,null,null,null,null,{"$f":"IF(OR(I5918<>\"\",J5918<>\"\"),I5918+J5918,\"\")","v":""}]
[null,null,null,null,null,null,null,null,null,null,""]
[null,null,null,null,null,null,null,null,null,null,""]
[null,null,null,null,null,null,null,null,null,null,""]
[null,null,null,null,null,null,null,null,null,null,""]
[null,null,null,null,null,null,null,null,null,null,""]
[null,null,null,null,null,null,null,null,null,null,""]
[null,null,null,null,null,null,null,null,null,null,""]
[null,null,null,null,null,null,null,null,null,null,""]
[null,null,null,null,null,null,null,null,null,null,""]
[null,null,null,null,null,null,null,null,null,null,""]
[null,null,null,null,null,null,null,null,null,null,""]
[null,null,null,null,null,null,null,null,null,null,""]
[null,null,null,null,null,null,null,null,null,null,""]
[null,null,null,null,null,null,null,null,null,null,""]
[null,null,null,null,null,null,null,null,null,null,""]
[null,null,null,null,null,null,null,null,null,null,""]
[null,null,null,null,null,null,null,null,null,null,""]
[null,null,null,null,null,null,null,null,null,null,""]
[null,null,null,null,null,null,null,null,null,null,""]
[null,null,null,null,null,null,null,null,null,null,""]
[null,null,null,null,null,null,null,null,null,null,""]
[null,null,null,null,null,null,null,null,null,null,""]
[null,null,null,null,null,null,null,null,null,null,""]
[null,null,null,null,null,null,null,null,null,null,""]
[null,null,null,null,null,null,null,null,null,null,""]
[null,null,null,null,null,null,null,null,null,null,""]
[null,null,null,null,null,null,null,null,null,null,""]
[null,null,null,null,null,null,null,null,null,null,""]
[null,null,null,null,null,null,null,null,null,null,""]
[null,null,null,null,null,null,null,null,null,null,""]
[null,null,null,null,null,null,null,null,null,null,""]
[null,null,null,null,null,null,null,null,null,null,""]
[null,null,null,null,null,null,null,null,null,null,""]
[null,null,null,null,null,null,null,null,null,null,""]
[null,null,null,null,null,null,null,null,null,null,""]
[null,null,null,null,null,null,null,null,null,null,""]
[null,null,null,null,null,null,null,null,null,null,""]
[null,null,null,null,null,null,null,null,null,null,""]
[null,null,null,null,null,null,null,null,null,null,""]
[null,null,null,null,null,null,null,null,null,null,""]
[null,null,null,null,null,null,null,null,null,null,""]
[null,null,null,null,null,null,null,null,null,null,""]
[null,null,null,null,null,null,null,null,null,null,""]
[null,null,null,null,null,null,null,null,null,null,""]
[null,null,null,null,null,null,null,null,null,null,""]
[null,null,null,null,null,null,null,null,null,null,""]
[null,null,null,null,null,null,null,null,null,null,""]
[null,null,null,null,null,null,null,null,null,null,""]
[null,null,null,null,null,null,null,null,null,null,""]
[null,null,null,null,null,null,null,null,null,null,""]
[null,null,null,null,null,null,null,null,null,null,""]
[null,null,null,null,null,null,null,null,null,null,""]
[null,null,null,null,null,null,null,null,null,null,""]
[null,null,null,null,null,null,null,null,null,null,""]
[null,null,null,null,null,null,null,null,null,null,""]
[null,null,null,null,null,null,null,null,null,null,""]
[null,null,null,null,null,null,null,null,null,null,""]
[null,null,null,null,null,null,null,null,null,null,""]
[null,null,null,null,null,null,null,null,null,null,""]
[null,null,null,null,null,null,null,null,null,null,""]
[null,null,null,null,null,null,null,null,null,null,""]
[null,null,null,null,null,null,null,null,null,null,""]
[null,null,null,null,null,null,null,null,null,null,""]
[null,null,null,null,null,null,null,null,null,null,{"$f":"IF(OR(I5982<>\"\",J5982<>\"\"),I5982+J5982,\"\")","v":""}]
[null,null,null,null,null,null,null,null,null,null,""]
[null,null,null,null,null,null,null,null,null,null,""]
[null,null,null,null,null,null,null,null,null,null,""]
[null,null,null,null,null,null,null,null,null,null,""]
[null,null,null,null,null,null,null,null,null,null,""]
[null,null,null,null,null,null,null,null,null,null,""]
[null,null,null,null,null,null,null,null,null,null,""]
[null,null,null,null,null,null,null,null,null,null,""]
[null,null,null,null,null,null,null,null,null,null,""]
[null,null,null,null,null,null,null,null,null,null,""]
[null,null,null,null,null,null,null,null,null,null,""]
[null,null,null,null,null,null,null,null,null,null,""]
[null,null,null,null,null,null,null,null,null,null,""]
[null,null,null,null,null,null,null,null,null,null,""]
[null,null,null,null,null,null,null,null,null,null,""]
[null,null,null,null,null,null,null,null,null,null,""]
[null,null,null,null,null,null,null,null,null,null,""]
[null,null,null,null,null,null,null,null,null,null,""]

{"sheet":"DE104_9","index":9,"n_rows":125,"n_cols":47,"rows_kept":125,"cut":false,"hidden":false,"merged":[[14,21,15,24],[14,26,14,43],[15,2,16,19],[15,26,15,43],[16,26,17,43],[17,2,17,19],[18,2,18,19],[18,26,18,43],[19,2,19,19],[19,26,19,43],[20,2,20,7],[20,8,20,14],[20,15,20,16],[20,17,23,17],[20,18,23,18],[20,19,24,19],[20,43,25,43],[21,32,22,33],[21,34,22,35],[21,36,22,38],[21,39,22,40],[20,26,20,31],[20,32,20,38],[20,39,20,40],[20,41,24,41],[20,42,24,42],[21,26,25,26],[21,27,25,27],[21,28,25,29],[21,30,25,30],[21,2,24,2],[21,3,24,3],[21,4,24,5],[21,6,24,6],[21,8,21,9],[21,10,21,11],[22,7,23,7],[22,8,23,8],[22,9,23,9],[22,10,23,10],[22,14,23,14],[22,15,24,15],[22,16,24,16],[21,12,21,14],[21,15,21,16],[114,2,114,7],[23,37,24,37],[23,38,24,38],[23,39,25,39],[23,40,25,40],[107,2,107,7],[108,2,108,7],[22,31,24,31],[23,32,24,32],[23,33,24,33],[23,34,24,34],[23,35,24,35],[23,36,25,36],[22,11,23,11],[22,12,24,12],[22,13,23,13],[109,2,109,7],[110,2,110,7],[111,2,111,7],[112,2,112,7],[113,2,113,7]]}
["TabTitle",{"$f":"C16","v":"LONGITUDINAL SUBDRAIN SHOULDER AND BACKSLOPE"}]
["Number of Tab Columns",18]
["DE Starter Row Number",26]
["TabSheet Starter Row Number",13,null,null,null,null,null,null,null,null,null,null,null,null,null,null,null,"if nothing else - change 24/12 to 18/12 for depth of porous backfill"]
["TabSheet Header Row Count",12,null,null,null,null,null,null,null,null,null,null,null,null,null,null,null,null,0.2]
["Top Header Cell","AA15",null,null,null,null,null,null,null,null,null,null,null,null,null,null,null,null,0.2]
["Bottom Header Cell","AR26"]
["DESheet Row Count",100]
["Fixed Empty Rows",2]
["Usable Empty Rows",20]
["Total Rows Placed",122,"xlRight(1)","xlCenter","xlRight(1)","xlRight(1)","xlCenter","xlRight(1)","xlRight(1)","xlRight(1)","xlRight(1)","xlRight(1)","xlRight(1)","xlRight(1)","xlRight(1)","xlRight(1)","xlRight(1)","xlRight(1)","xlRight(1)","xlLeft(1)",null,null,null,null,null,null,{"$f":"C11","v":"xlRight(1)"},"xlCenter","xlRight(1)","xlRight(1)","xlCenter","xlRight(1)","xlRight(1)","xlRight(1)","xlRight(1)","xlRight(1)","xlRight(1)","xlRight(1)","xlRight(1)","xlRight(1)","xlRight(1)","xlRight(1)",{"$f":"S11","v":"xlRight(1)"},"xlLeft(1)"]
["Total Rows Needed",{"$f":"SUM(B8:B10)","v":122},"General","General","#+00.00","#+00.00","General","0.0","0.0","0.0","0.0","0.0","General","0.0","0.0","#+00.00","General","0.0","0.0","General",null,null,null,null,null,null,"General","General","#+00.00","#+00.00","General","0.0","0.0","0.0","0.0","0.0","General","0.0","0.0","#+00.00","General","0.0","0.0","General"]
["Last Tab DE Starter Row",104,{"$f":"CELL(\"width\",C13)","v":7},20,16,16,7,10,10,10,10,10,{"$f":"CELL(\"width\",M13)","v":22},10,10,16,22,13,15,86,null,null,null,null,null,null,{"$f":"CELL(\"width\",AA13)","v":0},0,0,0,0,0,0,0,0,0,0,0,0,0,0,0,0,0]
["Last Tab Tabsheet Starter Row",103,"A","B","C","D","E","F","G","H","I","J","K","L","M","N","O","P","Q","R",null,null,null,null,null,null,{"$f":"LOWER(C14)","v":"a"},"b","c","d","e","f","g","h","i","j","k","l","m","n","o","p","q","r"]
["Last Copy Starter Row",91,null,null,null,null,null,null,"Totals:",{"$f":"SUBTOTAL(9,J26:J5996)","v":0},null,{"$f":"SUBTOTAL(9,L26:L5996)","v":17260},null,null,{"$f":"SUBTOTAL(9,O26:O5996)","v":0},null,null,null,null,null,null,"Instructions for filling out Tab 104-09",null,null,null,null,"104-9",null,null,null,null,null,null,null,null,null,null,null,null,null,null,null,null,null,null,{"$f":"M22","v":"Bridge Berm (EW-203 or EW-204)"},"Subdrain Outlet SRP"]
["Tab Loop Number",3,"LONGITUDINAL SUBDRAIN SHOULDER AND BACKSLOPE",null,null,null,null,null,null,null,null,null,null,null,null,null,null,null,null,null,null,null,null,null,null,null,{"$f":"B17","v":"2017-10-17"},null,null,null,null,null,null,null,null,null,null,null,null,null,null,null,null,null,null,"EW-203, Type A","DR-303"]
["Revision Date","2017-10-17",null,null,null,null,null,null,null,null,null,null,null,null,null,null,null,null,null,null,null,"1.)","You must fill in the Stationing, Side, Depth, Crushed Stone quantity, and Size of Shoulder, Backslope, or Bridge subdrain.",null,null,null,"LONGITUDINAL SUBDRAIN SHOULDER AND BACKSLOPE",null,null,null,null,null,null,null,null,null,null,null,null,null,null,null,null,null,null,"EW-203, Type B","DR-305, Type A"]
["Tabulation Width",4,"Refer to Soils Sheets",null,null,null,null,null,null,null,null,null,null,null,null,null,null,null,null,null,null,"2.)","Once the first line is complete, press the Single Outlet or Double Outlet Buttons at the top of the sheet.",null,null,null,null,null,null,null,null,null,null,null,null,null,null,null,null,null,null,null,null,null,null,"EW-203, Type C","DR-305, Type B"]
["Horizontal Grid Lines","Yes","  * Not a bid item. Bridge berm quantities assume a trench depth of 24 inches.",null,null,null,null,null,null,null,null,null,null,null,null,null,null,null,null,null,null,"3.)","You can insert lines by:",null,null,null,{"$f":"C18","v":"Refer to Soils Sheets"},null,null,null,null,null,null,null,null,null,null,null,null,null,null,null,null,null,null,"EW-204, Type A","DR-305, Type C"]
[null,null,{"$f":"\"This Data Entry Sheet fills Tab \"&AA15&\" effective \"&TEXT(B17,\"mm-dd-yy\")","v":"This Data Entry Sheet fills Tab 104-9 effective 10-17-17"},null,null,null,null,null,null,null,null,null,null,null,null,null,null,null,null,null,null,null,"a.) Placing the cell selector on the row where you want to insert the row.",null,null,null,{"$f":"C19","v":"  * Not a bid item. Bridge berm quantities assume a trench depth of 24 inches."},null,null,null,null,null,null,null,null,null,null,null,null,null,null,null,null,null,null,"EW-204, Type B","DR-306"]
[null,null,"Location",null,null,null,null,null,"Longitudinal Subdrain  (DR-303)",null,null,null,null,null,null,"Subdrain Outlet",null,"Porous*\nBackfill","Class \"A\"*\nCrushed\nStone","Remarks",null,null,"b.) Select the Single Outlet or Double Outlet button.",null,null,null,{"$f":"C21","v":"Location"},null,null,null,null,null,{"$f":"I21","v":"Longitudinal Subdrain  (DR-303)"},null,null,null,null,null,null,{"$f":"P21","v":"Subdrain Outlet"},null,{"$f":"R21","v":"Porous*\nBackfill"},{"$f":"S21","v":"Class \"A\"*\nCrushed\nStone"},{"$f":"T21","v":"Remarks"},null,"EW-204, Type C"]
[null,null,"Line\nNo.","Road or Lane Identification","Station to Station",null,"Side","Depth","Shoulder",null,"Backslope",null,"Bridge Berm (EW-203 or EW-204)",null,null,"DR-303, DR-305 or DR-306",null,null,null,null,null,null,"c.) You will be asked if you want to insert a row. Select \"Yes\".",null,null,null,{"$f":"C22","v":"Line\nNo."},{"$f":"D22","v":"Road or Lane Identification"},{"$f":"E22","v":"Station to Station"},null,{"$f":"G22","v":"Side"},{"$f":"H22","v":"Depth"},{"$f":"I22","v":"Shoulder"},null,{"$f":"K22","v":"Backslope"},null,{"$f":"M22","v":"Bridge Berm (EW-203 or EW-204)"},null,null,{"$f":"P22","v":"DR-303, DR-305 or DR-306"}]
[null,null,null,null,null,null,null,null,"Size","Length","Size","Length","Standard Road Plan and Type","Size","Length","Station","Standard Road Plan and Type",null,null,null,null,null,"d.) You will then be asked if you want to renumber.",null,null,null,null,null,null,null,null,{"$f":"H23","v":0}]
[null,null,null,null,null,null,null,null,null,null,null,null,null,null,null,null,null,null,null,null,null,null,null,"1. If you choose Yes, the macro will add one to all following subdrain Line Numbers.",null,null,null,null,null,null,null,null,{"$f":"I23","v":"Size"},"Length","Size","Length","Standard Road Plan and Type","Size","Length","Station","Standard Road Plan and Type"]
[null,null,null,null,null,null,null,"IN","IN","FT","IN","FT",null,"IN","FT",null,null,"CY","CY",null,null,null,null,null,"Example: If you insert a line between lines 5 and 6, the line you insert will become 6 and the"]
[null,null,1,"WBL",12225,13750,"LT",66,null,{"$f":"IF(I26>0, ABS(F26-E26)+40,\"\")","v":""},4,{"$f":"+F26-E26+40","v":1565},null,null,null,12225,"DR-306",{"$f":"IF(I26=4,ROUND(J26*((((H26-6)/12)*(10/12))/27),1),IF(I26=6,ROUND(J26*((((H26-6)/12)*(12/12))/27),1),IF(K26=4,ROUND((L26*(10/12)*((H26-18)/12)/27),1),IF(K26=6,ROUND((L26*(12/12)*((H26-18)/12)/27),1),IF(N26=4,ROUND(O26*(10/12)*(18/12)/27,1),IF(N26=6,ROUND(O26*(12/12)*(18/12)/27,1),\"\"))))))","v":193.2},{"$f":"IF(N26=4,ROUND(O26*(10/12)*(6/12)/27,1),IF(N26=6,ROUND(O26*(12/12)*(6/12)/27,1),\"\"))","v":""},null,null,null,null,null,"following line will become 7.",null,null,null,null,null,null,{"$f":"H25","v":"IN"},{"$f":"I25","v":"IN"},{"$f":"J25","v":"FT"},{"$f":"K25","v":"IN"},{"$f":"L25","v":"FT"},null,{"$f":"N25","v":"IN"},{"$f":"O25","v":"FT"},null,null,{"$f":"R25","v":"CY"},{"$f":"S25","v":"CY"}]
[null,null,null,null,null,null,null," ",null,null," "," ",null,null,null,13250,"DR-306",{"$f":"IF(I27=4,ROUND(J27*((((H27-6)/12)*(10/12))/27),1),IF(I27=6,ROUND(J27*((((H27-6)/12)*(12/12))/27),1),IF(K27=4,ROUND((L27*(10/12)*((H27-18)/12)/27),1),IF(K27=6,ROUND((L27*(12/12)*((H27-18)/12)/27),1),IF(N27=4,ROUND(O27*(10/12)*(18/12)/27,1),IF(N27=6,ROUND(O27*(12/12)*(18/12)/27,1),\"\"))))))","v":""},{"$f":"IF(N27=4,ROUND(O27*(10/12)*(6/12)/27,1),IF(N27=6,ROUND(O27*(12/12)*(6/12)/27,1),\"\"))","v":""},null,null,null,null,"2. If you choose No, the macro will add a letter to the previous and inserted rows."]
[null,null,null,null,null,null,null,null,null,null,null,null,null,null,null,13750,"DR-306"]
[null,null,2,"WBL",14600,15150,"LT",66,null,null,4,{"$f":"+F29-E29+40","v":590},null,null,null,14600,"DR-306",72.8,null,null,null,null,null,null,"line you inserted will become 5B. The following line will stay number 6."]
[null,null,null,null,null,null,null," ",null,null," "," ",null,null,null,15150,"DR-306","",null,null,null,null,null,null,"Example: If you insert a line between lines 5A and 5B, the previous line willstay 5A and the"]
[null,null,3,"WBL",16350,16600,"LT",66,null,null,4,290,null,null,null,16350,"DR-306",35.799999999999997,null,null,null,null,null,null,"line that you insert will become 5B. The following line will become 5C. The macro will work up to \"E\"."]
[null,null,null,null,null,null,null," ",null,null," "," ",null,null,null,16425,"DR-306","",null,null,null,"4.)","If you are asked if you want to insert a row and you don't, choose \"No\" and the macro will take you to"]
[null,null,4,"WBL",19050,19325,"LT",66,null,null,4,315,null,null,null,19050,"DR-306",38.9,null,null,null,null,"the first available row."]
[null,null,null,null,null,null,null,null,null,null,null,null,null,null,null,19325,"DR-306","",null,null,null,"5.)","You can press the Totals button at any time to look at your quantities. The Totals macro also places the"]
[null,null,5,"WBL",31100,31375,"LT",66,null,null,4,315,null,null,null,31100,"DR-306",38.9,null,null,null,null,"notes onto the tab."]
[null,null,6,"WBL",32575,32750,"LT",66,null,null,4,215,null,null,null,32575,"DR-306",26.5]
[null,null,7,"WBL",32800,33200,"LT",66,null,null,4,440,null,null,null,32900,"DR-306",54.3]
[null,null,null,null,null,null,null,null,null,null,null,null,null,null,null,33200,"DR-306",""]
[null,null,8,"WBL",34150,34475,"LT",66,null,null,4,365,null,null,null,34150,"DR-306",45.1]
[null,null,null,null,null,null,null,null,null,null,null,null,null,null,null,34450,"DR-306",""]
[null,null,9,"WBL",34650,35350,"LT",66,null,null,4,740,null,null,null,35100,"DR-306",91.4]
[null,null,10,"WBL",35775,36275,"LT",66,null,null,4,540,null,null,null,35775,"DR-306",66.7]
[null,null,null,null,null,null,null,null,null,null,null,null,null,null,null,35975,"DR-306",""]
[null,null,null,null,null,null,null,null,null,null,null,null,null,null,null,36200,"DR-306",""]
[null,null,11,"WBL",36800,37700,"LT",66,null,null,4,940,null,null,null,36800,"DR-306",116]
[null,null,null,null,null,null,null,null,null,null,null,null,null,null,null,37425,"DR-306",""]
[null,null,null,null,null,null,null,null,null,null,null,null,null,null,null,37675,"DR-306",""]
[null,null,12,"WBL",40875,41225,"LT",66,null,null,4,390,null,null,null,40875,"DR-306",48.1]
[null,null,13,"WBL",41325,41650,"LT",66,null,null,4,365,null,null,null,41325,"DR-306",45.1]
[null,null,null,null,null,null,null,null,null,null,null,null,null,null,null,41650,"DR-306",""]
[null,null,14,"WBL",43275,43775,"LT",66,null,null,4,540,null,null,null,43275,"DR-306",66.7]
[null,null,null,null,null,null,null,null,null,null,null,null,null,null,null,43500,"DR-306",""]
[null,null,null,null,null,null,null,null,null,null,null,null,null,null,null,43775,"DR-306",""]
[null,null,15,"WBL",44000,44850,"LT",66,null,null,4,890,null,null,null,44000,"DR-306",109.9]
[null,null,null,null,null,null,null,null,null,null,null,null,null,null,null,44600,"DR-306",""]
[null,null,null,null,null,null,null,null,null,null,null,null,null,null,null,44850,"DR-306",""]
[null,null,16,"WBL",45625,45750,"LT",66,null,null,4,165,null,null,null,45625,"DR-306",20.399999999999999]
[null,null,null,null,null,null,null,null,null,null,null,null,null,null,null,45750,"DR-306",""]
[null,null,17,"WBL",46125,46200,"LT",66,null,null,4,115,null,null,null,46150,"DR-306",14.2]
[null,null,18,"WBL",46425,47000,"LT",66,null,null,4,615,null,null,null,46425,"DR-306",75.900000000000006]
[null,null,null,null,null,null,null,null,null,null,null,null,null,null,null,47000,"DR-306",""]
[null,null,19,"WBL",47425,47525,"LT",66,null,null,4,140,null,null,null,47525,"DR-306",17.3]
[null,null,20,"WBL",48800,48900,"LT",66,null,null,4,140,null,null,null,48900,"DR-306",17.3]
[null,null,21,"WBL",49975,50200,"LT",66,null,null,4,265,null,null,null,50000,"DR-306",32.700000000000003]
[null,null,22,"WBL",50350,50650,"LT",66,null,null,4,340,null,null,null,50350,"DR-306",42]
[null,null,null,null,null,null,null,null,null,null,null,null,null,null,null,50650,"DR-306",""]
[null,null,23,"WBL",51575,52325,"LT",66,null,null,4,790,null,null,null,51625,"DR-306",97.5]
[null,null,null,null,null,null,null,null,null,null,null,null,null,null,null,51800,"DR-306"]
[null,null,null,null,null,null,null,null,null,null,null,null,null,null,null,52325,"DR-306"]
[null,null,24,"WBL",53175,53700,"LT",66,null,null,4,565,null,null,null,53175,"DR-306",69.8]
[null,null,null,null,null,null,null,null,null,null,null,null,null,null,null,53700,"DR-306",""]
[null,null,25,"WBL",54550,55175,"LT",66,null,null,4,665,null,null,null,54550,"DR-306",82.1]
[null,null,null,null,null,null,null,null,null,null,null,null,null,null,null,54900,"DR-306",""]
[null,null,null,null,null,null,null,null,null,null,null,null,null,null,null,55175,"DR-306",""]
[null,null,26,"WBL",55450,55775,"LT",66,null,null,4,365,null,null,null,55775,"DR-306",45.1]
[null,null,27,"WBL",55950,56275,"LT",66,null,null,4,365,null,null,null,55950,"DR-306",45.1]
[null,null,null,null,null,null,null,null,null,null,null,null,null,null,null,56275,"DR-306",""]
[null,null,28,"WBL",56825,57500,"LT",66,null,null,4,715,null,null,null,56825,"DR-306",88.3]
[null,null,null,null,null,null,null,null,null,null,null,null,null,null,null,57500,"DR-306",""]
[null,null,29,"WBL",57850,57950,"LT",66,null,null,4,140,null,null,null,57850,"DR-306",17.3]
[null,null,30,"WBL",58575,58800,"LT",66,null,null,4,265,null,null,null,58575,"DR-306",32.700000000000003]
[null,null,null,null,null,null,null,null,null,null,null,null,null,null,null,58800,"DR-306",""]
[null,null,31,"WBL",59075,59200,"LT",66,null,null,4,165,null,null,null,59075,"DR-306",20.399999999999999]
[null,null,null,null,null,null,null,null,null,null,null,null,null,null,null,59200,"DR-306",""]
[null,null,32,"WBL",59775,60650,"LT",66,null,null,4,915,null,null,null,59775,"DR-306",113]
[null,null,null,null,null,null,null,null,null,null,null,null,null,null,null,60650,"DR-306",""]
[null,null,33,"WBL",60875,61100,"LT",66,null,null,4,265,null,null,null,61075,"DR-306",32.700000000000003]
[null,null,34,"WBL",61475,61575,"LT",66,null,null,4,140,null,null,null,61500,"DR-306",17.3]
[null,null,35,"WBL",61925,62125,"LT",66,null,null,4,240,null,null,null,61925,"DR-306",29.6]
[null,null,36,"WBL",64400,64725,"LT",66,null,null,4,365,null,null,null,64575,"DR-306",45.1]
[null,null,null,null,null,null,null,null,null,null,null,null,null,null,null,64725,"DR-306",{"$f":"IF(I91=4,ROUND(J91*((((H91-6)/12)*(10/12))/27),1),IF(I91=6,ROUND(J91*((((H91-6)/12)*(12/12))/27),1),IF(K91=4,ROUND((L91*(10/12)*((H91-18)/12)/27),1),IF(K91=6,ROUND((L91*(12/12)*((H91-18)/12)/27),1),IF(N91=4,ROUND(O91*(10/12)*(18/12)/27,1),IF(N91=6,ROUND(O91*(12/12)*(18/12)/27,1),\"\"))))))","v":""}]
[null,null,37,"R Ave.",836875,837125,"RT",66,null,null,4,{"$f":"+F92-E92+40","v":290},null,null,null,836875,"DR-306",35.799999999999997]
[null,null,38,"T Ave",947475,947950,"RT",66,null,null,4,515,null,null,null,947475,"DR-306",63.6]
[null,null,null,null,null,null,null,null,null,null,null,null,null,null,null,947850,"DR-306",""]
[null,null,39,"W Ave.",1262450,1262625,"LT",66,null,null,4,215,null,null,null,1262550,"DR-306",26.5]
[null,null,null,null,null,null,null,null,null,null,null,null,null,null,null,null,null,""]
[null,null,null,null,null,null,null,null,null,null,null,null,null,null,null,null,null,""]
[null,null,null,null,null,null,null,null,null,null,null,null,null,null,null,null,null,""]
[null,null,null,"Totals",null,null,null,null,null," ",null,{"$f":"SUBTOTAL(9,L26:L96)","v":17260},null,null,null," ",70,{"$f":"SUBTOTAL(9,R26:R96)","v":2131.1}," "]
[null,null,null,null,null,null,null,null,null,null,null,null,null,null,null,null,null,""]
[null,null,null,null,null,null,null,null,null,null,null,null,null,null,null,null,null,""]
[]
[]
[]
[]
[]
[]
[null,null,"Backslope drain alignment and flow line elevation can be adjusted",null,null,null,null,null,null,null,null,null,null,null,null,null,null,""]
[null,null,"with the Engineer's approval at the time of construction to adapt",null,null,null,null,null,null,null,null,null,null,null,null,null,null,""]
[null,null,"to observed variations in ground water levels (slope seepage) and",null,null,null,null,null,null,null,null,null,null,null,null,null,null,""]
[null,null,"soil cross sections should be considered a first approximation.  The",null,null,null,null,null,null,null,null,null,null,null,null,null,null,""]
[null,null,"intent is that the drains and outlets may be shifted vertically and",null,null,null,null,null,null,null,null,null,null,null,null,null,null,""]
[null,null,"horizontally, extended, shortened, added to, or deleted as deemed",null,null,null,null,null,null,null,null,null,null,null,null,null,null,""]
[null,null,"necessary by the Field Engineer to optimize control of ground water",null,null,null,null,null,null,null,null,null,null,null,null,null,null,""]
[null,null,"seepage at the slope face.",null,null,null,null,null,null,null,null,null,null,null,null,null,null,""]
[null,null,null,null,null,null,null,null,null,null,null,null,null,null,null,null,null,""]
[null,null,null,null,null,null,null,null,null,null,null,null,null,null,null,null,null,""]
[null,null,null,null,null,null,null,null,null,null,null,null,null,null,null,null,null,""]
[null,null,null,null,null,null,null,null,null,null,null,null,null,null,null,null,null,""]
[null,null,null,null,null,null,null,null,null,null,null,null,null,null,null,null,null,""]
[null,null,null,null,null,null,null,null,null,null,null,null,null,null,null,null,null,""]
[null,null,null,null,null,null,null,null,null,null,null,null,null,null,null,null,null,""]
[null,null,null,null,null,null,null,null,null,null,null,null,null,null,null,null,null,""]
[null,null,null,null,null,null,null,null,null,null,null,null,null,null,null,null,null,""]
[null,null," "]

{"sheet":"DE107_31SUR","index":10,"n_rows":29,"n_cols":12,"rows_kept":29,"cut":false,"hidden":false,"merged":[[14,2,15,5],[14,7,14,10],[15,7,15,10],[16,2,16,5],[16,7,17,10],[17,2,17,5],[18,2,20,3],[18,4,19,4],[18,5,20,5],[18,7,18,10],[19,7,21,8],[19,9,20,9],[19,10,21,10]]}
["TabTitle",{"$f":"C15","v":"SURCHARGES"}]
["Number of Tab Columns",4]
["DE Starter Row Number",22]
["TabSheet Starter Row Number",9]
["TabSheet Header Row Count",8]
["Top Header Cell","H15"]
["Bottom Header Cell","K22"]
["DESheet Row Count",8]
["Fixed Empty Rows",2]
["Usable Empty Rows",0]
["Total Rows Placed",10,"xlRight(1)","xlRight(1)","xlRight(1)","xlLeft(1)",null,{"$f":"C11","v":"xlRight(1)"},"xlRight(1)","xlRight(1)","xlLeft(1)"]
["Total Rows Needed",{"$f":"SUM(B8:B10)","v":10},"#+00.00","#+00.00","0.0","General",null,"#+00.00","#+00.00","0.0","General"]
["Last Tab DE Starter Row",22,{"$f":"CELL(\"width\",C13)","v":16},{"$f":"CELL(\"width\",D13)","v":16},{"$f":"CELL(\"width\",E13)","v":10},{"$f":"CELL(\"width\",F13)","v":33},null,{"$f":"CELL(\"width\",H13)","v":0},{"$f":"CELL(\"width\",I13)","v":0},{"$f":"CELL(\"width\",J13)","v":0},{"$f":"CELL(\"width\",K13)","v":0}]
["Last Tab Tabsheet Starter Row",9,"A","B","C","D",null,{"$f":"LOWER(C14)","v":"a"},{"$f":"LOWER(D14)","v":"b"},{"$f":"LOWER(E14)","v":"c"},{"$f":"LOWER(F14)","v":"d"},{"$f":"LOWER(G14)","v":""}]
["Last Copy Starter Row",1,"SURCHARGES",null,null,null,null,"107-31A"]
["Tab Loop Number",2,null,null,null,null,null,"NEW"]
["Revision Date","2011-04-19","Refer to Sheets Q.12 and Q.40",null,null,null,null,{"$f":"C15","v":"SURCHARGES"}]
["Tabulation Width",1,{"$f":"\"This Data Entry Sheet fills Tab \"&H15&\" effective \"&TEXT(B17,\"mm-dd-yy\")","v":"This Data Entry Sheet fills Tab 107-31A effective 04-19-11"}]
["Horizontal Grid Lines","Yes","Station to Station",null,"Height*","Remarks",null,{"$f":"C17","v":"Refer to Sheets Q.12 and Q.40"}]
[null,null,null,null,null,null,null,{"$f":"C19","v":"Station to Station"},null,{"$f":"E19","v":"Height*"},{"$f":"F19","v":"Remarks"}]
[null,null,null,null,"FT"]
[null,null,26515,26702,7.5,"6200 cy Class 10 Fill",null,null,null,{"$f":"E21","v":"FT"}]
[null,null,26960,27147,7.5,"6200 cy Class 10 Fill"]
[null,null,69480,69580,7.5,"1850 cy Class 10 Fill"]
[null,null,70058,70158,7.5,"1850 cy Class 10 Fill"]
[]
[null,null,null,null,null,"*Note that surcharge height"]
[null,null,null,null,null,"and volume are based on top"]
[null,null,null,null,null,"of subgrade treatment."]

{"sheet":"DE104_5CWB","index":11,"n_rows":58,"n_cols":48,"rows_kept":58,"cut":false,"hidden":false,"merged":[[18,2,18,21],[18,23,18,42],[14,23,14,42],[15,2,16,21],[15,23,15,42],[16,23,17,42],[17,2,17,21],[19,2,19,21],[19,23,19,42],[20,2,21,5],[20,6,21,8],[20,9,21,10],[20,11,21,14],[20,15,23,16],[20,17,24,17],[20,18,23,18],[20,19,24,19],[20,42,26,42],[25,36,25,37],[20,20,24,20],[20,21,25,21],[20,23,21,26],[20,27,21,29],[20,30,21,31],[20,32,21,35],[22,24,26,25],[22,26,25,26],[22,27,26,27],[22,28,25,28],[22,33,25,34],[22,35,25,35],[22,31,25,31],[22,32,25,32],[20,36,24,37],[20,38,25,38],[20,39,24,39],[20,40,25,40],[20,41,25,41],[22,23,26,23],[24,15,24,16],[57,2,57,15],[22,29,25,29],[22,30,25,30],[22,2,25,2],[22,3,25,4],[22,5,24,5],[22,6,25,6],[22,7,24,7],[22,8,24,8],[22,9,24,9],[22,10,24,10],[22,11,24,11],[22,12,24,13],[22,14,24,14]]}
["TabTitle",{"$f":"C16","v":"LIST OF SUBDRAIN WORK"}]
["Number of Tab Columns",20]
["DE Starter Row Number",27]
["TabSheet Starter Row Number",14]
["TabSheet Header Row Count",13]
["Top Header Cell","X15"]
["Bottom Header Cell","AQ27"]
["DESheet Row Count",32]
["Fixed Empty Rows",2]
["Usable Empty Rows",10]
["Total Rows Placed",44,"xlRight(1)","xlRight(1)","xlRight(1)","xlLeft(1)","xlLeft(1)","xlRight(1)","xlRight(1)","xlRight(1)","xlRight(1)","xlRight(1)","xlRight(1)","xlRight(1)","xlRight(1)","xlLeft(1)","xlRight(1)","xlRight(1)","xlRight(1)","xlRight(1)","xlRight(1)","xlLeft(1)",null,{"$f":"C11","v":"xlRight(1)"},{"$f":"D11","v":"xlRight(1)"},"xlRight(1)","xlLeft(1)","xlLeft(1)","xlRight(1)","xlRight(1)","xlRight(1)","xlRight(1)","xlRight(1)","xlRight(1)","xlRight(1)","xlRight(1)","xlLeft(1)","xlRight(1)","xlRight(1)","xlRight(1)",{"$f":"T11","v":"xlRight(1)"},"xlRight(1)","xlLeft(1)"]
["Total Rows Needed",{"$f":"SUM(B8:B10)","v":44},"General","#+00.00","#+00.00","General","General","0.0","0","0","0","0","General","0","0","General","0","0.0","0.0","0.0","0.0","General",null,{"$f":"C12","v":"General"},"#+00.00","#+00.00","General","General","0.0","0","0","0","0","General","0","0","General","0","0.0","0.0","0.0","0.0","General"]
["Last Tab DE Starter Row",27,{"$f":"CELL(\"width\",C13)","v":8},16,16,28,22,8,9,8,8,8,8,8,8,12,6,14,14,14,14,81,null,{"$f":"CELL(\"width\",X13)","v":0},0,0,0,0,0,0,0,0,0,0,0,0,0,0,0,0,0,0,0]
["Last Tab Tabsheet Starter Row",14,"A","B","C","D","E","F","G","H","I","J","K","L","M","N","O","P","Q","R","S","T",null,{"$f":"LOWER(C14)","v":"a"},{"$f":"LOWER(D14)","v":"b"},"c","d","e","f","g","h","i","j","k","l","m","n","o","p","q","r","s","t"]
["Last Copy Starter Row",1,null,null,null,null,null,null,null,null,null,null,null,null,null,"Totals:",null,{"$f":"SUBTOTAL(9,R27:R5998)","v":0},{"$f":"SUBTOTAL(9,S27:S5998)","v":43086.703703703715},null,null,null,null,"104-5C",null,null,null,null,null,null,null,null,null,null,null,null,null,null,null,null,null,null,null,null,{"$f":"F23","v":"Type of\nInstallation"},{"$f":"G21","v":"Pipe"},{"$f":"L21&M23","v":"OutletsDR-305"},{"$f":"P21","v":"Connected Pipe\nJoints*"}]
["Tab Loop Number",2,"LIST OF SUBDRAIN WORK",null,null,null,null,null,null,null,null,null,null,null,null,null,null,null,null,null,null,null,null,{"$f":"B17","v":"2017-10-17"},null,null,null,null,null,null,null,null,null,null,null,null,null,null,null,null,null,null,null,null,"DR-301, Type 1","Concrete","A","Type 1"]
["Revision Date","2017-10-17",null,null,null,null,null,null,null,null,null,null,null,null,null,null,null,null,null,null,null,null,null,{"$f":"C16","v":"LIST OF SUBDRAIN WORK"},null,null,null,null,null,null,null,null,null,null,null,null,null,null,null,null,null,null,null,null,"DR-301, Type 2","C.M.P.","B","Type 2"]
["Tabulation Width",4,"Possible Standards: DR-121, DR-201, DR-203, DR-301, DR-302, DR-303, DR-305 and DR-306. Possible Detail: 500-10.",null,null,null,null,null,null,null,null,null,null,null,null,null,null,null,null,null,null,null,null,null,null,null,null,null,null,null,null,null,null,null,null,null,null,null,null,null,null,null,null,null,"DR-301, Type 3","Plastic","C","Type 3"]
["Horizontal Grid Lines","Yes","* Not a bid item",null,null,null,null,null,null,null,null,null,null,null,null,null,null,null,null,null,null,null,null,{"$f":"C18","v":"Possible Standards: DR-121, DR-201, DR-203, DR-301, DR-302, DR-303, DR-305 and DR-306. Possible Detail: 500-10."},null,null,null,null,null,null,null,null,null,null,null,null,null,null,null,null,null,null,null,null,"DR-301, Type 4"]
[null,null,{"$f":"\"This Data Entry Sheet fills Tab \"&X15&\" effective \"&TEXT(B17,\"mm-dd-yy\")","v":"This Data Entry Sheet fills Tab 104-5C effective 10-17-17"},null,null,null,null,null,null,null,null,null,null,null,null,null,null,null,null,null,null,null,null,{"$f":"C19","v":"* Not a bid item"},null,null,null,null,null,null,null,null,null,null,null,null,null,null,null,null,null,null,null,null,"DR-302, Case A"]
[null,null,"Location",null,null,null,"Pipe",null,null,"Aprons",null,"Outlets",null,null,null,"Connected Pipe\nJoints*",null,"Trench\nDrain","Granular\nMaterial","Porous\nBackfill*","Class \"A\"\nCrushed\nStone*","Remarks",null,{"$f":"C21","v":"Location"},null,null,null,{"$f":"G21","v":"Pipe"},null,null,{"$f":"J21","v":"Aprons"},null,{"$f":"L21","v":"Outlets"},null,null,null,{"$f":"P21","v":"Connected Pipe\nJoints*"},null,{"$f":"R21","v":"Trench\nDrain"},{"$f":"S21","v":"Granular\nMaterial"},{"$f":"T21","v":"Porous\nBackfill*"},{"$f":"U21","v":"Class \"A\"\nCrushed\nStone*"},{"$f":"V21","v":"Remarks"},null,"DR-302, Case B"]
[null,null,null,null,null,null,null,null,null,null,null,null,null,null,null,null,null,null,null,null,null,null,null,null,null,null,null,null,null,null,null,null,null,null,null,null,null,null,null,null,null,null,null,null,"DR-302, Case C"]
[null,null,"No.","Station to Station",null,"Type of\nInstallation","Concrete, C.M.P., or Plastic","Dia.","Length","DR-201","DR-203","500-10","DR-305",null,"DR-306",null,null,null,null,null,null,null,null,{"$f":"C23","v":"No."},{"$f":"D23","v":"Station to Station"},null,{"$f":"F23","v":"Type of\nInstallation"},"Concrete, C.M.P., or Plastic","Dia.","Length","DR-201","DR-203","500-10","DR-305",null,{"$f":"O23","v":"DR-306"},null,null,null,null,null,null,null,null,"DR-303, Type 5"]
[null,null,null,null,null,null,null,null,null,null,null,null,null,null,null,null,null,null,null,null,null,null,null,null,null,null,null,null,null,null,null,null,null,null,null,null,null,null,null,null,null,null,null,null,"DR-303, Type 6"]
[null,null,null,null,null,null,null,null,null,null,null,null,null,null,null,"DR-121",null,null,"Blanket",null,null,null,null,null,null,null,null,null,null,null,null,null,null,null,null,null,null,null,null,null,null,null,null,null,"DR-303, Type 7A"]
[null,null,null,null,null,"DR-301, DR-302, DR-303",null,"IN","LF","No.","No.","No.","Type","No.","No.","Type","No.","LF","CY","CY","CY",null,null,null,null,null,null,null,null,null,null,null,null,null,null,null,{"$f":"P25","v":"DR-121"},null,null,{"$f":"S25","v":"Blanket"},null,null,null,null,"DR-303, Type 7B"]
[null,null,1,947950,948020,null,null,null,null,null,null,null,null,null,null,null,null,null,117.6,null,null,"12-inch thick granular working blanket - R Avenue",null,null,null,null,{"$f":"F26","v":"DR-301, DR-302, DR-303"},null,{"$f":"H26","v":"IN"},{"$f":"I26","v":"LF"},{"$f":"J26","v":"No."},{"$f":"K26","v":"No."},{"$f":"L26","v":"No."},{"$f":"M26","v":"Type"},"No.",{"$f":"O26","v":"No."},{"$f":"P26","v":"Type"},{"$f":"Q26","v":"No."},{"$f":"R26","v":"LF"},{"$f":"S26","v":"CY"},{"$f":"T26","v":"CY"},{"$f":"U26","v":"CY"},null,null,"DR-303, Type 8A"]
[null,null,2,17380,17520,null,null,null,null,null,null,null,null,null,null,null,null,null,348.7,null,null,"12-inch thick granular working blanket - US 30",null,null,null,null,null,null,null,null,null,null,null,null,null,null,null,null,null,null,null,null,null,null,"DR-303, Type 11"]
[null,null,3,33750,33950,null,null,null,null,null,null,null,null,null,null,null,null,null,1851.851851851852,null,null,"12-inch thick granular working blanket - US 30",null,null,null,null,null,null,null,null,null,null,null,null,null,null,null,null,null,null,null,null,null,null,"DR-303, Type 12"]
[null,null,4,34540,35700,null,null,null,null,null,null,null,null,null,null,null,null,null,277.8,null,null,"12-inch thick granular working blanket - US 30",null,null,null,null,null,null,null,null,null,null,null,null,null,null,null,null,null,null,null,null,null,null,"DR-303, Type 13"]
[null,null,5,35490,35520,null,null,null,null,null,null,null,null,null,null,null,null,null,246.5,null,null,"12-inch thick granular working blanket - US 30",null,null,null,null,null,null,null,null,null,null,null,null,null,null,null,null,null,null,null,null,null,null,"DR-303, Type 14"]
[null,null,6,36420,36520,null,null,null,null,null,null,null,null,null,null,null,null,null,311,null,null,"12-inch thick granular working blanket - US 30"]
[null,null,7,38080,38850,null,null,null,null,null,null,null,null,null,null,null,null,null,1134.5,null,null,"12-inch thick granular working blanket - US 30"]
[null,null,8,38890,39920,null,null,null,null,null,null,null,null,null,null,null,null,null,1208.8,null,null,"12-inch thick granular working blanket - US 30"]
[null,null,9,42670,42780,null,null,null,null,null,null,null,null,null,null,null,null,null,501.6,null,null,"12-inch thick granular working blanket - US 30"]
[null,null,10,43690,43880,null,null,null,null,null,null,null,null,null,null,null,null,null,336,null,null,"12-inch thick granular working blanket - US 30"]
[null,null,11,45230,45560,null,null,null,null,null,null,null,null,null,null,null,null,null,674,null,null,"12-inch thick granular working blanket - US 30"]
[null,null,12,45970,46000,null,null,null,null,null,null,null,null,null,null,null,null,null,243.8,null,null,"12-inch thick granular working blanket - US 30"]
[null,null,13,47370,47490,null,null,null,null,null,null,null,null,null,null,null,null,null,581,null,null,"12-inch thick granular working blanket - US 30"]
[null,null,14,48000,48220,null,null,null,null,null,null,null,null,null,null,null,null,null,502.6,null,null,"12-inch thick granular working blanket - US 30"]
[null,null,15,49450,49590,null,null,null,null,null,null,null,null,null,null,null,null,null,289.5,null,null,"12-inch thick granular working blanket - US 30"]
[null,null,16,51100,51200,null,null,null,null,null,null,null,null,null,null,null,null,null,825.2,null,null,"12-inch thick granular working blanket - US 30"]
[null,null,17,52560,52750,null,null,null,null,null,null,null,null,null,null,null,null,null,262.89999999999998,null,null,"12-inch thick granular working blanket - US 30"]
[null,null,18,52910,52990,null,null,null,null,null,null,null,null,null,null,null,null,null,157.30000000000001,null,null,"12-inch thick granular working blanket - US 30"]
[null,null,19,53810,53930,null,null,null,null,null,null,null,null,null,null,null,null,null,290.89999999999998,null,null,"12-inch thick granular working blanket - US 30"]
[null,null,20,55550,56000,null,null,null,null,null,null,null,null,null,null,null,null,null,1676.6,null,null,"12-inch thick granular working blanket - US 30"]
[null,null,21,56480,56650,null,null,null,null,null,null,null,null,null,null,null,null,null,325.7,null,null,"12-inch thick granular working blanket - US 30"]
[null,null,22,57600,57900,null,null,null,null,null,null,null,null,null,null,null,null,null,2793.7,null,null,"12-inch thick granular working blanket - US 30"]
[null,null,23,59250,59400,null,null,null,null,null,null,null,null,null,null,null,null,null,1111.0999999999999,null,null,"12-inch thick granular working blanket - US 30"]
[null,null,24,60850,61050,null,null,null,null,null,null,null,null,null,null,null,null,null,926.3,null,null,"12-inch thick granular working blanket - US 30"]
[null,null,25,61200,61400,null,null,null,null,null,null,null,null,null,null,null,null,null,1569.9,null,null,"12-inch thick granular working blanket - US 30"]
[null,null,26,62550,62700,null,null,null,null,null,null,null,null,null,null,null,null,null,1112.0999999999999,null,null,"12-inch thick granular working blanket - US 30"]
[null,null,27,65540,67200,null,null,null,null,null,null,null,null,null,null,null,null,null,1866.4,null,null,"12-inch thick granular working blanket - US 30"]
[]
[null,null,null,"Totals",null,null,null,null,null,null,null,null,null,null,null,null,null,null,{"$f":"+SUM(S27:S53)","v":21543.351851851858}]
[]
[null,null,"Notes:"]
[null,null,"1. The Working Blankets shown on the Q Sheets and on tab. 104-5C may be extended, reduced or deleted as field conditions dictate at time of construction."]

{"sheet":"103_5PIE","index":12,"n_rows":22,"n_cols":4,"rows_kept":22,"cut":false,"hidden":false,"merged":[[0,0,0,3],[1,0,1,3],[2,0,3,3],[4,0,4,3],[5,0,7,0],[5,1,6,2],[5,3,7,3]]}
["103-5A"]
["NEW"]
["PIEZOMETERS"]
[]
["Refer to Special Provision for Piezometers"]
["No.","Location",null,"Remarks"]
[]
[null,"Station","Offset"]
[{"$f":"IF(OFFSET(DE103_5PIE!$C$22,ROWS($C$22:C22)-1,COLUMNS($C$22:C22)-1)<>\"\",OFFSET(DE103_5PIE!$C$22,ROWS($C$22:C22)-1,COLUMNS($C$22:C22)-1),\"\")","v":"P-1"},{"$f":"IF(OFFSET(DE103_5PIE!$D$22,ROWS($D$22:D22)-1,COLUMNS($D$22:D22)-1)<>\"\",OFFSET(DE103_5PIE!$D$22,ROWS($D$22:D22)-1,COLUMNS($D$22:D22)-1),\"\")","v":38100},{"$f":"IF(OFFSET(DE103_5PIE!$E$22,ROWS($E$22:E22)-1,COLUMNS($E$22:E22)-1)<>\"\",OFFSET(DE103_5PIE!$E$22,ROWS($E$22:E22)-1,COLUMNS($E$22:E22)-1),\"\")","v":"60' LT"},{"$f":"IF(OFFSET(DE103_5PIE!$F$22,ROWS($F$22:F22)-1,COLUMNS($F$22:F22)-1)<>\"\",OFFSET(DE103_5PIE!$F$22,ROWS($F$22:F22)-1,COLUMNS($F$22:F22)-1),\"\")","v":"Tip Elevation = 827 feet"}]
[{"$f":"IF(OFFSET(DE103_5PIE!$C$22,ROWS($C$22:C23)-1,COLUMNS($C$22:C23)-1)<>\"\",OFFSET(DE103_5PIE!$C$22,ROWS($C$22:C23)-1,COLUMNS($C$22:C23)-1),\"\")","v":"P-2"},{"$f":"IF(OFFSET(DE103_5PIE!$D$22,ROWS($D$22:D23)-1,COLUMNS($D$22:D23)-1)<>\"\",OFFSET(DE103_5PIE!$D$22,ROWS($D$22:D23)-1,COLUMNS($D$22:D23)-1),\"\")","v":38300},{"$f":"IF(OFFSET(DE103_5PIE!$E$22,ROWS($E$22:E23)-1,COLUMNS($E$22:E23)-1)<>\"\",OFFSET(DE103_5PIE!$E$22,ROWS($E$22:E23)-1,COLUMNS($E$22:E23)-1),\"\")","v":"30' LT"},{"$f":"IF(OFFSET(DE103_5PIE!$F$22,ROWS($F$22:F23)-1,COLUMNS($F$22:F23)-1)<>\"\",OFFSET(DE103_5PIE!$F$22,ROWS($F$22:F23)-1,COLUMNS($F$22:F23)-1),\"\")","v":"Tip Elevation = 820 feet"}]
[{"$f":"IF(OFFSET(DE103_5PIE!$C$22,ROWS($C$22:C24)-1,COLUMNS($C$22:C24)-1)<>\"\",OFFSET(DE103_5PIE!$C$22,ROWS($C$22:C24)-1,COLUMNS($C$22:C24)-1),\"\")","v":"P-3"},{"$f":"IF(OFFSET(DE103_5PIE!$D$22,ROWS($D$22:D24)-1,COLUMNS($D$22:D24)-1)<>\"\",OFFSET(DE103_5PIE!$D$22,ROWS($D$22:D24)-1,COLUMNS($D$22:D24)-1),\"\")","v":42675},{"$f":"IF(OFFSET(DE103_5PIE!$E$22,ROWS($E$22:E24)-1,COLUMNS($E$22:E24)-1)<>\"\",OFFSET(DE103_5PIE!$E$22,ROWS($E$22:E24)-1,COLUMNS($E$22:E24)-1),\"\")","v":"60' LT"},{"$f":"IF(OFFSET(DE103_5PIE!$F$22,ROWS($F$22:F24)-1,COLUMNS($F$22:F24)-1)<>\"\",OFFSET(DE103_5PIE!$F$22,ROWS($F$22:F24)-1,COLUMNS($F$22:F24)-1),\"\")","v":"Tip Elevation = 871 feet"}]
[{"$f":"IF(OFFSET(DE103_5PIE!$C$22,ROWS($C$22:C25)-1,COLUMNS($C$22:C25)-1)<>\"\",OFFSET(DE103_5PIE!$C$22,ROWS($C$22:C25)-1,COLUMNS($C$22:C25)-1),\"\")","v":"P-4"},{"$f":"IF(OFFSET(DE103_5PIE!$D$22,ROWS($D$22:D25)-1,COLUMNS($D$22:D25)-1)<>\"\",OFFSET(DE103_5PIE!$D$22,ROWS($D$22:D25)-1,COLUMNS($D$22:D25)-1),\"\")","v":42825},{"$f":"IF(OFFSET(DE103_5PIE!$E$22,ROWS($E$22:E25)-1,COLUMNS($E$22:E25)-1)<>\"\",OFFSET(DE103_5PIE!$E$22,ROWS($E$22:E25)-1,COLUMNS($E$22:E25)-1),\"\")","v":"30' LT"},{"$f":"IF(OFFSET(DE103_5PIE!$F$22,ROWS($F$22:F25)-1,COLUMNS($F$22:F25)-1)<>\"\",OFFSET(DE103_5PIE!$F$22,ROWS($F$22:F25)-1,COLUMNS($F$22:F25)-1),\"\")","v":"Tip Elevation = 869 feet"}]
[{"$f":"IF(OFFSET(DE103_5PIE!$C$22,ROWS($C$22:C26)-1,COLUMNS($C$22:C26)-1)<>\"\",OFFSET(DE103_5PIE!$C$22,ROWS($C$22:C26)-1,COLUMNS($C$22:C26)-1),\"\")","v":"P-5"},{"$f":"IF(OFFSET(DE103_5PIE!$D$22,ROWS($D$22:D26)-1,COLUMNS($D$22:D26)-1)<>\"\",OFFSET(DE103_5PIE!$D$22,ROWS($D$22:D26)-1,COLUMNS($D$22:D26)-1),\"\")","v":48000},{"$f":"IF(OFFSET(DE103_5PIE!$E$22,ROWS($E$22:E26)-1,COLUMNS($E$22:E26)-1)<>\"\",OFFSET(DE103_5PIE!$E$22,ROWS($E$22:E26)-1,COLUMNS($E$22:E26)-1),\"\")","v":"30' LT"},{"$f":"IF(OFFSET(DE103_5PIE!$F$22,ROWS($F$22:F26)-1,COLUMNS($F$22:F26)-1)<>\"\",OFFSET(DE103_5PIE!$F$22,ROWS($F$22:F26)-1,COLUMNS($F$22:F26)-1),\"\")","v":"Tip Elevation = 855 feet"}]
[{"$f":"IF(OFFSET(DE103_5PIE!$C$22,ROWS($C$22:C27)-1,COLUMNS($C$22:C27)-1)<>\"\",OFFSET(DE103_5PIE!$C$22,ROWS($C$22:C27)-1,COLUMNS($C$22:C27)-1),\"\")","v":"P-6"},{"$f":"IF(OFFSET(DE103_5PIE!$D$22,ROWS($D$22:D27)-1,COLUMNS($D$22:D27)-1)<>\"\",OFFSET(DE103_5PIE!$D$22,ROWS($D$22:D27)-1,COLUMNS($D$22:D27)-1),\"\")","v":48150},{"$f":"IF(OFFSET(DE103_5PIE!$E$22,ROWS($E$22:E27)-1,COLUMNS($E$22:E27)-1)<>\"\",OFFSET(DE103_5PIE!$E$22,ROWS($E$22:E27)-1,COLUMNS($E$22:E27)-1),\"\")","v":"60' LT"},{"$f":"IF(OFFSET(DE103_5PIE!$F$22,ROWS($F$22:F27)-1,COLUMNS($F$22:F27)-1)<>\"\",OFFSET(DE103_5PIE!$F$22,ROWS($F$22:F27)-1,COLUMNS($F$22:F27)-1),\"\")","v":"Tip Elevation = 845 feet"}]
[{"$f":"IF(OFFSET(DE103_5PIE!$C$22,ROWS($C$22:C28)-1,COLUMNS($C$22:C28)-1)<>\"\",OFFSET(DE103_5PIE!$C$22,ROWS($C$22:C28)-1,COLUMNS($C$22:C28)-1),\"\")","v":"P-7"},{"$f":"IF(OFFSET(DE103_5PIE!$D$22,ROWS($D$22:D28)-1,COLUMNS($D$22:D28)-1)<>\"\",OFFSET(DE103_5PIE!$D$22,ROWS($D$22:D28)-1,COLUMNS($D$22:D28)-1),\"\")","v":51125},{"$f":"IF(OFFSET(DE103_5PIE!$E$22,ROWS($E$22:E28)-1,COLUMNS($E$22:E28)-1)<>\"\",OFFSET(DE103_5PIE!$E$22,ROWS($E$22:E28)-1,COLUMNS($E$22:E28)-1),\"\")","v":"15' LT"},{"$f":"IF(OFFSET(DE103_5PIE!$F$22,ROWS($F$22:F28)-1,COLUMNS($F$22:F28)-1)<>\"\",OFFSET(DE103_5PIE!$F$22,ROWS($F$22:F28)-1,COLUMNS($F$22:F28)-1),\"\")","v":"Tip Elevation = 895 feet"}]
[{"$f":"IF(OFFSET(DE103_5PIE!$C$22,ROWS($C$22:C29)-1,COLUMNS($C$22:C29)-1)<>\"\",OFFSET(DE103_5PIE!$C$22,ROWS($C$22:C29)-1,COLUMNS($C$22:C29)-1),\"\")","v":"P-8"},{"$f":"IF(OFFSET(DE103_5PIE!$D$22,ROWS($D$22:D29)-1,COLUMNS($D$22:D29)-1)<>\"\",OFFSET(DE103_5PIE!$D$22,ROWS($D$22:D29)-1,COLUMNS($D$22:D29)-1),\"\")","v":51225},{"$f":"IF(OFFSET(DE103_5PIE!$E$22,ROWS($E$22:E29)-1,COLUMNS($E$22:E29)-1)<>\"\",OFFSET(DE103_5PIE!$E$22,ROWS($E$22:E29)-1,COLUMNS($E$22:E29)-1),\"\")","v":"70' LT"},{"$f":"IF(OFFSET(DE103_5PIE!$F$22,ROWS($F$22:F29)-1,COLUMNS($F$22:F29)-1)<>\"\",OFFSET(DE103_5PIE!$F$22,ROWS($F$22:F29)-1,COLUMNS($F$22:F29)-1),\"\")","v":"Tip Elevation = 897 feet"}]
[{"$f":"IF(OFFSET(DE103_5PIE!$C$22,ROWS($C$22:C30)-1,COLUMNS($C$22:C30)-1)<>\"\",OFFSET(DE103_5PIE!$C$22,ROWS($C$22:C30)-1,COLUMNS($C$22:C30)-1),\"\")","v":"P-9"},{"$f":"IF(OFFSET(DE103_5PIE!$D$22,ROWS($D$22:D30)-1,COLUMNS($D$22:D30)-1)<>\"\",OFFSET(DE103_5PIE!$D$22,ROWS($D$22:D30)-1,COLUMNS($D$22:D30)-1),\"\")","v":57700},{"$f":"IF(OFFSET(DE103_5PIE!$E$22,ROWS($E$22:E30)-1,COLUMNS($E$22:E30)-1)<>\"\",OFFSET(DE103_5PIE!$E$22,ROWS($E$22:E30)-1,COLUMNS($E$22:E30)-1),\"\")","v":"30' LT"},{"$f":"IF(OFFSET(DE103_5PIE!$F$22,ROWS($F$22:F30)-1,COLUMNS($F$22:F30)-1)<>\"\",OFFSET(DE103_5PIE!$F$22,ROWS($F$22:F30)-1,COLUMNS($F$22:F30)-1),\"\")","v":"Tip Elevation = 860 feet"}]
[{"$f":"IF(OFFSET(DE103_5PIE!$C$22,ROWS($C$22:C31)-1,COLUMNS($C$22:C31)-1)<>\"\",OFFSET(DE103_5PIE!$C$22,ROWS($C$22:C31)-1,COLUMNS($C$22:C31)-1),\"\")","v":"P-10"},{"$f":"IF(OFFSET(DE103_5PIE!$D$22,ROWS($D$22:D31)-1,COLUMNS($D$22:D31)-1)<>\"\",OFFSET(DE103_5PIE!$D$22,ROWS($D$22:D31)-1,COLUMNS($D$22:D31)-1),\"\")","v":57800},{"$f":"IF(OFFSET(DE103_5PIE!$E$22,ROWS($E$22:E31)-1,COLUMNS($E$22:E31)-1)<>\"\",OFFSET(DE103_5PIE!$E$22,ROWS($E$22:E31)-1,COLUMNS($E$22:E31)-1),\"\")","v":"60' LT"},{"$f":"IF(OFFSET(DE103_5PIE!$F$22,ROWS($F$22:F31)-1,COLUMNS($F$22:F31)-1)<>\"\",OFFSET(DE103_5PIE!$F$22,ROWS($F$22:F31)-1,COLUMNS($F$22:F31)-1),\"\")","v":"Tip Elevation = 864 feet"}]
[{"$f":"IF(OFFSET(DE103_5PIE!$C$22,ROWS($C$22:C32)-1,COLUMNS($C$22:C32)-1)<>\"\",OFFSET(DE103_5PIE!$C$22,ROWS($C$22:C32)-1,COLUMNS($C$22:C32)-1),\"\")","v":"P-11"},{"$f":"IF(OFFSET(DE103_5PIE!$D$22,ROWS($D$22:D32)-1,COLUMNS($D$22:D32)-1)<>\"\",OFFSET(DE103_5PIE!$D$22,ROWS($D$22:D32)-1,COLUMNS($D$22:D32)-1),\"\")","v":61225},{"$f":"IF(OFFSET(DE103_5PIE!$E$22,ROWS($E$22:E32)-1,COLUMNS($E$22:E32)-1)<>\"\",OFFSET(DE103_5PIE!$E$22,ROWS($E$22:E32)-1,COLUMNS($E$22:E32)-1),\"\")","v":"30' LT"},{"$f":"IF(OFFSET(DE103_5PIE!$F$22,ROWS($F$22:F32)-1,COLUMNS($F$22:F32)-1)<>\"\",OFFSET(DE103_5PIE!$F$22,ROWS($F$22:F32)-1,COLUMNS($F$22:F32)-1),\"\")","v":"Tip Elevation = 871 feet"}]
[{"$f":"IF(OFFSET(DE103_5PIE!$C$22,ROWS($C$22:C33)-1,COLUMNS($C$22:C33)-1)<>\"\",OFFSET(DE103_5PIE!$C$22,ROWS($C$22:C33)-1,COLUMNS($C$22:C33)-1),\"\")","v":"P-12"},{"$f":"IF(OFFSET(DE103_5PIE!$D$22,ROWS($D$22:D33)-1,COLUMNS($D$22:D33)-1)<>\"\",OFFSET(DE103_5PIE!$D$22,ROWS($D$22:D33)-1,COLUMNS($D$22:D33)-1),\"\")","v":61325},{"$f":"IF(OFFSET(DE103_5PIE!$E$22,ROWS($E$22:E33)-1,COLUMNS($E$22:E33)-1)<>\"\",OFFSET(DE103_5PIE!$E$22,ROWS($E$22:E33)-1,COLUMNS($E$22:E33)-1),\"\")","v":"60' LT"},{"$f":"IF(OFFSET(DE103_5PIE!$F$22,ROWS($F$22:F33)-1,COLUMNS($F$22:F33)-1)<>\"\",OFFSET(DE103_5PIE!$F$22,ROWS($F$22:F33)-1,COLUMNS($F$22:F33)-1),\"\")","v":"Tip Elevation = 871 feet"}]
[{"$f":"IF(OFFSET(DE103_5PIE!$C$22,ROWS($C$22:C34)-1,COLUMNS($C$22:C34)-1)<>\"\",OFFSET(DE103_5PIE!$C$22,ROWS($C$22:C34)-1,COLUMNS($C$22:C34)-1),\"\")","v":""},{"$f":"IF(OFFSET(DE103_5PIE!$D$22,ROWS($D$22:D34)-1,COLUMNS($D$22:D34)-1)<>\"\",OFFSET(DE103_5PIE!$D$22,ROWS($D$22:D34)-1,COLUMNS($D$22:D34)-1),\"\")","v":""},{"$f":"IF(OFFSET(DE103_5PIE!$E$22,ROWS($E$22:E34)-1,COLUMNS($E$22:E34)-1)<>\"\",OFFSET(DE103_5PIE!$E$22,ROWS($E$22:E34)-1,COLUMNS($E$22:E34)-1),\"\")","v":""},{"$f":"IF(OFFSET(DE103_5PIE!$F$22,ROWS($F$22:F34)-1,COLUMNS($F$22:F34)-1)<>\"\",OFFSET(DE103_5PIE!$F$22,ROWS($F$22:F34)-1,COLUMNS($F$22:F34)-1),\"\")","v":""}]
[{"$f":"IF(OFFSET(DE103_5PIE!$C$22,ROWS($C$22:C35)-1,COLUMNS($C$22:C35)-1)<>\"\",OFFSET(DE103_5PIE!$C$22,ROWS($C$22:C35)-1,COLUMNS($C$22:C35)-1),\"\")","v":""},{"$f":"IF(OFFSET(DE103_5PIE!$D$22,ROWS($D$22:D35)-1,COLUMNS($D$22:D35)-1)<>\"\",OFFSET(DE103_5PIE!$D$22,ROWS($D$22:D35)-1,COLUMNS($D$22:D35)-1),\"\")","v":""},{"$f":"IF(OFFSET(DE103_5PIE!$E$22,ROWS($E$22:E35)-1,COLUMNS($E$22:E35)-1)<>\"\",OFFSET(DE103_5PIE!$E$22,ROWS($E$22:E35)-1,COLUMNS($E$22:E35)-1),\"\")","v":""},{"$f":"IF(OFFSET(DE103_5PIE!$F$22,ROWS($F$22:F35)-1,COLUMNS($F$22:F35)-1)<>\"\",OFFSET(DE103_5PIE!$F$22,ROWS($F$22:F35)-1,COLUMNS($F$22:F35)-1),\"\")","v":""}]

{"sheet":"103_6","index":13,"n_rows":10,"n_cols":1,"rows_kept":10,"cut":false,"hidden":false,"merged":[[2,0,3,0]]}
["103-6"]
["2017-10-17"]
["EMBANKMENT WITH MOISTURE CONTROL"]
[]
[{"$f":"IF(OFFSET(DE103_6!$C$19,ROWS($C$19:C19)-1,COLUMNS($C$19:C19)-1)<>\"\",OFFSET(DE103_6!$C$19,ROWS($C$19:C19)-1,COLUMNS($C$19:C19)-1),\"\")","v":"Moisture Control is required for all Class 10 fill placed in all"}]
[{"$f":"IF(OFFSET(DE103_6!$C$19,ROWS($C$19:C20)-1,COLUMNS($C$19:C20)-1)<>\"\",OFFSET(DE103_6!$C$19,ROWS($C$19:C20)-1,COLUMNS($C$19:C20)-1),\"\")","v":"locations and depths.  Topsoil will not require Moisture Control."}]
[{"$f":"IF(OFFSET(DE103_6!$C$19,ROWS($C$19:C21)-1,COLUMNS($C$19:C21)-1)<>\"\",OFFSET(DE103_6!$C$19,ROWS($C$19:C21)-1,COLUMNS($C$19:C21)-1),\"\")","v":"Moisture Control is also required on all Select Treatment and is"}]
[{"$f":"IF(OFFSET(DE103_6!$C$19,ROWS($C$19:C22)-1,COLUMNS($C$19:C22)-1)<>\"\",OFFSET(DE103_6!$C$19,ROWS($C$19:C22)-1,COLUMNS($C$19:C22)-1),\"\")","v":"incidental to the project."}]
[{"$f":"IF(OFFSET(DE103_6!$C$19,ROWS($C$19:C23)-1,COLUMNS($C$19:C23)-1)<>\"\",OFFSET(DE103_6!$C$19,ROWS($C$19:C23)-1,COLUMNS($C$19:C23)-1),\"\")","v":""}]
[{"$f":"IF(OFFSET(DE103_6!$C$19,ROWS($C$19:C24)-1,COLUMNS($C$19:C24)-1)<>\"\",OFFSET(DE103_6!$C$19,ROWS($C$19:C24)-1,COLUMNS($C$19:C24)-1),\"\")","v":""}]

{"sheet":"103_5SP","index":14,"n_rows":36,"n_cols":4,"rows_kept":36,"cut":false,"hidden":false,"merged":[[0,0,0,3],[1,0,1,3],[2,0,3,3],[4,0,4,3],[5,0,7,0],[5,1,6,2],[5,3,7,3]]}
["103-5"]
["2013-10-15"]
["SETTLEMENT PLATES"]
[]
["Refer to Standard Road Plan EW-212"]
["No.","Location",null,"Remarks"]
[]
[null,"Station","Offset"]
[{"$f":"IF(OFFSET(DE103_5SP!$C$22,ROWS($C$22:C22)-1,COLUMNS($C$22:C22)-1)<>\"\",OFFSET(DE103_5SP!$C$22,ROWS($C$22:C22)-1,COLUMNS($C$22:C22)-1),\"\")","v":"S-1"},{"$f":"IF(OFFSET(DE103_5SP!$D$22,ROWS($D$22:D22)-1,COLUMNS($D$22:D22)-1)<>\"\",OFFSET(DE103_5SP!$D$22,ROWS($D$22:D22)-1,COLUMNS($D$22:D22)-1),\"\")","v":33775},{"$f":"IF(OFFSET(DE103_5SP!$E$22,ROWS($E$22:E22)-1,COLUMNS($E$22:E22)-1)<>\"\",OFFSET(DE103_5SP!$E$22,ROWS($E$22:E22)-1,COLUMNS($E$22:E22)-1),\"\")","v":"30' LT"},{"$f":"IF(OFFSET(DE103_5SP!$F$22,ROWS($F$22:F22)-1,COLUMNS($F$22:F22)-1)<>\"\",OFFSET(DE103_5SP!$F$22,ROWS($F$22:F22)-1,COLUMNS($F$22:F22)-1),\"\")","v":""}]
[{"$f":"IF(OFFSET(DE103_5SP!$C$22,ROWS($C$22:C23)-1,COLUMNS($C$22:C23)-1)<>\"\",OFFSET(DE103_5SP!$C$22,ROWS($C$22:C23)-1,COLUMNS($C$22:C23)-1),\"\")","v":"S-2"},{"$f":"IF(OFFSET(DE103_5SP!$D$22,ROWS($D$22:D23)-1,COLUMNS($D$22:D23)-1)<>\"\",OFFSET(DE103_5SP!$D$22,ROWS($D$22:D23)-1,COLUMNS($D$22:D23)-1),\"\")","v":33900},{"$f":"IF(OFFSET(DE103_5SP!$E$22,ROWS($E$22:E23)-1,COLUMNS($E$22:E23)-1)<>\"\",OFFSET(DE103_5SP!$E$22,ROWS($E$22:E23)-1,COLUMNS($E$22:E23)-1),\"\")","v":"60' RT"},{"$f":"IF(OFFSET(DE103_5SP!$F$22,ROWS($F$22:F23)-1,COLUMNS($F$22:F23)-1)<>\"\",OFFSET(DE103_5SP!$F$22,ROWS($F$22:F23)-1,COLUMNS($F$22:F23)-1),\"\")","v":""}]
[{"$f":"IF(OFFSET(DE103_5SP!$C$22,ROWS($C$22:C24)-1,COLUMNS($C$22:C24)-1)<>\"\",OFFSET(DE103_5SP!$C$22,ROWS($C$22:C24)-1,COLUMNS($C$22:C24)-1),\"\")","v":"S-3"},{"$f":"IF(OFFSET(DE103_5SP!$D$22,ROWS($D$22:D24)-1,COLUMNS($D$22:D24)-1)<>\"\",OFFSET(DE103_5SP!$D$22,ROWS($D$22:D24)-1,COLUMNS($D$22:D24)-1),\"\")","v":38100},{"$f":"IF(OFFSET(DE103_5SP!$E$22,ROWS($E$22:E24)-1,COLUMNS($E$22:E24)-1)<>\"\",OFFSET(DE103_5SP!$E$22,ROWS($E$22:E24)-1,COLUMNS($E$22:E24)-1),\"\")","v":"60' LT"},{"$f":"IF(OFFSET(DE103_5SP!$F$22,ROWS($F$22:F24)-1,COLUMNS($F$22:F24)-1)<>\"\",OFFSET(DE103_5SP!$F$22,ROWS($F$22:F24)-1,COLUMNS($F$22:F24)-1),\"\")","v":"Install P-1 within 5 feet"}]
[{"$f":"IF(OFFSET(DE103_5SP!$C$22,ROWS($C$22:C25)-1,COLUMNS($C$22:C25)-1)<>\"\",OFFSET(DE103_5SP!$C$22,ROWS($C$22:C25)-1,COLUMNS($C$22:C25)-1),\"\")","v":"S-4"},{"$f":"IF(OFFSET(DE103_5SP!$D$22,ROWS($D$22:D25)-1,COLUMNS($D$22:D25)-1)<>\"\",OFFSET(DE103_5SP!$D$22,ROWS($D$22:D25)-1,COLUMNS($D$22:D25)-1),\"\")","v":38300},{"$f":"IF(OFFSET(DE103_5SP!$E$22,ROWS($E$22:E25)-1,COLUMNS($E$22:E25)-1)<>\"\",OFFSET(DE103_5SP!$E$22,ROWS($E$22:E25)-1,COLUMNS($E$22:E25)-1),\"\")","v":"30' LT"},{"$f":"IF(OFFSET(DE103_5SP!$F$22,ROWS($F$22:F25)-1,COLUMNS($F$22:F25)-1)<>\"\",OFFSET(DE103_5SP!$F$22,ROWS($F$22:F25)-1,COLUMNS($F$22:F25)-1),\"\")","v":"Install P-2 within 5 feet"}]
[{"$f":"IF(OFFSET(DE103_5SP!$C$22,ROWS($C$22:C26)-1,COLUMNS($C$22:C26)-1)<>\"\",OFFSET(DE103_5SP!$C$22,ROWS($C$22:C26)-1,COLUMNS($C$22:C26)-1),\"\")","v":"S-5"},{"$f":"IF(OFFSET(DE103_5SP!$D$22,ROWS($D$22:D26)-1,COLUMNS($D$22:D26)-1)<>\"\",OFFSET(DE103_5SP!$D$22,ROWS($D$22:D26)-1,COLUMNS($D$22:D26)-1),\"\")","v":38400},{"$f":"IF(OFFSET(DE103_5SP!$E$22,ROWS($E$22:E26)-1,COLUMNS($E$22:E26)-1)<>\"\",OFFSET(DE103_5SP!$E$22,ROWS($E$22:E26)-1,COLUMNS($E$22:E26)-1),\"\")","v":"30' RT"},{"$f":"IF(OFFSET(DE103_5SP!$F$22,ROWS($F$22:F26)-1,COLUMNS($F$22:F26)-1)<>\"\",OFFSET(DE103_5SP!$F$22,ROWS($F$22:F26)-1,COLUMNS($F$22:F26)-1),\"\")","v":""}]
[{"$f":"IF(OFFSET(DE103_5SP!$C$22,ROWS($C$22:C27)-1,COLUMNS($C$22:C27)-1)<>\"\",OFFSET(DE103_5SP!$C$22,ROWS($C$22:C27)-1,COLUMNS($C$22:C27)-1),\"\")","v":"S-6"},{"$f":"IF(OFFSET(DE103_5SP!$D$22,ROWS($D$22:D27)-1,COLUMNS($D$22:D27)-1)<>\"\",OFFSET(DE103_5SP!$D$22,ROWS($D$22:D27)-1,COLUMNS($D$22:D27)-1),\"\")","v":38525},{"$f":"IF(OFFSET(DE103_5SP!$E$22,ROWS($E$22:E27)-1,COLUMNS($E$22:E27)-1)<>\"\",OFFSET(DE103_5SP!$E$22,ROWS($E$22:E27)-1,COLUMNS($E$22:E27)-1),\"\")","v":"60' RT"},{"$f":"IF(OFFSET(DE103_5SP!$F$22,ROWS($F$22:F27)-1,COLUMNS($F$22:F27)-1)<>\"\",OFFSET(DE103_5SP!$F$22,ROWS($F$22:F27)-1,COLUMNS($F$22:F27)-1),\"\")","v":""}]
[{"$f":"IF(OFFSET(DE103_5SP!$C$22,ROWS($C$22:C28)-1,COLUMNS($C$22:C28)-1)<>\"\",OFFSET(DE103_5SP!$C$22,ROWS($C$22:C28)-1,COLUMNS($C$22:C28)-1),\"\")","v":"S-7"},{"$f":"IF(OFFSET(DE103_5SP!$D$22,ROWS($D$22:D28)-1,COLUMNS($D$22:D28)-1)<>\"\",OFFSET(DE103_5SP!$D$22,ROWS($D$22:D28)-1,COLUMNS($D$22:D28)-1),\"\")","v":39600},{"$f":"IF(OFFSET(DE103_5SP!$E$22,ROWS($E$22:E28)-1,COLUMNS($E$22:E28)-1)<>\"\",OFFSET(DE103_5SP!$E$22,ROWS($E$22:E28)-1,COLUMNS($E$22:E28)-1),\"\")","v":"60' LT"},{"$f":"IF(OFFSET(DE103_5SP!$F$22,ROWS($F$22:F28)-1,COLUMNS($F$22:F28)-1)<>\"\",OFFSET(DE103_5SP!$F$22,ROWS($F$22:F28)-1,COLUMNS($F$22:F28)-1),\"\")","v":""}]
[{"$f":"IF(OFFSET(DE103_5SP!$C$22,ROWS($C$22:C29)-1,COLUMNS($C$22:C29)-1)<>\"\",OFFSET(DE103_5SP!$C$22,ROWS($C$22:C29)-1,COLUMNS($C$22:C29)-1),\"\")","v":"S-8"},{"$f":"IF(OFFSET(DE103_5SP!$D$22,ROWS($D$22:D29)-1,COLUMNS($D$22:D29)-1)<>\"\",OFFSET(DE103_5SP!$D$22,ROWS($D$22:D29)-1,COLUMNS($D$22:D29)-1),\"\")","v":39900},{"$f":"IF(OFFSET(DE103_5SP!$E$22,ROWS($E$22:E29)-1,COLUMNS($E$22:E29)-1)<>\"\",OFFSET(DE103_5SP!$E$22,ROWS($E$22:E29)-1,COLUMNS($E$22:E29)-1),\"\")","v":"60' LT"},{"$f":"IF(OFFSET(DE103_5SP!$F$22,ROWS($F$22:F29)-1,COLUMNS($F$22:F29)-1)<>\"\",OFFSET(DE103_5SP!$F$22,ROWS($F$22:F29)-1,COLUMNS($F$22:F29)-1),\"\")","v":""}]
[{"$f":"IF(OFFSET(DE103_5SP!$C$22,ROWS($C$22:C30)-1,COLUMNS($C$22:C30)-1)<>\"\",OFFSET(DE103_5SP!$C$22,ROWS($C$22:C30)-1,COLUMNS($C$22:C30)-1),\"\")","v":"S-9"},{"$f":"IF(OFFSET(DE103_5SP!$D$22,ROWS($D$22:D30)-1,COLUMNS($D$22:D30)-1)<>\"\",OFFSET(DE103_5SP!$D$22,ROWS($D$22:D30)-1,COLUMNS($D$22:D30)-1),\"\")","v":42675},{"$f":"IF(OFFSET(DE103_5SP!$E$22,ROWS($E$22:E30)-1,COLUMNS($E$22:E30)-1)<>\"\",OFFSET(DE103_5SP!$E$22,ROWS($E$22:E30)-1,COLUMNS($E$22:E30)-1),\"\")","v":"60' LT"},{"$f":"IF(OFFSET(DE103_5SP!$F$22,ROWS($F$22:F30)-1,COLUMNS($F$22:F30)-1)<>\"\",OFFSET(DE103_5SP!$F$22,ROWS($F$22:F30)-1,COLUMNS($F$22:F30)-1),\"\")","v":"Install P-3 within 5 feet"}]
[{"$f":"IF(OFFSET(DE103_5SP!$C$22,ROWS($C$22:C31)-1,COLUMNS($C$22:C31)-1)<>\"\",OFFSET(DE103_5SP!$C$22,ROWS($C$22:C31)-1,COLUMNS($C$22:C31)-1),\"\")","v":"S-10"},{"$f":"IF(OFFSET(DE103_5SP!$D$22,ROWS($D$22:D31)-1,COLUMNS($D$22:D31)-1)<>\"\",OFFSET(DE103_5SP!$D$22,ROWS($D$22:D31)-1,COLUMNS($D$22:D31)-1),\"\")","v":42825},{"$f":"IF(OFFSET(DE103_5SP!$E$22,ROWS($E$22:E31)-1,COLUMNS($E$22:E31)-1)<>\"\",OFFSET(DE103_5SP!$E$22,ROWS($E$22:E31)-1,COLUMNS($E$22:E31)-1),\"\")","v":"30' LT"},{"$f":"IF(OFFSET(DE103_5SP!$F$22,ROWS($F$22:F31)-1,COLUMNS($F$22:F31)-1)<>\"\",OFFSET(DE103_5SP!$F$22,ROWS($F$22:F31)-1,COLUMNS($F$22:F31)-1),\"\")","v":"Install P-4 within 5 feet"}]
[{"$f":"IF(OFFSET(DE103_5SP!$C$22,ROWS($C$22:C32)-1,COLUMNS($C$22:C32)-1)<>\"\",OFFSET(DE103_5SP!$C$22,ROWS($C$22:C32)-1,COLUMNS($C$22:C32)-1),\"\")","v":"S-11"},{"$f":"IF(OFFSET(DE103_5SP!$D$22,ROWS($D$22:D32)-1,COLUMNS($D$22:D32)-1)<>\"\",OFFSET(DE103_5SP!$D$22,ROWS($D$22:D32)-1,COLUMNS($D$22:D32)-1),\"\")","v":48000},{"$f":"IF(OFFSET(DE103_5SP!$E$22,ROWS($E$22:E32)-1,COLUMNS($E$22:E32)-1)<>\"\",OFFSET(DE103_5SP!$E$22,ROWS($E$22:E32)-1,COLUMNS($E$22:E32)-1),\"\")","v":"30' LT"},{"$f":"IF(OFFSET(DE103_5SP!$F$22,ROWS($F$22:F32)-1,COLUMNS($F$22:F32)-1)<>\"\",OFFSET(DE103_5SP!$F$22,ROWS($F$22:F32)-1,COLUMNS($F$22:F32)-1),\"\")","v":"Install P-5 within 5 feet"}]
[{"$f":"IF(OFFSET(DE103_5SP!$C$22,ROWS($C$22:C33)-1,COLUMNS($C$22:C33)-1)<>\"\",OFFSET(DE103_5SP!$C$22,ROWS($C$22:C33)-1,COLUMNS($C$22:C33)-1),\"\")","v":"S-12"},{"$f":"IF(OFFSET(DE103_5SP!$D$22,ROWS($D$22:D33)-1,COLUMNS($D$22:D33)-1)<>\"\",OFFSET(DE103_5SP!$D$22,ROWS($D$22:D33)-1,COLUMNS($D$22:D33)-1),\"\")","v":48150},{"$f":"IF(OFFSET(DE103_5SP!$E$22,ROWS($E$22:E33)-1,COLUMNS($E$22:E33)-1)<>\"\",OFFSET(DE103_5SP!$E$22,ROWS($E$22:E33)-1,COLUMNS($E$22:E33)-1),\"\")","v":"60' LT"},{"$f":"IF(OFFSET(DE103_5SP!$F$22,ROWS($F$22:F33)-1,COLUMNS($F$22:F33)-1)<>\"\",OFFSET(DE103_5SP!$F$22,ROWS($F$22:F33)-1,COLUMNS($F$22:F33)-1),\"\")","v":"Install P-6 within 5 feet"}]
[{"$f":"IF(OFFSET(DE103_5SP!$C$22,ROWS($C$22:C34)-1,COLUMNS($C$22:C34)-1)<>\"\",OFFSET(DE103_5SP!$C$22,ROWS($C$22:C34)-1,COLUMNS($C$22:C34)-1),\"\")","v":"S-13"},{"$f":"IF(OFFSET(DE103_5SP!$D$22,ROWS($D$22:D34)-1,COLUMNS($D$22:D34)-1)<>\"\",OFFSET(DE103_5SP!$D$22,ROWS($D$22:D34)-1,COLUMNS($D$22:D34)-1),\"\")","v":51125},{"$f":"IF(OFFSET(DE103_5SP!$E$22,ROWS($E$22:E34)-1,COLUMNS($E$22:E34)-1)<>\"\",OFFSET(DE103_5SP!$E$22,ROWS($E$22:E34)-1,COLUMNS($E$22:E34)-1),\"\")","v":"15' LT"},{"$f":"IF(OFFSET(DE103_5SP!$F$22,ROWS($F$22:F34)-1,COLUMNS($F$22:F34)-1)<>\"\",OFFSET(DE103_5SP!$F$22,ROWS($F$22:F34)-1,COLUMNS($F$22:F34)-1),\"\")","v":"Install P-7 within 5 feet"}]
[{"$f":"IF(OFFSET(DE103_5SP!$C$22,ROWS($C$22:C35)-1,COLUMNS($C$22:C35)-1)<>\"\",OFFSET(DE103_5SP!$C$22,ROWS($C$22:C35)-1,COLUMNS($C$22:C35)-1),\"\")","v":"S-14"},{"$f":"IF(OFFSET(DE103_5SP!$D$22,ROWS($D$22:D35)-1,COLUMNS($D$22:D35)-1)<>\"\",OFFSET(DE103_5SP!$D$22,ROWS($D$22:D35)-1,COLUMNS($D$22:D35)-1),\"\")","v":51225},{"$f":"IF(OFFSET(DE103_5SP!$E$22,ROWS($E$22:E35)-1,COLUMNS($E$22:E35)-1)<>\"\",OFFSET(DE103_5SP!$E$22,ROWS($E$22:E35)-1,COLUMNS($E$22:E35)-1),\"\")","v":"70' LT"},{"$f":"IF(OFFSET(DE103_5SP!$F$22,ROWS($F$22:F35)-1,COLUMNS($F$22:F35)-1)<>\"\",OFFSET(DE103_5SP!$F$22,ROWS($F$22:F35)-1,COLUMNS($F$22:F35)-1),\"\")","v":"Install P-8 within 5 feet"}]
[{"$f":"IF(OFFSET(DE103_5SP!$C$22,ROWS($C$22:C36)-1,COLUMNS($C$22:C36)-1)<>\"\",OFFSET(DE103_5SP!$C$22,ROWS($C$22:C36)-1,COLUMNS($C$22:C36)-1),\"\")","v":"S-15"},{"$f":"IF(OFFSET(DE103_5SP!$D$22,ROWS($D$22:D36)-1,COLUMNS($D$22:D36)-1)<>\"\",OFFSET(DE103_5SP!$D$22,ROWS($D$22:D36)-1,COLUMNS($D$22:D36)-1),\"\")","v":57700},{"$f":"IF(OFFSET(DE103_5SP!$E$22,ROWS($E$22:E36)-1,COLUMNS($E$22:E36)-1)<>\"\",OFFSET(DE103_5SP!$E$22,ROWS($E$22:E36)-1,COLUMNS($E$22:E36)-1),\"\")","v":"30' LT"},{"$f":"IF(OFFSET(DE103_5SP!$F$22,ROWS($F$22:F36)-1,COLUMNS($F$22:F36)-1)<>\"\",OFFSET(DE103_5SP!$F$22,ROWS($F$22:F36)-1,COLUMNS($F$22:F36)-1),\"\")","v":"Install P-9 within 5 feet"}]
[{"$f":"IF(OFFSET(DE103_5SP!$C$22,ROWS($C$22:C37)-1,COLUMNS($C$22:C37)-1)<>\"\",OFFSET(DE103_5SP!$C$22,ROWS($C$22:C37)-1,COLUMNS($C$22:C37)-1),\"\")","v":"S-16"},{"$f":"IF(OFFSET(DE103_5SP!$D$22,ROWS($D$22:D37)-1,COLUMNS($D$22:D37)-1)<>\"\",OFFSET(DE103_5SP!$D$22,ROWS($D$22:D37)-1,COLUMNS($D$22:D37)-1),\"\")","v":57800},{"$f":"IF(OFFSET(DE103_5SP!$E$22,ROWS($E$22:E37)-1,COLUMNS($E$22:E37)-1)<>\"\",OFFSET(DE103_5SP!$E$22,ROWS($E$22:E37)-1,COLUMNS($E$22:E37)-1),\"\")","v":"60' LT"},{"$f":"IF(OFFSET(DE103_5SP!$F$22,ROWS($F$22:F37)-1,COLUMNS($F$22:F37)-1)<>\"\",OFFSET(DE103_5SP!$F$22,ROWS($F$22:F37)-1,COLUMNS($F$22:F37)-1),\"\")","v":"Install P-10 within 5 feet"}]
[{"$f":"IF(OFFSET(DE103_5SP!$C$22,ROWS($C$22:C38)-1,COLUMNS($C$22:C38)-1)<>\"\",OFFSET(DE103_5SP!$C$22,ROWS($C$22:C38)-1,COLUMNS($C$22:C38)-1),\"\")","v":"S-17"},{"$f":"IF(OFFSET(DE103_5SP!$D$22,ROWS($D$22:D38)-1,COLUMNS($D$22:D38)-1)<>\"\",OFFSET(DE103_5SP!$D$22,ROWS($D$22:D38)-1,COLUMNS($D$22:D38)-1),\"\")","v":61225},{"$f":"IF(OFFSET(DE103_5SP!$E$22,ROWS($E$22:E38)-1,COLUMNS($E$22:E38)-1)<>\"\",OFFSET(DE103_5SP!$E$22,ROWS($E$22:E38)-1,COLUMNS($E$22:E38)-1),\"\")","v":"30' LT"},{"$f":"IF(OFFSET(DE103_5SP!$F$22,ROWS($F$22:F38)-1,COLUMNS($F$22:F38)-1)<>\"\",OFFSET(DE103_5SP!$F$22,ROWS($F$22:F38)-1,COLUMNS($F$22:F38)-1),\"\")","v":"Install P-11 within 5 feet"}]
[{"$f":"IF(OFFSET(DE103_5SP!$C$22,ROWS($C$22:C39)-1,COLUMNS($C$22:C39)-1)<>\"\",OFFSET(DE103_5SP!$C$22,ROWS($C$22:C39)-1,COLUMNS($C$22:C39)-1),\"\")","v":"S-18"},{"$f":"IF(OFFSET(DE103_5SP!$D$22,ROWS($D$22:D39)-1,COLUMNS($D$22:D39)-1)<>\"\",OFFSET(DE103_5SP!$D$22,ROWS($D$22:D39)-1,COLUMNS($D$22:D39)-1),\"\")","v":61325},{"$f":"IF(OFFSET(DE103_5SP!$E$22,ROWS($E$22:E39)-1,COLUMNS($E$22:E39)-1)<>\"\",OFFSET(DE103_5SP!$E$22,ROWS($E$22:E39)-1,COLUMNS($E$22:E39)-1),\"\")","v":"60' LT"},{"$f":"IF(OFFSET(DE103_5SP!$F$22,ROWS($F$22:F39)-1,COLUMNS($F$22:F39)-1)<>\"\",OFFSET(DE103_5SP!$F$22,ROWS($F$22:F39)-1,COLUMNS($F$22:F39)-1),\"\")","v":"Install P-12 within 5 feet"}]
[{"$f":"IF(OFFSET(DE103_5SP!$C$22,ROWS($C$22:C40)-1,COLUMNS($C$22:C40)-1)<>\"\",OFFSET(DE103_5SP!$C$22,ROWS($C$22:C40)-1,COLUMNS($C$22:C40)-1),\"\")","v":"SP-1"},{"$f":"IF(OFFSET(DE103_5SP!$D$22,ROWS($D$22:D40)-1,COLUMNS($D$22:D40)-1)<>\"\",OFFSET(DE103_5SP!$D$22,ROWS($D$22:D40)-1,COLUMNS($D$22:D40)-1),\"\")","v":26638},{"$f":"IF(OFFSET(DE103_5SP!$E$22,ROWS($E$22:E40)-1,COLUMNS($E$22:E40)-1)<>\"\",OFFSET(DE103_5SP!$E$22,ROWS($E$22:E40)-1,COLUMNS($E$22:E40)-1),\"\")","v":"0' RT"},{"$f":"IF(OFFSET(DE103_5SP!$F$22,ROWS($F$22:F40)-1,COLUMNS($F$22:F40)-1)<>\"\",OFFSET(DE103_5SP!$F$22,ROWS($F$22:F40)-1,COLUMNS($F$22:F40)-1),\"\")","v":"Otter Creek Bridge Approach"}]
[{"$f":"IF(OFFSET(DE103_5SP!$C$22,ROWS($C$22:C41)-1,COLUMNS($C$22:C41)-1)<>\"\",OFFSET(DE103_5SP!$C$22,ROWS($C$22:C41)-1,COLUMNS($C$22:C41)-1),\"\")","v":"SP-2"},{"$f":"IF(OFFSET(DE103_5SP!$D$22,ROWS($D$22:D41)-1,COLUMNS($D$22:D41)-1)<>\"\",OFFSET(DE103_5SP!$D$22,ROWS($D$22:D41)-1,COLUMNS($D$22:D41)-1),\"\")","v":27025},{"$f":"IF(OFFSET(DE103_5SP!$E$22,ROWS($E$22:E41)-1,COLUMNS($E$22:E41)-1)<>\"\",OFFSET(DE103_5SP!$E$22,ROWS($E$22:E41)-1,COLUMNS($E$22:E41)-1),\"\")","v":"0' RT"},{"$f":"IF(OFFSET(DE103_5SP!$F$22,ROWS($F$22:F41)-1,COLUMNS($F$22:F41)-1)<>\"\",OFFSET(DE103_5SP!$F$22,ROWS($F$22:F41)-1,COLUMNS($F$22:F41)-1),\"\")","v":"Otter Creek Bridge Approach"}]
[{"$f":"IF(OFFSET(DE103_5SP!$C$22,ROWS($C$22:C42)-1,COLUMNS($C$22:C42)-1)<>\"\",OFFSET(DE103_5SP!$C$22,ROWS($C$22:C42)-1,COLUMNS($C$22:C42)-1),\"\")","v":"SP-3"},{"$f":"IF(OFFSET(DE103_5SP!$D$22,ROWS($D$22:D42)-1,COLUMNS($D$22:D42)-1)<>\"\",OFFSET(DE103_5SP!$D$22,ROWS($D$22:D42)-1,COLUMNS($D$22:D42)-1),\"\")","v":69556},{"$f":"IF(OFFSET(DE103_5SP!$E$22,ROWS($E$22:E42)-1,COLUMNS($E$22:E42)-1)<>\"\",OFFSET(DE103_5SP!$E$22,ROWS($E$22:E42)-1,COLUMNS($E$22:E42)-1),\"\")","v":"67' LT"},{"$f":"IF(OFFSET(DE103_5SP!$F$22,ROWS($F$22:F42)-1,COLUMNS($F$22:F42)-1)<>\"\",OFFSET(DE103_5SP!$F$22,ROWS($F$22:F42)-1,COLUMNS($F$22:F42)-1),\"\")","v":"Salt Creek Bridge Approach"}]
[{"$f":"IF(OFFSET(DE103_5SP!$C$22,ROWS($C$22:C43)-1,COLUMNS($C$22:C43)-1)<>\"\",OFFSET(DE103_5SP!$C$22,ROWS($C$22:C43)-1,COLUMNS($C$22:C43)-1),\"\")","v":"SP-4"},{"$f":"IF(OFFSET(DE103_5SP!$D$22,ROWS($D$22:D43)-1,COLUMNS($D$22:D43)-1)<>\"\",OFFSET(DE103_5SP!$D$22,ROWS($D$22:D43)-1,COLUMNS($D$22:D43)-1),\"\")","v":70085},{"$f":"IF(OFFSET(DE103_5SP!$E$22,ROWS($E$22:E43)-1,COLUMNS($E$22:E43)-1)<>\"\",OFFSET(DE103_5SP!$E$22,ROWS($E$22:E43)-1,COLUMNS($E$22:E43)-1),\"\")","v":"67' LT"},{"$f":"IF(OFFSET(DE103_5SP!$F$22,ROWS($F$22:F43)-1,COLUMNS($F$22:F43)-1)<>\"\",OFFSET(DE103_5SP!$F$22,ROWS($F$22:F43)-1,COLUMNS($F$22:F43)-1),\"\")","v":"Salt Creek Bridge Approach"}]
[{"$f":"IF(OFFSET(DE103_5SP!$C$22,ROWS($C$22:C44)-1,COLUMNS($C$22:C44)-1)<>\"\",OFFSET(DE103_5SP!$C$22,ROWS($C$22:C44)-1,COLUMNS($C$22:C44)-1),\"\")","v":""},{"$f":"IF(OFFSET(DE103_5SP!$D$22,ROWS($D$22:D44)-1,COLUMNS($D$22:D44)-1)<>\"\",OFFSET(DE103_5SP!$D$22,ROWS($D$22:D44)-1,COLUMNS($D$22:D44)-1),\"\")","v":""},{"$f":"IF(OFFSET(DE103_5SP!$E$22,ROWS($E$22:E44)-1,COLUMNS($E$22:E44)-1)<>\"\",OFFSET(DE103_5SP!$E$22,ROWS($E$22:E44)-1,COLUMNS($E$22:E44)-1),\"\")","v":""},{"$f":"IF(OFFSET(DE103_5SP!$F$22,ROWS($F$22:F44)-1,COLUMNS($F$22:F44)-1)<>\"\",OFFSET(DE103_5SP!$F$22,ROWS($F$22:F44)-1,COLUMNS($F$22:F44)-1),\"\")","v":""}]
[{"$f":"IF(OFFSET(DE103_5SP!$C$22,ROWS($C$22:C45)-1,COLUMNS($C$22:C45)-1)<>\"\",OFFSET(DE103_5SP!$C$22,ROWS($C$22:C45)-1,COLUMNS($C$22:C45)-1),\"\")","v":""},{"$f":"IF(OFFSET(DE103_5SP!$D$22,ROWS($D$22:D45)-1,COLUMNS($D$22:D45)-1)<>\"\",OFFSET(DE103_5SP!$D$22,ROWS($D$22:D45)-1,COLUMNS($D$22:D45)-1),\"\")","v":""},{"$f":"IF(OFFSET(DE103_5SP!$E$22,ROWS($E$22:E45)-1,COLUMNS($E$22:E45)-1)<>\"\",OFFSET(DE103_5SP!$E$22,ROWS($E$22:E45)-1,COLUMNS($E$22:E45)-1),\"\")","v":""},{"$f":"IF(OFFSET(DE103_5SP!$F$22,ROWS($F$22:F45)-1,COLUMNS($F$22:F45)-1)<>\"\",OFFSET(DE103_5SP!$F$22,ROWS($F$22:F45)-1,COLUMNS($F$22:F45)-1),\"\")","v":""}]
[{"$f":"IF(OFFSET(DE103_5SP!$C$22,ROWS($C$22:C46)-1,COLUMNS($C$22:C46)-1)<>\"\",OFFSET(DE103_5SP!$C$22,ROWS($C$22:C46)-1,COLUMNS($C$22:C46)-1),\"\")","v":""},{"$f":"IF(OFFSET(DE103_5SP!$D$22,ROWS($D$22:D46)-1,COLUMNS($D$22:D46)-1)<>\"\",OFFSET(DE103_5SP!$D$22,ROWS($D$22:D46)-1,COLUMNS($D$22:D46)-1),\"\")","v":""},{"$f":"IF(OFFSET(DE103_5SP!$E$22,ROWS($E$22:E46)-1,COLUMNS($E$22:E46)-1)<>\"\",OFFSET(DE103_5SP!$E$22,ROWS($E$22:E46)-1,COLUMNS($E$22:E46)-1),\"\")","v":""},{"$f":"IF(OFFSET(DE103_5SP!$F$22,ROWS($F$22:F46)-1,COLUMNS($F$22:F46)-1)<>\"\",OFFSET(DE103_5SP!$F$22,ROWS($F$22:F46)-1,COLUMNS($F$22:F46)-1),\"\")","v":""}]
[{"$f":"IF(OFFSET(DE103_5SP!$C$22,ROWS($C$22:C47)-1,COLUMNS($C$22:C47)-1)<>\"\",OFFSET(DE103_5SP!$C$22,ROWS($C$22:C47)-1,COLUMNS($C$22:C47)-1),\"\")","v":""},{"$f":"IF(OFFSET(DE103_5SP!$D$22,ROWS($D$22:D47)-1,COLUMNS($D$22:D47)-1)<>\"\",OFFSET(DE103_5SP!$D$22,ROWS($D$22:D47)-1,COLUMNS($D$22:D47)-1),\"\")","v":""},{"$f":"IF(OFFSET(DE103_5SP!$E$22,ROWS($E$22:E47)-1,COLUMNS($E$22:E47)-1)<>\"\",OFFSET(DE103_5SP!$E$22,ROWS($E$22:E47)-1,COLUMNS($E$22:E47)-1),\"\")","v":""},{"$f":"IF(OFFSET(DE103_5SP!$F$22,ROWS($F$22:F47)-1,COLUMNS($F$22:F47)-1)<>\"\",OFFSET(DE103_5SP!$F$22,ROWS($F$22:F47)-1,COLUMNS($F$22:F47)-1),\"\")","v":""}]
[{"$f":"IF(OFFSET(DE103_5SP!$C$22,ROWS($C$22:C48)-1,COLUMNS($C$22:C48)-1)<>\"\",OFFSET(DE103_5SP!$C$22,ROWS($C$22:C48)-1,COLUMNS($C$22:C48)-1),\"\")","v":""},{"$f":"IF(OFFSET(DE103_5SP!$D$22,ROWS($D$22:D48)-1,COLUMNS($D$22:D48)-1)<>\"\",OFFSET(DE103_5SP!$D$22,ROWS($D$22:D48)-1,COLUMNS($D$22:D48)-1),\"\")","v":""},{"$f":"IF(OFFSET(DE103_5SP!$E$22,ROWS($E$22:E48)-1,COLUMNS($E$22:E48)-1)<>\"\",OFFSET(DE103_5SP!$E$22,ROWS($E$22:E48)-1,COLUMNS($E$22:E48)-1),\"\")","v":""},{"$f":"IF(OFFSET(DE103_5SP!$F$22,ROWS($F$22:F48)-1,COLUMNS($F$22:F48)-1)<>\"\",OFFSET(DE103_5SP!$F$22,ROWS($F$22:F48)-1,COLUMNS($F$22:F48)-1),\"\")","v":""}]
[{"$f":"IF(OFFSET(DE103_5SP!$C$22,ROWS($C$22:C49)-1,COLUMNS($C$22:C49)-1)<>\"\",OFFSET(DE103_5SP!$C$22,ROWS($C$22:C49)-1,COLUMNS($C$22:C49)-1),\"\")","v":""},{"$f":"IF(OFFSET(DE103_5SP!$D$22,ROWS($D$22:D49)-1,COLUMNS($D$22:D49)-1)<>\"\",OFFSET(DE103_5SP!$D$22,ROWS($D$22:D49)-1,COLUMNS($D$22:D49)-1),\"\")","v":""},{"$f":"IF(OFFSET(DE103_5SP!$E$22,ROWS($E$22:E49)-1,COLUMNS($E$22:E49)-1)<>\"\",OFFSET(DE103_5SP!$E$22,ROWS($E$22:E49)-1,COLUMNS($E$22:E49)-1),\"\")","v":""},{"$f":"IF(OFFSET(DE103_5SP!$F$22,ROWS($F$22:F49)-1,COLUMNS($F$22:F49)-1)<>\"\",OFFSET(DE103_5SP!$F$22,ROWS($F$22:F49)-1,COLUMNS($F$22:F49)-1),\"\")","v":""}]

{"sheet":"103_7","index":15,"n_rows":12,"n_cols":3,"rows_kept":12,"cut":false,"hidden":false,"merged":[[0,0,0,2],[1,0,1,2],[2,0,3,2],[4,0,5,0],[4,1,5,1],[4,2,5,2]]}
["103-7"]
["2008-08-01"]
["SHRINKAGE DATA"]
[]
["Material","%","Remarks"]
[]
[{"$f":"IF(OFFSET(DE103_7!$C$20,ROWS($C$20:C20)-1,COLUMNS($C$20:C20)-1)<>\"\",OFFSET(DE103_7!$C$20,ROWS($C$20:C20)-1,COLUMNS($C$20:C20)-1),\"\")","v":"Entire Project"},{"$f":"IF(OFFSET(DE103_7!$D$20,ROWS($D$20:D20)-1,COLUMNS($D$20:D20)-1)<>\"\",OFFSET(DE103_7!$D$20,ROWS($D$20:D20)-1,COLUMNS($D$20:D20)-1),\"\")","v":0.3},{"$f":"IF(OFFSET(DE103_7!$E$20,ROWS($E$20:E20)-1,COLUMNS($E$20:E20)-1)<>\"\",OFFSET(DE103_7!$E$20,ROWS($E$20:E20)-1,COLUMNS($E$20:E20)-1),\"\")","v":""}]
[{"$f":"IF(OFFSET(DE103_7!$C$20,ROWS($C$20:C21)-1,COLUMNS($C$20:C21)-1)<>\"\",OFFSET(DE103_7!$C$20,ROWS($C$20:C21)-1,COLUMNS($C$20:C21)-1),\"\")","v":"Topsoil"},{"$f":"IF(OFFSET(DE103_7!$D$20,ROWS($D$20:D21)-1,COLUMNS($D$20:D21)-1)<>\"\",OFFSET(DE103_7!$D$20,ROWS($D$20:D21)-1,COLUMNS($D$20:D21)-1),\"\")","v":0.4},{"$f":"IF(OFFSET(DE103_7!$E$20,ROWS($E$20:E21)-1,COLUMNS($E$20:E21)-1)<>\"\",OFFSET(DE103_7!$E$20,ROWS($E$20:E21)-1,COLUMNS($E$20:E21)-1),\"\")","v":""}]
[{"$f":"IF(OFFSET(DE103_7!$C$20,ROWS($C$20:C22)-1,COLUMNS($C$20:C22)-1)<>\"\",OFFSET(DE103_7!$C$20,ROWS($C$20:C22)-1,COLUMNS($C$20:C22)-1),\"\")","v":""},{"$f":"IF(OFFSET(DE103_7!$D$20,ROWS($D$20:D22)-1,COLUMNS($D$20:D22)-1)<>\"\",OFFSET(DE103_7!$D$20,ROWS($D$20:D22)-1,COLUMNS($D$20:D22)-1),\"\")","v":""},{"$f":"IF(OFFSET(DE103_7!$E$20,ROWS($E$20:E22)-1,COLUMNS($E$20:E22)-1)<>\"\",OFFSET(DE103_7!$E$20,ROWS($E$20:E22)-1,COLUMNS($E$20:E22)-1),\"\")","v":""}]
[{"$f":"IF(OFFSET(DE103_7!$C$20,ROWS($C$20:C23)-1,COLUMNS($C$20:C23)-1)<>\"\",OFFSET(DE103_7!$C$20,ROWS($C$20:C23)-1,COLUMNS($C$20:C23)-1),\"\")","v":"Boulder Estimate"},{"$f":"IF(OFFSET(DE103_7!$D$20,ROWS($D$20:D23)-1,COLUMNS($D$20:D23)-1)<>\"\",OFFSET(DE103_7!$D$20,ROWS($D$20:D23)-1,COLUMNS($D$20:D23)-1),\"\")","v":""},{"$f":"IF(OFFSET(DE103_7!$E$20,ROWS($E$20:E23)-1,COLUMNS($E$20:E23)-1)<>\"\",OFFSET(DE103_7!$E$20,ROWS($E$20:E23)-1,COLUMNS($E$20:E23)-1),\"\")","v":"2500 CY"}]
[{"$f":"IF(OFFSET(DE103_7!$C$20,ROWS($C$20:C24)-1,COLUMNS($C$20:C24)-1)<>\"\",OFFSET(DE103_7!$C$20,ROWS($C$20:C24)-1,COLUMNS($C$20:C24)-1),\"\")","v":""},{"$f":"IF(OFFSET(DE103_7!$D$20,ROWS($D$20:D24)-1,COLUMNS($D$20:D24)-1)<>\"\",OFFSET(DE103_7!$D$20,ROWS($D$20:D24)-1,COLUMNS($D$20:D24)-1),\"\")","v":""},{"$f":"IF(OFFSET(DE103_7!$E$20,ROWS($E$20:E24)-1,COLUMNS($E$20:E24)-1)<>\"\",OFFSET(DE103_7!$E$20,ROWS($E$20:E24)-1,COLUMNS($E$20:E24)-1),\"\")","v":""}]
[{"$f":"IF(OFFSET(DE103_7!$C$20,ROWS($C$20:C25)-1,COLUMNS($C$20:C25)-1)<>\"\",OFFSET(DE103_7!$C$20,ROWS($C$20:C25)-1,COLUMNS($C$20:C25)-1),\"\")","v":""},{"$f":"IF(OFFSET(DE103_7!$D$20,ROWS($D$20:D25)-1,COLUMNS($D$20:D25)-1)<>\"\",OFFSET(DE103_7!$D$20,ROWS($D$20:D25)-1,COLUMNS($D$20:D25)-1),\"\")","v":""},{"$f":"IF(OFFSET(DE103_7!$E$20,ROWS($E$20:E25)-1,COLUMNS($E$20:E25)-1)<>\"\",OFFSET(DE103_7!$E$20,ROWS($E$20:E25)-1,COLUMNS($E$20:E25)-1),\"\")","v":""}]

{"sheet":"103_10","index":16,"n_rows":29,"n_cols":7,"rows_kept":29,"cut":false,"hidden":false,"merged":[[5,3,7,3],[0,0,0,6],[1,0,1,6],[2,0,3,6],[4,0,4,3],[4,4,6,4],[4,5,6,5],[4,6,7,6],[5,0,7,0],[5,1,7,1],[5,2,7,2]]}
["103-10"]
["2017-04-18"]
["TOPSOIL STRIPPING AND PLACEMENT"]
[]
["Location",null,null,null,"Topsoil Stripping Thickness","Topsoil Placement Thickness","Remarks"]
["Road Identification","Dir. of Traffic","Begin Station","End Station"]
[]
[null,null,null,null,"IN","IN"]
[{"$f":"IF(OFFSET(DE103_10!$C$23,ROWS($C$23:C23)-1,COLUMNS($C$23:C23)-1)<>\"\",OFFSET(DE103_10!$C$23,ROWS($C$23:C23)-1,COLUMNS($C$23:C23)-1),\"\")","v":"US 30"},{"$f":"IF(OFFSET(DE103_10!$D$23,ROWS($D$23:D23)-1,COLUMNS($D$23:D23)-1)<>\"\",OFFSET(DE103_10!$D$23,ROWS($D$23:D23)-1,COLUMNS($D$23:D23)-1),\"\")","v":"Both"},{"$f":"IF(OFFSET(DE103_10!$E$23,ROWS($E$23:E23)-1,COLUMNS($E$23:E23)-1)<>\"\",OFFSET(DE103_10!$E$23,ROWS($E$23:E23)-1,COLUMNS($E$23:E23)-1),\"\")","v":10600},{"$f":"IF(OFFSET(DE103_10!$F$23,ROWS($F$23:F23)-1,COLUMNS($F$23:F23)-1)<>\"\",OFFSET(DE103_10!$F$23,ROWS($F$23:F23)-1,COLUMNS($F$23:F23)-1),\"\")","v":15000},{"$f":"IF(OFFSET(DE103_10!$G$23,ROWS($G$23:G23)-1,COLUMNS($G$23:G23)-1)<>\"\",OFFSET(DE103_10!$G$23,ROWS($G$23:G23)-1,COLUMNS($G$23:G23)-1),\"\")","v":6},{"$f":"IF(OFFSET(DE103_10!$I$23,ROWS($I$23:I23)-1,COLUMNS($I$23:I23)-1)<>\"\",OFFSET(DE103_10!$I$23,ROWS($I$23:I23)-1,COLUMNS($I$23:I23)-1),\"\")","v":8},{"$f":"IF(OFFSET(DE103_10!$K$23,ROWS($K$23:K23)-1,COLUMNS($K$23:K23)-1)<>\"\",OFFSET(DE103_10!$K$23,ROWS($K$23:K23)-1,COLUMNS($K$23:K23)-1),\"\")","v":""}]
[{"$f":"IF(OFFSET(DE103_10!$C$23,ROWS($C$23:C24)-1,COLUMNS($C$23:C24)-1)<>\"\",OFFSET(DE103_10!$C$23,ROWS($C$23:C24)-1,COLUMNS($C$23:C24)-1),\"\")","v":"US 30"},{"$f":"IF(OFFSET(DE103_10!$D$23,ROWS($D$23:D24)-1,COLUMNS($D$23:D24)-1)<>\"\",OFFSET(DE103_10!$D$23,ROWS($D$23:D24)-1,COLUMNS($D$23:D24)-1),\"\")","v":"Both"},{"$f":"IF(OFFSET(DE103_10!$E$23,ROWS($E$23:E24)-1,COLUMNS($E$23:E24)-1)<>\"\",OFFSET(DE103_10!$E$23,ROWS($E$23:E24)-1,COLUMNS($E$23:E24)-1),\"\")","v":15001},{"$f":"IF(OFFSET(DE103_10!$F$23,ROWS($F$23:F24)-1,COLUMNS($F$23:F24)-1)<>\"\",OFFSET(DE103_10!$F$23,ROWS($F$23:F24)-1,COLUMNS($F$23:F24)-1),\"\")","v":18500},{"$f":"IF(OFFSET(DE103_10!$G$23,ROWS($G$23:G24)-1,COLUMNS($G$23:G24)-1)<>\"\",OFFSET(DE103_10!$G$23,ROWS($G$23:G24)-1,COLUMNS($G$23:G24)-1),\"\")","v":12},{"$f":"IF(OFFSET(DE103_10!$I$23,ROWS($I$23:I24)-1,COLUMNS($I$23:I24)-1)<>\"\",OFFSET(DE103_10!$I$23,ROWS($I$23:I24)-1,COLUMNS($I$23:I24)-1),\"\")","v":8},{"$f":"IF(OFFSET(DE103_10!$K$23,ROWS($K$23:K24)-1,COLUMNS($K$23:K24)-1)<>\"\",OFFSET(DE103_10!$K$23,ROWS($K$23:K24)-1,COLUMNS($K$23:K24)-1),\"\")","v":""}]
[{"$f":"IF(OFFSET(DE103_10!$C$23,ROWS($C$23:C25)-1,COLUMNS($C$23:C25)-1)<>\"\",OFFSET(DE103_10!$C$23,ROWS($C$23:C25)-1,COLUMNS($C$23:C25)-1),\"\")","v":"US 30"},{"$f":"IF(OFFSET(DE103_10!$D$23,ROWS($D$23:D25)-1,COLUMNS($D$23:D25)-1)<>\"\",OFFSET(DE103_10!$D$23,ROWS($D$23:D25)-1,COLUMNS($D$23:D25)-1),\"\")","v":"Both"},{"$f":"IF(OFFSET(DE103_10!$E$23,ROWS($E$23:E25)-1,COLUMNS($E$23:E25)-1)<>\"\",OFFSET(DE103_10!$E$23,ROWS($E$23:E25)-1,COLUMNS($E$23:E25)-1),\"\")","v":18501},{"$f":"IF(OFFSET(DE103_10!$F$23,ROWS($F$23:F25)-1,COLUMNS($F$23:F25)-1)<>\"\",OFFSET(DE103_10!$F$23,ROWS($F$23:F25)-1,COLUMNS($F$23:F25)-1),\"\")","v":20300},{"$f":"IF(OFFSET(DE103_10!$G$23,ROWS($G$23:G25)-1,COLUMNS($G$23:G25)-1)<>\"\",OFFSET(DE103_10!$G$23,ROWS($G$23:G25)-1,COLUMNS($G$23:G25)-1),\"\")","v":9},{"$f":"IF(OFFSET(DE103_10!$I$23,ROWS($I$23:I25)-1,COLUMNS($I$23:I25)-1)<>\"\",OFFSET(DE103_10!$I$23,ROWS($I$23:I25)-1,COLUMNS($I$23:I25)-1),\"\")","v":8},{"$f":"IF(OFFSET(DE103_10!$K$23,ROWS($K$23:K25)-1,COLUMNS($K$23:K25)-1)<>\"\",OFFSET(DE103_10!$K$23,ROWS($K$23:K25)-1,COLUMNS($K$23:K25)-1),\"\")","v":""}]
[{"$f":"IF(OFFSET(DE103_10!$C$23,ROWS($C$23:C26)-1,COLUMNS($C$23:C26)-1)<>\"\",OFFSET(DE103_10!$C$23,ROWS($C$23:C26)-1,COLUMNS($C$23:C26)-1),\"\")","v":"US 30"},{"$f":"IF(OFFSET(DE103_10!$D$23,ROWS($D$23:D26)-1,COLUMNS($D$23:D26)-1)<>\"\",OFFSET(DE103_10!$D$23,ROWS($D$23:D26)-1,COLUMNS($D$23:D26)-1),\"\")","v":"Both"},{"$f":"IF(OFFSET(DE103_10!$E$23,ROWS($E$23:E26)-1,COLUMNS($E$23:E26)-1)<>\"\",OFFSET(DE103_10!$E$23,ROWS($E$23:E26)-1,COLUMNS($E$23:E26)-1),\"\")","v":20301},{"$f":"IF(OFFSET(DE103_10!$F$23,ROWS($F$23:F26)-1,COLUMNS($F$23:F26)-1)<>\"\",OFFSET(DE103_10!$F$23,ROWS($F$23:F26)-1,COLUMNS($F$23:F26)-1),\"\")","v":22200},{"$f":"IF(OFFSET(DE103_10!$G$23,ROWS($G$23:G26)-1,COLUMNS($G$23:G26)-1)<>\"\",OFFSET(DE103_10!$G$23,ROWS($G$23:G26)-1,COLUMNS($G$23:G26)-1),\"\")","v":6},{"$f":"IF(OFFSET(DE103_10!$I$23,ROWS($I$23:I26)-1,COLUMNS($I$23:I26)-1)<>\"\",OFFSET(DE103_10!$I$23,ROWS($I$23:I26)-1,COLUMNS($I$23:I26)-1),\"\")","v":8},{"$f":"IF(OFFSET(DE103_10!$K$23,ROWS($K$23:K26)-1,COLUMNS($K$23:K26)-1)<>\"\",OFFSET(DE103_10!$K$23,ROWS($K$23:K26)-1,COLUMNS($K$23:K26)-1),\"\")","v":""}]
[{"$f":"IF(OFFSET(DE103_10!$C$23,ROWS($C$23:C27)-1,COLUMNS($C$23:C27)-1)<>\"\",OFFSET(DE103_10!$C$23,ROWS($C$23:C27)-1,COLUMNS($C$23:C27)-1),\"\")","v":"US 30"},{"$f":"IF(OFFSET(DE103_10!$D$23,ROWS($D$23:D27)-1,COLUMNS($D$23:D27)-1)<>\"\",OFFSET(DE103_10!$D$23,ROWS($D$23:D27)-1,COLUMNS($D$23:D27)-1),\"\")","v":"Both"},{"$f":"IF(OFFSET(DE103_10!$E$23,ROWS($E$23:E27)-1,COLUMNS($E$23:E27)-1)<>\"\",OFFSET(DE103_10!$E$23,ROWS($E$23:E27)-1,COLUMNS($E$23:E27)-1),\"\")","v":22201},{"$f":"IF(OFFSET(DE103_10!$F$23,ROWS($F$23:F27)-1,COLUMNS($F$23:F27)-1)<>\"\",OFFSET(DE103_10!$F$23,ROWS($F$23:F27)-1,COLUMNS($F$23:F27)-1),\"\")","v":28100},{"$f":"IF(OFFSET(DE103_10!$G$23,ROWS($G$23:G27)-1,COLUMNS($G$23:G27)-1)<>\"\",OFFSET(DE103_10!$G$23,ROWS($G$23:G27)-1,COLUMNS($G$23:G27)-1),\"\")","v":18},{"$f":"IF(OFFSET(DE103_10!$I$23,ROWS($I$23:I27)-1,COLUMNS($I$23:I27)-1)<>\"\",OFFSET(DE103_10!$I$23,ROWS($I$23:I27)-1,COLUMNS($I$23:I27)-1),\"\")","v":8},{"$f":"IF(OFFSET(DE103_10!$K$23,ROWS($K$23:K27)-1,COLUMNS($K$23:K27)-1)<>\"\",OFFSET(DE103_10!$K$23,ROWS($K$23:K27)-1,COLUMNS($K$23:K27)-1),\"\")","v":""}]
[{"$f":"IF(OFFSET(DE103_10!$C$23,ROWS($C$23:C28)-1,COLUMNS($C$23:C28)-1)<>\"\",OFFSET(DE103_10!$C$23,ROWS($C$23:C28)-1,COLUMNS($C$23:C28)-1),\"\")","v":"US 30"},{"$f":"IF(OFFSET(DE103_10!$D$23,ROWS($D$23:D28)-1,COLUMNS($D$23:D28)-1)<>\"\",OFFSET(DE103_10!$D$23,ROWS($D$23:D28)-1,COLUMNS($D$23:D28)-1),\"\")","v":"Both"},{"$f":"IF(OFFSET(DE103_10!$E$23,ROWS($E$23:E28)-1,COLUMNS($E$23:E28)-1)<>\"\",OFFSET(DE103_10!$E$23,ROWS($E$23:E28)-1,COLUMNS($E$23:E28)-1),\"\")","v":28101},{"$f":"IF(OFFSET(DE103_10!$F$23,ROWS($F$23:F28)-1,COLUMNS($F$23:F28)-1)<>\"\",OFFSET(DE103_10!$F$23,ROWS($F$23:F28)-1,COLUMNS($F$23:F28)-1),\"\")","v":40000},{"$f":"IF(OFFSET(DE103_10!$G$23,ROWS($G$23:G28)-1,COLUMNS($G$23:G28)-1)<>\"\",OFFSET(DE103_10!$G$23,ROWS($G$23:G28)-1,COLUMNS($G$23:G28)-1),\"\")","v":9},{"$f":"IF(OFFSET(DE103_10!$I$23,ROWS($I$23:I28)-1,COLUMNS($I$23:I28)-1)<>\"\",OFFSET(DE103_10!$I$23,ROWS($I$23:I28)-1,COLUMNS($I$23:I28)-1),\"\")","v":8},{"$f":"IF(OFFSET(DE103_10!$K$23,ROWS($K$23:K28)-1,COLUMNS($K$23:K28)-1)<>\"\",OFFSET(DE103_10!$K$23,ROWS($K$23:K28)-1,COLUMNS($K$23:K28)-1),\"\")","v":""}]
[{"$f":"IF(OFFSET(DE103_10!$C$23,ROWS($C$23:C29)-1,COLUMNS($C$23:C29)-1)<>\"\",OFFSET(DE103_10!$C$23,ROWS($C$23:C29)-1,COLUMNS($C$23:C29)-1),\"\")","v":"US 30"},{"$f":"IF(OFFSET(DE103_10!$D$23,ROWS($D$23:D29)-1,COLUMNS($D$23:D29)-1)<>\"\",OFFSET(DE103_10!$D$23,ROWS($D$23:D29)-1,COLUMNS($D$23:D29)-1),\"\")","v":"Both"},{"$f":"IF(OFFSET(DE103_10!$E$23,ROWS($E$23:E29)-1,COLUMNS($E$23:E29)-1)<>\"\",OFFSET(DE103_10!$E$23,ROWS($E$23:E29)-1,COLUMNS($E$23:E29)-1),\"\")","v":40001},{"$f":"IF(OFFSET(DE103_10!$F$23,ROWS($F$23:F29)-1,COLUMNS($F$23:F29)-1)<>\"\",OFFSET(DE103_10!$F$23,ROWS($F$23:F29)-1,COLUMNS($F$23:F29)-1),\"\")","v":66800},{"$f":"IF(OFFSET(DE103_10!$G$23,ROWS($G$23:G29)-1,COLUMNS($G$23:G29)-1)<>\"\",OFFSET(DE103_10!$G$23,ROWS($G$23:G29)-1,COLUMNS($G$23:G29)-1),\"\")","v":6},{"$f":"IF(OFFSET(DE103_10!$I$23,ROWS($I$23:I29)-1,COLUMNS($I$23:I29)-1)<>\"\",OFFSET(DE103_10!$I$23,ROWS($I$23:I29)-1,COLUMNS($I$23:I29)-1),\"\")","v":8},{"$f":"IF(OFFSET(DE103_10!$K$23,ROWS($K$23:K29)-1,COLUMNS($K$23:K29)-1)<>\"\",OFFSET(DE103_10!$K$23,ROWS($K$23:K29)-1,COLUMNS($K$23:K29)-1),\"\")","v":""}]
[{"$f":"IF(OFFSET(DE103_10!$C$23,ROWS($C$23:C30)-1,COLUMNS($C$23:C30)-1)<>\"\",OFFSET(DE103_10!$C$23,ROWS($C$23:C30)-1,COLUMNS($C$23:C30)-1),\"\")","v":"US 30"},{"$f":"IF(OFFSET(DE103_10!$D$23,ROWS($D$23:D30)-1,COLUMNS($D$23:D30)-1)<>\"\",OFFSET(DE103_10!$D$23,ROWS($D$23:D30)-1,COLUMNS($D$23:D30)-1),\"\")","v":"Both"},{"$f":"IF(OFFSET(DE103_10!$E$23,ROWS($E$23:E30)-1,COLUMNS($E$23:E30)-1)<>\"\",OFFSET(DE103_10!$E$23,ROWS($E$23:E30)-1,COLUMNS($E$23:E30)-1),\"\")","v":66801},{"$f":"IF(OFFSET(DE103_10!$F$23,ROWS($F$23:F30)-1,COLUMNS($F$23:F30)-1)<>\"\",OFFSET(DE103_10!$F$23,ROWS($F$23:F30)-1,COLUMNS($F$23:F30)-1),\"\")","v":70500},{"$f":"IF(OFFSET(DE103_10!$G$23,ROWS($G$23:G30)-1,COLUMNS($G$23:G30)-1)<>\"\",OFFSET(DE103_10!$G$23,ROWS($G$23:G30)-1,COLUMNS($G$23:G30)-1),\"\")","v":18},{"$f":"IF(OFFSET(DE103_10!$I$23,ROWS($I$23:I30)-1,COLUMNS($I$23:I30)-1)<>\"\",OFFSET(DE103_10!$I$23,ROWS($I$23:I30)-1,COLUMNS($I$23:I30)-1),\"\")","v":8},{"$f":"IF(OFFSET(DE103_10!$K$23,ROWS($K$23:K30)-1,COLUMNS($K$23:K30)-1)<>\"\",OFFSET(DE103_10!$K$23,ROWS($K$23:K30)-1,COLUMNS($K$23:K30)-1),\"\")","v":""}]
[{"$f":"IF(OFFSET(DE103_10!$C$23,ROWS($C$23:C31)-1,COLUMNS($C$23:C31)-1)<>\"\",OFFSET(DE103_10!$C$23,ROWS($C$23:C31)-1,COLUMNS($C$23:C31)-1),\"\")","v":"County N"},{"$f":"IF(OFFSET(DE103_10!$D$23,ROWS($D$23:D31)-1,COLUMNS($D$23:D31)-1)<>\"\",OFFSET(DE103_10!$D$23,ROWS($D$23:D31)-1,COLUMNS($D$23:D31)-1),\"\")","v":"Both"},{"$f":"IF(OFFSET(DE103_10!$E$23,ROWS($E$23:E31)-1,COLUMNS($E$23:E31)-1)<>\"\",OFFSET(DE103_10!$E$23,ROWS($E$23:E31)-1,COLUMNS($E$23:E31)-1),\"\")","v":115775},{"$f":"IF(OFFSET(DE103_10!$F$23,ROWS($F$23:F31)-1,COLUMNS($F$23:F31)-1)<>\"\",OFFSET(DE103_10!$F$23,ROWS($F$23:F31)-1,COLUMNS($F$23:F31)-1),\"\")","v":116050},{"$f":"IF(OFFSET(DE103_10!$G$23,ROWS($G$23:G31)-1,COLUMNS($G$23:G31)-1)<>\"\",OFFSET(DE103_10!$G$23,ROWS($G$23:G31)-1,COLUMNS($G$23:G31)-1),\"\")","v":12},{"$f":"IF(OFFSET(DE103_10!$I$23,ROWS($I$23:I31)-1,COLUMNS($I$23:I31)-1)<>\"\",OFFSET(DE103_10!$I$23,ROWS($I$23:I31)-1,COLUMNS($I$23:I31)-1),\"\")","v":8},{"$f":"IF(OFFSET(DE103_10!$K$23,ROWS($K$23:K31)-1,COLUMNS($K$23:K31)-1)<>\"\",OFFSET(DE103_10!$K$23,ROWS($K$23:K31)-1,COLUMNS($K$23:K31)-1),\"\")","v":""}]
[{"$f":"IF(OFFSET(DE103_10!$C$23,ROWS($C$23:C32)-1,COLUMNS($C$23:C32)-1)<>\"\",OFFSET(DE103_10!$C$23,ROWS($C$23:C32)-1,COLUMNS($C$23:C32)-1),\"\")","v":"County ON"},{"$f":"IF(OFFSET(DE103_10!$D$23,ROWS($D$23:D32)-1,COLUMNS($D$23:D32)-1)<>\"\",OFFSET(DE103_10!$D$23,ROWS($D$23:D32)-1,COLUMNS($D$23:D32)-1),\"\")","v":"Both"},{"$f":"IF(OFFSET(DE103_10!$E$23,ROWS($E$23:E32)-1,COLUMNS($E$23:E32)-1)<>\"\",OFFSET(DE103_10!$E$23,ROWS($E$23:E32)-1,COLUMNS($E$23:E32)-1),\"\")","v":319775},{"$f":"IF(OFFSET(DE103_10!$F$23,ROWS($F$23:F32)-1,COLUMNS($F$23:F32)-1)<>\"\",OFFSET(DE103_10!$F$23,ROWS($F$23:F32)-1,COLUMNS($F$23:F32)-1),\"\")","v":320275},{"$f":"IF(OFFSET(DE103_10!$G$23,ROWS($G$23:G32)-1,COLUMNS($G$23:G32)-1)<>\"\",OFFSET(DE103_10!$G$23,ROWS($G$23:G32)-1,COLUMNS($G$23:G32)-1),\"\")","v":9},{"$f":"IF(OFFSET(DE103_10!$I$23,ROWS($I$23:I32)-1,COLUMNS($I$23:I32)-1)<>\"\",OFFSET(DE103_10!$I$23,ROWS($I$23:I32)-1,COLUMNS($I$23:I32)-1),\"\")","v":8},{"$f":"IF(OFFSET(DE103_10!$K$23,ROWS($K$23:K32)-1,COLUMNS($K$23:K32)-1)<>\"\",OFFSET(DE103_10!$K$23,ROWS($K$23:K32)-1,COLUMNS($K$23:K32)-1),\"\")","v":""}]
[{"$f":"IF(OFFSET(DE103_10!$C$23,ROWS($C$23:C33)-1,COLUMNS($C$23:C33)-1)<>\"\",OFFSET(DE103_10!$C$23,ROWS($C$23:C33)-1,COLUMNS($C$23:C33)-1),\"\")","v":"County PN"},{"$f":"IF(OFFSET(DE103_10!$D$23,ROWS($D$23:D33)-1,COLUMNS($D$23:D33)-1)<>\"\",OFFSET(DE103_10!$D$23,ROWS($D$23:D33)-1,COLUMNS($D$23:D33)-1),\"\")","v":"Both"},{"$f":"IF(OFFSET(DE103_10!$E$23,ROWS($E$23:E33)-1,COLUMNS($E$23:E33)-1)<>\"\",OFFSET(DE103_10!$E$23,ROWS($E$23:E33)-1,COLUMNS($E$23:E33)-1),\"\")","v":528300},{"$f":"IF(OFFSET(DE103_10!$F$23,ROWS($F$23:F33)-1,COLUMNS($F$23:F33)-1)<>\"\",OFFSET(DE103_10!$F$23,ROWS($F$23:F33)-1,COLUMNS($F$23:F33)-1),\"\")","v":528475},{"$f":"IF(OFFSET(DE103_10!$G$23,ROWS($G$23:G33)-1,COLUMNS($G$23:G33)-1)<>\"\",OFFSET(DE103_10!$G$23,ROWS($G$23:G33)-1,COLUMNS($G$23:G33)-1),\"\")","v":9},{"$f":"IF(OFFSET(DE103_10!$I$23,ROWS($I$23:I33)-1,COLUMNS($I$23:I33)-1)<>\"\",OFFSET(DE103_10!$I$23,ROWS($I$23:I33)-1,COLUMNS($I$23:I33)-1),\"\")","v":8},{"$f":"IF(OFFSET(DE103_10!$K$23,ROWS($K$23:K33)-1,COLUMNS($K$23:K33)-1)<>\"\",OFFSET(DE103_10!$K$23,ROWS($K$23:K33)-1,COLUMNS($K$23:K33)-1),\"\")","v":""}]
[{"$f":"IF(OFFSET(DE103_10!$C$23,ROWS($C$23:C34)-1,COLUMNS($C$23:C34)-1)<>\"\",OFFSET(DE103_10!$C$23,ROWS($C$23:C34)-1,COLUMNS($C$23:C34)-1),\"\")","v":"County QN"},{"$f":"IF(OFFSET(DE103_10!$D$23,ROWS($D$23:D34)-1,COLUMNS($D$23:D34)-1)<>\"\",OFFSET(DE103_10!$D$23,ROWS($D$23:D34)-1,COLUMNS($D$23:D34)-1),\"\")","v":"Both"},{"$f":"IF(OFFSET(DE103_10!$E$23,ROWS($E$23:E34)-1,COLUMNS($E$23:E34)-1)<>\"\",OFFSET(DE103_10!$E$23,ROWS($E$23:E34)-1,COLUMNS($E$23:E34)-1),\"\")","v":731600},{"$f":"IF(OFFSET(DE103_10!$F$23,ROWS($F$23:F34)-1,COLUMNS($F$23:F34)-1)<>\"\",OFFSET(DE103_10!$F$23,ROWS($F$23:F34)-1,COLUMNS($F$23:F34)-1),\"\")","v":731900},{"$f":"IF(OFFSET(DE103_10!$G$23,ROWS($G$23:G34)-1,COLUMNS($G$23:G34)-1)<>\"\",OFFSET(DE103_10!$G$23,ROWS($G$23:G34)-1,COLUMNS($G$23:G34)-1),\"\")","v":9},{"$f":"IF(OFFSET(DE103_10!$I$23,ROWS($I$23:I34)-1,COLUMNS($I$23:I34)-1)<>\"\",OFFSET(DE103_10!$I$23,ROWS($I$23:I34)-1,COLUMNS($I$23:I34)-1),\"\")","v":8},{"$f":"IF(OFFSET(DE103_10!$K$23,ROWS($K$23:K34)-1,COLUMNS($K$23:K34)-1)<>\"\",OFFSET(DE103_10!$K$23,ROWS($K$23:K34)-1,COLUMNS($K$23:K34)-1),\"\")","v":""}]
[{"$f":"IF(OFFSET(DE103_10!$C$23,ROWS($C$23:C35)-1,COLUMNS($C$23:C35)-1)<>\"\",OFFSET(DE103_10!$C$23,ROWS($C$23:C35)-1,COLUMNS($C$23:C35)-1),\"\")","v":"County R"},{"$f":"IF(OFFSET(DE103_10!$D$23,ROWS($D$23:D35)-1,COLUMNS($D$23:D35)-1)<>\"\",OFFSET(DE103_10!$D$23,ROWS($D$23:D35)-1,COLUMNS($D$23:D35)-1),\"\")","v":"Both"},{"$f":"IF(OFFSET(DE103_10!$E$23,ROWS($E$23:E35)-1,COLUMNS($E$23:E35)-1)<>\"\",OFFSET(DE103_10!$E$23,ROWS($E$23:E35)-1,COLUMNS($E$23:E35)-1),\"\")","v":836900},{"$f":"IF(OFFSET(DE103_10!$F$23,ROWS($F$23:F35)-1,COLUMNS($F$23:F35)-1)<>\"\",OFFSET(DE103_10!$F$23,ROWS($F$23:F35)-1,COLUMNS($F$23:F35)-1),\"\")","v":837400},{"$f":"IF(OFFSET(DE103_10!$G$23,ROWS($G$23:G35)-1,COLUMNS($G$23:G35)-1)<>\"\",OFFSET(DE103_10!$G$23,ROWS($G$23:G35)-1,COLUMNS($G$23:G35)-1),\"\")","v":9},{"$f":"IF(OFFSET(DE103_10!$I$23,ROWS($I$23:I35)-1,COLUMNS($I$23:I35)-1)<>\"\",OFFSET(DE103_10!$I$23,ROWS($I$23:I35)-1,COLUMNS($I$23:I35)-1),\"\")","v":8},{"$f":"IF(OFFSET(DE103_10!$K$23,ROWS($K$23:K35)-1,COLUMNS($K$23:K35)-1)<>\"\",OFFSET(DE103_10!$K$23,ROWS($K$23:K35)-1,COLUMNS($K$23:K35)-1),\"\")","v":""}]
[{"$f":"IF(OFFSET(DE103_10!$C$23,ROWS($C$23:C36)-1,COLUMNS($C$23:C36)-1)<>\"\",OFFSET(DE103_10!$C$23,ROWS($C$23:C36)-1,COLUMNS($C$23:C36)-1),\"\")","v":"County T"},{"$f":"IF(OFFSET(DE103_10!$D$23,ROWS($D$23:D36)-1,COLUMNS($D$23:D36)-1)<>\"\",OFFSET(DE103_10!$D$23,ROWS($D$23:D36)-1,COLUMNS($D$23:D36)-1),\"\")","v":"Both"},{"$f":"IF(OFFSET(DE103_10!$E$23,ROWS($E$23:E36)-1,COLUMNS($E$23:E36)-1)<>\"\",OFFSET(DE103_10!$E$23,ROWS($E$23:E36)-1,COLUMNS($E$23:E36)-1),\"\")","v":947500},{"$f":"IF(OFFSET(DE103_10!$F$23,ROWS($F$23:F36)-1,COLUMNS($F$23:F36)-1)<>\"\",OFFSET(DE103_10!$F$23,ROWS($F$23:F36)-1,COLUMNS($F$23:F36)-1),\"\")","v":948350},{"$f":"IF(OFFSET(DE103_10!$G$23,ROWS($G$23:G36)-1,COLUMNS($G$23:G36)-1)<>\"\",OFFSET(DE103_10!$G$23,ROWS($G$23:G36)-1,COLUMNS($G$23:G36)-1),\"\")","v":6},{"$f":"IF(OFFSET(DE103_10!$I$23,ROWS($I$23:I36)-1,COLUMNS($I$23:I36)-1)<>\"\",OFFSET(DE103_10!$I$23,ROWS($I$23:I36)-1,COLUMNS($I$23:I36)-1),\"\")","v":8},{"$f":"IF(OFFSET(DE103_10!$K$23,ROWS($K$23:K36)-1,COLUMNS($K$23:K36)-1)<>\"\",OFFSET(DE103_10!$K$23,ROWS($K$23:K36)-1,COLUMNS($K$23:K36)-1),\"\")","v":""}]
[{"$f":"IF(OFFSET(DE103_10!$C$23,ROWS($C$23:C37)-1,COLUMNS($C$23:C37)-1)<>\"\",OFFSET(DE103_10!$C$23,ROWS($C$23:C37)-1,COLUMNS($C$23:C37)-1),\"\")","v":"County U"},{"$f":"IF(OFFSET(DE103_10!$D$23,ROWS($D$23:D37)-1,COLUMNS($D$23:D37)-1)<>\"\",OFFSET(DE103_10!$D$23,ROWS($D$23:D37)-1,COLUMNS($D$23:D37)-1),\"\")","v":"Both"},{"$f":"IF(OFFSET(DE103_10!$E$23,ROWS($E$23:E37)-1,COLUMNS($E$23:E37)-1)<>\"\",OFFSET(DE103_10!$E$23,ROWS($E$23:E37)-1,COLUMNS($E$23:E37)-1),\"\")","v":2149975},{"$f":"IF(OFFSET(DE103_10!$F$23,ROWS($F$23:F37)-1,COLUMNS($F$23:F37)-1)<>\"\",OFFSET(DE103_10!$F$23,ROWS($F$23:F37)-1,COLUMNS($F$23:F37)-1),\"\")","v":2150650},{"$f":"IF(OFFSET(DE103_10!$G$23,ROWS($G$23:G37)-1,COLUMNS($G$23:G37)-1)<>\"\",OFFSET(DE103_10!$G$23,ROWS($G$23:G37)-1,COLUMNS($G$23:G37)-1),\"\")","v":6},{"$f":"IF(OFFSET(DE103_10!$I$23,ROWS($I$23:I37)-1,COLUMNS($I$23:I37)-1)<>\"\",OFFSET(DE103_10!$I$23,ROWS($I$23:I37)-1,COLUMNS($I$23:I37)-1),\"\")","v":8},{"$f":"IF(OFFSET(DE103_10!$K$23,ROWS($K$23:K37)-1,COLUMNS($K$23:K37)-1)<>\"\",OFFSET(DE103_10!$K$23,ROWS($K$23:K37)-1,COLUMNS($K$23:K37)-1),\"\")","v":""}]
[{"$f":"IF(OFFSET(DE103_10!$C$23,ROWS($C$23:C38)-1,COLUMNS($C$23:C38)-1)<>\"\",OFFSET(DE103_10!$C$23,ROWS($C$23:C38)-1,COLUMNS($C$23:C38)-1),\"\")","v":"County V"},{"$f":"IF(OFFSET(DE103_10!$D$23,ROWS($D$23:D38)-1,COLUMNS($D$23:D38)-1)<>\"\",OFFSET(DE103_10!$D$23,ROWS($D$23:D38)-1,COLUMNS($D$23:D38)-1),\"\")","v":"Both"},{"$f":"IF(OFFSET(DE103_10!$E$23,ROWS($E$23:E38)-1,COLUMNS($E$23:E38)-1)<>\"\",OFFSET(DE103_10!$E$23,ROWS($E$23:E38)-1,COLUMNS($E$23:E38)-1),\"\")","v":1158475},{"$f":"IF(OFFSET(DE103_10!$F$23,ROWS($F$23:F38)-1,COLUMNS($F$23:F38)-1)<>\"\",OFFSET(DE103_10!$F$23,ROWS($F$23:F38)-1,COLUMNS($F$23:F38)-1),\"\")","v":1158625},{"$f":"IF(OFFSET(DE103_10!$G$23,ROWS($G$23:G38)-1,COLUMNS($G$23:G38)-1)<>\"\",OFFSET(DE103_10!$G$23,ROWS($G$23:G38)-1,COLUMNS($G$23:G38)-1),\"\")","v":6},{"$f":"IF(OFFSET(DE103_10!$I$23,ROWS($I$23:I38)-1,COLUMNS($I$23:I38)-1)<>\"\",OFFSET(DE103_10!$I$23,ROWS($I$23:I38)-1,COLUMNS($I$23:I38)-1),\"\")","v":8},{"$f":"IF(OFFSET(DE103_10!$K$23,ROWS($K$23:K38)-1,COLUMNS($K$23:K38)-1)<>\"\",OFFSET(DE103_10!$K$23,ROWS($K$23:K38)-1,COLUMNS($K$23:K38)-1),\"\")","v":""}]
[{"$f":"IF(OFFSET(DE103_10!$C$23,ROWS($C$23:C39)-1,COLUMNS($C$23:C39)-1)<>\"\",OFFSET(DE103_10!$C$23,ROWS($C$23:C39)-1,COLUMNS($C$23:C39)-1),\"\")","v":"County W"},{"$f":"IF(OFFSET(DE103_10!$D$23,ROWS($D$23:D39)-1,COLUMNS($D$23:D39)-1)<>\"\",OFFSET(DE103_10!$D$23,ROWS($D$23:D39)-1,COLUMNS($D$23:D39)-1),\"\")","v":"Both"},{"$f":"IF(OFFSET(DE103_10!$E$23,ROWS($E$23:E39)-1,COLUMNS($E$23:E39)-1)<>\"\",OFFSET(DE103_10!$E$23,ROWS($E$23:E39)-1,COLUMNS($E$23:E39)-1),\"\")","v":1262425},{"$f":"IF(OFFSET(DE103_10!$F$23,ROWS($F$23:F39)-1,COLUMNS($F$23:F39)-1)<>\"\",OFFSET(DE103_10!$F$23,ROWS($F$23:F39)-1,COLUMNS($F$23:F39)-1),\"\")","v":1262850},{"$f":"IF(OFFSET(DE103_10!$G$23,ROWS($G$23:G39)-1,COLUMNS($G$23:G39)-1)<>\"\",OFFSET(DE103_10!$G$23,ROWS($G$23:G39)-1,COLUMNS($G$23:G39)-1),\"\")","v":6},{"$f":"IF(OFFSET(DE103_10!$I$23,ROWS($I$23:I39)-1,COLUMNS($I$23:I39)-1)<>\"\",OFFSET(DE103_10!$I$23,ROWS($I$23:I39)-1,COLUMNS($I$23:I39)-1),\"\")","v":8},{"$f":"IF(OFFSET(DE103_10!$K$23,ROWS($K$23:K39)-1,COLUMNS($K$23:K39)-1)<>\"\",OFFSET(DE103_10!$K$23,ROWS($K$23:K39)-1,COLUMNS($K$23:K39)-1),\"\")","v":""}]
[{"$f":"IF(OFFSET(DE103_10!$C$23,ROWS($C$23:C40)-1,COLUMNS($C$23:C40)-1)<>\"\",OFFSET(DE103_10!$C$23,ROWS($C$23:C40)-1,COLUMNS($C$23:C40)-1),\"\")","v":"County X"},{"$f":"IF(OFFSET(DE103_10!$D$23,ROWS($D$23:D40)-1,COLUMNS($D$23:D40)-1)<>\"\",OFFSET(DE103_10!$D$23,ROWS($D$23:D40)-1,COLUMNS($D$23:D40)-1),\"\")","v":"Both"},{"$f":"IF(OFFSET(DE103_10!$E$23,ROWS($E$23:E40)-1,COLUMNS($E$23:E40)-1)<>\"\",OFFSET(DE103_10!$E$23,ROWS($E$23:E40)-1,COLUMNS($E$23:E40)-1),\"\")","v":1369025},{"$f":"IF(OFFSET(DE103_10!$F$23,ROWS($F$23:F40)-1,COLUMNS($F$23:F40)-1)<>\"\",OFFSET(DE103_10!$F$23,ROWS($F$23:F40)-1,COLUMNS($F$23:F40)-1),\"\")","v":1369350},{"$f":"IF(OFFSET(DE103_10!$G$23,ROWS($G$23:G40)-1,COLUMNS($G$23:G40)-1)<>\"\",OFFSET(DE103_10!$G$23,ROWS($G$23:G40)-1,COLUMNS($G$23:G40)-1),\"\")","v":18},{"$f":"IF(OFFSET(DE103_10!$I$23,ROWS($I$23:I40)-1,COLUMNS($I$23:I40)-1)<>\"\",OFFSET(DE103_10!$I$23,ROWS($I$23:I40)-1,COLUMNS($I$23:I40)-1),\"\")","v":8},{"$f":"IF(OFFSET(DE103_10!$K$23,ROWS($K$23:K40)-1,COLUMNS($K$23:K40)-1)<>\"\",OFFSET(DE103_10!$K$23,ROWS($K$23:K40)-1,COLUMNS($K$23:K40)-1),\"\")","v":""}]
[{"$f":"IF(OFFSET(DE103_10!$C$23,ROWS($C$23:C41)-1,COLUMNS($C$23:C41)-1)<>\"\",OFFSET(DE103_10!$C$23,ROWS($C$23:C41)-1,COLUMNS($C$23:C41)-1),\"\")","v":""},{"$f":"IF(OFFSET(DE103_10!$D$23,ROWS($D$23:D41)-1,COLUMNS($D$23:D41)-1)<>\"\",OFFSET(DE103_10!$D$23,ROWS($D$23:D41)-1,COLUMNS($D$23:D41)-1),\"\")","v":""},{"$f":"IF(OFFSET(DE103_10!$E$23,ROWS($E$23:E41)-1,COLUMNS($E$23:E41)-1)<>\"\",OFFSET(DE103_10!$E$23,ROWS($E$23:E41)-1,COLUMNS($E$23:E41)-1),\"\")","v":""},{"$f":"IF(OFFSET(DE103_10!$F$23,ROWS($F$23:F41)-1,COLUMNS($F$23:F41)-1)<>\"\",OFFSET(DE103_10!$F$23,ROWS($F$23:F41)-1,COLUMNS($F$23:F41)-1),\"\")","v":""},{"$f":"IF(OFFSET(DE103_10!$G$23,ROWS($G$23:G41)-1,COLUMNS($G$23:G41)-1)<>\"\",OFFSET(DE103_10!$G$23,ROWS($G$23:G41)-1,COLUMNS($G$23:G41)-1),\"\")","v":""},{"$f":"IF(OFFSET(DE103_10!$I$23,ROWS($I$23:I41)-1,COLUMNS($I$23:I41)-1)<>\"\",OFFSET(DE103_10!$I$23,ROWS($I$23:I41)-1,COLUMNS($I$23:I41)-1),\"\")","v":""},{"$f":"IF(OFFSET(DE103_10!$K$23,ROWS($K$23:K41)-1,COLUMNS($K$23:K41)-1)<>\"\",OFFSET(DE103_10!$K$23,ROWS($K$23:K41)-1,COLUMNS($K$23:K41)-1),\"\")","v":""}]
[{"$f":"IF(OFFSET(DE103_10!$C$23,ROWS($C$23:C42)-1,COLUMNS($C$23:C42)-1)<>\"\",OFFSET(DE103_10!$C$23,ROWS($C$23:C42)-1,COLUMNS($C$23:C42)-1),\"\")","v":""},{"$f":"IF(OFFSET(DE103_10!$D$23,ROWS($D$23:D42)-1,COLUMNS($D$23:D42)-1)<>\"\",OFFSET(DE103_10!$D$23,ROWS($D$23:D42)-1,COLUMNS($D$23:D42)-1),\"\")","v":""},{"$f":"IF(OFFSET(DE103_10!$E$23,ROWS($E$23:E42)-1,COLUMNS($E$23:E42)-1)<>\"\",OFFSET(DE103_10!$E$23,ROWS($E$23:E42)-1,COLUMNS($E$23:E42)-1),\"\")","v":""},{"$f":"IF(OFFSET(DE103_10!$F$23,ROWS($F$23:F42)-1,COLUMNS($F$23:F42)-1)<>\"\",OFFSET(DE103_10!$F$23,ROWS($F$23:F42)-1,COLUMNS($F$23:F42)-1),\"\")","v":""},{"$f":"IF(OFFSET(DE103_10!$G$23,ROWS($G$23:G42)-1,COLUMNS($G$23:G42)-1)<>\"\",OFFSET(DE103_10!$G$23,ROWS($G$23:G42)-1,COLUMNS($G$23:G42)-1),\"\")","v":""},{"$f":"IF(OFFSET(DE103_10!$I$23,ROWS($I$23:I42)-1,COLUMNS($I$23:I42)-1)<>\"\",OFFSET(DE103_10!$I$23,ROWS($I$23:I42)-1,COLUMNS($I$23:I42)-1),\"\")","v":""},{"$f":"IF(OFFSET(DE103_10!$K$23,ROWS($K$23:K42)-1,COLUMNS($K$23:K42)-1)<>\"\",OFFSET(DE103_10!$K$23,ROWS($K$23:K42)-1,COLUMNS($K$23:K42)-1),\"\")","v":""}]
[{"$f":"IF(OFFSET(DE103_10!$C$23,ROWS($C$23:C43)-1,COLUMNS($C$23:C43)-1)<>\"\",OFFSET(DE103_10!$C$23,ROWS($C$23:C43)-1,COLUMNS($C$23:C43)-1),\"\")","v":""},{"$f":"IF(OFFSET(DE103_10!$D$23,ROWS($D$23:D43)-1,COLUMNS($D$23:D43)-1)<>\"\",OFFSET(DE103_10!$D$23,ROWS($D$23:D43)-1,COLUMNS($D$23:D43)-1),\"\")","v":""},{"$f":"IF(OFFSET(DE103_10!$E$23,ROWS($E$23:E43)-1,COLUMNS($E$23:E43)-1)<>\"\",OFFSET(DE103_10!$E$23,ROWS($E$23:E43)-1,COLUMNS($E$23:E43)-1),\"\")","v":""},{"$f":"IF(OFFSET(DE103_10!$F$23,ROWS($F$23:F43)-1,COLUMNS($F$23:F43)-1)<>\"\",OFFSET(DE103_10!$F$23,ROWS($F$23:F43)-1,COLUMNS($F$23:F43)-1),\"\")","v":""},{"$f":"IF(OFFSET(DE103_10!$G$23,ROWS($G$23:G43)-1,COLUMNS($G$23:G43)-1)<>\"\",OFFSET(DE103_10!$G$23,ROWS($G$23:G43)-1,COLUMNS($G$23:G43)-1),\"\")","v":""},{"$f":"IF(OFFSET(DE103_10!$I$23,ROWS($I$23:I43)-1,COLUMNS($I$23:I43)-1)<>\"\",OFFSET(DE103_10!$I$23,ROWS($I$23:I43)-1,COLUMNS($I$23:I43)-1),\"\")","v":""},{"$f":"IF(OFFSET(DE103_10!$K$23,ROWS($K$23:K43)-1,COLUMNS($K$23:K43)-1)<>\"\",OFFSET(DE103_10!$K$23,ROWS($K$23:K43)-1,COLUMNS($K$23:K43)-1),\"\")","v":""}]

{"sheet":"104_5CEX","index":17,"n_rows":19,"n_cols":20,"rows_kept":19,"cut":false,"hidden":false,"merged":[[8,6,11,6],[8,7,11,7],[8,8,11,8],[8,9,11,9],[8,10,11,11],[6,19,12,19],[0,0,0,19],[1,0,1,19],[2,0,3,19],[4,0,4,19],[5,0,5,19],[6,0,7,3],[6,4,7,6],[6,7,7,8],[6,9,7,12],[6,13,10,14],[8,0,12,0],[8,1,12,2],[8,3,11,3],[8,4,12,4],[8,5,11,5],[8,12,11,12],[6,15,11,15],[6,16,10,16],[6,17,11,17],[6,18,11,18],[11,13,11,14]]}
["104-5CA"]
["NEW"]
["COREOUT"]
[]
["Refer to  Sheets Q.12 and Q.13."]
["* Not a bid item"]
["Location",null,null,null,"Pipe",null,null,"Aprons",null,"Outlets",null,null,null,"Connected Pipe\nJoints*",null,"Trench\nDrain","Granular\nMaterial","Removal of Wing Dike Revetment Fill","Refill with Class 10 Fill","Remarks"]
[]
["No.","Station to Station",null,"Type of\nInstallation","Concrete, C.M.P., or Plastic","Dia.","Length","DR-201","DR-203","500-10","DR-305",null,"DR-306"]
[]
[]
[null,null,null,null,null,null,null,null,null,null,null,null,null,"DR-121",null,null,"Blanket"]
[null,null,null,"DR-301, DR-302, DR-303",null,"IN","LF","No.","No.","No.","Type","No.","No.","Type","No.","LF","CY","CY","CY"]
[{"$f":"IF(OFFSET(DE104_5CEX!$C$27,ROWS($C$27:C27)-1,COLUMNS($C$27:C27)-1)<>\"\",OFFSET(DE104_5CEX!$C$27,ROWS($C$27:C27)-1,COLUMNS($C$27:C27)-1),\"\")","v":1},{"$f":"IF(OFFSET(DE104_5CEX!$D$27,ROWS($D$27:D27)-1,COLUMNS($D$27:D27)-1)<>\"\",OFFSET(DE104_5CEX!$D$27,ROWS($D$27:D27)-1,COLUMNS($D$27:D27)-1),\"\")","v":26670},{"$f":"IF(OFFSET(DE104_5CEX!$E$27,ROWS($E$27:E27)-1,COLUMNS($E$27:E27)-1)<>\"\",OFFSET(DE104_5CEX!$E$27,ROWS($E$27:E27)-1,COLUMNS($E$27:E27)-1),\"\")","v":26780},{"$f":"IF(OFFSET(DE104_5CEX!$F$27,ROWS($F$27:F27)-1,COLUMNS($F$27:F27)-1)<>\"\",OFFSET(DE104_5CEX!$F$27,ROWS($F$27:F27)-1,COLUMNS($F$27:F27)-1),\"\")","v":""},{"$f":"IF(OFFSET(DE104_5CEX!$G$27,ROWS($G$27:G27)-1,COLUMNS($G$27:G27)-1)<>\"\",OFFSET(DE104_5CEX!$G$27,ROWS($G$27:G27)-1,COLUMNS($G$27:G27)-1),\"\")","v":""},{"$f":"IF(OFFSET(DE104_5CEX!$H$27,ROWS($H$27:H27)-1,COLUMNS($H$27:H27)-1)<>\"\",OFFSET(DE104_5CEX!$H$27,ROWS($H$27:H27)-1,COLUMNS($H$27:H27)-1),\"\")","v":""},{"$f":"IF(OFFSET(DE104_5CEX!$I$27,ROWS($I$27:I27)-1,COLUMNS($I$27:I27)-1)<>\"\",OFFSET(DE104_5CEX!$I$27,ROWS($I$27:I27)-1,COLUMNS($I$27:I27)-1),\"\")","v":""},{"$f":"IF(OFFSET(DE104_5CEX!$J$27,ROWS($J$27:J27)-1,COLUMNS($J$27:J27)-1)<>\"\",OFFSET(DE104_5CEX!$J$27,ROWS($J$27:J27)-1,COLUMNS($J$27:J27)-1),\"\")","v":""},{"$f":"IF(OFFSET(DE104_5CEX!$K$27,ROWS($K$27:K27)-1,COLUMNS($K$27:K27)-1)<>\"\",OFFSET(DE104_5CEX!$K$27,ROWS($K$27:K27)-1,COLUMNS($K$27:K27)-1),\"\")","v":""},{"$f":"IF(OFFSET(DE104_5CEX!$L$27,ROWS($L$27:L27)-1,COLUMNS($L$27:L27)-1)<>\"\",OFFSET(DE104_5CEX!$L$27,ROWS($L$27:L27)-1,COLUMNS($L$27:L27)-1),\"\")","v":""},{"$f":"IF(OFFSET(DE104_5CEX!$M$27,ROWS($M$27:M27)-1,COLUMNS($M$27:M27)-1)<>\"\",OFFSET(DE104_5CEX!$M$27,ROWS($M$27:M27)-1,COLUMNS($M$27:M27)-1),\"\")","v":""},{"$f":"IF(OFFSET(DE104_5CEX!$N$27,ROWS($N$27:N27)-1,COLUMNS($N$27:N27)-1)<>\"\",OFFSET(DE104_5CEX!$N$27,ROWS($N$27:N27)-1,COLUMNS($N$27:N27)-1),\"\")","v":""},{"$f":"IF(OFFSET(DE104_5CEX!$O$27,ROWS($O$27:O27)-1,COLUMNS($O$27:O27)-1)<>\"\",OFFSET(DE104_5CEX!$O$27,ROWS($O$27:O27)-1,COLUMNS($O$27:O27)-1),\"\")","v":""},{"$f":"IF(OFFSET(DE104_5CEX!$P$27,ROWS($P$27:P27)-1,COLUMNS($P$27:P27)-1)<>\"\",OFFSET(DE104_5CEX!$P$27,ROWS($P$27:P27)-1,COLUMNS($P$27:P27)-1),\"\")","v":""},{"$f":"IF(OFFSET(DE104_5CEX!$Q$27,ROWS($Q$27:Q27)-1,COLUMNS($Q$27:Q27)-1)<>\"\",OFFSET(DE104_5CEX!$Q$27,ROWS($Q$27:Q27)-1,COLUMNS($Q$27:Q27)-1),\"\")","v":""},{"$f":"IF(OFFSET(DE104_5CEX!$R$27,ROWS($R$27:R27)-1,COLUMNS($R$27:R27)-1)<>\"\",OFFSET(DE104_5CEX!$R$27,ROWS($R$27:R27)-1,COLUMNS($R$27:R27)-1),\"\")","v":""},{"$f":"IF(OFFSET(DE104_5CEX!$S$27,ROWS($S$27:S27)-1,COLUMNS($S$27:S27)-1)<>\"\",OFFSET(DE104_5CEX!$S$27,ROWS($S$27:S27)-1,COLUMNS($S$27:S27)-1),\"\")","v":""},{"$f":"IF(OFFSET(DE104_5CEX!$T$27,ROWS($T$27:T27)-1,COLUMNS($T$27:T27)-1)<>\"\",OFFSET(DE104_5CEX!$T$27,ROWS($T$27:T27)-1,COLUMNS($T$27:T27)-1),\"\")","v":1004},{"$f":"IF(OFFSET(DE104_5CEX!$U$27,ROWS($U$27:U27)-1,COLUMNS($U$27:U27)-1)<>\"\",OFFSET(DE104_5CEX!$U$27,ROWS($U$27:U27)-1,COLUMNS($U$27:U27)-1),\"\")","v":1305},{"$f":"IF(OFFSET(DE104_5CEX!$V$27,ROWS($V$27:V27)-1,COLUMNS($V$27:V27)-1)<>\"\",OFFSET(DE104_5CEX!$V$27,ROWS($V$27:V27)-1,COLUMNS($V$27:V27)-1),\"\")","v":"Overexcavate existing wing dike Class 20 revetment fill down to "}]
[{"$f":"IF(OFFSET(DE104_5CEX!$C$27,ROWS($C$27:C28)-1,COLUMNS($C$27:C28)-1)<>\"\",OFFSET(DE104_5CEX!$C$27,ROWS($C$27:C28)-1,COLUMNS($C$27:C28)-1),\"\")","v":""},{"$f":"IF(OFFSET(DE104_5CEX!$D$27,ROWS($D$27:D28)-1,COLUMNS($D$27:D28)-1)<>\"\",OFFSET(DE104_5CEX!$D$27,ROWS($D$27:D28)-1,COLUMNS($D$27:D28)-1),\"\")","v":""},{"$f":"IF(OFFSET(DE104_5CEX!$E$27,ROWS($E$27:E28)-1,COLUMNS($E$27:E28)-1)<>\"\",OFFSET(DE104_5CEX!$E$27,ROWS($E$27:E28)-1,COLUMNS($E$27:E28)-1),\"\")","v":""},{"$f":"IF(OFFSET(DE104_5CEX!$F$27,ROWS($F$27:F28)-1,COLUMNS($F$27:F28)-1)<>\"\",OFFSET(DE104_5CEX!$F$27,ROWS($F$27:F28)-1,COLUMNS($F$27:F28)-1),\"\")","v":""},{"$f":"IF(OFFSET(DE104_5CEX!$G$27,ROWS($G$27:G28)-1,COLUMNS($G$27:G28)-1)<>\"\",OFFSET(DE104_5CEX!$G$27,ROWS($G$27:G28)-1,COLUMNS($G$27:G28)-1),\"\")","v":""},{"$f":"IF(OFFSET(DE104_5CEX!$H$27,ROWS($H$27:H28)-1,COLUMNS($H$27:H28)-1)<>\"\",OFFSET(DE104_5CEX!$H$27,ROWS($H$27:H28)-1,COLUMNS($H$27:H28)-1),\"\")","v":""},{"$f":"IF(OFFSET(DE104_5CEX!$I$27,ROWS($I$27:I28)-1,COLUMNS($I$27:I28)-1)<>\"\",OFFSET(DE104_5CEX!$I$27,ROWS($I$27:I28)-1,COLUMNS($I$27:I28)-1),\"\")","v":""},{"$f":"IF(OFFSET(DE104_5CEX!$J$27,ROWS($J$27:J28)-1,COLUMNS($J$27:J28)-1)<>\"\",OFFSET(DE104_5CEX!$J$27,ROWS($J$27:J28)-1,COLUMNS($J$27:J28)-1),\"\")","v":""},{"$f":"IF(OFFSET(DE104_5CEX!$K$27,ROWS($K$27:K28)-1,COLUMNS($K$27:K28)-1)<>\"\",OFFSET(DE104_5CEX!$K$27,ROWS($K$27:K28)-1,COLUMNS($K$27:K28)-1),\"\")","v":""},{"$f":"IF(OFFSET(DE104_5CEX!$L$27,ROWS($L$27:L28)-1,COLUMNS($L$27:L28)-1)<>\"\",OFFSET(DE104_5CEX!$L$27,ROWS($L$27:L28)-1,COLUMNS($L$27:L28)-1),\"\")","v":""},{"$f":"IF(OFFSET(DE104_5CEX!$M$27,ROWS($M$27:M28)-1,COLUMNS($M$27:M28)-1)<>\"\",OFFSET(DE104_5CEX!$M$27,ROWS($M$27:M28)-1,COLUMNS($M$27:M28)-1),\"\")","v":""},{"$f":"IF(OFFSET(DE104_5CEX!$N$27,ROWS($N$27:N28)-1,COLUMNS($N$27:N28)-1)<>\"\",OFFSET(DE104_5CEX!$N$27,ROWS($N$27:N28)-1,COLUMNS($N$27:N28)-1),\"\")","v":""},{"$f":"IF(OFFSET(DE104_5CEX!$O$27,ROWS($O$27:O28)-1,COLUMNS($O$27:O28)-1)<>\"\",OFFSET(DE104_5CEX!$O$27,ROWS($O$27:O28)-1,COLUMNS($O$27:O28)-1),\"\")","v":""},{"$f":"IF(OFFSET(DE104_5CEX!$P$27,ROWS($P$27:P28)-1,COLUMNS($P$27:P28)-1)<>\"\",OFFSET(DE104_5CEX!$P$27,ROWS($P$27:P28)-1,COLUMNS($P$27:P28)-1),\"\")","v":""},{"$f":"IF(OFFSET(DE104_5CEX!$Q$27,ROWS($Q$27:Q28)-1,COLUMNS($Q$27:Q28)-1)<>\"\",OFFSET(DE104_5CEX!$Q$27,ROWS($Q$27:Q28)-1,COLUMNS($Q$27:Q28)-1),\"\")","v":""},{"$f":"IF(OFFSET(DE104_5CEX!$R$27,ROWS($R$27:R28)-1,COLUMNS($R$27:R28)-1)<>\"\",OFFSET(DE104_5CEX!$R$27,ROWS($R$27:R28)-1,COLUMNS($R$27:R28)-1),\"\")","v":""},{"$f":"IF(OFFSET(DE104_5CEX!$S$27,ROWS($S$27:S28)-1,COLUMNS($S$27:S28)-1)<>\"\",OFFSET(DE104_5CEX!$S$27,ROWS($S$27:S28)-1,COLUMNS($S$27:S28)-1),\"\")","v":""},{"$f":"IF(OFFSET(DE104_5CEX!$T$27,ROWS($T$27:T28)-1,COLUMNS($T$27:T28)-1)<>\"\",OFFSET(DE104_5CEX!$T$27,ROWS($T$27:T28)-1,COLUMNS($T$27:T28)-1),\"\")","v":""},{"$f":"IF(OFFSET(DE104_5CEX!$U$27,ROWS($U$27:U28)-1,COLUMNS($U$27:U28)-1)<>\"\",OFFSET(DE104_5CEX!$U$27,ROWS($U$27:U28)-1,COLUMNS($U$27:U28)-1),\"\")","v":""},{"$f":"IF(OFFSET(DE104_5CEX!$V$27,ROWS($V$27:V28)-1,COLUMNS($V$27:V28)-1)<>\"\",OFFSET(DE104_5CEX!$V$27,ROWS($V$27:V28)-1,COLUMNS($V$27:V28)-1),\"\")","v":"Elevation 804 and replace with Class 10 fill.  Actual limits and  "}]
[{"$f":"IF(OFFSET(DE104_5CEX!$C$27,ROWS($C$27:C29)-1,COLUMNS($C$27:C29)-1)<>\"\",OFFSET(DE104_5CEX!$C$27,ROWS($C$27:C29)-1,COLUMNS($C$27:C29)-1),\"\")","v":""},{"$f":"IF(OFFSET(DE104_5CEX!$D$27,ROWS($D$27:D29)-1,COLUMNS($D$27:D29)-1)<>\"\",OFFSET(DE104_5CEX!$D$27,ROWS($D$27:D29)-1,COLUMNS($D$27:D29)-1),\"\")","v":""},{"$f":"IF(OFFSET(DE104_5CEX!$E$27,ROWS($E$27:E29)-1,COLUMNS($E$27:E29)-1)<>\"\",OFFSET(DE104_5CEX!$E$27,ROWS($E$27:E29)-1,COLUMNS($E$27:E29)-1),\"\")","v":""},{"$f":"IF(OFFSET(DE104_5CEX!$F$27,ROWS($F$27:F29)-1,COLUMNS($F$27:F29)-1)<>\"\",OFFSET(DE104_5CEX!$F$27,ROWS($F$27:F29)-1,COLUMNS($F$27:F29)-1),\"\")","v":""},{"$f":"IF(OFFSET(DE104_5CEX!$G$27,ROWS($G$27:G29)-1,COLUMNS($G$27:G29)-1)<>\"\",OFFSET(DE104_5CEX!$G$27,ROWS($G$27:G29)-1,COLUMNS($G$27:G29)-1),\"\")","v":""},{"$f":"IF(OFFSET(DE104_5CEX!$H$27,ROWS($H$27:H29)-1,COLUMNS($H$27:H29)-1)<>\"\",OFFSET(DE104_5CEX!$H$27,ROWS($H$27:H29)-1,COLUMNS($H$27:H29)-1),\"\")","v":""},{"$f":"IF(OFFSET(DE104_5CEX!$I$27,ROWS($I$27:I29)-1,COLUMNS($I$27:I29)-1)<>\"\",OFFSET(DE104_5CEX!$I$27,ROWS($I$27:I29)-1,COLUMNS($I$27:I29)-1),\"\")","v":""},{"$f":"IF(OFFSET(DE104_5CEX!$J$27,ROWS($J$27:J29)-1,COLUMNS($J$27:J29)-1)<>\"\",OFFSET(DE104_5CEX!$J$27,ROWS($J$27:J29)-1,COLUMNS($J$27:J29)-1),\"\")","v":""},{"$f":"IF(OFFSET(DE104_5CEX!$K$27,ROWS($K$27:K29)-1,COLUMNS($K$27:K29)-1)<>\"\",OFFSET(DE104_5CEX!$K$27,ROWS($K$27:K29)-1,COLUMNS($K$27:K29)-1),\"\")","v":""},{"$f":"IF(OFFSET(DE104_5CEX!$L$27,ROWS($L$27:L29)-1,COLUMNS($L$27:L29)-1)<>\"\",OFFSET(DE104_5CEX!$L$27,ROWS($L$27:L29)-1,COLUMNS($L$27:L29)-1),\"\")","v":""},{"$f":"IF(OFFSET(DE104_5CEX!$M$27,ROWS($M$27:M29)-1,COLUMNS($M$27:M29)-1)<>\"\",OFFSET(DE104_5CEX!$M$27,ROWS($M$27:M29)-1,COLUMNS($M$27:M29)-1),\"\")","v":""},{"$f":"IF(OFFSET(DE104_5CEX!$N$27,ROWS($N$27:N29)-1,COLUMNS($N$27:N29)-1)<>\"\",OFFSET(DE104_5CEX!$N$27,ROWS($N$27:N29)-1,COLUMNS($N$27:N29)-1),\"\")","v":""},{"$f":"IF(OFFSET(DE104_5CEX!$O$27,ROWS($O$27:O29)-1,COLUMNS($O$27:O29)-1)<>\"\",OFFSET(DE104_5CEX!$O$27,ROWS($O$27:O29)-1,COLUMNS($O$27:O29)-1),\"\")","v":""},{"$f":"IF(OFFSET(DE104_5CEX!$P$27,ROWS($P$27:P29)-1,COLUMNS($P$27:P29)-1)<>\"\",OFFSET(DE104_5CEX!$P$27,ROWS($P$27:P29)-1,COLUMNS($P$27:P29)-1),\"\")","v":""},{"$f":"IF(OFFSET(DE104_5CEX!$Q$27,ROWS($Q$27:Q29)-1,COLUMNS($Q$27:Q29)-1)<>\"\",OFFSET(DE104_5CEX!$Q$27,ROWS($Q$27:Q29)-1,COLUMNS($Q$27:Q29)-1),\"\")","v":""},{"$f":"IF(OFFSET(DE104_5CEX!$R$27,ROWS($R$27:R29)-1,COLUMNS($R$27:R29)-1)<>\"\",OFFSET(DE104_5CEX!$R$27,ROWS($R$27:R29)-1,COLUMNS($R$27:R29)-1),\"\")","v":""},{"$f":"IF(OFFSET(DE104_5CEX!$S$27,ROWS($S$27:S29)-1,COLUMNS($S$27:S29)-1)<>\"\",OFFSET(DE104_5CEX!$S$27,ROWS($S$27:S29)-1,COLUMNS($S$27:S29)-1),\"\")","v":""},{"$f":"IF(OFFSET(DE104_5CEX!$T$27,ROWS($T$27:T29)-1,COLUMNS($T$27:T29)-1)<>\"\",OFFSET(DE104_5CEX!$T$27,ROWS($T$27:T29)-1,COLUMNS($T$27:T29)-1),\"\")","v":""},{"$f":"IF(OFFSET(DE104_5CEX!$U$27,ROWS($U$27:U29)-1,COLUMNS($U$27:U29)-1)<>\"\",OFFSET(DE104_5CEX!$U$27,ROWS($U$27:U29)-1,COLUMNS($U$27:U29)-1),\"\")","v":""},{"$f":"IF(OFFSET(DE104_5CEX!$V$27,ROWS($V$27:V29)-1,COLUMNS($V$27:V29)-1)<>\"\",OFFSET(DE104_5CEX!$V$27,ROWS($V$27:V29)-1,COLUMNS($V$27:V29)-1),\"\")","v":"depth of overexcavation to be determined during construction by Iowa "}]
[{"$f":"IF(OFFSET(DE104_5CEX!$C$27,ROWS($C$27:C30)-1,COLUMNS($C$27:C30)-1)<>\"\",OFFSET(DE104_5CEX!$C$27,ROWS($C$27:C30)-1,COLUMNS($C$27:C30)-1),\"\")","v":""},{"$f":"IF(OFFSET(DE104_5CEX!$D$27,ROWS($D$27:D30)-1,COLUMNS($D$27:D30)-1)<>\"\",OFFSET(DE104_5CEX!$D$27,ROWS($D$27:D30)-1,COLUMNS($D$27:D30)-1),\"\")","v":""},{"$f":"IF(OFFSET(DE104_5CEX!$E$27,ROWS($E$27:E30)-1,COLUMNS($E$27:E30)-1)<>\"\",OFFSET(DE104_5CEX!$E$27,ROWS($E$27:E30)-1,COLUMNS($E$27:E30)-1),\"\")","v":""},{"$f":"IF(OFFSET(DE104_5CEX!$F$27,ROWS($F$27:F30)-1,COLUMNS($F$27:F30)-1)<>\"\",OFFSET(DE104_5CEX!$F$27,ROWS($F$27:F30)-1,COLUMNS($F$27:F30)-1),\"\")","v":""},{"$f":"IF(OFFSET(DE104_5CEX!$G$27,ROWS($G$27:G30)-1,COLUMNS($G$27:G30)-1)<>\"\",OFFSET(DE104_5CEX!$G$27,ROWS($G$27:G30)-1,COLUMNS($G$27:G30)-1),\"\")","v":""},{"$f":"IF(OFFSET(DE104_5CEX!$H$27,ROWS($H$27:H30)-1,COLUMNS($H$27:H30)-1)<>\"\",OFFSET(DE104_5CEX!$H$27,ROWS($H$27:H30)-1,COLUMNS($H$27:H30)-1),\"\")","v":""},{"$f":"IF(OFFSET(DE104_5CEX!$I$27,ROWS($I$27:I30)-1,COLUMNS($I$27:I30)-1)<>\"\",OFFSET(DE104_5CEX!$I$27,ROWS($I$27:I30)-1,COLUMNS($I$27:I30)-1),\"\")","v":""},{"$f":"IF(OFFSET(DE104_5CEX!$J$27,ROWS($J$27:J30)-1,COLUMNS($J$27:J30)-1)<>\"\",OFFSET(DE104_5CEX!$J$27,ROWS($J$27:J30)-1,COLUMNS($J$27:J30)-1),\"\")","v":""},{"$f":"IF(OFFSET(DE104_5CEX!$K$27,ROWS($K$27:K30)-1,COLUMNS($K$27:K30)-1)<>\"\",OFFSET(DE104_5CEX!$K$27,ROWS($K$27:K30)-1,COLUMNS($K$27:K30)-1),\"\")","v":""},{"$f":"IF(OFFSET(DE104_5CEX!$L$27,ROWS($L$27:L30)-1,COLUMNS($L$27:L30)-1)<>\"\",OFFSET(DE104_5CEX!$L$27,ROWS($L$27:L30)-1,COLUMNS($L$27:L30)-1),\"\")","v":""},{"$f":"IF(OFFSET(DE104_5CEX!$M$27,ROWS($M$27:M30)-1,COLUMNS($M$27:M30)-1)<>\"\",OFFSET(DE104_5CEX!$M$27,ROWS($M$27:M30)-1,COLUMNS($M$27:M30)-1),\"\")","v":""},{"$f":"IF(OFFSET(DE104_5CEX!$N$27,ROWS($N$27:N30)-1,COLUMNS($N$27:N30)-1)<>\"\",OFFSET(DE104_5CEX!$N$27,ROWS($N$27:N30)-1,COLUMNS($N$27:N30)-1),\"\")","v":""},{"$f":"IF(OFFSET(DE104_5CEX!$O$27,ROWS($O$27:O30)-1,COLUMNS($O$27:O30)-1)<>\"\",OFFSET(DE104_5CEX!$O$27,ROWS($O$27:O30)-1,COLUMNS($O$27:O30)-1),\"\")","v":""},{"$f":"IF(OFFSET(DE104_5CEX!$P$27,ROWS($P$27:P30)-1,COLUMNS($P$27:P30)-1)<>\"\",OFFSET(DE104_5CEX!$P$27,ROWS($P$27:P30)-1,COLUMNS($P$27:P30)-1),\"\")","v":""},{"$f":"IF(OFFSET(DE104_5CEX!$Q$27,ROWS($Q$27:Q30)-1,COLUMNS($Q$27:Q30)-1)<>\"\",OFFSET(DE104_5CEX!$Q$27,ROWS($Q$27:Q30)-1,COLUMNS($Q$27:Q30)-1),\"\")","v":""},{"$f":"IF(OFFSET(DE104_5CEX!$R$27,ROWS($R$27:R30)-1,COLUMNS($R$27:R30)-1)<>\"\",OFFSET(DE104_5CEX!$R$27,ROWS($R$27:R30)-1,COLUMNS($R$27:R30)-1),\"\")","v":""},{"$f":"IF(OFFSET(DE104_5CEX!$S$27,ROWS($S$27:S30)-1,COLUMNS($S$27:S30)-1)<>\"\",OFFSET(DE104_5CEX!$S$27,ROWS($S$27:S30)-1,COLUMNS($S$27:S30)-1),\"\")","v":""},{"$f":"IF(OFFSET(DE104_5CEX!$T$27,ROWS($T$27:T30)-1,COLUMNS($T$27:T30)-1)<>\"\",OFFSET(DE104_5CEX!$T$27,ROWS($T$27:T30)-1,COLUMNS($T$27:T30)-1),\"\")","v":""},{"$f":"IF(OFFSET(DE104_5CEX!$U$27,ROWS($U$27:U30)-1,COLUMNS($U$27:U30)-1)<>\"\",OFFSET(DE104_5CEX!$U$27,ROWS($U$27:U30)-1,COLUMNS($U$27:U30)-1),\"\")","v":""},{"$f":"IF(OFFSET(DE104_5CEX!$V$27,ROWS($V$27:V30)-1,COLUMNS($V$27:V30)-1)<>\"\",OFFSET(DE104_5CEX!$V$27,ROWS($V$27:V30)-1,COLUMNS($V$27:V30)-1),\"\")","v":"DOT Resident Construction Engineer (or a representative of the RCE)."}]
[{"$f":"IF(OFFSET(DE104_5CEX!$C$27,ROWS($C$27:C31)-1,COLUMNS($C$27:C31)-1)<>\"\",OFFSET(DE104_5CEX!$C$27,ROWS($C$27:C31)-1,COLUMNS($C$27:C31)-1),\"\")","v":""},{"$f":"IF(OFFSET(DE104_5CEX!$D$27,ROWS($D$27:D31)-1,COLUMNS($D$27:D31)-1)<>\"\",OFFSET(DE104_5CEX!$D$27,ROWS($D$27:D31)-1,COLUMNS($D$27:D31)-1),\"\")","v":""},{"$f":"IF(OFFSET(DE104_5CEX!$E$27,ROWS($E$27:E31)-1,COLUMNS($E$27:E31)-1)<>\"\",OFFSET(DE104_5CEX!$E$27,ROWS($E$27:E31)-1,COLUMNS($E$27:E31)-1),\"\")","v":""},{"$f":"IF(OFFSET(DE104_5CEX!$F$27,ROWS($F$27:F31)-1,COLUMNS($F$27:F31)-1)<>\"\",OFFSET(DE104_5CEX!$F$27,ROWS($F$27:F31)-1,COLUMNS($F$27:F31)-1),\"\")","v":""},{"$f":"IF(OFFSET(DE104_5CEX!$G$27,ROWS($G$27:G31)-1,COLUMNS($G$27:G31)-1)<>\"\",OFFSET(DE104_5CEX!$G$27,ROWS($G$27:G31)-1,COLUMNS($G$27:G31)-1),\"\")","v":""},{"$f":"IF(OFFSET(DE104_5CEX!$H$27,ROWS($H$27:H31)-1,COLUMNS($H$27:H31)-1)<>\"\",OFFSET(DE104_5CEX!$H$27,ROWS($H$27:H31)-1,COLUMNS($H$27:H31)-1),\"\")","v":""},{"$f":"IF(OFFSET(DE104_5CEX!$I$27,ROWS($I$27:I31)-1,COLUMNS($I$27:I31)-1)<>\"\",OFFSET(DE104_5CEX!$I$27,ROWS($I$27:I31)-1,COLUMNS($I$27:I31)-1),\"\")","v":""},{"$f":"IF(OFFSET(DE104_5CEX!$J$27,ROWS($J$27:J31)-1,COLUMNS($J$27:J31)-1)<>\"\",OFFSET(DE104_5CEX!$J$27,ROWS($J$27:J31)-1,COLUMNS($J$27:J31)-1),\"\")","v":""},{"$f":"IF(OFFSET(DE104_5CEX!$K$27,ROWS($K$27:K31)-1,COLUMNS($K$27:K31)-1)<>\"\",OFFSET(DE104_5CEX!$K$27,ROWS($K$27:K31)-1,COLUMNS($K$27:K31)-1),\"\")","v":""},{"$f":"IF(OFFSET(DE104_5CEX!$L$27,ROWS($L$27:L31)-1,COLUMNS($L$27:L31)-1)<>\"\",OFFSET(DE104_5CEX!$L$27,ROWS($L$27:L31)-1,COLUMNS($L$27:L31)-1),\"\")","v":""},{"$f":"IF(OFFSET(DE104_5CEX!$M$27,ROWS($M$27:M31)-1,COLUMNS($M$27:M31)-1)<>\"\",OFFSET(DE104_5CEX!$M$27,ROWS($M$27:M31)-1,COLUMNS($M$27:M31)-1),\"\")","v":""},{"$f":"IF(OFFSET(DE104_5CEX!$N$27,ROWS($N$27:N31)-1,COLUMNS($N$27:N31)-1)<>\"\",OFFSET(DE104_5CEX!$N$27,ROWS($N$27:N31)-1,COLUMNS($N$27:N31)-1),\"\")","v":""},{"$f":"IF(OFFSET(DE104_5CEX!$O$27,ROWS($O$27:O31)-1,COLUMNS($O$27:O31)-1)<>\"\",OFFSET(DE104_5CEX!$O$27,ROWS($O$27:O31)-1,COLUMNS($O$27:O31)-1),\"\")","v":""},{"$f":"IF(OFFSET(DE104_5CEX!$P$27,ROWS($P$27:P31)-1,COLUMNS($P$27:P31)-1)<>\"\",OFFSET(DE104_5CEX!$P$27,ROWS($P$27:P31)-1,COLUMNS($P$27:P31)-1),\"\")","v":""},{"$f":"IF(OFFSET(DE104_5CEX!$Q$27,ROWS($Q$27:Q31)-1,COLUMNS($Q$27:Q31)-1)<>\"\",OFFSET(DE104_5CEX!$Q$27,ROWS($Q$27:Q31)-1,COLUMNS($Q$27:Q31)-1),\"\")","v":""},{"$f":"IF(OFFSET(DE104_5CEX!$R$27,ROWS($R$27:R31)-1,COLUMNS($R$27:R31)-1)<>\"\",OFFSET(DE104_5CEX!$R$27,ROWS($R$27:R31)-1,COLUMNS($R$27:R31)-1),\"\")","v":""},{"$f":"IF(OFFSET(DE104_5CEX!$S$27,ROWS($S$27:S31)-1,COLUMNS($S$27:S31)-1)<>\"\",OFFSET(DE104_5CEX!$S$27,ROWS($S$27:S31)-1,COLUMNS($S$27:S31)-1),\"\")","v":""},{"$f":"IF(OFFSET(DE104_5CEX!$T$27,ROWS($T$27:T31)-1,COLUMNS($T$27:T31)-1)<>\"\",OFFSET(DE104_5CEX!$T$27,ROWS($T$27:T31)-1,COLUMNS($T$27:T31)-1),\"\")","v":""},{"$f":"IF(OFFSET(DE104_5CEX!$U$27,ROWS($U$27:U31)-1,COLUMNS($U$27:U31)-1)<>\"\",OFFSET(DE104_5CEX!$U$27,ROWS($U$27:U31)-1,COLUMNS($U$27:U31)-1),\"\")","v":""},{"$f":"IF(OFFSET(DE104_5CEX!$V$27,ROWS($V$27:V31)-1,COLUMNS($V$27:V31)-1)<>\"\",OFFSET(DE104_5CEX!$V$27,ROWS($V$27:V31)-1,COLUMNS($V$27:V31)-1),\"\")","v":""}]
[{"$f":"IF(OFFSET(DE104_5CEX!$C$27,ROWS($C$27:C32)-1,COLUMNS($C$27:C32)-1)<>\"\",OFFSET(DE104_5CEX!$C$27,ROWS($C$27:C32)-1,COLUMNS($C$27:C32)-1),\"\")","v":""},{"$f":"IF(OFFSET(DE104_5CEX!$D$27,ROWS($D$27:D32)-1,COLUMNS($D$27:D32)-1)<>\"\",OFFSET(DE104_5CEX!$D$27,ROWS($D$27:D32)-1,COLUMNS($D$27:D32)-1),\"\")","v":""},{"$f":"IF(OFFSET(DE104_5CEX!$E$27,ROWS($E$27:E32)-1,COLUMNS($E$27:E32)-1)<>\"\",OFFSET(DE104_5CEX!$E$27,ROWS($E$27:E32)-1,COLUMNS($E$27:E32)-1),\"\")","v":""},{"$f":"IF(OFFSET(DE104_5CEX!$F$27,ROWS($F$27:F32)-1,COLUMNS($F$27:F32)-1)<>\"\",OFFSET(DE104_5CEX!$F$27,ROWS($F$27:F32)-1,COLUMNS($F$27:F32)-1),\"\")","v":""},{"$f":"IF(OFFSET(DE104_5CEX!$G$27,ROWS($G$27:G32)-1,COLUMNS($G$27:G32)-1)<>\"\",OFFSET(DE104_5CEX!$G$27,ROWS($G$27:G32)-1,COLUMNS($G$27:G32)-1),\"\")","v":""},{"$f":"IF(OFFSET(DE104_5CEX!$H$27,ROWS($H$27:H32)-1,COLUMNS($H$27:H32)-1)<>\"\",OFFSET(DE104_5CEX!$H$27,ROWS($H$27:H32)-1,COLUMNS($H$27:H32)-1),\"\")","v":""},{"$f":"IF(OFFSET(DE104_5CEX!$I$27,ROWS($I$27:I32)-1,COLUMNS($I$27:I32)-1)<>\"\",OFFSET(DE104_5CEX!$I$27,ROWS($I$27:I32)-1,COLUMNS($I$27:I32)-1),\"\")","v":""},{"$f":"IF(OFFSET(DE104_5CEX!$J$27,ROWS($J$27:J32)-1,COLUMNS($J$27:J32)-1)<>\"\",OFFSET(DE104_5CEX!$J$27,ROWS($J$27:J32)-1,COLUMNS($J$27:J32)-1),\"\")","v":""},{"$f":"IF(OFFSET(DE104_5CEX!$K$27,ROWS($K$27:K32)-1,COLUMNS($K$27:K32)-1)<>\"\",OFFSET(DE104_5CEX!$K$27,ROWS($K$27:K32)-1,COLUMNS($K$27:K32)-1),\"\")","v":""},{"$f":"IF(OFFSET(DE104_5CEX!$L$27,ROWS($L$27:L32)-1,COLUMNS($L$27:L32)-1)<>\"\",OFFSET(DE104_5CEX!$L$27,ROWS($L$27:L32)-1,COLUMNS($L$27:L32)-1),\"\")","v":""},{"$f":"IF(OFFSET(DE104_5CEX!$M$27,ROWS($M$27:M32)-1,COLUMNS($M$27:M32)-1)<>\"\",OFFSET(DE104_5CEX!$M$27,ROWS($M$27:M32)-1,COLUMNS($M$27:M32)-1),\"\")","v":""},{"$f":"IF(OFFSET(DE104_5CEX!$N$27,ROWS($N$27:N32)-1,COLUMNS($N$27:N32)-1)<>\"\",OFFSET(DE104_5CEX!$N$27,ROWS($N$27:N32)-1,COLUMNS($N$27:N32)-1),\"\")","v":""},{"$f":"IF(OFFSET(DE104_5CEX!$O$27,ROWS($O$27:O32)-1,COLUMNS($O$27:O32)-1)<>\"\",OFFSET(DE104_5CEX!$O$27,ROWS($O$27:O32)-1,COLUMNS($O$27:O32)-1),\"\")","v":""},{"$f":"IF(OFFSET(DE104_5CEX!$P$27,ROWS($P$27:P32)-1,COLUMNS($P$27:P32)-1)<>\"\",OFFSET(DE104_5CEX!$P$27,ROWS($P$27:P32)-1,COLUMNS($P$27:P32)-1),\"\")","v":""},{"$f":"IF(OFFSET(DE104_5CEX!$Q$27,ROWS($Q$27:Q32)-1,COLUMNS($Q$27:Q32)-1)<>\"\",OFFSET(DE104_5CEX!$Q$27,ROWS($Q$27:Q32)-1,COLUMNS($Q$27:Q32)-1),\"\")","v":""},{"$f":"IF(OFFSET(DE104_5CEX!$R$27,ROWS($R$27:R32)-1,COLUMNS($R$27:R32)-1)<>\"\",OFFSET(DE104_5CEX!$R$27,ROWS($R$27:R32)-1,COLUMNS($R$27:R32)-1),\"\")","v":""},{"$f":"IF(OFFSET(DE104_5CEX!$S$27,ROWS($S$27:S32)-1,COLUMNS($S$27:S32)-1)<>\"\",OFFSET(DE104_5CEX!$S$27,ROWS($S$27:S32)-1,COLUMNS($S$27:S32)-1),\"\")","v":""},{"$f":"IF(OFFSET(DE104_5CEX!$T$27,ROWS($T$27:T32)-1,COLUMNS($T$27:T32)-1)<>\"\",OFFSET(DE104_5CEX!$T$27,ROWS($T$27:T32)-1,COLUMNS($T$27:T32)-1),\"\")","v":""},{"$f":"IF(OFFSET(DE104_5CEX!$U$27,ROWS($U$27:U32)-1,COLUMNS($U$27:U32)-1)<>\"\",OFFSET(DE104_5CEX!$U$27,ROWS($U$27:U32)-1,COLUMNS($U$27:U32)-1),\"\")","v":""},{"$f":"IF(OFFSET(DE104_5CEX!$V$27,ROWS($V$27:V32)-1,COLUMNS($V$27:V32)-1)<>\"\",OFFSET(DE104_5CEX!$V$27,ROWS($V$27:V32)-1,COLUMNS($V$27:V32)-1),\"\")","v":""}]

{"sheet":"104_6","index":18,"n_rows":27,"n_cols":16,"rows_kept":27,"cut":false,"hidden":false,"merged":[[8,12,11,12],[8,13,11,14],[0,0,0,15],[1,0,1,15],[2,0,3,15],[4,0,4,15],[5,0,5,15],[6,10,11,10],[6,11,11,11],[6,12,7,14],[6,15,12,15],[8,0,12,1],[8,2,12,2],[8,3,11,3],[8,4,12,4],[6,9,11,9],[8,7,11,7],[8,5,11,5],[8,6,11,6],[6,0,7,1],[6,2,7,3],[6,4,7,5],[6,6,7,8],[8,8,11,8]]}
["104-6"]
["2017-10-17"]
["WICK DRAIN OR SAND DRAIN FIELDS"]
[]
["Possible Standards: DR-301 and DR-305, Detail 500-10, and Tabulation 104-5C."]
[" * Not a bid item."]
["Location",null,"Sand Drains",null,"Wick Drains",null,"Horizontal Strip Drains",null,null,"Granular Material for Blanket and Subdrain","Drain\nDR-301\nType 2","Porous\nBackfill*","Subdrain Outlets",null,null,"Remarks"]
[]
["Station to Station",null,"Number of Drains*","Total Length","Number of Drains*","Total Length","Longitudinal","Transverse","Total Length",null,null,null,"500-10","DR-305"]
[]
[]
[]
[null,null,null,"LF",null,"LF","LF","LF","LF","CY","LF","CY","NO.","TYPE","NO."]
[{"$f":"IF(OFFSET(DE104_6!$C$28,ROWS($C$28:C28)-1,COLUMNS($C$28:C28)-1)<>\"\",OFFSET(DE104_6!$C$28,ROWS($C$28:C28)-1,COLUMNS($C$28:C28)-1),\"\")","v":38000},{"$f":"IF(OFFSET(DE104_6!$D$28,ROWS($D$28:D28)-1,COLUMNS($D$28:D28)-1)<>\"\",OFFSET(DE104_6!$D$28,ROWS($D$28:D28)-1,COLUMNS($D$28:D28)-1),\"\")","v":38150},{"$f":"IF(OFFSET(DE104_6!$E$28,ROWS($E$28:E28)-1,COLUMNS($E$28:E28)-1)<>\"\",OFFSET(DE104_6!$E$28,ROWS($E$28:E28)-1,COLUMNS($E$28:E28)-1),\"\")","v":""},{"$f":"IF(OFFSET(DE104_6!$F$28,ROWS($F$28:F28)-1,COLUMNS($F$28:F28)-1)<>\"\",OFFSET(DE104_6!$F$28,ROWS($F$28:F28)-1,COLUMNS($F$28:F28)-1),\"\")","v":""},{"$f":"IF(OFFSET(DE104_6!$G$28,ROWS($G$28:G28)-1,COLUMNS($G$28:G28)-1)<>\"\",OFFSET(DE104_6!$G$28,ROWS($G$28:G28)-1,COLUMNS($G$28:G28)-1),\"\")","v":334},{"$f":"IF(OFFSET(DE104_6!$H$28,ROWS($H$28:H28)-1,COLUMNS($H$28:H28)-1)<>\"\",OFFSET(DE104_6!$H$28,ROWS($H$28:H28)-1,COLUMNS($H$28:H28)-1),\"\")","v":16533},{"$f":"IF(OFFSET(DE104_6!$I$28,ROWS($I$28:I28)-1,COLUMNS($I$28:I28)-1)<>\"\",OFFSET(DE104_6!$I$28,ROWS($I$28:I28)-1,COLUMNS($I$28:I28)-1),\"\")","v":1156},{"$f":"IF(OFFSET(DE104_6!$J$28,ROWS($J$28:J28)-1,COLUMNS($J$28:J28)-1)<>\"\",OFFSET(DE104_6!$J$28,ROWS($J$28:J28)-1,COLUMNS($J$28:J28)-1),\"\")","v":616},{"$f":"IF(OFFSET(DE104_6!$K$28,ROWS($K$28:K28)-1,COLUMNS($K$28:K28)-1)<>\"\",OFFSET(DE104_6!$K$28,ROWS($K$28:K28)-1,COLUMNS($K$28:K28)-1),\"\")","v":1772},{"$f":"IF(OFFSET(DE104_6!$L$28,ROWS($L$28:L28)-1,COLUMNS($L$28:L28)-1)<>\"\",OFFSET(DE104_6!$L$28,ROWS($L$28:L28)-1,COLUMNS($L$28:L28)-1),\"\")","v":""},{"$f":"IF(OFFSET(DE104_6!$M$28,ROWS($M$28:M28)-1,COLUMNS($M$28:M28)-1)<>\"\",OFFSET(DE104_6!$M$28,ROWS($M$28:M28)-1,COLUMNS($M$28:M28)-1),\"\")","v":""},{"$f":"IF(OFFSET(DE104_6!$N$28,ROWS($N$28:N28)-1,COLUMNS($N$28:N28)-1)<>\"\",OFFSET(DE104_6!$N$28,ROWS($N$28:N28)-1,COLUMNS($N$28:N28)-1),\"\")","v":""},{"$f":"IF(OFFSET(DE104_6!$O$28,ROWS($O$28:O28)-1,COLUMNS($O$28:O28)-1)<>\"\",OFFSET(DE104_6!$O$28,ROWS($O$28:O28)-1,COLUMNS($O$28:O28)-1),\"\")","v":""},{"$f":"IF(OFFSET(DE104_6!$P$28,ROWS($P$28:P28)-1,COLUMNS($P$28:P28)-1)<>\"\",OFFSET(DE104_6!$P$28,ROWS($P$28:P28)-1,COLUMNS($P$28:P28)-1),\"\")","v":""},{"$f":"IF(OFFSET(DE104_6!$Q$28,ROWS($Q$28:Q28)-1,COLUMNS($Q$28:Q28)-1)<>\"\",OFFSET(DE104_6!$Q$28,ROWS($Q$28:Q28)-1,COLUMNS($Q$28:Q28)-1),\"\")","v":""},{"$f":"IF(OFFSET(DE104_6!$R$28,ROWS($R$28:R28)-1,COLUMNS($R$28:R28)-1)<>\"\",OFFSET(DE104_6!$R$28,ROWS($R$28:R28)-1,COLUMNS($R$28:R28)-1),\"\")","v":"Layout \"1\" See Q.62 & Q.63"}]
[{"$f":"IF(OFFSET(DE104_6!$C$28,ROWS($C$28:C29)-1,COLUMNS($C$28:C29)-1)<>\"\",OFFSET(DE104_6!$C$28,ROWS($C$28:C29)-1,COLUMNS($C$28:C29)-1),\"\")","v":38000},{"$f":"IF(OFFSET(DE104_6!$D$28,ROWS($D$28:D29)-1,COLUMNS($D$28:D29)-1)<>\"\",OFFSET(DE104_6!$D$28,ROWS($D$28:D29)-1,COLUMNS($D$28:D29)-1),\"\")","v":38150},{"$f":"IF(OFFSET(DE104_6!$E$28,ROWS($E$28:E29)-1,COLUMNS($E$28:E29)-1)<>\"\",OFFSET(DE104_6!$E$28,ROWS($E$28:E29)-1,COLUMNS($E$28:E29)-1),\"\")","v":""},{"$f":"IF(OFFSET(DE104_6!$F$28,ROWS($F$28:F29)-1,COLUMNS($F$28:F29)-1)<>\"\",OFFSET(DE104_6!$F$28,ROWS($F$28:F29)-1,COLUMNS($F$28:F29)-1),\"\")","v":""},{"$f":"IF(OFFSET(DE104_6!$G$28,ROWS($G$28:G29)-1,COLUMNS($G$28:G29)-1)<>\"\",OFFSET(DE104_6!$G$28,ROWS($G$28:G29)-1,COLUMNS($G$28:G29)-1),\"\")","v":118},{"$f":"IF(OFFSET(DE104_6!$H$28,ROWS($H$28:H29)-1,COLUMNS($H$28:H29)-1)<>\"\",OFFSET(DE104_6!$H$28,ROWS($H$28:H29)-1,COLUMNS($H$28:H29)-1),\"\")","v":5959},{"$f":"IF(OFFSET(DE104_6!$I$28,ROWS($I$28:I29)-1,COLUMNS($I$28:I29)-1)<>\"\",OFFSET(DE104_6!$I$28,ROWS($I$28:I29)-1,COLUMNS($I$28:I29)-1),\"\")","v":543},{"$f":"IF(OFFSET(DE104_6!$J$28,ROWS($J$28:J29)-1,COLUMNS($J$28:J29)-1)<>\"\",OFFSET(DE104_6!$J$28,ROWS($J$28:J29)-1,COLUMNS($J$28:J29)-1),\"\")","v":642},{"$f":"IF(OFFSET(DE104_6!$K$28,ROWS($K$28:K29)-1,COLUMNS($K$28:K29)-1)<>\"\",OFFSET(DE104_6!$K$28,ROWS($K$28:K29)-1,COLUMNS($K$28:K29)-1),\"\")","v":1185},{"$f":"IF(OFFSET(DE104_6!$L$28,ROWS($L$28:L29)-1,COLUMNS($L$28:L29)-1)<>\"\",OFFSET(DE104_6!$L$28,ROWS($L$28:L29)-1,COLUMNS($L$28:L29)-1),\"\")","v":""},{"$f":"IF(OFFSET(DE104_6!$M$28,ROWS($M$28:M29)-1,COLUMNS($M$28:M29)-1)<>\"\",OFFSET(DE104_6!$M$28,ROWS($M$28:M29)-1,COLUMNS($M$28:M29)-1),\"\")","v":""},{"$f":"IF(OFFSET(DE104_6!$N$28,ROWS($N$28:N29)-1,COLUMNS($N$28:N29)-1)<>\"\",OFFSET(DE104_6!$N$28,ROWS($N$28:N29)-1,COLUMNS($N$28:N29)-1),\"\")","v":""},{"$f":"IF(OFFSET(DE104_6!$O$28,ROWS($O$28:O29)-1,COLUMNS($O$28:O29)-1)<>\"\",OFFSET(DE104_6!$O$28,ROWS($O$28:O29)-1,COLUMNS($O$28:O29)-1),\"\")","v":""},{"$f":"IF(OFFSET(DE104_6!$P$28,ROWS($P$28:P29)-1,COLUMNS($P$28:P29)-1)<>\"\",OFFSET(DE104_6!$P$28,ROWS($P$28:P29)-1,COLUMNS($P$28:P29)-1),\"\")","v":""},{"$f":"IF(OFFSET(DE104_6!$Q$28,ROWS($Q$28:Q29)-1,COLUMNS($Q$28:Q29)-1)<>\"\",OFFSET(DE104_6!$Q$28,ROWS($Q$28:Q29)-1,COLUMNS($Q$28:Q29)-1),\"\")","v":""},{"$f":"IF(OFFSET(DE104_6!$R$28,ROWS($R$28:R29)-1,COLUMNS($R$28:R29)-1)<>\"\",OFFSET(DE104_6!$R$28,ROWS($R$28:R29)-1,COLUMNS($R$28:R29)-1),\"\")","v":"Layout \"4\" See Q.62 & Q.63"}]
[{"$f":"IF(OFFSET(DE104_6!$C$28,ROWS($C$28:C30)-1,COLUMNS($C$28:C30)-1)<>\"\",OFFSET(DE104_6!$C$28,ROWS($C$28:C30)-1,COLUMNS($C$28:C30)-1),\"\")","v":38025},{"$f":"IF(OFFSET(DE104_6!$D$28,ROWS($D$28:D30)-1,COLUMNS($D$28:D30)-1)<>\"\",OFFSET(DE104_6!$D$28,ROWS($D$28:D30)-1,COLUMNS($D$28:D30)-1),\"\")","v":38325},{"$f":"IF(OFFSET(DE104_6!$E$28,ROWS($E$28:E30)-1,COLUMNS($E$28:E30)-1)<>\"\",OFFSET(DE104_6!$E$28,ROWS($E$28:E30)-1,COLUMNS($E$28:E30)-1),\"\")","v":""},{"$f":"IF(OFFSET(DE104_6!$F$28,ROWS($F$28:F30)-1,COLUMNS($F$28:F30)-1)<>\"\",OFFSET(DE104_6!$F$28,ROWS($F$28:F30)-1,COLUMNS($F$28:F30)-1),\"\")","v":""},{"$f":"IF(OFFSET(DE104_6!$G$28,ROWS($G$28:G30)-1,COLUMNS($G$28:G30)-1)<>\"\",OFFSET(DE104_6!$G$28,ROWS($G$28:G30)-1,COLUMNS($G$28:G30)-1),\"\")","v":1103},{"$f":"IF(OFFSET(DE104_6!$H$28,ROWS($H$28:H30)-1,COLUMNS($H$28:H30)-1)<>\"\",OFFSET(DE104_6!$H$28,ROWS($H$28:H30)-1,COLUMNS($H$28:H30)-1),\"\")","v":43568.5},{"$f":"IF(OFFSET(DE104_6!$I$28,ROWS($I$28:I30)-1,COLUMNS($I$28:I30)-1)<>\"\",OFFSET(DE104_6!$I$28,ROWS($I$28:I30)-1,COLUMNS($I$28:I30)-1),\"\")","v":3722},{"$f":"IF(OFFSET(DE104_6!$J$28,ROWS($J$28:J30)-1,COLUMNS($J$28:J30)-1)<>\"\",OFFSET(DE104_6!$J$28,ROWS($J$28:J30)-1,COLUMNS($J$28:J30)-1),\"\")","v":1850},{"$f":"IF(OFFSET(DE104_6!$K$28,ROWS($K$28:K30)-1,COLUMNS($K$28:K30)-1)<>\"\",OFFSET(DE104_6!$K$28,ROWS($K$28:K30)-1,COLUMNS($K$28:K30)-1),\"\")","v":5572},{"$f":"IF(OFFSET(DE104_6!$L$28,ROWS($L$28:L30)-1,COLUMNS($L$28:L30)-1)<>\"\",OFFSET(DE104_6!$L$28,ROWS($L$28:L30)-1,COLUMNS($L$28:L30)-1),\"\")","v":""},{"$f":"IF(OFFSET(DE104_6!$M$28,ROWS($M$28:M30)-1,COLUMNS($M$28:M30)-1)<>\"\",OFFSET(DE104_6!$M$28,ROWS($M$28:M30)-1,COLUMNS($M$28:M30)-1),\"\")","v":""},{"$f":"IF(OFFSET(DE104_6!$N$28,ROWS($N$28:N30)-1,COLUMNS($N$28:N30)-1)<>\"\",OFFSET(DE104_6!$N$28,ROWS($N$28:N30)-1,COLUMNS($N$28:N30)-1),\"\")","v":""},{"$f":"IF(OFFSET(DE104_6!$O$28,ROWS($O$28:O30)-1,COLUMNS($O$28:O30)-1)<>\"\",OFFSET(DE104_6!$O$28,ROWS($O$28:O30)-1,COLUMNS($O$28:O30)-1),\"\")","v":""},{"$f":"IF(OFFSET(DE104_6!$P$28,ROWS($P$28:P30)-1,COLUMNS($P$28:P30)-1)<>\"\",OFFSET(DE104_6!$P$28,ROWS($P$28:P30)-1,COLUMNS($P$28:P30)-1),\"\")","v":""},{"$f":"IF(OFFSET(DE104_6!$Q$28,ROWS($Q$28:Q30)-1,COLUMNS($Q$28:Q30)-1)<>\"\",OFFSET(DE104_6!$Q$28,ROWS($Q$28:Q30)-1,COLUMNS($Q$28:Q30)-1),\"\")","v":""},{"$f":"IF(OFFSET(DE104_6!$R$28,ROWS($R$28:R30)-1,COLUMNS($R$28:R30)-1)<>\"\",OFFSET(DE104_6!$R$28,ROWS($R$28:R30)-1,COLUMNS($R$28:R30)-1),\"\")","v":"Layout \"2\" See Q.62 & Q.63"}]
[{"$f":"IF(OFFSET(DE104_6!$C$28,ROWS($C$28:C31)-1,COLUMNS($C$28:C31)-1)<>\"\",OFFSET(DE104_6!$C$28,ROWS($C$28:C31)-1,COLUMNS($C$28:C31)-1),\"\")","v":38150},{"$f":"IF(OFFSET(DE104_6!$D$28,ROWS($D$28:D31)-1,COLUMNS($D$28:D31)-1)<>\"\",OFFSET(DE104_6!$D$28,ROWS($D$28:D31)-1,COLUMNS($D$28:D31)-1),\"\")","v":38325},{"$f":"IF(OFFSET(DE104_6!$E$28,ROWS($E$28:E31)-1,COLUMNS($E$28:E31)-1)<>\"\",OFFSET(DE104_6!$E$28,ROWS($E$28:E31)-1,COLUMNS($E$28:E31)-1),\"\")","v":""},{"$f":"IF(OFFSET(DE104_6!$F$28,ROWS($F$28:F31)-1,COLUMNS($F$28:F31)-1)<>\"\",OFFSET(DE104_6!$F$28,ROWS($F$28:F31)-1,COLUMNS($F$28:F31)-1),\"\")","v":""},{"$f":"IF(OFFSET(DE104_6!$G$28,ROWS($G$28:G31)-1,COLUMNS($G$28:G31)-1)<>\"\",OFFSET(DE104_6!$G$28,ROWS($G$28:G31)-1,COLUMNS($G$28:G31)-1),\"\")","v":209},{"$f":"IF(OFFSET(DE104_6!$H$28,ROWS($H$28:H31)-1,COLUMNS($H$28:H31)-1)<>\"\",OFFSET(DE104_6!$H$28,ROWS($H$28:H31)-1,COLUMNS($H$28:H31)-1),\"\")","v":8464.5},{"$f":"IF(OFFSET(DE104_6!$I$28,ROWS($I$28:I31)-1,COLUMNS($I$28:I31)-1)<>\"\",OFFSET(DE104_6!$I$28,ROWS($I$28:I31)-1,COLUMNS($I$28:I31)-1),\"\")","v":939},{"$f":"IF(OFFSET(DE104_6!$J$28,ROWS($J$28:J31)-1,COLUMNS($J$28:J31)-1)<>\"\",OFFSET(DE104_6!$J$28,ROWS($J$28:J31)-1,COLUMNS($J$28:J31)-1),\"\")","v":2053},{"$f":"IF(OFFSET(DE104_6!$K$28,ROWS($K$28:K31)-1,COLUMNS($K$28:K31)-1)<>\"\",OFFSET(DE104_6!$K$28,ROWS($K$28:K31)-1,COLUMNS($K$28:K31)-1),\"\")","v":2992},{"$f":"IF(OFFSET(DE104_6!$L$28,ROWS($L$28:L31)-1,COLUMNS($L$28:L31)-1)<>\"\",OFFSET(DE104_6!$L$28,ROWS($L$28:L31)-1,COLUMNS($L$28:L31)-1),\"\")","v":""},{"$f":"IF(OFFSET(DE104_6!$M$28,ROWS($M$28:M31)-1,COLUMNS($M$28:M31)-1)<>\"\",OFFSET(DE104_6!$M$28,ROWS($M$28:M31)-1,COLUMNS($M$28:M31)-1),\"\")","v":""},{"$f":"IF(OFFSET(DE104_6!$N$28,ROWS($N$28:N31)-1,COLUMNS($N$28:N31)-1)<>\"\",OFFSET(DE104_6!$N$28,ROWS($N$28:N31)-1,COLUMNS($N$28:N31)-1),\"\")","v":""},{"$f":"IF(OFFSET(DE104_6!$O$28,ROWS($O$28:O31)-1,COLUMNS($O$28:O31)-1)<>\"\",OFFSET(DE104_6!$O$28,ROWS($O$28:O31)-1,COLUMNS($O$28:O31)-1),\"\")","v":""},{"$f":"IF(OFFSET(DE104_6!$P$28,ROWS($P$28:P31)-1,COLUMNS($P$28:P31)-1)<>\"\",OFFSET(DE104_6!$P$28,ROWS($P$28:P31)-1,COLUMNS($P$28:P31)-1),\"\")","v":""},{"$f":"IF(OFFSET(DE104_6!$Q$28,ROWS($Q$28:Q31)-1,COLUMNS($Q$28:Q31)-1)<>\"\",OFFSET(DE104_6!$Q$28,ROWS($Q$28:Q31)-1,COLUMNS($Q$28:Q31)-1),\"\")","v":""},{"$f":"IF(OFFSET(DE104_6!$R$28,ROWS($R$28:R31)-1,COLUMNS($R$28:R31)-1)<>\"\",OFFSET(DE104_6!$R$28,ROWS($R$28:R31)-1,COLUMNS($R$28:R31)-1),\"\")","v":"Layout \"5\" See Q.62 & Q.63"}]
[{"$f":"IF(OFFSET(DE104_6!$C$28,ROWS($C$28:C32)-1,COLUMNS($C$28:C32)-1)<>\"\",OFFSET(DE104_6!$C$28,ROWS($C$28:C32)-1,COLUMNS($C$28:C32)-1),\"\")","v":38325},{"$f":"IF(OFFSET(DE104_6!$D$28,ROWS($D$28:D32)-1,COLUMNS($D$28:D32)-1)<>\"\",OFFSET(DE104_6!$D$28,ROWS($D$28:D32)-1,COLUMNS($D$28:D32)-1),\"\")","v":38400},{"$f":"IF(OFFSET(DE104_6!$E$28,ROWS($E$28:E32)-1,COLUMNS($E$28:E32)-1)<>\"\",OFFSET(DE104_6!$E$28,ROWS($E$28:E32)-1,COLUMNS($E$28:E32)-1),\"\")","v":""},{"$f":"IF(OFFSET(DE104_6!$F$28,ROWS($F$28:F32)-1,COLUMNS($F$28:F32)-1)<>\"\",OFFSET(DE104_6!$F$28,ROWS($F$28:F32)-1,COLUMNS($F$28:F32)-1),\"\")","v":""},{"$f":"IF(OFFSET(DE104_6!$G$28,ROWS($G$28:G32)-1,COLUMNS($G$28:G32)-1)<>\"\",OFFSET(DE104_6!$G$28,ROWS($G$28:G32)-1,COLUMNS($G$28:G32)-1),\"\")","v":257},{"$f":"IF(OFFSET(DE104_6!$H$28,ROWS($H$28:H32)-1,COLUMNS($H$28:H32)-1)<>\"\",OFFSET(DE104_6!$H$28,ROWS($H$28:H32)-1,COLUMNS($H$28:H32)-1),\"\")","v":10922.5},{"$f":"IF(OFFSET(DE104_6!$I$28,ROWS($I$28:I32)-1,COLUMNS($I$28:I32)-1)<>\"\",OFFSET(DE104_6!$I$28,ROWS($I$28:I32)-1,COLUMNS($I$28:I32)-1),\"\")","v":1125},{"$f":"IF(OFFSET(DE104_6!$J$28,ROWS($J$28:J32)-1,COLUMNS($J$28:J32)-1)<>\"\",OFFSET(DE104_6!$J$28,ROWS($J$28:J32)-1,COLUMNS($J$28:J32)-1),\"\")","v":469},{"$f":"IF(OFFSET(DE104_6!$K$28,ROWS($K$28:K32)-1,COLUMNS($K$28:K32)-1)<>\"\",OFFSET(DE104_6!$K$28,ROWS($K$28:K32)-1,COLUMNS($K$28:K32)-1),\"\")","v":1594},{"$f":"IF(OFFSET(DE104_6!$L$28,ROWS($L$28:L32)-1,COLUMNS($L$28:L32)-1)<>\"\",OFFSET(DE104_6!$L$28,ROWS($L$28:L32)-1,COLUMNS($L$28:L32)-1),\"\")","v":""},{"$f":"IF(OFFSET(DE104_6!$M$28,ROWS($M$28:M32)-1,COLUMNS($M$28:M32)-1)<>\"\",OFFSET(DE104_6!$M$28,ROWS($M$28:M32)-1,COLUMNS($M$28:M32)-1),\"\")","v":""},{"$f":"IF(OFFSET(DE104_6!$N$28,ROWS($N$28:N32)-1,COLUMNS($N$28:N32)-1)<>\"\",OFFSET(DE104_6!$N$28,ROWS($N$28:N32)-1,COLUMNS($N$28:N32)-1),\"\")","v":""},{"$f":"IF(OFFSET(DE104_6!$O$28,ROWS($O$28:O32)-1,COLUMNS($O$28:O32)-1)<>\"\",OFFSET(DE104_6!$O$28,ROWS($O$28:O32)-1,COLUMNS($O$28:O32)-1),\"\")","v":""},{"$f":"IF(OFFSET(DE104_6!$P$28,ROWS($P$28:P32)-1,COLUMNS($P$28:P32)-1)<>\"\",OFFSET(DE104_6!$P$28,ROWS($P$28:P32)-1,COLUMNS($P$28:P32)-1),\"\")","v":""},{"$f":"IF(OFFSET(DE104_6!$Q$28,ROWS($Q$28:Q32)-1,COLUMNS($Q$28:Q32)-1)<>\"\",OFFSET(DE104_6!$Q$28,ROWS($Q$28:Q32)-1,COLUMNS($Q$28:Q32)-1),\"\")","v":""},{"$f":"IF(OFFSET(DE104_6!$R$28,ROWS($R$28:R32)-1,COLUMNS($R$28:R32)-1)<>\"\",OFFSET(DE104_6!$R$28,ROWS($R$28:R32)-1,COLUMNS($R$28:R32)-1),\"\")","v":"Layout \"3\" See Q.62 & Q.63"}]
[{"$f":"IF(OFFSET(DE104_6!$C$28,ROWS($C$28:C33)-1,COLUMNS($C$28:C33)-1)<>\"\",OFFSET(DE104_6!$C$28,ROWS($C$28:C33)-1,COLUMNS($C$28:C33)-1),\"\")","v":""},{"$f":"IF(OFFSET(DE104_6!$D$28,ROWS($D$28:D33)-1,COLUMNS($D$28:D33)-1)<>\"\",OFFSET(DE104_6!$D$28,ROWS($D$28:D33)-1,COLUMNS($D$28:D33)-1),\"\")","v":""},{"$f":"IF(OFFSET(DE104_6!$E$28,ROWS($E$28:E33)-1,COLUMNS($E$28:E33)-1)<>\"\",OFFSET(DE104_6!$E$28,ROWS($E$28:E33)-1,COLUMNS($E$28:E33)-1),\"\")","v":""},{"$f":"IF(OFFSET(DE104_6!$F$28,ROWS($F$28:F33)-1,COLUMNS($F$28:F33)-1)<>\"\",OFFSET(DE104_6!$F$28,ROWS($F$28:F33)-1,COLUMNS($F$28:F33)-1),\"\")","v":""},{"$f":"IF(OFFSET(DE104_6!$G$28,ROWS($G$28:G33)-1,COLUMNS($G$28:G33)-1)<>\"\",OFFSET(DE104_6!$G$28,ROWS($G$28:G33)-1,COLUMNS($G$28:G33)-1),\"\")","v":""},{"$f":"IF(OFFSET(DE104_6!$H$28,ROWS($H$28:H33)-1,COLUMNS($H$28:H33)-1)<>\"\",OFFSET(DE104_6!$H$28,ROWS($H$28:H33)-1,COLUMNS($H$28:H33)-1),\"\")","v":""},{"$f":"IF(OFFSET(DE104_6!$I$28,ROWS($I$28:I33)-1,COLUMNS($I$28:I33)-1)<>\"\",OFFSET(DE104_6!$I$28,ROWS($I$28:I33)-1,COLUMNS($I$28:I33)-1),\"\")","v":""},{"$f":"IF(OFFSET(DE104_6!$J$28,ROWS($J$28:J33)-1,COLUMNS($J$28:J33)-1)<>\"\",OFFSET(DE104_6!$J$28,ROWS($J$28:J33)-1,COLUMNS($J$28:J33)-1),\"\")","v":""},{"$f":"IF(OFFSET(DE104_6!$K$28,ROWS($K$28:K33)-1,COLUMNS($K$28:K33)-1)<>\"\",OFFSET(DE104_6!$K$28,ROWS($K$28:K33)-1,COLUMNS($K$28:K33)-1),\"\")","v":""},{"$f":"IF(OFFSET(DE104_6!$L$28,ROWS($L$28:L33)-1,COLUMNS($L$28:L33)-1)<>\"\",OFFSET(DE104_6!$L$28,ROWS($L$28:L33)-1,COLUMNS($L$28:L33)-1),\"\")","v":""},{"$f":"IF(OFFSET(DE104_6!$M$28,ROWS($M$28:M33)-1,COLUMNS($M$28:M33)-1)<>\"\",OFFSET(DE104_6!$M$28,ROWS($M$28:M33)-1,COLUMNS($M$28:M33)-1),\"\")","v":""},{"$f":"IF(OFFSET(DE104_6!$N$28,ROWS($N$28:N33)-1,COLUMNS($N$28:N33)-1)<>\"\",OFFSET(DE104_6!$N$28,ROWS($N$28:N33)-1,COLUMNS($N$28:N33)-1),\"\")","v":""},{"$f":"IF(OFFSET(DE104_6!$O$28,ROWS($O$28:O33)-1,COLUMNS($O$28:O33)-1)<>\"\",OFFSET(DE104_6!$O$28,ROWS($O$28:O33)-1,COLUMNS($O$28:O33)-1),\"\")","v":""},{"$f":"IF(OFFSET(DE104_6!$P$28,ROWS($P$28:P33)-1,COLUMNS($P$28:P33)-1)<>\"\",OFFSET(DE104_6!$P$28,ROWS($P$28:P33)-1,COLUMNS($P$28:P33)-1),\"\")","v":""},{"$f":"IF(OFFSET(DE104_6!$Q$28,ROWS($Q$28:Q33)-1,COLUMNS($Q$28:Q33)-1)<>\"\",OFFSET(DE104_6!$Q$28,ROWS($Q$28:Q33)-1,COLUMNS($Q$28:Q33)-1),\"\")","v":""},{"$f":"IF(OFFSET(DE104_6!$R$28,ROWS($R$28:R33)-1,COLUMNS($R$28:R33)-1)<>\"\",OFFSET(DE104_6!$R$28,ROWS($R$28:R33)-1,COLUMNS($R$28:R33)-1),\"\")","v":""}]
[{"$f":"IF(OFFSET(DE104_6!$C$28,ROWS($C$28:C34)-1,COLUMNS($C$28:C34)-1)<>\"\",OFFSET(DE104_6!$C$28,ROWS($C$28:C34)-1,COLUMNS($C$28:C34)-1),\"\")","v":"Totals"},{"$f":"IF(OFFSET(DE104_6!$D$28,ROWS($D$28:D34)-1,COLUMNS($D$28:D34)-1)<>\"\",OFFSET(DE104_6!$D$28,ROWS($D$28:D34)-1,COLUMNS($D$28:D34)-1),\"\")","v":""},{"$f":"IF(OFFSET(DE104_6!$E$28,ROWS($E$28:E34)-1,COLUMNS($E$28:E34)-1)<>\"\",OFFSET(DE104_6!$E$28,ROWS($E$28:E34)-1,COLUMNS($E$28:E34)-1),\"\")","v":""},{"$f":"IF(OFFSET(DE104_6!$F$28,ROWS($F$28:F34)-1,COLUMNS($F$28:F34)-1)<>\"\",OFFSET(DE104_6!$F$28,ROWS($F$28:F34)-1,COLUMNS($F$28:F34)-1),\"\")","v":""},{"$f":"IF(OFFSET(DE104_6!$G$28,ROWS($G$28:G34)-1,COLUMNS($G$28:G34)-1)<>\"\",OFFSET(DE104_6!$G$28,ROWS($G$28:G34)-1,COLUMNS($G$28:G34)-1),\"\")","v":2021},{"$f":"IF(OFFSET(DE104_6!$H$28,ROWS($H$28:H34)-1,COLUMNS($H$28:H34)-1)<>\"\",OFFSET(DE104_6!$H$28,ROWS($H$28:H34)-1,COLUMNS($H$28:H34)-1),\"\")","v":85447.5},{"$f":"IF(OFFSET(DE104_6!$I$28,ROWS($I$28:I34)-1,COLUMNS($I$28:I34)-1)<>\"\",OFFSET(DE104_6!$I$28,ROWS($I$28:I34)-1,COLUMNS($I$28:I34)-1),\"\")","v":""},{"$f":"IF(OFFSET(DE104_6!$J$28,ROWS($J$28:J34)-1,COLUMNS($J$28:J34)-1)<>\"\",OFFSET(DE104_6!$J$28,ROWS($J$28:J34)-1,COLUMNS($J$28:J34)-1),\"\")","v":""},{"$f":"IF(OFFSET(DE104_6!$K$28,ROWS($K$28:K34)-1,COLUMNS($K$28:K34)-1)<>\"\",OFFSET(DE104_6!$K$28,ROWS($K$28:K34)-1,COLUMNS($K$28:K34)-1),\"\")","v":13115},{"$f":"IF(OFFSET(DE104_6!$L$28,ROWS($L$28:L34)-1,COLUMNS($L$28:L34)-1)<>\"\",OFFSET(DE104_6!$L$28,ROWS($L$28:L34)-1,COLUMNS($L$28:L34)-1),\"\")","v":""},{"$f":"IF(OFFSET(DE104_6!$M$28,ROWS($M$28:M34)-1,COLUMNS($M$28:M34)-1)<>\"\",OFFSET(DE104_6!$M$28,ROWS($M$28:M34)-1,COLUMNS($M$28:M34)-1),\"\")","v":""},{"$f":"IF(OFFSET(DE104_6!$N$28,ROWS($N$28:N34)-1,COLUMNS($N$28:N34)-1)<>\"\",OFFSET(DE104_6!$N$28,ROWS($N$28:N34)-1,COLUMNS($N$28:N34)-1),\"\")","v":""},{"$f":"IF(OFFSET(DE104_6!$O$28,ROWS($O$28:O34)-1,COLUMNS($O$28:O34)-1)<>\"\",OFFSET(DE104_6!$O$28,ROWS($O$28:O34)-1,COLUMNS($O$28:O34)-1),\"\")","v":""},{"$f":"IF(OFFSET(DE104_6!$P$28,ROWS($P$28:P34)-1,COLUMNS($P$28:P34)-1)<>\"\",OFFSET(DE104_6!$P$28,ROWS($P$28:P34)-1,COLUMNS($P$28:P34)-1),\"\")","v":""},{"$f":"IF(OFFSET(DE104_6!$Q$28,ROWS($Q$28:Q34)-1,COLUMNS($Q$28:Q34)-1)<>\"\",OFFSET(DE104_6!$Q$28,ROWS($Q$28:Q34)-1,COLUMNS($Q$28:Q34)-1),\"\")","v":""},{"$f":"IF(OFFSET(DE104_6!$R$28,ROWS($R$28:R34)-1,COLUMNS($R$28:R34)-1)<>\"\",OFFSET(DE104_6!$R$28,ROWS($R$28:R34)-1,COLUMNS($R$28:R34)-1),\"\")","v":""}]
[{"$f":"IF(OFFSET(DE104_6!$C$28,ROWS($C$28:C35)-1,COLUMNS($C$28:C35)-1)<>\"\",OFFSET(DE104_6!$C$28,ROWS($C$28:C35)-1,COLUMNS($C$28:C35)-1),\"\")","v":""},{"$f":"IF(OFFSET(DE104_6!$D$28,ROWS($D$28:D35)-1,COLUMNS($D$28:D35)-1)<>\"\",OFFSET(DE104_6!$D$28,ROWS($D$28:D35)-1,COLUMNS($D$28:D35)-1),\"\")","v":""},{"$f":"IF(OFFSET(DE104_6!$E$28,ROWS($E$28:E35)-1,COLUMNS($E$28:E35)-1)<>\"\",OFFSET(DE104_6!$E$28,ROWS($E$28:E35)-1,COLUMNS($E$28:E35)-1),\"\")","v":""},{"$f":"IF(OFFSET(DE104_6!$F$28,ROWS($F$28:F35)-1,COLUMNS($F$28:F35)-1)<>\"\",OFFSET(DE104_6!$F$28,ROWS($F$28:F35)-1,COLUMNS($F$28:F35)-1),\"\")","v":""},{"$f":"IF(OFFSET(DE104_6!$G$28,ROWS($G$28:G35)-1,COLUMNS($G$28:G35)-1)<>\"\",OFFSET(DE104_6!$G$28,ROWS($G$28:G35)-1,COLUMNS($G$28:G35)-1),\"\")","v":""},{"$f":"IF(OFFSET(DE104_6!$H$28,ROWS($H$28:H35)-1,COLUMNS($H$28:H35)-1)<>\"\",OFFSET(DE104_6!$H$28,ROWS($H$28:H35)-1,COLUMNS($H$28:H35)-1),\"\")","v":""},{"$f":"IF(OFFSET(DE104_6!$I$28,ROWS($I$28:I35)-1,COLUMNS($I$28:I35)-1)<>\"\",OFFSET(DE104_6!$I$28,ROWS($I$28:I35)-1,COLUMNS($I$28:I35)-1),\"\")","v":""},{"$f":"IF(OFFSET(DE104_6!$J$28,ROWS($J$28:J35)-1,COLUMNS($J$28:J35)-1)<>\"\",OFFSET(DE104_6!$J$28,ROWS($J$28:J35)-1,COLUMNS($J$28:J35)-1),\"\")","v":""},{"$f":"IF(OFFSET(DE104_6!$K$28,ROWS($K$28:K35)-1,COLUMNS($K$28:K35)-1)<>\"\",OFFSET(DE104_6!$K$28,ROWS($K$28:K35)-1,COLUMNS($K$28:K35)-1),\"\")","v":""},{"$f":"IF(OFFSET(DE104_6!$L$28,ROWS($L$28:L35)-1,COLUMNS($L$28:L35)-1)<>\"\",OFFSET(DE104_6!$L$28,ROWS($L$28:L35)-1,COLUMNS($L$28:L35)-1),\"\")","v":""},{"$f":"IF(OFFSET(DE104_6!$M$28,ROWS($M$28:M35)-1,COLUMNS($M$28:M35)-1)<>\"\",OFFSET(DE104_6!$M$28,ROWS($M$28:M35)-1,COLUMNS($M$28:M35)-1),\"\")","v":""},{"$f":"IF(OFFSET(DE104_6!$N$28,ROWS($N$28:N35)-1,COLUMNS($N$28:N35)-1)<>\"\",OFFSET(DE104_6!$N$28,ROWS($N$28:N35)-1,COLUMNS($N$28:N35)-1),\"\")","v":""},{"$f":"IF(OFFSET(DE104_6!$O$28,ROWS($O$28:O35)-1,COLUMNS($O$28:O35)-1)<>\"\",OFFSET(DE104_6!$O$28,ROWS($O$28:O35)-1,COLUMNS($O$28:O35)-1),\"\")","v":""},{"$f":"IF(OFFSET(DE104_6!$P$28,ROWS($P$28:P35)-1,COLUMNS($P$28:P35)-1)<>\"\",OFFSET(DE104_6!$P$28,ROWS($P$28:P35)-1,COLUMNS($P$28:P35)-1),\"\")","v":""},{"$f":"IF(OFFSET(DE104_6!$Q$28,ROWS($Q$28:Q35)-1,COLUMNS($Q$28:Q35)-1)<>\"\",OFFSET(DE104_6!$Q$28,ROWS($Q$28:Q35)-1,COLUMNS($Q$28:Q35)-1),\"\")","v":""},{"$f":"IF(OFFSET(DE104_6!$R$28,ROWS($R$28:R35)-1,COLUMNS($R$28:R35)-1)<>\"\",OFFSET(DE104_6!$R$28,ROWS($R$28:R35)-1,COLUMNS($R$28:R35)-1),\"\")","v":""}]
[{"$f":"IF(OFFSET(DE104_6!$C$28,ROWS($C$28:C36)-1,COLUMNS($C$28:C36)-1)<>\"\",OFFSET(DE104_6!$C$28,ROWS($C$28:C36)-1,COLUMNS($C$28:C36)-1),\"\")","v":""},{"$f":"IF(OFFSET(DE104_6!$D$28,ROWS($D$28:D36)-1,COLUMNS($D$28:D36)-1)<>\"\",OFFSET(DE104_6!$D$28,ROWS($D$28:D36)-1,COLUMNS($D$28:D36)-1),\"\")","v":""},{"$f":"IF(OFFSET(DE104_6!$E$28,ROWS($E$28:E36)-1,COLUMNS($E$28:E36)-1)<>\"\",OFFSET(DE104_6!$E$28,ROWS($E$28:E36)-1,COLUMNS($E$28:E36)-1),\"\")","v":""},{"$f":"IF(OFFSET(DE104_6!$F$28,ROWS($F$28:F36)-1,COLUMNS($F$28:F36)-1)<>\"\",OFFSET(DE104_6!$F$28,ROWS($F$28:F36)-1,COLUMNS($F$28:F36)-1),\"\")","v":""},{"$f":"IF(OFFSET(DE104_6!$G$28,ROWS($G$28:G36)-1,COLUMNS($G$28:G36)-1)<>\"\",OFFSET(DE104_6!$G$28,ROWS($G$28:G36)-1,COLUMNS($G$28:G36)-1),\"\")","v":""},{"$f":"IF(OFFSET(DE104_6!$H$28,ROWS($H$28:H36)-1,COLUMNS($H$28:H36)-1)<>\"\",OFFSET(DE104_6!$H$28,ROWS($H$28:H36)-1,COLUMNS($H$28:H36)-1),\"\")","v":""},{"$f":"IF(OFFSET(DE104_6!$I$28,ROWS($I$28:I36)-1,COLUMNS($I$28:I36)-1)<>\"\",OFFSET(DE104_6!$I$28,ROWS($I$28:I36)-1,COLUMNS($I$28:I36)-1),\"\")","v":""},{"$f":"IF(OFFSET(DE104_6!$J$28,ROWS($J$28:J36)-1,COLUMNS($J$28:J36)-1)<>\"\",OFFSET(DE104_6!$J$28,ROWS($J$28:J36)-1,COLUMNS($J$28:J36)-1),\"\")","v":""},{"$f":"IF(OFFSET(DE104_6!$K$28,ROWS($K$28:K36)-1,COLUMNS($K$28:K36)-1)<>\"\",OFFSET(DE104_6!$K$28,ROWS($K$28:K36)-1,COLUMNS($K$28:K36)-1),\"\")","v":""},{"$f":"IF(OFFSET(DE104_6!$L$28,ROWS($L$28:L36)-1,COLUMNS($L$28:L36)-1)<>\"\",OFFSET(DE104_6!$L$28,ROWS($L$28:L36)-1,COLUMNS($L$28:L36)-1),\"\")","v":""},{"$f":"IF(OFFSET(DE104_6!$M$28,ROWS($M$28:M36)-1,COLUMNS($M$28:M36)-1)<>\"\",OFFSET(DE104_6!$M$28,ROWS($M$28:M36)-1,COLUMNS($M$28:M36)-1),\"\")","v":""},{"$f":"IF(OFFSET(DE104_6!$N$28,ROWS($N$28:N36)-1,COLUMNS($N$28:N36)-1)<>\"\",OFFSET(DE104_6!$N$28,ROWS($N$28:N36)-1,COLUMNS($N$28:N36)-1),\"\")","v":""},{"$f":"IF(OFFSET(DE104_6!$O$28,ROWS($O$28:O36)-1,COLUMNS($O$28:O36)-1)<>\"\",OFFSET(DE104_6!$O$28,ROWS($O$28:O36)-1,COLUMNS($O$28:O36)-1),\"\")","v":""},{"$f":"IF(OFFSET(DE104_6!$P$28,ROWS($P$28:P36)-1,COLUMNS($P$28:P36)-1)<>\"\",OFFSET(DE104_6!$P$28,ROWS($P$28:P36)-1,COLUMNS($P$28:P36)-1),\"\")","v":""},{"$f":"IF(OFFSET(DE104_6!$Q$28,ROWS($Q$28:Q36)-1,COLUMNS($Q$28:Q36)-1)<>\"\",OFFSET(DE104_6!$Q$28,ROWS($Q$28:Q36)-1,COLUMNS($Q$28:Q36)-1),\"\")","v":""},{"$f":"IF(OFFSET(DE104_6!$R$28,ROWS($R$28:R36)-1,COLUMNS($R$28:R36)-1)<>\"\",OFFSET(DE104_6!$R$28,ROWS($R$28:R36)-1,COLUMNS($R$28:R36)-1),\"\")","v":""}]
[{"$f":"IF(OFFSET(DE104_6!$C$28,ROWS($C$28:C37)-1,COLUMNS($C$28:C37)-1)<>\"\",OFFSET(DE104_6!$C$28,ROWS($C$28:C37)-1,COLUMNS($C$28:C37)-1),\"\")","v":""},{"$f":"IF(OFFSET(DE104_6!$D$28,ROWS($D$28:D37)-1,COLUMNS($D$28:D37)-1)<>\"\",OFFSET(DE104_6!$D$28,ROWS($D$28:D37)-1,COLUMNS($D$28:D37)-1),\"\")","v":""},{"$f":"IF(OFFSET(DE104_6!$E$28,ROWS($E$28:E37)-1,COLUMNS($E$28:E37)-1)<>\"\",OFFSET(DE104_6!$E$28,ROWS($E$28:E37)-1,COLUMNS($E$28:E37)-1),\"\")","v":""},{"$f":"IF(OFFSET(DE104_6!$F$28,ROWS($F$28:F37)-1,COLUMNS($F$28:F37)-1)<>\"\",OFFSET(DE104_6!$F$28,ROWS($F$28:F37)-1,COLUMNS($F$28:F37)-1),\"\")","v":""},{"$f":"IF(OFFSET(DE104_6!$G$28,ROWS($G$28:G37)-1,COLUMNS($G$28:G37)-1)<>\"\",OFFSET(DE104_6!$G$28,ROWS($G$28:G37)-1,COLUMNS($G$28:G37)-1),\"\")","v":""},{"$f":"IF(OFFSET(DE104_6!$H$28,ROWS($H$28:H37)-1,COLUMNS($H$28:H37)-1)<>\"\",OFFSET(DE104_6!$H$28,ROWS($H$28:H37)-1,COLUMNS($H$28:H37)-1),\"\")","v":""},{"$f":"IF(OFFSET(DE104_6!$I$28,ROWS($I$28:I37)-1,COLUMNS($I$28:I37)-1)<>\"\",OFFSET(DE104_6!$I$28,ROWS($I$28:I37)-1,COLUMNS($I$28:I37)-1),\"\")","v":""},{"$f":"IF(OFFSET(DE104_6!$J$28,ROWS($J$28:J37)-1,COLUMNS($J$28:J37)-1)<>\"\",OFFSET(DE104_6!$J$28,ROWS($J$28:J37)-1,COLUMNS($J$28:J37)-1),\"\")","v":""},{"$f":"IF(OFFSET(DE104_6!$K$28,ROWS($K$28:K37)-1,COLUMNS($K$28:K37)-1)<>\"\",OFFSET(DE104_6!$K$28,ROWS($K$28:K37)-1,COLUMNS($K$28:K37)-1),\"\")","v":""},{"$f":"IF(OFFSET(DE104_6!$L$28,ROWS($L$28:L37)-1,COLUMNS($L$28:L37)-1)<>\"\",OFFSET(DE104_6!$L$28,ROWS($L$28:L37)-1,COLUMNS($L$28:L37)-1),\"\")","v":""},{"$f":"IF(OFFSET(DE104_6!$M$28,ROWS($M$28:M37)-1,COLUMNS($M$28:M37)-1)<>\"\",OFFSET(DE104_6!$M$28,ROWS($M$28:M37)-1,COLUMNS($M$28:M37)-1),\"\")","v":""},{"$f":"IF(OFFSET(DE104_6!$N$28,ROWS($N$28:N37)-1,COLUMNS($N$28:N37)-1)<>\"\",OFFSET(DE104_6!$N$28,ROWS($N$28:N37)-1,COLUMNS($N$28:N37)-1),\"\")","v":""},{"$f":"IF(OFFSET(DE104_6!$O$28,ROWS($O$28:O37)-1,COLUMNS($O$28:O37)-1)<>\"\",OFFSET(DE104_6!$O$28,ROWS($O$28:O37)-1,COLUMNS($O$28:O37)-1),\"\")","v":""},{"$f":"IF(OFFSET(DE104_6!$P$28,ROWS($P$28:P37)-1,COLUMNS($P$28:P37)-1)<>\"\",OFFSET(DE104_6!$P$28,ROWS($P$28:P37)-1,COLUMNS($P$28:P37)-1),\"\")","v":""},{"$f":"IF(OFFSET(DE104_6!$Q$28,ROWS($Q$28:Q37)-1,COLUMNS($Q$28:Q37)-1)<>\"\",OFFSET(DE104_6!$Q$28,ROWS($Q$28:Q37)-1,COLUMNS($Q$28:Q37)-1),\"\")","v":""},{"$f":"IF(OFFSET(DE104_6!$R$28,ROWS($R$28:R37)-1,COLUMNS($R$28:R37)-1)<>\"\",OFFSET(DE104_6!$R$28,ROWS($R$28:R37)-1,COLUMNS($R$28:R37)-1),\"\")","v":""}]
[{"$f":"IF(OFFSET(DE104_6!$C$28,ROWS($C$28:C38)-1,COLUMNS($C$28:C38)-1)<>\"\",OFFSET(DE104_6!$C$28,ROWS($C$28:C38)-1,COLUMNS($C$28:C38)-1),\"\")","v":""},{"$f":"IF(OFFSET(DE104_6!$D$28,ROWS($D$28:D38)-1,COLUMNS($D$28:D38)-1)<>\"\",OFFSET(DE104_6!$D$28,ROWS($D$28:D38)-1,COLUMNS($D$28:D38)-1),\"\")","v":""},{"$f":"IF(OFFSET(DE104_6!$E$28,ROWS($E$28:E38)-1,COLUMNS($E$28:E38)-1)<>\"\",OFFSET(DE104_6!$E$28,ROWS($E$28:E38)-1,COLUMNS($E$28:E38)-1),\"\")","v":""},{"$f":"IF(OFFSET(DE104_6!$F$28,ROWS($F$28:F38)-1,COLUMNS($F$28:F38)-1)<>\"\",OFFSET(DE104_6!$F$28,ROWS($F$28:F38)-1,COLUMNS($F$28:F38)-1),\"\")","v":""},{"$f":"IF(OFFSET(DE104_6!$G$28,ROWS($G$28:G38)-1,COLUMNS($G$28:G38)-1)<>\"\",OFFSET(DE104_6!$G$28,ROWS($G$28:G38)-1,COLUMNS($G$28:G38)-1),\"\")","v":""},{"$f":"IF(OFFSET(DE104_6!$H$28,ROWS($H$28:H38)-1,COLUMNS($H$28:H38)-1)<>\"\",OFFSET(DE104_6!$H$28,ROWS($H$28:H38)-1,COLUMNS($H$28:H38)-1),\"\")","v":""},{"$f":"IF(OFFSET(DE104_6!$I$28,ROWS($I$28:I38)-1,COLUMNS($I$28:I38)-1)<>\"\",OFFSET(DE104_6!$I$28,ROWS($I$28:I38)-1,COLUMNS($I$28:I38)-1),\"\")","v":""},{"$f":"IF(OFFSET(DE104_6!$J$28,ROWS($J$28:J38)-1,COLUMNS($J$28:J38)-1)<>\"\",OFFSET(DE104_6!$J$28,ROWS($J$28:J38)-1,COLUMNS($J$28:J38)-1),\"\")","v":""},{"$f":"IF(OFFSET(DE104_6!$K$28,ROWS($K$28:K38)-1,COLUMNS($K$28:K38)-1)<>\"\",OFFSET(DE104_6!$K$28,ROWS($K$28:K38)-1,COLUMNS($K$28:K38)-1),\"\")","v":""},{"$f":"IF(OFFSET(DE104_6!$L$28,ROWS($L$28:L38)-1,COLUMNS($L$28:L38)-1)<>\"\",OFFSET(DE104_6!$L$28,ROWS($L$28:L38)-1,COLUMNS($L$28:L38)-1),\"\")","v":""},{"$f":"IF(OFFSET(DE104_6!$M$28,ROWS($M$28:M38)-1,COLUMNS($M$28:M38)-1)<>\"\",OFFSET(DE104_6!$M$28,ROWS($M$28:M38)-1,COLUMNS($M$28:M38)-1),\"\")","v":""},{"$f":"IF(OFFSET(DE104_6!$N$28,ROWS($N$28:N38)-1,COLUMNS($N$28:N38)-1)<>\"\",OFFSET(DE104_6!$N$28,ROWS($N$28:N38)-1,COLUMNS($N$28:N38)-1),\"\")","v":""},{"$f":"IF(OFFSET(DE104_6!$O$28,ROWS($O$28:O38)-1,COLUMNS($O$28:O38)-1)<>\"\",OFFSET(DE104_6!$O$28,ROWS($O$28:O38)-1,COLUMNS($O$28:O38)-1),\"\")","v":""},{"$f":"IF(OFFSET(DE104_6!$P$28,ROWS($P$28:P38)-1,COLUMNS($P$28:P38)-1)<>\"\",OFFSET(DE104_6!$P$28,ROWS($P$28:P38)-1,COLUMNS($P$28:P38)-1),\"\")","v":""},{"$f":"IF(OFFSET(DE104_6!$Q$28,ROWS($Q$28:Q38)-1,COLUMNS($Q$28:Q38)-1)<>\"\",OFFSET(DE104_6!$Q$28,ROWS($Q$28:Q38)-1,COLUMNS($Q$28:Q38)-1),\"\")","v":""},{"$f":"IF(OFFSET(DE104_6!$R$28,ROWS($R$28:R38)-1,COLUMNS($R$28:R38)-1)<>\"\",OFFSET(DE104_6!$R$28,ROWS($R$28:R38)-1,COLUMNS($R$28:R38)-1),\"\")","v":""}]
[{"$f":"IF(OFFSET(DE104_6!$C$28,ROWS($C$28:C39)-1,COLUMNS($C$28:C39)-1)<>\"\",OFFSET(DE104_6!$C$28,ROWS($C$28:C39)-1,COLUMNS($C$28:C39)-1),\"\")","v":""},{"$f":"IF(OFFSET(DE104_6!$D$28,ROWS($D$28:D39)-1,COLUMNS($D$28:D39)-1)<>\"\",OFFSET(DE104_6!$D$28,ROWS($D$28:D39)-1,COLUMNS($D$28:D39)-1),\"\")","v":""},{"$f":"IF(OFFSET(DE104_6!$E$28,ROWS($E$28:E39)-1,COLUMNS($E$28:E39)-1)<>\"\",OFFSET(DE104_6!$E$28,ROWS($E$28:E39)-1,COLUMNS($E$28:E39)-1),\"\")","v":""},{"$f":"IF(OFFSET(DE104_6!$F$28,ROWS($F$28:F39)-1,COLUMNS($F$28:F39)-1)<>\"\",OFFSET(DE104_6!$F$28,ROWS($F$28:F39)-1,COLUMNS($F$28:F39)-1),\"\")","v":""},{"$f":"IF(OFFSET(DE104_6!$G$28,ROWS($G$28:G39)-1,COLUMNS($G$28:G39)-1)<>\"\",OFFSET(DE104_6!$G$28,ROWS($G$28:G39)-1,COLUMNS($G$28:G39)-1),\"\")","v":""},{"$f":"IF(OFFSET(DE104_6!$H$28,ROWS($H$28:H39)-1,COLUMNS($H$28:H39)-1)<>\"\",OFFSET(DE104_6!$H$28,ROWS($H$28:H39)-1,COLUMNS($H$28:H39)-1),\"\")","v":""},{"$f":"IF(OFFSET(DE104_6!$I$28,ROWS($I$28:I39)-1,COLUMNS($I$28:I39)-1)<>\"\",OFFSET(DE104_6!$I$28,ROWS($I$28:I39)-1,COLUMNS($I$28:I39)-1),\"\")","v":""},{"$f":"IF(OFFSET(DE104_6!$J$28,ROWS($J$28:J39)-1,COLUMNS($J$28:J39)-1)<>\"\",OFFSET(DE104_6!$J$28,ROWS($J$28:J39)-1,COLUMNS($J$28:J39)-1),\"\")","v":""},{"$f":"IF(OFFSET(DE104_6!$K$28,ROWS($K$28:K39)-1,COLUMNS($K$28:K39)-1)<>\"\",OFFSET(DE104_6!$K$28,ROWS($K$28:K39)-1,COLUMNS($K$28:K39)-1),\"\")","v":""},{"$f":"IF(OFFSET(DE104_6!$L$28,ROWS($L$28:L39)-1,COLUMNS($L$28:L39)-1)<>\"\",OFFSET(DE104_6!$L$28,ROWS($L$28:L39)-1,COLUMNS($L$28:L39)-1),\"\")","v":""},{"$f":"IF(OFFSET(DE104_6!$M$28,ROWS($M$28:M39)-1,COLUMNS($M$28:M39)-1)<>\"\",OFFSET(DE104_6!$M$28,ROWS($M$28:M39)-1,COLUMNS($M$28:M39)-1),\"\")","v":""},{"$f":"IF(OFFSET(DE104_6!$N$28,ROWS($N$28:N39)-1,COLUMNS($N$28:N39)-1)<>\"\",OFFSET(DE104_6!$N$28,ROWS($N$28:N39)-1,COLUMNS($N$28:N39)-1),\"\")","v":""},{"$f":"IF(OFFSET(DE104_6!$O$28,ROWS($O$28:O39)-1,COLUMNS($O$28:O39)-1)<>\"\",OFFSET(DE104_6!$O$28,ROWS($O$28:O39)-1,COLUMNS($O$28:O39)-1),\"\")","v":""},{"$f":"IF(OFFSET(DE104_6!$P$28,ROWS($P$28:P39)-1,COLUMNS($P$28:P39)-1)<>\"\",OFFSET(DE104_6!$P$28,ROWS($P$28:P39)-1,COLUMNS($P$28:P39)-1),\"\")","v":""},{"$f":"IF(OFFSET(DE104_6!$Q$28,ROWS($Q$28:Q39)-1,COLUMNS($Q$28:Q39)-1)<>\"\",OFFSET(DE104_6!$Q$28,ROWS($Q$28:Q39)-1,COLUMNS($Q$28:Q39)-1),\"\")","v":""},{"$f":"IF(OFFSET(DE104_6!$R$28,ROWS($R$28:R39)-1,COLUMNS($R$28:R39)-1)<>\"\",OFFSET(DE104_6!$R$28,ROWS($R$28:R39)-1,COLUMNS($R$28:R39)-1),\"\")","v":""}]
[{"$f":"IF(OFFSET(DE104_6!$C$28,ROWS($C$28:C40)-1,COLUMNS($C$28:C40)-1)<>\"\",OFFSET(DE104_6!$C$28,ROWS($C$28:C40)-1,COLUMNS($C$28:C40)-1),\"\")","v":""},{"$f":"IF(OFFSET(DE104_6!$D$28,ROWS($D$28:D40)-1,COLUMNS($D$28:D40)-1)<>\"\",OFFSET(DE104_6!$D$28,ROWS($D$28:D40)-1,COLUMNS($D$28:D40)-1),\"\")","v":""},{"$f":"IF(OFFSET(DE104_6!$E$28,ROWS($E$28:E40)-1,COLUMNS($E$28:E40)-1)<>\"\",OFFSET(DE104_6!$E$28,ROWS($E$28:E40)-1,COLUMNS($E$28:E40)-1),\"\")","v":""},{"$f":"IF(OFFSET(DE104_6!$F$28,ROWS($F$28:F40)-1,COLUMNS($F$28:F40)-1)<>\"\",OFFSET(DE104_6!$F$28,ROWS($F$28:F40)-1,COLUMNS($F$28:F40)-1),\"\")","v":""},{"$f":"IF(OFFSET(DE104_6!$G$28,ROWS($G$28:G40)-1,COLUMNS($G$28:G40)-1)<>\"\",OFFSET(DE104_6!$G$28,ROWS($G$28:G40)-1,COLUMNS($G$28:G40)-1),\"\")","v":""},{"$f":"IF(OFFSET(DE104_6!$H$28,ROWS($H$28:H40)-1,COLUMNS($H$28:H40)-1)<>\"\",OFFSET(DE104_6!$H$28,ROWS($H$28:H40)-1,COLUMNS($H$28:H40)-1),\"\")","v":""},{"$f":"IF(OFFSET(DE104_6!$I$28,ROWS($I$28:I40)-1,COLUMNS($I$28:I40)-1)<>\"\",OFFSET(DE104_6!$I$28,ROWS($I$28:I40)-1,COLUMNS($I$28:I40)-1),\"\")","v":""},{"$f":"IF(OFFSET(DE104_6!$J$28,ROWS($J$28:J40)-1,COLUMNS($J$28:J40)-1)<>\"\",OFFSET(DE104_6!$J$28,ROWS($J$28:J40)-1,COLUMNS($J$28:J40)-1),\"\")","v":""},{"$f":"IF(OFFSET(DE104_6!$K$28,ROWS($K$28:K40)-1,COLUMNS($K$28:K40)-1)<>\"\",OFFSET(DE104_6!$K$28,ROWS($K$28:K40)-1,COLUMNS($K$28:K40)-1),\"\")","v":""},{"$f":"IF(OFFSET(DE104_6!$L$28,ROWS($L$28:L40)-1,COLUMNS($L$28:L40)-1)<>\"\",OFFSET(DE104_6!$L$28,ROWS($L$28:L40)-1,COLUMNS($L$28:L40)-1),\"\")","v":""},{"$f":"IF(OFFSET(DE104_6!$M$28,ROWS($M$28:M40)-1,COLUMNS($M$28:M40)-1)<>\"\",OFFSET(DE104_6!$M$28,ROWS($M$28:M40)-1,COLUMNS($M$28:M40)-1),\"\")","v":""},{"$f":"IF(OFFSET(DE104_6!$N$28,ROWS($N$28:N40)-1,COLUMNS($N$28:N40)-1)<>\"\",OFFSET(DE104_6!$N$28,ROWS($N$28:N40)-1,COLUMNS($N$28:N40)-1),\"\")","v":""},{"$f":"IF(OFFSET(DE104_6!$O$28,ROWS($O$28:O40)-1,COLUMNS($O$28:O40)-1)<>\"\",OFFSET(DE104_6!$O$28,ROWS($O$28:O40)-1,COLUMNS($O$28:O40)-1),\"\")","v":""},{"$f":"IF(OFFSET(DE104_6!$P$28,ROWS($P$28:P40)-1,COLUMNS($P$28:P40)-1)<>\"\",OFFSET(DE104_6!$P$28,ROWS($P$28:P40)-1,COLUMNS($P$28:P40)-1),\"\")","v":""},{"$f":"IF(OFFSET(DE104_6!$Q$28,ROWS($Q$28:Q40)-1,COLUMNS($Q$28:Q40)-1)<>\"\",OFFSET(DE104_6!$Q$28,ROWS($Q$28:Q40)-1,COLUMNS($Q$28:Q40)-1),\"\")","v":""},{"$f":"IF(OFFSET(DE104_6!$R$28,ROWS($R$28:R40)-1,COLUMNS($R$28:R40)-1)<>\"\",OFFSET(DE104_6!$R$28,ROWS($R$28:R40)-1,COLUMNS($R$28:R40)-1),\"\")","v":""}]
[{"$f":"IF(OFFSET(DE104_6!$C$28,ROWS($C$28:C41)-1,COLUMNS($C$28:C41)-1)<>\"\",OFFSET(DE104_6!$C$28,ROWS($C$28:C41)-1,COLUMNS($C$28:C41)-1),\"\")","v":""},{"$f":"IF(OFFSET(DE104_6!$D$28,ROWS($D$28:D41)-1,COLUMNS($D$28:D41)-1)<>\"\",OFFSET(DE104_6!$D$28,ROWS($D$28:D41)-1,COLUMNS($D$28:D41)-1),\"\")","v":""},{"$f":"IF(OFFSET(DE104_6!$E$28,ROWS($E$28:E41)-1,COLUMNS($E$28:E41)-1)<>\"\",OFFSET(DE104_6!$E$28,ROWS($E$28:E41)-1,COLUMNS($E$28:E41)-1),\"\")","v":""},{"$f":"IF(OFFSET(DE104_6!$F$28,ROWS($F$28:F41)-1,COLUMNS($F$28:F41)-1)<>\"\",OFFSET(DE104_6!$F$28,ROWS($F$28:F41)-1,COLUMNS($F$28:F41)-1),\"\")","v":""},{"$f":"IF(OFFSET(DE104_6!$G$28,ROWS($G$28:G41)-1,COLUMNS($G$28:G41)-1)<>\"\",OFFSET(DE104_6!$G$28,ROWS($G$28:G41)-1,COLUMNS($G$28:G41)-1),\"\")","v":""},{"$f":"IF(OFFSET(DE104_6!$H$28,ROWS($H$28:H41)-1,COLUMNS($H$28:H41)-1)<>\"\",OFFSET(DE104_6!$H$28,ROWS($H$28:H41)-1,COLUMNS($H$28:H41)-1),\"\")","v":""},{"$f":"IF(OFFSET(DE104_6!$I$28,ROWS($I$28:I41)-1,COLUMNS($I$28:I41)-1)<>\"\",OFFSET(DE104_6!$I$28,ROWS($I$28:I41)-1,COLUMNS($I$28:I41)-1),\"\")","v":""},{"$f":"IF(OFFSET(DE104_6!$J$28,ROWS($J$28:J41)-1,COLUMNS($J$28:J41)-1)<>\"\",OFFSET(DE104_6!$J$28,ROWS($J$28:J41)-1,COLUMNS($J$28:J41)-1),\"\")","v":""},{"$f":"IF(OFFSET(DE104_6!$K$28,ROWS($K$28:K41)-1,COLUMNS($K$28:K41)-1)<>\"\",OFFSET(DE104_6!$K$28,ROWS($K$28:K41)-1,COLUMNS($K$28:K41)-1),\"\")","v":""},{"$f":"IF(OFFSET(DE104_6!$L$28,ROWS($L$28:L41)-1,COLUMNS($L$28:L41)-1)<>\"\",OFFSET(DE104_6!$L$28,ROWS($L$28:L41)-1,COLUMNS($L$28:L41)-1),\"\")","v":""},{"$f":"IF(OFFSET(DE104_6!$M$28,ROWS($M$28:M41)-1,COLUMNS($M$28:M41)-1)<>\"\",OFFSET(DE104_6!$M$28,ROWS($M$28:M41)-1,COLUMNS($M$28:M41)-1),\"\")","v":""},{"$f":"IF(OFFSET(DE104_6!$N$28,ROWS($N$28:N41)-1,COLUMNS($N$28:N41)-1)<>\"\",OFFSET(DE104_6!$N$28,ROWS($N$28:N41)-1,COLUMNS($N$28:N41)-1),\"\")","v":""},{"$f":"IF(OFFSET(DE104_6!$O$28,ROWS($O$28:O41)-1,COLUMNS($O$28:O41)-1)<>\"\",OFFSET(DE104_6!$O$28,ROWS($O$28:O41)-1,COLUMNS($O$28:O41)-1),\"\")","v":""},{"$f":"IF(OFFSET(DE104_6!$P$28,ROWS($P$28:P41)-1,COLUMNS($P$28:P41)-1)<>\"\",OFFSET(DE104_6!$P$28,ROWS($P$28:P41)-1,COLUMNS($P$28:P41)-1),\"\")","v":""},{"$f":"IF(OFFSET(DE104_6!$Q$28,ROWS($Q$28:Q41)-1,COLUMNS($Q$28:Q41)-1)<>\"\",OFFSET(DE104_6!$Q$28,ROWS($Q$28:Q41)-1,COLUMNS($Q$28:Q41)-1),\"\")","v":""},{"$f":"IF(OFFSET(DE104_6!$R$28,ROWS($R$28:R41)-1,COLUMNS($R$28:R41)-1)<>\"\",OFFSET(DE104_6!$R$28,ROWS($R$28:R41)-1,COLUMNS($R$28:R41)-1),\"\")","v":""}]

{"sheet":"104_9","index":19,"n_rows":146,"n_cols":18,"rows_kept":146,"cut":false,"hidden":false,"merged":[[111,0,111,5],[112,0,112,5],[113,0,113,5],[107,0,107,5],[108,0,108,5],[109,0,109,5],[110,0,110,5],[106,0,106,5],[6,0,6,5],[6,6,6,12],[6,13,6,14],[6,15,10,15],[90,0,90,17],[91,0,91,17],[94,0,94,17],[95,0,95,17],[92,0,93,17],[6,17,11,17],[7,0,11,0],[7,1,11,1],[7,2,11,3],[96,0,96,5],[96,6,96,12],[6,16,10,16],[9,12,10,12],[9,13,11,13],[9,14,11,14],[7,4,11,4],[7,6,8,7],[7,8,8,9],[7,10,8,12],[7,13,8,14],[8,5,10,5],[9,6,10,6],[9,7,10,7],[9,8,10,8],[9,9,10,9],[9,10,11,10],[9,11,10,11],[0,0,0,17],[1,0,1,17],[2,0,3,17],[4,0,4,17],[5,0,5,17],[96,13,96,14],[96,15,100,15],[96,16,100,16],[99,11,100,11],[99,12,100,12],[99,13,101,13],[96,17,101,17],[97,0,101,0],[97,1,101,1],[99,14,101,14],[97,2,101,3],[97,4,101,4],[97,6,98,7],[97,8,98,9],[97,10,98,12],[97,13,98,14],[98,5,100,5],[99,6,100,6],[99,7,100,7],[99,8,100,8],[99,9,100,9],[99,10,101,10]]}
["104-9"]
["2017-10-17"]
["LONGITUDINAL SUBDRAIN SHOULDER AND BACKSLOPE"]
[]
["Refer to Soils Sheets"]
["  * Not a bid item. Bridge berm quantities assume a trench depth of 24 inches."]
["Location",null,null,null,null,null,"Longitudinal Subdrain  (DR-303)",null,null,null,null,null,null,"Subdrain Outlet",null,"Porous*\nBackfill","Class \"A\"*\nCrushed\nStone","Remarks"]
["Line\nNo.","Road or Lane Identification","Station to Station",null,"Side","Depth","Shoulder",null,"Backslope",null,"Bridge Berm (EW-203 or EW-204)",null,null,"DR-303, DR-305 or DR-306"]
[null,null,null,null,null,0]
[null,null,null,null,null,null,"Size","Length","Size","Length","Standard Road Plan and Type","Size","Length","Station","Standard Road Plan and Type"]
[]
[null,null,null,null,null,"IN","IN","FT","IN","FT",null,"IN","FT",null,null,"CY","CY"]
[{"$f":"IF(OFFSET(DE104_9!$C$26,ROWS($C$26:C26)-1,COLUMNS($C$26:C26)-1)<>\"\",OFFSET(DE104_9!$C$26,ROWS($C$26:C26)-1,COLUMNS($C$26:C26)-1),\"\")","v":1},{"$f":"IF(OFFSET(DE104_9!$D$26,ROWS($D$26:D26)-1,COLUMNS($D$26:D26)-1)<>\"\",OFFSET(DE104_9!$D$26,ROWS($D$26:D26)-1,COLUMNS($D$26:D26)-1),\"\")","v":"WBL"},{"$f":"IF(OFFSET(DE104_9!$E$26,ROWS($E$26:E26)-1,COLUMNS($E$26:E26)-1)<>\"\",OFFSET(DE104_9!$E$26,ROWS($E$26:E26)-1,COLUMNS($E$26:E26)-1),\"\")","v":12225},{"$f":"IF(OFFSET(DE104_9!$F$26,ROWS($F$26:F26)-1,COLUMNS($F$26:F26)-1)<>\"\",OFFSET(DE104_9!$F$26,ROWS($F$26:F26)-1,COLUMNS($F$26:F26)-1),\"\")","v":13750},{"$f":"IF(OFFSET(DE104_9!$G$26,ROWS($G$26:G26)-1,COLUMNS($G$26:G26)-1)<>\"\",OFFSET(DE104_9!$G$26,ROWS($G$26:G26)-1,COLUMNS($G$26:G26)-1),\"\")","v":"LT"},{"$f":"IF(OFFSET(DE104_9!$H$26,ROWS($H$26:H26)-1,COLUMNS($H$26:H26)-1)<>\"\",OFFSET(DE104_9!$H$26,ROWS($H$26:H26)-1,COLUMNS($H$26:H26)-1),\"\")","v":66},{"$f":"IF(OFFSET(DE104_9!$I$26,ROWS($I$26:I26)-1,COLUMNS($I$26:I26)-1)<>\"\",OFFSET(DE104_9!$I$26,ROWS($I$26:I26)-1,COLUMNS($I$26:I26)-1),\"\")","v":""},{"$f":"IF(OFFSET(DE104_9!$J$26,ROWS($J$26:J26)-1,COLUMNS($J$26:J26)-1)<>\"\",OFFSET(DE104_9!$J$26,ROWS($J$26:J26)-1,COLUMNS($J$26:J26)-1),\"\")","v":""},{"$f":"IF(OFFSET(DE104_9!$K$26,ROWS($K$26:K26)-1,COLUMNS($K$26:K26)-1)<>\"\",OFFSET(DE104_9!$K$26,ROWS($K$26:K26)-1,COLUMNS($K$26:K26)-1),\"\")","v":4},{"$f":"IF(OFFSET(DE104_9!$L$26,ROWS($L$26:L26)-1,COLUMNS($L$26:L26)-1)<>\"\",OFFSET(DE104_9!$L$26,ROWS($L$26:L26)-1,COLUMNS($L$26:L26)-1),\"\")","v":1565},{"$f":"IF(OFFSET(DE104_9!$M$26,ROWS($M$26:M26)-1,COLUMNS($M$26:M26)-1)<>\"\",OFFSET(DE104_9!$M$26,ROWS($M$26:M26)-1,COLUMNS($M$26:M26)-1),\"\")","v":""},{"$f":"IF(OFFSET(DE104_9!$N$26,ROWS($N$26:N26)-1,COLUMNS($N$26:N26)-1)<>\"\",OFFSET(DE104_9!$N$26,ROWS($N$26:N26)-1,COLUMNS($N$26:N26)-1),\"\")","v":""},{"$f":"IF(OFFSET(DE104_9!$O$26,ROWS($O$26:O26)-1,COLUMNS($O$26:O26)-1)<>\"\",OFFSET(DE104_9!$O$26,ROWS($O$26:O26)-1,COLUMNS($O$26:O26)-1),\"\")","v":""},{"$f":"IF(OFFSET(DE104_9!$P$26,ROWS($P$26:P26)-1,COLUMNS($P$26:P26)-1)<>\"\",OFFSET(DE104_9!$P$26,ROWS($P$26:P26)-1,COLUMNS($P$26:P26)-1),\"\")","v":12225},{"$f":"IF(OFFSET(DE104_9!$Q$26,ROWS($Q$26:Q26)-1,COLUMNS($Q$26:Q26)-1)<>\"\",OFFSET(DE104_9!$Q$26,ROWS($Q$26:Q26)-1,COLUMNS($Q$26:Q26)-1),\"\")","v":"DR-306"},{"$f":"IF(OFFSET(DE104_9!$R$26,ROWS($R$26:R26)-1,COLUMNS($R$26:R26)-1)<>\"\",OFFSET(DE104_9!$R$26,ROWS($R$26:R26)-1,COLUMNS($R$26:R26)-1),\"\")","v":193.2},{"$f":"IF(OFFSET(DE104_9!$S$26,ROWS($S$26:S26)-1,COLUMNS($S$26:S26)-1)<>\"\",OFFSET(DE104_9!$S$26,ROWS($S$26:S26)-1,COLUMNS($S$26:S26)-1),\"\")","v":""},{"$f":"IF(OFFSET(DE104_9!$T$26,ROWS($T$26:T26)-1,COLUMNS($T$26:T26)-1)<>\"\",OFFSET(DE104_9!$T$26,ROWS($T$26:T26)-1,COLUMNS($T$26:T26)-1),\"\")","v":""}]
[{"$f":"IF(OFFSET(DE104_9!$C$26,ROWS($C$26:C27)-1,COLUMNS($C$26:C27)-1)<>\"\",OFFSET(DE104_9!$C$26,ROWS($C$26:C27)-1,COLUMNS($C$26:C27)-1),\"\")","v":""},{"$f":"IF(OFFSET(DE104_9!$D$26,ROWS($D$26:D27)-1,COLUMNS($D$26:D27)-1)<>\"\",OFFSET(DE104_9!$D$26,ROWS($D$26:D27)-1,COLUMNS($D$26:D27)-1),\"\")","v":""},{"$f":"IF(OFFSET(DE104_9!$E$26,ROWS($E$26:E27)-1,COLUMNS($E$26:E27)-1)<>\"\",OFFSET(DE104_9!$E$26,ROWS($E$26:E27)-1,COLUMNS($E$26:E27)-1),\"\")","v":""},{"$f":"IF(OFFSET(DE104_9!$F$26,ROWS($F$26:F27)-1,COLUMNS($F$26:F27)-1)<>\"\",OFFSET(DE104_9!$F$26,ROWS($F$26:F27)-1,COLUMNS($F$26:F27)-1),\"\")","v":""},{"$f":"IF(OFFSET(DE104_9!$G$26,ROWS($G$26:G27)-1,COLUMNS($G$26:G27)-1)<>\"\",OFFSET(DE104_9!$G$26,ROWS($G$26:G27)-1,COLUMNS($G$26:G27)-1),\"\")","v":""},{"$f":"IF(OFFSET(DE104_9!$H$26,ROWS($H$26:H27)-1,COLUMNS($H$26:H27)-1)<>\"\",OFFSET(DE104_9!$H$26,ROWS($H$26:H27)-1,COLUMNS($H$26:H27)-1),\"\")","v":" "},{"$f":"IF(OFFSET(DE104_9!$I$26,ROWS($I$26:I27)-1,COLUMNS($I$26:I27)-1)<>\"\",OFFSET(DE104_9!$I$26,ROWS($I$26:I27)-1,COLUMNS($I$26:I27)-1),\"\")","v":""},{"$f":"IF(OFFSET(DE104_9!$J$26,ROWS($J$26:J27)-1,COLUMNS($J$26:J27)-1)<>\"\",OFFSET(DE104_9!$J$26,ROWS($J$26:J27)-1,COLUMNS($J$26:J27)-1),\"\")","v":""},{"$f":"IF(OFFSET(DE104_9!$K$26,ROWS($K$26:K27)-1,COLUMNS($K$26:K27)-1)<>\"\",OFFSET(DE104_9!$K$26,ROWS($K$26:K27)-1,COLUMNS($K$26:K27)-1),\"\")","v":" "},{"$f":"IF(OFFSET(DE104_9!$L$26,ROWS($L$26:L27)-1,COLUMNS($L$26:L27)-1)<>\"\",OFFSET(DE104_9!$L$26,ROWS($L$26:L27)-1,COLUMNS($L$26:L27)-1),\"\")","v":" "},{"$f":"IF(OFFSET(DE104_9!$M$26,ROWS($M$26:M27)-1,COLUMNS($M$26:M27)-1)<>\"\",OFFSET(DE104_9!$M$26,ROWS($M$26:M27)-1,COLUMNS($M$26:M27)-1),\"\")","v":""},{"$f":"IF(OFFSET(DE104_9!$N$26,ROWS($N$26:N27)-1,COLUMNS($N$26:N27)-1)<>\"\",OFFSET(DE104_9!$N$26,ROWS($N$26:N27)-1,COLUMNS($N$26:N27)-1),\"\")","v":""},{"$f":"IF(OFFSET(DE104_9!$O$26,ROWS($O$26:O27)-1,COLUMNS($O$26:O27)-1)<>\"\",OFFSET(DE104_9!$O$26,ROWS($O$26:O27)-1,COLUMNS($O$26:O27)-1),\"\")","v":""},{"$f":"IF(OFFSET(DE104_9!$P$26,ROWS($P$26:P27)-1,COLUMNS($P$26:P27)-1)<>\"\",OFFSET(DE104_9!$P$26,ROWS($P$26:P27)-1,COLUMNS($P$26:P27)-1),\"\")","v":13250},{"$f":"IF(OFFSET(DE104_9!$Q$26,ROWS($Q$26:Q27)-1,COLUMNS($Q$26:Q27)-1)<>\"\",OFFSET(DE104_9!$Q$26,ROWS($Q$26:Q27)-1,COLUMNS($Q$26:Q27)-1),\"\")","v":"DR-306"},{"$f":"IF(OFFSET(DE104_9!$R$26,ROWS($R$26:R27)-1,COLUMNS($R$26:R27)-1)<>\"\",OFFSET(DE104_9!$R$26,ROWS($R$26:R27)-1,COLUMNS($R$26:R27)-1),\"\")","v":""},{"$f":"IF(OFFSET(DE104_9!$S$26,ROWS($S$26:S27)-1,COLUMNS($S$26:S27)-1)<>\"\",OFFSET(DE104_9!$S$26,ROWS($S$26:S27)-1,COLUMNS($S$26:S27)-1),\"\")","v":""},{"$f":"IF(OFFSET(DE104_9!$T$26,ROWS($T$26:T27)-1,COLUMNS($T$26:T27)-1)<>\"\",OFFSET(DE104_9!$T$26,ROWS($T$26:T27)-1,COLUMNS($T$26:T27)-1),\"\")","v":""}]
[{"$f":"IF(OFFSET(DE104_9!$C$26,ROWS($C$26:C28)-1,COLUMNS($C$26:C28)-1)<>\"\",OFFSET(DE104_9!$C$26,ROWS($C$26:C28)-1,COLUMNS($C$26:C28)-1),\"\")","v":""},{"$f":"IF(OFFSET(DE104_9!$D$26,ROWS($D$26:D28)-1,COLUMNS($D$26:D28)-1)<>\"\",OFFSET(DE104_9!$D$26,ROWS($D$26:D28)-1,COLUMNS($D$26:D28)-1),\"\")","v":""},{"$f":"IF(OFFSET(DE104_9!$E$26,ROWS($E$26:E28)-1,COLUMNS($E$26:E28)-1)<>\"\",OFFSET(DE104_9!$E$26,ROWS($E$26:E28)-1,COLUMNS($E$26:E28)-1),\"\")","v":""},{"$f":"IF(OFFSET(DE104_9!$F$26,ROWS($F$26:F28)-1,COLUMNS($F$26:F28)-1)<>\"\",OFFSET(DE104_9!$F$26,ROWS($F$26:F28)-1,COLUMNS($F$26:F28)-1),\"\")","v":""},{"$f":"IF(OFFSET(DE104_9!$G$26,ROWS($G$26:G28)-1,COLUMNS($G$26:G28)-1)<>\"\",OFFSET(DE104_9!$G$26,ROWS($G$26:G28)-1,COLUMNS($G$26:G28)-1),\"\")","v":""},{"$f":"IF(OFFSET(DE104_9!$H$26,ROWS($H$26:H28)-1,COLUMNS($H$26:H28)-1)<>\"\",OFFSET(DE104_9!$H$26,ROWS($H$26:H28)-1,COLUMNS($H$26:H28)-1),\"\")","v":""},{"$f":"IF(OFFSET(DE104_9!$I$26,ROWS($I$26:I28)-1,COLUMNS($I$26:I28)-1)<>\"\",OFFSET(DE104_9!$I$26,ROWS($I$26:I28)-1,COLUMNS($I$26:I28)-1),\"\")","v":""},{"$f":"IF(OFFSET(DE104_9!$J$26,ROWS($J$26:J28)-1,COLUMNS($J$26:J28)-1)<>\"\",OFFSET(DE104_9!$J$26,ROWS($J$26:J28)-1,COLUMNS($J$26:J28)-1),\"\")","v":""},{"$f":"IF(OFFSET(DE104_9!$K$26,ROWS($K$26:K28)-1,COLUMNS($K$26:K28)-1)<>\"\",OFFSET(DE104_9!$K$26,ROWS($K$26:K28)-1,COLUMNS($K$26:K28)-1),\"\")","v":""},{"$f":"IF(OFFSET(DE104_9!$L$26,ROWS($L$26:L28)-1,COLUMNS($L$26:L28)-1)<>\"\",OFFSET(DE104_9!$L$26,ROWS($L$26:L28)-1,COLUMNS($L$26:L28)-1),\"\")","v":""},{"$f":"IF(OFFSET(DE104_9!$M$26,ROWS($M$26:M28)-1,COLUMNS($M$26:M28)-1)<>\"\",OFFSET(DE104_9!$M$26,ROWS($M$26:M28)-1,COLUMNS($M$26:M28)-1),\"\")","v":""},{"$f":"IF(OFFSET(DE104_9!$N$26,ROWS($N$26:N28)-1,COLUMNS($N$26:N28)-1)<>\"\",OFFSET(DE104_9!$N$26,ROWS($N$26:N28)-1,COLUMNS($N$26:N28)-1),\"\")","v":""},{"$f":"IF(OFFSET(DE104_9!$O$26,ROWS($O$26:O28)-1,COLUMNS($O$26:O28)-1)<>\"\",OFFSET(DE104_9!$O$26,ROWS($O$26:O28)-1,COLUMNS($O$26:O28)-1),\"\")","v":""},{"$f":"IF(OFFSET(DE104_9!$P$26,ROWS($P$26:P28)-1,COLUMNS($P$26:P28)-1)<>\"\",OFFSET(DE104_9!$P$26,ROWS($P$26:P28)-1,COLUMNS($P$26:P28)-1),\"\")","v":13750},{"$f":"IF(OFFSET(DE104_9!$Q$26,ROWS($Q$26:Q28)-1,COLUMNS($Q$26:Q28)-1)<>\"\",OFFSET(DE104_9!$Q$26,ROWS($Q$26:Q28)-1,COLUMNS($Q$26:Q28)-1),\"\")","v":"DR-306"},{"$f":"IF(OFFSET(DE104_9!$R$26,ROWS($R$26:R28)-1,COLUMNS($R$26:R28)-1)<>\"\",OFFSET(DE104_9!$R$26,ROWS($R$26:R28)-1,COLUMNS($R$26:R28)-1),\"\")","v":""},{"$f":"IF(OFFSET(DE104_9!$S$26,ROWS($S$26:S28)-1,COLUMNS($S$26:S28)-1)<>\"\",OFFSET(DE104_9!$S$26,ROWS($S$26:S28)-1,COLUMNS($S$26:S28)-1),\"\")","v":""},{"$f":"IF(OFFSET(DE104_9!$T$26,ROWS($T$26:T28)-1,COLUMNS($T$26:T28)-1)<>\"\",OFFSET(DE104_9!$T$26,ROWS($T$26:T28)-1,COLUMNS($T$26:T28)-1),\"\")","v":""}]
[{"$f":"IF(OFFSET(DE104_9!$C$26,ROWS($C$26:C29)-1,COLUMNS($C$26:C29)-1)<>\"\",OFFSET(DE104_9!$C$26,ROWS($C$26:C29)-1,COLUMNS($C$26:C29)-1),\"\")","v":2},{"$f":"IF(OFFSET(DE104_9!$D$26,ROWS($D$26:D29)-1,COLUMNS($D$26:D29)-1)<>\"\",OFFSET(DE104_9!$D$26,ROWS($D$26:D29)-1,COLUMNS($D$26:D29)-1),\"\")","v":"WBL"},{"$f":"IF(OFFSET(DE104_9!$E$26,ROWS($E$26:E29)-1,COLUMNS($E$26:E29)-1)<>\"\",OFFSET(DE104_9!$E$26,ROWS($E$26:E29)-1,COLUMNS($E$26:E29)-1),\"\")","v":14600},{"$f":"IF(OFFSET(DE104_9!$F$26,ROWS($F$26:F29)-1,COLUMNS($F$26:F29)-1)<>\"\",OFFSET(DE104_9!$F$26,ROWS($F$26:F29)-1,COLUMNS($F$26:F29)-1),\"\")","v":15150},{"$f":"IF(OFFSET(DE104_9!$G$26,ROWS($G$26:G29)-1,COLUMNS($G$26:G29)-1)<>\"\",OFFSET(DE104_9!$G$26,ROWS($G$26:G29)-1,COLUMNS($G$26:G29)-1),\"\")","v":"LT"},{"$f":"IF(OFFSET(DE104_9!$H$26,ROWS($H$26:H29)-1,COLUMNS($H$26:H29)-1)<>\"\",OFFSET(DE104_9!$H$26,ROWS($H$26:H29)-1,COLUMNS($H$26:H29)-1),\"\")","v":66},{"$f":"IF(OFFSET(DE104_9!$I$26,ROWS($I$26:I29)-1,COLUMNS($I$26:I29)-1)<>\"\",OFFSET(DE104_9!$I$26,ROWS($I$26:I29)-1,COLUMNS($I$26:I29)-1),\"\")","v":""},{"$f":"IF(OFFSET(DE104_9!$J$26,ROWS($J$26:J29)-1,COLUMNS($J$26:J29)-1)<>\"\",OFFSET(DE104_9!$J$26,ROWS($J$26:J29)-1,COLUMNS($J$26:J29)-1),\"\")","v":""},{"$f":"IF(OFFSET(DE104_9!$K$26,ROWS($K$26:K29)-1,COLUMNS($K$26:K29)-1)<>\"\",OFFSET(DE104_9!$K$26,ROWS($K$26:K29)-1,COLUMNS($K$26:K29)-1),\"\")","v":4},{"$f":"IF(OFFSET(DE104_9!$L$26,ROWS($L$26:L29)-1,COLUMNS($L$26:L29)-1)<>\"\",OFFSET(DE104_9!$L$26,ROWS($L$26:L29)-1,COLUMNS($L$26:L29)-1),\"\")","v":590},{"$f":"IF(OFFSET(DE104_9!$M$26,ROWS($M$26:M29)-1,COLUMNS($M$26:M29)-1)<>\"\",OFFSET(DE104_9!$M$26,ROWS($M$26:M29)-1,COLUMNS($M$26:M29)-1),\"\")","v":""},{"$f":"IF(OFFSET(DE104_9!$N$26,ROWS($N$26:N29)-1,COLUMNS($N$26:N29)-1)<>\"\",OFFSET(DE104_9!$N$26,ROWS($N$26:N29)-1,COLUMNS($N$26:N29)-1),\"\")","v":""},{"$f":"IF(OFFSET(DE104_9!$O$26,ROWS($O$26:O29)-1,COLUMNS($O$26:O29)-1)<>\"\",OFFSET(DE104_9!$O$26,ROWS($O$26:O29)-1,COLUMNS($O$26:O29)-1),\"\")","v":""},{"$f":"IF(OFFSET(DE104_9!$P$26,ROWS($P$26:P29)-1,COLUMNS($P$26:P29)-1)<>\"\",OFFSET(DE104_9!$P$26,ROWS($P$26:P29)-1,COLUMNS($P$26:P29)-1),\"\")","v":14600},{"$f":"IF(OFFSET(DE104_9!$Q$26,ROWS($Q$26:Q29)-1,COLUMNS($Q$26:Q29)-1)<>\"\",OFFSET(DE104_9!$Q$26,ROWS($Q$26:Q29)-1,COLUMNS($Q$26:Q29)-1),\"\")","v":"DR-306"},{"$f":"IF(OFFSET(DE104_9!$R$26,ROWS($R$26:R29)-1,COLUMNS($R$26:R29)-1)<>\"\",OFFSET(DE104_9!$R$26,ROWS($R$26:R29)-1,COLUMNS($R$26:R29)-1),\"\")","v":72.8},{"$f":"IF(OFFSET(DE104_9!$S$26,ROWS($S$26:S29)-1,COLUMNS($S$26:S29)-1)<>\"\",OFFSET(DE104_9!$S$26,ROWS($S$26:S29)-1,COLUMNS($S$26:S29)-1),\"\")","v":""},{"$f":"IF(OFFSET(DE104_9!$T$26,ROWS($T$26:T29)-1,COLUMNS($T$26:T29)-1)<>\"\",OFFSET(DE104_9!$T$26,ROWS($T$26:T29)-1,COLUMNS($T$26:T29)-1),\"\")","v":""}]
[{"$f":"IF(OFFSET(DE104_9!$C$26,ROWS($C$26:C30)-1,COLUMNS($C$26:C30)-1)<>\"\",OFFSET(DE104_9!$C$26,ROWS($C$26:C30)-1,COLUMNS($C$26:C30)-1),\"\")","v":""},{"$f":"IF(OFFSET(DE104_9!$D$26,ROWS($D$26:D30)-1,COLUMNS($D$26:D30)-1)<>\"\",OFFSET(DE104_9!$D$26,ROWS($D$26:D30)-1,COLUMNS($D$26:D30)-1),\"\")","v":""},{"$f":"IF(OFFSET(DE104_9!$E$26,ROWS($E$26:E30)-1,COLUMNS($E$26:E30)-1)<>\"\",OFFSET(DE104_9!$E$26,ROWS($E$26:E30)-1,COLUMNS($E$26:E30)-1),\"\")","v":""},{"$f":"IF(OFFSET(DE104_9!$F$26,ROWS($F$26:F30)-1,COLUMNS($F$26:F30)-1)<>\"\",OFFSET(DE104_9!$F$26,ROWS($F$26:F30)-1,COLUMNS($F$26:F30)-1),\"\")","v":""},{"$f":"IF(OFFSET(DE104_9!$G$26,ROWS($G$26:G30)-1,COLUMNS($G$26:G30)-1)<>\"\",OFFSET(DE104_9!$G$26,ROWS($G$26:G30)-1,COLUMNS($G$26:G30)-1),\"\")","v":""},{"$f":"IF(OFFSET(DE104_9!$H$26,ROWS($H$26:H30)-1,COLUMNS($H$26:H30)-1)<>\"\",OFFSET(DE104_9!$H$26,ROWS($H$26:H30)-1,COLUMNS($H$26:H30)-1),\"\")","v":" "},{"$f":"IF(OFFSET(DE104_9!$I$26,ROWS($I$26:I30)-1,COLUMNS($I$26:I30)-1)<>\"\",OFFSET(DE104_9!$I$26,ROWS($I$26:I30)-1,COLUMNS($I$26:I30)-1),\"\")","v":""},{"$f":"IF(OFFSET(DE104_9!$J$26,ROWS($J$26:J30)-1,COLUMNS($J$26:J30)-1)<>\"\",OFFSET(DE104_9!$J$26,ROWS($J$26:J30)-1,COLUMNS($J$26:J30)-1),\"\")","v":""},{"$f":"IF(OFFSET(DE104_9!$K$26,ROWS($K$26:K30)-1,COLUMNS($K$26:K30)-1)<>\"\",OFFSET(DE104_9!$K$26,ROWS($K$26:K30)-1,COLUMNS($K$26:K30)-1),\"\")","v":" "},{"$f":"IF(OFFSET(DE104_9!$L$26,ROWS($L$26:L30)-1,COLUMNS($L$26:L30)-1)<>\"\",OFFSET(DE104_9!$L$26,ROWS($L$26:L30)-1,COLUMNS($L$26:L30)-1),\"\")","v":" "},{"$f":"IF(OFFSET(DE104_9!$M$26,ROWS($M$26:M30)-1,COLUMNS($M$26:M30)-1)<>\"\",OFFSET(DE104_9!$M$26,ROWS($M$26:M30)-1,COLUMNS($M$26:M30)-1),\"\")","v":""},{"$f":"IF(OFFSET(DE104_9!$N$26,ROWS($N$26:N30)-1,COLUMNS($N$26:N30)-1)<>\"\",OFFSET(DE104_9!$N$26,ROWS($N$26:N30)-1,COLUMNS($N$26:N30)-1),\"\")","v":""},{"$f":"IF(OFFSET(DE104_9!$O$26,ROWS($O$26:O30)-1,COLUMNS($O$26:O30)-1)<>\"\",OFFSET(DE104_9!$O$26,ROWS($O$26:O30)-1,COLUMNS($O$26:O30)-1),\"\")","v":""},{"$f":"IF(OFFSET(DE104_9!$P$26,ROWS($P$26:P30)-1,COLUMNS($P$26:P30)-1)<>\"\",OFFSET(DE104_9!$P$26,ROWS($P$26:P30)-1,COLUMNS($P$26:P30)-1),\"\")","v":15150},{"$f":"IF(OFFSET(DE104_9!$Q$26,ROWS($Q$26:Q30)-1,COLUMNS($Q$26:Q30)-1)<>\"\",OFFSET(DE104_9!$Q$26,ROWS($Q$26:Q30)-1,COLUMNS($Q$26:Q30)-1),\"\")","v":"DR-306"},{"$f":"IF(OFFSET(DE104_9!$R$26,ROWS($R$26:R30)-1,COLUMNS($R$26:R30)-1)<>\"\",OFFSET(DE104_9!$R$26,ROWS($R$26:R30)-1,COLUMNS($R$26:R30)-1),\"\")","v":""},{"$f":"IF(OFFSET(DE104_9!$S$26,ROWS($S$26:S30)-1,COLUMNS($S$26:S30)-1)<>\"\",OFFSET(DE104_9!$S$26,ROWS($S$26:S30)-1,COLUMNS($S$26:S30)-1),\"\")","v":""},{"$f":"IF(OFFSET(DE104_9!$T$26,ROWS($T$26:T30)-1,COLUMNS($T$26:T30)-1)<>\"\",OFFSET(DE104_9!$T$26,ROWS($T$26:T30)-1,COLUMNS($T$26:T30)-1),\"\")","v":""}]
[{"$f":"IF(OFFSET(DE104_9!$C$26,ROWS($C$26:C31)-1,COLUMNS($C$26:C31)-1)<>\"\",OFFSET(DE104_9!$C$26,ROWS($C$26:C31)-1,COLUMNS($C$26:C31)-1),\"\")","v":3},{"$f":"IF(OFFSET(DE104_9!$D$26,ROWS($D$26:D31)-1,COLUMNS($D$26:D31)-1)<>\"\",OFFSET(DE104_9!$D$26,ROWS($D$26:D31)-1,COLUMNS($D$26:D31)-1),\"\")","v":"WBL"},{"$f":"IF(OFFSET(DE104_9!$E$26,ROWS($E$26:E31)-1,COLUMNS($E$26:E31)-1)<>\"\",OFFSET(DE104_9!$E$26,ROWS($E$26:E31)-1,COLUMNS($E$26:E31)-1),\"\")","v":16350},{"$f":"IF(OFFSET(DE104_9!$F$26,ROWS($F$26:F31)-1,COLUMNS($F$26:F31)-1)<>\"\",OFFSET(DE104_9!$F$26,ROWS($F$26:F31)-1,COLUMNS($F$26:F31)-1),\"\")","v":16600},{"$f":"IF(OFFSET(DE104_9!$G$26,ROWS($G$26:G31)-1,COLUMNS($G$26:G31)-1)<>\"\",OFFSET(DE104_9!$G$26,ROWS($G$26:G31)-1,COLUMNS($G$26:G31)-1),\"\")","v":"LT"},{"$f":"IF(OFFSET(DE104_9!$H$26,ROWS($H$26:H31)-1,COLUMNS($H$26:H31)-1)<>\"\",OFFSET(DE104_9!$H$26,ROWS($H$26:H31)-1,COLUMNS($H$26:H31)-1),\"\")","v":66},{"$f":"IF(OFFSET(DE104_9!$I$26,ROWS($I$26:I31)-1,COLUMNS($I$26:I31)-1)<>\"\",OFFSET(DE104_9!$I$26,ROWS($I$26:I31)-1,COLUMNS($I$26:I31)-1),\"\")","v":""},{"$f":"IF(OFFSET(DE104_9!$J$26,ROWS($J$26:J31)-1,COLUMNS($J$26:J31)-1)<>\"\",OFFSET(DE104_9!$J$26,ROWS($J$26:J31)-1,COLUMNS($J$26:J31)-1),\"\")","v":""},{"$f":"IF(OFFSET(DE104_9!$K$26,ROWS($K$26:K31)-1,COLUMNS($K$26:K31)-1)<>\"\",OFFSET(DE104_9!$K$26,ROWS($K$26:K31)-1,COLUMNS($K$26:K31)-1),\"\")","v":4},{"$f":"IF(OFFSET(DE104_9!$L$26,ROWS($L$26:L31)-1,COLUMNS($L$26:L31)-1)<>\"\",OFFSET(DE104_9!$L$26,ROWS($L$26:L31)-1,COLUMNS($L$26:L31)-1),\"\")","v":290},{"$f":"IF(OFFSET(DE104_9!$M$26,ROWS($M$26:M31)-1,COLUMNS($M$26:M31)-1)<>\"\",OFFSET(DE104_9!$M$26,ROWS($M$26:M31)-1,COLUMNS($M$26:M31)-1),\"\")","v":""},{"$f":"IF(OFFSET(DE104_9!$N$26,ROWS($N$26:N31)-1,COLUMNS($N$26:N31)-1)<>\"\",OFFSET(DE104_9!$N$26,ROWS($N$26:N31)-1,COLUMNS($N$26:N31)-1),\"\")","v":""},{"$f":"IF(OFFSET(DE104_9!$O$26,ROWS($O$26:O31)-1,COLUMNS($O$26:O31)-1)<>\"\",OFFSET(DE104_9!$O$26,ROWS($O$26:O31)-1,COLUMNS($O$26:O31)-1),\"\")","v":""},{"$f":"IF(OFFSET(DE104_9!$P$26,ROWS($P$26:P31)-1,COLUMNS($P$26:P31)-1)<>\"\",OFFSET(DE104_9!$P$26,ROWS($P$26:P31)-1,COLUMNS($P$26:P31)-1),\"\")","v":16350},{"$f":"IF(OFFSET(DE104_9!$Q$26,ROWS($Q$26:Q31)-1,COLUMNS($Q$26:Q31)-1)<>\"\",OFFSET(DE104_9!$Q$26,ROWS($Q$26:Q31)-1,COLUMNS($Q$26:Q31)-1),\"\")","v":"DR-306"},{"$f":"IF(OFFSET(DE104_9!$R$26,ROWS($R$26:R31)-1,COLUMNS($R$26:R31)-1)<>\"\",OFFSET(DE104_9!$R$26,ROWS($R$26:R31)-1,COLUMNS($R$26:R31)-1),\"\")","v":35.799999999999997},{"$f":"IF(OFFSET(DE104_9!$S$26,ROWS($S$26:S31)-1,COLUMNS($S$26:S31)-1)<>\"\",OFFSET(DE104_9!$S$26,ROWS($S$26:S31)-1,COLUMNS($S$26:S31)-1),\"\")","v":""},{"$f":"IF(OFFSET(DE104_9!$T$26,ROWS($T$26:T31)-1,COLUMNS($T$26:T31)-1)<>\"\",OFFSET(DE104_9!$T$26,ROWS($T$26:T31)-1,COLUMNS($T$26:T31)-1),\"\")","v":""}]
[{"$f":"IF(OFFSET(DE104_9!$C$26,ROWS($C$26:C32)-1,COLUMNS($C$26:C32)-1)<>\"\",OFFSET(DE104_9!$C$26,ROWS($C$26:C32)-1,COLUMNS($C$26:C32)-1),\"\")","v":""},{"$f":"IF(OFFSET(DE104_9!$D$26,ROWS($D$26:D32)-1,COLUMNS($D$26:D32)-1)<>\"\",OFFSET(DE104_9!$D$26,ROWS($D$26:D32)-1,COLUMNS($D$26:D32)-1),\"\")","v":""},{"$f":"IF(OFFSET(DE104_9!$E$26,ROWS($E$26:E32)-1,COLUMNS($E$26:E32)-1)<>\"\",OFFSET(DE104_9!$E$26,ROWS($E$26:E32)-1,COLUMNS($E$26:E32)-1),\"\")","v":""},{"$f":"IF(OFFSET(DE104_9!$F$26,ROWS($F$26:F32)-1,COLUMNS($F$26:F32)-1)<>\"\",OFFSET(DE104_9!$F$26,ROWS($F$26:F32)-1,COLUMNS($F$26:F32)-1),\"\")","v":""},{"$f":"IF(OFFSET(DE104_9!$G$26,ROWS($G$26:G32)-1,COLUMNS($G$26:G32)-1)<>\"\",OFFSET(DE104_9!$G$26,ROWS($G$26:G32)-1,COLUMNS($G$26:G32)-1),\"\")","v":""},{"$f":"IF(OFFSET(DE104_9!$H$26,ROWS($H$26:H32)-1,COLUMNS($H$26:H32)-1)<>\"\",OFFSET(DE104_9!$H$26,ROWS($H$26:H32)-1,COLUMNS($H$26:H32)-1),\"\")","v":" "},{"$f":"IF(OFFSET(DE104_9!$I$26,ROWS($I$26:I32)-1,COLUMNS($I$26:I32)-1)<>\"\",OFFSET(DE104_9!$I$26,ROWS($I$26:I32)-1,COLUMNS($I$26:I32)-1),\"\")","v":""},{"$f":"IF(OFFSET(DE104_9!$J$26,ROWS($J$26:J32)-1,COLUMNS($J$26:J32)-1)<>\"\",OFFSET(DE104_9!$J$26,ROWS($J$26:J32)-1,COLUMNS($J$26:J32)-1),\"\")","v":""},{"$f":"IF(OFFSET(DE104_9!$K$26,ROWS($K$26:K32)-1,COLUMNS($K$26:K32)-1)<>\"\",OFFSET(DE104_9!$K$26,ROWS($K$26:K32)-1,COLUMNS($K$26:K32)-1),\"\")","v":" "},{"$f":"IF(OFFSET(DE104_9!$L$26,ROWS($L$26:L32)-1,COLUMNS($L$26:L32)-1)<>\"\",OFFSET(DE104_9!$L$26,ROWS($L$26:L32)-1,COLUMNS($L$26:L32)-1),\"\")","v":" "},{"$f":"IF(OFFSET(DE104_9!$M$26,ROWS($M$26:M32)-1,COLUMNS($M$26:M32)-1)<>\"\",OFFSET(DE104_9!$M$26,ROWS($M$26:M32)-1,COLUMNS($M$26:M32)-1),\"\")","v":""},{"$f":"IF(OFFSET(DE104_9!$N$26,ROWS($N$26:N32)-1,COLUMNS($N$26:N32)-1)<>\"\",OFFSET(DE104_9!$N$26,ROWS($N$26:N32)-1,COLUMNS($N$26:N32)-1),\"\")","v":""},{"$f":"IF(OFFSET(DE104_9!$O$26,ROWS($O$26:O32)-1,COLUMNS($O$26:O32)-1)<>\"\",OFFSET(DE104_9!$O$26,ROWS($O$26:O32)-1,COLUMNS($O$26:O32)-1),\"\")","v":""},{"$f":"IF(OFFSET(DE104_9!$P$26,ROWS($P$26:P32)-1,COLUMNS($P$26:P32)-1)<>\"\",OFFSET(DE104_9!$P$26,ROWS($P$26:P32)-1,COLUMNS($P$26:P32)-1),\"\")","v":16425},{"$f":"IF(OFFSET(DE104_9!$Q$26,ROWS($Q$26:Q32)-1,COLUMNS($Q$26:Q32)-1)<>\"\",OFFSET(DE104_9!$Q$26,ROWS($Q$26:Q32)-1,COLUMNS($Q$26:Q32)-1),\"\")","v":"DR-306"},{"$f":"IF(OFFSET(DE104_9!$R$26,ROWS($R$26:R32)-1,COLUMNS($R$26:R32)-1)<>\"\",OFFSET(DE104_9!$R$26,ROWS($R$26:R32)-1,COLUMNS($R$26:R32)-1),\"\")","v":""},{"$f":"IF(OFFSET(DE104_9!$S$26,ROWS($S$26:S32)-1,COLUMNS($S$26:S32)-1)<>\"\",OFFSET(DE104_9!$S$26,ROWS($S$26:S32)-1,COLUMNS($S$26:S32)-1),\"\")","v":""},{"$f":"IF(OFFSET(DE104_9!$T$26,ROWS($T$26:T32)-1,COLUMNS($T$26:T32)-1)<>\"\",OFFSET(DE104_9!$T$26,ROWS($T$26:T32)-1,COLUMNS($T$26:T32)-1),\"\")","v":""}]
[{"$f":"IF(OFFSET(DE104_9!$C$26,ROWS($C$26:C33)-1,COLUMNS($C$26:C33)-1)<>\"\",OFFSET(DE104_9!$C$26,ROWS($C$26:C33)-1,COLUMNS($C$26:C33)-1),\"\")","v":4},{"$f":"IF(OFFSET(DE104_9!$D$26,ROWS($D$26:D33)-1,COLUMNS($D$26:D33)-1)<>\"\",OFFSET(DE104_9!$D$26,ROWS($D$26:D33)-1,COLUMNS($D$26:D33)-1),\"\")","v":"WBL"},{"$f":"IF(OFFSET(DE104_9!$E$26,ROWS($E$26:E33)-1,COLUMNS($E$26:E33)-1)<>\"\",OFFSET(DE104_9!$E$26,ROWS($E$26:E33)-1,COLUMNS($E$26:E33)-1),\"\")","v":19050},{"$f":"IF(OFFSET(DE104_9!$F$26,ROWS($F$26:F33)-1,COLUMNS($F$26:F33)-1)<>\"\",OFFSET(DE104_9!$F$26,ROWS($F$26:F33)-1,COLUMNS($F$26:F33)-1),\"\")","v":19325},{"$f":"IF(OFFSET(DE104_9!$G$26,ROWS($G$26:G33)-1,COLUMNS($G$26:G33)-1)<>\"\",OFFSET(DE104_9!$G$26,ROWS($G$26:G33)-1,COLUMNS($G$26:G33)-1),\"\")","v":"LT"},{"$f":"IF(OFFSET(DE104_9!$H$26,ROWS($H$26:H33)-1,COLUMNS($H$26:H33)-1)<>\"\",OFFSET(DE104_9!$H$26,ROWS($H$26:H33)-1,COLUMNS($H$26:H33)-1),\"\")","v":66},{"$f":"IF(OFFSET(DE104_9!$I$26,ROWS($I$26:I33)-1,COLUMNS($I$26:I33)-1)<>\"\",OFFSET(DE104_9!$I$26,ROWS($I$26:I33)-1,COLUMNS($I$26:I33)-1),\"\")","v":""},{"$f":"IF(OFFSET(DE104_9!$J$26,ROWS($J$26:J33)-1,COLUMNS($J$26:J33)-1)<>\"\",OFFSET(DE104_9!$J$26,ROWS($J$26:J33)-1,COLUMNS($J$26:J33)-1),\"\")","v":""},{"$f":"IF(OFFSET(DE104_9!$K$26,ROWS($K$26:K33)-1,COLUMNS($K$26:K33)-1)<>\"\",OFFSET(DE104_9!$K$26,ROWS($K$26:K33)-1,COLUMNS($K$26:K33)-1),\"\")","v":4},{"$f":"IF(OFFSET(DE104_9!$L$26,ROWS($L$26:L33)-1,COLUMNS($L$26:L33)-1)<>\"\",OFFSET(DE104_9!$L$26,ROWS($L$26:L33)-1,COLUMNS($L$26:L33)-1),\"\")","v":315},{"$f":"IF(OFFSET(DE104_9!$M$26,ROWS($M$26:M33)-1,COLUMNS($M$26:M33)-1)<>\"\",OFFSET(DE104_9!$M$26,ROWS($M$26:M33)-1,COLUMNS($M$26:M33)-1),\"\")","v":""},{"$f":"IF(OFFSET(DE104_9!$N$26,ROWS($N$26:N33)-1,COLUMNS($N$26:N33)-1)<>\"\",OFFSET(DE104_9!$N$26,ROWS($N$26:N33)-1,COLUMNS($N$26:N33)-1),\"\")","v":""},{"$f":"IF(OFFSET(DE104_9!$O$26,ROWS($O$26:O33)-1,COLUMNS($O$26:O33)-1)<>\"\",OFFSET(DE104_9!$O$26,ROWS($O$26:O33)-1,COLUMNS($O$26:O33)-1),\"\")","v":""},{"$f":"IF(OFFSET(DE104_9!$P$26,ROWS($P$26:P33)-1,COLUMNS($P$26:P33)-1)<>\"\",OFFSET(DE104_9!$P$26,ROWS($P$26:P33)-1,COLUMNS($P$26:P33)-1),\"\")","v":19050},{"$f":"IF(OFFSET(DE104_9!$Q$26,ROWS($Q$26:Q33)-1,COLUMNS($Q$26:Q33)-1)<>\"\",OFFSET(DE104_9!$Q$26,ROWS($Q$26:Q33)-1,COLUMNS($Q$26:Q33)-1),\"\")","v":"DR-306"},{"$f":"IF(OFFSET(DE104_9!$R$26,ROWS($R$26:R33)-1,COLUMNS($R$26:R33)-1)<>\"\",OFFSET(DE104_9!$R$26,ROWS($R$26:R33)-1,COLUMNS($R$26:R33)-1),\"\")","v":38.9},{"$f":"IF(OFFSET(DE104_9!$S$26,ROWS($S$26:S33)-1,COLUMNS($S$26:S33)-1)<>\"\",OFFSET(DE104_9!$S$26,ROWS($S$26:S33)-1,COLUMNS($S$26:S33)-1),\"\")","v":""},{"$f":"IF(OFFSET(DE104_9!$T$26,ROWS($T$26:T33)-1,COLUMNS($T$26:T33)-1)<>\"\",OFFSET(DE104_9!$T$26,ROWS($T$26:T33)-1,COLUMNS($T$26:T33)-1),\"\")","v":""}]
[{"$f":"IF(OFFSET(DE104_9!$C$26,ROWS($C$26:C34)-1,COLUMNS($C$26:C34)-1)<>\"\",OFFSET(DE104_9!$C$26,ROWS($C$26:C34)-1,COLUMNS($C$26:C34)-1),\"\")","v":""},{"$f":"IF(OFFSET(DE104_9!$D$26,ROWS($D$26:D34)-1,COLUMNS($D$26:D34)-1)<>\"\",OFFSET(DE104_9!$D$26,ROWS($D$26:D34)-1,COLUMNS($D$26:D34)-1),\"\")","v":""},{"$f":"IF(OFFSET(DE104_9!$E$26,ROWS($E$26:E34)-1,COLUMNS($E$26:E34)-1)<>\"\",OFFSET(DE104_9!$E$26,ROWS($E$26:E34)-1,COLUMNS($E$26:E34)-1),\"\")","v":""},{"$f":"IF(OFFSET(DE104_9!$F$26,ROWS($F$26:F34)-1,COLUMNS($F$26:F34)-1)<>\"\",OFFSET(DE104_9!$F$26,ROWS($F$26:F34)-1,COLUMNS($F$26:F34)-1),\"\")","v":""},{"$f":"IF(OFFSET(DE104_9!$G$26,ROWS($G$26:G34)-1,COLUMNS($G$26:G34)-1)<>\"\",OFFSET(DE104_9!$G$26,ROWS($G$26:G34)-1,COLUMNS($G$26:G34)-1),\"\")","v":""},{"$f":"IF(OFFSET(DE104_9!$H$26,ROWS($H$26:H34)-1,COLUMNS($H$26:H34)-1)<>\"\",OFFSET(DE104_9!$H$26,ROWS($H$26:H34)-1,COLUMNS($H$26:H34)-1),\"\")","v":""},{"$f":"IF(OFFSET(DE104_9!$I$26,ROWS($I$26:I34)-1,COLUMNS($I$26:I34)-1)<>\"\",OFFSET(DE104_9!$I$26,ROWS($I$26:I34)-1,COLUMNS($I$26:I34)-1),\"\")","v":""},{"$f":"IF(OFFSET(DE104_9!$J$26,ROWS($J$26:J34)-1,COLUMNS($J$26:J34)-1)<>\"\",OFFSET(DE104_9!$J$26,ROWS($J$26:J34)-1,COLUMNS($J$26:J34)-1),\"\")","v":""},{"$f":"IF(OFFSET(DE104_9!$K$26,ROWS($K$26:K34)-1,COLUMNS($K$26:K34)-1)<>\"\",OFFSET(DE104_9!$K$26,ROWS($K$26:K34)-1,COLUMNS($K$26:K34)-1),\"\")","v":""},{"$f":"IF(OFFSET(DE104_9!$L$26,ROWS($L$26:L34)-1,COLUMNS($L$26:L34)-1)<>\"\",OFFSET(DE104_9!$L$26,ROWS($L$26:L34)-1,COLUMNS($L$26:L34)-1),\"\")","v":""},{"$f":"IF(OFFSET(DE104_9!$M$26,ROWS($M$26:M34)-1,COLUMNS($M$26:M34)-1)<>\"\",OFFSET(DE104_9!$M$26,ROWS($M$26:M34)-1,COLUMNS($M$26:M34)-1),\"\")","v":""},{"$f":"IF(OFFSET(DE104_9!$N$26,ROWS($N$26:N34)-1,COLUMNS($N$26:N34)-1)<>\"\",OFFSET(DE104_9!$N$26,ROWS($N$26:N34)-1,COLUMNS($N$26:N34)-1),\"\")","v":""},{"$f":"IF(OFFSET(DE104_9!$O$26,ROWS($O$26:O34)-1,COLUMNS($O$26:O34)-1)<>\"\",OFFSET(DE104_9!$O$26,ROWS($O$26:O34)-1,COLUMNS($O$26:O34)-1),\"\")","v":""},{"$f":"IF(OFFSET(DE104_9!$P$26,ROWS($P$26:P34)-1,COLUMNS($P$26:P34)-1)<>\"\",OFFSET(DE104_9!$P$26,ROWS($P$26:P34)-1,COLUMNS($P$26:P34)-1),\"\")","v":19325},{"$f":"IF(OFFSET(DE104_9!$Q$26,ROWS($Q$26:Q34)-1,COLUMNS($Q$26:Q34)-1)<>\"\",OFFSET(DE104_9!$Q$26,ROWS($Q$26:Q34)-1,COLUMNS($Q$26:Q34)-1),\"\")","v":"DR-306"},{"$f":"IF(OFFSET(DE104_9!$R$26,ROWS($R$26:R34)-1,COLUMNS($R$26:R34)-1)<>\"\",OFFSET(DE104_9!$R$26,ROWS($R$26:R34)-1,COLUMNS($R$26:R34)-1),\"\")","v":""},{"$f":"IF(OFFSET(DE104_9!$S$26,ROWS($S$26:S34)-1,COLUMNS($S$26:S34)-1)<>\"\",OFFSET(DE104_9!$S$26,ROWS($S$26:S34)-1,COLUMNS($S$26:S34)-1),\"\")","v":""},{"$f":"IF(OFFSET(DE104_9!$T$26,ROWS($T$26:T34)-1,COLUMNS($T$26:T34)-1)<>\"\",OFFSET(DE104_9!$T$26,ROWS($T$26:T34)-1,COLUMNS($T$26:T34)-1),\"\")","v":""}]
[{"$f":"IF(OFFSET(DE104_9!$C$26,ROWS($C$26:C35)-1,COLUMNS($C$26:C35)-1)<>\"\",OFFSET(DE104_9!$C$26,ROWS($C$26:C35)-1,COLUMNS($C$26:C35)-1),\"\")","v":5},{"$f":"IF(OFFSET(DE104_9!$D$26,ROWS($D$26:D35)-1,COLUMNS($D$26:D35)-1)<>\"\",OFFSET(DE104_9!$D$26,ROWS($D$26:D35)-1,COLUMNS($D$26:D35)-1),\"\")","v":"WBL"},{"$f":"IF(OFFSET(DE104_9!$E$26,ROWS($E$26:E35)-1,COLUMNS($E$26:E35)-1)<>\"\",OFFSET(DE104_9!$E$26,ROWS($E$26:E35)-1,COLUMNS($E$26:E35)-1),\"\")","v":31100},{"$f":"IF(OFFSET(DE104_9!$F$26,ROWS($F$26:F35)-1,COLUMNS($F$26:F35)-1)<>\"\",OFFSET(DE104_9!$F$26,ROWS($F$26:F35)-1,COLUMNS($F$26:F35)-1),\"\")","v":31375},{"$f":"IF(OFFSET(DE104_9!$G$26,ROWS($G$26:G35)-1,COLUMNS($G$26:G35)-1)<>\"\",OFFSET(DE104_9!$G$26,ROWS($G$26:G35)-1,COLUMNS($G$26:G35)-1),\"\")","v":"LT"},{"$f":"IF(OFFSET(DE104_9!$H$26,ROWS($H$26:H35)-1,COLUMNS($H$26:H35)-1)<>\"\",OFFSET(DE104_9!$H$26,ROWS($H$26:H35)-1,COLUMNS($H$26:H35)-1),\"\")","v":66},{"$f":"IF(OFFSET(DE104_9!$I$26,ROWS($I$26:I35)-1,COLUMNS($I$26:I35)-1)<>\"\",OFFSET(DE104_9!$I$26,ROWS($I$26:I35)-1,COLUMNS($I$26:I35)-1),\"\")","v":""},{"$f":"IF(OFFSET(DE104_9!$J$26,ROWS($J$26:J35)-1,COLUMNS($J$26:J35)-1)<>\"\",OFFSET(DE104_9!$J$26,ROWS($J$26:J35)-1,COLUMNS($J$26:J35)-1),\"\")","v":""},{"$f":"IF(OFFSET(DE104_9!$K$26,ROWS($K$26:K35)-1,COLUMNS($K$26:K35)-1)<>\"\",OFFSET(DE104_9!$K$26,ROWS($K$26:K35)-1,COLUMNS($K$26:K35)-1),\"\")","v":4},{"$f":"IF(OFFSET(DE104_9!$L$26,ROWS($L$26:L35)-1,COLUMNS($L$26:L35)-1)<>\"\",OFFSET(DE104_9!$L$26,ROWS($L$26:L35)-1,COLUMNS($L$26:L35)-1),\"\")","v":315},{"$f":"IF(OFFSET(DE104_9!$M$26,ROWS($M$26:M35)-1,COLUMNS($M$26:M35)-1)<>\"\",OFFSET(DE104_9!$M$26,ROWS($M$26:M35)-1,COLUMNS($M$26:M35)-1),\"\")","v":""},{"$f":"IF(OFFSET(DE104_9!$N$26,ROWS($N$26:N35)-1,COLUMNS($N$26:N35)-1)<>\"\",OFFSET(DE104_9!$N$26,ROWS($N$26:N35)-1,COLUMNS($N$26:N35)-1),\"\")","v":""},{"$f":"IF(OFFSET(DE104_9!$O$26,ROWS($O$26:O35)-1,COLUMNS($O$26:O35)-1)<>\"\",OFFSET(DE104_9!$O$26,ROWS($O$26:O35)-1,COLUMNS($O$26:O35)-1),\"\")","v":""},{"$f":"IF(OFFSET(DE104_9!$P$26,ROWS($P$26:P35)-1,COLUMNS($P$26:P35)-1)<>\"\",OFFSET(DE104_9!$P$26,ROWS($P$26:P35)-1,COLUMNS($P$26:P35)-1),\"\")","v":31100},{"$f":"IF(OFFSET(DE104_9!$Q$26,ROWS($Q$26:Q35)-1,COLUMNS($Q$26:Q35)-1)<>\"\",OFFSET(DE104_9!$Q$26,ROWS($Q$26:Q35)-1,COLUMNS($Q$26:Q35)-1),\"\")","v":"DR-306"},{"$f":"IF(OFFSET(DE104_9!$R$26,ROWS($R$26:R35)-1,COLUMNS($R$26:R35)-1)<>\"\",OFFSET(DE104_9!$R$26,ROWS($R$26:R35)-1,COLUMNS($R$26:R35)-1),\"\")","v":38.9},{"$f":"IF(OFFSET(DE104_9!$S$26,ROWS($S$26:S35)-1,COLUMNS($S$26:S35)-1)<>\"\",OFFSET(DE104_9!$S$26,ROWS($S$26:S35)-1,COLUMNS($S$26:S35)-1),\"\")","v":""},{"$f":"IF(OFFSET(DE104_9!$T$26,ROWS($T$26:T35)-1,COLUMNS($T$26:T35)-1)<>\"\",OFFSET(DE104_9!$T$26,ROWS($T$26:T35)-1,COLUMNS($T$26:T35)-1),\"\")","v":""}]
[{"$f":"IF(OFFSET(DE104_9!$C$26,ROWS($C$26:C36)-1,COLUMNS($C$26:C36)-1)<>\"\",OFFSET(DE104_9!$C$26,ROWS($C$26:C36)-1,COLUMNS($C$26:C36)-1),\"\")","v":6},{"$f":"IF(OFFSET(DE104_9!$D$26,ROWS($D$26:D36)-1,COLUMNS($D$26:D36)-1)<>\"\",OFFSET(DE104_9!$D$26,ROWS($D$26:D36)-1,COLUMNS($D$26:D36)-1),\"\")","v":"WBL"},{"$f":"IF(OFFSET(DE104_9!$E$26,ROWS($E$26:E36)-1,COLUMNS($E$26:E36)-1)<>\"\",OFFSET(DE104_9!$E$26,ROWS($E$26:E36)-1,COLUMNS($E$26:E36)-1),\"\")","v":32575},{"$f":"IF(OFFSET(DE104_9!$F$26,ROWS($F$26:F36)-1,COLUMNS($F$26:F36)-1)<>\"\",OFFSET(DE104_9!$F$26,ROWS($F$26:F36)-1,COLUMNS($F$26:F36)-1),\"\")","v":32750},{"$f":"IF(OFFSET(DE104_9!$G$26,ROWS($G$26:G36)-1,COLUMNS($G$26:G36)-1)<>\"\",OFFSET(DE104_9!$G$26,ROWS($G$26:G36)-1,COLUMNS($G$26:G36)-1),\"\")","v":"LT"},{"$f":"IF(OFFSET(DE104_9!$H$26,ROWS($H$26:H36)-1,COLUMNS($H$26:H36)-1)<>\"\",OFFSET(DE104_9!$H$26,ROWS($H$26:H36)-1,COLUMNS($H$26:H36)-1),\"\")","v":66},{"$f":"IF(OFFSET(DE104_9!$I$26,ROWS($I$26:I36)-1,COLUMNS($I$26:I36)-1)<>\"\",OFFSET(DE104_9!$I$26,ROWS($I$26:I36)-1,COLUMNS($I$26:I36)-1),\"\")","v":""},{"$f":"IF(OFFSET(DE104_9!$J$26,ROWS($J$26:J36)-1,COLUMNS($J$26:J36)-1)<>\"\",OFFSET(DE104_9!$J$26,ROWS($J$26:J36)-1,COLUMNS($J$26:J36)-1),\"\")","v":""},{"$f":"IF(OFFSET(DE104_9!$K$26,ROWS($K$26:K36)-1,COLUMNS($K$26:K36)-1)<>\"\",OFFSET(DE104_9!$K$26,ROWS($K$26:K36)-1,COLUMNS($K$26:K36)-1),\"\")","v":4},{"$f":"IF(OFFSET(DE104_9!$L$26,ROWS($L$26:L36)-1,COLUMNS($L$26:L36)-1)<>\"\",OFFSET(DE104_9!$L$26,ROWS($L$26:L36)-1,COLUMNS($L$26:L36)-1),\"\")","v":215},{"$f":"IF(OFFSET(DE104_9!$M$26,ROWS($M$26:M36)-1,COLUMNS($M$26:M36)-1)<>\"\",OFFSET(DE104_9!$M$26,ROWS($M$26:M36)-1,COLUMNS($M$26:M36)-1),\"\")","v":""},{"$f":"IF(OFFSET(DE104_9!$N$26,ROWS($N$26:N36)-1,COLUMNS($N$26:N36)-1)<>\"\",OFFSET(DE104_9!$N$26,ROWS($N$26:N36)-1,COLUMNS($N$26:N36)-1),\"\")","v":""},{"$f":"IF(OFFSET(DE104_9!$O$26,ROWS($O$26:O36)-1,COLUMNS($O$26:O36)-1)<>\"\",OFFSET(DE104_9!$O$26,ROWS($O$26:O36)-1,COLUMNS($O$26:O36)-1),\"\")","v":""},{"$f":"IF(OFFSET(DE104_9!$P$26,ROWS($P$26:P36)-1,COLUMNS($P$26:P36)-1)<>\"\",OFFSET(DE104_9!$P$26,ROWS($P$26:P36)-1,COLUMNS($P$26:P36)-1),\"\")","v":32575},{"$f":"IF(OFFSET(DE104_9!$Q$26,ROWS($Q$26:Q36)-1,COLUMNS($Q$26:Q36)-1)<>\"\",OFFSET(DE104_9!$Q$26,ROWS($Q$26:Q36)-1,COLUMNS($Q$26:Q36)-1),\"\")","v":"DR-306"},{"$f":"IF(OFFSET(DE104_9!$R$26,ROWS($R$26:R36)-1,COLUMNS($R$26:R36)-1)<>\"\",OFFSET(DE104_9!$R$26,ROWS($R$26:R36)-1,COLUMNS($R$26:R36)-1),\"\")","v":26.5},{"$f":"IF(OFFSET(DE104_9!$S$26,ROWS($S$26:S36)-1,COLUMNS($S$26:S36)-1)<>\"\",OFFSET(DE104_9!$S$26,ROWS($S$26:S36)-1,COLUMNS($S$26:S36)-1),\"\")","v":""},{"$f":"IF(OFFSET(DE104_9!$T$26,ROWS($T$26:T36)-1,COLUMNS($T$26:T36)-1)<>\"\",OFFSET(DE104_9!$T$26,ROWS($T$26:T36)-1,COLUMNS($T$26:T36)-1),\"\")","v":""}]
[{"$f":"IF(OFFSET(DE104_9!$C$26,ROWS($C$26:C37)-1,COLUMNS($C$26:C37)-1)<>\"\",OFFSET(DE104_9!$C$26,ROWS($C$26:C37)-1,COLUMNS($C$26:C37)-1),\"\")","v":7},{"$f":"IF(OFFSET(DE104_9!$D$26,ROWS($D$26:D37)-1,COLUMNS($D$26:D37)-1)<>\"\",OFFSET(DE104_9!$D$26,ROWS($D$26:D37)-1,COLUMNS($D$26:D37)-1),\"\")","v":"WBL"},{"$f":"IF(OFFSET(DE104_9!$E$26,ROWS($E$26:E37)-1,COLUMNS($E$26:E37)-1)<>\"\",OFFSET(DE104_9!$E$26,ROWS($E$26:E37)-1,COLUMNS($E$26:E37)-1),\"\")","v":32800},{"$f":"IF(OFFSET(DE104_9!$F$26,ROWS($F$26:F37)-1,COLUMNS($F$26:F37)-1)<>\"\",OFFSET(DE104_9!$F$26,ROWS($F$26:F37)-1,COLUMNS($F$26:F37)-1),\"\")","v":33200},{"$f":"IF(OFFSET(DE104_9!$G$26,ROWS($G$26:G37)-1,COLUMNS($G$26:G37)-1)<>\"\",OFFSET(DE104_9!$G$26,ROWS($G$26:G37)-1,COLUMNS($G$26:G37)-1),\"\")","v":"LT"},{"$f":"IF(OFFSET(DE104_9!$H$26,ROWS($H$26:H37)-1,COLUMNS($H$26:H37)-1)<>\"\",OFFSET(DE104_9!$H$26,ROWS($H$26:H37)-1,COLUMNS($H$26:H37)-1),\"\")","v":66},{"$f":"IF(OFFSET(DE104_9!$I$26,ROWS($I$26:I37)-1,COLUMNS($I$26:I37)-1)<>\"\",OFFSET(DE104_9!$I$26,ROWS($I$26:I37)-1,COLUMNS($I$26:I37)-1),\"\")","v":""},{"$f":"IF(OFFSET(DE104_9!$J$26,ROWS($J$26:J37)-1,COLUMNS($J$26:J37)-1)<>\"\",OFFSET(DE104_9!$J$26,ROWS($J$26:J37)-1,COLUMNS($J$26:J37)-1),\"\")","v":""},{"$f":"IF(OFFSET(DE104_9!$K$26,ROWS($K$26:K37)-1,COLUMNS($K$26:K37)-1)<>\"\",OFFSET(DE104_9!$K$26,ROWS($K$26:K37)-1,COLUMNS($K$26:K37)-1),\"\")","v":4},{"$f":"IF(OFFSET(DE104_9!$L$26,ROWS($L$26:L37)-1,COLUMNS($L$26:L37)-1)<>\"\",OFFSET(DE104_9!$L$26,ROWS($L$26:L37)-1,COLUMNS($L$26:L37)-1),\"\")","v":440},{"$f":"IF(OFFSET(DE104_9!$M$26,ROWS($M$26:M37)-1,COLUMNS($M$26:M37)-1)<>\"\",OFFSET(DE104_9!$M$26,ROWS($M$26:M37)-1,COLUMNS($M$26:M37)-1),\"\")","v":""},{"$f":"IF(OFFSET(DE104_9!$N$26,ROWS($N$26:N37)-1,COLUMNS($N$26:N37)-1)<>\"\",OFFSET(DE104_9!$N$26,ROWS($N$26:N37)-1,COLUMNS($N$26:N37)-1),\"\")","v":""},{"$f":"IF(OFFSET(DE104_9!$O$26,ROWS($O$26:O37)-1,COLUMNS($O$26:O37)-1)<>\"\",OFFSET(DE104_9!$O$26,ROWS($O$26:O37)-1,COLUMNS($O$26:O37)-1),\"\")","v":""},{"$f":"IF(OFFSET(DE104_9!$P$26,ROWS($P$26:P37)-1,COLUMNS($P$26:P37)-1)<>\"\",OFFSET(DE104_9!$P$26,ROWS($P$26:P37)-1,COLUMNS($P$26:P37)-1),\"\")","v":32900},{"$f":"IF(OFFSET(DE104_9!$Q$26,ROWS($Q$26:Q37)-1,COLUMNS($Q$26:Q37)-1)<>\"\",OFFSET(DE104_9!$Q$26,ROWS($Q$26:Q37)-1,COLUMNS($Q$26:Q37)-1),\"\")","v":"DR-306"},{"$f":"IF(OFFSET(DE104_9!$R$26,ROWS($R$26:R37)-1,COLUMNS($R$26:R37)-1)<>\"\",OFFSET(DE104_9!$R$26,ROWS($R$26:R37)-1,COLUMNS($R$26:R37)-1),\"\")","v":54.3},{"$f":"IF(OFFSET(DE104_9!$S$26,ROWS($S$26:S37)-1,COLUMNS($S$26:S37)-1)<>\"\",OFFSET(DE104_9!$S$26,ROWS($S$26:S37)-1,COLUMNS($S$26:S37)-1),\"\")","v":""},{"$f":"IF(OFFSET(DE104_9!$T$26,ROWS($T$26:T37)-1,COLUMNS($T$26:T37)-1)<>\"\",OFFSET(DE104_9!$T$26,ROWS($T$26:T37)-1,COLUMNS($T$26:T37)-1),\"\")","v":""}]
[{"$f":"IF(OFFSET(DE104_9!$C$26,ROWS($C$26:C38)-1,COLUMNS($C$26:C38)-1)<>\"\",OFFSET(DE104_9!$C$26,ROWS($C$26:C38)-1,COLUMNS($C$26:C38)-1),\"\")","v":""},{"$f":"IF(OFFSET(DE104_9!$D$26,ROWS($D$26:D38)-1,COLUMNS($D$26:D38)-1)<>\"\",OFFSET(DE104_9!$D$26,ROWS($D$26:D38)-1,COLUMNS($D$26:D38)-1),\"\")","v":""},{"$f":"IF(OFFSET(DE104_9!$E$26,ROWS($E$26:E38)-1,COLUMNS($E$26:E38)-1)<>\"\",OFFSET(DE104_9!$E$26,ROWS($E$26:E38)-1,COLUMNS($E$26:E38)-1),\"\")","v":""},{"$f":"IF(OFFSET(DE104_9!$F$26,ROWS($F$26:F38)-1,COLUMNS($F$26:F38)-1)<>\"\",OFFSET(DE104_9!$F$26,ROWS($F$26:F38)-1,COLUMNS($F$26:F38)-1),\"\")","v":""},{"$f":"IF(OFFSET(DE104_9!$G$26,ROWS($G$26:G38)-1,COLUMNS($G$26:G38)-1)<>\"\",OFFSET(DE104_9!$G$26,ROWS($G$26:G38)-1,COLUMNS($G$26:G38)-1),\"\")","v":""},{"$f":"IF(OFFSET(DE104_9!$H$26,ROWS($H$26:H38)-1,COLUMNS($H$26:H38)-1)<>\"\",OFFSET(DE104_9!$H$26,ROWS($H$26:H38)-1,COLUMNS($H$26:H38)-1),\"\")","v":""},{"$f":"IF(OFFSET(DE104_9!$I$26,ROWS($I$26:I38)-1,COLUMNS($I$26:I38)-1)<>\"\",OFFSET(DE104_9!$I$26,ROWS($I$26:I38)-1,COLUMNS($I$26:I38)-1),\"\")","v":""},{"$f":"IF(OFFSET(DE104_9!$J$26,ROWS($J$26:J38)-1,COLUMNS($J$26:J38)-1)<>\"\",OFFSET(DE104_9!$J$26,ROWS($J$26:J38)-1,COLUMNS($J$26:J38)-1),\"\")","v":""},{"$f":"IF(OFFSET(DE104_9!$K$26,ROWS($K$26:K38)-1,COLUMNS($K$26:K38)-1)<>\"\",OFFSET(DE104_9!$K$26,ROWS($K$26:K38)-1,COLUMNS($K$26:K38)-1),\"\")","v":""},{"$f":"IF(OFFSET(DE104_9!$L$26,ROWS($L$26:L38)-1,COLUMNS($L$26:L38)-1)<>\"\",OFFSET(DE104_9!$L$26,ROWS($L$26:L38)-1,COLUMNS($L$26:L38)-1),\"\")","v":""},{"$f":"IF(OFFSET(DE104_9!$M$26,ROWS($M$26:M38)-1,COLUMNS($M$26:M38)-1)<>\"\",OFFSET(DE104_9!$M$26,ROWS($M$26:M38)-1,COLUMNS($M$26:M38)-1),\"\")","v":""},{"$f":"IF(OFFSET(DE104_9!$N$26,ROWS($N$26:N38)-1,COLUMNS($N$26:N38)-1)<>\"\",OFFSET(DE104_9!$N$26,ROWS($N$26:N38)-1,COLUMNS($N$26:N38)-1),\"\")","v":""},{"$f":"IF(OFFSET(DE104_9!$O$26,ROWS($O$26:O38)-1,COLUMNS($O$26:O38)-1)<>\"\",OFFSET(DE104_9!$O$26,ROWS($O$26:O38)-1,COLUMNS($O$26:O38)-1),\"\")","v":""},{"$f":"IF(OFFSET(DE104_9!$P$26,ROWS($P$26:P38)-1,COLUMNS($P$26:P38)-1)<>\"\",OFFSET(DE104_9!$P$26,ROWS($P$26:P38)-1,COLUMNS($P$26:P38)-1),\"\")","v":33200},{"$f":"IF(OFFSET(DE104_9!$Q$26,ROWS($Q$26:Q38)-1,COLUMNS($Q$26:Q38)-1)<>\"\",OFFSET(DE104_9!$Q$26,ROWS($Q$26:Q38)-1,COLUMNS($Q$26:Q38)-1),\"\")","v":"DR-306"},{"$f":"IF(OFFSET(DE104_9!$R$26,ROWS($R$26:R38)-1,COLUMNS($R$26:R38)-1)<>\"\",OFFSET(DE104_9!$R$26,ROWS($R$26:R38)-1,COLUMNS($R$26:R38)-1),\"\")","v":""},{"$f":"IF(OFFSET(DE104_9!$S$26,ROWS($S$26:S38)-1,COLUMNS($S$26:S38)-1)<>\"\",OFFSET(DE104_9!$S$26,ROWS($S$26:S38)-1,COLUMNS($S$26:S38)-1),\"\")","v":""},{"$f":"IF(OFFSET(DE104_9!$T$26,ROWS($T$26:T38)-1,COLUMNS($T$26:T38)-1)<>\"\",OFFSET(DE104_9!$T$26,ROWS($T$26:T38)-1,COLUMNS($T$26:T38)-1),\"\")","v":""}]
[{"$f":"IF(OFFSET(DE104_9!$C$26,ROWS($C$26:C39)-1,COLUMNS($C$26:C39)-1)<>\"\",OFFSET(DE104_9!$C$26,ROWS($C$26:C39)-1,COLUMNS($C$26:C39)-1),\"\")","v":8},{"$f":"IF(OFFSET(DE104_9!$D$26,ROWS($D$26:D39)-1,COLUMNS($D$26:D39)-1)<>\"\",OFFSET(DE104_9!$D$26,ROWS($D$26:D39)-1,COLUMNS($D$26:D39)-1),\"\")","v":"WBL"},{"$f":"IF(OFFSET(DE104_9!$E$26,ROWS($E$26:E39)-1,COLUMNS($E$26:E39)-1)<>\"\",OFFSET(DE104_9!$E$26,ROWS($E$26:E39)-1,COLUMNS($E$26:E39)-1),\"\")","v":34150},{"$f":"IF(OFFSET(DE104_9!$F$26,ROWS($F$26:F39)-1,COLUMNS($F$26:F39)-1)<>\"\",OFFSET(DE104_9!$F$26,ROWS($F$26:F39)-1,COLUMNS($F$26:F39)-1),\"\")","v":34475},{"$f":"IF(OFFSET(DE104_9!$G$26,ROWS($G$26:G39)-1,COLUMNS($G$26:G39)-1)<>\"\",OFFSET(DE104_9!$G$26,ROWS($G$26:G39)-1,COLUMNS($G$26:G39)-1),\"\")","v":"LT"},{"$f":"IF(OFFSET(DE104_9!$H$26,ROWS($H$26:H39)-1,COLUMNS($H$26:H39)-1)<>\"\",OFFSET(DE104_9!$H$26,ROWS($H$26:H39)-1,COLUMNS($H$26:H39)-1),\"\")","v":66},{"$f":"IF(OFFSET(DE104_9!$I$26,ROWS($I$26:I39)-1,COLUMNS($I$26:I39)-1)<>\"\",OFFSET(DE104_9!$I$26,ROWS($I$26:I39)-1,COLUMNS($I$26:I39)-1),\"\")","v":""},{"$f":"IF(OFFSET(DE104_9!$J$26,ROWS($J$26:J39)-1,COLUMNS($J$26:J39)-1)<>\"\",OFFSET(DE104_9!$J$26,ROWS($J$26:J39)-1,COLUMNS($J$26:J39)-1),\"\")","v":""},{"$f":"IF(OFFSET(DE104_9!$K$26,ROWS($K$26:K39)-1,COLUMNS($K$26:K39)-1)<>\"\",OFFSET(DE104_9!$K$26,ROWS($K$26:K39)-1,COLUMNS($K$26:K39)-1),\"\")","v":4},{"$f":"IF(OFFSET(DE104_9!$L$26,ROWS($L$26:L39)-1,COLUMNS($L$26:L39)-1)<>\"\",OFFSET(DE104_9!$L$26,ROWS($L$26:L39)-1,COLUMNS($L$26:L39)-1),\"\")","v":365},{"$f":"IF(OFFSET(DE104_9!$M$26,ROWS($M$26:M39)-1,COLUMNS($M$26:M39)-1)<>\"\",OFFSET(DE104_9!$M$26,ROWS($M$26:M39)-1,COLUMNS($M$26:M39)-1),\"\")","v":""},{"$f":"IF(OFFSET(DE104_9!$N$26,ROWS($N$26:N39)-1,COLUMNS($N$26:N39)-1)<>\"\",OFFSET(DE104_9!$N$26,ROWS($N$26:N39)-1,COLUMNS($N$26:N39)-1),\"\")","v":""},{"$f":"IF(OFFSET(DE104_9!$O$26,ROWS($O$26:O39)-1,COLUMNS($O$26:O39)-1)<>\"\",OFFSET(DE104_9!$O$26,ROWS($O$26:O39)-1,COLUMNS($O$26:O39)-1),\"\")","v":""},{"$f":"IF(OFFSET(DE104_9!$P$26,ROWS($P$26:P39)-1,COLUMNS($P$26:P39)-1)<>\"\",OFFSET(DE104_9!$P$26,ROWS($P$26:P39)-1,COLUMNS($P$26:P39)-1),\"\")","v":34150},{"$f":"IF(OFFSET(DE104_9!$Q$26,ROWS($Q$26:Q39)-1,COLUMNS($Q$26:Q39)-1)<>\"\",OFFSET(DE104_9!$Q$26,ROWS($Q$26:Q39)-1,COLUMNS($Q$26:Q39)-1),\"\")","v":"DR-306"},{"$f":"IF(OFFSET(DE104_9!$R$26,ROWS($R$26:R39)-1,COLUMNS($R$26:R39)-1)<>\"\",OFFSET(DE104_9!$R$26,ROWS($R$26:R39)-1,COLUMNS($R$26:R39)-1),\"\")","v":45.1},{"$f":"IF(OFFSET(DE104_9!$S$26,ROWS($S$26:S39)-1,COLUMNS($S$26:S39)-1)<>\"\",OFFSET(DE104_9!$S$26,ROWS($S$26:S39)-1,COLUMNS($S$26:S39)-1),\"\")","v":""},{"$f":"IF(OFFSET(DE104_9!$T$26,ROWS($T$26:T39)-1,COLUMNS($T$26:T39)-1)<>\"\",OFFSET(DE104_9!$T$26,ROWS($T$26:T39)-1,COLUMNS($T$26:T39)-1),\"\")","v":""}]
[{"$f":"IF(OFFSET(DE104_9!$C$26,ROWS($C$26:C40)-1,COLUMNS($C$26:C40)-1)<>\"\",OFFSET(DE104_9!$C$26,ROWS($C$26:C40)-1,COLUMNS($C$26:C40)-1),\"\")","v":""},{"$f":"IF(OFFSET(DE104_9!$D$26,ROWS($D$26:D40)-1,COLUMNS($D$26:D40)-1)<>\"\",OFFSET(DE104_9!$D$26,ROWS($D$26:D40)-1,COLUMNS($D$26:D40)-1),\"\")","v":""},{"$f":"IF(OFFSET(DE104_9!$E$26,ROWS($E$26:E40)-1,COLUMNS($E$26:E40)-1)<>\"\",OFFSET(DE104_9!$E$26,ROWS($E$26:E40)-1,COLUMNS($E$26:E40)-1),\"\")","v":""},{"$f":"IF(OFFSET(DE104_9!$F$26,ROWS($F$26:F40)-1,COLUMNS($F$26:F40)-1)<>\"\",OFFSET(DE104_9!$F$26,ROWS($F$26:F40)-1,COLUMNS($F$26:F40)-1),\"\")","v":""},{"$f":"IF(OFFSET(DE104_9!$G$26,ROWS($G$26:G40)-1,COLUMNS($G$26:G40)-1)<>\"\",OFFSET(DE104_9!$G$26,ROWS($G$26:G40)-1,COLUMNS($G$26:G40)-1),\"\")","v":""},{"$f":"IF(OFFSET(DE104_9!$H$26,ROWS($H$26:H40)-1,COLUMNS($H$26:H40)-1)<>\"\",OFFSET(DE104_9!$H$26,ROWS($H$26:H40)-1,COLUMNS($H$26:H40)-1),\"\")","v":""},{"$f":"IF(OFFSET(DE104_9!$I$26,ROWS($I$26:I40)-1,COLUMNS($I$26:I40)-1)<>\"\",OFFSET(DE104_9!$I$26,ROWS($I$26:I40)-1,COLUMNS($I$26:I40)-1),\"\")","v":""},{"$f":"IF(OFFSET(DE104_9!$J$26,ROWS($J$26:J40)-1,COLUMNS($J$26:J40)-1)<>\"\",OFFSET(DE104_9!$J$26,ROWS($J$26:J40)-1,COLUMNS($J$26:J40)-1),\"\")","v":""},{"$f":"IF(OFFSET(DE104_9!$K$26,ROWS($K$26:K40)-1,COLUMNS($K$26:K40)-1)<>\"\",OFFSET(DE104_9!$K$26,ROWS($K$26:K40)-1,COLUMNS($K$26:K40)-1),\"\")","v":""},{"$f":"IF(OFFSET(DE104_9!$L$26,ROWS($L$26:L40)-1,COLUMNS($L$26:L40)-1)<>\"\",OFFSET(DE104_9!$L$26,ROWS($L$26:L40)-1,COLUMNS($L$26:L40)-1),\"\")","v":""},{"$f":"IF(OFFSET(DE104_9!$M$26,ROWS($M$26:M40)-1,COLUMNS($M$26:M40)-1)<>\"\",OFFSET(DE104_9!$M$26,ROWS($M$26:M40)-1,COLUMNS($M$26:M40)-1),\"\")","v":""},{"$f":"IF(OFFSET(DE104_9!$N$26,ROWS($N$26:N40)-1,COLUMNS($N$26:N40)-1)<>\"\",OFFSET(DE104_9!$N$26,ROWS($N$26:N40)-1,COLUMNS($N$26:N40)-1),\"\")","v":""},{"$f":"IF(OFFSET(DE104_9!$O$26,ROWS($O$26:O40)-1,COLUMNS($O$26:O40)-1)<>\"\",OFFSET(DE104_9!$O$26,ROWS($O$26:O40)-1,COLUMNS($O$26:O40)-1),\"\")","v":""},{"$f":"IF(OFFSET(DE104_9!$P$26,ROWS($P$26:P40)-1,COLUMNS($P$26:P40)-1)<>\"\",OFFSET(DE104_9!$P$26,ROWS($P$26:P40)-1,COLUMNS($P$26:P40)-1),\"\")","v":34450},{"$f":"IF(OFFSET(DE104_9!$Q$26,ROWS($Q$26:Q40)-1,COLUMNS($Q$26:Q40)-1)<>\"\",OFFSET(DE104_9!$Q$26,ROWS($Q$26:Q40)-1,COLUMNS($Q$26:Q40)-1),\"\")","v":"DR-306"},{"$f":"IF(OFFSET(DE104_9!$R$26,ROWS($R$26:R40)-1,COLUMNS($R$26:R40)-1)<>\"\",OFFSET(DE104_9!$R$26,ROWS($R$26:R40)-1,COLUMNS($R$26:R40)-1),\"\")","v":""},{"$f":"IF(OFFSET(DE104_9!$S$26,ROWS($S$26:S40)-1,COLUMNS($S$26:S40)-1)<>\"\",OFFSET(DE104_9!$S$26,ROWS($S$26:S40)-1,COLUMNS($S$26:S40)-1),\"\")","v":""},{"$f":"IF(OFFSET(DE104_9!$T$26,ROWS($T$26:T40)-1,COLUMNS($T$26:T40)-1)<>\"\",OFFSET(DE104_9!$T$26,ROWS($T$26:T40)-1,COLUMNS($T$26:T40)-1),\"\")","v":""}]
[{"$f":"IF(OFFSET(DE104_9!$C$26,ROWS($C$26:C41)-1,COLUMNS($C$26:C41)-1)<>\"\",OFFSET(DE104_9!$C$26,ROWS($C$26:C41)-1,COLUMNS($C$26:C41)-1),\"\")","v":9},{"$f":"IF(OFFSET(DE104_9!$D$26,ROWS($D$26:D41)-1,COLUMNS($D$26:D41)-1)<>\"\",OFFSET(DE104_9!$D$26,ROWS($D$26:D41)-1,COLUMNS($D$26:D41)-1),\"\")","v":"WBL"},{"$f":"IF(OFFSET(DE104_9!$E$26,ROWS($E$26:E41)-1,COLUMNS($E$26:E41)-1)<>\"\",OFFSET(DE104_9!$E$26,ROWS($E$26:E41)-1,COLUMNS($E$26:E41)-1),\"\")","v":34650},{"$f":"IF(OFFSET(DE104_9!$F$26,ROWS($F$26:F41)-1,COLUMNS($F$26:F41)-1)<>\"\",OFFSET(DE104_9!$F$26,ROWS($F$26:F41)-1,COLUMNS($F$26:F41)-1),\"\")","v":35350},{"$f":"IF(OFFSET(DE104_9!$G$26,ROWS($G$26:G41)-1,COLUMNS($G$26:G41)-1)<>\"\",OFFSET(DE104_9!$G$26,ROWS($G$26:G41)-1,COLUMNS($G$26:G41)-1),\"\")","v":"LT"},{"$f":"IF(OFFSET(DE104_9!$H$26,ROWS($H$26:H41)-1,COLUMNS($H$26:H41)-1)<>\"\",OFFSET(DE104_9!$H$26,ROWS($H$26:H41)-1,COLUMNS($H$26:H41)-1),\"\")","v":66},{"$f":"IF(OFFSET(DE104_9!$I$26,ROWS($I$26:I41)-1,COLUMNS($I$26:I41)-1)<>\"\",OFFSET(DE104_9!$I$26,ROWS($I$26:I41)-1,COLUMNS($I$26:I41)-1),\"\")","v":""},{"$f":"IF(OFFSET(DE104_9!$J$26,ROWS($J$26:J41)-1,COLUMNS($J$26:J41)-1)<>\"\",OFFSET(DE104_9!$J$26,ROWS($J$26:J41)-1,COLUMNS($J$26:J41)-1),\"\")","v":""},{"$f":"IF(OFFSET(DE104_9!$K$26,ROWS($K$26:K41)-1,COLUMNS($K$26:K41)-1)<>\"\",OFFSET(DE104_9!$K$26,ROWS($K$26:K41)-1,COLUMNS($K$26:K41)-1),\"\")","v":4},{"$f":"IF(OFFSET(DE104_9!$L$26,ROWS($L$26:L41)-1,COLUMNS($L$26:L41)-1)<>\"\",OFFSET(DE104_9!$L$26,ROWS($L$26:L41)-1,COLUMNS($L$26:L41)-1),\"\")","v":740},{"$f":"IF(OFFSET(DE104_9!$M$26,ROWS($M$26:M41)-1,COLUMNS($M$26:M41)-1)<>\"\",OFFSET(DE104_9!$M$26,ROWS($M$26:M41)-1,COLUMNS($M$26:M41)-1),\"\")","v":""},{"$f":"IF(OFFSET(DE104_9!$N$26,ROWS($N$26:N41)-1,COLUMNS($N$26:N41)-1)<>\"\",OFFSET(DE104_9!$N$26,ROWS($N$26:N41)-1,COLUMNS($N$26:N41)-1),\"\")","v":""},{"$f":"IF(OFFSET(DE104_9!$O$26,ROWS($O$26:O41)-1,COLUMNS($O$26:O41)-1)<>\"\",OFFSET(DE104_9!$O$26,ROWS($O$26:O41)-1,COLUMNS($O$26:O41)-1),\"\")","v":""},{"$f":"IF(OFFSET(DE104_9!$P$26,ROWS($P$26:P41)-1,COLUMNS($P$26:P41)-1)<>\"\",OFFSET(DE104_9!$P$26,ROWS($P$26:P41)-1,COLUMNS($P$26:P41)-1),\"\")","v":35100},{"$f":"IF(OFFSET(DE104_9!$Q$26,ROWS($Q$26:Q41)-1,COLUMNS($Q$26:Q41)-1)<>\"\",OFFSET(DE104_9!$Q$26,ROWS($Q$26:Q41)-1,COLUMNS($Q$26:Q41)-1),\"\")","v":"DR-306"},{"$f":"IF(OFFSET(DE104_9!$R$26,ROWS($R$26:R41)-1,COLUMNS($R$26:R41)-1)<>\"\",OFFSET(DE104_9!$R$26,ROWS($R$26:R41)-1,COLUMNS($R$26:R41)-1),\"\")","v":91.4},{"$f":"IF(OFFSET(DE104_9!$S$26,ROWS($S$26:S41)-1,COLUMNS($S$26:S41)-1)<>\"\",OFFSET(DE104_9!$S$26,ROWS($S$26:S41)-1,COLUMNS($S$26:S41)-1),\"\")","v":""},{"$f":"IF(OFFSET(DE104_9!$T$26,ROWS($T$26:T41)-1,COLUMNS($T$26:T41)-1)<>\"\",OFFSET(DE104_9!$T$26,ROWS($T$26:T41)-1,COLUMNS($T$26:T41)-1),\"\")","v":""}]
[{"$f":"IF(OFFSET(DE104_9!$C$26,ROWS($C$26:C42)-1,COLUMNS($C$26:C42)-1)<>\"\",OFFSET(DE104_9!$C$26,ROWS($C$26:C42)-1,COLUMNS($C$26:C42)-1),\"\")","v":10},{"$f":"IF(OFFSET(DE104_9!$D$26,ROWS($D$26:D42)-1,COLUMNS($D$26:D42)-1)<>\"\",OFFSET(DE104_9!$D$26,ROWS($D$26:D42)-1,COLUMNS($D$26:D42)-1),\"\")","v":"WBL"},{"$f":"IF(OFFSET(DE104_9!$E$26,ROWS($E$26:E42)-1,COLUMNS($E$26:E42)-1)<>\"\",OFFSET(DE104_9!$E$26,ROWS($E$26:E42)-1,COLUMNS($E$26:E42)-1),\"\")","v":35775},{"$f":"IF(OFFSET(DE104_9!$F$26,ROWS($F$26:F42)-1,COLUMNS($F$26:F42)-1)<>\"\",OFFSET(DE104_9!$F$26,ROWS($F$26:F42)-1,COLUMNS($F$26:F42)-1),\"\")","v":36275},{"$f":"IF(OFFSET(DE104_9!$G$26,ROWS($G$26:G42)-1,COLUMNS($G$26:G42)-1)<>\"\",OFFSET(DE104_9!$G$26,ROWS($G$26:G42)-1,COLUMNS($G$26:G42)-1),\"\")","v":"LT"},{"$f":"IF(OFFSET(DE104_9!$H$26,ROWS($H$26:H42)-1,COLUMNS($H$26:H42)-1)<>\"\",OFFSET(DE104_9!$H$26,ROWS($H$26:H42)-1,COLUMNS($H$26:H42)-1),\"\")","v":66},{"$f":"IF(OFFSET(DE104_9!$I$26,ROWS($I$26:I42)-1,COLUMNS($I$26:I42)-1)<>\"\",OFFSET(DE104_9!$I$26,ROWS($I$26:I42)-1,COLUMNS($I$26:I42)-1),\"\")","v":""},{"$f":"IF(OFFSET(DE104_9!$J$26,ROWS($J$26:J42)-1,COLUMNS($J$26:J42)-1)<>\"\",OFFSET(DE104_9!$J$26,ROWS($J$26:J42)-1,COLUMNS($J$26:J42)-1),\"\")","v":""},{"$f":"IF(OFFSET(DE104_9!$K$26,ROWS($K$26:K42)-1,COLUMNS($K$26:K42)-1)<>\"\",OFFSET(DE104_9!$K$26,ROWS($K$26:K42)-1,COLUMNS($K$26:K42)-1),\"\")","v":4},{"$f":"IF(OFFSET(DE104_9!$L$26,ROWS($L$26:L42)-1,COLUMNS($L$26:L42)-1)<>\"\",OFFSET(DE104_9!$L$26,ROWS($L$26:L42)-1,COLUMNS($L$26:L42)-1),\"\")","v":540},{"$f":"IF(OFFSET(DE104_9!$M$26,ROWS($M$26:M42)-1,COLUMNS($M$26:M42)-1)<>\"\",OFFSET(DE104_9!$M$26,ROWS($M$26:M42)-1,COLUMNS($M$26:M42)-1),\"\")","v":""},{"$f":"IF(OFFSET(DE104_9!$N$26,ROWS($N$26:N42)-1,COLUMNS($N$26:N42)-1)<>\"\",OFFSET(DE104_9!$N$26,ROWS($N$26:N42)-1,COLUMNS($N$26:N42)-1),\"\")","v":""},{"$f":"IF(OFFSET(DE104_9!$O$26,ROWS($O$26:O42)-1,COLUMNS($O$26:O42)-1)<>\"\",OFFSET(DE104_9!$O$26,ROWS($O$26:O42)-1,COLUMNS($O$26:O42)-1),\"\")","v":""},{"$f":"IF(OFFSET(DE104_9!$P$26,ROWS($P$26:P42)-1,COLUMNS($P$26:P42)-1)<>\"\",OFFSET(DE104_9!$P$26,ROWS($P$26:P42)-1,COLUMNS($P$26:P42)-1),\"\")","v":35775},{"$f":"IF(OFFSET(DE104_9!$Q$26,ROWS($Q$26:Q42)-1,COLUMNS($Q$26:Q42)-1)<>\"\",OFFSET(DE104_9!$Q$26,ROWS($Q$26:Q42)-1,COLUMNS($Q$26:Q42)-1),\"\")","v":"DR-306"},{"$f":"IF(OFFSET(DE104_9!$R$26,ROWS($R$26:R42)-1,COLUMNS($R$26:R42)-1)<>\"\",OFFSET(DE104_9!$R$26,ROWS($R$26:R42)-1,COLUMNS($R$26:R42)-1),\"\")","v":66.7},{"$f":"IF(OFFSET(DE104_9!$S$26,ROWS($S$26:S42)-1,COLUMNS($S$26:S42)-1)<>\"\",OFFSET(DE104_9!$S$26,ROWS($S$26:S42)-1,COLUMNS($S$26:S42)-1),\"\")","v":""},{"$f":"IF(OFFSET(DE104_9!$T$26,ROWS($T$26:T42)-1,COLUMNS($T$26:T42)-1)<>\"\",OFFSET(DE104_9!$T$26,ROWS($T$26:T42)-1,COLUMNS($T$26:T42)-1),\"\")","v":""}]
[{"$f":"IF(OFFSET(DE104_9!$C$26,ROWS($C$26:C43)-1,COLUMNS($C$26:C43)-1)<>\"\",OFFSET(DE104_9!$C$26,ROWS($C$26:C43)-1,COLUMNS($C$26:C43)-1),\"\")","v":""},{"$f":"IF(OFFSET(DE104_9!$D$26,ROWS($D$26:D43)-1,COLUMNS($D$26:D43)-1)<>\"\",OFFSET(DE104_9!$D$26,ROWS($D$26:D43)-1,COLUMNS($D$26:D43)-1),\"\")","v":""},{"$f":"IF(OFFSET(DE104_9!$E$26,ROWS($E$26:E43)-1,COLUMNS($E$26:E43)-1)<>\"\",OFFSET(DE104_9!$E$26,ROWS($E$26:E43)-1,COLUMNS($E$26:E43)-1),\"\")","v":""},{"$f":"IF(OFFSET(DE104_9!$F$26,ROWS($F$26:F43)-1,COLUMNS($F$26:F43)-1)<>\"\",OFFSET(DE104_9!$F$26,ROWS($F$26:F43)-1,COLUMNS($F$26:F43)-1),\"\")","v":""},{"$f":"IF(OFFSET(DE104_9!$G$26,ROWS($G$26:G43)-1,COLUMNS($G$26:G43)-1)<>\"\",OFFSET(DE104_9!$G$26,ROWS($G$26:G43)-1,COLUMNS($G$26:G43)-1),\"\")","v":""},{"$f":"IF(OFFSET(DE104_9!$H$26,ROWS($H$26:H43)-1,COLUMNS($H$26:H43)-1)<>\"\",OFFSET(DE104_9!$H$26,ROWS($H$26:H43)-1,COLUMNS($H$26:H43)-1),\"\")","v":""},{"$f":"IF(OFFSET(DE104_9!$I$26,ROWS($I$26:I43)-1,COLUMNS($I$26:I43)-1)<>\"\",OFFSET(DE104_9!$I$26,ROWS($I$26:I43)-1,COLUMNS($I$26:I43)-1),\"\")","v":""},{"$f":"IF(OFFSET(DE104_9!$J$26,ROWS($J$26:J43)-1,COLUMNS($J$26:J43)-1)<>\"\",OFFSET(DE104_9!$J$26,ROWS($J$26:J43)-1,COLUMNS($J$26:J43)-1),\"\")","v":""},{"$f":"IF(OFFSET(DE104_9!$K$26,ROWS($K$26:K43)-1,COLUMNS($K$26:K43)-1)<>\"\",OFFSET(DE104_9!$K$26,ROWS($K$26:K43)-1,COLUMNS($K$26:K43)-1),\"\")","v":""},{"$f":"IF(OFFSET(DE104_9!$L$26,ROWS($L$26:L43)-1,COLUMNS($L$26:L43)-1)<>\"\",OFFSET(DE104_9!$L$26,ROWS($L$26:L43)-1,COLUMNS($L$26:L43)-1),\"\")","v":""},{"$f":"IF(OFFSET(DE104_9!$M$26,ROWS($M$26:M43)-1,COLUMNS($M$26:M43)-1)<>\"\",OFFSET(DE104_9!$M$26,ROWS($M$26:M43)-1,COLUMNS($M$26:M43)-1),\"\")","v":""},{"$f":"IF(OFFSET(DE104_9!$N$26,ROWS($N$26:N43)-1,COLUMNS($N$26:N43)-1)<>\"\",OFFSET(DE104_9!$N$26,ROWS($N$26:N43)-1,COLUMNS($N$26:N43)-1),\"\")","v":""},{"$f":"IF(OFFSET(DE104_9!$O$26,ROWS($O$26:O43)-1,COLUMNS($O$26:O43)-1)<>\"\",OFFSET(DE104_9!$O$26,ROWS($O$26:O43)-1,COLUMNS($O$26:O43)-1),\"\")","v":""},{"$f":"IF(OFFSET(DE104_9!$P$26,ROWS($P$26:P43)-1,COLUMNS($P$26:P43)-1)<>\"\",OFFSET(DE104_9!$P$26,ROWS($P$26:P43)-1,COLUMNS($P$26:P43)-1),\"\")","v":35975},{"$f":"IF(OFFSET(DE104_9!$Q$26,ROWS($Q$26:Q43)-1,COLUMNS($Q$26:Q43)-1)<>\"\",OFFSET(DE104_9!$Q$26,ROWS($Q$26:Q43)-1,COLUMNS($Q$26:Q43)-1),\"\")","v":"DR-306"},{"$f":"IF(OFFSET(DE104_9!$R$26,ROWS($R$26:R43)-1,COLUMNS($R$26:R43)-1)<>\"\",OFFSET(DE104_9!$R$26,ROWS($R$26:R43)-1,COLUMNS($R$26:R43)-1),\"\")","v":""},{"$f":"IF(OFFSET(DE104_9!$S$26,ROWS($S$26:S43)-1,COLUMNS($S$26:S43)-1)<>\"\",OFFSET(DE104_9!$S$26,ROWS($S$26:S43)-1,COLUMNS($S$26:S43)-1),\"\")","v":""},{"$f":"IF(OFFSET(DE104_9!$T$26,ROWS($T$26:T43)-1,COLUMNS($T$26:T43)-1)<>\"\",OFFSET(DE104_9!$T$26,ROWS($T$26:T43)-1,COLUMNS($T$26:T43)-1),\"\")","v":""}]
[{"$f":"IF(OFFSET(DE104_9!$C$26,ROWS($C$26:C44)-1,COLUMNS($C$26:C44)-1)<>\"\",OFFSET(DE104_9!$C$26,ROWS($C$26:C44)-1,COLUMNS($C$26:C44)-1),\"\")","v":""},{"$f":"IF(OFFSET(DE104_9!$D$26,ROWS($D$26:D44)-1,COLUMNS($D$26:D44)-1)<>\"\",OFFSET(DE104_9!$D$26,ROWS($D$26:D44)-1,COLUMNS($D$26:D44)-1),\"\")","v":""},{"$f":"IF(OFFSET(DE104_9!$E$26,ROWS($E$26:E44)-1,COLUMNS($E$26:E44)-1)<>\"\",OFFSET(DE104_9!$E$26,ROWS($E$26:E44)-1,COLUMNS($E$26:E44)-1),\"\")","v":""},{"$f":"IF(OFFSET(DE104_9!$F$26,ROWS($F$26:F44)-1,COLUMNS($F$26:F44)-1)<>\"\",OFFSET(DE104_9!$F$26,ROWS($F$26:F44)-1,COLUMNS($F$26:F44)-1),\"\")","v":""},{"$f":"IF(OFFSET(DE104_9!$G$26,ROWS($G$26:G44)-1,COLUMNS($G$26:G44)-1)<>\"\",OFFSET(DE104_9!$G$26,ROWS($G$26:G44)-1,COLUMNS($G$26:G44)-1),\"\")","v":""},{"$f":"IF(OFFSET(DE104_9!$H$26,ROWS($H$26:H44)-1,COLUMNS($H$26:H44)-1)<>\"\",OFFSET(DE104_9!$H$26,ROWS($H$26:H44)-1,COLUMNS($H$26:H44)-1),\"\")","v":""},{"$f":"IF(OFFSET(DE104_9!$I$26,ROWS($I$26:I44)-1,COLUMNS($I$26:I44)-1)<>\"\",OFFSET(DE104_9!$I$26,ROWS($I$26:I44)-1,COLUMNS($I$26:I44)-1),\"\")","v":""},{"$f":"IF(OFFSET(DE104_9!$J$26,ROWS($J$26:J44)-1,COLUMNS($J$26:J44)-1)<>\"\",OFFSET(DE104_9!$J$26,ROWS($J$26:J44)-1,COLUMNS($J$26:J44)-1),\"\")","v":""},{"$f":"IF(OFFSET(DE104_9!$K$26,ROWS($K$26:K44)-1,COLUMNS($K$26:K44)-1)<>\"\",OFFSET(DE104_9!$K$26,ROWS($K$26:K44)-1,COLUMNS($K$26:K44)-1),\"\")","v":""},{"$f":"IF(OFFSET(DE104_9!$L$26,ROWS($L$26:L44)-1,COLUMNS($L$26:L44)-1)<>\"\",OFFSET(DE104_9!$L$26,ROWS($L$26:L44)-1,COLUMNS($L$26:L44)-1),\"\")","v":""},{"$f":"IF(OFFSET(DE104_9!$M$26,ROWS($M$26:M44)-1,COLUMNS($M$26:M44)-1)<>\"\",OFFSET(DE104_9!$M$26,ROWS($M$26:M44)-1,COLUMNS($M$26:M44)-1),\"\")","v":""},{"$f":"IF(OFFSET(DE104_9!$N$26,ROWS($N$26:N44)-1,COLUMNS($N$26:N44)-1)<>\"\",OFFSET(DE104_9!$N$26,ROWS($N$26:N44)-1,COLUMNS($N$26:N44)-1),\"\")","v":""},{"$f":"IF(OFFSET(DE104_9!$O$26,ROWS($O$26:O44)-1,COLUMNS($O$26:O44)-1)<>\"\",OFFSET(DE104_9!$O$26,ROWS($O$26:O44)-1,COLUMNS($O$26:O44)-1),\"\")","v":""},{"$f":"IF(OFFSET(DE104_9!$P$26,ROWS($P$26:P44)-1,COLUMNS($P$26:P44)-1)<>\"\",OFFSET(DE104_9!$P$26,ROWS($P$26:P44)-1,COLUMNS($P$26:P44)-1),\"\")","v":36200},{"$f":"IF(OFFSET(DE104_9!$Q$26,ROWS($Q$26:Q44)-1,COLUMNS($Q$26:Q44)-1)<>\"\",OFFSET(DE104_9!$Q$26,ROWS($Q$26:Q44)-1,COLUMNS($Q$26:Q44)-1),\"\")","v":"DR-306"},{"$f":"IF(OFFSET(DE104_9!$R$26,ROWS($R$26:R44)-1,COLUMNS($R$26:R44)-1)<>\"\",OFFSET(DE104_9!$R$26,ROWS($R$26:R44)-1,COLUMNS($R$26:R44)-1),\"\")","v":""},{"$f":"IF(OFFSET(DE104_9!$S$26,ROWS($S$26:S44)-1,COLUMNS($S$26:S44)-1)<>\"\",OFFSET(DE104_9!$S$26,ROWS($S$26:S44)-1,COLUMNS($S$26:S44)-1),\"\")","v":""},{"$f":"IF(OFFSET(DE104_9!$T$26,ROWS($T$26:T44)-1,COLUMNS($T$26:T44)-1)<>\"\",OFFSET(DE104_9!$T$26,ROWS($T$26:T44)-1,COLUMNS($T$26:T44)-1),\"\")","v":""}]
[{"$f":"IF(OFFSET(DE104_9!$C$26,ROWS($C$26:C45)-1,COLUMNS($C$26:C45)-1)<>\"\",OFFSET(DE104_9!$C$26,ROWS($C$26:C45)-1,COLUMNS($C$26:C45)-1),\"\")","v":11},{"$f":"IF(OFFSET(DE104_9!$D$26,ROWS($D$26:D45)-1,COLUMNS($D$26:D45)-1)<>\"\",OFFSET(DE104_9!$D$26,ROWS($D$26:D45)-1,COLUMNS($D$26:D45)-1),\"\")","v":"WBL"},{"$f":"IF(OFFSET(DE104_9!$E$26,ROWS($E$26:E45)-1,COLUMNS($E$26:E45)-1)<>\"\",OFFSET(DE104_9!$E$26,ROWS($E$26:E45)-1,COLUMNS($E$26:E45)-1),\"\")","v":36800},{"$f":"IF(OFFSET(DE104_9!$F$26,ROWS($F$26:F45)-1,COLUMNS($F$26:F45)-1)<>\"\",OFFSET(DE104_9!$F$26,ROWS($F$26:F45)-1,COLUMNS($F$26:F45)-1),\"\")","v":37700},{"$f":"IF(OFFSET(DE104_9!$G$26,ROWS($G$26:G45)-1,COLUMNS($G$26:G45)-1)<>\"\",OFFSET(DE104_9!$G$26,ROWS($G$26:G45)-1,COLUMNS($G$26:G45)-1),\"\")","v":"LT"},{"$f":"IF(OFFSET(DE104_9!$H$26,ROWS($H$26:H45)-1,COLUMNS($H$26:H45)-1)<>\"\",OFFSET(DE104_9!$H$26,ROWS($H$26:H45)-1,COLUMNS($H$26:H45)-1),\"\")","v":66},{"$f":"IF(OFFSET(DE104_9!$I$26,ROWS($I$26:I45)-1,COLUMNS($I$26:I45)-1)<>\"\",OFFSET(DE104_9!$I$26,ROWS($I$26:I45)-1,COLUMNS($I$26:I45)-1),\"\")","v":""},{"$f":"IF(OFFSET(DE104_9!$J$26,ROWS($J$26:J45)-1,COLUMNS($J$26:J45)-1)<>\"\",OFFSET(DE104_9!$J$26,ROWS($J$26:J45)-1,COLUMNS($J$26:J45)-1),\"\")","v":""},{"$f":"IF(OFFSET(DE104_9!$K$26,ROWS($K$26:K45)-1,COLUMNS($K$26:K45)-1)<>\"\",OFFSET(DE104_9!$K$26,ROWS($K$26:K45)-1,COLUMNS($K$26:K45)-1),\"\")","v":4},{"$f":"IF(OFFSET(DE104_9!$L$26,ROWS($L$26:L45)-1,COLUMNS($L$26:L45)-1)<>\"\",OFFSET(DE104_9!$L$26,ROWS($L$26:L45)-1,COLUMNS($L$26:L45)-1),\"\")","v":940},{"$f":"IF(OFFSET(DE104_9!$M$26,ROWS($M$26:M45)-1,COLUMNS($M$26:M45)-1)<>\"\",OFFSET(DE104_9!$M$26,ROWS($M$26:M45)-1,COLUMNS($M$26:M45)-1),\"\")","v":""},{"$f":"IF(OFFSET(DE104_9!$N$26,ROWS($N$26:N45)-1,COLUMNS($N$26:N45)-1)<>\"\",OFFSET(DE104_9!$N$26,ROWS($N$26:N45)-1,COLUMNS($N$26:N45)-1),\"\")","v":""},{"$f":"IF(OFFSET(DE104_9!$O$26,ROWS($O$26:O45)-1,COLUMNS($O$26:O45)-1)<>\"\",OFFSET(DE104_9!$O$26,ROWS($O$26:O45)-1,COLUMNS($O$26:O45)-1),\"\")","v":""},{"$f":"IF(OFFSET(DE104_9!$P$26,ROWS($P$26:P45)-1,COLUMNS($P$26:P45)-1)<>\"\",OFFSET(DE104_9!$P$26,ROWS($P$26:P45)-1,COLUMNS($P$26:P45)-1),\"\")","v":36800},{"$f":"IF(OFFSET(DE104_9!$Q$26,ROWS($Q$26:Q45)-1,COLUMNS($Q$26:Q45)-1)<>\"\",OFFSET(DE104_9!$Q$26,ROWS($Q$26:Q45)-1,COLUMNS($Q$26:Q45)-1),\"\")","v":"DR-306"},{"$f":"IF(OFFSET(DE104_9!$R$26,ROWS($R$26:R45)-1,COLUMNS($R$26:R45)-1)<>\"\",OFFSET(DE104_9!$R$26,ROWS($R$26:R45)-1,COLUMNS($R$26:R45)-1),\"\")","v":116},{"$f":"IF(OFFSET(DE104_9!$S$26,ROWS($S$26:S45)-1,COLUMNS($S$26:S45)-1)<>\"\",OFFSET(DE104_9!$S$26,ROWS($S$26:S45)-1,COLUMNS($S$26:S45)-1),\"\")","v":""},{"$f":"IF(OFFSET(DE104_9!$T$26,ROWS($T$26:T45)-1,COLUMNS($T$26:T45)-1)<>\"\",OFFSET(DE104_9!$T$26,ROWS($T$26:T45)-1,COLUMNS($T$26:T45)-1),\"\")","v":""}]
[{"$f":"IF(OFFSET(DE104_9!$C$26,ROWS($C$26:C46)-1,COLUMNS($C$26:C46)-1)<>\"\",OFFSET(DE104_9!$C$26,ROWS($C$26:C46)-1,COLUMNS($C$26:C46)-1),\"\")","v":""},{"$f":"IF(OFFSET(DE104_9!$D$26,ROWS($D$26:D46)-1,COLUMNS($D$26:D46)-1)<>\"\",OFFSET(DE104_9!$D$26,ROWS($D$26:D46)-1,COLUMNS($D$26:D46)-1),\"\")","v":""},{"$f":"IF(OFFSET(DE104_9!$E$26,ROWS($E$26:E46)-1,COLUMNS($E$26:E46)-1)<>\"\",OFFSET(DE104_9!$E$26,ROWS($E$26:E46)-1,COLUMNS($E$26:E46)-1),\"\")","v":""},{"$f":"IF(OFFSET(DE104_9!$F$26,ROWS($F$26:F46)-1,COLUMNS($F$26:F46)-1)<>\"\",OFFSET(DE104_9!$F$26,ROWS($F$26:F46)-1,COLUMNS($F$26:F46)-1),\"\")","v":""},{"$f":"IF(OFFSET(DE104_9!$G$26,ROWS($G$26:G46)-1,COLUMNS($G$26:G46)-1)<>\"\",OFFSET(DE104_9!$G$26,ROWS($G$26:G46)-1,COLUMNS($G$26:G46)-1),\"\")","v":""},{"$f":"IF(OFFSET(DE104_9!$H$26,ROWS($H$26:H46)-1,COLUMNS($H$26:H46)-1)<>\"\",OFFSET(DE104_9!$H$26,ROWS($H$26:H46)-1,COLUMNS($H$26:H46)-1),\"\")","v":""},{"$f":"IF(OFFSET(DE104_9!$I$26,ROWS($I$26:I46)-1,COLUMNS($I$26:I46)-1)<>\"\",OFFSET(DE104_9!$I$26,ROWS($I$26:I46)-1,COLUMNS($I$26:I46)-1),\"\")","v":""},{"$f":"IF(OFFSET(DE104_9!$J$26,ROWS($J$26:J46)-1,COLUMNS($J$26:J46)-1)<>\"\",OFFSET(DE104_9!$J$26,ROWS($J$26:J46)-1,COLUMNS($J$26:J46)-1),\"\")","v":""},{"$f":"IF(OFFSET(DE104_9!$K$26,ROWS($K$26:K46)-1,COLUMNS($K$26:K46)-1)<>\"\",OFFSET(DE104_9!$K$26,ROWS($K$26:K46)-1,COLUMNS($K$26:K46)-1),\"\")","v":""},{"$f":"IF(OFFSET(DE104_9!$L$26,ROWS($L$26:L46)-1,COLUMNS($L$26:L46)-1)<>\"\",OFFSET(DE104_9!$L$26,ROWS($L$26:L46)-1,COLUMNS($L$26:L46)-1),\"\")","v":""},{"$f":"IF(OFFSET(DE104_9!$M$26,ROWS($M$26:M46)-1,COLUMNS($M$26:M46)-1)<>\"\",OFFSET(DE104_9!$M$26,ROWS($M$26:M46)-1,COLUMNS($M$26:M46)-1),\"\")","v":""},{"$f":"IF(OFFSET(DE104_9!$N$26,ROWS($N$26:N46)-1,COLUMNS($N$26:N46)-1)<>\"\",OFFSET(DE104_9!$N$26,ROWS($N$26:N46)-1,COLUMNS($N$26:N46)-1),\"\")","v":""},{"$f":"IF(OFFSET(DE104_9!$O$26,ROWS($O$26:O46)-1,COLUMNS($O$26:O46)-1)<>\"\",OFFSET(DE104_9!$O$26,ROWS($O$26:O46)-1,COLUMNS($O$26:O46)-1),\"\")","v":""},{"$f":"IF(OFFSET(DE104_9!$P$26,ROWS($P$26:P46)-1,COLUMNS($P$26:P46)-1)<>\"\",OFFSET(DE104_9!$P$26,ROWS($P$26:P46)-1,COLUMNS($P$26:P46)-1),\"\")","v":37425},{"$f":"IF(OFFSET(DE104_9!$Q$26,ROWS($Q$26:Q46)-1,COLUMNS($Q$26:Q46)-1)<>\"\",OFFSET(DE104_9!$Q$26,ROWS($Q$26:Q46)-1,COLUMNS($Q$26:Q46)-1),\"\")","v":"DR-306"},{"$f":"IF(OFFSET(DE104_9!$R$26,ROWS($R$26:R46)-1,COLUMNS($R$26:R46)-1)<>\"\",OFFSET(DE104_9!$R$26,ROWS($R$26:R46)-1,COLUMNS($R$26:R46)-1),\"\")","v":""},{"$f":"IF(OFFSET(DE104_9!$S$26,ROWS($S$26:S46)-1,COLUMNS($S$26:S46)-1)<>\"\",OFFSET(DE104_9!$S$26,ROWS($S$26:S46)-1,COLUMNS($S$26:S46)-1),\"\")","v":""},{"$f":"IF(OFFSET(DE104_9!$T$26,ROWS($T$26:T46)-1,COLUMNS($T$26:T46)-1)<>\"\",OFFSET(DE104_9!$T$26,ROWS($T$26:T46)-1,COLUMNS($T$26:T46)-1),\"\")","v":""}]
[{"$f":"IF(OFFSET(DE104_9!$C$26,ROWS($C$26:C47)-1,COLUMNS($C$26:C47)-1)<>\"\",OFFSET(DE104_9!$C$26,ROWS($C$26:C47)-1,COLUMNS($C$26:C47)-1),\"\")","v":""},{"$f":"IF(OFFSET(DE104_9!$D$26,ROWS($D$26:D47)-1,COLUMNS($D$26:D47)-1)<>\"\",OFFSET(DE104_9!$D$26,ROWS($D$26:D47)-1,COLUMNS($D$26:D47)-1),\"\")","v":""},{"$f":"IF(OFFSET(DE104_9!$E$26,ROWS($E$26:E47)-1,COLUMNS($E$26:E47)-1)<>\"\",OFFSET(DE104_9!$E$26,ROWS($E$26:E47)-1,COLUMNS($E$26:E47)-1),\"\")","v":""},{"$f":"IF(OFFSET(DE104_9!$F$26,ROWS($F$26:F47)-1,COLUMNS($F$26:F47)-1)<>\"\",OFFSET(DE104_9!$F$26,ROWS($F$26:F47)-1,COLUMNS($F$26:F47)-1),\"\")","v":""},{"$f":"IF(OFFSET(DE104_9!$G$26,ROWS($G$26:G47)-1,COLUMNS($G$26:G47)-1)<>\"\",OFFSET(DE104_9!$G$26,ROWS($G$26:G47)-1,COLUMNS($G$26:G47)-1),\"\")","v":""},{"$f":"IF(OFFSET(DE104_9!$H$26,ROWS($H$26:H47)-1,COLUMNS($H$26:H47)-1)<>\"\",OFFSET(DE104_9!$H$26,ROWS($H$26:H47)-1,COLUMNS($H$26:H47)-1),\"\")","v":""},{"$f":"IF(OFFSET(DE104_9!$I$26,ROWS($I$26:I47)-1,COLUMNS($I$26:I47)-1)<>\"\",OFFSET(DE104_9!$I$26,ROWS($I$26:I47)-1,COLUMNS($I$26:I47)-1),\"\")","v":""},{"$f":"IF(OFFSET(DE104_9!$J$26,ROWS($J$26:J47)-1,COLUMNS($J$26:J47)-1)<>\"\",OFFSET(DE104_9!$J$26,ROWS($J$26:J47)-1,COLUMNS($J$26:J47)-1),\"\")","v":""},{"$f":"IF(OFFSET(DE104_9!$K$26,ROWS($K$26:K47)-1,COLUMNS($K$26:K47)-1)<>\"\",OFFSET(DE104_9!$K$26,ROWS($K$26:K47)-1,COLUMNS($K$26:K47)-1),\"\")","v":""},{"$f":"IF(OFFSET(DE104_9!$L$26,ROWS($L$26:L47)-1,COLUMNS($L$26:L47)-1)<>\"\",OFFSET(DE104_9!$L$26,ROWS($L$26:L47)-1,COLUMNS($L$26:L47)-1),\"\")","v":""},{"$f":"IF(OFFSET(DE104_9!$M$26,ROWS($M$26:M47)-1,COLUMNS($M$26:M47)-1)<>\"\",OFFSET(DE104_9!$M$26,ROWS($M$26:M47)-1,COLUMNS($M$26:M47)-1),\"\")","v":""},{"$f":"IF(OFFSET(DE104_9!$N$26,ROWS($N$26:N47)-1,COLUMNS($N$26:N47)-1)<>\"\",OFFSET(DE104_9!$N$26,ROWS($N$26:N47)-1,COLUMNS($N$26:N47)-1),\"\")","v":""},{"$f":"IF(OFFSET(DE104_9!$O$26,ROWS($O$26:O47)-1,COLUMNS($O$26:O47)-1)<>\"\",OFFSET(DE104_9!$O$26,ROWS($O$26:O47)-1,COLUMNS($O$26:O47)-1),\"\")","v":""},{"$f":"IF(OFFSET(DE104_9!$P$26,ROWS($P$26:P47)-1,COLUMNS($P$26:P47)-1)<>\"\",OFFSET(DE104_9!$P$26,ROWS($P$26:P47)-1,COLUMNS($P$26:P47)-1),\"\")","v":37675},{"$f":"IF(OFFSET(DE104_9!$Q$26,ROWS($Q$26:Q47)-1,COLUMNS($Q$26:Q47)-1)<>\"\",OFFSET(DE104_9!$Q$26,ROWS($Q$26:Q47)-1,COLUMNS($Q$26:Q47)-1),\"\")","v":"DR-306"},{"$f":"IF(OFFSET(DE104_9!$R$26,ROWS($R$26:R47)-1,COLUMNS($R$26:R47)-1)<>\"\",OFFSET(DE104_9!$R$26,ROWS($R$26:R47)-1,COLUMNS($R$26:R47)-1),\"\")","v":""},{"$f":"IF(OFFSET(DE104_9!$S$26,ROWS($S$26:S47)-1,COLUMNS($S$26:S47)-1)<>\"\",OFFSET(DE104_9!$S$26,ROWS($S$26:S47)-1,COLUMNS($S$26:S47)-1),\"\")","v":""},{"$f":"IF(OFFSET(DE104_9!$T$26,ROWS($T$26:T47)-1,COLUMNS($T$26:T47)-1)<>\"\",OFFSET(DE104_9!$T$26,ROWS($T$26:T47)-1,COLUMNS($T$26:T47)-1),\"\")","v":""}]
[{"$f":"IF(OFFSET(DE104_9!$C$26,ROWS($C$26:C48)-1,COLUMNS($C$26:C48)-1)<>\"\",OFFSET(DE104_9!$C$26,ROWS($C$26:C48)-1,COLUMNS($C$26:C48)-1),\"\")","v":12},{"$f":"IF(OFFSET(DE104_9!$D$26,ROWS($D$26:D48)-1,COLUMNS($D$26:D48)-1)<>\"\",OFFSET(DE104_9!$D$26,ROWS($D$26:D48)-1,COLUMNS($D$26:D48)-1),\"\")","v":"WBL"},{"$f":"IF(OFFSET(DE104_9!$E$26,ROWS($E$26:E48)-1,COLUMNS($E$26:E48)-1)<>\"\",OFFSET(DE104_9!$E$26,ROWS($E$26:E48)-1,COLUMNS($E$26:E48)-1),\"\")","v":40875},{"$f":"IF(OFFSET(DE104_9!$F$26,ROWS($F$26:F48)-1,COLUMNS($F$26:F48)-1)<>\"\",OFFSET(DE104_9!$F$26,ROWS($F$26:F48)-1,COLUMNS($F$26:F48)-1),\"\")","v":41225},{"$f":"IF(OFFSET(DE104_9!$G$26,ROWS($G$26:G48)-1,COLUMNS($G$26:G48)-1)<>\"\",OFFSET(DE104_9!$G$26,ROWS($G$26:G48)-1,COLUMNS($G$26:G48)-1),\"\")","v":"LT"},{"$f":"IF(OFFSET(DE104_9!$H$26,ROWS($H$26:H48)-1,COLUMNS($H$26:H48)-1)<>\"\",OFFSET(DE104_9!$H$26,ROWS($H$26:H48)-1,COLUMNS($H$26:H48)-1),\"\")","v":66},{"$f":"IF(OFFSET(DE104_9!$I$26,ROWS($I$26:I48)-1,COLUMNS($I$26:I48)-1)<>\"\",OFFSET(DE104_9!$I$26,ROWS($I$26:I48)-1,COLUMNS($I$26:I48)-1),\"\")","v":""},{"$f":"IF(OFFSET(DE104_9!$J$26,ROWS($J$26:J48)-1,COLUMNS($J$26:J48)-1)<>\"\",OFFSET(DE104_9!$J$26,ROWS($J$26:J48)-1,COLUMNS($J$26:J48)-1),\"\")","v":""},{"$f":"IF(OFFSET(DE104_9!$K$26,ROWS($K$26:K48)-1,COLUMNS($K$26:K48)-1)<>\"\",OFFSET(DE104_9!$K$26,ROWS($K$26:K48)-1,COLUMNS($K$26:K48)-1),\"\")","v":4},{"$f":"IF(OFFSET(DE104_9!$L$26,ROWS($L$26:L48)-1,COLUMNS($L$26:L48)-1)<>\"\",OFFSET(DE104_9!$L$26,ROWS($L$26:L48)-1,COLUMNS($L$26:L48)-1),\"\")","v":390},{"$f":"IF(OFFSET(DE104_9!$M$26,ROWS($M$26:M48)-1,COLUMNS($M$26:M48)-1)<>\"\",OFFSET(DE104_9!$M$26,ROWS($M$26:M48)-1,COLUMNS($M$26:M48)-1),\"\")","v":""},{"$f":"IF(OFFSET(DE104_9!$N$26,ROWS($N$26:N48)-1,COLUMNS($N$26:N48)-1)<>\"\",OFFSET(DE104_9!$N$26,ROWS($N$26:N48)-1,COLUMNS($N$26:N48)-1),\"\")","v":""},{"$f":"IF(OFFSET(DE104_9!$O$26,ROWS($O$26:O48)-1,COLUMNS($O$26:O48)-1)<>\"\",OFFSET(DE104_9!$O$26,ROWS($O$26:O48)-1,COLUMNS($O$26:O48)-1),\"\")","v":""},{"$f":"IF(OFFSET(DE104_9!$P$26,ROWS($P$26:P48)-1,COLUMNS($P$26:P48)-1)<>\"\",OFFSET(DE104_9!$P$26,ROWS($P$26:P48)-1,COLUMNS($P$26:P48)-1),\"\")","v":40875},{"$f":"IF(OFFSET(DE104_9!$Q$26,ROWS($Q$26:Q48)-1,COLUMNS($Q$26:Q48)-1)<>\"\",OFFSET(DE104_9!$Q$26,ROWS($Q$26:Q48)-1,COLUMNS($Q$26:Q48)-1),\"\")","v":"DR-306"},{"$f":"IF(OFFSET(DE104_9!$R$26,ROWS($R$26:R48)-1,COLUMNS($R$26:R48)-1)<>\"\",OFFSET(DE104_9!$R$26,ROWS($R$26:R48)-1,COLUMNS($R$26:R48)-1),\"\")","v":48.1},{"$f":"IF(OFFSET(DE104_9!$S$26,ROWS($S$26:S48)-1,COLUMNS($S$26:S48)-1)<>\"\",OFFSET(DE104_9!$S$26,ROWS($S$26:S48)-1,COLUMNS($S$26:S48)-1),\"\")","v":""},{"$f":"IF(OFFSET(DE104_9!$T$26,ROWS($T$26:T48)-1,COLUMNS($T$26:T48)-1)<>\"\",OFFSET(DE104_9!$T$26,ROWS($T$26:T48)-1,COLUMNS($T$26:T48)-1),\"\")","v":""}]
[{"$f":"IF(OFFSET(DE104_9!$C$26,ROWS($C$26:C49)-1,COLUMNS($C$26:C49)-1)<>\"\",OFFSET(DE104_9!$C$26,ROWS($C$26:C49)-1,COLUMNS($C$26:C49)-1),\"\")","v":13},{"$f":"IF(OFFSET(DE104_9!$D$26,ROWS($D$26:D49)-1,COLUMNS($D$26:D49)-1)<>\"\",OFFSET(DE104_9!$D$26,ROWS($D$26:D49)-1,COLUMNS($D$26:D49)-1),\"\")","v":"WBL"},{"$f":"IF(OFFSET(DE104_9!$E$26,ROWS($E$26:E49)-1,COLUMNS($E$26:E49)-1)<>\"\",OFFSET(DE104_9!$E$26,ROWS($E$26:E49)-1,COLUMNS($E$26:E49)-1),\"\")","v":41325},{"$f":"IF(OFFSET(DE104_9!$F$26,ROWS($F$26:F49)-1,COLUMNS($F$26:F49)-1)<>\"\",OFFSET(DE104_9!$F$26,ROWS($F$26:F49)-1,COLUMNS($F$26:F49)-1),\"\")","v":41650},{"$f":"IF(OFFSET(DE104_9!$G$26,ROWS($G$26:G49)-1,COLUMNS($G$26:G49)-1)<>\"\",OFFSET(DE104_9!$G$26,ROWS($G$26:G49)-1,COLUMNS($G$26:G49)-1),\"\")","v":"LT"},{"$f":"IF(OFFSET(DE104_9!$H$26,ROWS($H$26:H49)-1,COLUMNS($H$26:H49)-1)<>\"\",OFFSET(DE104_9!$H$26,ROWS($H$26:H49)-1,COLUMNS($H$26:H49)-1),\"\")","v":66},{"$f":"IF(OFFSET(DE104_9!$I$26,ROWS($I$26:I49)-1,COLUMNS($I$26:I49)-1)<>\"\",OFFSET(DE104_9!$I$26,ROWS($I$26:I49)-1,COLUMNS($I$26:I49)-1),\"\")","v":""},{"$f":"IF(OFFSET(DE104_9!$J$26,ROWS($J$26:J49)-1,COLUMNS($J$26:J49)-1)<>\"\",OFFSET(DE104_9!$J$26,ROWS($J$26:J49)-1,COLUMNS($J$26:J49)-1),\"\")","v":""},{"$f":"IF(OFFSET(DE104_9!$K$26,ROWS($K$26:K49)-1,COLUMNS($K$26:K49)-1)<>\"\",OFFSET(DE104_9!$K$26,ROWS($K$26:K49)-1,COLUMNS($K$26:K49)-1),\"\")","v":4},{"$f":"IF(OFFSET(DE104_9!$L$26,ROWS($L$26:L49)-1,COLUMNS($L$26:L49)-1)<>\"\",OFFSET(DE104_9!$L$26,ROWS($L$26:L49)-1,COLUMNS($L$26:L49)-1),\"\")","v":365},{"$f":"IF(OFFSET(DE104_9!$M$26,ROWS($M$26:M49)-1,COLUMNS($M$26:M49)-1)<>\"\",OFFSET(DE104_9!$M$26,ROWS($M$26:M49)-1,COLUMNS($M$26:M49)-1),\"\")","v":""},{"$f":"IF(OFFSET(DE104_9!$N$26,ROWS($N$26:N49)-1,COLUMNS($N$26:N49)-1)<>\"\",OFFSET(DE104_9!$N$26,ROWS($N$26:N49)-1,COLUMNS($N$26:N49)-1),\"\")","v":""},{"$f":"IF(OFFSET(DE104_9!$O$26,ROWS($O$26:O49)-1,COLUMNS($O$26:O49)-1)<>\"\",OFFSET(DE104_9!$O$26,ROWS($O$26:O49)-1,COLUMNS($O$26:O49)-1),\"\")","v":""},{"$f":"IF(OFFSET(DE104_9!$P$26,ROWS($P$26:P49)-1,COLUMNS($P$26:P49)-1)<>\"\",OFFSET(DE104_9!$P$26,ROWS($P$26:P49)-1,COLUMNS($P$26:P49)-1),\"\")","v":41325},{"$f":"IF(OFFSET(DE104_9!$Q$26,ROWS($Q$26:Q49)-1,COLUMNS($Q$26:Q49)-1)<>\"\",OFFSET(DE104_9!$Q$26,ROWS($Q$26:Q49)-1,COLUMNS($Q$26:Q49)-1),\"\")","v":"DR-306"},{"$f":"IF(OFFSET(DE104_9!$R$26,ROWS($R$26:R49)-1,COLUMNS($R$26:R49)-1)<>\"\",OFFSET(DE104_9!$R$26,ROWS($R$26:R49)-1,COLUMNS($R$26:R49)-1),\"\")","v":45.1},{"$f":"IF(OFFSET(DE104_9!$S$26,ROWS($S$26:S49)-1,COLUMNS($S$26:S49)-1)<>\"\",OFFSET(DE104_9!$S$26,ROWS($S$26:S49)-1,COLUMNS($S$26:S49)-1),\"\")","v":""},{"$f":"IF(OFFSET(DE104_9!$T$26,ROWS($T$26:T49)-1,COLUMNS($T$26:T49)-1)<>\"\",OFFSET(DE104_9!$T$26,ROWS($T$26:T49)-1,COLUMNS($T$26:T49)-1),\"\")","v":""}]
[{"$f":"IF(OFFSET(DE104_9!$C$26,ROWS($C$26:C50)-1,COLUMNS($C$26:C50)-1)<>\"\",OFFSET(DE104_9!$C$26,ROWS($C$26:C50)-1,COLUMNS($C$26:C50)-1),\"\")","v":""},{"$f":"IF(OFFSET(DE104_9!$D$26,ROWS($D$26:D50)-1,COLUMNS($D$26:D50)-1)<>\"\",OFFSET(DE104_9!$D$26,ROWS($D$26:D50)-1,COLUMNS($D$26:D50)-1),\"\")","v":""},{"$f":"IF(OFFSET(DE104_9!$E$26,ROWS($E$26:E50)-1,COLUMNS($E$26:E50)-1)<>\"\",OFFSET(DE104_9!$E$26,ROWS($E$26:E50)-1,COLUMNS($E$26:E50)-1),\"\")","v":""},{"$f":"IF(OFFSET(DE104_9!$F$26,ROWS($F$26:F50)-1,COLUMNS($F$26:F50)-1)<>\"\",OFFSET(DE104_9!$F$26,ROWS($F$26:F50)-1,COLUMNS($F$26:F50)-1),\"\")","v":""},{"$f":"IF(OFFSET(DE104_9!$G$26,ROWS($G$26:G50)-1,COLUMNS($G$26:G50)-1)<>\"\",OFFSET(DE104_9!$G$26,ROWS($G$26:G50)-1,COLUMNS($G$26:G50)-1),\"\")","v":""},{"$f":"IF(OFFSET(DE104_9!$H$26,ROWS($H$26:H50)-1,COLUMNS($H$26:H50)-1)<>\"\",OFFSET(DE104_9!$H$26,ROWS($H$26:H50)-1,COLUMNS($H$26:H50)-1),\"\")","v":""},{"$f":"IF(OFFSET(DE104_9!$I$26,ROWS($I$26:I50)-1,COLUMNS($I$26:I50)-1)<>\"\",OFFSET(DE104_9!$I$26,ROWS($I$26:I50)-1,COLUMNS($I$26:I50)-1),\"\")","v":""},{"$f":"IF(OFFSET(DE104_9!$J$26,ROWS($J$26:J50)-1,COLUMNS($J$26:J50)-1)<>\"\",OFFSET(DE104_9!$J$26,ROWS($J$26:J50)-1,COLUMNS($J$26:J50)-1),\"\")","v":""},{"$f":"IF(OFFSET(DE104_9!$K$26,ROWS($K$26:K50)-1,COLUMNS($K$26:K50)-1)<>\"\",OFFSET(DE104_9!$K$26,ROWS($K$26:K50)-1,COLUMNS($K$26:K50)-1),\"\")","v":""},{"$f":"IF(OFFSET(DE104_9!$L$26,ROWS($L$26:L50)-1,COLUMNS($L$26:L50)-1)<>\"\",OFFSET(DE104_9!$L$26,ROWS($L$26:L50)-1,COLUMNS($L$26:L50)-1),\"\")","v":""},{"$f":"IF(OFFSET(DE104_9!$M$26,ROWS($M$26:M50)-1,COLUMNS($M$26:M50)-1)<>\"\",OFFSET(DE104_9!$M$26,ROWS($M$26:M50)-1,COLUMNS($M$26:M50)-1),\"\")","v":""},{"$f":"IF(OFFSET(DE104_9!$N$26,ROWS($N$26:N50)-1,COLUMNS($N$26:N50)-1)<>\"\",OFFSET(DE104_9!$N$26,ROWS($N$26:N50)-1,COLUMNS($N$26:N50)-1),\"\")","v":""},{"$f":"IF(OFFSET(DE104_9!$O$26,ROWS($O$26:O50)-1,COLUMNS($O$26:O50)-1)<>\"\",OFFSET(DE104_9!$O$26,ROWS($O$26:O50)-1,COLUMNS($O$26:O50)-1),\"\")","v":""},{"$f":"IF(OFFSET(DE104_9!$P$26,ROWS($P$26:P50)-1,COLUMNS($P$26:P50)-1)<>\"\",OFFSET(DE104_9!$P$26,ROWS($P$26:P50)-1,COLUMNS($P$26:P50)-1),\"\")","v":41650},{"$f":"IF(OFFSET(DE104_9!$Q$26,ROWS($Q$26:Q50)-1,COLUMNS($Q$26:Q50)-1)<>\"\",OFFSET(DE104_9!$Q$26,ROWS($Q$26:Q50)-1,COLUMNS($Q$26:Q50)-1),\"\")","v":"DR-306"},{"$f":"IF(OFFSET(DE104_9!$R$26,ROWS($R$26:R50)-1,COLUMNS($R$26:R50)-1)<>\"\",OFFSET(DE104_9!$R$26,ROWS($R$26:R50)-1,COLUMNS($R$26:R50)-1),\"\")","v":""},{"$f":"IF(OFFSET(DE104_9!$S$26,ROWS($S$26:S50)-1,COLUMNS($S$26:S50)-1)<>\"\",OFFSET(DE104_9!$S$26,ROWS($S$26:S50)-1,COLUMNS($S$26:S50)-1),\"\")","v":""},{"$f":"IF(OFFSET(DE104_9!$T$26,ROWS($T$26:T50)-1,COLUMNS($T$26:T50)-1)<>\"\",OFFSET(DE104_9!$T$26,ROWS($T$26:T50)-1,COLUMNS($T$26:T50)-1),\"\")","v":""}]
[{"$f":"IF(OFFSET(DE104_9!$C$26,ROWS($C$26:C51)-1,COLUMNS($C$26:C51)-1)<>\"\",OFFSET(DE104_9!$C$26,ROWS($C$26:C51)-1,COLUMNS($C$26:C51)-1),\"\")","v":14},{"$f":"IF(OFFSET(DE104_9!$D$26,ROWS($D$26:D51)-1,COLUMNS($D$26:D51)-1)<>\"\",OFFSET(DE104_9!$D$26,ROWS($D$26:D51)-1,COLUMNS($D$26:D51)-1),\"\")","v":"WBL"},{"$f":"IF(OFFSET(DE104_9!$E$26,ROWS($E$26:E51)-1,COLUMNS($E$26:E51)-1)<>\"\",OFFSET(DE104_9!$E$26,ROWS($E$26:E51)-1,COLUMNS($E$26:E51)-1),\"\")","v":43275},{"$f":"IF(OFFSET(DE104_9!$F$26,ROWS($F$26:F51)-1,COLUMNS($F$26:F51)-1)<>\"\",OFFSET(DE104_9!$F$26,ROWS($F$26:F51)-1,COLUMNS($F$26:F51)-1),\"\")","v":43775},{"$f":"IF(OFFSET(DE104_9!$G$26,ROWS($G$26:G51)-1,COLUMNS($G$26:G51)-1)<>\"\",OFFSET(DE104_9!$G$26,ROWS($G$26:G51)-1,COLUMNS($G$26:G51)-1),\"\")","v":"LT"},{"$f":"IF(OFFSET(DE104_9!$H$26,ROWS($H$26:H51)-1,COLUMNS($H$26:H51)-1)<>\"\",OFFSET(DE104_9!$H$26,ROWS($H$26:H51)-1,COLUMNS($H$26:H51)-1),\"\")","v":66},{"$f":"IF(OFFSET(DE104_9!$I$26,ROWS($I$26:I51)-1,COLUMNS($I$26:I51)-1)<>\"\",OFFSET(DE104_9!$I$26,ROWS($I$26:I51)-1,COLUMNS($I$26:I51)-1),\"\")","v":""},{"$f":"IF(OFFSET(DE104_9!$J$26,ROWS($J$26:J51)-1,COLUMNS($J$26:J51)-1)<>\"\",OFFSET(DE104_9!$J$26,ROWS($J$26:J51)-1,COLUMNS($J$26:J51)-1),\"\")","v":""},{"$f":"IF(OFFSET(DE104_9!$K$26,ROWS($K$26:K51)-1,COLUMNS($K$26:K51)-1)<>\"\",OFFSET(DE104_9!$K$26,ROWS($K$26:K51)-1,COLUMNS($K$26:K51)-1),\"\")","v":4},{"$f":"IF(OFFSET(DE104_9!$L$26,ROWS($L$26:L51)-1,COLUMNS($L$26:L51)-1)<>\"\",OFFSET(DE104_9!$L$26,ROWS($L$26:L51)-1,COLUMNS($L$26:L51)-1),\"\")","v":540},{"$f":"IF(OFFSET(DE104_9!$M$26,ROWS($M$26:M51)-1,COLUMNS($M$26:M51)-1)<>\"\",OFFSET(DE104_9!$M$26,ROWS($M$26:M51)-1,COLUMNS($M$26:M51)-1),\"\")","v":""},{"$f":"IF(OFFSET(DE104_9!$N$26,ROWS($N$26:N51)-1,COLUMNS($N$26:N51)-1)<>\"\",OFFSET(DE104_9!$N$26,ROWS($N$26:N51)-1,COLUMNS($N$26:N51)-1),\"\")","v":""},{"$f":"IF(OFFSET(DE104_9!$O$26,ROWS($O$26:O51)-1,COLUMNS($O$26:O51)-1)<>\"\",OFFSET(DE104_9!$O$26,ROWS($O$26:O51)-1,COLUMNS($O$26:O51)-1),\"\")","v":""},{"$f":"IF(OFFSET(DE104_9!$P$26,ROWS($P$26:P51)-1,COLUMNS($P$26:P51)-1)<>\"\",OFFSET(DE104_9!$P$26,ROWS($P$26:P51)-1,COLUMNS($P$26:P51)-1),\"\")","v":43275},{"$f":"IF(OFFSET(DE104_9!$Q$26,ROWS($Q$26:Q51)-1,COLUMNS($Q$26:Q51)-1)<>\"\",OFFSET(DE104_9!$Q$26,ROWS($Q$26:Q51)-1,COLUMNS($Q$26:Q51)-1),\"\")","v":"DR-306"},{"$f":"IF(OFFSET(DE104_9!$R$26,ROWS($R$26:R51)-1,COLUMNS($R$26:R51)-1)<>\"\",OFFSET(DE104_9!$R$26,ROWS($R$26:R51)-1,COLUMNS($R$26:R51)-1),\"\")","v":66.7},{"$f":"IF(OFFSET(DE104_9!$S$26,ROWS($S$26:S51)-1,COLUMNS($S$26:S51)-1)<>\"\",OFFSET(DE104_9!$S$26,ROWS($S$26:S51)-1,COLUMNS($S$26:S51)-1),\"\")","v":""},{"$f":"IF(OFFSET(DE104_9!$T$26,ROWS($T$26:T51)-1,COLUMNS($T$26:T51)-1)<>\"\",OFFSET(DE104_9!$T$26,ROWS($T$26:T51)-1,COLUMNS($T$26:T51)-1),\"\")","v":""}]
[{"$f":"IF(OFFSET(DE104_9!$C$26,ROWS($C$26:C52)-1,COLUMNS($C$26:C52)-1)<>\"\",OFFSET(DE104_9!$C$26,ROWS($C$26:C52)-1,COLUMNS($C$26:C52)-1),\"\")","v":""},{"$f":"IF(OFFSET(DE104_9!$D$26,ROWS($D$26:D52)-1,COLUMNS($D$26:D52)-1)<>\"\",OFFSET(DE104_9!$D$26,ROWS($D$26:D52)-1,COLUMNS($D$26:D52)-1),\"\")","v":""},{"$f":"IF(OFFSET(DE104_9!$E$26,ROWS($E$26:E52)-1,COLUMNS($E$26:E52)-1)<>\"\",OFFSET(DE104_9!$E$26,ROWS($E$26:E52)-1,COLUMNS($E$26:E52)-1),\"\")","v":""},{"$f":"IF(OFFSET(DE104_9!$F$26,ROWS($F$26:F52)-1,COLUMNS($F$26:F52)-1)<>\"\",OFFSET(DE104_9!$F$26,ROWS($F$26:F52)-1,COLUMNS($F$26:F52)-1),\"\")","v":""},{"$f":"IF(OFFSET(DE104_9!$G$26,ROWS($G$26:G52)-1,COLUMNS($G$26:G52)-1)<>\"\",OFFSET(DE104_9!$G$26,ROWS($G$26:G52)-1,COLUMNS($G$26:G52)-1),\"\")","v":""},{"$f":"IF(OFFSET(DE104_9!$H$26,ROWS($H$26:H52)-1,COLUMNS($H$26:H52)-1)<>\"\",OFFSET(DE104_9!$H$26,ROWS($H$26:H52)-1,COLUMNS($H$26:H52)-1),\"\")","v":""},{"$f":"IF(OFFSET(DE104_9!$I$26,ROWS($I$26:I52)-1,COLUMNS($I$26:I52)-1)<>\"\",OFFSET(DE104_9!$I$26,ROWS($I$26:I52)-1,COLUMNS($I$26:I52)-1),\"\")","v":""},{"$f":"IF(OFFSET(DE104_9!$J$26,ROWS($J$26:J52)-1,COLUMNS($J$26:J52)-1)<>\"\",OFFSET(DE104_9!$J$26,ROWS($J$26:J52)-1,COLUMNS($J$26:J52)-1),\"\")","v":""},{"$f":"IF(OFFSET(DE104_9!$K$26,ROWS($K$26:K52)-1,COLUMNS($K$26:K52)-1)<>\"\",OFFSET(DE104_9!$K$26,ROWS($K$26:K52)-1,COLUMNS($K$26:K52)-1),\"\")","v":""},{"$f":"IF(OFFSET(DE104_9!$L$26,ROWS($L$26:L52)-1,COLUMNS($L$26:L52)-1)<>\"\",OFFSET(DE104_9!$L$26,ROWS($L$26:L52)-1,COLUMNS($L$26:L52)-1),\"\")","v":""},{"$f":"IF(OFFSET(DE104_9!$M$26,ROWS($M$26:M52)-1,COLUMNS($M$26:M52)-1)<>\"\",OFFSET(DE104_9!$M$26,ROWS($M$26:M52)-1,COLUMNS($M$26:M52)-1),\"\")","v":""},{"$f":"IF(OFFSET(DE104_9!$N$26,ROWS($N$26:N52)-1,COLUMNS($N$26:N52)-1)<>\"\",OFFSET(DE104_9!$N$26,ROWS($N$26:N52)-1,COLUMNS($N$26:N52)-1),\"\")","v":""},{"$f":"IF(OFFSET(DE104_9!$O$26,ROWS($O$26:O52)-1,COLUMNS($O$26:O52)-1)<>\"\",OFFSET(DE104_9!$O$26,ROWS($O$26:O52)-1,COLUMNS($O$26:O52)-1),\"\")","v":""},{"$f":"IF(OFFSET(DE104_9!$P$26,ROWS($P$26:P52)-1,COLUMNS($P$26:P52)-1)<>\"\",OFFSET(DE104_9!$P$26,ROWS($P$26:P52)-1,COLUMNS($P$26:P52)-1),\"\")","v":43500},{"$f":"IF(OFFSET(DE104_9!$Q$26,ROWS($Q$26:Q52)-1,COLUMNS($Q$26:Q52)-1)<>\"\",OFFSET(DE104_9!$Q$26,ROWS($Q$26:Q52)-1,COLUMNS($Q$26:Q52)-1),\"\")","v":"DR-306"},{"$f":"IF(OFFSET(DE104_9!$R$26,ROWS($R$26:R52)-1,COLUMNS($R$26:R52)-1)<>\"\",OFFSET(DE104_9!$R$26,ROWS($R$26:R52)-1,COLUMNS($R$26:R52)-1),\"\")","v":""},{"$f":"IF(OFFSET(DE104_9!$S$26,ROWS($S$26:S52)-1,COLUMNS($S$26:S52)-1)<>\"\",OFFSET(DE104_9!$S$26,ROWS($S$26:S52)-1,COLUMNS($S$26:S52)-1),\"\")","v":""},{"$f":"IF(OFFSET(DE104_9!$T$26,ROWS($T$26:T52)-1,COLUMNS($T$26:T52)-1)<>\"\",OFFSET(DE104_9!$T$26,ROWS($T$26:T52)-1,COLUMNS($T$26:T52)-1),\"\")","v":""}]
[{"$f":"IF(OFFSET(DE104_9!$C$26,ROWS($C$26:C53)-1,COLUMNS($C$26:C53)-1)<>\"\",OFFSET(DE104_9!$C$26,ROWS($C$26:C53)-1,COLUMNS($C$26:C53)-1),\"\")","v":""},{"$f":"IF(OFFSET(DE104_9!$D$26,ROWS($D$26:D53)-1,COLUMNS($D$26:D53)-1)<>\"\",OFFSET(DE104_9!$D$26,ROWS($D$26:D53)-1,COLUMNS($D$26:D53)-1),\"\")","v":""},{"$f":"IF(OFFSET(DE104_9!$E$26,ROWS($E$26:E53)-1,COLUMNS($E$26:E53)-1)<>\"\",OFFSET(DE104_9!$E$26,ROWS($E$26:E53)-1,COLUMNS($E$26:E53)-1),\"\")","v":""},{"$f":"IF(OFFSET(DE104_9!$F$26,ROWS($F$26:F53)-1,COLUMNS($F$26:F53)-1)<>\"\",OFFSET(DE104_9!$F$26,ROWS($F$26:F53)-1,COLUMNS($F$26:F53)-1),\"\")","v":""},{"$f":"IF(OFFSET(DE104_9!$G$26,ROWS($G$26:G53)-1,COLUMNS($G$26:G53)-1)<>\"\",OFFSET(DE104_9!$G$26,ROWS($G$26:G53)-1,COLUMNS($G$26:G53)-1),\"\")","v":""},{"$f":"IF(OFFSET(DE104_9!$H$26,ROWS($H$26:H53)-1,COLUMNS($H$26:H53)-1)<>\"\",OFFSET(DE104_9!$H$26,ROWS($H$26:H53)-1,COLUMNS($H$26:H53)-1),\"\")","v":""},{"$f":"IF(OFFSET(DE104_9!$I$26,ROWS($I$26:I53)-1,COLUMNS($I$26:I53)-1)<>\"\",OFFSET(DE104_9!$I$26,ROWS($I$26:I53)-1,COLUMNS($I$26:I53)-1),\"\")","v":""},{"$f":"IF(OFFSET(DE104_9!$J$26,ROWS($J$26:J53)-1,COLUMNS($J$26:J53)-1)<>\"\",OFFSET(DE104_9!$J$26,ROWS($J$26:J53)-1,COLUMNS($J$26:J53)-1),\"\")","v":""},{"$f":"IF(OFFSET(DE104_9!$K$26,ROWS($K$26:K53)-1,COLUMNS($K$26:K53)-1)<>\"\",OFFSET(DE104_9!$K$26,ROWS($K$26:K53)-1,COLUMNS($K$26:K53)-1),\"\")","v":""},{"$f":"IF(OFFSET(DE104_9!$L$26,ROWS($L$26:L53)-1,COLUMNS($L$26:L53)-1)<>\"\",OFFSET(DE104_9!$L$26,ROWS($L$26:L53)-1,COLUMNS($L$26:L53)-1),\"\")","v":""},{"$f":"IF(OFFSET(DE104_9!$M$26,ROWS($M$26:M53)-1,COLUMNS($M$26:M53)-1)<>\"\",OFFSET(DE104_9!$M$26,ROWS($M$26:M53)-1,COLUMNS($M$26:M53)-1),\"\")","v":""},{"$f":"IF(OFFSET(DE104_9!$N$26,ROWS($N$26:N53)-1,COLUMNS($N$26:N53)-1)<>\"\",OFFSET(DE104_9!$N$26,ROWS($N$26:N53)-1,COLUMNS($N$26:N53)-1),\"\")","v":""},{"$f":"IF(OFFSET(DE104_9!$O$26,ROWS($O$26:O53)-1,COLUMNS($O$26:O53)-1)<>\"\",OFFSET(DE104_9!$O$26,ROWS($O$26:O53)-1,COLUMNS($O$26:O53)-1),\"\")","v":""},{"$f":"IF(OFFSET(DE104_9!$P$26,ROWS($P$26:P53)-1,COLUMNS($P$26:P53)-1)<>\"\",OFFSET(DE104_9!$P$26,ROWS($P$26:P53)-1,COLUMNS($P$26:P53)-1),\"\")","v":43775},{"$f":"IF(OFFSET(DE104_9!$Q$26,ROWS($Q$26:Q53)-1,COLUMNS($Q$26:Q53)-1)<>\"\",OFFSET(DE104_9!$Q$26,ROWS($Q$26:Q53)-1,COLUMNS($Q$26:Q53)-1),\"\")","v":"DR-306"},{"$f":"IF(OFFSET(DE104_9!$R$26,ROWS($R$26:R53)-1,COLUMNS($R$26:R53)-1)<>\"\",OFFSET(DE104_9!$R$26,ROWS($R$26:R53)-1,COLUMNS($R$26:R53)-1),\"\")","v":""},{"$f":"IF(OFFSET(DE104_9!$S$26,ROWS($S$26:S53)-1,COLUMNS($S$26:S53)-1)<>\"\",OFFSET(DE104_9!$S$26,ROWS($S$26:S53)-1,COLUMNS($S$26:S53)-1),\"\")","v":""},{"$f":"IF(OFFSET(DE104_9!$T$26,ROWS($T$26:T53)-1,COLUMNS($T$26:T53)-1)<>\"\",OFFSET(DE104_9!$T$26,ROWS($T$26:T53)-1,COLUMNS($T$26:T53)-1),\"\")","v":""}]
[{"$f":"IF(OFFSET(DE104_9!$C$26,ROWS($C$26:C54)-1,COLUMNS($C$26:C54)-1)<>\"\",OFFSET(DE104_9!$C$26,ROWS($C$26:C54)-1,COLUMNS($C$26:C54)-1),\"\")","v":15},{"$f":"IF(OFFSET(DE104_9!$D$26,ROWS($D$26:D54)-1,COLUMNS($D$26:D54)-1)<>\"\",OFFSET(DE104_9!$D$26,ROWS($D$26:D54)-1,COLUMNS($D$26:D54)-1),\"\")","v":"WBL"},{"$f":"IF(OFFSET(DE104_9!$E$26,ROWS($E$26:E54)-1,COLUMNS($E$26:E54)-1)<>\"\",OFFSET(DE104_9!$E$26,ROWS($E$26:E54)-1,COLUMNS($E$26:E54)-1),\"\")","v":44000},{"$f":"IF(OFFSET(DE104_9!$F$26,ROWS($F$26:F54)-1,COLUMNS($F$26:F54)-1)<>\"\",OFFSET(DE104_9!$F$26,ROWS($F$26:F54)-1,COLUMNS($F$26:F54)-1),\"\")","v":44850},{"$f":"IF(OFFSET(DE104_9!$G$26,ROWS($G$26:G54)-1,COLUMNS($G$26:G54)-1)<>\"\",OFFSET(DE104_9!$G$26,ROWS($G$26:G54)-1,COLUMNS($G$26:G54)-1),\"\")","v":"LT"},{"$f":"IF(OFFSET(DE104_9!$H$26,ROWS($H$26:H54)-1,COLUMNS($H$26:H54)-1)<>\"\",OFFSET(DE104_9!$H$26,ROWS($H$26:H54)-1,COLUMNS($H$26:H54)-1),\"\")","v":66},{"$f":"IF(OFFSET(DE104_9!$I$26,ROWS($I$26:I54)-1,COLUMNS($I$26:I54)-1)<>\"\",OFFSET(DE104_9!$I$26,ROWS($I$26:I54)-1,COLUMNS($I$26:I54)-1),\"\")","v":""},{"$f":"IF(OFFSET(DE104_9!$J$26,ROWS($J$26:J54)-1,COLUMNS($J$26:J54)-1)<>\"\",OFFSET(DE104_9!$J$26,ROWS($J$26:J54)-1,COLUMNS($J$26:J54)-1),\"\")","v":""},{"$f":"IF(OFFSET(DE104_9!$K$26,ROWS($K$26:K54)-1,COLUMNS($K$26:K54)-1)<>\"\",OFFSET(DE104_9!$K$26,ROWS($K$26:K54)-1,COLUMNS($K$26:K54)-1),\"\")","v":4},{"$f":"IF(OFFSET(DE104_9!$L$26,ROWS($L$26:L54)-1,COLUMNS($L$26:L54)-1)<>\"\",OFFSET(DE104_9!$L$26,ROWS($L$26:L54)-1,COLUMNS($L$26:L54)-1),\"\")","v":890},{"$f":"IF(OFFSET(DE104_9!$M$26,ROWS($M$26:M54)-1,COLUMNS($M$26:M54)-1)<>\"\",OFFSET(DE104_9!$M$26,ROWS($M$26:M54)-1,COLUMNS($M$26:M54)-1),\"\")","v":""},{"$f":"IF(OFFSET(DE104_9!$N$26,ROWS($N$26:N54)-1,COLUMNS($N$26:N54)-1)<>\"\",OFFSET(DE104_9!$N$26,ROWS($N$26:N54)-1,COLUMNS($N$26:N54)-1),\"\")","v":""},{"$f":"IF(OFFSET(DE104_9!$O$26,ROWS($O$26:O54)-1,COLUMNS($O$26:O54)-1)<>\"\",OFFSET(DE104_9!$O$26,ROWS($O$26:O54)-1,COLUMNS($O$26:O54)-1),\"\")","v":""},{"$f":"IF(OFFSET(DE104_9!$P$26,ROWS($P$26:P54)-1,COLUMNS($P$26:P54)-1)<>\"\",OFFSET(DE104_9!$P$26,ROWS($P$26:P54)-1,COLUMNS($P$26:P54)-1),\"\")","v":44000},{"$f":"IF(OFFSET(DE104_9!$Q$26,ROWS($Q$26:Q54)-1,COLUMNS($Q$26:Q54)-1)<>\"\",OFFSET(DE104_9!$Q$26,ROWS($Q$26:Q54)-1,COLUMNS($Q$26:Q54)-1),\"\")","v":"DR-306"},{"$f":"IF(OFFSET(DE104_9!$R$26,ROWS($R$26:R54)-1,COLUMNS($R$26:R54)-1)<>\"\",OFFSET(DE104_9!$R$26,ROWS($R$26:R54)-1,COLUMNS($R$26:R54)-1),\"\")","v":109.9},{"$f":"IF(OFFSET(DE104_9!$S$26,ROWS($S$26:S54)-1,COLUMNS($S$26:S54)-1)<>\"\",OFFSET(DE104_9!$S$26,ROWS($S$26:S54)-1,COLUMNS($S$26:S54)-1),\"\")","v":""},{"$f":"IF(OFFSET(DE104_9!$T$26,ROWS($T$26:T54)-1,COLUMNS($T$26:T54)-1)<>\"\",OFFSET(DE104_9!$T$26,ROWS($T$26:T54)-1,COLUMNS($T$26:T54)-1),\"\")","v":""}]
[{"$f":"IF(OFFSET(DE104_9!$C$26,ROWS($C$26:C55)-1,COLUMNS($C$26:C55)-1)<>\"\",OFFSET(DE104_9!$C$26,ROWS($C$26:C55)-1,COLUMNS($C$26:C55)-1),\"\")","v":""},{"$f":"IF(OFFSET(DE104_9!$D$26,ROWS($D$26:D55)-1,COLUMNS($D$26:D55)-1)<>\"\",OFFSET(DE104_9!$D$26,ROWS($D$26:D55)-1,COLUMNS($D$26:D55)-1),\"\")","v":""},{"$f":"IF(OFFSET(DE104_9!$E$26,ROWS($E$26:E55)-1,COLUMNS($E$26:E55)-1)<>\"\",OFFSET(DE104_9!$E$26,ROWS($E$26:E55)-1,COLUMNS($E$26:E55)-1),\"\")","v":""},{"$f":"IF(OFFSET(DE104_9!$F$26,ROWS($F$26:F55)-1,COLUMNS($F$26:F55)-1)<>\"\",OFFSET(DE104_9!$F$26,ROWS($F$26:F55)-1,COLUMNS($F$26:F55)-1),\"\")","v":""},{"$f":"IF(OFFSET(DE104_9!$G$26,ROWS($G$26:G55)-1,COLUMNS($G$26:G55)-1)<>\"\",OFFSET(DE104_9!$G$26,ROWS($G$26:G55)-1,COLUMNS($G$26:G55)-1),\"\")","v":""},{"$f":"IF(OFFSET(DE104_9!$H$26,ROWS($H$26:H55)-1,COLUMNS($H$26:H55)-1)<>\"\",OFFSET(DE104_9!$H$26,ROWS($H$26:H55)-1,COLUMNS($H$26:H55)-1),\"\")","v":""},{"$f":"IF(OFFSET(DE104_9!$I$26,ROWS($I$26:I55)-1,COLUMNS($I$26:I55)-1)<>\"\",OFFSET(DE104_9!$I$26,ROWS($I$26:I55)-1,COLUMNS($I$26:I55)-1),\"\")","v":""},{"$f":"IF(OFFSET(DE104_9!$J$26,ROWS($J$26:J55)-1,COLUMNS($J$26:J55)-1)<>\"\",OFFSET(DE104_9!$J$26,ROWS($J$26:J55)-1,COLUMNS($J$26:J55)-1),\"\")","v":""},{"$f":"IF(OFFSET(DE104_9!$K$26,ROWS($K$26:K55)-1,COLUMNS($K$26:K55)-1)<>\"\",OFFSET(DE104_9!$K$26,ROWS($K$26:K55)-1,COLUMNS($K$26:K55)-1),\"\")","v":""},{"$f":"IF(OFFSET(DE104_9!$L$26,ROWS($L$26:L55)-1,COLUMNS($L$26:L55)-1)<>\"\",OFFSET(DE104_9!$L$26,ROWS($L$26:L55)-1,COLUMNS($L$26:L55)-1),\"\")","v":""},{"$f":"IF(OFFSET(DE104_9!$M$26,ROWS($M$26:M55)-1,COLUMNS($M$26:M55)-1)<>\"\",OFFSET(DE104_9!$M$26,ROWS($M$26:M55)-1,COLUMNS($M$26:M55)-1),\"\")","v":""},{"$f":"IF(OFFSET(DE104_9!$N$26,ROWS($N$26:N55)-1,COLUMNS($N$26:N55)-1)<>\"\",OFFSET(DE104_9!$N$26,ROWS($N$26:N55)-1,COLUMNS($N$26:N55)-1),\"\")","v":""},{"$f":"IF(OFFSET(DE104_9!$O$26,ROWS($O$26:O55)-1,COLUMNS($O$26:O55)-1)<>\"\",OFFSET(DE104_9!$O$26,ROWS($O$26:O55)-1,COLUMNS($O$26:O55)-1),\"\")","v":""},{"$f":"IF(OFFSET(DE104_9!$P$26,ROWS($P$26:P55)-1,COLUMNS($P$26:P55)-1)<>\"\",OFFSET(DE104_9!$P$26,ROWS($P$26:P55)-1,COLUMNS($P$26:P55)-1),\"\")","v":44600},{"$f":"IF(OFFSET(DE104_9!$Q$26,ROWS($Q$26:Q55)-1,COLUMNS($Q$26:Q55)-1)<>\"\",OFFSET(DE104_9!$Q$26,ROWS($Q$26:Q55)-1,COLUMNS($Q$26:Q55)-1),\"\")","v":"DR-306"},{"$f":"IF(OFFSET(DE104_9!$R$26,ROWS($R$26:R55)-1,COLUMNS($R$26:R55)-1)<>\"\",OFFSET(DE104_9!$R$26,ROWS($R$26:R55)-1,COLUMNS($R$26:R55)-1),\"\")","v":""},{"$f":"IF(OFFSET(DE104_9!$S$26,ROWS($S$26:S55)-1,COLUMNS($S$26:S55)-1)<>\"\",OFFSET(DE104_9!$S$26,ROWS($S$26:S55)-1,COLUMNS($S$26:S55)-1),\"\")","v":""},{"$f":"IF(OFFSET(DE104_9!$T$26,ROWS($T$26:T55)-1,COLUMNS($T$26:T55)-1)<>\"\",OFFSET(DE104_9!$T$26,ROWS($T$26:T55)-1,COLUMNS($T$26:T55)-1),\"\")","v":""}]
[{"$f":"IF(OFFSET(DE104_9!$C$26,ROWS($C$26:C56)-1,COLUMNS($C$26:C56)-1)<>\"\",OFFSET(DE104_9!$C$26,ROWS($C$26:C56)-1,COLUMNS($C$26:C56)-1),\"\")","v":""},{"$f":"IF(OFFSET(DE104_9!$D$26,ROWS($D$26:D56)-1,COLUMNS($D$26:D56)-1)<>\"\",OFFSET(DE104_9!$D$26,ROWS($D$26:D56)-1,COLUMNS($D$26:D56)-1),\"\")","v":""},{"$f":"IF(OFFSET(DE104_9!$E$26,ROWS($E$26:E56)-1,COLUMNS($E$26:E56)-1)<>\"\",OFFSET(DE104_9!$E$26,ROWS($E$26:E56)-1,COLUMNS($E$26:E56)-1),\"\")","v":""},{"$f":"IF(OFFSET(DE104_9!$F$26,ROWS($F$26:F56)-1,COLUMNS($F$26:F56)-1)<>\"\",OFFSET(DE104_9!$F$26,ROWS($F$26:F56)-1,COLUMNS($F$26:F56)-1),\"\")","v":""},{"$f":"IF(OFFSET(DE104_9!$G$26,ROWS($G$26:G56)-1,COLUMNS($G$26:G56)-1)<>\"\",OFFSET(DE104_9!$G$26,ROWS($G$26:G56)-1,COLUMNS($G$26:G56)-1),\"\")","v":""},{"$f":"IF(OFFSET(DE104_9!$H$26,ROWS($H$26:H56)-1,COLUMNS($H$26:H56)-1)<>\"\",OFFSET(DE104_9!$H$26,ROWS($H$26:H56)-1,COLUMNS($H$26:H56)-1),\"\")","v":""},{"$f":"IF(OFFSET(DE104_9!$I$26,ROWS($I$26:I56)-1,COLUMNS($I$26:I56)-1)<>\"\",OFFSET(DE104_9!$I$26,ROWS($I$26:I56)-1,COLUMNS($I$26:I56)-1),\"\")","v":""},{"$f":"IF(OFFSET(DE104_9!$J$26,ROWS($J$26:J56)-1,COLUMNS($J$26:J56)-1)<>\"\",OFFSET(DE104_9!$J$26,ROWS($J$26:J56)-1,COLUMNS($J$26:J56)-1),\"\")","v":""},{"$f":"IF(OFFSET(DE104_9!$K$26,ROWS($K$26:K56)-1,COLUMNS($K$26:K56)-1)<>\"\",OFFSET(DE104_9!$K$26,ROWS($K$26:K56)-1,COLUMNS($K$26:K56)-1),\"\")","v":""},{"$f":"IF(OFFSET(DE104_9!$L$26,ROWS($L$26:L56)-1,COLUMNS($L$26:L56)-1)<>\"\",OFFSET(DE104_9!$L$26,ROWS($L$26:L56)-1,COLUMNS($L$26:L56)-1),\"\")","v":""},{"$f":"IF(OFFSET(DE104_9!$M$26,ROWS($M$26:M56)-1,COLUMNS($M$26:M56)-1)<>\"\",OFFSET(DE104_9!$M$26,ROWS($M$26:M56)-1,COLUMNS($M$26:M56)-1),\"\")","v":""},{"$f":"IF(OFFSET(DE104_9!$N$26,ROWS($N$26:N56)-1,COLUMNS($N$26:N56)-1)<>\"\",OFFSET(DE104_9!$N$26,ROWS($N$26:N56)-1,COLUMNS($N$26:N56)-1),\"\")","v":""},{"$f":"IF(OFFSET(DE104_9!$O$26,ROWS($O$26:O56)-1,COLUMNS($O$26:O56)-1)<>\"\",OFFSET(DE104_9!$O$26,ROWS($O$26:O56)-1,COLUMNS($O$26:O56)-1),\"\")","v":""},{"$f":"IF(OFFSET(DE104_9!$P$26,ROWS($P$26:P56)-1,COLUMNS($P$26:P56)-1)<>\"\",OFFSET(DE104_9!$P$26,ROWS($P$26:P56)-1,COLUMNS($P$26:P56)-1),\"\")","v":44850},{"$f":"IF(OFFSET(DE104_9!$Q$26,ROWS($Q$26:Q56)-1,COLUMNS($Q$26:Q56)-1)<>\"\",OFFSET(DE104_9!$Q$26,ROWS($Q$26:Q56)-1,COLUMNS($Q$26:Q56)-1),\"\")","v":"DR-306"},{"$f":"IF(OFFSET(DE104_9!$R$26,ROWS($R$26:R56)-1,COLUMNS($R$26:R56)-1)<>\"\",OFFSET(DE104_9!$R$26,ROWS($R$26:R56)-1,COLUMNS($R$26:R56)-1),\"\")","v":""},{"$f":"IF(OFFSET(DE104_9!$S$26,ROWS($S$26:S56)-1,COLUMNS($S$26:S56)-1)<>\"\",OFFSET(DE104_9!$S$26,ROWS($S$26:S56)-1,COLUMNS($S$26:S56)-1),\"\")","v":""},{"$f":"IF(OFFSET(DE104_9!$T$26,ROWS($T$26:T56)-1,COLUMNS($T$26:T56)-1)<>\"\",OFFSET(DE104_9!$T$26,ROWS($T$26:T56)-1,COLUMNS($T$26:T56)-1),\"\")","v":""}]
[{"$f":"IF(OFFSET(DE104_9!$C$26,ROWS($C$26:C57)-1,COLUMNS($C$26:C57)-1)<>\"\",OFFSET(DE104_9!$C$26,ROWS($C$26:C57)-1,COLUMNS($C$26:C57)-1),\"\")","v":16},{"$f":"IF(OFFSET(DE104_9!$D$26,ROWS($D$26:D57)-1,COLUMNS($D$26:D57)-1)<>\"\",OFFSET(DE104_9!$D$26,ROWS($D$26:D57)-1,COLUMNS($D$26:D57)-1),\"\")","v":"WBL"},{"$f":"IF(OFFSET(DE104_9!$E$26,ROWS($E$26:E57)-1,COLUMNS($E$26:E57)-1)<>\"\",OFFSET(DE104_9!$E$26,ROWS($E$26:E57)-1,COLUMNS($E$26:E57)-1),\"\")","v":45625},{"$f":"IF(OFFSET(DE104_9!$F$26,ROWS($F$26:F57)-1,COLUMNS($F$26:F57)-1)<>\"\",OFFSET(DE104_9!$F$26,ROWS($F$26:F57)-1,COLUMNS($F$26:F57)-1),\"\")","v":45750},{"$f":"IF(OFFSET(DE104_9!$G$26,ROWS($G$26:G57)-1,COLUMNS($G$26:G57)-1)<>\"\",OFFSET(DE104_9!$G$26,ROWS($G$26:G57)-1,COLUMNS($G$26:G57)-1),\"\")","v":"LT"},{"$f":"IF(OFFSET(DE104_9!$H$26,ROWS($H$26:H57)-1,COLUMNS($H$26:H57)-1)<>\"\",OFFSET(DE104_9!$H$26,ROWS($H$26:H57)-1,COLUMNS($H$26:H57)-1),\"\")","v":66},{"$f":"IF(OFFSET(DE104_9!$I$26,ROWS($I$26:I57)-1,COLUMNS($I$26:I57)-1)<>\"\",OFFSET(DE104_9!$I$26,ROWS($I$26:I57)-1,COLUMNS($I$26:I57)-1),\"\")","v":""},{"$f":"IF(OFFSET(DE104_9!$J$26,ROWS($J$26:J57)-1,COLUMNS($J$26:J57)-1)<>\"\",OFFSET(DE104_9!$J$26,ROWS($J$26:J57)-1,COLUMNS($J$26:J57)-1),\"\")","v":""},{"$f":"IF(OFFSET(DE104_9!$K$26,ROWS($K$26:K57)-1,COLUMNS($K$26:K57)-1)<>\"\",OFFSET(DE104_9!$K$26,ROWS($K$26:K57)-1,COLUMNS($K$26:K57)-1),\"\")","v":4},{"$f":"IF(OFFSET(DE104_9!$L$26,ROWS($L$26:L57)-1,COLUMNS($L$26:L57)-1)<>\"\",OFFSET(DE104_9!$L$26,ROWS($L$26:L57)-1,COLUMNS($L$26:L57)-1),\"\")","v":165},{"$f":"IF(OFFSET(DE104_9!$M$26,ROWS($M$26:M57)-1,COLUMNS($M$26:M57)-1)<>\"\",OFFSET(DE104_9!$M$26,ROWS($M$26:M57)-1,COLUMNS($M$26:M57)-1),\"\")","v":""},{"$f":"IF(OFFSET(DE104_9!$N$26,ROWS($N$26:N57)-1,COLUMNS($N$26:N57)-1)<>\"\",OFFSET(DE104_9!$N$26,ROWS($N$26:N57)-1,COLUMNS($N$26:N57)-1),\"\")","v":""},{"$f":"IF(OFFSET(DE104_9!$O$26,ROWS($O$26:O57)-1,COLUMNS($O$26:O57)-1)<>\"\",OFFSET(DE104_9!$O$26,ROWS($O$26:O57)-1,COLUMNS($O$26:O57)-1),\"\")","v":""},{"$f":"IF(OFFSET(DE104_9!$P$26,ROWS($P$26:P57)-1,COLUMNS($P$26:P57)-1)<>\"\",OFFSET(DE104_9!$P$26,ROWS($P$26:P57)-1,COLUMNS($P$26:P57)-1),\"\")","v":45625},{"$f":"IF(OFFSET(DE104_9!$Q$26,ROWS($Q$26:Q57)-1,COLUMNS($Q$26:Q57)-1)<>\"\",OFFSET(DE104_9!$Q$26,ROWS($Q$26:Q57)-1,COLUMNS($Q$26:Q57)-1),\"\")","v":"DR-306"},{"$f":"IF(OFFSET(DE104_9!$R$26,ROWS($R$26:R57)-1,COLUMNS($R$26:R57)-1)<>\"\",OFFSET(DE104_9!$R$26,ROWS($R$26:R57)-1,COLUMNS($R$26:R57)-1),\"\")","v":20.399999999999999},{"$f":"IF(OFFSET(DE104_9!$S$26,ROWS($S$26:S57)-1,COLUMNS($S$26:S57)-1)<>\"\",OFFSET(DE104_9!$S$26,ROWS($S$26:S57)-1,COLUMNS($S$26:S57)-1),\"\")","v":""},{"$f":"IF(OFFSET(DE104_9!$T$26,ROWS($T$26:T57)-1,COLUMNS($T$26:T57)-1)<>\"\",OFFSET(DE104_9!$T$26,ROWS($T$26:T57)-1,COLUMNS($T$26:T57)-1),\"\")","v":""}]
[{"$f":"IF(OFFSET(DE104_9!$C$26,ROWS($C$26:C58)-1,COLUMNS($C$26:C58)-1)<>\"\",OFFSET(DE104_9!$C$26,ROWS($C$26:C58)-1,COLUMNS($C$26:C58)-1),\"\")","v":""},{"$f":"IF(OFFSET(DE104_9!$D$26,ROWS($D$26:D58)-1,COLUMNS($D$26:D58)-1)<>\"\",OFFSET(DE104_9!$D$26,ROWS($D$26:D58)-1,COLUMNS($D$26:D58)-1),\"\")","v":""},{"$f":"IF(OFFSET(DE104_9!$E$26,ROWS($E$26:E58)-1,COLUMNS($E$26:E58)-1)<>\"\",OFFSET(DE104_9!$E$26,ROWS($E$26:E58)-1,COLUMNS($E$26:E58)-1),\"\")","v":""},{"$f":"IF(OFFSET(DE104_9!$F$26,ROWS($F$26:F58)-1,COLUMNS($F$26:F58)-1)<>\"\",OFFSET(DE104_9!$F$26,ROWS($F$26:F58)-1,COLUMNS($F$26:F58)-1),\"\")","v":""},{"$f":"IF(OFFSET(DE104_9!$G$26,ROWS($G$26:G58)-1,COLUMNS($G$26:G58)-1)<>\"\",OFFSET(DE104_9!$G$26,ROWS($G$26:G58)-1,COLUMNS($G$26:G58)-1),\"\")","v":""},{"$f":"IF(OFFSET(DE104_9!$H$26,ROWS($H$26:H58)-1,COLUMNS($H$26:H58)-1)<>\"\",OFFSET(DE104_9!$H$26,ROWS($H$26:H58)-1,COLUMNS($H$26:H58)-1),\"\")","v":""},{"$f":"IF(OFFSET(DE104_9!$I$26,ROWS($I$26:I58)-1,COLUMNS($I$26:I58)-1)<>\"\",OFFSET(DE104_9!$I$26,ROWS($I$26:I58)-1,COLUMNS($I$26:I58)-1),\"\")","v":""},{"$f":"IF(OFFSET(DE104_9!$J$26,ROWS($J$26:J58)-1,COLUMNS($J$26:J58)-1)<>\"\",OFFSET(DE104_9!$J$26,ROWS($J$26:J58)-1,COLUMNS($J$26:J58)-1),\"\")","v":""},{"$f":"IF(OFFSET(DE104_9!$K$26,ROWS($K$26:K58)-1,COLUMNS($K$26:K58)-1)<>\"\",OFFSET(DE104_9!$K$26,ROWS($K$26:K58)-1,COLUMNS($K$26:K58)-1),\"\")","v":""},{"$f":"IF(OFFSET(DE104_9!$L$26,ROWS($L$26:L58)-1,COLUMNS($L$26:L58)-1)<>\"\",OFFSET(DE104_9!$L$26,ROWS($L$26:L58)-1,COLUMNS($L$26:L58)-1),\"\")","v":""},{"$f":"IF(OFFSET(DE104_9!$M$26,ROWS($M$26:M58)-1,COLUMNS($M$26:M58)-1)<>\"\",OFFSET(DE104_9!$M$26,ROWS($M$26:M58)-1,COLUMNS($M$26:M58)-1),\"\")","v":""},{"$f":"IF(OFFSET(DE104_9!$N$26,ROWS($N$26:N58)-1,COLUMNS($N$26:N58)-1)<>\"\",OFFSET(DE104_9!$N$26,ROWS($N$26:N58)-1,COLUMNS($N$26:N58)-1),\"\")","v":""},{"$f":"IF(OFFSET(DE104_9!$O$26,ROWS($O$26:O58)-1,COLUMNS($O$26:O58)-1)<>\"\",OFFSET(DE104_9!$O$26,ROWS($O$26:O58)-1,COLUMNS($O$26:O58)-1),\"\")","v":""},{"$f":"IF(OFFSET(DE104_9!$P$26,ROWS($P$26:P58)-1,COLUMNS($P$26:P58)-1)<>\"\",OFFSET(DE104_9!$P$26,ROWS($P$26:P58)-1,COLUMNS($P$26:P58)-1),\"\")","v":45750},{"$f":"IF(OFFSET(DE104_9!$Q$26,ROWS($Q$26:Q58)-1,COLUMNS($Q$26:Q58)-1)<>\"\",OFFSET(DE104_9!$Q$26,ROWS($Q$26:Q58)-1,COLUMNS($Q$26:Q58)-1),\"\")","v":"DR-306"},{"$f":"IF(OFFSET(DE104_9!$R$26,ROWS($R$26:R58)-1,COLUMNS($R$26:R58)-1)<>\"\",OFFSET(DE104_9!$R$26,ROWS($R$26:R58)-1,COLUMNS($R$26:R58)-1),\"\")","v":""},{"$f":"IF(OFFSET(DE104_9!$S$26,ROWS($S$26:S58)-1,COLUMNS($S$26:S58)-1)<>\"\",OFFSET(DE104_9!$S$26,ROWS($S$26:S58)-1,COLUMNS($S$26:S58)-1),\"\")","v":""},{"$f":"IF(OFFSET(DE104_9!$T$26,ROWS($T$26:T58)-1,COLUMNS($T$26:T58)-1)<>\"\",OFFSET(DE104_9!$T$26,ROWS($T$26:T58)-1,COLUMNS($T$26:T58)-1),\"\")","v":""}]
[{"$f":"IF(OFFSET(DE104_9!$C$26,ROWS($C$26:C59)-1,COLUMNS($C$26:C59)-1)<>\"\",OFFSET(DE104_9!$C$26,ROWS($C$26:C59)-1,COLUMNS($C$26:C59)-1),\"\")","v":17},{"$f":"IF(OFFSET(DE104_9!$D$26,ROWS($D$26:D59)-1,COLUMNS($D$26:D59)-1)<>\"\",OFFSET(DE104_9!$D$26,ROWS($D$26:D59)-1,COLUMNS($D$26:D59)-1),\"\")","v":"WBL"},{"$f":"IF(OFFSET(DE104_9!$E$26,ROWS($E$26:E59)-1,COLUMNS($E$26:E59)-1)<>\"\",OFFSET(DE104_9!$E$26,ROWS($E$26:E59)-1,COLUMNS($E$26:E59)-1),\"\")","v":46125},{"$f":"IF(OFFSET(DE104_9!$F$26,ROWS($F$26:F59)-1,COLUMNS($F$26:F59)-1)<>\"\",OFFSET(DE104_9!$F$26,ROWS($F$26:F59)-1,COLUMNS($F$26:F59)-1),\"\")","v":46200},{"$f":"IF(OFFSET(DE104_9!$G$26,ROWS($G$26:G59)-1,COLUMNS($G$26:G59)-1)<>\"\",OFFSET(DE104_9!$G$26,ROWS($G$26:G59)-1,COLUMNS($G$26:G59)-1),\"\")","v":"LT"},{"$f":"IF(OFFSET(DE104_9!$H$26,ROWS($H$26:H59)-1,COLUMNS($H$26:H59)-1)<>\"\",OFFSET(DE104_9!$H$26,ROWS($H$26:H59)-1,COLUMNS($H$26:H59)-1),\"\")","v":66},{"$f":"IF(OFFSET(DE104_9!$I$26,ROWS($I$26:I59)-1,COLUMNS($I$26:I59)-1)<>\"\",OFFSET(DE104_9!$I$26,ROWS($I$26:I59)-1,COLUMNS($I$26:I59)-1),\"\")","v":""},{"$f":"IF(OFFSET(DE104_9!$J$26,ROWS($J$26:J59)-1,COLUMNS($J$26:J59)-1)<>\"\",OFFSET(DE104_9!$J$26,ROWS($J$26:J59)-1,COLUMNS($J$26:J59)-1),\"\")","v":""},{"$f":"IF(OFFSET(DE104_9!$K$26,ROWS($K$26:K59)-1,COLUMNS($K$26:K59)-1)<>\"\",OFFSET(DE104_9!$K$26,ROWS($K$26:K59)-1,COLUMNS($K$26:K59)-1),\"\")","v":4},{"$f":"IF(OFFSET(DE104_9!$L$26,ROWS($L$26:L59)-1,COLUMNS($L$26:L59)-1)<>\"\",OFFSET(DE104_9!$L$26,ROWS($L$26:L59)-1,COLUMNS($L$26:L59)-1),\"\")","v":115},{"$f":"IF(OFFSET(DE104_9!$M$26,ROWS($M$26:M59)-1,COLUMNS($M$26:M59)-1)<>\"\",OFFSET(DE104_9!$M$26,ROWS($M$26:M59)-1,COLUMNS($M$26:M59)-1),\"\")","v":""},{"$f":"IF(OFFSET(DE104_9!$N$26,ROWS($N$26:N59)-1,COLUMNS($N$26:N59)-1)<>\"\",OFFSET(DE104_9!$N$26,ROWS($N$26:N59)-1,COLUMNS($N$26:N59)-1),\"\")","v":""},{"$f":"IF(OFFSET(DE104_9!$O$26,ROWS($O$26:O59)-1,COLUMNS($O$26:O59)-1)<>\"\",OFFSET(DE104_9!$O$26,ROWS($O$26:O59)-1,COLUMNS($O$26:O59)-1),\"\")","v":""},{"$f":"IF(OFFSET(DE104_9!$P$26,ROWS($P$26:P59)-1,COLUMNS($P$26:P59)-1)<>\"\",OFFSET(DE104_9!$P$26,ROWS($P$26:P59)-1,COLUMNS($P$26:P59)-1),\"\")","v":46150},{"$f":"IF(OFFSET(DE104_9!$Q$26,ROWS($Q$26:Q59)-1,COLUMNS($Q$26:Q59)-1)<>\"\",OFFSET(DE104_9!$Q$26,ROWS($Q$26:Q59)-1,COLUMNS($Q$26:Q59)-1),\"\")","v":"DR-306"},{"$f":"IF(OFFSET(DE104_9!$R$26,ROWS($R$26:R59)-1,COLUMNS($R$26:R59)-1)<>\"\",OFFSET(DE104_9!$R$26,ROWS($R$26:R59)-1,COLUMNS($R$26:R59)-1),\"\")","v":14.2},{"$f":"IF(OFFSET(DE104_9!$S$26,ROWS($S$26:S59)-1,COLUMNS($S$26:S59)-1)<>\"\",OFFSET(DE104_9!$S$26,ROWS($S$26:S59)-1,COLUMNS($S$26:S59)-1),\"\")","v":""},{"$f":"IF(OFFSET(DE104_9!$T$26,ROWS($T$26:T59)-1,COLUMNS($T$26:T59)-1)<>\"\",OFFSET(DE104_9!$T$26,ROWS($T$26:T59)-1,COLUMNS($T$26:T59)-1),\"\")","v":""}]
[{"$f":"IF(OFFSET(DE104_9!$C$26,ROWS($C$26:C60)-1,COLUMNS($C$26:C60)-1)<>\"\",OFFSET(DE104_9!$C$26,ROWS($C$26:C60)-1,COLUMNS($C$26:C60)-1),\"\")","v":18},{"$f":"IF(OFFSET(DE104_9!$D$26,ROWS($D$26:D60)-1,COLUMNS($D$26:D60)-1)<>\"\",OFFSET(DE104_9!$D$26,ROWS($D$26:D60)-1,COLUMNS($D$26:D60)-1),\"\")","v":"WBL"},{"$f":"IF(OFFSET(DE104_9!$E$26,ROWS($E$26:E60)-1,COLUMNS($E$26:E60)-1)<>\"\",OFFSET(DE104_9!$E$26,ROWS($E$26:E60)-1,COLUMNS($E$26:E60)-1),\"\")","v":46425},{"$f":"IF(OFFSET(DE104_9!$F$26,ROWS($F$26:F60)-1,COLUMNS($F$26:F60)-1)<>\"\",OFFSET(DE104_9!$F$26,ROWS($F$26:F60)-1,COLUMNS($F$26:F60)-1),\"\")","v":47000},{"$f":"IF(OFFSET(DE104_9!$G$26,ROWS($G$26:G60)-1,COLUMNS($G$26:G60)-1)<>\"\",OFFSET(DE104_9!$G$26,ROWS($G$26:G60)-1,COLUMNS($G$26:G60)-1),\"\")","v":"LT"},{"$f":"IF(OFFSET(DE104_9!$H$26,ROWS($H$26:H60)-1,COLUMNS($H$26:H60)-1)<>\"\",OFFSET(DE104_9!$H$26,ROWS($H$26:H60)-1,COLUMNS($H$26:H60)-1),\"\")","v":66},{"$f":"IF(OFFSET(DE104_9!$I$26,ROWS($I$26:I60)-1,COLUMNS($I$26:I60)-1)<>\"\",OFFSET(DE104_9!$I$26,ROWS($I$26:I60)-1,COLUMNS($I$26:I60)-1),\"\")","v":""},{"$f":"IF(OFFSET(DE104_9!$J$26,ROWS($J$26:J60)-1,COLUMNS($J$26:J60)-1)<>\"\",OFFSET(DE104_9!$J$26,ROWS($J$26:J60)-1,COLUMNS($J$26:J60)-1),\"\")","v":""},{"$f":"IF(OFFSET(DE104_9!$K$26,ROWS($K$26:K60)-1,COLUMNS($K$26:K60)-1)<>\"\",OFFSET(DE104_9!$K$26,ROWS($K$26:K60)-1,COLUMNS($K$26:K60)-1),\"\")","v":4},{"$f":"IF(OFFSET(DE104_9!$L$26,ROWS($L$26:L60)-1,COLUMNS($L$26:L60)-1)<>\"\",OFFSET(DE104_9!$L$26,ROWS($L$26:L60)-1,COLUMNS($L$26:L60)-1),\"\")","v":615},{"$f":"IF(OFFSET(DE104_9!$M$26,ROWS($M$26:M60)-1,COLUMNS($M$26:M60)-1)<>\"\",OFFSET(DE104_9!$M$26,ROWS($M$26:M60)-1,COLUMNS($M$26:M60)-1),\"\")","v":""},{"$f":"IF(OFFSET(DE104_9!$N$26,ROWS($N$26:N60)-1,COLUMNS($N$26:N60)-1)<>\"\",OFFSET(DE104_9!$N$26,ROWS($N$26:N60)-1,COLUMNS($N$26:N60)-1),\"\")","v":""},{"$f":"IF(OFFSET(DE104_9!$O$26,ROWS($O$26:O60)-1,COLUMNS($O$26:O60)-1)<>\"\",OFFSET(DE104_9!$O$26,ROWS($O$26:O60)-1,COLUMNS($O$26:O60)-1),\"\")","v":""},{"$f":"IF(OFFSET(DE104_9!$P$26,ROWS($P$26:P60)-1,COLUMNS($P$26:P60)-1)<>\"\",OFFSET(DE104_9!$P$26,ROWS($P$26:P60)-1,COLUMNS($P$26:P60)-1),\"\")","v":46425},{"$f":"IF(OFFSET(DE104_9!$Q$26,ROWS($Q$26:Q60)-1,COLUMNS($Q$26:Q60)-1)<>\"\",OFFSET(DE104_9!$Q$26,ROWS($Q$26:Q60)-1,COLUMNS($Q$26:Q60)-1),\"\")","v":"DR-306"},{"$f":"IF(OFFSET(DE104_9!$R$26,ROWS($R$26:R60)-1,COLUMNS($R$26:R60)-1)<>\"\",OFFSET(DE104_9!$R$26,ROWS($R$26:R60)-1,COLUMNS($R$26:R60)-1),\"\")","v":75.900000000000006},{"$f":"IF(OFFSET(DE104_9!$S$26,ROWS($S$26:S60)-1,COLUMNS($S$26:S60)-1)<>\"\",OFFSET(DE104_9!$S$26,ROWS($S$26:S60)-1,COLUMNS($S$26:S60)-1),\"\")","v":""},{"$f":"IF(OFFSET(DE104_9!$T$26,ROWS($T$26:T60)-1,COLUMNS($T$26:T60)-1)<>\"\",OFFSET(DE104_9!$T$26,ROWS($T$26:T60)-1,COLUMNS($T$26:T60)-1),\"\")","v":""}]
[{"$f":"IF(OFFSET(DE104_9!$C$26,ROWS($C$26:C61)-1,COLUMNS($C$26:C61)-1)<>\"\",OFFSET(DE104_9!$C$26,ROWS($C$26:C61)-1,COLUMNS($C$26:C61)-1),\"\")","v":""},{"$f":"IF(OFFSET(DE104_9!$D$26,ROWS($D$26:D61)-1,COLUMNS($D$26:D61)-1)<>\"\",OFFSET(DE104_9!$D$26,ROWS($D$26:D61)-1,COLUMNS($D$26:D61)-1),\"\")","v":""},{"$f":"IF(OFFSET(DE104_9!$E$26,ROWS($E$26:E61)-1,COLUMNS($E$26:E61)-1)<>\"\",OFFSET(DE104_9!$E$26,ROWS($E$26:E61)-1,COLUMNS($E$26:E61)-1),\"\")","v":""},{"$f":"IF(OFFSET(DE104_9!$F$26,ROWS($F$26:F61)-1,COLUMNS($F$26:F61)-1)<>\"\",OFFSET(DE104_9!$F$26,ROWS($F$26:F61)-1,COLUMNS($F$26:F61)-1),\"\")","v":""},{"$f":"IF(OFFSET(DE104_9!$G$26,ROWS($G$26:G61)-1,COLUMNS($G$26:G61)-1)<>\"\",OFFSET(DE104_9!$G$26,ROWS($G$26:G61)-1,COLUMNS($G$26:G61)-1),\"\")","v":""},{"$f":"IF(OFFSET(DE104_9!$H$26,ROWS($H$26:H61)-1,COLUMNS($H$26:H61)-1)<>\"\",OFFSET(DE104_9!$H$26,ROWS($H$26:H61)-1,COLUMNS($H$26:H61)-1),\"\")","v":""},{"$f":"IF(OFFSET(DE104_9!$I$26,ROWS($I$26:I61)-1,COLUMNS($I$26:I61)-1)<>\"\",OFFSET(DE104_9!$I$26,ROWS($I$26:I61)-1,COLUMNS($I$26:I61)-1),\"\")","v":""},{"$f":"IF(OFFSET(DE104_9!$J$26,ROWS($J$26:J61)-1,COLUMNS($J$26:J61)-1)<>\"\",OFFSET(DE104_9!$J$26,ROWS($J$26:J61)-1,COLUMNS($J$26:J61)-1),\"\")","v":""},{"$f":"IF(OFFSET(DE104_9!$K$26,ROWS($K$26:K61)-1,COLUMNS($K$26:K61)-1)<>\"\",OFFSET(DE104_9!$K$26,ROWS($K$26:K61)-1,COLUMNS($K$26:K61)-1),\"\")","v":""},{"$f":"IF(OFFSET(DE104_9!$L$26,ROWS($L$26:L61)-1,COLUMNS($L$26:L61)-1)<>\"\",OFFSET(DE104_9!$L$26,ROWS($L$26:L61)-1,COLUMNS($L$26:L61)-1),\"\")","v":""},{"$f":"IF(OFFSET(DE104_9!$M$26,ROWS($M$26:M61)-1,COLUMNS($M$26:M61)-1)<>\"\",OFFSET(DE104_9!$M$26,ROWS($M$26:M61)-1,COLUMNS($M$26:M61)-1),\"\")","v":""},{"$f":"IF(OFFSET(DE104_9!$N$26,ROWS($N$26:N61)-1,COLUMNS($N$26:N61)-1)<>\"\",OFFSET(DE104_9!$N$26,ROWS($N$26:N61)-1,COLUMNS($N$26:N61)-1),\"\")","v":""},{"$f":"IF(OFFSET(DE104_9!$O$26,ROWS($O$26:O61)-1,COLUMNS($O$26:O61)-1)<>\"\",OFFSET(DE104_9!$O$26,ROWS($O$26:O61)-1,COLUMNS($O$26:O61)-1),\"\")","v":""},{"$f":"IF(OFFSET(DE104_9!$P$26,ROWS($P$26:P61)-1,COLUMNS($P$26:P61)-1)<>\"\",OFFSET(DE104_9!$P$26,ROWS($P$26:P61)-1,COLUMNS($P$26:P61)-1),\"\")","v":47000},{"$f":"IF(OFFSET(DE104_9!$Q$26,ROWS($Q$26:Q61)-1,COLUMNS($Q$26:Q61)-1)<>\"\",OFFSET(DE104_9!$Q$26,ROWS($Q$26:Q61)-1,COLUMNS($Q$26:Q61)-1),\"\")","v":"DR-306"},{"$f":"IF(OFFSET(DE104_9!$R$26,ROWS($R$26:R61)-1,COLUMNS($R$26:R61)-1)<>\"\",OFFSET(DE104_9!$R$26,ROWS($R$26:R61)-1,COLUMNS($R$26:R61)-1),\"\")","v":""},{"$f":"IF(OFFSET(DE104_9!$S$26,ROWS($S$26:S61)-1,COLUMNS($S$26:S61)-1)<>\"\",OFFSET(DE104_9!$S$26,ROWS($S$26:S61)-1,COLUMNS($S$26:S61)-1),\"\")","v":""},{"$f":"IF(OFFSET(DE104_9!$T$26,ROWS($T$26:T61)-1,COLUMNS($T$26:T61)-1)<>\"\",OFFSET(DE104_9!$T$26,ROWS($T$26:T61)-1,COLUMNS($T$26:T61)-1),\"\")","v":""}]
[{"$f":"IF(OFFSET(DE104_9!$C$26,ROWS($C$26:C62)-1,COLUMNS($C$26:C62)-1)<>\"\",OFFSET(DE104_9!$C$26,ROWS($C$26:C62)-1,COLUMNS($C$26:C62)-1),\"\")","v":19},{"$f":"IF(OFFSET(DE104_9!$D$26,ROWS($D$26:D62)-1,COLUMNS($D$26:D62)-1)<>\"\",OFFSET(DE104_9!$D$26,ROWS($D$26:D62)-1,COLUMNS($D$26:D62)-1),\"\")","v":"WBL"},{"$f":"IF(OFFSET(DE104_9!$E$26,ROWS($E$26:E62)-1,COLUMNS($E$26:E62)-1)<>\"\",OFFSET(DE104_9!$E$26,ROWS($E$26:E62)-1,COLUMNS($E$26:E62)-1),\"\")","v":47425},{"$f":"IF(OFFSET(DE104_9!$F$26,ROWS($F$26:F62)-1,COLUMNS($F$26:F62)-1)<>\"\",OFFSET(DE104_9!$F$26,ROWS($F$26:F62)-1,COLUMNS($F$26:F62)-1),\"\")","v":47525},{"$f":"IF(OFFSET(DE104_9!$G$26,ROWS($G$26:G62)-1,COLUMNS($G$26:G62)-1)<>\"\",OFFSET(DE104_9!$G$26,ROWS($G$26:G62)-1,COLUMNS($G$26:G62)-1),\"\")","v":"LT"},{"$f":"IF(OFFSET(DE104_9!$H$26,ROWS($H$26:H62)-1,COLUMNS($H$26:H62)-1)<>\"\",OFFSET(DE104_9!$H$26,ROWS($H$26:H62)-1,COLUMNS($H$26:H62)-1),\"\")","v":66},{"$f":"IF(OFFSET(DE104_9!$I$26,ROWS($I$26:I62)-1,COLUMNS($I$26:I62)-1)<>\"\",OFFSET(DE104_9!$I$26,ROWS($I$26:I62)-1,COLUMNS($I$26:I62)-1),\"\")","v":""},{"$f":"IF(OFFSET(DE104_9!$J$26,ROWS($J$26:J62)-1,COLUMNS($J$26:J62)-1)<>\"\",OFFSET(DE104_9!$J$26,ROWS($J$26:J62)-1,COLUMNS($J$26:J62)-1),\"\")","v":""},{"$f":"IF(OFFSET(DE104_9!$K$26,ROWS($K$26:K62)-1,COLUMNS($K$26:K62)-1)<>\"\",OFFSET(DE104_9!$K$26,ROWS($K$26:K62)-1,COLUMNS($K$26:K62)-1),\"\")","v":4},{"$f":"IF(OFFSET(DE104_9!$L$26,ROWS($L$26:L62)-1,COLUMNS($L$26:L62)-1)<>\"\",OFFSET(DE104_9!$L$26,ROWS($L$26:L62)-1,COLUMNS($L$26:L62)-1),\"\")","v":140},{"$f":"IF(OFFSET(DE104_9!$M$26,ROWS($M$26:M62)-1,COLUMNS($M$26:M62)-1)<>\"\",OFFSET(DE104_9!$M$26,ROWS($M$26:M62)-1,COLUMNS($M$26:M62)-1),\"\")","v":""},{"$f":"IF(OFFSET(DE104_9!$N$26,ROWS($N$26:N62)-1,COLUMNS($N$26:N62)-1)<>\"\",OFFSET(DE104_9!$N$26,ROWS($N$26:N62)-1,COLUMNS($N$26:N62)-1),\"\")","v":""},{"$f":"IF(OFFSET(DE104_9!$O$26,ROWS($O$26:O62)-1,COLUMNS($O$26:O62)-1)<>\"\",OFFSET(DE104_9!$O$26,ROWS($O$26:O62)-1,COLUMNS($O$26:O62)-1),\"\")","v":""},{"$f":"IF(OFFSET(DE104_9!$P$26,ROWS($P$26:P62)-1,COLUMNS($P$26:P62)-1)<>\"\",OFFSET(DE104_9!$P$26,ROWS($P$26:P62)-1,COLUMNS($P$26:P62)-1),\"\")","v":47525},{"$f":"IF(OFFSET(DE104_9!$Q$26,ROWS($Q$26:Q62)-1,COLUMNS($Q$26:Q62)-1)<>\"\",OFFSET(DE104_9!$Q$26,ROWS($Q$26:Q62)-1,COLUMNS($Q$26:Q62)-1),\"\")","v":"DR-306"},{"$f":"IF(OFFSET(DE104_9!$R$26,ROWS($R$26:R62)-1,COLUMNS($R$26:R62)-1)<>\"\",OFFSET(DE104_9!$R$26,ROWS($R$26:R62)-1,COLUMNS($R$26:R62)-1),\"\")","v":17.3},{"$f":"IF(OFFSET(DE104_9!$S$26,ROWS($S$26:S62)-1,COLUMNS($S$26:S62)-1)<>\"\",OFFSET(DE104_9!$S$26,ROWS($S$26:S62)-1,COLUMNS($S$26:S62)-1),\"\")","v":""},{"$f":"IF(OFFSET(DE104_9!$T$26,ROWS($T$26:T62)-1,COLUMNS($T$26:T62)-1)<>\"\",OFFSET(DE104_9!$T$26,ROWS($T$26:T62)-1,COLUMNS($T$26:T62)-1),\"\")","v":""}]
[{"$f":"IF(OFFSET(DE104_9!$C$26,ROWS($C$26:C63)-1,COLUMNS($C$26:C63)-1)<>\"\",OFFSET(DE104_9!$C$26,ROWS($C$26:C63)-1,COLUMNS($C$26:C63)-1),\"\")","v":20},{"$f":"IF(OFFSET(DE104_9!$D$26,ROWS($D$26:D63)-1,COLUMNS($D$26:D63)-1)<>\"\",OFFSET(DE104_9!$D$26,ROWS($D$26:D63)-1,COLUMNS($D$26:D63)-1),\"\")","v":"WBL"},{"$f":"IF(OFFSET(DE104_9!$E$26,ROWS($E$26:E63)-1,COLUMNS($E$26:E63)-1)<>\"\",OFFSET(DE104_9!$E$26,ROWS($E$26:E63)-1,COLUMNS($E$26:E63)-1),\"\")","v":48800},{"$f":"IF(OFFSET(DE104_9!$F$26,ROWS($F$26:F63)-1,COLUMNS($F$26:F63)-1)<>\"\",OFFSET(DE104_9!$F$26,ROWS($F$26:F63)-1,COLUMNS($F$26:F63)-1),\"\")","v":48900},{"$f":"IF(OFFSET(DE104_9!$G$26,ROWS($G$26:G63)-1,COLUMNS($G$26:G63)-1)<>\"\",OFFSET(DE104_9!$G$26,ROWS($G$26:G63)-1,COLUMNS($G$26:G63)-1),\"\")","v":"LT"},{"$f":"IF(OFFSET(DE104_9!$H$26,ROWS($H$26:H63)-1,COLUMNS($H$26:H63)-1)<>\"\",OFFSET(DE104_9!$H$26,ROWS($H$26:H63)-1,COLUMNS($H$26:H63)-1),\"\")","v":66},{"$f":"IF(OFFSET(DE104_9!$I$26,ROWS($I$26:I63)-1,COLUMNS($I$26:I63)-1)<>\"\",OFFSET(DE104_9!$I$26,ROWS($I$26:I63)-1,COLUMNS($I$26:I63)-1),\"\")","v":""},{"$f":"IF(OFFSET(DE104_9!$J$26,ROWS($J$26:J63)-1,COLUMNS($J$26:J63)-1)<>\"\",OFFSET(DE104_9!$J$26,ROWS($J$26:J63)-1,COLUMNS($J$26:J63)-1),\"\")","v":""},{"$f":"IF(OFFSET(DE104_9!$K$26,ROWS($K$26:K63)-1,COLUMNS($K$26:K63)-1)<>\"\",OFFSET(DE104_9!$K$26,ROWS($K$26:K63)-1,COLUMNS($K$26:K63)-1),\"\")","v":4},{"$f":"IF(OFFSET(DE104_9!$L$26,ROWS($L$26:L63)-1,COLUMNS($L$26:L63)-1)<>\"\",OFFSET(DE104_9!$L$26,ROWS($L$26:L63)-1,COLUMNS($L$26:L63)-1),\"\")","v":140},{"$f":"IF(OFFSET(DE104_9!$M$26,ROWS($M$26:M63)-1,COLUMNS($M$26:M63)-1)<>\"\",OFFSET(DE104_9!$M$26,ROWS($M$26:M63)-1,COLUMNS($M$26:M63)-1),\"\")","v":""},{"$f":"IF(OFFSET(DE104_9!$N$26,ROWS($N$26:N63)-1,COLUMNS($N$26:N63)-1)<>\"\",OFFSET(DE104_9!$N$26,ROWS($N$26:N63)-1,COLUMNS($N$26:N63)-1),\"\")","v":""},{"$f":"IF(OFFSET(DE104_9!$O$26,ROWS($O$26:O63)-1,COLUMNS($O$26:O63)-1)<>\"\",OFFSET(DE104_9!$O$26,ROWS($O$26:O63)-1,COLUMNS($O$26:O63)-1),\"\")","v":""},{"$f":"IF(OFFSET(DE104_9!$P$26,ROWS($P$26:P63)-1,COLUMNS($P$26:P63)-1)<>\"\",OFFSET(DE104_9!$P$26,ROWS($P$26:P63)-1,COLUMNS($P$26:P63)-1),\"\")","v":48900},{"$f":"IF(OFFSET(DE104_9!$Q$26,ROWS($Q$26:Q63)-1,COLUMNS($Q$26:Q63)-1)<>\"\",OFFSET(DE104_9!$Q$26,ROWS($Q$26:Q63)-1,COLUMNS($Q$26:Q63)-1),\"\")","v":"DR-306"},{"$f":"IF(OFFSET(DE104_9!$R$26,ROWS($R$26:R63)-1,COLUMNS($R$26:R63)-1)<>\"\",OFFSET(DE104_9!$R$26,ROWS($R$26:R63)-1,COLUMNS($R$26:R63)-1),\"\")","v":17.3},{"$f":"IF(OFFSET(DE104_9!$S$26,ROWS($S$26:S63)-1,COLUMNS($S$26:S63)-1)<>\"\",OFFSET(DE104_9!$S$26,ROWS($S$26:S63)-1,COLUMNS($S$26:S63)-1),\"\")","v":""},{"$f":"IF(OFFSET(DE104_9!$T$26,ROWS($T$26:T63)-1,COLUMNS($T$26:T63)-1)<>\"\",OFFSET(DE104_9!$T$26,ROWS($T$26:T63)-1,COLUMNS($T$26:T63)-1),\"\")","v":""}]
[{"$f":"IF(OFFSET(DE104_9!$C$26,ROWS($C$26:C64)-1,COLUMNS($C$26:C64)-1)<>\"\",OFFSET(DE104_9!$C$26,ROWS($C$26:C64)-1,COLUMNS($C$26:C64)-1),\"\")","v":21},{"$f":"IF(OFFSET(DE104_9!$D$26,ROWS($D$26:D64)-1,COLUMNS($D$26:D64)-1)<>\"\",OFFSET(DE104_9!$D$26,ROWS($D$26:D64)-1,COLUMNS($D$26:D64)-1),\"\")","v":"WBL"},{"$f":"IF(OFFSET(DE104_9!$E$26,ROWS($E$26:E64)-1,COLUMNS($E$26:E64)-1)<>\"\",OFFSET(DE104_9!$E$26,ROWS($E$26:E64)-1,COLUMNS($E$26:E64)-1),\"\")","v":49975},{"$f":"IF(OFFSET(DE104_9!$F$26,ROWS($F$26:F64)-1,COLUMNS($F$26:F64)-1)<>\"\",OFFSET(DE104_9!$F$26,ROWS($F$26:F64)-1,COLUMNS($F$26:F64)-1),\"\")","v":50200},{"$f":"IF(OFFSET(DE104_9!$G$26,ROWS($G$26:G64)-1,COLUMNS($G$26:G64)-1)<>\"\",OFFSET(DE104_9!$G$26,ROWS($G$26:G64)-1,COLUMNS($G$26:G64)-1),\"\")","v":"LT"},{"$f":"IF(OFFSET(DE104_9!$H$26,ROWS($H$26:H64)-1,COLUMNS($H$26:H64)-1)<>\"\",OFFSET(DE104_9!$H$26,ROWS($H$26:H64)-1,COLUMNS($H$26:H64)-1),\"\")","v":66},{"$f":"IF(OFFSET(DE104_9!$I$26,ROWS($I$26:I64)-1,COLUMNS($I$26:I64)-1)<>\"\",OFFSET(DE104_9!$I$26,ROWS($I$26:I64)-1,COLUMNS($I$26:I64)-1),\"\")","v":""},{"$f":"IF(OFFSET(DE104_9!$J$26,ROWS($J$26:J64)-1,COLUMNS($J$26:J64)-1)<>\"\",OFFSET(DE104_9!$J$26,ROWS($J$26:J64)-1,COLUMNS($J$26:J64)-1),\"\")","v":""},{"$f":"IF(OFFSET(DE104_9!$K$26,ROWS($K$26:K64)-1,COLUMNS($K$26:K64)-1)<>\"\",OFFSET(DE104_9!$K$26,ROWS($K$26:K64)-1,COLUMNS($K$26:K64)-1),\"\")","v":4},{"$f":"IF(OFFSET(DE104_9!$L$26,ROWS($L$26:L64)-1,COLUMNS($L$26:L64)-1)<>\"\",OFFSET(DE104_9!$L$26,ROWS($L$26:L64)-1,COLUMNS($L$26:L64)-1),\"\")","v":265},{"$f":"IF(OFFSET(DE104_9!$M$26,ROWS($M$26:M64)-1,COLUMNS($M$26:M64)-1)<>\"\",OFFSET(DE104_9!$M$26,ROWS($M$26:M64)-1,COLUMNS($M$26:M64)-1),\"\")","v":""},{"$f":"IF(OFFSET(DE104_9!$N$26,ROWS($N$26:N64)-1,COLUMNS($N$26:N64)-1)<>\"\",OFFSET(DE104_9!$N$26,ROWS($N$26:N64)-1,COLUMNS($N$26:N64)-1),\"\")","v":""},{"$f":"IF(OFFSET(DE104_9!$O$26,ROWS($O$26:O64)-1,COLUMNS($O$26:O64)-1)<>\"\",OFFSET(DE104_9!$O$26,ROWS($O$26:O64)-1,COLUMNS($O$26:O64)-1),\"\")","v":""},{"$f":"IF(OFFSET(DE104_9!$P$26,ROWS($P$26:P64)-1,COLUMNS($P$26:P64)-1)<>\"\",OFFSET(DE104_9!$P$26,ROWS($P$26:P64)-1,COLUMNS($P$26:P64)-1),\"\")","v":50000},{"$f":"IF(OFFSET(DE104_9!$Q$26,ROWS($Q$26:Q64)-1,COLUMNS($Q$26:Q64)-1)<>\"\",OFFSET(DE104_9!$Q$26,ROWS($Q$26:Q64)-1,COLUMNS($Q$26:Q64)-1),\"\")","v":"DR-306"},{"$f":"IF(OFFSET(DE104_9!$R$26,ROWS($R$26:R64)-1,COLUMNS($R$26:R64)-1)<>\"\",OFFSET(DE104_9!$R$26,ROWS($R$26:R64)-1,COLUMNS($R$26:R64)-1),\"\")","v":32.700000000000003},{"$f":"IF(OFFSET(DE104_9!$S$26,ROWS($S$26:S64)-1,COLUMNS($S$26:S64)-1)<>\"\",OFFSET(DE104_9!$S$26,ROWS($S$26:S64)-1,COLUMNS($S$26:S64)-1),\"\")","v":""},{"$f":"IF(OFFSET(DE104_9!$T$26,ROWS($T$26:T64)-1,COLUMNS($T$26:T64)-1)<>\"\",OFFSET(DE104_9!$T$26,ROWS($T$26:T64)-1,COLUMNS($T$26:T64)-1),\"\")","v":""}]
[{"$f":"IF(OFFSET(DE104_9!$C$26,ROWS($C$26:C65)-1,COLUMNS($C$26:C65)-1)<>\"\",OFFSET(DE104_9!$C$26,ROWS($C$26:C65)-1,COLUMNS($C$26:C65)-1),\"\")","v":22},{"$f":"IF(OFFSET(DE104_9!$D$26,ROWS($D$26:D65)-1,COLUMNS($D$26:D65)-1)<>\"\",OFFSET(DE104_9!$D$26,ROWS($D$26:D65)-1,COLUMNS($D$26:D65)-1),\"\")","v":"WBL"},{"$f":"IF(OFFSET(DE104_9!$E$26,ROWS($E$26:E65)-1,COLUMNS($E$26:E65)-1)<>\"\",OFFSET(DE104_9!$E$26,ROWS($E$26:E65)-1,COLUMNS($E$26:E65)-1),\"\")","v":50350},{"$f":"IF(OFFSET(DE104_9!$F$26,ROWS($F$26:F65)-1,COLUMNS($F$26:F65)-1)<>\"\",OFFSET(DE104_9!$F$26,ROWS($F$26:F65)-1,COLUMNS($F$26:F65)-1),\"\")","v":50650},{"$f":"IF(OFFSET(DE104_9!$G$26,ROWS($G$26:G65)-1,COLUMNS($G$26:G65)-1)<>\"\",OFFSET(DE104_9!$G$26,ROWS($G$26:G65)-1,COLUMNS($G$26:G65)-1),\"\")","v":"LT"},{"$f":"IF(OFFSET(DE104_9!$H$26,ROWS($H$26:H65)-1,COLUMNS($H$26:H65)-1)<>\"\",OFFSET(DE104_9!$H$26,ROWS($H$26:H65)-1,COLUMNS($H$26:H65)-1),\"\")","v":66},{"$f":"IF(OFFSET(DE104_9!$I$26,ROWS($I$26:I65)-1,COLUMNS($I$26:I65)-1)<>\"\",OFFSET(DE104_9!$I$26,ROWS($I$26:I65)-1,COLUMNS($I$26:I65)-1),\"\")","v":""},{"$f":"IF(OFFSET(DE104_9!$J$26,ROWS($J$26:J65)-1,COLUMNS($J$26:J65)-1)<>\"\",OFFSET(DE104_9!$J$26,ROWS($J$26:J65)-1,COLUMNS($J$26:J65)-1),\"\")","v":""},{"$f":"IF(OFFSET(DE104_9!$K$26,ROWS($K$26:K65)-1,COLUMNS($K$26:K65)-1)<>\"\",OFFSET(DE104_9!$K$26,ROWS($K$26:K65)-1,COLUMNS($K$26:K65)-1),\"\")","v":4},{"$f":"IF(OFFSET(DE104_9!$L$26,ROWS($L$26:L65)-1,COLUMNS($L$26:L65)-1)<>\"\",OFFSET(DE104_9!$L$26,ROWS($L$26:L65)-1,COLUMNS($L$26:L65)-1),\"\")","v":340},{"$f":"IF(OFFSET(DE104_9!$M$26,ROWS($M$26:M65)-1,COLUMNS($M$26:M65)-1)<>\"\",OFFSET(DE104_9!$M$26,ROWS($M$26:M65)-1,COLUMNS($M$26:M65)-1),\"\")","v":""},{"$f":"IF(OFFSET(DE104_9!$N$26,ROWS($N$26:N65)-1,COLUMNS($N$26:N65)-1)<>\"\",OFFSET(DE104_9!$N$26,ROWS($N$26:N65)-1,COLUMNS($N$26:N65)-1),\"\")","v":""},{"$f":"IF(OFFSET(DE104_9!$O$26,ROWS($O$26:O65)-1,COLUMNS($O$26:O65)-1)<>\"\",OFFSET(DE104_9!$O$26,ROWS($O$26:O65)-1,COLUMNS($O$26:O65)-1),\"\")","v":""},{"$f":"IF(OFFSET(DE104_9!$P$26,ROWS($P$26:P65)-1,COLUMNS($P$26:P65)-1)<>\"\",OFFSET(DE104_9!$P$26,ROWS($P$26:P65)-1,COLUMNS($P$26:P65)-1),\"\")","v":50350},{"$f":"IF(OFFSET(DE104_9!$Q$26,ROWS($Q$26:Q65)-1,COLUMNS($Q$26:Q65)-1)<>\"\",OFFSET(DE104_9!$Q$26,ROWS($Q$26:Q65)-1,COLUMNS($Q$26:Q65)-1),\"\")","v":"DR-306"},{"$f":"IF(OFFSET(DE104_9!$R$26,ROWS($R$26:R65)-1,COLUMNS($R$26:R65)-1)<>\"\",OFFSET(DE104_9!$R$26,ROWS($R$26:R65)-1,COLUMNS($R$26:R65)-1),\"\")","v":42},{"$f":"IF(OFFSET(DE104_9!$S$26,ROWS($S$26:S65)-1,COLUMNS($S$26:S65)-1)<>\"\",OFFSET(DE104_9!$S$26,ROWS($S$26:S65)-1,COLUMNS($S$26:S65)-1),\"\")","v":""},{"$f":"IF(OFFSET(DE104_9!$T$26,ROWS($T$26:T65)-1,COLUMNS($T$26:T65)-1)<>\"\",OFFSET(DE104_9!$T$26,ROWS($T$26:T65)-1,COLUMNS($T$26:T65)-1),\"\")","v":""}]
[{"$f":"IF(OFFSET(DE104_9!$C$26,ROWS($C$26:C66)-1,COLUMNS($C$26:C66)-1)<>\"\",OFFSET(DE104_9!$C$26,ROWS($C$26:C66)-1,COLUMNS($C$26:C66)-1),\"\")","v":""},{"$f":"IF(OFFSET(DE104_9!$D$26,ROWS($D$26:D66)-1,COLUMNS($D$26:D66)-1)<>\"\",OFFSET(DE104_9!$D$26,ROWS($D$26:D66)-1,COLUMNS($D$26:D66)-1),\"\")","v":""},{"$f":"IF(OFFSET(DE104_9!$E$26,ROWS($E$26:E66)-1,COLUMNS($E$26:E66)-1)<>\"\",OFFSET(DE104_9!$E$26,ROWS($E$26:E66)-1,COLUMNS($E$26:E66)-1),\"\")","v":""},{"$f":"IF(OFFSET(DE104_9!$F$26,ROWS($F$26:F66)-1,COLUMNS($F$26:F66)-1)<>\"\",OFFSET(DE104_9!$F$26,ROWS($F$26:F66)-1,COLUMNS($F$26:F66)-1),\"\")","v":""},{"$f":"IF(OFFSET(DE104_9!$G$26,ROWS($G$26:G66)-1,COLUMNS($G$26:G66)-1)<>\"\",OFFSET(DE104_9!$G$26,ROWS($G$26:G66)-1,COLUMNS($G$26:G66)-1),\"\")","v":""},{"$f":"IF(OFFSET(DE104_9!$H$26,ROWS($H$26:H66)-1,COLUMNS($H$26:H66)-1)<>\"\",OFFSET(DE104_9!$H$26,ROWS($H$26:H66)-1,COLUMNS($H$26:H66)-1),\"\")","v":""},{"$f":"IF(OFFSET(DE104_9!$I$26,ROWS($I$26:I66)-1,COLUMNS($I$26:I66)-1)<>\"\",OFFSET(DE104_9!$I$26,ROWS($I$26:I66)-1,COLUMNS($I$26:I66)-1),\"\")","v":""},{"$f":"IF(OFFSET(DE104_9!$J$26,ROWS($J$26:J66)-1,COLUMNS($J$26:J66)-1)<>\"\",OFFSET(DE104_9!$J$26,ROWS($J$26:J66)-1,COLUMNS($J$26:J66)-1),\"\")","v":""},{"$f":"IF(OFFSET(DE104_9!$K$26,ROWS($K$26:K66)-1,COLUMNS($K$26:K66)-1)<>\"\",OFFSET(DE104_9!$K$26,ROWS($K$26:K66)-1,COLUMNS($K$26:K66)-1),\"\")","v":""},{"$f":"IF(OFFSET(DE104_9!$L$26,ROWS($L$26:L66)-1,COLUMNS($L$26:L66)-1)<>\"\",OFFSET(DE104_9!$L$26,ROWS($L$26:L66)-1,COLUMNS($L$26:L66)-1),\"\")","v":""},{"$f":"IF(OFFSET(DE104_9!$M$26,ROWS($M$26:M66)-1,COLUMNS($M$26:M66)-1)<>\"\",OFFSET(DE104_9!$M$26,ROWS($M$26:M66)-1,COLUMNS($M$26:M66)-1),\"\")","v":""},{"$f":"IF(OFFSET(DE104_9!$N$26,ROWS($N$26:N66)-1,COLUMNS($N$26:N66)-1)<>\"\",OFFSET(DE104_9!$N$26,ROWS($N$26:N66)-1,COLUMNS($N$26:N66)-1),\"\")","v":""},{"$f":"IF(OFFSET(DE104_9!$O$26,ROWS($O$26:O66)-1,COLUMNS($O$26:O66)-1)<>\"\",OFFSET(DE104_9!$O$26,ROWS($O$26:O66)-1,COLUMNS($O$26:O66)-1),\"\")","v":""},{"$f":"IF(OFFSET(DE104_9!$P$26,ROWS($P$26:P66)-1,COLUMNS($P$26:P66)-1)<>\"\",OFFSET(DE104_9!$P$26,ROWS($P$26:P66)-1,COLUMNS($P$26:P66)-1),\"\")","v":50650},{"$f":"IF(OFFSET(DE104_9!$Q$26,ROWS($Q$26:Q66)-1,COLUMNS($Q$26:Q66)-1)<>\"\",OFFSET(DE104_9!$Q$26,ROWS($Q$26:Q66)-1,COLUMNS($Q$26:Q66)-1),\"\")","v":"DR-306"},{"$f":"IF(OFFSET(DE104_9!$R$26,ROWS($R$26:R66)-1,COLUMNS($R$26:R66)-1)<>\"\",OFFSET(DE104_9!$R$26,ROWS($R$26:R66)-1,COLUMNS($R$26:R66)-1),\"\")","v":""},{"$f":"IF(OFFSET(DE104_9!$S$26,ROWS($S$26:S66)-1,COLUMNS($S$26:S66)-1)<>\"\",OFFSET(DE104_9!$S$26,ROWS($S$26:S66)-1,COLUMNS($S$26:S66)-1),\"\")","v":""},{"$f":"IF(OFFSET(DE104_9!$T$26,ROWS($T$26:T66)-1,COLUMNS($T$26:T66)-1)<>\"\",OFFSET(DE104_9!$T$26,ROWS($T$26:T66)-1,COLUMNS($T$26:T66)-1),\"\")","v":""}]
[{"$f":"IF(OFFSET(DE104_9!$C$26,ROWS($C$26:C67)-1,COLUMNS($C$26:C67)-1)<>\"\",OFFSET(DE104_9!$C$26,ROWS($C$26:C67)-1,COLUMNS($C$26:C67)-1),\"\")","v":23},{"$f":"IF(OFFSET(DE104_9!$D$26,ROWS($D$26:D67)-1,COLUMNS($D$26:D67)-1)<>\"\",OFFSET(DE104_9!$D$26,ROWS($D$26:D67)-1,COLUMNS($D$26:D67)-1),\"\")","v":"WBL"},{"$f":"IF(OFFSET(DE104_9!$E$26,ROWS($E$26:E67)-1,COLUMNS($E$26:E67)-1)<>\"\",OFFSET(DE104_9!$E$26,ROWS($E$26:E67)-1,COLUMNS($E$26:E67)-1),\"\")","v":51575},{"$f":"IF(OFFSET(DE104_9!$F$26,ROWS($F$26:F67)-1,COLUMNS($F$26:F67)-1)<>\"\",OFFSET(DE104_9!$F$26,ROWS($F$26:F67)-1,COLUMNS($F$26:F67)-1),\"\")","v":52325},{"$f":"IF(OFFSET(DE104_9!$G$26,ROWS($G$26:G67)-1,COLUMNS($G$26:G67)-1)<>\"\",OFFSET(DE104_9!$G$26,ROWS($G$26:G67)-1,COLUMNS($G$26:G67)-1),\"\")","v":"LT"},{"$f":"IF(OFFSET(DE104_9!$H$26,ROWS($H$26:H67)-1,COLUMNS($H$26:H67)-1)<>\"\",OFFSET(DE104_9!$H$26,ROWS($H$26:H67)-1,COLUMNS($H$26:H67)-1),\"\")","v":66},{"$f":"IF(OFFSET(DE104_9!$I$26,ROWS($I$26:I67)-1,COLUMNS($I$26:I67)-1)<>\"\",OFFSET(DE104_9!$I$26,ROWS($I$26:I67)-1,COLUMNS($I$26:I67)-1),\"\")","v":""},{"$f":"IF(OFFSET(DE104_9!$J$26,ROWS($J$26:J67)-1,COLUMNS($J$26:J67)-1)<>\"\",OFFSET(DE104_9!$J$26,ROWS($J$26:J67)-1,COLUMNS($J$26:J67)-1),\"\")","v":""},{"$f":"IF(OFFSET(DE104_9!$K$26,ROWS($K$26:K67)-1,COLUMNS($K$26:K67)-1)<>\"\",OFFSET(DE104_9!$K$26,ROWS($K$26:K67)-1,COLUMNS($K$26:K67)-1),\"\")","v":4},{"$f":"IF(OFFSET(DE104_9!$L$26,ROWS($L$26:L67)-1,COLUMNS($L$26:L67)-1)<>\"\",OFFSET(DE104_9!$L$26,ROWS($L$26:L67)-1,COLUMNS($L$26:L67)-1),\"\")","v":790},{"$f":"IF(OFFSET(DE104_9!$M$26,ROWS($M$26:M67)-1,COLUMNS($M$26:M67)-1)<>\"\",OFFSET(DE104_9!$M$26,ROWS($M$26:M67)-1,COLUMNS($M$26:M67)-1),\"\")","v":""},{"$f":"IF(OFFSET(DE104_9!$N$26,ROWS($N$26:N67)-1,COLUMNS($N$26:N67)-1)<>\"\",OFFSET(DE104_9!$N$26,ROWS($N$26:N67)-1,COLUMNS($N$26:N67)-1),\"\")","v":""},{"$f":"IF(OFFSET(DE104_9!$O$26,ROWS($O$26:O67)-1,COLUMNS($O$26:O67)-1)<>\"\",OFFSET(DE104_9!$O$26,ROWS($O$26:O67)-1,COLUMNS($O$26:O67)-1),\"\")","v":""},{"$f":"IF(OFFSET(DE104_9!$P$26,ROWS($P$26:P67)-1,COLUMNS($P$26:P67)-1)<>\"\",OFFSET(DE104_9!$P$26,ROWS($P$26:P67)-1,COLUMNS($P$26:P67)-1),\"\")","v":51625},{"$f":"IF(OFFSET(DE104_9!$Q$26,ROWS($Q$26:Q67)-1,COLUMNS($Q$26:Q67)-1)<>\"\",OFFSET(DE104_9!$Q$26,ROWS($Q$26:Q67)-1,COLUMNS($Q$26:Q67)-1),\"\")","v":"DR-306"},{"$f":"IF(OFFSET(DE104_9!$R$26,ROWS($R$26:R67)-1,COLUMNS($R$26:R67)-1)<>\"\",OFFSET(DE104_9!$R$26,ROWS($R$26:R67)-1,COLUMNS($R$26:R67)-1),\"\")","v":97.5},{"$f":"IF(OFFSET(DE104_9!$S$26,ROWS($S$26:S67)-1,COLUMNS($S$26:S67)-1)<>\"\",OFFSET(DE104_9!$S$26,ROWS($S$26:S67)-1,COLUMNS($S$26:S67)-1),\"\")","v":""},{"$f":"IF(OFFSET(DE104_9!$T$26,ROWS($T$26:T67)-1,COLUMNS($T$26:T67)-1)<>\"\",OFFSET(DE104_9!$T$26,ROWS($T$26:T67)-1,COLUMNS($T$26:T67)-1),\"\")","v":""}]
[{"$f":"IF(OFFSET(DE104_9!$C$26,ROWS($C$26:C68)-1,COLUMNS($C$26:C68)-1)<>\"\",OFFSET(DE104_9!$C$26,ROWS($C$26:C68)-1,COLUMNS($C$26:C68)-1),\"\")","v":""},{"$f":"IF(OFFSET(DE104_9!$D$26,ROWS($D$26:D68)-1,COLUMNS($D$26:D68)-1)<>\"\",OFFSET(DE104_9!$D$26,ROWS($D$26:D68)-1,COLUMNS($D$26:D68)-1),\"\")","v":""},{"$f":"IF(OFFSET(DE104_9!$E$26,ROWS($E$26:E68)-1,COLUMNS($E$26:E68)-1)<>\"\",OFFSET(DE104_9!$E$26,ROWS($E$26:E68)-1,COLUMNS($E$26:E68)-1),\"\")","v":""},{"$f":"IF(OFFSET(DE104_9!$F$26,ROWS($F$26:F68)-1,COLUMNS($F$26:F68)-1)<>\"\",OFFSET(DE104_9!$F$26,ROWS($F$26:F68)-1,COLUMNS($F$26:F68)-1),\"\")","v":""},{"$f":"IF(OFFSET(DE104_9!$G$26,ROWS($G$26:G68)-1,COLUMNS($G$26:G68)-1)<>\"\",OFFSET(DE104_9!$G$26,ROWS($G$26:G68)-1,COLUMNS($G$26:G68)-1),\"\")","v":""},{"$f":"IF(OFFSET(DE104_9!$H$26,ROWS($H$26:H68)-1,COLUMNS($H$26:H68)-1)<>\"\",OFFSET(DE104_9!$H$26,ROWS($H$26:H68)-1,COLUMNS($H$26:H68)-1),\"\")","v":""},{"$f":"IF(OFFSET(DE104_9!$I$26,ROWS($I$26:I68)-1,COLUMNS($I$26:I68)-1)<>\"\",OFFSET(DE104_9!$I$26,ROWS($I$26:I68)-1,COLUMNS($I$26:I68)-1),\"\")","v":""},{"$f":"IF(OFFSET(DE104_9!$J$26,ROWS($J$26:J68)-1,COLUMNS($J$26:J68)-1)<>\"\",OFFSET(DE104_9!$J$26,ROWS($J$26:J68)-1,COLUMNS($J$26:J68)-1),\"\")","v":""},{"$f":"IF(OFFSET(DE104_9!$K$26,ROWS($K$26:K68)-1,COLUMNS($K$26:K68)-1)<>\"\",OFFSET(DE104_9!$K$26,ROWS($K$26:K68)-1,COLUMNS($K$26:K68)-1),\"\")","v":""},{"$f":"IF(OFFSET(DE104_9!$L$26,ROWS($L$26:L68)-1,COLUMNS($L$26:L68)-1)<>\"\",OFFSET(DE104_9!$L$26,ROWS($L$26:L68)-1,COLUMNS($L$26:L68)-1),\"\")","v":""},{"$f":"IF(OFFSET(DE104_9!$M$26,ROWS($M$26:M68)-1,COLUMNS($M$26:M68)-1)<>\"\",OFFSET(DE104_9!$M$26,ROWS($M$26:M68)-1,COLUMNS($M$26:M68)-1),\"\")","v":""},{"$f":"IF(OFFSET(DE104_9!$N$26,ROWS($N$26:N68)-1,COLUMNS($N$26:N68)-1)<>\"\",OFFSET(DE104_9!$N$26,ROWS($N$26:N68)-1,COLUMNS($N$26:N68)-1),\"\")","v":""},{"$f":"IF(OFFSET(DE104_9!$O$26,ROWS($O$26:O68)-1,COLUMNS($O$26:O68)-1)<>\"\",OFFSET(DE104_9!$O$26,ROWS($O$26:O68)-1,COLUMNS($O$26:O68)-1),\"\")","v":""},{"$f":"IF(OFFSET(DE104_9!$P$26,ROWS($P$26:P68)-1,COLUMNS($P$26:P68)-1)<>\"\",OFFSET(DE104_9!$P$26,ROWS($P$26:P68)-1,COLUMNS($P$26:P68)-1),\"\")","v":51800},{"$f":"IF(OFFSET(DE104_9!$Q$26,ROWS($Q$26:Q68)-1,COLUMNS($Q$26:Q68)-1)<>\"\",OFFSET(DE104_9!$Q$26,ROWS($Q$26:Q68)-1,COLUMNS($Q$26:Q68)-1),\"\")","v":"DR-306"},{"$f":"IF(OFFSET(DE104_9!$R$26,ROWS($R$26:R68)-1,COLUMNS($R$26:R68)-1)<>\"\",OFFSET(DE104_9!$R$26,ROWS($R$26:R68)-1,COLUMNS($R$26:R68)-1),\"\")","v":""},{"$f":"IF(OFFSET(DE104_9!$S$26,ROWS($S$26:S68)-1,COLUMNS($S$26:S68)-1)<>\"\",OFFSET(DE104_9!$S$26,ROWS($S$26:S68)-1,COLUMNS($S$26:S68)-1),\"\")","v":""},{"$f":"IF(OFFSET(DE104_9!$T$26,ROWS($T$26:T68)-1,COLUMNS($T$26:T68)-1)<>\"\",OFFSET(DE104_9!$T$26,ROWS($T$26:T68)-1,COLUMNS($T$26:T68)-1),\"\")","v":""}]
[{"$f":"IF(OFFSET(DE104_9!$C$26,ROWS($C$26:C69)-1,COLUMNS($C$26:C69)-1)<>\"\",OFFSET(DE104_9!$C$26,ROWS($C$26:C69)-1,COLUMNS($C$26:C69)-1),\"\")","v":""},{"$f":"IF(OFFSET(DE104_9!$D$26,ROWS($D$26:D69)-1,COLUMNS($D$26:D69)-1)<>\"\",OFFSET(DE104_9!$D$26,ROWS($D$26:D69)-1,COLUMNS($D$26:D69)-1),\"\")","v":""},{"$f":"IF(OFFSET(DE104_9!$E$26,ROWS($E$26:E69)-1,COLUMNS($E$26:E69)-1)<>\"\",OFFSET(DE104_9!$E$26,ROWS($E$26:E69)-1,COLUMNS($E$26:E69)-1),\"\")","v":""},{"$f":"IF(OFFSET(DE104_9!$F$26,ROWS($F$26:F69)-1,COLUMNS($F$26:F69)-1)<>\"\",OFFSET(DE104_9!$F$26,ROWS($F$26:F69)-1,COLUMNS($F$26:F69)-1),\"\")","v":""},{"$f":"IF(OFFSET(DE104_9!$G$26,ROWS($G$26:G69)-1,COLUMNS($G$26:G69)-1)<>\"\",OFFSET(DE104_9!$G$26,ROWS($G$26:G69)-1,COLUMNS($G$26:G69)-1),\"\")","v":""},{"$f":"IF(OFFSET(DE104_9!$H$26,ROWS($H$26:H69)-1,COLUMNS($H$26:H69)-1)<>\"\",OFFSET(DE104_9!$H$26,ROWS($H$26:H69)-1,COLUMNS($H$26:H69)-1),\"\")","v":""},{"$f":"IF(OFFSET(DE104_9!$I$26,ROWS($I$26:I69)-1,COLUMNS($I$26:I69)-1)<>\"\",OFFSET(DE104_9!$I$26,ROWS($I$26:I69)-1,COLUMNS($I$26:I69)-1),\"\")","v":""},{"$f":"IF(OFFSET(DE104_9!$J$26,ROWS($J$26:J69)-1,COLUMNS($J$26:J69)-1)<>\"\",OFFSET(DE104_9!$J$26,ROWS($J$26:J69)-1,COLUMNS($J$26:J69)-1),\"\")","v":""},{"$f":"IF(OFFSET(DE104_9!$K$26,ROWS($K$26:K69)-1,COLUMNS($K$26:K69)-1)<>\"\",OFFSET(DE104_9!$K$26,ROWS($K$26:K69)-1,COLUMNS($K$26:K69)-1),\"\")","v":""},{"$f":"IF(OFFSET(DE104_9!$L$26,ROWS($L$26:L69)-1,COLUMNS($L$26:L69)-1)<>\"\",OFFSET(DE104_9!$L$26,ROWS($L$26:L69)-1,COLUMNS($L$26:L69)-1),\"\")","v":""},{"$f":"IF(OFFSET(DE104_9!$M$26,ROWS($M$26:M69)-1,COLUMNS($M$26:M69)-1)<>\"\",OFFSET(DE104_9!$M$26,ROWS($M$26:M69)-1,COLUMNS($M$26:M69)-1),\"\")","v":""},{"$f":"IF(OFFSET(DE104_9!$N$26,ROWS($N$26:N69)-1,COLUMNS($N$26:N69)-1)<>\"\",OFFSET(DE104_9!$N$26,ROWS($N$26:N69)-1,COLUMNS($N$26:N69)-1),\"\")","v":""},{"$f":"IF(OFFSET(DE104_9!$O$26,ROWS($O$26:O69)-1,COLUMNS($O$26:O69)-1)<>\"\",OFFSET(DE104_9!$O$26,ROWS($O$26:O69)-1,COLUMNS($O$26:O69)-1),\"\")","v":""},{"$f":"IF(OFFSET(DE104_9!$P$26,ROWS($P$26:P69)-1,COLUMNS($P$26:P69)-1)<>\"\",OFFSET(DE104_9!$P$26,ROWS($P$26:P69)-1,COLUMNS($P$26:P69)-1),\"\")","v":52325},{"$f":"IF(OFFSET(DE104_9!$Q$26,ROWS($Q$26:Q69)-1,COLUMNS($Q$26:Q69)-1)<>\"\",OFFSET(DE104_9!$Q$26,ROWS($Q$26:Q69)-1,COLUMNS($Q$26:Q69)-1),\"\")","v":"DR-306"},{"$f":"IF(OFFSET(DE104_9!$R$26,ROWS($R$26:R69)-1,COLUMNS($R$26:R69)-1)<>\"\",OFFSET(DE104_9!$R$26,ROWS($R$26:R69)-1,COLUMNS($R$26:R69)-1),\"\")","v":""},{"$f":"IF(OFFSET(DE104_9!$S$26,ROWS($S$26:S69)-1,COLUMNS($S$26:S69)-1)<>\"\",OFFSET(DE104_9!$S$26,ROWS($S$26:S69)-1,COLUMNS($S$26:S69)-1),\"\")","v":""},{"$f":"IF(OFFSET(DE104_9!$T$26,ROWS($T$26:T69)-1,COLUMNS($T$26:T69)-1)<>\"\",OFFSET(DE104_9!$T$26,ROWS($T$26:T69)-1,COLUMNS($T$26:T69)-1),\"\")","v":""}]
[{"$f":"IF(OFFSET(DE104_9!$C$26,ROWS($C$26:C70)-1,COLUMNS($C$26:C70)-1)<>\"\",OFFSET(DE104_9!$C$26,ROWS($C$26:C70)-1,COLUMNS($C$26:C70)-1),\"\")","v":24},{"$f":"IF(OFFSET(DE104_9!$D$26,ROWS($D$26:D70)-1,COLUMNS($D$26:D70)-1)<>\"\",OFFSET(DE104_9!$D$26,ROWS($D$26:D70)-1,COLUMNS($D$26:D70)-1),\"\")","v":"WBL"},{"$f":"IF(OFFSET(DE104_9!$E$26,ROWS($E$26:E70)-1,COLUMNS($E$26:E70)-1)<>\"\",OFFSET(DE104_9!$E$26,ROWS($E$26:E70)-1,COLUMNS($E$26:E70)-1),\"\")","v":53175},{"$f":"IF(OFFSET(DE104_9!$F$26,ROWS($F$26:F70)-1,COLUMNS($F$26:F70)-1)<>\"\",OFFSET(DE104_9!$F$26,ROWS($F$26:F70)-1,COLUMNS($F$26:F70)-1),\"\")","v":53700},{"$f":"IF(OFFSET(DE104_9!$G$26,ROWS($G$26:G70)-1,COLUMNS($G$26:G70)-1)<>\"\",OFFSET(DE104_9!$G$26,ROWS($G$26:G70)-1,COLUMNS($G$26:G70)-1),\"\")","v":"LT"},{"$f":"IF(OFFSET(DE104_9!$H$26,ROWS($H$26:H70)-1,COLUMNS($H$26:H70)-1)<>\"\",OFFSET(DE104_9!$H$26,ROWS($H$26:H70)-1,COLUMNS($H$26:H70)-1),\"\")","v":66},{"$f":"IF(OFFSET(DE104_9!$I$26,ROWS($I$26:I70)-1,COLUMNS($I$26:I70)-1)<>\"\",OFFSET(DE104_9!$I$26,ROWS($I$26:I70)-1,COLUMNS($I$26:I70)-1),\"\")","v":""},{"$f":"IF(OFFSET(DE104_9!$J$26,ROWS($J$26:J70)-1,COLUMNS($J$26:J70)-1)<>\"\",OFFSET(DE104_9!$J$26,ROWS($J$26:J70)-1,COLUMNS($J$26:J70)-1),\"\")","v":""},{"$f":"IF(OFFSET(DE104_9!$K$26,ROWS($K$26:K70)-1,COLUMNS($K$26:K70)-1)<>\"\",OFFSET(DE104_9!$K$26,ROWS($K$26:K70)-1,COLUMNS($K$26:K70)-1),\"\")","v":4},{"$f":"IF(OFFSET(DE104_9!$L$26,ROWS($L$26:L70)-1,COLUMNS($L$26:L70)-1)<>\"\",OFFSET(DE104_9!$L$26,ROWS($L$26:L70)-1,COLUMNS($L$26:L70)-1),\"\")","v":565},{"$f":"IF(OFFSET(DE104_9!$M$26,ROWS($M$26:M70)-1,COLUMNS($M$26:M70)-1)<>\"\",OFFSET(DE104_9!$M$26,ROWS($M$26:M70)-1,COLUMNS($M$26:M70)-1),\"\")","v":""},{"$f":"IF(OFFSET(DE104_9!$N$26,ROWS($N$26:N70)-1,COLUMNS($N$26:N70)-1)<>\"\",OFFSET(DE104_9!$N$26,ROWS($N$26:N70)-1,COLUMNS($N$26:N70)-1),\"\")","v":""},{"$f":"IF(OFFSET(DE104_9!$O$26,ROWS($O$26:O70)-1,COLUMNS($O$26:O70)-1)<>\"\",OFFSET(DE104_9!$O$26,ROWS($O$26:O70)-1,COLUMNS($O$26:O70)-1),\"\")","v":""},{"$f":"IF(OFFSET(DE104_9!$P$26,ROWS($P$26:P70)-1,COLUMNS($P$26:P70)-1)<>\"\",OFFSET(DE104_9!$P$26,ROWS($P$26:P70)-1,COLUMNS($P$26:P70)-1),\"\")","v":53175},{"$f":"IF(OFFSET(DE104_9!$Q$26,ROWS($Q$26:Q70)-1,COLUMNS($Q$26:Q70)-1)<>\"\",OFFSET(DE104_9!$Q$26,ROWS($Q$26:Q70)-1,COLUMNS($Q$26:Q70)-1),\"\")","v":"DR-306"},{"$f":"IF(OFFSET(DE104_9!$R$26,ROWS($R$26:R70)-1,COLUMNS($R$26:R70)-1)<>\"\",OFFSET(DE104_9!$R$26,ROWS($R$26:R70)-1,COLUMNS($R$26:R70)-1),\"\")","v":69.8},{"$f":"IF(OFFSET(DE104_9!$S$26,ROWS($S$26:S70)-1,COLUMNS($S$26:S70)-1)<>\"\",OFFSET(DE104_9!$S$26,ROWS($S$26:S70)-1,COLUMNS($S$26:S70)-1),\"\")","v":""},{"$f":"IF(OFFSET(DE104_9!$T$26,ROWS($T$26:T70)-1,COLUMNS($T$26:T70)-1)<>\"\",OFFSET(DE104_9!$T$26,ROWS($T$26:T70)-1,COLUMNS($T$26:T70)-1),\"\")","v":""}]
[{"$f":"IF(OFFSET(DE104_9!$C$26,ROWS($C$26:C71)-1,COLUMNS($C$26:C71)-1)<>\"\",OFFSET(DE104_9!$C$26,ROWS($C$26:C71)-1,COLUMNS($C$26:C71)-1),\"\")","v":""},{"$f":"IF(OFFSET(DE104_9!$D$26,ROWS($D$26:D71)-1,COLUMNS($D$26:D71)-1)<>\"\",OFFSET(DE104_9!$D$26,ROWS($D$26:D71)-1,COLUMNS($D$26:D71)-1),\"\")","v":""},{"$f":"IF(OFFSET(DE104_9!$E$26,ROWS($E$26:E71)-1,COLUMNS($E$26:E71)-1)<>\"\",OFFSET(DE104_9!$E$26,ROWS($E$26:E71)-1,COLUMNS($E$26:E71)-1),\"\")","v":""},{"$f":"IF(OFFSET(DE104_9!$F$26,ROWS($F$26:F71)-1,COLUMNS($F$26:F71)-1)<>\"\",OFFSET(DE104_9!$F$26,ROWS($F$26:F71)-1,COLUMNS($F$26:F71)-1),\"\")","v":""},{"$f":"IF(OFFSET(DE104_9!$G$26,ROWS($G$26:G71)-1,COLUMNS($G$26:G71)-1)<>\"\",OFFSET(DE104_9!$G$26,ROWS($G$26:G71)-1,COLUMNS($G$26:G71)-1),\"\")","v":""},{"$f":"IF(OFFSET(DE104_9!$H$26,ROWS($H$26:H71)-1,COLUMNS($H$26:H71)-1)<>\"\",OFFSET(DE104_9!$H$26,ROWS($H$26:H71)-1,COLUMNS($H$26:H71)-1),\"\")","v":""},{"$f":"IF(OFFSET(DE104_9!$I$26,ROWS($I$26:I71)-1,COLUMNS($I$26:I71)-1)<>\"\",OFFSET(DE104_9!$I$26,ROWS($I$26:I71)-1,COLUMNS($I$26:I71)-1),\"\")","v":""},{"$f":"IF(OFFSET(DE104_9!$J$26,ROWS($J$26:J71)-1,COLUMNS($J$26:J71)-1)<>\"\",OFFSET(DE104_9!$J$26,ROWS($J$26:J71)-1,COLUMNS($J$26:J71)-1),\"\")","v":""},{"$f":"IF(OFFSET(DE104_9!$K$26,ROWS($K$26:K71)-1,COLUMNS($K$26:K71)-1)<>\"\",OFFSET(DE104_9!$K$26,ROWS($K$26:K71)-1,COLUMNS($K$26:K71)-1),\"\")","v":""},{"$f":"IF(OFFSET(DE104_9!$L$26,ROWS($L$26:L71)-1,COLUMNS($L$26:L71)-1)<>\"\",OFFSET(DE104_9!$L$26,ROWS($L$26:L71)-1,COLUMNS($L$26:L71)-1),\"\")","v":""},{"$f":"IF(OFFSET(DE104_9!$M$26,ROWS($M$26:M71)-1,COLUMNS($M$26:M71)-1)<>\"\",OFFSET(DE104_9!$M$26,ROWS($M$26:M71)-1,COLUMNS($M$26:M71)-1),\"\")","v":""},{"$f":"IF(OFFSET(DE104_9!$N$26,ROWS($N$26:N71)-1,COLUMNS($N$26:N71)-1)<>\"\",OFFSET(DE104_9!$N$26,ROWS($N$26:N71)-1,COLUMNS($N$26:N71)-1),\"\")","v":""},{"$f":"IF(OFFSET(DE104_9!$O$26,ROWS($O$26:O71)-1,COLUMNS($O$26:O71)-1)<>\"\",OFFSET(DE104_9!$O$26,ROWS($O$26:O71)-1,COLUMNS($O$26:O71)-1),\"\")","v":""},{"$f":"IF(OFFSET(DE104_9!$P$26,ROWS($P$26:P71)-1,COLUMNS($P$26:P71)-1)<>\"\",OFFSET(DE104_9!$P$26,ROWS($P$26:P71)-1,COLUMNS($P$26:P71)-1),\"\")","v":53700},{"$f":"IF(OFFSET(DE104_9!$Q$26,ROWS($Q$26:Q71)-1,COLUMNS($Q$26:Q71)-1)<>\"\",OFFSET(DE104_9!$Q$26,ROWS($Q$26:Q71)-1,COLUMNS($Q$26:Q71)-1),\"\")","v":"DR-306"},{"$f":"IF(OFFSET(DE104_9!$R$26,ROWS($R$26:R71)-1,COLUMNS($R$26:R71)-1)<>\"\",OFFSET(DE104_9!$R$26,ROWS($R$26:R71)-1,COLUMNS($R$26:R71)-1),\"\")","v":""},{"$f":"IF(OFFSET(DE104_9!$S$26,ROWS($S$26:S71)-1,COLUMNS($S$26:S71)-1)<>\"\",OFFSET(DE104_9!$S$26,ROWS($S$26:S71)-1,COLUMNS($S$26:S71)-1),\"\")","v":""},{"$f":"IF(OFFSET(DE104_9!$T$26,ROWS($T$26:T71)-1,COLUMNS($T$26:T71)-1)<>\"\",OFFSET(DE104_9!$T$26,ROWS($T$26:T71)-1,COLUMNS($T$26:T71)-1),\"\")","v":""}]
[{"$f":"IF(OFFSET(DE104_9!$C$26,ROWS($C$26:C72)-1,COLUMNS($C$26:C72)-1)<>\"\",OFFSET(DE104_9!$C$26,ROWS($C$26:C72)-1,COLUMNS($C$26:C72)-1),\"\")","v":25},{"$f":"IF(OFFSET(DE104_9!$D$26,ROWS($D$26:D72)-1,COLUMNS($D$26:D72)-1)<>\"\",OFFSET(DE104_9!$D$26,ROWS($D$26:D72)-1,COLUMNS($D$26:D72)-1),\"\")","v":"WBL"},{"$f":"IF(OFFSET(DE104_9!$E$26,ROWS($E$26:E72)-1,COLUMNS($E$26:E72)-1)<>\"\",OFFSET(DE104_9!$E$26,ROWS($E$26:E72)-1,COLUMNS($E$26:E72)-1),\"\")","v":54550},{"$f":"IF(OFFSET(DE104_9!$F$26,ROWS($F$26:F72)-1,COLUMNS($F$26:F72)-1)<>\"\",OFFSET(DE104_9!$F$26,ROWS($F$26:F72)-1,COLUMNS($F$26:F72)-1),\"\")","v":55175},{"$f":"IF(OFFSET(DE104_9!$G$26,ROWS($G$26:G72)-1,COLUMNS($G$26:G72)-1)<>\"\",OFFSET(DE104_9!$G$26,ROWS($G$26:G72)-1,COLUMNS($G$26:G72)-1),\"\")","v":"LT"},{"$f":"IF(OFFSET(DE104_9!$H$26,ROWS($H$26:H72)-1,COLUMNS($H$26:H72)-1)<>\"\",OFFSET(DE104_9!$H$26,ROWS($H$26:H72)-1,COLUMNS($H$26:H72)-1),\"\")","v":66},{"$f":"IF(OFFSET(DE104_9!$I$26,ROWS($I$26:I72)-1,COLUMNS($I$26:I72)-1)<>\"\",OFFSET(DE104_9!$I$26,ROWS($I$26:I72)-1,COLUMNS($I$26:I72)-1),\"\")","v":""},{"$f":"IF(OFFSET(DE104_9!$J$26,ROWS($J$26:J72)-1,COLUMNS($J$26:J72)-1)<>\"\",OFFSET(DE104_9!$J$26,ROWS($J$26:J72)-1,COLUMNS($J$26:J72)-1),\"\")","v":""},{"$f":"IF(OFFSET(DE104_9!$K$26,ROWS($K$26:K72)-1,COLUMNS($K$26:K72)-1)<>\"\",OFFSET(DE104_9!$K$26,ROWS($K$26:K72)-1,COLUMNS($K$26:K72)-1),\"\")","v":4},{"$f":"IF(OFFSET(DE104_9!$L$26,ROWS($L$26:L72)-1,COLUMNS($L$26:L72)-1)<>\"\",OFFSET(DE104_9!$L$26,ROWS($L$26:L72)-1,COLUMNS($L$26:L72)-1),\"\")","v":665},{"$f":"IF(OFFSET(DE104_9!$M$26,ROWS($M$26:M72)-1,COLUMNS($M$26:M72)-1)<>\"\",OFFSET(DE104_9!$M$26,ROWS($M$26:M72)-1,COLUMNS($M$26:M72)-1),\"\")","v":""},{"$f":"IF(OFFSET(DE104_9!$N$26,ROWS($N$26:N72)-1,COLUMNS($N$26:N72)-1)<>\"\",OFFSET(DE104_9!$N$26,ROWS($N$26:N72)-1,COLUMNS($N$26:N72)-1),\"\")","v":""},{"$f":"IF(OFFSET(DE104_9!$O$26,ROWS($O$26:O72)-1,COLUMNS($O$26:O72)-1)<>\"\",OFFSET(DE104_9!$O$26,ROWS($O$26:O72)-1,COLUMNS($O$26:O72)-1),\"\")","v":""},{"$f":"IF(OFFSET(DE104_9!$P$26,ROWS($P$26:P72)-1,COLUMNS($P$26:P72)-1)<>\"\",OFFSET(DE104_9!$P$26,ROWS($P$26:P72)-1,COLUMNS($P$26:P72)-1),\"\")","v":54550},{"$f":"IF(OFFSET(DE104_9!$Q$26,ROWS($Q$26:Q72)-1,COLUMNS($Q$26:Q72)-1)<>\"\",OFFSET(DE104_9!$Q$26,ROWS($Q$26:Q72)-1,COLUMNS($Q$26:Q72)-1),\"\")","v":"DR-306"},{"$f":"IF(OFFSET(DE104_9!$R$26,ROWS($R$26:R72)-1,COLUMNS($R$26:R72)-1)<>\"\",OFFSET(DE104_9!$R$26,ROWS($R$26:R72)-1,COLUMNS($R$26:R72)-1),\"\")","v":82.1},{"$f":"IF(OFFSET(DE104_9!$S$26,ROWS($S$26:S72)-1,COLUMNS($S$26:S72)-1)<>\"\",OFFSET(DE104_9!$S$26,ROWS($S$26:S72)-1,COLUMNS($S$26:S72)-1),\"\")","v":""},{"$f":"IF(OFFSET(DE104_9!$T$26,ROWS($T$26:T72)-1,COLUMNS($T$26:T72)-1)<>\"\",OFFSET(DE104_9!$T$26,ROWS($T$26:T72)-1,COLUMNS($T$26:T72)-1),\"\")","v":""}]
[{"$f":"IF(OFFSET(DE104_9!$C$26,ROWS($C$26:C73)-1,COLUMNS($C$26:C73)-1)<>\"\",OFFSET(DE104_9!$C$26,ROWS($C$26:C73)-1,COLUMNS($C$26:C73)-1),\"\")","v":""},{"$f":"IF(OFFSET(DE104_9!$D$26,ROWS($D$26:D73)-1,COLUMNS($D$26:D73)-1)<>\"\",OFFSET(DE104_9!$D$26,ROWS($D$26:D73)-1,COLUMNS($D$26:D73)-1),\"\")","v":""},{"$f":"IF(OFFSET(DE104_9!$E$26,ROWS($E$26:E73)-1,COLUMNS($E$26:E73)-1)<>\"\",OFFSET(DE104_9!$E$26,ROWS($E$26:E73)-1,COLUMNS($E$26:E73)-1),\"\")","v":""},{"$f":"IF(OFFSET(DE104_9!$F$26,ROWS($F$26:F73)-1,COLUMNS($F$26:F73)-1)<>\"\",OFFSET(DE104_9!$F$26,ROWS($F$26:F73)-1,COLUMNS($F$26:F73)-1),\"\")","v":""},{"$f":"IF(OFFSET(DE104_9!$G$26,ROWS($G$26:G73)-1,COLUMNS($G$26:G73)-1)<>\"\",OFFSET(DE104_9!$G$26,ROWS($G$26:G73)-1,COLUMNS($G$26:G73)-1),\"\")","v":""},{"$f":"IF(OFFSET(DE104_9!$H$26,ROWS($H$26:H73)-1,COLUMNS($H$26:H73)-1)<>\"\",OFFSET(DE104_9!$H$26,ROWS($H$26:H73)-1,COLUMNS($H$26:H73)-1),\"\")","v":""},{"$f":"IF(OFFSET(DE104_9!$I$26,ROWS($I$26:I73)-1,COLUMNS($I$26:I73)-1)<>\"\",OFFSET(DE104_9!$I$26,ROWS($I$26:I73)-1,COLUMNS($I$26:I73)-1),\"\")","v":""},{"$f":"IF(OFFSET(DE104_9!$J$26,ROWS($J$26:J73)-1,COLUMNS($J$26:J73)-1)<>\"\",OFFSET(DE104_9!$J$26,ROWS($J$26:J73)-1,COLUMNS($J$26:J73)-1),\"\")","v":""},{"$f":"IF(OFFSET(DE104_9!$K$26,ROWS($K$26:K73)-1,COLUMNS($K$26:K73)-1)<>\"\",OFFSET(DE104_9!$K$26,ROWS($K$26:K73)-1,COLUMNS($K$26:K73)-1),\"\")","v":""},{"$f":"IF(OFFSET(DE104_9!$L$26,ROWS($L$26:L73)-1,COLUMNS($L$26:L73)-1)<>\"\",OFFSET(DE104_9!$L$26,ROWS($L$26:L73)-1,COLUMNS($L$26:L73)-1),\"\")","v":""},{"$f":"IF(OFFSET(DE104_9!$M$26,ROWS($M$26:M73)-1,COLUMNS($M$26:M73)-1)<>\"\",OFFSET(DE104_9!$M$26,ROWS($M$26:M73)-1,COLUMNS($M$26:M73)-1),\"\")","v":""},{"$f":"IF(OFFSET(DE104_9!$N$26,ROWS($N$26:N73)-1,COLUMNS($N$26:N73)-1)<>\"\",OFFSET(DE104_9!$N$26,ROWS($N$26:N73)-1,COLUMNS($N$26:N73)-1),\"\")","v":""},{"$f":"IF(OFFSET(DE104_9!$O$26,ROWS($O$26:O73)-1,COLUMNS($O$26:O73)-1)<>\"\",OFFSET(DE104_9!$O$26,ROWS($O$26:O73)-1,COLUMNS($O$26:O73)-1),\"\")","v":""},{"$f":"IF(OFFSET(DE104_9!$P$26,ROWS($P$26:P73)-1,COLUMNS($P$26:P73)-1)<>\"\",OFFSET(DE104_9!$P$26,ROWS($P$26:P73)-1,COLUMNS($P$26:P73)-1),\"\")","v":54900},{"$f":"IF(OFFSET(DE104_9!$Q$26,ROWS($Q$26:Q73)-1,COLUMNS($Q$26:Q73)-1)<>\"\",OFFSET(DE104_9!$Q$26,ROWS($Q$26:Q73)-1,COLUMNS($Q$26:Q73)-1),\"\")","v":"DR-306"},{"$f":"IF(OFFSET(DE104_9!$R$26,ROWS($R$26:R73)-1,COLUMNS($R$26:R73)-1)<>\"\",OFFSET(DE104_9!$R$26,ROWS($R$26:R73)-1,COLUMNS($R$26:R73)-1),\"\")","v":""},{"$f":"IF(OFFSET(DE104_9!$S$26,ROWS($S$26:S73)-1,COLUMNS($S$26:S73)-1)<>\"\",OFFSET(DE104_9!$S$26,ROWS($S$26:S73)-1,COLUMNS($S$26:S73)-1),\"\")","v":""},{"$f":"IF(OFFSET(DE104_9!$T$26,ROWS($T$26:T73)-1,COLUMNS($T$26:T73)-1)<>\"\",OFFSET(DE104_9!$T$26,ROWS($T$26:T73)-1,COLUMNS($T$26:T73)-1),\"\")","v":""}]
[{"$f":"IF(OFFSET(DE104_9!$C$26,ROWS($C$26:C74)-1,COLUMNS($C$26:C74)-1)<>\"\",OFFSET(DE104_9!$C$26,ROWS($C$26:C74)-1,COLUMNS($C$26:C74)-1),\"\")","v":""},{"$f":"IF(OFFSET(DE104_9!$D$26,ROWS($D$26:D74)-1,COLUMNS($D$26:D74)-1)<>\"\",OFFSET(DE104_9!$D$26,ROWS($D$26:D74)-1,COLUMNS($D$26:D74)-1),\"\")","v":""},{"$f":"IF(OFFSET(DE104_9!$E$26,ROWS($E$26:E74)-1,COLUMNS($E$26:E74)-1)<>\"\",OFFSET(DE104_9!$E$26,ROWS($E$26:E74)-1,COLUMNS($E$26:E74)-1),\"\")","v":""},{"$f":"IF(OFFSET(DE104_9!$F$26,ROWS($F$26:F74)-1,COLUMNS($F$26:F74)-1)<>\"\",OFFSET(DE104_9!$F$26,ROWS($F$26:F74)-1,COLUMNS($F$26:F74)-1),\"\")","v":""},{"$f":"IF(OFFSET(DE104_9!$G$26,ROWS($G$26:G74)-1,COLUMNS($G$26:G74)-1)<>\"\",OFFSET(DE104_9!$G$26,ROWS($G$26:G74)-1,COLUMNS($G$26:G74)-1),\"\")","v":""},{"$f":"IF(OFFSET(DE104_9!$H$26,ROWS($H$26:H74)-1,COLUMNS($H$26:H74)-1)<>\"\",OFFSET(DE104_9!$H$26,ROWS($H$26:H74)-1,COLUMNS($H$26:H74)-1),\"\")","v":""},{"$f":"IF(OFFSET(DE104_9!$I$26,ROWS($I$26:I74)-1,COLUMNS($I$26:I74)-1)<>\"\",OFFSET(DE104_9!$I$26,ROWS($I$26:I74)-1,COLUMNS($I$26:I74)-1),\"\")","v":""},{"$f":"IF(OFFSET(DE104_9!$J$26,ROWS($J$26:J74)-1,COLUMNS($J$26:J74)-1)<>\"\",OFFSET(DE104_9!$J$26,ROWS($J$26:J74)-1,COLUMNS($J$26:J74)-1),\"\")","v":""},{"$f":"IF(OFFSET(DE104_9!$K$26,ROWS($K$26:K74)-1,COLUMNS($K$26:K74)-1)<>\"\",OFFSET(DE104_9!$K$26,ROWS($K$26:K74)-1,COLUMNS($K$26:K74)-1),\"\")","v":""},{"$f":"IF(OFFSET(DE104_9!$L$26,ROWS($L$26:L74)-1,COLUMNS($L$26:L74)-1)<>\"\",OFFSET(DE104_9!$L$26,ROWS($L$26:L74)-1,COLUMNS($L$26:L74)-1),\"\")","v":""},{"$f":"IF(OFFSET(DE104_9!$M$26,ROWS($M$26:M74)-1,COLUMNS($M$26:M74)-1)<>\"\",OFFSET(DE104_9!$M$26,ROWS($M$26:M74)-1,COLUMNS($M$26:M74)-1),\"\")","v":""},{"$f":"IF(OFFSET(DE104_9!$N$26,ROWS($N$26:N74)-1,COLUMNS($N$26:N74)-1)<>\"\",OFFSET(DE104_9!$N$26,ROWS($N$26:N74)-1,COLUMNS($N$26:N74)-1),\"\")","v":""},{"$f":"IF(OFFSET(DE104_9!$O$26,ROWS($O$26:O74)-1,COLUMNS($O$26:O74)-1)<>\"\",OFFSET(DE104_9!$O$26,ROWS($O$26:O74)-1,COLUMNS($O$26:O74)-1),\"\")","v":""},{"$f":"IF(OFFSET(DE104_9!$P$26,ROWS($P$26:P74)-1,COLUMNS($P$26:P74)-1)<>\"\",OFFSET(DE104_9!$P$26,ROWS($P$26:P74)-1,COLUMNS($P$26:P74)-1),\"\")","v":55175},{"$f":"IF(OFFSET(DE104_9!$Q$26,ROWS($Q$26:Q74)-1,COLUMNS($Q$26:Q74)-1)<>\"\",OFFSET(DE104_9!$Q$26,ROWS($Q$26:Q74)-1,COLUMNS($Q$26:Q74)-1),\"\")","v":"DR-306"},{"$f":"IF(OFFSET(DE104_9!$R$26,ROWS($R$26:R74)-1,COLUMNS($R$26:R74)-1)<>\"\",OFFSET(DE104_9!$R$26,ROWS($R$26:R74)-1,COLUMNS($R$26:R74)-1),\"\")","v":""},{"$f":"IF(OFFSET(DE104_9!$S$26,ROWS($S$26:S74)-1,COLUMNS($S$26:S74)-1)<>\"\",OFFSET(DE104_9!$S$26,ROWS($S$26:S74)-1,COLUMNS($S$26:S74)-1),\"\")","v":""},{"$f":"IF(OFFSET(DE104_9!$T$26,ROWS($T$26:T74)-1,COLUMNS($T$26:T74)-1)<>\"\",OFFSET(DE104_9!$T$26,ROWS($T$26:T74)-1,COLUMNS($T$26:T74)-1),\"\")","v":""}]
[{"$f":"IF(OFFSET(DE104_9!$C$26,ROWS($C$26:C75)-1,COLUMNS($C$26:C75)-1)<>\"\",OFFSET(DE104_9!$C$26,ROWS($C$26:C75)-1,COLUMNS($C$26:C75)-1),\"\")","v":26},{"$f":"IF(OFFSET(DE104_9!$D$26,ROWS($D$26:D75)-1,COLUMNS($D$26:D75)-1)<>\"\",OFFSET(DE104_9!$D$26,ROWS($D$26:D75)-1,COLUMNS($D$26:D75)-1),\"\")","v":"WBL"},{"$f":"IF(OFFSET(DE104_9!$E$26,ROWS($E$26:E75)-1,COLUMNS($E$26:E75)-1)<>\"\",OFFSET(DE104_9!$E$26,ROWS($E$26:E75)-1,COLUMNS($E$26:E75)-1),\"\")","v":55450},{"$f":"IF(OFFSET(DE104_9!$F$26,ROWS($F$26:F75)-1,COLUMNS($F$26:F75)-1)<>\"\",OFFSET(DE104_9!$F$26,ROWS($F$26:F75)-1,COLUMNS($F$26:F75)-1),\"\")","v":55775},{"$f":"IF(OFFSET(DE104_9!$G$26,ROWS($G$26:G75)-1,COLUMNS($G$26:G75)-1)<>\"\",OFFSET(DE104_9!$G$26,ROWS($G$26:G75)-1,COLUMNS($G$26:G75)-1),\"\")","v":"LT"},{"$f":"IF(OFFSET(DE104_9!$H$26,ROWS($H$26:H75)-1,COLUMNS($H$26:H75)-1)<>\"\",OFFSET(DE104_9!$H$26,ROWS($H$26:H75)-1,COLUMNS($H$26:H75)-1),\"\")","v":66},{"$f":"IF(OFFSET(DE104_9!$I$26,ROWS($I$26:I75)-1,COLUMNS($I$26:I75)-1)<>\"\",OFFSET(DE104_9!$I$26,ROWS($I$26:I75)-1,COLUMNS($I$26:I75)-1),\"\")","v":""},{"$f":"IF(OFFSET(DE104_9!$J$26,ROWS($J$26:J75)-1,COLUMNS($J$26:J75)-1)<>\"\",OFFSET(DE104_9!$J$26,ROWS($J$26:J75)-1,COLUMNS($J$26:J75)-1),\"\")","v":""},{"$f":"IF(OFFSET(DE104_9!$K$26,ROWS($K$26:K75)-1,COLUMNS($K$26:K75)-1)<>\"\",OFFSET(DE104_9!$K$26,ROWS($K$26:K75)-1,COLUMNS($K$26:K75)-1),\"\")","v":4},{"$f":"IF(OFFSET(DE104_9!$L$26,ROWS($L$26:L75)-1,COLUMNS($L$26:L75)-1)<>\"\",OFFSET(DE104_9!$L$26,ROWS($L$26:L75)-1,COLUMNS($L$26:L75)-1),\"\")","v":365},{"$f":"IF(OFFSET(DE104_9!$M$26,ROWS($M$26:M75)-1,COLUMNS($M$26:M75)-1)<>\"\",OFFSET(DE104_9!$M$26,ROWS($M$26:M75)-1,COLUMNS($M$26:M75)-1),\"\")","v":""},{"$f":"IF(OFFSET(DE104_9!$N$26,ROWS($N$26:N75)-1,COLUMNS($N$26:N75)-1)<>\"\",OFFSET(DE104_9!$N$26,ROWS($N$26:N75)-1,COLUMNS($N$26:N75)-1),\"\")","v":""},{"$f":"IF(OFFSET(DE104_9!$O$26,ROWS($O$26:O75)-1,COLUMNS($O$26:O75)-1)<>\"\",OFFSET(DE104_9!$O$26,ROWS($O$26:O75)-1,COLUMNS($O$26:O75)-1),\"\")","v":""},{"$f":"IF(OFFSET(DE104_9!$P$26,ROWS($P$26:P75)-1,COLUMNS($P$26:P75)-1)<>\"\",OFFSET(DE104_9!$P$26,ROWS($P$26:P75)-1,COLUMNS($P$26:P75)-1),\"\")","v":55775},{"$f":"IF(OFFSET(DE104_9!$Q$26,ROWS($Q$26:Q75)-1,COLUMNS($Q$26:Q75)-1)<>\"\",OFFSET(DE104_9!$Q$26,ROWS($Q$26:Q75)-1,COLUMNS($Q$26:Q75)-1),\"\")","v":"DR-306"},{"$f":"IF(OFFSET(DE104_9!$R$26,ROWS($R$26:R75)-1,COLUMNS($R$26:R75)-1)<>\"\",OFFSET(DE104_9!$R$26,ROWS($R$26:R75)-1,COLUMNS($R$26:R75)-1),\"\")","v":45.1},{"$f":"IF(OFFSET(DE104_9!$S$26,ROWS($S$26:S75)-1,COLUMNS($S$26:S75)-1)<>\"\",OFFSET(DE104_9!$S$26,ROWS($S$26:S75)-1,COLUMNS($S$26:S75)-1),\"\")","v":""},{"$f":"IF(OFFSET(DE104_9!$T$26,ROWS($T$26:T75)-1,COLUMNS($T$26:T75)-1)<>\"\",OFFSET(DE104_9!$T$26,ROWS($T$26:T75)-1,COLUMNS($T$26:T75)-1),\"\")","v":""}]
[{"$f":"IF(OFFSET(DE104_9!$C$26,ROWS($C$26:C76)-1,COLUMNS($C$26:C76)-1)<>\"\",OFFSET(DE104_9!$C$26,ROWS($C$26:C76)-1,COLUMNS($C$26:C76)-1),\"\")","v":27},{"$f":"IF(OFFSET(DE104_9!$D$26,ROWS($D$26:D76)-1,COLUMNS($D$26:D76)-1)<>\"\",OFFSET(DE104_9!$D$26,ROWS($D$26:D76)-1,COLUMNS($D$26:D76)-1),\"\")","v":"WBL"},{"$f":"IF(OFFSET(DE104_9!$E$26,ROWS($E$26:E76)-1,COLUMNS($E$26:E76)-1)<>\"\",OFFSET(DE104_9!$E$26,ROWS($E$26:E76)-1,COLUMNS($E$26:E76)-1),\"\")","v":55950},{"$f":"IF(OFFSET(DE104_9!$F$26,ROWS($F$26:F76)-1,COLUMNS($F$26:F76)-1)<>\"\",OFFSET(DE104_9!$F$26,ROWS($F$26:F76)-1,COLUMNS($F$26:F76)-1),\"\")","v":56275},{"$f":"IF(OFFSET(DE104_9!$G$26,ROWS($G$26:G76)-1,COLUMNS($G$26:G76)-1)<>\"\",OFFSET(DE104_9!$G$26,ROWS($G$26:G76)-1,COLUMNS($G$26:G76)-1),\"\")","v":"LT"},{"$f":"IF(OFFSET(DE104_9!$H$26,ROWS($H$26:H76)-1,COLUMNS($H$26:H76)-1)<>\"\",OFFSET(DE104_9!$H$26,ROWS($H$26:H76)-1,COLUMNS($H$26:H76)-1),\"\")","v":66},{"$f":"IF(OFFSET(DE104_9!$I$26,ROWS($I$26:I76)-1,COLUMNS($I$26:I76)-1)<>\"\",OFFSET(DE104_9!$I$26,ROWS($I$26:I76)-1,COLUMNS($I$26:I76)-1),\"\")","v":""},{"$f":"IF(OFFSET(DE104_9!$J$26,ROWS($J$26:J76)-1,COLUMNS($J$26:J76)-1)<>\"\",OFFSET(DE104_9!$J$26,ROWS($J$26:J76)-1,COLUMNS($J$26:J76)-1),\"\")","v":""},{"$f":"IF(OFFSET(DE104_9!$K$26,ROWS($K$26:K76)-1,COLUMNS($K$26:K76)-1)<>\"\",OFFSET(DE104_9!$K$26,ROWS($K$26:K76)-1,COLUMNS($K$26:K76)-1),\"\")","v":4},{"$f":"IF(OFFSET(DE104_9!$L$26,ROWS($L$26:L76)-1,COLUMNS($L$26:L76)-1)<>\"\",OFFSET(DE104_9!$L$26,ROWS($L$26:L76)-1,COLUMNS($L$26:L76)-1),\"\")","v":365},{"$f":"IF(OFFSET(DE104_9!$M$26,ROWS($M$26:M76)-1,COLUMNS($M$26:M76)-1)<>\"\",OFFSET(DE104_9!$M$26,ROWS($M$26:M76)-1,COLUMNS($M$26:M76)-1),\"\")","v":""},{"$f":"IF(OFFSET(DE104_9!$N$26,ROWS($N$26:N76)-1,COLUMNS($N$26:N76)-1)<>\"\",OFFSET(DE104_9!$N$26,ROWS($N$26:N76)-1,COLUMNS($N$26:N76)-1),\"\")","v":""},{"$f":"IF(OFFSET(DE104_9!$O$26,ROWS($O$26:O76)-1,COLUMNS($O$26:O76)-1)<>\"\",OFFSET(DE104_9!$O$26,ROWS($O$26:O76)-1,COLUMNS($O$26:O76)-1),\"\")","v":""},{"$f":"IF(OFFSET(DE104_9!$P$26,ROWS($P$26:P76)-1,COLUMNS($P$26:P76)-1)<>\"\",OFFSET(DE104_9!$P$26,ROWS($P$26:P76)-1,COLUMNS($P$26:P76)-1),\"\")","v":55950},{"$f":"IF(OFFSET(DE104_9!$Q$26,ROWS($Q$26:Q76)-1,COLUMNS($Q$26:Q76)-1)<>\"\",OFFSET(DE104_9!$Q$26,ROWS($Q$26:Q76)-1,COLUMNS($Q$26:Q76)-1),\"\")","v":"DR-306"},{"$f":"IF(OFFSET(DE104_9!$R$26,ROWS($R$26:R76)-1,COLUMNS($R$26:R76)-1)<>\"\",OFFSET(DE104_9!$R$26,ROWS($R$26:R76)-1,COLUMNS($R$26:R76)-1),\"\")","v":45.1},{"$f":"IF(OFFSET(DE104_9!$S$26,ROWS($S$26:S76)-1,COLUMNS($S$26:S76)-1)<>\"\",OFFSET(DE104_9!$S$26,ROWS($S$26:S76)-1,COLUMNS($S$26:S76)-1),\"\")","v":""},{"$f":"IF(OFFSET(DE104_9!$T$26,ROWS($T$26:T76)-1,COLUMNS($T$26:T76)-1)<>\"\",OFFSET(DE104_9!$T$26,ROWS($T$26:T76)-1,COLUMNS($T$26:T76)-1),\"\")","v":""}]
[{"$f":"IF(OFFSET(DE104_9!$C$26,ROWS($C$26:C77)-1,COLUMNS($C$26:C77)-1)<>\"\",OFFSET(DE104_9!$C$26,ROWS($C$26:C77)-1,COLUMNS($C$26:C77)-1),\"\")","v":""},{"$f":"IF(OFFSET(DE104_9!$D$26,ROWS($D$26:D77)-1,COLUMNS($D$26:D77)-1)<>\"\",OFFSET(DE104_9!$D$26,ROWS($D$26:D77)-1,COLUMNS($D$26:D77)-1),\"\")","v":""},{"$f":"IF(OFFSET(DE104_9!$E$26,ROWS($E$26:E77)-1,COLUMNS($E$26:E77)-1)<>\"\",OFFSET(DE104_9!$E$26,ROWS($E$26:E77)-1,COLUMNS($E$26:E77)-1),\"\")","v":""},{"$f":"IF(OFFSET(DE104_9!$F$26,ROWS($F$26:F77)-1,COLUMNS($F$26:F77)-1)<>\"\",OFFSET(DE104_9!$F$26,ROWS($F$26:F77)-1,COLUMNS($F$26:F77)-1),\"\")","v":""},{"$f":"IF(OFFSET(DE104_9!$G$26,ROWS($G$26:G77)-1,COLUMNS($G$26:G77)-1)<>\"\",OFFSET(DE104_9!$G$26,ROWS($G$26:G77)-1,COLUMNS($G$26:G77)-1),\"\")","v":""},{"$f":"IF(OFFSET(DE104_9!$H$26,ROWS($H$26:H77)-1,COLUMNS($H$26:H77)-1)<>\"\",OFFSET(DE104_9!$H$26,ROWS($H$26:H77)-1,COLUMNS($H$26:H77)-1),\"\")","v":""},{"$f":"IF(OFFSET(DE104_9!$I$26,ROWS($I$26:I77)-1,COLUMNS($I$26:I77)-1)<>\"\",OFFSET(DE104_9!$I$26,ROWS($I$26:I77)-1,COLUMNS($I$26:I77)-1),\"\")","v":""},{"$f":"IF(OFFSET(DE104_9!$J$26,ROWS($J$26:J77)-1,COLUMNS($J$26:J77)-1)<>\"\",OFFSET(DE104_9!$J$26,ROWS($J$26:J77)-1,COLUMNS($J$26:J77)-1),\"\")","v":""},{"$f":"IF(OFFSET(DE104_9!$K$26,ROWS($K$26:K77)-1,COLUMNS($K$26:K77)-1)<>\"\",OFFSET(DE104_9!$K$26,ROWS($K$26:K77)-1,COLUMNS($K$26:K77)-1),\"\")","v":""},{"$f":"IF(OFFSET(DE104_9!$L$26,ROWS($L$26:L77)-1,COLUMNS($L$26:L77)-1)<>\"\",OFFSET(DE104_9!$L$26,ROWS($L$26:L77)-1,COLUMNS($L$26:L77)-1),\"\")","v":""},{"$f":"IF(OFFSET(DE104_9!$M$26,ROWS($M$26:M77)-1,COLUMNS($M$26:M77)-1)<>\"\",OFFSET(DE104_9!$M$26,ROWS($M$26:M77)-1,COLUMNS($M$26:M77)-1),\"\")","v":""},{"$f":"IF(OFFSET(DE104_9!$N$26,ROWS($N$26:N77)-1,COLUMNS($N$26:N77)-1)<>\"\",OFFSET(DE104_9!$N$26,ROWS($N$26:N77)-1,COLUMNS($N$26:N77)-1),\"\")","v":""},{"$f":"IF(OFFSET(DE104_9!$O$26,ROWS($O$26:O77)-1,COLUMNS($O$26:O77)-1)<>\"\",OFFSET(DE104_9!$O$26,ROWS($O$26:O77)-1,COLUMNS($O$26:O77)-1),\"\")","v":""},{"$f":"IF(OFFSET(DE104_9!$P$26,ROWS($P$26:P77)-1,COLUMNS($P$26:P77)-1)<>\"\",OFFSET(DE104_9!$P$26,ROWS($P$26:P77)-1,COLUMNS($P$26:P77)-1),\"\")","v":56275},{"$f":"IF(OFFSET(DE104_9!$Q$26,ROWS($Q$26:Q77)-1,COLUMNS($Q$26:Q77)-1)<>\"\",OFFSET(DE104_9!$Q$26,ROWS($Q$26:Q77)-1,COLUMNS($Q$26:Q77)-1),\"\")","v":"DR-306"},{"$f":"IF(OFFSET(DE104_9!$R$26,ROWS($R$26:R77)-1,COLUMNS($R$26:R77)-1)<>\"\",OFFSET(DE104_9!$R$26,ROWS($R$26:R77)-1,COLUMNS($R$26:R77)-1),\"\")","v":""},{"$f":"IF(OFFSET(DE104_9!$S$26,ROWS($S$26:S77)-1,COLUMNS($S$26:S77)-1)<>\"\",OFFSET(DE104_9!$S$26,ROWS($S$26:S77)-1,COLUMNS($S$26:S77)-1),\"\")","v":""},{"$f":"IF(OFFSET(DE104_9!$T$26,ROWS($T$26:T77)-1,COLUMNS($T$26:T77)-1)<>\"\",OFFSET(DE104_9!$T$26,ROWS($T$26:T77)-1,COLUMNS($T$26:T77)-1),\"\")","v":""}]
[{"$f":"IF(OFFSET(DE104_9!$C$26,ROWS($C$26:C78)-1,COLUMNS($C$26:C78)-1)<>\"\",OFFSET(DE104_9!$C$26,ROWS($C$26:C78)-1,COLUMNS($C$26:C78)-1),\"\")","v":28},{"$f":"IF(OFFSET(DE104_9!$D$26,ROWS($D$26:D78)-1,COLUMNS($D$26:D78)-1)<>\"\",OFFSET(DE104_9!$D$26,ROWS($D$26:D78)-1,COLUMNS($D$26:D78)-1),\"\")","v":"WBL"},{"$f":"IF(OFFSET(DE104_9!$E$26,ROWS($E$26:E78)-1,COLUMNS($E$26:E78)-1)<>\"\",OFFSET(DE104_9!$E$26,ROWS($E$26:E78)-1,COLUMNS($E$26:E78)-1),\"\")","v":56825},{"$f":"IF(OFFSET(DE104_9!$F$26,ROWS($F$26:F78)-1,COLUMNS($F$26:F78)-1)<>\"\",OFFSET(DE104_9!$F$26,ROWS($F$26:F78)-1,COLUMNS($F$26:F78)-1),\"\")","v":57500},{"$f":"IF(OFFSET(DE104_9!$G$26,ROWS($G$26:G78)-1,COLUMNS($G$26:G78)-1)<>\"\",OFFSET(DE104_9!$G$26,ROWS($G$26:G78)-1,COLUMNS($G$26:G78)-1),\"\")","v":"LT"},{"$f":"IF(OFFSET(DE104_9!$H$26,ROWS($H$26:H78)-1,COLUMNS($H$26:H78)-1)<>\"\",OFFSET(DE104_9!$H$26,ROWS($H$26:H78)-1,COLUMNS($H$26:H78)-1),\"\")","v":66},{"$f":"IF(OFFSET(DE104_9!$I$26,ROWS($I$26:I78)-1,COLUMNS($I$26:I78)-1)<>\"\",OFFSET(DE104_9!$I$26,ROWS($I$26:I78)-1,COLUMNS($I$26:I78)-1),\"\")","v":""},{"$f":"IF(OFFSET(DE104_9!$J$26,ROWS($J$26:J78)-1,COLUMNS($J$26:J78)-1)<>\"\",OFFSET(DE104_9!$J$26,ROWS($J$26:J78)-1,COLUMNS($J$26:J78)-1),\"\")","v":""},{"$f":"IF(OFFSET(DE104_9!$K$26,ROWS($K$26:K78)-1,COLUMNS($K$26:K78)-1)<>\"\",OFFSET(DE104_9!$K$26,ROWS($K$26:K78)-1,COLUMNS($K$26:K78)-1),\"\")","v":4},{"$f":"IF(OFFSET(DE104_9!$L$26,ROWS($L$26:L78)-1,COLUMNS($L$26:L78)-1)<>\"\",OFFSET(DE104_9!$L$26,ROWS($L$26:L78)-1,COLUMNS($L$26:L78)-1),\"\")","v":715},{"$f":"IF(OFFSET(DE104_9!$M$26,ROWS($M$26:M78)-1,COLUMNS($M$26:M78)-1)<>\"\",OFFSET(DE104_9!$M$26,ROWS($M$26:M78)-1,COLUMNS($M$26:M78)-1),\"\")","v":""},{"$f":"IF(OFFSET(DE104_9!$N$26,ROWS($N$26:N78)-1,COLUMNS($N$26:N78)-1)<>\"\",OFFSET(DE104_9!$N$26,ROWS($N$26:N78)-1,COLUMNS($N$26:N78)-1),\"\")","v":""},{"$f":"IF(OFFSET(DE104_9!$O$26,ROWS($O$26:O78)-1,COLUMNS($O$26:O78)-1)<>\"\",OFFSET(DE104_9!$O$26,ROWS($O$26:O78)-1,COLUMNS($O$26:O78)-1),\"\")","v":""},{"$f":"IF(OFFSET(DE104_9!$P$26,ROWS($P$26:P78)-1,COLUMNS($P$26:P78)-1)<>\"\",OFFSET(DE104_9!$P$26,ROWS($P$26:P78)-1,COLUMNS($P$26:P78)-1),\"\")","v":56825},{"$f":"IF(OFFSET(DE104_9!$Q$26,ROWS($Q$26:Q78)-1,COLUMNS($Q$26:Q78)-1)<>\"\",OFFSET(DE104_9!$Q$26,ROWS($Q$26:Q78)-1,COLUMNS($Q$26:Q78)-1),\"\")","v":"DR-306"},{"$f":"IF(OFFSET(DE104_9!$R$26,ROWS($R$26:R78)-1,COLUMNS($R$26:R78)-1)<>\"\",OFFSET(DE104_9!$R$26,ROWS($R$26:R78)-1,COLUMNS($R$26:R78)-1),\"\")","v":88.3},{"$f":"IF(OFFSET(DE104_9!$S$26,ROWS($S$26:S78)-1,COLUMNS($S$26:S78)-1)<>\"\",OFFSET(DE104_9!$S$26,ROWS($S$26:S78)-1,COLUMNS($S$26:S78)-1),\"\")","v":""},{"$f":"IF(OFFSET(DE104_9!$T$26,ROWS($T$26:T78)-1,COLUMNS($T$26:T78)-1)<>\"\",OFFSET(DE104_9!$T$26,ROWS($T$26:T78)-1,COLUMNS($T$26:T78)-1),\"\")","v":""}]
[{"$f":"IF(OFFSET(DE104_9!$C$26,ROWS($C$26:C79)-1,COLUMNS($C$26:C79)-1)<>\"\",OFFSET(DE104_9!$C$26,ROWS($C$26:C79)-1,COLUMNS($C$26:C79)-1),\"\")","v":""},{"$f":"IF(OFFSET(DE104_9!$D$26,ROWS($D$26:D79)-1,COLUMNS($D$26:D79)-1)<>\"\",OFFSET(DE104_9!$D$26,ROWS($D$26:D79)-1,COLUMNS($D$26:D79)-1),\"\")","v":""},{"$f":"IF(OFFSET(DE104_9!$E$26,ROWS($E$26:E79)-1,COLUMNS($E$26:E79)-1)<>\"\",OFFSET(DE104_9!$E$26,ROWS($E$26:E79)-1,COLUMNS($E$26:E79)-1),\"\")","v":""},{"$f":"IF(OFFSET(DE104_9!$F$26,ROWS($F$26:F79)-1,COLUMNS($F$26:F79)-1)<>\"\",OFFSET(DE104_9!$F$26,ROWS($F$26:F79)-1,COLUMNS($F$26:F79)-1),\"\")","v":""},{"$f":"IF(OFFSET(DE104_9!$G$26,ROWS($G$26:G79)-1,COLUMNS($G$26:G79)-1)<>\"\",OFFSET(DE104_9!$G$26,ROWS($G$26:G79)-1,COLUMNS($G$26:G79)-1),\"\")","v":""},{"$f":"IF(OFFSET(DE104_9!$H$26,ROWS($H$26:H79)-1,COLUMNS($H$26:H79)-1)<>\"\",OFFSET(DE104_9!$H$26,ROWS($H$26:H79)-1,COLUMNS($H$26:H79)-1),\"\")","v":""},{"$f":"IF(OFFSET(DE104_9!$I$26,ROWS($I$26:I79)-1,COLUMNS($I$26:I79)-1)<>\"\",OFFSET(DE104_9!$I$26,ROWS($I$26:I79)-1,COLUMNS($I$26:I79)-1),\"\")","v":""},{"$f":"IF(OFFSET(DE104_9!$J$26,ROWS($J$26:J79)-1,COLUMNS($J$26:J79)-1)<>\"\",OFFSET(DE104_9!$J$26,ROWS($J$26:J79)-1,COLUMNS($J$26:J79)-1),\"\")","v":""},{"$f":"IF(OFFSET(DE104_9!$K$26,ROWS($K$26:K79)-1,COLUMNS($K$26:K79)-1)<>\"\",OFFSET(DE104_9!$K$26,ROWS($K$26:K79)-1,COLUMNS($K$26:K79)-1),\"\")","v":""},{"$f":"IF(OFFSET(DE104_9!$L$26,ROWS($L$26:L79)-1,COLUMNS($L$26:L79)-1)<>\"\",OFFSET(DE104_9!$L$26,ROWS($L$26:L79)-1,COLUMNS($L$26:L79)-1),\"\")","v":""},{"$f":"IF(OFFSET(DE104_9!$M$26,ROWS($M$26:M79)-1,COLUMNS($M$26:M79)-1)<>\"\",OFFSET(DE104_9!$M$26,ROWS($M$26:M79)-1,COLUMNS($M$26:M79)-1),\"\")","v":""},{"$f":"IF(OFFSET(DE104_9!$N$26,ROWS($N$26:N79)-1,COLUMNS($N$26:N79)-1)<>\"\",OFFSET(DE104_9!$N$26,ROWS($N$26:N79)-1,COLUMNS($N$26:N79)-1),\"\")","v":""},{"$f":"IF(OFFSET(DE104_9!$O$26,ROWS($O$26:O79)-1,COLUMNS($O$26:O79)-1)<>\"\",OFFSET(DE104_9!$O$26,ROWS($O$26:O79)-1,COLUMNS($O$26:O79)-1),\"\")","v":""},{"$f":"IF(OFFSET(DE104_9!$P$26,ROWS($P$26:P79)-1,COLUMNS($P$26:P79)-1)<>\"\",OFFSET(DE104_9!$P$26,ROWS($P$26:P79)-1,COLUMNS($P$26:P79)-1),\"\")","v":57500},{"$f":"IF(OFFSET(DE104_9!$Q$26,ROWS($Q$26:Q79)-1,COLUMNS($Q$26:Q79)-1)<>\"\",OFFSET(DE104_9!$Q$26,ROWS($Q$26:Q79)-1,COLUMNS($Q$26:Q79)-1),\"\")","v":"DR-306"},{"$f":"IF(OFFSET(DE104_9!$R$26,ROWS($R$26:R79)-1,COLUMNS($R$26:R79)-1)<>\"\",OFFSET(DE104_9!$R$26,ROWS($R$26:R79)-1,COLUMNS($R$26:R79)-1),\"\")","v":""},{"$f":"IF(OFFSET(DE104_9!$S$26,ROWS($S$26:S79)-1,COLUMNS($S$26:S79)-1)<>\"\",OFFSET(DE104_9!$S$26,ROWS($S$26:S79)-1,COLUMNS($S$26:S79)-1),\"\")","v":""},{"$f":"IF(OFFSET(DE104_9!$T$26,ROWS($T$26:T79)-1,COLUMNS($T$26:T79)-1)<>\"\",OFFSET(DE104_9!$T$26,ROWS($T$26:T79)-1,COLUMNS($T$26:T79)-1),\"\")","v":""}]
[{"$f":"IF(OFFSET(DE104_9!$C$26,ROWS($C$26:C80)-1,COLUMNS($C$26:C80)-1)<>\"\",OFFSET(DE104_9!$C$26,ROWS($C$26:C80)-1,COLUMNS($C$26:C80)-1),\"\")","v":29},{"$f":"IF(OFFSET(DE104_9!$D$26,ROWS($D$26:D80)-1,COLUMNS($D$26:D80)-1)<>\"\",OFFSET(DE104_9!$D$26,ROWS($D$26:D80)-1,COLUMNS($D$26:D80)-1),\"\")","v":"WBL"},{"$f":"IF(OFFSET(DE104_9!$E$26,ROWS($E$26:E80)-1,COLUMNS($E$26:E80)-1)<>\"\",OFFSET(DE104_9!$E$26,ROWS($E$26:E80)-1,COLUMNS($E$26:E80)-1),\"\")","v":57850},{"$f":"IF(OFFSET(DE104_9!$F$26,ROWS($F$26:F80)-1,COLUMNS($F$26:F80)-1)<>\"\",OFFSET(DE104_9!$F$26,ROWS($F$26:F80)-1,COLUMNS($F$26:F80)-1),\"\")","v":57950},{"$f":"IF(OFFSET(DE104_9!$G$26,ROWS($G$26:G80)-1,COLUMNS($G$26:G80)-1)<>\"\",OFFSET(DE104_9!$G$26,ROWS($G$26:G80)-1,COLUMNS($G$26:G80)-1),\"\")","v":"LT"},{"$f":"IF(OFFSET(DE104_9!$H$26,ROWS($H$26:H80)-1,COLUMNS($H$26:H80)-1)<>\"\",OFFSET(DE104_9!$H$26,ROWS($H$26:H80)-1,COLUMNS($H$26:H80)-1),\"\")","v":66},{"$f":"IF(OFFSET(DE104_9!$I$26,ROWS($I$26:I80)-1,COLUMNS($I$26:I80)-1)<>\"\",OFFSET(DE104_9!$I$26,ROWS($I$26:I80)-1,COLUMNS($I$26:I80)-1),\"\")","v":""},{"$f":"IF(OFFSET(DE104_9!$J$26,ROWS($J$26:J80)-1,COLUMNS($J$26:J80)-1)<>\"\",OFFSET(DE104_9!$J$26,ROWS($J$26:J80)-1,COLUMNS($J$26:J80)-1),\"\")","v":""},{"$f":"IF(OFFSET(DE104_9!$K$26,ROWS($K$26:K80)-1,COLUMNS($K$26:K80)-1)<>\"\",OFFSET(DE104_9!$K$26,ROWS($K$26:K80)-1,COLUMNS($K$26:K80)-1),\"\")","v":4},{"$f":"IF(OFFSET(DE104_9!$L$26,ROWS($L$26:L80)-1,COLUMNS($L$26:L80)-1)<>\"\",OFFSET(DE104_9!$L$26,ROWS($L$26:L80)-1,COLUMNS($L$26:L80)-1),\"\")","v":140},{"$f":"IF(OFFSET(DE104_9!$M$26,ROWS($M$26:M80)-1,COLUMNS($M$26:M80)-1)<>\"\",OFFSET(DE104_9!$M$26,ROWS($M$26:M80)-1,COLUMNS($M$26:M80)-1),\"\")","v":""},{"$f":"IF(OFFSET(DE104_9!$N$26,ROWS($N$26:N80)-1,COLUMNS($N$26:N80)-1)<>\"\",OFFSET(DE104_9!$N$26,ROWS($N$26:N80)-1,COLUMNS($N$26:N80)-1),\"\")","v":""},{"$f":"IF(OFFSET(DE104_9!$O$26,ROWS($O$26:O80)-1,COLUMNS($O$26:O80)-1)<>\"\",OFFSET(DE104_9!$O$26,ROWS($O$26:O80)-1,COLUMNS($O$26:O80)-1),\"\")","v":""},{"$f":"IF(OFFSET(DE104_9!$P$26,ROWS($P$26:P80)-1,COLUMNS($P$26:P80)-1)<>\"\",OFFSET(DE104_9!$P$26,ROWS($P$26:P80)-1,COLUMNS($P$26:P80)-1),\"\")","v":57850},{"$f":"IF(OFFSET(DE104_9!$Q$26,ROWS($Q$26:Q80)-1,COLUMNS($Q$26:Q80)-1)<>\"\",OFFSET(DE104_9!$Q$26,ROWS($Q$26:Q80)-1,COLUMNS($Q$26:Q80)-1),\"\")","v":"DR-306"},{"$f":"IF(OFFSET(DE104_9!$R$26,ROWS($R$26:R80)-1,COLUMNS($R$26:R80)-1)<>\"\",OFFSET(DE104_9!$R$26,ROWS($R$26:R80)-1,COLUMNS($R$26:R80)-1),\"\")","v":17.3},{"$f":"IF(OFFSET(DE104_9!$S$26,ROWS($S$26:S80)-1,COLUMNS($S$26:S80)-1)<>\"\",OFFSET(DE104_9!$S$26,ROWS($S$26:S80)-1,COLUMNS($S$26:S80)-1),\"\")","v":""},{"$f":"IF(OFFSET(DE104_9!$T$26,ROWS($T$26:T80)-1,COLUMNS($T$26:T80)-1)<>\"\",OFFSET(DE104_9!$T$26,ROWS($T$26:T80)-1,COLUMNS($T$26:T80)-1),\"\")","v":""}]
[{"$f":"IF(OFFSET(DE104_9!$C$26,ROWS($C$26:C81)-1,COLUMNS($C$26:C81)-1)<>\"\",OFFSET(DE104_9!$C$26,ROWS($C$26:C81)-1,COLUMNS($C$26:C81)-1),\"\")","v":30},{"$f":"IF(OFFSET(DE104_9!$D$26,ROWS($D$26:D81)-1,COLUMNS($D$26:D81)-1)<>\"\",OFFSET(DE104_9!$D$26,ROWS($D$26:D81)-1,COLUMNS($D$26:D81)-1),\"\")","v":"WBL"},{"$f":"IF(OFFSET(DE104_9!$E$26,ROWS($E$26:E81)-1,COLUMNS($E$26:E81)-1)<>\"\",OFFSET(DE104_9!$E$26,ROWS($E$26:E81)-1,COLUMNS($E$26:E81)-1),\"\")","v":58575},{"$f":"IF(OFFSET(DE104_9!$F$26,ROWS($F$26:F81)-1,COLUMNS($F$26:F81)-1)<>\"\",OFFSET(DE104_9!$F$26,ROWS($F$26:F81)-1,COLUMNS($F$26:F81)-1),\"\")","v":58800},{"$f":"IF(OFFSET(DE104_9!$G$26,ROWS($G$26:G81)-1,COLUMNS($G$26:G81)-1)<>\"\",OFFSET(DE104_9!$G$26,ROWS($G$26:G81)-1,COLUMNS($G$26:G81)-1),\"\")","v":"LT"},{"$f":"IF(OFFSET(DE104_9!$H$26,ROWS($H$26:H81)-1,COLUMNS($H$26:H81)-1)<>\"\",OFFSET(DE104_9!$H$26,ROWS($H$26:H81)-1,COLUMNS($H$26:H81)-1),\"\")","v":66},{"$f":"IF(OFFSET(DE104_9!$I$26,ROWS($I$26:I81)-1,COLUMNS($I$26:I81)-1)<>\"\",OFFSET(DE104_9!$I$26,ROWS($I$26:I81)-1,COLUMNS($I$26:I81)-1),\"\")","v":""},{"$f":"IF(OFFSET(DE104_9!$J$26,ROWS($J$26:J81)-1,COLUMNS($J$26:J81)-1)<>\"\",OFFSET(DE104_9!$J$26,ROWS($J$26:J81)-1,COLUMNS($J$26:J81)-1),\"\")","v":""},{"$f":"IF(OFFSET(DE104_9!$K$26,ROWS($K$26:K81)-1,COLUMNS($K$26:K81)-1)<>\"\",OFFSET(DE104_9!$K$26,ROWS($K$26:K81)-1,COLUMNS($K$26:K81)-1),\"\")","v":4},{"$f":"IF(OFFSET(DE104_9!$L$26,ROWS($L$26:L81)-1,COLUMNS($L$26:L81)-1)<>\"\",OFFSET(DE104_9!$L$26,ROWS($L$26:L81)-1,COLUMNS($L$26:L81)-1),\"\")","v":265},{"$f":"IF(OFFSET(DE104_9!$M$26,ROWS($M$26:M81)-1,COLUMNS($M$26:M81)-1)<>\"\",OFFSET(DE104_9!$M$26,ROWS($M$26:M81)-1,COLUMNS($M$26:M81)-1),\"\")","v":""},{"$f":"IF(OFFSET(DE104_9!$N$26,ROWS($N$26:N81)-1,COLUMNS($N$26:N81)-1)<>\"\",OFFSET(DE104_9!$N$26,ROWS($N$26:N81)-1,COLUMNS($N$26:N81)-1),\"\")","v":""},{"$f":"IF(OFFSET(DE104_9!$O$26,ROWS($O$26:O81)-1,COLUMNS($O$26:O81)-1)<>\"\",OFFSET(DE104_9!$O$26,ROWS($O$26:O81)-1,COLUMNS($O$26:O81)-1),\"\")","v":""},{"$f":"IF(OFFSET(DE104_9!$P$26,ROWS($P$26:P81)-1,COLUMNS($P$26:P81)-1)<>\"\",OFFSET(DE104_9!$P$26,ROWS($P$26:P81)-1,COLUMNS($P$26:P81)-1),\"\")","v":58575},{"$f":"IF(OFFSET(DE104_9!$Q$26,ROWS($Q$26:Q81)-1,COLUMNS($Q$26:Q81)-1)<>\"\",OFFSET(DE104_9!$Q$26,ROWS($Q$26:Q81)-1,COLUMNS($Q$26:Q81)-1),\"\")","v":"DR-306"},{"$f":"IF(OFFSET(DE104_9!$R$26,ROWS($R$26:R81)-1,COLUMNS($R$26:R81)-1)<>\"\",OFFSET(DE104_9!$R$26,ROWS($R$26:R81)-1,COLUMNS($R$26:R81)-1),\"\")","v":32.700000000000003},{"$f":"IF(OFFSET(DE104_9!$S$26,ROWS($S$26:S81)-1,COLUMNS($S$26:S81)-1)<>\"\",OFFSET(DE104_9!$S$26,ROWS($S$26:S81)-1,COLUMNS($S$26:S81)-1),\"\")","v":""},{"$f":"IF(OFFSET(DE104_9!$T$26,ROWS($T$26:T81)-1,COLUMNS($T$26:T81)-1)<>\"\",OFFSET(DE104_9!$T$26,ROWS($T$26:T81)-1,COLUMNS($T$26:T81)-1),\"\")","v":""}]
[{"$f":"IF(OFFSET(DE104_9!$C$26,ROWS($C$26:C82)-1,COLUMNS($C$26:C82)-1)<>\"\",OFFSET(DE104_9!$C$26,ROWS($C$26:C82)-1,COLUMNS($C$26:C82)-1),\"\")","v":""},{"$f":"IF(OFFSET(DE104_9!$D$26,ROWS($D$26:D82)-1,COLUMNS($D$26:D82)-1)<>\"\",OFFSET(DE104_9!$D$26,ROWS($D$26:D82)-1,COLUMNS($D$26:D82)-1),\"\")","v":""},{"$f":"IF(OFFSET(DE104_9!$E$26,ROWS($E$26:E82)-1,COLUMNS($E$26:E82)-1)<>\"\",OFFSET(DE104_9!$E$26,ROWS($E$26:E82)-1,COLUMNS($E$26:E82)-1),\"\")","v":""},{"$f":"IF(OFFSET(DE104_9!$F$26,ROWS($F$26:F82)-1,COLUMNS($F$26:F82)-1)<>\"\",OFFSET(DE104_9!$F$26,ROWS($F$26:F82)-1,COLUMNS($F$26:F82)-1),\"\")","v":""},{"$f":"IF(OFFSET(DE104_9!$G$26,ROWS($G$26:G82)-1,COLUMNS($G$26:G82)-1)<>\"\",OFFSET(DE104_9!$G$26,ROWS($G$26:G82)-1,COLUMNS($G$26:G82)-1),\"\")","v":""},{"$f":"IF(OFFSET(DE104_9!$H$26,ROWS($H$26:H82)-1,COLUMNS($H$26:H82)-1)<>\"\",OFFSET(DE104_9!$H$26,ROWS($H$26:H82)-1,COLUMNS($H$26:H82)-1),\"\")","v":""},{"$f":"IF(OFFSET(DE104_9!$I$26,ROWS($I$26:I82)-1,COLUMNS($I$26:I82)-1)<>\"\",OFFSET(DE104_9!$I$26,ROWS($I$26:I82)-1,COLUMNS($I$26:I82)-1),\"\")","v":""},{"$f":"IF(OFFSET(DE104_9!$J$26,ROWS($J$26:J82)-1,COLUMNS($J$26:J82)-1)<>\"\",OFFSET(DE104_9!$J$26,ROWS($J$26:J82)-1,COLUMNS($J$26:J82)-1),\"\")","v":""},{"$f":"IF(OFFSET(DE104_9!$K$26,ROWS($K$26:K82)-1,COLUMNS($K$26:K82)-1)<>\"\",OFFSET(DE104_9!$K$26,ROWS($K$26:K82)-1,COLUMNS($K$26:K82)-1),\"\")","v":""},{"$f":"IF(OFFSET(DE104_9!$L$26,ROWS($L$26:L82)-1,COLUMNS($L$26:L82)-1)<>\"\",OFFSET(DE104_9!$L$26,ROWS($L$26:L82)-1,COLUMNS($L$26:L82)-1),\"\")","v":""},{"$f":"IF(OFFSET(DE104_9!$M$26,ROWS($M$26:M82)-1,COLUMNS($M$26:M82)-1)<>\"\",OFFSET(DE104_9!$M$26,ROWS($M$26:M82)-1,COLUMNS($M$26:M82)-1),\"\")","v":""},{"$f":"IF(OFFSET(DE104_9!$N$26,ROWS($N$26:N82)-1,COLUMNS($N$26:N82)-1)<>\"\",OFFSET(DE104_9!$N$26,ROWS($N$26:N82)-1,COLUMNS($N$26:N82)-1),\"\")","v":""},{"$f":"IF(OFFSET(DE104_9!$O$26,ROWS($O$26:O82)-1,COLUMNS($O$26:O82)-1)<>\"\",OFFSET(DE104_9!$O$26,ROWS($O$26:O82)-1,COLUMNS($O$26:O82)-1),\"\")","v":""},{"$f":"IF(OFFSET(DE104_9!$P$26,ROWS($P$26:P82)-1,COLUMNS($P$26:P82)-1)<>\"\",OFFSET(DE104_9!$P$26,ROWS($P$26:P82)-1,COLUMNS($P$26:P82)-1),\"\")","v":58800},{"$f":"IF(OFFSET(DE104_9!$Q$26,ROWS($Q$26:Q82)-1,COLUMNS($Q$26:Q82)-1)<>\"\",OFFSET(DE104_9!$Q$26,ROWS($Q$26:Q82)-1,COLUMNS($Q$26:Q82)-1),\"\")","v":"DR-306"},{"$f":"IF(OFFSET(DE104_9!$R$26,ROWS($R$26:R82)-1,COLUMNS($R$26:R82)-1)<>\"\",OFFSET(DE104_9!$R$26,ROWS($R$26:R82)-1,COLUMNS($R$26:R82)-1),\"\")","v":""},{"$f":"IF(OFFSET(DE104_9!$S$26,ROWS($S$26:S82)-1,COLUMNS($S$26:S82)-1)<>\"\",OFFSET(DE104_9!$S$26,ROWS($S$26:S82)-1,COLUMNS($S$26:S82)-1),\"\")","v":""},{"$f":"IF(OFFSET(DE104_9!$T$26,ROWS($T$26:T82)-1,COLUMNS($T$26:T82)-1)<>\"\",OFFSET(DE104_9!$T$26,ROWS($T$26:T82)-1,COLUMNS($T$26:T82)-1),\"\")","v":""}]
[{"$f":"IF(OFFSET(DE104_9!$C$26,ROWS($C$26:C83)-1,COLUMNS($C$26:C83)-1)<>\"\",OFFSET(DE104_9!$C$26,ROWS($C$26:C83)-1,COLUMNS($C$26:C83)-1),\"\")","v":31},{"$f":"IF(OFFSET(DE104_9!$D$26,ROWS($D$26:D83)-1,COLUMNS($D$26:D83)-1)<>\"\",OFFSET(DE104_9!$D$26,ROWS($D$26:D83)-1,COLUMNS($D$26:D83)-1),\"\")","v":"WBL"},{"$f":"IF(OFFSET(DE104_9!$E$26,ROWS($E$26:E83)-1,COLUMNS($E$26:E83)-1)<>\"\",OFFSET(DE104_9!$E$26,ROWS($E$26:E83)-1,COLUMNS($E$26:E83)-1),\"\")","v":59075},{"$f":"IF(OFFSET(DE104_9!$F$26,ROWS($F$26:F83)-1,COLUMNS($F$26:F83)-1)<>\"\",OFFSET(DE104_9!$F$26,ROWS($F$26:F83)-1,COLUMNS($F$26:F83)-1),\"\")","v":59200},{"$f":"IF(OFFSET(DE104_9!$G$26,ROWS($G$26:G83)-1,COLUMNS($G$26:G83)-1)<>\"\",OFFSET(DE104_9!$G$26,ROWS($G$26:G83)-1,COLUMNS($G$26:G83)-1),\"\")","v":"LT"},{"$f":"IF(OFFSET(DE104_9!$H$26,ROWS($H$26:H83)-1,COLUMNS($H$26:H83)-1)<>\"\",OFFSET(DE104_9!$H$26,ROWS($H$26:H83)-1,COLUMNS($H$26:H83)-1),\"\")","v":66},{"$f":"IF(OFFSET(DE104_9!$I$26,ROWS($I$26:I83)-1,COLUMNS($I$26:I83)-1)<>\"\",OFFSET(DE104_9!$I$26,ROWS($I$26:I83)-1,COLUMNS($I$26:I83)-1),\"\")","v":""},{"$f":"IF(OFFSET(DE104_9!$J$26,ROWS($J$26:J83)-1,COLUMNS($J$26:J83)-1)<>\"\",OFFSET(DE104_9!$J$26,ROWS($J$26:J83)-1,COLUMNS($J$26:J83)-1),\"\")","v":""},{"$f":"IF(OFFSET(DE104_9!$K$26,ROWS($K$26:K83)-1,COLUMNS($K$26:K83)-1)<>\"\",OFFSET(DE104_9!$K$26,ROWS($K$26:K83)-1,COLUMNS($K$26:K83)-1),\"\")","v":4},{"$f":"IF(OFFSET(DE104_9!$L$26,ROWS($L$26:L83)-1,COLUMNS($L$26:L83)-1)<>\"\",OFFSET(DE104_9!$L$26,ROWS($L$26:L83)-1,COLUMNS($L$26:L83)-1),\"\")","v":165},{"$f":"IF(OFFSET(DE104_9!$M$26,ROWS($M$26:M83)-1,COLUMNS($M$26:M83)-1)<>\"\",OFFSET(DE104_9!$M$26,ROWS($M$26:M83)-1,COLUMNS($M$26:M83)-1),\"\")","v":""},{"$f":"IF(OFFSET(DE104_9!$N$26,ROWS($N$26:N83)-1,COLUMNS($N$26:N83)-1)<>\"\",OFFSET(DE104_9!$N$26,ROWS($N$26:N83)-1,COLUMNS($N$26:N83)-1),\"\")","v":""},{"$f":"IF(OFFSET(DE104_9!$O$26,ROWS($O$26:O83)-1,COLUMNS($O$26:O83)-1)<>\"\",OFFSET(DE104_9!$O$26,ROWS($O$26:O83)-1,COLUMNS($O$26:O83)-1),\"\")","v":""},{"$f":"IF(OFFSET(DE104_9!$P$26,ROWS($P$26:P83)-1,COLUMNS($P$26:P83)-1)<>\"\",OFFSET(DE104_9!$P$26,ROWS($P$26:P83)-1,COLUMNS($P$26:P83)-1),\"\")","v":59075},{"$f":"IF(OFFSET(DE104_9!$Q$26,ROWS($Q$26:Q83)-1,COLUMNS($Q$26:Q83)-1)<>\"\",OFFSET(DE104_9!$Q$26,ROWS($Q$26:Q83)-1,COLUMNS($Q$26:Q83)-1),\"\")","v":"DR-306"},{"$f":"IF(OFFSET(DE104_9!$R$26,ROWS($R$26:R83)-1,COLUMNS($R$26:R83)-1)<>\"\",OFFSET(DE104_9!$R$26,ROWS($R$26:R83)-1,COLUMNS($R$26:R83)-1),\"\")","v":20.399999999999999},{"$f":"IF(OFFSET(DE104_9!$S$26,ROWS($S$26:S83)-1,COLUMNS($S$26:S83)-1)<>\"\",OFFSET(DE104_9!$S$26,ROWS($S$26:S83)-1,COLUMNS($S$26:S83)-1),\"\")","v":""},{"$f":"IF(OFFSET(DE104_9!$T$26,ROWS($T$26:T83)-1,COLUMNS($T$26:T83)-1)<>\"\",OFFSET(DE104_9!$T$26,ROWS($T$26:T83)-1,COLUMNS($T$26:T83)-1),\"\")","v":""}]
[{"$f":"IF(OFFSET(DE104_9!$C$26,ROWS($C$26:C84)-1,COLUMNS($C$26:C84)-1)<>\"\",OFFSET(DE104_9!$C$26,ROWS($C$26:C84)-1,COLUMNS($C$26:C84)-1),\"\")","v":""},{"$f":"IF(OFFSET(DE104_9!$D$26,ROWS($D$26:D84)-1,COLUMNS($D$26:D84)-1)<>\"\",OFFSET(DE104_9!$D$26,ROWS($D$26:D84)-1,COLUMNS($D$26:D84)-1),\"\")","v":""},{"$f":"IF(OFFSET(DE104_9!$E$26,ROWS($E$26:E84)-1,COLUMNS($E$26:E84)-1)<>\"\",OFFSET(DE104_9!$E$26,ROWS($E$26:E84)-1,COLUMNS($E$26:E84)-1),\"\")","v":""},{"$f":"IF(OFFSET(DE104_9!$F$26,ROWS($F$26:F84)-1,COLUMNS($F$26:F84)-1)<>\"\",OFFSET(DE104_9!$F$26,ROWS($F$26:F84)-1,COLUMNS($F$26:F84)-1),\"\")","v":""},{"$f":"IF(OFFSET(DE104_9!$G$26,ROWS($G$26:G84)-1,COLUMNS($G$26:G84)-1)<>\"\",OFFSET(DE104_9!$G$26,ROWS($G$26:G84)-1,COLUMNS($G$26:G84)-1),\"\")","v":""},{"$f":"IF(OFFSET(DE104_9!$H$26,ROWS($H$26:H84)-1,COLUMNS($H$26:H84)-1)<>\"\",OFFSET(DE104_9!$H$26,ROWS($H$26:H84)-1,COLUMNS($H$26:H84)-1),\"\")","v":""},{"$f":"IF(OFFSET(DE104_9!$I$26,ROWS($I$26:I84)-1,COLUMNS($I$26:I84)-1)<>\"\",OFFSET(DE104_9!$I$26,ROWS($I$26:I84)-1,COLUMNS($I$26:I84)-1),\"\")","v":""},{"$f":"IF(OFFSET(DE104_9!$J$26,ROWS($J$26:J84)-1,COLUMNS($J$26:J84)-1)<>\"\",OFFSET(DE104_9!$J$26,ROWS($J$26:J84)-1,COLUMNS($J$26:J84)-1),\"\")","v":""},{"$f":"IF(OFFSET(DE104_9!$K$26,ROWS($K$26:K84)-1,COLUMNS($K$26:K84)-1)<>\"\",OFFSET(DE104_9!$K$26,ROWS($K$26:K84)-1,COLUMNS($K$26:K84)-1),\"\")","v":""},{"$f":"IF(OFFSET(DE104_9!$L$26,ROWS($L$26:L84)-1,COLUMNS($L$26:L84)-1)<>\"\",OFFSET(DE104_9!$L$26,ROWS($L$26:L84)-1,COLUMNS($L$26:L84)-1),\"\")","v":""},{"$f":"IF(OFFSET(DE104_9!$M$26,ROWS($M$26:M84)-1,COLUMNS($M$26:M84)-1)<>\"\",OFFSET(DE104_9!$M$26,ROWS($M$26:M84)-1,COLUMNS($M$26:M84)-1),\"\")","v":""},{"$f":"IF(OFFSET(DE104_9!$N$26,ROWS($N$26:N84)-1,COLUMNS($N$26:N84)-1)<>\"\",OFFSET(DE104_9!$N$26,ROWS($N$26:N84)-1,COLUMNS($N$26:N84)-1),\"\")","v":""},{"$f":"IF(OFFSET(DE104_9!$O$26,ROWS($O$26:O84)-1,COLUMNS($O$26:O84)-1)<>\"\",OFFSET(DE104_9!$O$26,ROWS($O$26:O84)-1,COLUMNS($O$26:O84)-1),\"\")","v":""},{"$f":"IF(OFFSET(DE104_9!$P$26,ROWS($P$26:P84)-1,COLUMNS($P$26:P84)-1)<>\"\",OFFSET(DE104_9!$P$26,ROWS($P$26:P84)-1,COLUMNS($P$26:P84)-1),\"\")","v":59200},{"$f":"IF(OFFSET(DE104_9!$Q$26,ROWS($Q$26:Q84)-1,COLUMNS($Q$26:Q84)-1)<>\"\",OFFSET(DE104_9!$Q$26,ROWS($Q$26:Q84)-1,COLUMNS($Q$26:Q84)-1),\"\")","v":"DR-306"},{"$f":"IF(OFFSET(DE104_9!$R$26,ROWS($R$26:R84)-1,COLUMNS($R$26:R84)-1)<>\"\",OFFSET(DE104_9!$R$26,ROWS($R$26:R84)-1,COLUMNS($R$26:R84)-1),\"\")","v":""},{"$f":"IF(OFFSET(DE104_9!$S$26,ROWS($S$26:S84)-1,COLUMNS($S$26:S84)-1)<>\"\",OFFSET(DE104_9!$S$26,ROWS($S$26:S84)-1,COLUMNS($S$26:S84)-1),\"\")","v":""},{"$f":"IF(OFFSET(DE104_9!$T$26,ROWS($T$26:T84)-1,COLUMNS($T$26:T84)-1)<>\"\",OFFSET(DE104_9!$T$26,ROWS($T$26:T84)-1,COLUMNS($T$26:T84)-1),\"\")","v":""}]
[{"$f":"IF(OFFSET(DE104_9!$C$26,ROWS($C$26:C85)-1,COLUMNS($C$26:C85)-1)<>\"\",OFFSET(DE104_9!$C$26,ROWS($C$26:C85)-1,COLUMNS($C$26:C85)-1),\"\")","v":32},{"$f":"IF(OFFSET(DE104_9!$D$26,ROWS($D$26:D85)-1,COLUMNS($D$26:D85)-1)<>\"\",OFFSET(DE104_9!$D$26,ROWS($D$26:D85)-1,COLUMNS($D$26:D85)-1),\"\")","v":"WBL"},{"$f":"IF(OFFSET(DE104_9!$E$26,ROWS($E$26:E85)-1,COLUMNS($E$26:E85)-1)<>\"\",OFFSET(DE104_9!$E$26,ROWS($E$26:E85)-1,COLUMNS($E$26:E85)-1),\"\")","v":59775},{"$f":"IF(OFFSET(DE104_9!$F$26,ROWS($F$26:F85)-1,COLUMNS($F$26:F85)-1)<>\"\",OFFSET(DE104_9!$F$26,ROWS($F$26:F85)-1,COLUMNS($F$26:F85)-1),\"\")","v":60650},{"$f":"IF(OFFSET(DE104_9!$G$26,ROWS($G$26:G85)-1,COLUMNS($G$26:G85)-1)<>\"\",OFFSET(DE104_9!$G$26,ROWS($G$26:G85)-1,COLUMNS($G$26:G85)-1),\"\")","v":"LT"},{"$f":"IF(OFFSET(DE104_9!$H$26,ROWS($H$26:H85)-1,COLUMNS($H$26:H85)-1)<>\"\",OFFSET(DE104_9!$H$26,ROWS($H$26:H85)-1,COLUMNS($H$26:H85)-1),\"\")","v":66},{"$f":"IF(OFFSET(DE104_9!$I$26,ROWS($I$26:I85)-1,COLUMNS($I$26:I85)-1)<>\"\",OFFSET(DE104_9!$I$26,ROWS($I$26:I85)-1,COLUMNS($I$26:I85)-1),\"\")","v":""},{"$f":"IF(OFFSET(DE104_9!$J$26,ROWS($J$26:J85)-1,COLUMNS($J$26:J85)-1)<>\"\",OFFSET(DE104_9!$J$26,ROWS($J$26:J85)-1,COLUMNS($J$26:J85)-1),\"\")","v":""},{"$f":"IF(OFFSET(DE104_9!$K$26,ROWS($K$26:K85)-1,COLUMNS($K$26:K85)-1)<>\"\",OFFSET(DE104_9!$K$26,ROWS($K$26:K85)-1,COLUMNS($K$26:K85)-1),\"\")","v":4},{"$f":"IF(OFFSET(DE104_9!$L$26,ROWS($L$26:L85)-1,COLUMNS($L$26:L85)-1)<>\"\",OFFSET(DE104_9!$L$26,ROWS($L$26:L85)-1,COLUMNS($L$26:L85)-1),\"\")","v":915},{"$f":"IF(OFFSET(DE104_9!$M$26,ROWS($M$26:M85)-1,COLUMNS($M$26:M85)-1)<>\"\",OFFSET(DE104_9!$M$26,ROWS($M$26:M85)-1,COLUMNS($M$26:M85)-1),\"\")","v":""},{"$f":"IF(OFFSET(DE104_9!$N$26,ROWS($N$26:N85)-1,COLUMNS($N$26:N85)-1)<>\"\",OFFSET(DE104_9!$N$26,ROWS($N$26:N85)-1,COLUMNS($N$26:N85)-1),\"\")","v":""},{"$f":"IF(OFFSET(DE104_9!$O$26,ROWS($O$26:O85)-1,COLUMNS($O$26:O85)-1)<>\"\",OFFSET(DE104_9!$O$26,ROWS($O$26:O85)-1,COLUMNS($O$26:O85)-1),\"\")","v":""},{"$f":"IF(OFFSET(DE104_9!$P$26,ROWS($P$26:P85)-1,COLUMNS($P$26:P85)-1)<>\"\",OFFSET(DE104_9!$P$26,ROWS($P$26:P85)-1,COLUMNS($P$26:P85)-1),\"\")","v":59775},{"$f":"IF(OFFSET(DE104_9!$Q$26,ROWS($Q$26:Q85)-1,COLUMNS($Q$26:Q85)-1)<>\"\",OFFSET(DE104_9!$Q$26,ROWS($Q$26:Q85)-1,COLUMNS($Q$26:Q85)-1),\"\")","v":"DR-306"},{"$f":"IF(OFFSET(DE104_9!$R$26,ROWS($R$26:R85)-1,COLUMNS($R$26:R85)-1)<>\"\",OFFSET(DE104_9!$R$26,ROWS($R$26:R85)-1,COLUMNS($R$26:R85)-1),\"\")","v":113},{"$f":"IF(OFFSET(DE104_9!$S$26,ROWS($S$26:S85)-1,COLUMNS($S$26:S85)-1)<>\"\",OFFSET(DE104_9!$S$26,ROWS($S$26:S85)-1,COLUMNS($S$26:S85)-1),\"\")","v":""},{"$f":"IF(OFFSET(DE104_9!$T$26,ROWS($T$26:T85)-1,COLUMNS($T$26:T85)-1)<>\"\",OFFSET(DE104_9!$T$26,ROWS($T$26:T85)-1,COLUMNS($T$26:T85)-1),\"\")","v":""}]
[{"$f":"IF(OFFSET(DE104_9!$C$26,ROWS($C$26:C86)-1,COLUMNS($C$26:C86)-1)<>\"\",OFFSET(DE104_9!$C$26,ROWS($C$26:C86)-1,COLUMNS($C$26:C86)-1),\"\")","v":""},{"$f":"IF(OFFSET(DE104_9!$D$26,ROWS($D$26:D86)-1,COLUMNS($D$26:D86)-1)<>\"\",OFFSET(DE104_9!$D$26,ROWS($D$26:D86)-1,COLUMNS($D$26:D86)-1),\"\")","v":""},{"$f":"IF(OFFSET(DE104_9!$E$26,ROWS($E$26:E86)-1,COLUMNS($E$26:E86)-1)<>\"\",OFFSET(DE104_9!$E$26,ROWS($E$26:E86)-1,COLUMNS($E$26:E86)-1),\"\")","v":""},{"$f":"IF(OFFSET(DE104_9!$F$26,ROWS($F$26:F86)-1,COLUMNS($F$26:F86)-1)<>\"\",OFFSET(DE104_9!$F$26,ROWS($F$26:F86)-1,COLUMNS($F$26:F86)-1),\"\")","v":""},{"$f":"IF(OFFSET(DE104_9!$G$26,ROWS($G$26:G86)-1,COLUMNS($G$26:G86)-1)<>\"\",OFFSET(DE104_9!$G$26,ROWS($G$26:G86)-1,COLUMNS($G$26:G86)-1),\"\")","v":""},{"$f":"IF(OFFSET(DE104_9!$H$26,ROWS($H$26:H86)-1,COLUMNS($H$26:H86)-1)<>\"\",OFFSET(DE104_9!$H$26,ROWS($H$26:H86)-1,COLUMNS($H$26:H86)-1),\"\")","v":""},{"$f":"IF(OFFSET(DE104_9!$I$26,ROWS($I$26:I86)-1,COLUMNS($I$26:I86)-1)<>\"\",OFFSET(DE104_9!$I$26,ROWS($I$26:I86)-1,COLUMNS($I$26:I86)-1),\"\")","v":""},{"$f":"IF(OFFSET(DE104_9!$J$26,ROWS($J$26:J86)-1,COLUMNS($J$26:J86)-1)<>\"\",OFFSET(DE104_9!$J$26,ROWS($J$26:J86)-1,COLUMNS($J$26:J86)-1),\"\")","v":""},{"$f":"IF(OFFSET(DE104_9!$K$26,ROWS($K$26:K86)-1,COLUMNS($K$26:K86)-1)<>\"\",OFFSET(DE104_9!$K$26,ROWS($K$26:K86)-1,COLUMNS($K$26:K86)-1),\"\")","v":""},{"$f":"IF(OFFSET(DE104_9!$L$26,ROWS($L$26:L86)-1,COLUMNS($L$26:L86)-1)<>\"\",OFFSET(DE104_9!$L$26,ROWS($L$26:L86)-1,COLUMNS($L$26:L86)-1),\"\")","v":""},{"$f":"IF(OFFSET(DE104_9!$M$26,ROWS($M$26:M86)-1,COLUMNS($M$26:M86)-1)<>\"\",OFFSET(DE104_9!$M$26,ROWS($M$26:M86)-1,COLUMNS($M$26:M86)-1),\"\")","v":""},{"$f":"IF(OFFSET(DE104_9!$N$26,ROWS($N$26:N86)-1,COLUMNS($N$26:N86)-1)<>\"\",OFFSET(DE104_9!$N$26,ROWS($N$26:N86)-1,COLUMNS($N$26:N86)-1),\"\")","v":""},{"$f":"IF(OFFSET(DE104_9!$O$26,ROWS($O$26:O86)-1,COLUMNS($O$26:O86)-1)<>\"\",OFFSET(DE104_9!$O$26,ROWS($O$26:O86)-1,COLUMNS($O$26:O86)-1),\"\")","v":""},{"$f":"IF(OFFSET(DE104_9!$P$26,ROWS($P$26:P86)-1,COLUMNS($P$26:P86)-1)<>\"\",OFFSET(DE104_9!$P$26,ROWS($P$26:P86)-1,COLUMNS($P$26:P86)-1),\"\")","v":60650},{"$f":"IF(OFFSET(DE104_9!$Q$26,ROWS($Q$26:Q86)-1,COLUMNS($Q$26:Q86)-1)<>\"\",OFFSET(DE104_9!$Q$26,ROWS($Q$26:Q86)-1,COLUMNS($Q$26:Q86)-1),\"\")","v":"DR-306"},{"$f":"IF(OFFSET(DE104_9!$R$26,ROWS($R$26:R86)-1,COLUMNS($R$26:R86)-1)<>\"\",OFFSET(DE104_9!$R$26,ROWS($R$26:R86)-1,COLUMNS($R$26:R86)-1),\"\")","v":""},{"$f":"IF(OFFSET(DE104_9!$S$26,ROWS($S$26:S86)-1,COLUMNS($S$26:S86)-1)<>\"\",OFFSET(DE104_9!$S$26,ROWS($S$26:S86)-1,COLUMNS($S$26:S86)-1),\"\")","v":""},{"$f":"IF(OFFSET(DE104_9!$T$26,ROWS($T$26:T86)-1,COLUMNS($T$26:T86)-1)<>\"\",OFFSET(DE104_9!$T$26,ROWS($T$26:T86)-1,COLUMNS($T$26:T86)-1),\"\")","v":""}]
[{"$f":"IF(OFFSET(DE104_9!$C$26,ROWS($C$26:C87)-1,COLUMNS($C$26:C87)-1)<>\"\",OFFSET(DE104_9!$C$26,ROWS($C$26:C87)-1,COLUMNS($C$26:C87)-1),\"\")","v":33},{"$f":"IF(OFFSET(DE104_9!$D$26,ROWS($D$26:D87)-1,COLUMNS($D$26:D87)-1)<>\"\",OFFSET(DE104_9!$D$26,ROWS($D$26:D87)-1,COLUMNS($D$26:D87)-1),\"\")","v":"WBL"},{"$f":"IF(OFFSET(DE104_9!$E$26,ROWS($E$26:E87)-1,COLUMNS($E$26:E87)-1)<>\"\",OFFSET(DE104_9!$E$26,ROWS($E$26:E87)-1,COLUMNS($E$26:E87)-1),\"\")","v":60875},{"$f":"IF(OFFSET(DE104_9!$F$26,ROWS($F$26:F87)-1,COLUMNS($F$26:F87)-1)<>\"\",OFFSET(DE104_9!$F$26,ROWS($F$26:F87)-1,COLUMNS($F$26:F87)-1),\"\")","v":61100},{"$f":"IF(OFFSET(DE104_9!$G$26,ROWS($G$26:G87)-1,COLUMNS($G$26:G87)-1)<>\"\",OFFSET(DE104_9!$G$26,ROWS($G$26:G87)-1,COLUMNS($G$26:G87)-1),\"\")","v":"LT"},{"$f":"IF(OFFSET(DE104_9!$H$26,ROWS($H$26:H87)-1,COLUMNS($H$26:H87)-1)<>\"\",OFFSET(DE104_9!$H$26,ROWS($H$26:H87)-1,COLUMNS($H$26:H87)-1),\"\")","v":66},{"$f":"IF(OFFSET(DE104_9!$I$26,ROWS($I$26:I87)-1,COLUMNS($I$26:I87)-1)<>\"\",OFFSET(DE104_9!$I$26,ROWS($I$26:I87)-1,COLUMNS($I$26:I87)-1),\"\")","v":""},{"$f":"IF(OFFSET(DE104_9!$J$26,ROWS($J$26:J87)-1,COLUMNS($J$26:J87)-1)<>\"\",OFFSET(DE104_9!$J$26,ROWS($J$26:J87)-1,COLUMNS($J$26:J87)-1),\"\")","v":""},{"$f":"IF(OFFSET(DE104_9!$K$26,ROWS($K$26:K87)-1,COLUMNS($K$26:K87)-1)<>\"\",OFFSET(DE104_9!$K$26,ROWS($K$26:K87)-1,COLUMNS($K$26:K87)-1),\"\")","v":4},{"$f":"IF(OFFSET(DE104_9!$L$26,ROWS($L$26:L87)-1,COLUMNS($L$26:L87)-1)<>\"\",OFFSET(DE104_9!$L$26,ROWS($L$26:L87)-1,COLUMNS($L$26:L87)-1),\"\")","v":265},{"$f":"IF(OFFSET(DE104_9!$M$26,ROWS($M$26:M87)-1,COLUMNS($M$26:M87)-1)<>\"\",OFFSET(DE104_9!$M$26,ROWS($M$26:M87)-1,COLUMNS($M$26:M87)-1),\"\")","v":""},{"$f":"IF(OFFSET(DE104_9!$N$26,ROWS($N$26:N87)-1,COLUMNS($N$26:N87)-1)<>\"\",OFFSET(DE104_9!$N$26,ROWS($N$26:N87)-1,COLUMNS($N$26:N87)-1),\"\")","v":""},{"$f":"IF(OFFSET(DE104_9!$O$26,ROWS($O$26:O87)-1,COLUMNS($O$26:O87)-1)<>\"\",OFFSET(DE104_9!$O$26,ROWS($O$26:O87)-1,COLUMNS($O$26:O87)-1),\"\")","v":""},{"$f":"IF(OFFSET(DE104_9!$P$26,ROWS($P$26:P87)-1,COLUMNS($P$26:P87)-1)<>\"\",OFFSET(DE104_9!$P$26,ROWS($P$26:P87)-1,COLUMNS($P$26:P87)-1),\"\")","v":61075},{"$f":"IF(OFFSET(DE104_9!$Q$26,ROWS($Q$26:Q87)-1,COLUMNS($Q$26:Q87)-1)<>\"\",OFFSET(DE104_9!$Q$26,ROWS($Q$26:Q87)-1,COLUMNS($Q$26:Q87)-1),\"\")","v":"DR-306"},{"$f":"IF(OFFSET(DE104_9!$R$26,ROWS($R$26:R87)-1,COLUMNS($R$26:R87)-1)<>\"\",OFFSET(DE104_9!$R$26,ROWS($R$26:R87)-1,COLUMNS($R$26:R87)-1),\"\")","v":32.700000000000003},{"$f":"IF(OFFSET(DE104_9!$S$26,ROWS($S$26:S87)-1,COLUMNS($S$26:S87)-1)<>\"\",OFFSET(DE104_9!$S$26,ROWS($S$26:S87)-1,COLUMNS($S$26:S87)-1),\"\")","v":""},{"$f":"IF(OFFSET(DE104_9!$T$26,ROWS($T$26:T87)-1,COLUMNS($T$26:T87)-1)<>\"\",OFFSET(DE104_9!$T$26,ROWS($T$26:T87)-1,COLUMNS($T$26:T87)-1),\"\")","v":""}]
[{"$f":"IF(OFFSET(DE104_9!$C$26,ROWS($C$26:C88)-1,COLUMNS($C$26:C88)-1)<>\"\",OFFSET(DE104_9!$C$26,ROWS($C$26:C88)-1,COLUMNS($C$26:C88)-1),\"\")","v":34},{"$f":"IF(OFFSET(DE104_9!$D$26,ROWS($D$26:D88)-1,COLUMNS($D$26:D88)-1)<>\"\",OFFSET(DE104_9!$D$26,ROWS($D$26:D88)-1,COLUMNS($D$26:D88)-1),\"\")","v":"WBL"},{"$f":"IF(OFFSET(DE104_9!$E$26,ROWS($E$26:E88)-1,COLUMNS($E$26:E88)-1)<>\"\",OFFSET(DE104_9!$E$26,ROWS($E$26:E88)-1,COLUMNS($E$26:E88)-1),\"\")","v":61475},{"$f":"IF(OFFSET(DE104_9!$F$26,ROWS($F$26:F88)-1,COLUMNS($F$26:F88)-1)<>\"\",OFFSET(DE104_9!$F$26,ROWS($F$26:F88)-1,COLUMNS($F$26:F88)-1),\"\")","v":61575},{"$f":"IF(OFFSET(DE104_9!$G$26,ROWS($G$26:G88)-1,COLUMNS($G$26:G88)-1)<>\"\",OFFSET(DE104_9!$G$26,ROWS($G$26:G88)-1,COLUMNS($G$26:G88)-1),\"\")","v":"LT"},{"$f":"IF(OFFSET(DE104_9!$H$26,ROWS($H$26:H88)-1,COLUMNS($H$26:H88)-1)<>\"\",OFFSET(DE104_9!$H$26,ROWS($H$26:H88)-1,COLUMNS($H$26:H88)-1),\"\")","v":66},{"$f":"IF(OFFSET(DE104_9!$I$26,ROWS($I$26:I88)-1,COLUMNS($I$26:I88)-1)<>\"\",OFFSET(DE104_9!$I$26,ROWS($I$26:I88)-1,COLUMNS($I$26:I88)-1),\"\")","v":""},{"$f":"IF(OFFSET(DE104_9!$J$26,ROWS($J$26:J88)-1,COLUMNS($J$26:J88)-1)<>\"\",OFFSET(DE104_9!$J$26,ROWS($J$26:J88)-1,COLUMNS($J$26:J88)-1),\"\")","v":""},{"$f":"IF(OFFSET(DE104_9!$K$26,ROWS($K$26:K88)-1,COLUMNS($K$26:K88)-1)<>\"\",OFFSET(DE104_9!$K$26,ROWS($K$26:K88)-1,COLUMNS($K$26:K88)-1),\"\")","v":4},{"$f":"IF(OFFSET(DE104_9!$L$26,ROWS($L$26:L88)-1,COLUMNS($L$26:L88)-1)<>\"\",OFFSET(DE104_9!$L$26,ROWS($L$26:L88)-1,COLUMNS($L$26:L88)-1),\"\")","v":140},{"$f":"IF(OFFSET(DE104_9!$M$26,ROWS($M$26:M88)-1,COLUMNS($M$26:M88)-1)<>\"\",OFFSET(DE104_9!$M$26,ROWS($M$26:M88)-1,COLUMNS($M$26:M88)-1),\"\")","v":""},{"$f":"IF(OFFSET(DE104_9!$N$26,ROWS($N$26:N88)-1,COLUMNS($N$26:N88)-1)<>\"\",OFFSET(DE104_9!$N$26,ROWS($N$26:N88)-1,COLUMNS($N$26:N88)-1),\"\")","v":""},{"$f":"IF(OFFSET(DE104_9!$O$26,ROWS($O$26:O88)-1,COLUMNS($O$26:O88)-1)<>\"\",OFFSET(DE104_9!$O$26,ROWS($O$26:O88)-1,COLUMNS($O$26:O88)-1),\"\")","v":""},{"$f":"IF(OFFSET(DE104_9!$P$26,ROWS($P$26:P88)-1,COLUMNS($P$26:P88)-1)<>\"\",OFFSET(DE104_9!$P$26,ROWS($P$26:P88)-1,COLUMNS($P$26:P88)-1),\"\")","v":61500},{"$f":"IF(OFFSET(DE104_9!$Q$26,ROWS($Q$26:Q88)-1,COLUMNS($Q$26:Q88)-1)<>\"\",OFFSET(DE104_9!$Q$26,ROWS($Q$26:Q88)-1,COLUMNS($Q$26:Q88)-1),\"\")","v":"DR-306"},{"$f":"IF(OFFSET(DE104_9!$R$26,ROWS($R$26:R88)-1,COLUMNS($R$26:R88)-1)<>\"\",OFFSET(DE104_9!$R$26,ROWS($R$26:R88)-1,COLUMNS($R$26:R88)-1),\"\")","v":17.3},{"$f":"IF(OFFSET(DE104_9!$S$26,ROWS($S$26:S88)-1,COLUMNS($S$26:S88)-1)<>\"\",OFFSET(DE104_9!$S$26,ROWS($S$26:S88)-1,COLUMNS($S$26:S88)-1),\"\")","v":""},{"$f":"IF(OFFSET(DE104_9!$T$26,ROWS($T$26:T88)-1,COLUMNS($T$26:T88)-1)<>\"\",OFFSET(DE104_9!$T$26,ROWS($T$26:T88)-1,COLUMNS($T$26:T88)-1),\"\")","v":""}]
[{"$f":"IF(OFFSET(DE104_9!$C$26,ROWS($C$26:C89)-1,COLUMNS($C$26:C89)-1)<>\"\",OFFSET(DE104_9!$C$26,ROWS($C$26:C89)-1,COLUMNS($C$26:C89)-1),\"\")","v":35},{"$f":"IF(OFFSET(DE104_9!$D$26,ROWS($D$26:D89)-1,COLUMNS($D$26:D89)-1)<>\"\",OFFSET(DE104_9!$D$26,ROWS($D$26:D89)-1,COLUMNS($D$26:D89)-1),\"\")","v":"WBL"},{"$f":"IF(OFFSET(DE104_9!$E$26,ROWS($E$26:E89)-1,COLUMNS($E$26:E89)-1)<>\"\",OFFSET(DE104_9!$E$26,ROWS($E$26:E89)-1,COLUMNS($E$26:E89)-1),\"\")","v":61925},{"$f":"IF(OFFSET(DE104_9!$F$26,ROWS($F$26:F89)-1,COLUMNS($F$26:F89)-1)<>\"\",OFFSET(DE104_9!$F$26,ROWS($F$26:F89)-1,COLUMNS($F$26:F89)-1),\"\")","v":62125},{"$f":"IF(OFFSET(DE104_9!$G$26,ROWS($G$26:G89)-1,COLUMNS($G$26:G89)-1)<>\"\",OFFSET(DE104_9!$G$26,ROWS($G$26:G89)-1,COLUMNS($G$26:G89)-1),\"\")","v":"LT"},{"$f":"IF(OFFSET(DE104_9!$H$26,ROWS($H$26:H89)-1,COLUMNS($H$26:H89)-1)<>\"\",OFFSET(DE104_9!$H$26,ROWS($H$26:H89)-1,COLUMNS($H$26:H89)-1),\"\")","v":66},{"$f":"IF(OFFSET(DE104_9!$I$26,ROWS($I$26:I89)-1,COLUMNS($I$26:I89)-1)<>\"\",OFFSET(DE104_9!$I$26,ROWS($I$26:I89)-1,COLUMNS($I$26:I89)-1),\"\")","v":""},{"$f":"IF(OFFSET(DE104_9!$J$26,ROWS($J$26:J89)-1,COLUMNS($J$26:J89)-1)<>\"\",OFFSET(DE104_9!$J$26,ROWS($J$26:J89)-1,COLUMNS($J$26:J89)-1),\"\")","v":""},{"$f":"IF(OFFSET(DE104_9!$K$26,ROWS($K$26:K89)-1,COLUMNS($K$26:K89)-1)<>\"\",OFFSET(DE104_9!$K$26,ROWS($K$26:K89)-1,COLUMNS($K$26:K89)-1),\"\")","v":4},{"$f":"IF(OFFSET(DE104_9!$L$26,ROWS($L$26:L89)-1,COLUMNS($L$26:L89)-1)<>\"\",OFFSET(DE104_9!$L$26,ROWS($L$26:L89)-1,COLUMNS($L$26:L89)-1),\"\")","v":240},{"$f":"IF(OFFSET(DE104_9!$M$26,ROWS($M$26:M89)-1,COLUMNS($M$26:M89)-1)<>\"\",OFFSET(DE104_9!$M$26,ROWS($M$26:M89)-1,COLUMNS($M$26:M89)-1),\"\")","v":""},{"$f":"IF(OFFSET(DE104_9!$N$26,ROWS($N$26:N89)-1,COLUMNS($N$26:N89)-1)<>\"\",OFFSET(DE104_9!$N$26,ROWS($N$26:N89)-1,COLUMNS($N$26:N89)-1),\"\")","v":""},{"$f":"IF(OFFSET(DE104_9!$O$26,ROWS($O$26:O89)-1,COLUMNS($O$26:O89)-1)<>\"\",OFFSET(DE104_9!$O$26,ROWS($O$26:O89)-1,COLUMNS($O$26:O89)-1),\"\")","v":""},{"$f":"IF(OFFSET(DE104_9!$P$26,ROWS($P$26:P89)-1,COLUMNS($P$26:P89)-1)<>\"\",OFFSET(DE104_9!$P$26,ROWS($P$26:P89)-1,COLUMNS($P$26:P89)-1),\"\")","v":61925},{"$f":"IF(OFFSET(DE104_9!$Q$26,ROWS($Q$26:Q89)-1,COLUMNS($Q$26:Q89)-1)<>\"\",OFFSET(DE104_9!$Q$26,ROWS($Q$26:Q89)-1,COLUMNS($Q$26:Q89)-1),\"\")","v":"DR-306"},{"$f":"IF(OFFSET(DE104_9!$R$26,ROWS($R$26:R89)-1,COLUMNS($R$26:R89)-1)<>\"\",OFFSET(DE104_9!$R$26,ROWS($R$26:R89)-1,COLUMNS($R$26:R89)-1),\"\")","v":29.6},{"$f":"IF(OFFSET(DE104_9!$S$26,ROWS($S$26:S89)-1,COLUMNS($S$26:S89)-1)<>\"\",OFFSET(DE104_9!$S$26,ROWS($S$26:S89)-1,COLUMNS($S$26:S89)-1),\"\")","v":""},{"$f":"IF(OFFSET(DE104_9!$T$26,ROWS($T$26:T89)-1,COLUMNS($T$26:T89)-1)<>\"\",OFFSET(DE104_9!$T$26,ROWS($T$26:T89)-1,COLUMNS($T$26:T89)-1),\"\")","v":""}]
[{"$f":"IF(OFFSET(DE104_9!$C$26,ROWS($C$26:C90)-1,COLUMNS($C$26:C90)-1)<>\"\",OFFSET(DE104_9!$C$26,ROWS($C$26:C90)-1,COLUMNS($C$26:C90)-1),\"\")","v":36},{"$f":"IF(OFFSET(DE104_9!$D$26,ROWS($D$26:D90)-1,COLUMNS($D$26:D90)-1)<>\"\",OFFSET(DE104_9!$D$26,ROWS($D$26:D90)-1,COLUMNS($D$26:D90)-1),\"\")","v":"WBL"},{"$f":"IF(OFFSET(DE104_9!$E$26,ROWS($E$26:E90)-1,COLUMNS($E$26:E90)-1)<>\"\",OFFSET(DE104_9!$E$26,ROWS($E$26:E90)-1,COLUMNS($E$26:E90)-1),\"\")","v":64400},{"$f":"IF(OFFSET(DE104_9!$F$26,ROWS($F$26:F90)-1,COLUMNS($F$26:F90)-1)<>\"\",OFFSET(DE104_9!$F$26,ROWS($F$26:F90)-1,COLUMNS($F$26:F90)-1),\"\")","v":64725},{"$f":"IF(OFFSET(DE104_9!$G$26,ROWS($G$26:G90)-1,COLUMNS($G$26:G90)-1)<>\"\",OFFSET(DE104_9!$G$26,ROWS($G$26:G90)-1,COLUMNS($G$26:G90)-1),\"\")","v":"LT"},{"$f":"IF(OFFSET(DE104_9!$H$26,ROWS($H$26:H90)-1,COLUMNS($H$26:H90)-1)<>\"\",OFFSET(DE104_9!$H$26,ROWS($H$26:H90)-1,COLUMNS($H$26:H90)-1),\"\")","v":66},{"$f":"IF(OFFSET(DE104_9!$I$26,ROWS($I$26:I90)-1,COLUMNS($I$26:I90)-1)<>\"\",OFFSET(DE104_9!$I$26,ROWS($I$26:I90)-1,COLUMNS($I$26:I90)-1),\"\")","v":""},{"$f":"IF(OFFSET(DE104_9!$J$26,ROWS($J$26:J90)-1,COLUMNS($J$26:J90)-1)<>\"\",OFFSET(DE104_9!$J$26,ROWS($J$26:J90)-1,COLUMNS($J$26:J90)-1),\"\")","v":""},{"$f":"IF(OFFSET(DE104_9!$K$26,ROWS($K$26:K90)-1,COLUMNS($K$26:K90)-1)<>\"\",OFFSET(DE104_9!$K$26,ROWS($K$26:K90)-1,COLUMNS($K$26:K90)-1),\"\")","v":4},{"$f":"IF(OFFSET(DE104_9!$L$26,ROWS($L$26:L90)-1,COLUMNS($L$26:L90)-1)<>\"\",OFFSET(DE104_9!$L$26,ROWS($L$26:L90)-1,COLUMNS($L$26:L90)-1),\"\")","v":365},{"$f":"IF(OFFSET(DE104_9!$M$26,ROWS($M$26:M90)-1,COLUMNS($M$26:M90)-1)<>\"\",OFFSET(DE104_9!$M$26,ROWS($M$26:M90)-1,COLUMNS($M$26:M90)-1),\"\")","v":""},{"$f":"IF(OFFSET(DE104_9!$N$26,ROWS($N$26:N90)-1,COLUMNS($N$26:N90)-1)<>\"\",OFFSET(DE104_9!$N$26,ROWS($N$26:N90)-1,COLUMNS($N$26:N90)-1),\"\")","v":""},{"$f":"IF(OFFSET(DE104_9!$O$26,ROWS($O$26:O90)-1,COLUMNS($O$26:O90)-1)<>\"\",OFFSET(DE104_9!$O$26,ROWS($O$26:O90)-1,COLUMNS($O$26:O90)-1),\"\")","v":""},{"$f":"IF(OFFSET(DE104_9!$P$26,ROWS($P$26:P90)-1,COLUMNS($P$26:P90)-1)<>\"\",OFFSET(DE104_9!$P$26,ROWS($P$26:P90)-1,COLUMNS($P$26:P90)-1),\"\")","v":64575},{"$f":"IF(OFFSET(DE104_9!$Q$26,ROWS($Q$26:Q90)-1,COLUMNS($Q$26:Q90)-1)<>\"\",OFFSET(DE104_9!$Q$26,ROWS($Q$26:Q90)-1,COLUMNS($Q$26:Q90)-1),\"\")","v":"DR-306"},{"$f":"IF(OFFSET(DE104_9!$R$26,ROWS($R$26:R90)-1,COLUMNS($R$26:R90)-1)<>\"\",OFFSET(DE104_9!$R$26,ROWS($R$26:R90)-1,COLUMNS($R$26:R90)-1),\"\")","v":45.1},{"$f":"IF(OFFSET(DE104_9!$S$26,ROWS($S$26:S90)-1,COLUMNS($S$26:S90)-1)<>\"\",OFFSET(DE104_9!$S$26,ROWS($S$26:S90)-1,COLUMNS($S$26:S90)-1),\"\")","v":""},{"$f":"IF(OFFSET(DE104_9!$T$26,ROWS($T$26:T90)-1,COLUMNS($T$26:T90)-1)<>\"\",OFFSET(DE104_9!$T$26,ROWS($T$26:T90)-1,COLUMNS($T$26:T90)-1),\"\")","v":""}]
[{"$f":"IF(OFFSET(DE104_9!$C$26,ROWS($C$26:C91)-1,COLUMNS($C$26:C91)-1)<>\"\",OFFSET(DE104_9!$C$26,ROWS($C$26:C91)-1,COLUMNS($C$26:C91)-1),\"\")","v":""},{"$f":"IF(OFFSET(DE104_9!$D$26,ROWS($D$26:D91)-1,COLUMNS($D$26:D91)-1)<>\"\",OFFSET(DE104_9!$D$26,ROWS($D$26:D91)-1,COLUMNS($D$26:D91)-1),\"\")","v":""},{"$f":"IF(OFFSET(DE104_9!$E$26,ROWS($E$26:E91)-1,COLUMNS($E$26:E91)-1)<>\"\",OFFSET(DE104_9!$E$26,ROWS($E$26:E91)-1,COLUMNS($E$26:E91)-1),\"\")","v":""},{"$f":"IF(OFFSET(DE104_9!$F$26,ROWS($F$26:F91)-1,COLUMNS($F$26:F91)-1)<>\"\",OFFSET(DE104_9!$F$26,ROWS($F$26:F91)-1,COLUMNS($F$26:F91)-1),\"\")","v":""},{"$f":"IF(OFFSET(DE104_9!$G$26,ROWS($G$26:G91)-1,COLUMNS($G$26:G91)-1)<>\"\",OFFSET(DE104_9!$G$26,ROWS($G$26:G91)-1,COLUMNS($G$26:G91)-1),\"\")","v":""},{"$f":"IF(OFFSET(DE104_9!$H$26,ROWS($H$26:H91)-1,COLUMNS($H$26:H91)-1)<>\"\",OFFSET(DE104_9!$H$26,ROWS($H$26:H91)-1,COLUMNS($H$26:H91)-1),\"\")","v":""},{"$f":"IF(OFFSET(DE104_9!$I$26,ROWS($I$26:I91)-1,COLUMNS($I$26:I91)-1)<>\"\",OFFSET(DE104_9!$I$26,ROWS($I$26:I91)-1,COLUMNS($I$26:I91)-1),\"\")","v":""},{"$f":"IF(OFFSET(DE104_9!$J$26,ROWS($J$26:J91)-1,COLUMNS($J$26:J91)-1)<>\"\",OFFSET(DE104_9!$J$26,ROWS($J$26:J91)-1,COLUMNS($J$26:J91)-1),\"\")","v":""},{"$f":"IF(OFFSET(DE104_9!$K$26,ROWS($K$26:K91)-1,COLUMNS($K$26:K91)-1)<>\"\",OFFSET(DE104_9!$K$26,ROWS($K$26:K91)-1,COLUMNS($K$26:K91)-1),\"\")","v":""},{"$f":"IF(OFFSET(DE104_9!$L$26,ROWS($L$26:L91)-1,COLUMNS($L$26:L91)-1)<>\"\",OFFSET(DE104_9!$L$26,ROWS($L$26:L91)-1,COLUMNS($L$26:L91)-1),\"\")","v":""},{"$f":"IF(OFFSET(DE104_9!$M$26,ROWS($M$26:M91)-1,COLUMNS($M$26:M91)-1)<>\"\",OFFSET(DE104_9!$M$26,ROWS($M$26:M91)-1,COLUMNS($M$26:M91)-1),\"\")","v":""},{"$f":"IF(OFFSET(DE104_9!$N$26,ROWS($N$26:N91)-1,COLUMNS($N$26:N91)-1)<>\"\",OFFSET(DE104_9!$N$26,ROWS($N$26:N91)-1,COLUMNS($N$26:N91)-1),\"\")","v":""},{"$f":"IF(OFFSET(DE104_9!$O$26,ROWS($O$26:O91)-1,COLUMNS($O$26:O91)-1)<>\"\",OFFSET(DE104_9!$O$26,ROWS($O$26:O91)-1,COLUMNS($O$26:O91)-1),\"\")","v":""},{"$f":"IF(OFFSET(DE104_9!$P$26,ROWS($P$26:P91)-1,COLUMNS($P$26:P91)-1)<>\"\",OFFSET(DE104_9!$P$26,ROWS($P$26:P91)-1,COLUMNS($P$26:P91)-1),\"\")","v":64725},{"$f":"IF(OFFSET(DE104_9!$Q$26,ROWS($Q$26:Q91)-1,COLUMNS($Q$26:Q91)-1)<>\"\",OFFSET(DE104_9!$Q$26,ROWS($Q$26:Q91)-1,COLUMNS($Q$26:Q91)-1),\"\")","v":"DR-306"},{"$f":"IF(OFFSET(DE104_9!$R$26,ROWS($R$26:R91)-1,COLUMNS($R$26:R91)-1)<>\"\",OFFSET(DE104_9!$R$26,ROWS($R$26:R91)-1,COLUMNS($R$26:R91)-1),\"\")","v":""},{"$f":"IF(OFFSET(DE104_9!$S$26,ROWS($S$26:S91)-1,COLUMNS($S$26:S91)-1)<>\"\",OFFSET(DE104_9!$S$26,ROWS($S$26:S91)-1,COLUMNS($S$26:S91)-1),\"\")","v":""},{"$f":"IF(OFFSET(DE104_9!$T$26,ROWS($T$26:T91)-1,COLUMNS($T$26:T91)-1)<>\"\",OFFSET(DE104_9!$T$26,ROWS($T$26:T91)-1,COLUMNS($T$26:T91)-1),\"\")","v":""}]
[{"$f":"IF(OFFSET(DE104_9!$C$26,ROWS($C$26:C92)-1,COLUMNS($C$26:C92)-1)<>\"\",OFFSET(DE104_9!$C$26,ROWS($C$26:C92)-1,COLUMNS($C$26:C92)-1),\"\")","v":37},{"$f":"IF(OFFSET(DE104_9!$D$26,ROWS($D$26:D92)-1,COLUMNS($D$26:D92)-1)<>\"\",OFFSET(DE104_9!$D$26,ROWS($D$26:D92)-1,COLUMNS($D$26:D92)-1),\"\")","v":"R Ave."},{"$f":"IF(OFFSET(DE104_9!$E$26,ROWS($E$26:E92)-1,COLUMNS($E$26:E92)-1)<>\"\",OFFSET(DE104_9!$E$26,ROWS($E$26:E92)-1,COLUMNS($E$26:E92)-1),\"\")","v":836875},{"$f":"IF(OFFSET(DE104_9!$F$26,ROWS($F$26:F92)-1,COLUMNS($F$26:F92)-1)<>\"\",OFFSET(DE104_9!$F$26,ROWS($F$26:F92)-1,COLUMNS($F$26:F92)-1),\"\")","v":837125},{"$f":"IF(OFFSET(DE104_9!$G$26,ROWS($G$26:G92)-1,COLUMNS($G$26:G92)-1)<>\"\",OFFSET(DE104_9!$G$26,ROWS($G$26:G92)-1,COLUMNS($G$26:G92)-1),\"\")","v":"RT"},{"$f":"IF(OFFSET(DE104_9!$H$26,ROWS($H$26:H92)-1,COLUMNS($H$26:H92)-1)<>\"\",OFFSET(DE104_9!$H$26,ROWS($H$26:H92)-1,COLUMNS($H$26:H92)-1),\"\")","v":66},{"$f":"IF(OFFSET(DE104_9!$I$26,ROWS($I$26:I92)-1,COLUMNS($I$26:I92)-1)<>\"\",OFFSET(DE104_9!$I$26,ROWS($I$26:I92)-1,COLUMNS($I$26:I92)-1),\"\")","v":""},{"$f":"IF(OFFSET(DE104_9!$J$26,ROWS($J$26:J92)-1,COLUMNS($J$26:J92)-1)<>\"\",OFFSET(DE104_9!$J$26,ROWS($J$26:J92)-1,COLUMNS($J$26:J92)-1),\"\")","v":""},{"$f":"IF(OFFSET(DE104_9!$K$26,ROWS($K$26:K92)-1,COLUMNS($K$26:K92)-1)<>\"\",OFFSET(DE104_9!$K$26,ROWS($K$26:K92)-1,COLUMNS($K$26:K92)-1),\"\")","v":4},{"$f":"IF(OFFSET(DE104_9!$L$26,ROWS($L$26:L92)-1,COLUMNS($L$26:L92)-1)<>\"\",OFFSET(DE104_9!$L$26,ROWS($L$26:L92)-1,COLUMNS($L$26:L92)-1),\"\")","v":290},{"$f":"IF(OFFSET(DE104_9!$M$26,ROWS($M$26:M92)-1,COLUMNS($M$26:M92)-1)<>\"\",OFFSET(DE104_9!$M$26,ROWS($M$26:M92)-1,COLUMNS($M$26:M92)-1),\"\")","v":""},{"$f":"IF(OFFSET(DE104_9!$N$26,ROWS($N$26:N92)-1,COLUMNS($N$26:N92)-1)<>\"\",OFFSET(DE104_9!$N$26,ROWS($N$26:N92)-1,COLUMNS($N$26:N92)-1),\"\")","v":""},{"$f":"IF(OFFSET(DE104_9!$O$26,ROWS($O$26:O92)-1,COLUMNS($O$26:O92)-1)<>\"\",OFFSET(DE104_9!$O$26,ROWS($O$26:O92)-1,COLUMNS($O$26:O92)-1),\"\")","v":""},{"$f":"IF(OFFSET(DE104_9!$P$26,ROWS($P$26:P92)-1,COLUMNS($P$26:P92)-1)<>\"\",OFFSET(DE104_9!$P$26,ROWS($P$26:P92)-1,COLUMNS($P$26:P92)-1),\"\")","v":836875},{"$f":"IF(OFFSET(DE104_9!$Q$26,ROWS($Q$26:Q92)-1,COLUMNS($Q$26:Q92)-1)<>\"\",OFFSET(DE104_9!$Q$26,ROWS($Q$26:Q92)-1,COLUMNS($Q$26:Q92)-1),\"\")","v":"DR-306"},{"$f":"IF(OFFSET(DE104_9!$R$26,ROWS($R$26:R92)-1,COLUMNS($R$26:R92)-1)<>\"\",OFFSET(DE104_9!$R$26,ROWS($R$26:R92)-1,COLUMNS($R$26:R92)-1),\"\")","v":35.799999999999997},{"$f":"IF(OFFSET(DE104_9!$S$26,ROWS($S$26:S92)-1,COLUMNS($S$26:S92)-1)<>\"\",OFFSET(DE104_9!$S$26,ROWS($S$26:S92)-1,COLUMNS($S$26:S92)-1),\"\")","v":""},{"$f":"IF(OFFSET(DE104_9!$T$26,ROWS($T$26:T92)-1,COLUMNS($T$26:T92)-1)<>\"\",OFFSET(DE104_9!$T$26,ROWS($T$26:T92)-1,COLUMNS($T$26:T92)-1),\"\")","v":""}]
[{"$f":"IF(OFFSET(DE104_9!$C$26,ROWS($C$26:C93)-1,COLUMNS($C$26:C93)-1)<>\"\",OFFSET(DE104_9!$C$26,ROWS($C$26:C93)-1,COLUMNS($C$26:C93)-1),\"\")","v":38},{"$f":"IF(OFFSET(DE104_9!$D$26,ROWS($D$26:D93)-1,COLUMNS($D$26:D93)-1)<>\"\",OFFSET(DE104_9!$D$26,ROWS($D$26:D93)-1,COLUMNS($D$26:D93)-1),\"\")","v":"T Ave"},{"$f":"IF(OFFSET(DE104_9!$E$26,ROWS($E$26:E93)-1,COLUMNS($E$26:E93)-1)<>\"\",OFFSET(DE104_9!$E$26,ROWS($E$26:E93)-1,COLUMNS($E$26:E93)-1),\"\")","v":947475},{"$f":"IF(OFFSET(DE104_9!$F$26,ROWS($F$26:F93)-1,COLUMNS($F$26:F93)-1)<>\"\",OFFSET(DE104_9!$F$26,ROWS($F$26:F93)-1,COLUMNS($F$26:F93)-1),\"\")","v":947950},{"$f":"IF(OFFSET(DE104_9!$G$26,ROWS($G$26:G93)-1,COLUMNS($G$26:G93)-1)<>\"\",OFFSET(DE104_9!$G$26,ROWS($G$26:G93)-1,COLUMNS($G$26:G93)-1),\"\")","v":"RT"},{"$f":"IF(OFFSET(DE104_9!$H$26,ROWS($H$26:H93)-1,COLUMNS($H$26:H93)-1)<>\"\",OFFSET(DE104_9!$H$26,ROWS($H$26:H93)-1,COLUMNS($H$26:H93)-1),\"\")","v":66},{"$f":"IF(OFFSET(DE104_9!$I$26,ROWS($I$26:I93)-1,COLUMNS($I$26:I93)-1)<>\"\",OFFSET(DE104_9!$I$26,ROWS($I$26:I93)-1,COLUMNS($I$26:I93)-1),\"\")","v":""},{"$f":"IF(OFFSET(DE104_9!$J$26,ROWS($J$26:J93)-1,COLUMNS($J$26:J93)-1)<>\"\",OFFSET(DE104_9!$J$26,ROWS($J$26:J93)-1,COLUMNS($J$26:J93)-1),\"\")","v":""},{"$f":"IF(OFFSET(DE104_9!$K$26,ROWS($K$26:K93)-1,COLUMNS($K$26:K93)-1)<>\"\",OFFSET(DE104_9!$K$26,ROWS($K$26:K93)-1,COLUMNS($K$26:K93)-1),\"\")","v":4},{"$f":"IF(OFFSET(DE104_9!$L$26,ROWS($L$26:L93)-1,COLUMNS($L$26:L93)-1)<>\"\",OFFSET(DE104_9!$L$26,ROWS($L$26:L93)-1,COLUMNS($L$26:L93)-1),\"\")","v":515},{"$f":"IF(OFFSET(DE104_9!$M$26,ROWS($M$26:M93)-1,COLUMNS($M$26:M93)-1)<>\"\",OFFSET(DE104_9!$M$26,ROWS($M$26:M93)-1,COLUMNS($M$26:M93)-1),\"\")","v":""},{"$f":"IF(OFFSET(DE104_9!$N$26,ROWS($N$26:N93)-1,COLUMNS($N$26:N93)-1)<>\"\",OFFSET(DE104_9!$N$26,ROWS($N$26:N93)-1,COLUMNS($N$26:N93)-1),\"\")","v":""},{"$f":"IF(OFFSET(DE104_9!$O$26,ROWS($O$26:O93)-1,COLUMNS($O$26:O93)-1)<>\"\",OFFSET(DE104_9!$O$26,ROWS($O$26:O93)-1,COLUMNS($O$26:O93)-1),\"\")","v":""},{"$f":"IF(OFFSET(DE104_9!$P$26,ROWS($P$26:P93)-1,COLUMNS($P$26:P93)-1)<>\"\",OFFSET(DE104_9!$P$26,ROWS($P$26:P93)-1,COLUMNS($P$26:P93)-1),\"\")","v":947475},{"$f":"IF(OFFSET(DE104_9!$Q$26,ROWS($Q$26:Q93)-1,COLUMNS($Q$26:Q93)-1)<>\"\",OFFSET(DE104_9!$Q$26,ROWS($Q$26:Q93)-1,COLUMNS($Q$26:Q93)-1),\"\")","v":"DR-306"},{"$f":"IF(OFFSET(DE104_9!$R$26,ROWS($R$26:R93)-1,COLUMNS($R$26:R93)-1)<>\"\",OFFSET(DE104_9!$R$26,ROWS($R$26:R93)-1,COLUMNS($R$26:R93)-1),\"\")","v":63.6},{"$f":"IF(OFFSET(DE104_9!$S$26,ROWS($S$26:S93)-1,COLUMNS($S$26:S93)-1)<>\"\",OFFSET(DE104_9!$S$26,ROWS($S$26:S93)-1,COLUMNS($S$26:S93)-1),\"\")","v":""},{"$f":"IF(OFFSET(DE104_9!$T$26,ROWS($T$26:T93)-1,COLUMNS($T$26:T93)-1)<>\"\",OFFSET(DE104_9!$T$26,ROWS($T$26:T93)-1,COLUMNS($T$26:T93)-1),\"\")","v":""}]
[{"$f":"IF(OFFSET(DE104_9!$C$26,ROWS($C$26:C94)-1,COLUMNS($C$26:C94)-1)<>\"\",OFFSET(DE104_9!$C$26,ROWS($C$26:C94)-1,COLUMNS($C$26:C94)-1),\"\")","v":""},{"$f":"IF(OFFSET(DE104_9!$D$26,ROWS($D$26:D94)-1,COLUMNS($D$26:D94)-1)<>\"\",OFFSET(DE104_9!$D$26,ROWS($D$26:D94)-1,COLUMNS($D$26:D94)-1),\"\")","v":""},{"$f":"IF(OFFSET(DE104_9!$E$26,ROWS($E$26:E94)-1,COLUMNS($E$26:E94)-1)<>\"\",OFFSET(DE104_9!$E$26,ROWS($E$26:E94)-1,COLUMNS($E$26:E94)-1),\"\")","v":""},{"$f":"IF(OFFSET(DE104_9!$F$26,ROWS($F$26:F94)-1,COLUMNS($F$26:F94)-1)<>\"\",OFFSET(DE104_9!$F$26,ROWS($F$26:F94)-1,COLUMNS($F$26:F94)-1),\"\")","v":""},{"$f":"IF(OFFSET(DE104_9!$G$26,ROWS($G$26:G94)-1,COLUMNS($G$26:G94)-1)<>\"\",OFFSET(DE104_9!$G$26,ROWS($G$26:G94)-1,COLUMNS($G$26:G94)-1),\"\")","v":""},{"$f":"IF(OFFSET(DE104_9!$H$26,ROWS($H$26:H94)-1,COLUMNS($H$26:H94)-1)<>\"\",OFFSET(DE104_9!$H$26,ROWS($H$26:H94)-1,COLUMNS($H$26:H94)-1),\"\")","v":""},{"$f":"IF(OFFSET(DE104_9!$I$26,ROWS($I$26:I94)-1,COLUMNS($I$26:I94)-1)<>\"\",OFFSET(DE104_9!$I$26,ROWS($I$26:I94)-1,COLUMNS($I$26:I94)-1),\"\")","v":""},{"$f":"IF(OFFSET(DE104_9!$J$26,ROWS($J$26:J94)-1,COLUMNS($J$26:J94)-1)<>\"\",OFFSET(DE104_9!$J$26,ROWS($J$26:J94)-1,COLUMNS($J$26:J94)-1),\"\")","v":""},{"$f":"IF(OFFSET(DE104_9!$K$26,ROWS($K$26:K94)-1,COLUMNS($K$26:K94)-1)<>\"\",OFFSET(DE104_9!$K$26,ROWS($K$26:K94)-1,COLUMNS($K$26:K94)-1),\"\")","v":""},{"$f":"IF(OFFSET(DE104_9!$L$26,ROWS($L$26:L94)-1,COLUMNS($L$26:L94)-1)<>\"\",OFFSET(DE104_9!$L$26,ROWS($L$26:L94)-1,COLUMNS($L$26:L94)-1),\"\")","v":""},{"$f":"IF(OFFSET(DE104_9!$M$26,ROWS($M$26:M94)-1,COLUMNS($M$26:M94)-1)<>\"\",OFFSET(DE104_9!$M$26,ROWS($M$26:M94)-1,COLUMNS($M$26:M94)-1),\"\")","v":""},{"$f":"IF(OFFSET(DE104_9!$N$26,ROWS($N$26:N94)-1,COLUMNS($N$26:N94)-1)<>\"\",OFFSET(DE104_9!$N$26,ROWS($N$26:N94)-1,COLUMNS($N$26:N94)-1),\"\")","v":""},{"$f":"IF(OFFSET(DE104_9!$O$26,ROWS($O$26:O94)-1,COLUMNS($O$26:O94)-1)<>\"\",OFFSET(DE104_9!$O$26,ROWS($O$26:O94)-1,COLUMNS($O$26:O94)-1),\"\")","v":""},{"$f":"IF(OFFSET(DE104_9!$P$26,ROWS($P$26:P94)-1,COLUMNS($P$26:P94)-1)<>\"\",OFFSET(DE104_9!$P$26,ROWS($P$26:P94)-1,COLUMNS($P$26:P94)-1),\"\")","v":947850},{"$f":"IF(OFFSET(DE104_9!$Q$26,ROWS($Q$26:Q94)-1,COLUMNS($Q$26:Q94)-1)<>\"\",OFFSET(DE104_9!$Q$26,ROWS($Q$26:Q94)-1,COLUMNS($Q$26:Q94)-1),\"\")","v":"DR-306"},{"$f":"IF(OFFSET(DE104_9!$R$26,ROWS($R$26:R94)-1,COLUMNS($R$26:R94)-1)<>\"\",OFFSET(DE104_9!$R$26,ROWS($R$26:R94)-1,COLUMNS($R$26:R94)-1),\"\")","v":""},{"$f":"IF(OFFSET(DE104_9!$S$26,ROWS($S$26:S94)-1,COLUMNS($S$26:S94)-1)<>\"\",OFFSET(DE104_9!$S$26,ROWS($S$26:S94)-1,COLUMNS($S$26:S94)-1),\"\")","v":""},{"$f":"IF(OFFSET(DE104_9!$T$26,ROWS($T$26:T94)-1,COLUMNS($T$26:T94)-1)<>\"\",OFFSET(DE104_9!$T$26,ROWS($T$26:T94)-1,COLUMNS($T$26:T94)-1),\"\")","v":""}]
[{"$f":"IF(OFFSET(DE104_9!$C$26,ROWS($C$26:C95)-1,COLUMNS($C$26:C95)-1)<>\"\",OFFSET(DE104_9!$C$26,ROWS($C$26:C95)-1,COLUMNS($C$26:C95)-1),\"\")","v":39},{"$f":"IF(OFFSET(DE104_9!$D$26,ROWS($D$26:D95)-1,COLUMNS($D$26:D95)-1)<>\"\",OFFSET(DE104_9!$D$26,ROWS($D$26:D95)-1,COLUMNS($D$26:D95)-1),\"\")","v":"W Ave."},{"$f":"IF(OFFSET(DE104_9!$E$26,ROWS($E$26:E95)-1,COLUMNS($E$26:E95)-1)<>\"\",OFFSET(DE104_9!$E$26,ROWS($E$26:E95)-1,COLUMNS($E$26:E95)-1),\"\")","v":1262450},{"$f":"IF(OFFSET(DE104_9!$F$26,ROWS($F$26:F95)-1,COLUMNS($F$26:F95)-1)<>\"\",OFFSET(DE104_9!$F$26,ROWS($F$26:F95)-1,COLUMNS($F$26:F95)-1),\"\")","v":1262625},{"$f":"IF(OFFSET(DE104_9!$G$26,ROWS($G$26:G95)-1,COLUMNS($G$26:G95)-1)<>\"\",OFFSET(DE104_9!$G$26,ROWS($G$26:G95)-1,COLUMNS($G$26:G95)-1),\"\")","v":"LT"},{"$f":"IF(OFFSET(DE104_9!$H$26,ROWS($H$26:H95)-1,COLUMNS($H$26:H95)-1)<>\"\",OFFSET(DE104_9!$H$26,ROWS($H$26:H95)-1,COLUMNS($H$26:H95)-1),\"\")","v":66},{"$f":"IF(OFFSET(DE104_9!$I$26,ROWS($I$26:I95)-1,COLUMNS($I$26:I95)-1)<>\"\",OFFSET(DE104_9!$I$26,ROWS($I$26:I95)-1,COLUMNS($I$26:I95)-1),\"\")","v":""},{"$f":"IF(OFFSET(DE104_9!$J$26,ROWS($J$26:J95)-1,COLUMNS($J$26:J95)-1)<>\"\",OFFSET(DE104_9!$J$26,ROWS($J$26:J95)-1,COLUMNS($J$26:J95)-1),\"\")","v":""},{"$f":"IF(OFFSET(DE104_9!$K$26,ROWS($K$26:K95)-1,COLUMNS($K$26:K95)-1)<>\"\",OFFSET(DE104_9!$K$26,ROWS($K$26:K95)-1,COLUMNS($K$26:K95)-1),\"\")","v":4},{"$f":"IF(OFFSET(DE104_9!$L$26,ROWS($L$26:L95)-1,COLUMNS($L$26:L95)-1)<>\"\",OFFSET(DE104_9!$L$26,ROWS($L$26:L95)-1,COLUMNS($L$26:L95)-1),\"\")","v":215},{"$f":"IF(OFFSET(DE104_9!$M$26,ROWS($M$26:M95)-1,COLUMNS($M$26:M95)-1)<>\"\",OFFSET(DE104_9!$M$26,ROWS($M$26:M95)-1,COLUMNS($M$26:M95)-1),\"\")","v":""},{"$f":"IF(OFFSET(DE104_9!$N$26,ROWS($N$26:N95)-1,COLUMNS($N$26:N95)-1)<>\"\",OFFSET(DE104_9!$N$26,ROWS($N$26:N95)-1,COLUMNS($N$26:N95)-1),\"\")","v":""},{"$f":"IF(OFFSET(DE104_9!$O$26,ROWS($O$26:O95)-1,COLUMNS($O$26:O95)-1)<>\"\",OFFSET(DE104_9!$O$26,ROWS($O$26:O95)-1,COLUMNS($O$26:O95)-1),\"\")","v":""},{"$f":"IF(OFFSET(DE104_9!$P$26,ROWS($P$26:P95)-1,COLUMNS($P$26:P95)-1)<>\"\",OFFSET(DE104_9!$P$26,ROWS($P$26:P95)-1,COLUMNS($P$26:P95)-1),\"\")","v":1262550},{"$f":"IF(OFFSET(DE104_9!$Q$26,ROWS($Q$26:Q95)-1,COLUMNS($Q$26:Q95)-1)<>\"\",OFFSET(DE104_9!$Q$26,ROWS($Q$26:Q95)-1,COLUMNS($Q$26:Q95)-1),\"\")","v":"DR-306"},{"$f":"IF(OFFSET(DE104_9!$R$26,ROWS($R$26:R95)-1,COLUMNS($R$26:R95)-1)<>\"\",OFFSET(DE104_9!$R$26,ROWS($R$26:R95)-1,COLUMNS($R$26:R95)-1),\"\")","v":26.5},{"$f":"IF(OFFSET(DE104_9!$S$26,ROWS($S$26:S95)-1,COLUMNS($S$26:S95)-1)<>\"\",OFFSET(DE104_9!$S$26,ROWS($S$26:S95)-1,COLUMNS($S$26:S95)-1),\"\")","v":""},{"$f":"IF(OFFSET(DE104_9!$T$26,ROWS($T$26:T95)-1,COLUMNS($T$26:T95)-1)<>\"\",OFFSET(DE104_9!$T$26,ROWS($T$26:T95)-1,COLUMNS($T$26:T95)-1),\"\")","v":""}]
[{"$f":"IF(OFFSET(DE104_9!$C$26,ROWS($C$26:C96)-1,COLUMNS($C$26:C96)-1)<>\"\",OFFSET(DE104_9!$C$26,ROWS($C$26:C96)-1,COLUMNS($C$26:C96)-1),\"\")","v":""},{"$f":"IF(OFFSET(DE104_9!$D$26,ROWS($D$26:D96)-1,COLUMNS($D$26:D96)-1)<>\"\",OFFSET(DE104_9!$D$26,ROWS($D$26:D96)-1,COLUMNS($D$26:D96)-1),\"\")","v":""},{"$f":"IF(OFFSET(DE104_9!$E$26,ROWS($E$26:E96)-1,COLUMNS($E$26:E96)-1)<>\"\",OFFSET(DE104_9!$E$26,ROWS($E$26:E96)-1,COLUMNS($E$26:E96)-1),\"\")","v":""},{"$f":"IF(OFFSET(DE104_9!$F$26,ROWS($F$26:F96)-1,COLUMNS($F$26:F96)-1)<>\"\",OFFSET(DE104_9!$F$26,ROWS($F$26:F96)-1,COLUMNS($F$26:F96)-1),\"\")","v":""},{"$f":"IF(OFFSET(DE104_9!$G$26,ROWS($G$26:G96)-1,COLUMNS($G$26:G96)-1)<>\"\",OFFSET(DE104_9!$G$26,ROWS($G$26:G96)-1,COLUMNS($G$26:G96)-1),\"\")","v":""},{"$f":"IF(OFFSET(DE104_9!$H$26,ROWS($H$26:H96)-1,COLUMNS($H$26:H96)-1)<>\"\",OFFSET(DE104_9!$H$26,ROWS($H$26:H96)-1,COLUMNS($H$26:H96)-1),\"\")","v":""},{"$f":"IF(OFFSET(DE104_9!$I$26,ROWS($I$26:I96)-1,COLUMNS($I$26:I96)-1)<>\"\",OFFSET(DE104_9!$I$26,ROWS($I$26:I96)-1,COLUMNS($I$26:I96)-1),\"\")","v":""},{"$f":"IF(OFFSET(DE104_9!$J$26,ROWS($J$26:J96)-1,COLUMNS($J$26:J96)-1)<>\"\",OFFSET(DE104_9!$J$26,ROWS($J$26:J96)-1,COLUMNS($J$26:J96)-1),\"\")","v":""},{"$f":"IF(OFFSET(DE104_9!$K$26,ROWS($K$26:K96)-1,COLUMNS($K$26:K96)-1)<>\"\",OFFSET(DE104_9!$K$26,ROWS($K$26:K96)-1,COLUMNS($K$26:K96)-1),\"\")","v":""},{"$f":"IF(OFFSET(DE104_9!$L$26,ROWS($L$26:L96)-1,COLUMNS($L$26:L96)-1)<>\"\",OFFSET(DE104_9!$L$26,ROWS($L$26:L96)-1,COLUMNS($L$26:L96)-1),\"\")","v":""},{"$f":"IF(OFFSET(DE104_9!$M$26,ROWS($M$26:M96)-1,COLUMNS($M$26:M96)-1)<>\"\",OFFSET(DE104_9!$M$26,ROWS($M$26:M96)-1,COLUMNS($M$26:M96)-1),\"\")","v":""},{"$f":"IF(OFFSET(DE104_9!$N$26,ROWS($N$26:N96)-1,COLUMNS($N$26:N96)-1)<>\"\",OFFSET(DE104_9!$N$26,ROWS($N$26:N96)-1,COLUMNS($N$26:N96)-1),\"\")","v":""},{"$f":"IF(OFFSET(DE104_9!$O$26,ROWS($O$26:O96)-1,COLUMNS($O$26:O96)-1)<>\"\",OFFSET(DE104_9!$O$26,ROWS($O$26:O96)-1,COLUMNS($O$26:O96)-1),\"\")","v":""},{"$f":"IF(OFFSET(DE104_9!$P$26,ROWS($P$26:P96)-1,COLUMNS($P$26:P96)-1)<>\"\",OFFSET(DE104_9!$P$26,ROWS($P$26:P96)-1,COLUMNS($P$26:P96)-1),\"\")","v":""},{"$f":"IF(OFFSET(DE104_9!$Q$26,ROWS($Q$26:Q96)-1,COLUMNS($Q$26:Q96)-1)<>\"\",OFFSET(DE104_9!$Q$26,ROWS($Q$26:Q96)-1,COLUMNS($Q$26:Q96)-1),\"\")","v":""},{"$f":"IF(OFFSET(DE104_9!$R$26,ROWS($R$26:R96)-1,COLUMNS($R$26:R96)-1)<>\"\",OFFSET(DE104_9!$R$26,ROWS($R$26:R96)-1,COLUMNS($R$26:R96)-1),\"\")","v":""},{"$f":"IF(OFFSET(DE104_9!$S$26,ROWS($S$26:S96)-1,COLUMNS($S$26:S96)-1)<>\"\",OFFSET(DE104_9!$S$26,ROWS($S$26:S96)-1,COLUMNS($S$26:S96)-1),\"\")","v":""},{"$f":"IF(OFFSET(DE104_9!$T$26,ROWS($T$26:T96)-1,COLUMNS($T$26:T96)-1)<>\"\",OFFSET(DE104_9!$T$26,ROWS($T$26:T96)-1,COLUMNS($T$26:T96)-1),\"\")","v":""}]
[{"$f":"IF(OFFSET(DE104_9!$C$26,ROWS($C$26:C97)-1,COLUMNS($C$26:C97)-1)<>\"\",OFFSET(DE104_9!$C$26,ROWS($C$26:C97)-1,COLUMNS($C$26:C97)-1),\"\")","v":""},{"$f":"IF(OFFSET(DE104_9!$D$26,ROWS($D$26:D97)-1,COLUMNS($D$26:D97)-1)<>\"\",OFFSET(DE104_9!$D$26,ROWS($D$26:D97)-1,COLUMNS($D$26:D97)-1),\"\")","v":""},{"$f":"IF(OFFSET(DE104_9!$E$26,ROWS($E$26:E97)-1,COLUMNS($E$26:E97)-1)<>\"\",OFFSET(DE104_9!$E$26,ROWS($E$26:E97)-1,COLUMNS($E$26:E97)-1),\"\")","v":""},{"$f":"IF(OFFSET(DE104_9!$F$26,ROWS($F$26:F97)-1,COLUMNS($F$26:F97)-1)<>\"\",OFFSET(DE104_9!$F$26,ROWS($F$26:F97)-1,COLUMNS($F$26:F97)-1),\"\")","v":""},{"$f":"IF(OFFSET(DE104_9!$G$26,ROWS($G$26:G97)-1,COLUMNS($G$26:G97)-1)<>\"\",OFFSET(DE104_9!$G$26,ROWS($G$26:G97)-1,COLUMNS($G$26:G97)-1),\"\")","v":""},{"$f":"IF(OFFSET(DE104_9!$H$26,ROWS($H$26:H97)-1,COLUMNS($H$26:H97)-1)<>\"\",OFFSET(DE104_9!$H$26,ROWS($H$26:H97)-1,COLUMNS($H$26:H97)-1),\"\")","v":""},{"$f":"IF(OFFSET(DE104_9!$I$26,ROWS($I$26:I97)-1,COLUMNS($I$26:I97)-1)<>\"\",OFFSET(DE104_9!$I$26,ROWS($I$26:I97)-1,COLUMNS($I$26:I97)-1),\"\")","v":""},{"$f":"IF(OFFSET(DE104_9!$J$26,ROWS($J$26:J97)-1,COLUMNS($J$26:J97)-1)<>\"\",OFFSET(DE104_9!$J$26,ROWS($J$26:J97)-1,COLUMNS($J$26:J97)-1),\"\")","v":""},{"$f":"IF(OFFSET(DE104_9!$K$26,ROWS($K$26:K97)-1,COLUMNS($K$26:K97)-1)<>\"\",OFFSET(DE104_9!$K$26,ROWS($K$26:K97)-1,COLUMNS($K$26:K97)-1),\"\")","v":""},{"$f":"IF(OFFSET(DE104_9!$L$26,ROWS($L$26:L97)-1,COLUMNS($L$26:L97)-1)<>\"\",OFFSET(DE104_9!$L$26,ROWS($L$26:L97)-1,COLUMNS($L$26:L97)-1),\"\")","v":""},{"$f":"IF(OFFSET(DE104_9!$M$26,ROWS($M$26:M97)-1,COLUMNS($M$26:M97)-1)<>\"\",OFFSET(DE104_9!$M$26,ROWS($M$26:M97)-1,COLUMNS($M$26:M97)-1),\"\")","v":""},{"$f":"IF(OFFSET(DE104_9!$N$26,ROWS($N$26:N97)-1,COLUMNS($N$26:N97)-1)<>\"\",OFFSET(DE104_9!$N$26,ROWS($N$26:N97)-1,COLUMNS($N$26:N97)-1),\"\")","v":""},{"$f":"IF(OFFSET(DE104_9!$O$26,ROWS($O$26:O97)-1,COLUMNS($O$26:O97)-1)<>\"\",OFFSET(DE104_9!$O$26,ROWS($O$26:O97)-1,COLUMNS($O$26:O97)-1),\"\")","v":""},{"$f":"IF(OFFSET(DE104_9!$P$26,ROWS($P$26:P97)-1,COLUMNS($P$26:P97)-1)<>\"\",OFFSET(DE104_9!$P$26,ROWS($P$26:P97)-1,COLUMNS($P$26:P97)-1),\"\")","v":""},{"$f":"IF(OFFSET(DE104_9!$Q$26,ROWS($Q$26:Q97)-1,COLUMNS($Q$26:Q97)-1)<>\"\",OFFSET(DE104_9!$Q$26,ROWS($Q$26:Q97)-1,COLUMNS($Q$26:Q97)-1),\"\")","v":""},{"$f":"IF(OFFSET(DE104_9!$R$26,ROWS($R$26:R97)-1,COLUMNS($R$26:R97)-1)<>\"\",OFFSET(DE104_9!$R$26,ROWS($R$26:R97)-1,COLUMNS($R$26:R97)-1),\"\")","v":""},{"$f":"IF(OFFSET(DE104_9!$S$26,ROWS($S$26:S97)-1,COLUMNS($S$26:S97)-1)<>\"\",OFFSET(DE104_9!$S$26,ROWS($S$26:S97)-1,COLUMNS($S$26:S97)-1),\"\")","v":""},{"$f":"IF(OFFSET(DE104_9!$T$26,ROWS($T$26:T97)-1,COLUMNS($T$26:T97)-1)<>\"\",OFFSET(DE104_9!$T$26,ROWS($T$26:T97)-1,COLUMNS($T$26:T97)-1),\"\")","v":""}]
[{"$f":"IF(OFFSET(DE104_9!$C$26,ROWS($C$26:C98)-1,COLUMNS($C$26:C98)-1)<>\"\",OFFSET(DE104_9!$C$26,ROWS($C$26:C98)-1,COLUMNS($C$26:C98)-1),\"\")","v":""},{"$f":"IF(OFFSET(DE104_9!$D$26,ROWS($D$26:D98)-1,COLUMNS($D$26:D98)-1)<>\"\",OFFSET(DE104_9!$D$26,ROWS($D$26:D98)-1,COLUMNS($D$26:D98)-1),\"\")","v":""},{"$f":"IF(OFFSET(DE104_9!$E$26,ROWS($E$26:E98)-1,COLUMNS($E$26:E98)-1)<>\"\",OFFSET(DE104_9!$E$26,ROWS($E$26:E98)-1,COLUMNS($E$26:E98)-1),\"\")","v":""},{"$f":"IF(OFFSET(DE104_9!$F$26,ROWS($F$26:F98)-1,COLUMNS($F$26:F98)-1)<>\"\",OFFSET(DE104_9!$F$26,ROWS($F$26:F98)-1,COLUMNS($F$26:F98)-1),\"\")","v":""},{"$f":"IF(OFFSET(DE104_9!$G$26,ROWS($G$26:G98)-1,COLUMNS($G$26:G98)-1)<>\"\",OFFSET(DE104_9!$G$26,ROWS($G$26:G98)-1,COLUMNS($G$26:G98)-1),\"\")","v":""},{"$f":"IF(OFFSET(DE104_9!$H$26,ROWS($H$26:H98)-1,COLUMNS($H$26:H98)-1)<>\"\",OFFSET(DE104_9!$H$26,ROWS($H$26:H98)-1,COLUMNS($H$26:H98)-1),\"\")","v":""},{"$f":"IF(OFFSET(DE104_9!$I$26,ROWS($I$26:I98)-1,COLUMNS($I$26:I98)-1)<>\"\",OFFSET(DE104_9!$I$26,ROWS($I$26:I98)-1,COLUMNS($I$26:I98)-1),\"\")","v":""},{"$f":"IF(OFFSET(DE104_9!$J$26,ROWS($J$26:J98)-1,COLUMNS($J$26:J98)-1)<>\"\",OFFSET(DE104_9!$J$26,ROWS($J$26:J98)-1,COLUMNS($J$26:J98)-1),\"\")","v":""},{"$f":"IF(OFFSET(DE104_9!$K$26,ROWS($K$26:K98)-1,COLUMNS($K$26:K98)-1)<>\"\",OFFSET(DE104_9!$K$26,ROWS($K$26:K98)-1,COLUMNS($K$26:K98)-1),\"\")","v":""},{"$f":"IF(OFFSET(DE104_9!$L$26,ROWS($L$26:L98)-1,COLUMNS($L$26:L98)-1)<>\"\",OFFSET(DE104_9!$L$26,ROWS($L$26:L98)-1,COLUMNS($L$26:L98)-1),\"\")","v":""},{"$f":"IF(OFFSET(DE104_9!$M$26,ROWS($M$26:M98)-1,COLUMNS($M$26:M98)-1)<>\"\",OFFSET(DE104_9!$M$26,ROWS($M$26:M98)-1,COLUMNS($M$26:M98)-1),\"\")","v":""},{"$f":"IF(OFFSET(DE104_9!$N$26,ROWS($N$26:N98)-1,COLUMNS($N$26:N98)-1)<>\"\",OFFSET(DE104_9!$N$26,ROWS($N$26:N98)-1,COLUMNS($N$26:N98)-1),\"\")","v":""},{"$f":"IF(OFFSET(DE104_9!$O$26,ROWS($O$26:O98)-1,COLUMNS($O$26:O98)-1)<>\"\",OFFSET(DE104_9!$O$26,ROWS($O$26:O98)-1,COLUMNS($O$26:O98)-1),\"\")","v":""},{"$f":"IF(OFFSET(DE104_9!$P$26,ROWS($P$26:P98)-1,COLUMNS($P$26:P98)-1)<>\"\",OFFSET(DE104_9!$P$26,ROWS($P$26:P98)-1,COLUMNS($P$26:P98)-1),\"\")","v":""},{"$f":"IF(OFFSET(DE104_9!$Q$26,ROWS($Q$26:Q98)-1,COLUMNS($Q$26:Q98)-1)<>\"\",OFFSET(DE104_9!$Q$26,ROWS($Q$26:Q98)-1,COLUMNS($Q$26:Q98)-1),\"\")","v":""},{"$f":"IF(OFFSET(DE104_9!$R$26,ROWS($R$26:R98)-1,COLUMNS($R$26:R98)-1)<>\"\",OFFSET(DE104_9!$R$26,ROWS($R$26:R98)-1,COLUMNS($R$26:R98)-1),\"\")","v":""},{"$f":"IF(OFFSET(DE104_9!$S$26,ROWS($S$26:S98)-1,COLUMNS($S$26:S98)-1)<>\"\",OFFSET(DE104_9!$S$26,ROWS($S$26:S98)-1,COLUMNS($S$26:S98)-1),\"\")","v":""},{"$f":"IF(OFFSET(DE104_9!$T$26,ROWS($T$26:T98)-1,COLUMNS($T$26:T98)-1)<>\"\",OFFSET(DE104_9!$T$26,ROWS($T$26:T98)-1,COLUMNS($T$26:T98)-1),\"\")","v":""}]
[{"$f":"IF(OFFSET(DE104_9!$C$26,ROWS($C$26:C99)-1,COLUMNS($C$26:C99)-1)<>\"\",OFFSET(DE104_9!$C$26,ROWS($C$26:C99)-1,COLUMNS($C$26:C99)-1),\"\")","v":""},{"$f":"IF(OFFSET(DE104_9!$D$26,ROWS($D$26:D99)-1,COLUMNS($D$26:D99)-1)<>\"\",OFFSET(DE104_9!$D$26,ROWS($D$26:D99)-1,COLUMNS($D$26:D99)-1),\"\")","v":"Totals"},{"$f":"IF(OFFSET(DE104_9!$E$26,ROWS($E$26:E99)-1,COLUMNS($E$26:E99)-1)<>\"\",OFFSET(DE104_9!$E$26,ROWS($E$26:E99)-1,COLUMNS($E$26:E99)-1),\"\")","v":""},{"$f":"IF(OFFSET(DE104_9!$F$26,ROWS($F$26:F99)-1,COLUMNS($F$26:F99)-1)<>\"\",OFFSET(DE104_9!$F$26,ROWS($F$26:F99)-1,COLUMNS($F$26:F99)-1),\"\")","v":""},{"$f":"IF(OFFSET(DE104_9!$G$26,ROWS($G$26:G99)-1,COLUMNS($G$26:G99)-1)<>\"\",OFFSET(DE104_9!$G$26,ROWS($G$26:G99)-1,COLUMNS($G$26:G99)-1),\"\")","v":""},{"$f":"IF(OFFSET(DE104_9!$H$26,ROWS($H$26:H99)-1,COLUMNS($H$26:H99)-1)<>\"\",OFFSET(DE104_9!$H$26,ROWS($H$26:H99)-1,COLUMNS($H$26:H99)-1),\"\")","v":""},{"$f":"IF(OFFSET(DE104_9!$I$26,ROWS($I$26:I99)-1,COLUMNS($I$26:I99)-1)<>\"\",OFFSET(DE104_9!$I$26,ROWS($I$26:I99)-1,COLUMNS($I$26:I99)-1),\"\")","v":""},{"$f":"IF(OFFSET(DE104_9!$J$26,ROWS($J$26:J99)-1,COLUMNS($J$26:J99)-1)<>\"\",OFFSET(DE104_9!$J$26,ROWS($J$26:J99)-1,COLUMNS($J$26:J99)-1),\"\")","v":" "},{"$f":"IF(OFFSET(DE104_9!$K$26,ROWS($K$26:K99)-1,COLUMNS($K$26:K99)-1)<>\"\",OFFSET(DE104_9!$K$26,ROWS($K$26:K99)-1,COLUMNS($K$26:K99)-1),\"\")","v":""},{"$f":"IF(OFFSET(DE104_9!$L$26,ROWS($L$26:L99)-1,COLUMNS($L$26:L99)-1)<>\"\",OFFSET(DE104_9!$L$26,ROWS($L$26:L99)-1,COLUMNS($L$26:L99)-1),\"\")","v":17260},{"$f":"IF(OFFSET(DE104_9!$M$26,ROWS($M$26:M99)-1,COLUMNS($M$26:M99)-1)<>\"\",OFFSET(DE104_9!$M$26,ROWS($M$26:M99)-1,COLUMNS($M$26:M99)-1),\"\")","v":""},{"$f":"IF(OFFSET(DE104_9!$N$26,ROWS($N$26:N99)-1,COLUMNS($N$26:N99)-1)<>\"\",OFFSET(DE104_9!$N$26,ROWS($N$26:N99)-1,COLUMNS($N$26:N99)-1),\"\")","v":""},{"$f":"IF(OFFSET(DE104_9!$O$26,ROWS($O$26:O99)-1,COLUMNS($O$26:O99)-1)<>\"\",OFFSET(DE104_9!$O$26,ROWS($O$26:O99)-1,COLUMNS($O$26:O99)-1),\"\")","v":""},{"$f":"IF(OFFSET(DE104_9!$P$26,ROWS($P$26:P99)-1,COLUMNS($P$26:P99)-1)<>\"\",OFFSET(DE104_9!$P$26,ROWS($P$26:P99)-1,COLUMNS($P$26:P99)-1),\"\")","v":" "},{"$f":"IF(OFFSET(DE104_9!$Q$26,ROWS($Q$26:Q99)-1,COLUMNS($Q$26:Q99)-1)<>\"\",OFFSET(DE104_9!$Q$26,ROWS($Q$26:Q99)-1,COLUMNS($Q$26:Q99)-1),\"\")","v":70},{"$f":"IF(OFFSET(DE104_9!$R$26,ROWS($R$26:R99)-1,COLUMNS($R$26:R99)-1)<>\"\",OFFSET(DE104_9!$R$26,ROWS($R$26:R99)-1,COLUMNS($R$26:R99)-1),\"\")","v":2131.1},{"$f":"IF(OFFSET(DE104_9!$S$26,ROWS($S$26:S99)-1,COLUMNS($S$26:S99)-1)<>\"\",OFFSET(DE104_9!$S$26,ROWS($S$26:S99)-1,COLUMNS($S$26:S99)-1),\"\")","v":" "},{"$f":"IF(OFFSET(DE104_9!$T$26,ROWS($T$26:T99)-1,COLUMNS($T$26:T99)-1)<>\"\",OFFSET(DE104_9!$T$26,ROWS($T$26:T99)-1,COLUMNS($T$26:T99)-1),\"\")","v":""}]
[{"$f":"IF(OFFSET(DE104_9!$C$26,ROWS($C$26:C100)-1,COLUMNS($C$26:C100)-1)<>\"\",OFFSET(DE104_9!$C$26,ROWS($C$26:C100)-1,COLUMNS($C$26:C100)-1),\"\")","v":""},{"$f":"IF(OFFSET(DE104_9!$D$26,ROWS($D$26:D100)-1,COLUMNS($D$26:D100)-1)<>\"\",OFFSET(DE104_9!$D$26,ROWS($D$26:D100)-1,COLUMNS($D$26:D100)-1),\"\")","v":""},{"$f":"IF(OFFSET(DE104_9!$E$26,ROWS($E$26:E100)-1,COLUMNS($E$26:E100)-1)<>\"\",OFFSET(DE104_9!$E$26,ROWS($E$26:E100)-1,COLUMNS($E$26:E100)-1),\"\")","v":""},{"$f":"IF(OFFSET(DE104_9!$F$26,ROWS($F$26:F100)-1,COLUMNS($F$26:F100)-1)<>\"\",OFFSET(DE104_9!$F$26,ROWS($F$26:F100)-1,COLUMNS($F$26:F100)-1),\"\")","v":""},{"$f":"IF(OFFSET(DE104_9!$G$26,ROWS($G$26:G100)-1,COLUMNS($G$26:G100)-1)<>\"\",OFFSET(DE104_9!$G$26,ROWS($G$26:G100)-1,COLUMNS($G$26:G100)-1),\"\")","v":""},{"$f":"IF(OFFSET(DE104_9!$H$26,ROWS($H$26:H100)-1,COLUMNS($H$26:H100)-1)<>\"\",OFFSET(DE104_9!$H$26,ROWS($H$26:H100)-1,COLUMNS($H$26:H100)-1),\"\")","v":""},{"$f":"IF(OFFSET(DE104_9!$I$26,ROWS($I$26:I100)-1,COLUMNS($I$26:I100)-1)<>\"\",OFFSET(DE104_9!$I$26,ROWS($I$26:I100)-1,COLUMNS($I$26:I100)-1),\"\")","v":""},{"$f":"IF(OFFSET(DE104_9!$J$26,ROWS($J$26:J100)-1,COLUMNS($J$26:J100)-1)<>\"\",OFFSET(DE104_9!$J$26,ROWS($J$26:J100)-1,COLUMNS($J$26:J100)-1),\"\")","v":""},{"$f":"IF(OFFSET(DE104_9!$K$26,ROWS($K$26:K100)-1,COLUMNS($K$26:K100)-1)<>\"\",OFFSET(DE104_9!$K$26,ROWS($K$26:K100)-1,COLUMNS($K$26:K100)-1),\"\")","v":""},{"$f":"IF(OFFSET(DE104_9!$L$26,ROWS($L$26:L100)-1,COLUMNS($L$26:L100)-1)<>\"\",OFFSET(DE104_9!$L$26,ROWS($L$26:L100)-1,COLUMNS($L$26:L100)-1),\"\")","v":""},{"$f":"IF(OFFSET(DE104_9!$M$26,ROWS($M$26:M100)-1,COLUMNS($M$26:M100)-1)<>\"\",OFFSET(DE104_9!$M$26,ROWS($M$26:M100)-1,COLUMNS($M$26:M100)-1),\"\")","v":""},{"$f":"IF(OFFSET(DE104_9!$N$26,ROWS($N$26:N100)-1,COLUMNS($N$26:N100)-1)<>\"\",OFFSET(DE104_9!$N$26,ROWS($N$26:N100)-1,COLUMNS($N$26:N100)-1),\"\")","v":""},{"$f":"IF(OFFSET(DE104_9!$O$26,ROWS($O$26:O100)-1,COLUMNS($O$26:O100)-1)<>\"\",OFFSET(DE104_9!$O$26,ROWS($O$26:O100)-1,COLUMNS($O$26:O100)-1),\"\")","v":""},{"$f":"IF(OFFSET(DE104_9!$P$26,ROWS($P$26:P100)-1,COLUMNS($P$26:P100)-1)<>\"\",OFFSET(DE104_9!$P$26,ROWS($P$26:P100)-1,COLUMNS($P$26:P100)-1),\"\")","v":""},{"$f":"IF(OFFSET(DE104_9!$Q$26,ROWS($Q$26:Q100)-1,COLUMNS($Q$26:Q100)-1)<>\"\",OFFSET(DE104_9!$Q$26,ROWS($Q$26:Q100)-1,COLUMNS($Q$26:Q100)-1),\"\")","v":""},{"$f":"IF(OFFSET(DE104_9!$R$26,ROWS($R$26:R100)-1,COLUMNS($R$26:R100)-1)<>\"\",OFFSET(DE104_9!$R$26,ROWS($R$26:R100)-1,COLUMNS($R$26:R100)-1),\"\")","v":""},{"$f":"IF(OFFSET(DE104_9!$S$26,ROWS($S$26:S100)-1,COLUMNS($S$26:S100)-1)<>\"\",OFFSET(DE104_9!$S$26,ROWS($S$26:S100)-1,COLUMNS($S$26:S100)-1),\"\")","v":""},{"$f":"IF(OFFSET(DE104_9!$T$26,ROWS($T$26:T100)-1,COLUMNS($T$26:T100)-1)<>\"\",OFFSET(DE104_9!$T$26,ROWS($T$26:T100)-1,COLUMNS($T$26:T100)-1),\"\")","v":""}]
[{"$f":"IF(OFFSET(DE104_9!$C$26,ROWS($C$26:C101)-1,COLUMNS($C$26:C101)-1)<>\"\",OFFSET(DE104_9!$C$26,ROWS($C$26:C101)-1,COLUMNS($C$26:C101)-1),\"\")","v":""},{"$f":"IF(OFFSET(DE104_9!$D$26,ROWS($D$26:D101)-1,COLUMNS($D$26:D101)-1)<>\"\",OFFSET(DE104_9!$D$26,ROWS($D$26:D101)-1,COLUMNS($D$26:D101)-1),\"\")","v":""},{"$f":"IF(OFFSET(DE104_9!$E$26,ROWS($E$26:E101)-1,COLUMNS($E$26:E101)-1)<>\"\",OFFSET(DE104_9!$E$26,ROWS($E$26:E101)-1,COLUMNS($E$26:E101)-1),\"\")","v":""},{"$f":"IF(OFFSET(DE104_9!$F$26,ROWS($F$26:F101)-1,COLUMNS($F$26:F101)-1)<>\"\",OFFSET(DE104_9!$F$26,ROWS($F$26:F101)-1,COLUMNS($F$26:F101)-1),\"\")","v":""},{"$f":"IF(OFFSET(DE104_9!$G$26,ROWS($G$26:G101)-1,COLUMNS($G$26:G101)-1)<>\"\",OFFSET(DE104_9!$G$26,ROWS($G$26:G101)-1,COLUMNS($G$26:G101)-1),\"\")","v":""},{"$f":"IF(OFFSET(DE104_9!$H$26,ROWS($H$26:H101)-1,COLUMNS($H$26:H101)-1)<>\"\",OFFSET(DE104_9!$H$26,ROWS($H$26:H101)-1,COLUMNS($H$26:H101)-1),\"\")","v":""},{"$f":"IF(OFFSET(DE104_9!$I$26,ROWS($I$26:I101)-1,COLUMNS($I$26:I101)-1)<>\"\",OFFSET(DE104_9!$I$26,ROWS($I$26:I101)-1,COLUMNS($I$26:I101)-1),\"\")","v":""},{"$f":"IF(OFFSET(DE104_9!$J$26,ROWS($J$26:J101)-1,COLUMNS($J$26:J101)-1)<>\"\",OFFSET(DE104_9!$J$26,ROWS($J$26:J101)-1,COLUMNS($J$26:J101)-1),\"\")","v":""},{"$f":"IF(OFFSET(DE104_9!$K$26,ROWS($K$26:K101)-1,COLUMNS($K$26:K101)-1)<>\"\",OFFSET(DE104_9!$K$26,ROWS($K$26:K101)-1,COLUMNS($K$26:K101)-1),\"\")","v":""},{"$f":"IF(OFFSET(DE104_9!$L$26,ROWS($L$26:L101)-1,COLUMNS($L$26:L101)-1)<>\"\",OFFSET(DE104_9!$L$26,ROWS($L$26:L101)-1,COLUMNS($L$26:L101)-1),\"\")","v":""},{"$f":"IF(OFFSET(DE104_9!$M$26,ROWS($M$26:M101)-1,COLUMNS($M$26:M101)-1)<>\"\",OFFSET(DE104_9!$M$26,ROWS($M$26:M101)-1,COLUMNS($M$26:M101)-1),\"\")","v":""},{"$f":"IF(OFFSET(DE104_9!$N$26,ROWS($N$26:N101)-1,COLUMNS($N$26:N101)-1)<>\"\",OFFSET(DE104_9!$N$26,ROWS($N$26:N101)-1,COLUMNS($N$26:N101)-1),\"\")","v":""},{"$f":"IF(OFFSET(DE104_9!$O$26,ROWS($O$26:O101)-1,COLUMNS($O$26:O101)-1)<>\"\",OFFSET(DE104_9!$O$26,ROWS($O$26:O101)-1,COLUMNS($O$26:O101)-1),\"\")","v":""},{"$f":"IF(OFFSET(DE104_9!$P$26,ROWS($P$26:P101)-1,COLUMNS($P$26:P101)-1)<>\"\",OFFSET(DE104_9!$P$26,ROWS($P$26:P101)-1,COLUMNS($P$26:P101)-1),\"\")","v":""},{"$f":"IF(OFFSET(DE104_9!$Q$26,ROWS($Q$26:Q101)-1,COLUMNS($Q$26:Q101)-1)<>\"\",OFFSET(DE104_9!$Q$26,ROWS($Q$26:Q101)-1,COLUMNS($Q$26:Q101)-1),\"\")","v":""},{"$f":"IF(OFFSET(DE104_9!$R$26,ROWS($R$26:R101)-1,COLUMNS($R$26:R101)-1)<>\"\",OFFSET(DE104_9!$R$26,ROWS($R$26:R101)-1,COLUMNS($R$26:R101)-1),\"\")","v":""},{"$f":"IF(OFFSET(DE104_9!$S$26,ROWS($S$26:S101)-1,COLUMNS($S$26:S101)-1)<>\"\",OFFSET(DE104_9!$S$26,ROWS($S$26:S101)-1,COLUMNS($S$26:S101)-1),\"\")","v":""},{"$f":"IF(OFFSET(DE104_9!$T$26,ROWS($T$26:T101)-1,COLUMNS($T$26:T101)-1)<>\"\",OFFSET(DE104_9!$T$26,ROWS($T$26:T101)-1,COLUMNS($T$26:T101)-1),\"\")","v":""}]
[{"$f":"IF(OFFSET(DE104_9!$C$26,ROWS($C$26:C102)-1,COLUMNS($C$26:C102)-1)<>\"\",OFFSET(DE104_9!$C$26,ROWS($C$26:C102)-1,COLUMNS($C$26:C102)-1),\"\")","v":""},{"$f":"IF(OFFSET(DE104_9!$D$26,ROWS($D$26:D102)-1,COLUMNS($D$26:D102)-1)<>\"\",OFFSET(DE104_9!$D$26,ROWS($D$26:D102)-1,COLUMNS($D$26:D102)-1),\"\")","v":""},{"$f":"IF(OFFSET(DE104_9!$E$26,ROWS($E$26:E102)-1,COLUMNS($E$26:E102)-1)<>\"\",OFFSET(DE104_9!$E$26,ROWS($E$26:E102)-1,COLUMNS($E$26:E102)-1),\"\")","v":""},{"$f":"IF(OFFSET(DE104_9!$F$26,ROWS($F$26:F102)-1,COLUMNS($F$26:F102)-1)<>\"\",OFFSET(DE104_9!$F$26,ROWS($F$26:F102)-1,COLUMNS($F$26:F102)-1),\"\")","v":""},{"$f":"IF(OFFSET(DE104_9!$G$26,ROWS($G$26:G102)-1,COLUMNS($G$26:G102)-1)<>\"\",OFFSET(DE104_9!$G$26,ROWS($G$26:G102)-1,COLUMNS($G$26:G102)-1),\"\")","v":""},{"$f":"IF(OFFSET(DE104_9!$H$26,ROWS($H$26:H102)-1,COLUMNS($H$26:H102)-1)<>\"\",OFFSET(DE104_9!$H$26,ROWS($H$26:H102)-1,COLUMNS($H$26:H102)-1),\"\")","v":""},{"$f":"IF(OFFSET(DE104_9!$I$26,ROWS($I$26:I102)-1,COLUMNS($I$26:I102)-1)<>\"\",OFFSET(DE104_9!$I$26,ROWS($I$26:I102)-1,COLUMNS($I$26:I102)-1),\"\")","v":""},{"$f":"IF(OFFSET(DE104_9!$J$26,ROWS($J$26:J102)-1,COLUMNS($J$26:J102)-1)<>\"\",OFFSET(DE104_9!$J$26,ROWS($J$26:J102)-1,COLUMNS($J$26:J102)-1),\"\")","v":""},{"$f":"IF(OFFSET(DE104_9!$K$26,ROWS($K$26:K102)-1,COLUMNS($K$26:K102)-1)<>\"\",OFFSET(DE104_9!$K$26,ROWS($K$26:K102)-1,COLUMNS($K$26:K102)-1),\"\")","v":""},{"$f":"IF(OFFSET(DE104_9!$L$26,ROWS($L$26:L102)-1,COLUMNS($L$26:L102)-1)<>\"\",OFFSET(DE104_9!$L$26,ROWS($L$26:L102)-1,COLUMNS($L$26:L102)-1),\"\")","v":""},{"$f":"IF(OFFSET(DE104_9!$M$26,ROWS($M$26:M102)-1,COLUMNS($M$26:M102)-1)<>\"\",OFFSET(DE104_9!$M$26,ROWS($M$26:M102)-1,COLUMNS($M$26:M102)-1),\"\")","v":""},{"$f":"IF(OFFSET(DE104_9!$N$26,ROWS($N$26:N102)-1,COLUMNS($N$26:N102)-1)<>\"\",OFFSET(DE104_9!$N$26,ROWS($N$26:N102)-1,COLUMNS($N$26:N102)-1),\"\")","v":""},{"$f":"IF(OFFSET(DE104_9!$O$26,ROWS($O$26:O102)-1,COLUMNS($O$26:O102)-1)<>\"\",OFFSET(DE104_9!$O$26,ROWS($O$26:O102)-1,COLUMNS($O$26:O102)-1),\"\")","v":""},{"$f":"IF(OFFSET(DE104_9!$P$26,ROWS($P$26:P102)-1,COLUMNS($P$26:P102)-1)<>\"\",OFFSET(DE104_9!$P$26,ROWS($P$26:P102)-1,COLUMNS($P$26:P102)-1),\"\")","v":""},{"$f":"IF(OFFSET(DE104_9!$Q$26,ROWS($Q$26:Q102)-1,COLUMNS($Q$26:Q102)-1)<>\"\",OFFSET(DE104_9!$Q$26,ROWS($Q$26:Q102)-1,COLUMNS($Q$26:Q102)-1),\"\")","v":""},{"$f":"IF(OFFSET(DE104_9!$R$26,ROWS($R$26:R102)-1,COLUMNS($R$26:R102)-1)<>\"\",OFFSET(DE104_9!$R$26,ROWS($R$26:R102)-1,COLUMNS($R$26:R102)-1),\"\")","v":""},{"$f":"IF(OFFSET(DE104_9!$S$26,ROWS($S$26:S102)-1,COLUMNS($S$26:S102)-1)<>\"\",OFFSET(DE104_9!$S$26,ROWS($S$26:S102)-1,COLUMNS($S$26:S102)-1),\"\")","v":""},{"$f":"IF(OFFSET(DE104_9!$T$26,ROWS($T$26:T102)-1,COLUMNS($T$26:T102)-1)<>\"\",OFFSET(DE104_9!$T$26,ROWS($T$26:T102)-1,COLUMNS($T$26:T102)-1),\"\")","v":""}]
[{"$f":"IF(OFFSET(DE104_9!$C$26,ROWS($C$26:C103)-1,COLUMNS($C$26:C103)-1)<>\"\",OFFSET(DE104_9!$C$26,ROWS($C$26:C103)-1,COLUMNS($C$26:C103)-1),\"\")","v":""},{"$f":"IF(OFFSET(DE104_9!$D$26,ROWS($D$26:D103)-1,COLUMNS($D$26:D103)-1)<>\"\",OFFSET(DE104_9!$D$26,ROWS($D$26:D103)-1,COLUMNS($D$26:D103)-1),\"\")","v":""},{"$f":"IF(OFFSET(DE104_9!$E$26,ROWS($E$26:E103)-1,COLUMNS($E$26:E103)-1)<>\"\",OFFSET(DE104_9!$E$26,ROWS($E$26:E103)-1,COLUMNS($E$26:E103)-1),\"\")","v":""},{"$f":"IF(OFFSET(DE104_9!$F$26,ROWS($F$26:F103)-1,COLUMNS($F$26:F103)-1)<>\"\",OFFSET(DE104_9!$F$26,ROWS($F$26:F103)-1,COLUMNS($F$26:F103)-1),\"\")","v":""},{"$f":"IF(OFFSET(DE104_9!$G$26,ROWS($G$26:G103)-1,COLUMNS($G$26:G103)-1)<>\"\",OFFSET(DE104_9!$G$26,ROWS($G$26:G103)-1,COLUMNS($G$26:G103)-1),\"\")","v":""},{"$f":"IF(OFFSET(DE104_9!$H$26,ROWS($H$26:H103)-1,COLUMNS($H$26:H103)-1)<>\"\",OFFSET(DE104_9!$H$26,ROWS($H$26:H103)-1,COLUMNS($H$26:H103)-1),\"\")","v":""},{"$f":"IF(OFFSET(DE104_9!$I$26,ROWS($I$26:I103)-1,COLUMNS($I$26:I103)-1)<>\"\",OFFSET(DE104_9!$I$26,ROWS($I$26:I103)-1,COLUMNS($I$26:I103)-1),\"\")","v":""},{"$f":"IF(OFFSET(DE104_9!$J$26,ROWS($J$26:J103)-1,COLUMNS($J$26:J103)-1)<>\"\",OFFSET(DE104_9!$J$26,ROWS($J$26:J103)-1,COLUMNS($J$26:J103)-1),\"\")","v":""},{"$f":"IF(OFFSET(DE104_9!$K$26,ROWS($K$26:K103)-1,COLUMNS($K$26:K103)-1)<>\"\",OFFSET(DE104_9!$K$26,ROWS($K$26:K103)-1,COLUMNS($K$26:K103)-1),\"\")","v":""},{"$f":"IF(OFFSET(DE104_9!$L$26,ROWS($L$26:L103)-1,COLUMNS($L$26:L103)-1)<>\"\",OFFSET(DE104_9!$L$26,ROWS($L$26:L103)-1,COLUMNS($L$26:L103)-1),\"\")","v":""},{"$f":"IF(OFFSET(DE104_9!$M$26,ROWS($M$26:M103)-1,COLUMNS($M$26:M103)-1)<>\"\",OFFSET(DE104_9!$M$26,ROWS($M$26:M103)-1,COLUMNS($M$26:M103)-1),\"\")","v":""},{"$f":"IF(OFFSET(DE104_9!$N$26,ROWS($N$26:N103)-1,COLUMNS($N$26:N103)-1)<>\"\",OFFSET(DE104_9!$N$26,ROWS($N$26:N103)-1,COLUMNS($N$26:N103)-1),\"\")","v":""},{"$f":"IF(OFFSET(DE104_9!$O$26,ROWS($O$26:O103)-1,COLUMNS($O$26:O103)-1)<>\"\",OFFSET(DE104_9!$O$26,ROWS($O$26:O103)-1,COLUMNS($O$26:O103)-1),\"\")","v":""},{"$f":"IF(OFFSET(DE104_9!$P$26,ROWS($P$26:P103)-1,COLUMNS($P$26:P103)-1)<>\"\",OFFSET(DE104_9!$P$26,ROWS($P$26:P103)-1,COLUMNS($P$26:P103)-1),\"\")","v":""},{"$f":"IF(OFFSET(DE104_9!$Q$26,ROWS($Q$26:Q103)-1,COLUMNS($Q$26:Q103)-1)<>\"\",OFFSET(DE104_9!$Q$26,ROWS($Q$26:Q103)-1,COLUMNS($Q$26:Q103)-1),\"\")","v":""},{"$f":"IF(OFFSET(DE104_9!$R$26,ROWS($R$26:R103)-1,COLUMNS($R$26:R103)-1)<>\"\",OFFSET(DE104_9!$R$26,ROWS($R$26:R103)-1,COLUMNS($R$26:R103)-1),\"\")","v":""},{"$f":"IF(OFFSET(DE104_9!$S$26,ROWS($S$26:S103)-1,COLUMNS($S$26:S103)-1)<>\"\",OFFSET(DE104_9!$S$26,ROWS($S$26:S103)-1,COLUMNS($S$26:S103)-1),\"\")","v":""},{"$f":"IF(OFFSET(DE104_9!$T$26,ROWS($T$26:T103)-1,COLUMNS($T$26:T103)-1)<>\"\",OFFSET(DE104_9!$T$26,ROWS($T$26:T103)-1,COLUMNS($T$26:T103)-1),\"\")","v":""}]
["104-9"]
["2017-10-17"]
["LONGITUDINAL SUBDRAIN SHOULDER AND BACKSLOPE"]
[]
["Refer to Soils Sheets"]
["  * Not a bid item. Bridge berm quantities assume a trench depth of 24 inches."]
["Location",null,null,null,null,null,"Longitudinal Subdrain  (DR-303)",null,null,null,null,null,null,"Subdrain Outlet",null,"Porous*\nBackfill","Class \"A\"*\nCrushed\nStone","Remarks"]
["Line\nNo.","Road or Lane Identification","Station to Station",null,"Side","Depth","Shoulder",null,"Backslope",null,"Bridge Berm (EW-203 or EW-204)",null,null,"DR-303, DR-305 or DR-306"]
[null,null,null,null,null,0]
[null,null,null,null,null,null,"Size","Length","Size","Length","Standard Road Plan and Type","Size","Length","Station","Standard Road Plan and Type"]
[]
[null,null,null,null,null,"IN","IN","FT","IN","FT",null,"IN","FT",null,null,"CY","CY"]
[{"$f":"IF(OFFSET(DE104_9!$C$104,ROWS($C$104:C104)-1,COLUMNS($C$104:C104)-1)<>\"\",OFFSET(DE104_9!$C$104,ROWS($C$104:C104)-1,COLUMNS($C$104:C104)-1),\"\")","v":""},{"$f":"IF(OFFSET(DE104_9!$D$104,ROWS($D$104:D104)-1,COLUMNS($D$104:D104)-1)<>\"\",OFFSET(DE104_9!$D$104,ROWS($D$104:D104)-1,COLUMNS($D$104:D104)-1),\"\")","v":""},{"$f":"IF(OFFSET(DE104_9!$E$104,ROWS($E$104:E104)-1,COLUMNS($E$104:E104)-1)<>\"\",OFFSET(DE104_9!$E$104,ROWS($E$104:E104)-1,COLUMNS($E$104:E104)-1),\"\")","v":""},{"$f":"IF(OFFSET(DE104_9!$F$104,ROWS($F$104:F104)-1,COLUMNS($F$104:F104)-1)<>\"\",OFFSET(DE104_9!$F$104,ROWS($F$104:F104)-1,COLUMNS($F$104:F104)-1),\"\")","v":""},{"$f":"IF(OFFSET(DE104_9!$G$104,ROWS($G$104:G104)-1,COLUMNS($G$104:G104)-1)<>\"\",OFFSET(DE104_9!$G$104,ROWS($G$104:G104)-1,COLUMNS($G$104:G104)-1),\"\")","v":""},{"$f":"IF(OFFSET(DE104_9!$H$104,ROWS($H$104:H104)-1,COLUMNS($H$104:H104)-1)<>\"\",OFFSET(DE104_9!$H$104,ROWS($H$104:H104)-1,COLUMNS($H$104:H104)-1),\"\")","v":""},{"$f":"IF(OFFSET(DE104_9!$I$104,ROWS($I$104:I104)-1,COLUMNS($I$104:I104)-1)<>\"\",OFFSET(DE104_9!$I$104,ROWS($I$104:I104)-1,COLUMNS($I$104:I104)-1),\"\")","v":""},{"$f":"IF(OFFSET(DE104_9!$J$104,ROWS($J$104:J104)-1,COLUMNS($J$104:J104)-1)<>\"\",OFFSET(DE104_9!$J$104,ROWS($J$104:J104)-1,COLUMNS($J$104:J104)-1),\"\")","v":""},{"$f":"IF(OFFSET(DE104_9!$K$104,ROWS($K$104:K104)-1,COLUMNS($K$104:K104)-1)<>\"\",OFFSET(DE104_9!$K$104,ROWS($K$104:K104)-1,COLUMNS($K$104:K104)-1),\"\")","v":""},{"$f":"IF(OFFSET(DE104_9!$L$104,ROWS($L$104:L104)-1,COLUMNS($L$104:L104)-1)<>\"\",OFFSET(DE104_9!$L$104,ROWS($L$104:L104)-1,COLUMNS($L$104:L104)-1),\"\")","v":""},{"$f":"IF(OFFSET(DE104_9!$M$104,ROWS($M$104:M104)-1,COLUMNS($M$104:M104)-1)<>\"\",OFFSET(DE104_9!$M$104,ROWS($M$104:M104)-1,COLUMNS($M$104:M104)-1),\"\")","v":""},{"$f":"IF(OFFSET(DE104_9!$N$104,ROWS($N$104:N104)-1,COLUMNS($N$104:N104)-1)<>\"\",OFFSET(DE104_9!$N$104,ROWS($N$104:N104)-1,COLUMNS($N$104:N104)-1),\"\")","v":""},{"$f":"IF(OFFSET(DE104_9!$O$104,ROWS($O$104:O104)-1,COLUMNS($O$104:O104)-1)<>\"\",OFFSET(DE104_9!$O$104,ROWS($O$104:O104)-1,COLUMNS($O$104:O104)-1),\"\")","v":""},{"$f":"IF(OFFSET(DE104_9!$P$104,ROWS($P$104:P104)-1,COLUMNS($P$104:P104)-1)<>\"\",OFFSET(DE104_9!$P$104,ROWS($P$104:P104)-1,COLUMNS($P$104:P104)-1),\"\")","v":""},{"$f":"IF(OFFSET(DE104_9!$Q$104,ROWS($Q$104:Q104)-1,COLUMNS($Q$104:Q104)-1)<>\"\",OFFSET(DE104_9!$Q$104,ROWS($Q$104:Q104)-1,COLUMNS($Q$104:Q104)-1),\"\")","v":""},{"$f":"IF(OFFSET(DE104_9!$R$104,ROWS($R$104:R104)-1,COLUMNS($R$104:R104)-1)<>\"\",OFFSET(DE104_9!$R$104,ROWS($R$104:R104)-1,COLUMNS($R$104:R104)-1),\"\")","v":""},{"$f":"IF(OFFSET(DE104_9!$S$104,ROWS($S$104:S104)-1,COLUMNS($S$104:S104)-1)<>\"\",OFFSET(DE104_9!$S$104,ROWS($S$104:S104)-1,COLUMNS($S$104:S104)-1),\"\")","v":""},{"$f":"IF(OFFSET(DE104_9!$T$104,ROWS($T$104:T104)-1,COLUMNS($T$104:T104)-1)<>\"\",OFFSET(DE104_9!$T$104,ROWS($T$104:T104)-1,COLUMNS($T$104:T104)-1),\"\")","v":""}]
[{"$f":"IF(OFFSET(DE104_9!$C$104,ROWS($C$104:C105)-1,COLUMNS($C$104:C105)-1)<>\"\",OFFSET(DE104_9!$C$104,ROWS($C$104:C105)-1,COLUMNS($C$104:C105)-1),\"\")","v":""},{"$f":"IF(OFFSET(DE104_9!$D$104,ROWS($D$104:D105)-1,COLUMNS($D$104:D105)-1)<>\"\",OFFSET(DE104_9!$D$104,ROWS($D$104:D105)-1,COLUMNS($D$104:D105)-1),\"\")","v":""},{"$f":"IF(OFFSET(DE104_9!$E$104,ROWS($E$104:E105)-1,COLUMNS($E$104:E105)-1)<>\"\",OFFSET(DE104_9!$E$104,ROWS($E$104:E105)-1,COLUMNS($E$104:E105)-1),\"\")","v":""},{"$f":"IF(OFFSET(DE104_9!$F$104,ROWS($F$104:F105)-1,COLUMNS($F$104:F105)-1)<>\"\",OFFSET(DE104_9!$F$104,ROWS($F$104:F105)-1,COLUMNS($F$104:F105)-1),\"\")","v":""},{"$f":"IF(OFFSET(DE104_9!$G$104,ROWS($G$104:G105)-1,COLUMNS($G$104:G105)-1)<>\"\",OFFSET(DE104_9!$G$104,ROWS($G$104:G105)-1,COLUMNS($G$104:G105)-1),\"\")","v":""},{"$f":"IF(OFFSET(DE104_9!$H$104,ROWS($H$104:H105)-1,COLUMNS($H$104:H105)-1)<>\"\",OFFSET(DE104_9!$H$104,ROWS($H$104:H105)-1,COLUMNS($H$104:H105)-1),\"\")","v":""},{"$f":"IF(OFFSET(DE104_9!$I$104,ROWS($I$104:I105)-1,COLUMNS($I$104:I105)-1)<>\"\",OFFSET(DE104_9!$I$104,ROWS($I$104:I105)-1,COLUMNS($I$104:I105)-1),\"\")","v":""},{"$f":"IF(OFFSET(DE104_9!$J$104,ROWS($J$104:J105)-1,COLUMNS($J$104:J105)-1)<>\"\",OFFSET(DE104_9!$J$104,ROWS($J$104:J105)-1,COLUMNS($J$104:J105)-1),\"\")","v":""},{"$f":"IF(OFFSET(DE104_9!$K$104,ROWS($K$104:K105)-1,COLUMNS($K$104:K105)-1)<>\"\",OFFSET(DE104_9!$K$104,ROWS($K$104:K105)-1,COLUMNS($K$104:K105)-1),\"\")","v":""},{"$f":"IF(OFFSET(DE104_9!$L$104,ROWS($L$104:L105)-1,COLUMNS($L$104:L105)-1)<>\"\",OFFSET(DE104_9!$L$104,ROWS($L$104:L105)-1,COLUMNS($L$104:L105)-1),\"\")","v":""},{"$f":"IF(OFFSET(DE104_9!$M$104,ROWS($M$104:M105)-1,COLUMNS($M$104:M105)-1)<>\"\",OFFSET(DE104_9!$M$104,ROWS($M$104:M105)-1,COLUMNS($M$104:M105)-1),\"\")","v":""},{"$f":"IF(OFFSET(DE104_9!$N$104,ROWS($N$104:N105)-1,COLUMNS($N$104:N105)-1)<>\"\",OFFSET(DE104_9!$N$104,ROWS($N$104:N105)-1,COLUMNS($N$104:N105)-1),\"\")","v":""},{"$f":"IF(OFFSET(DE104_9!$O$104,ROWS($O$104:O105)-1,COLUMNS($O$104:O105)-1)<>\"\",OFFSET(DE104_9!$O$104,ROWS($O$104:O105)-1,COLUMNS($O$104:O105)-1),\"\")","v":""},{"$f":"IF(OFFSET(DE104_9!$P$104,ROWS($P$104:P105)-1,COLUMNS($P$104:P105)-1)<>\"\",OFFSET(DE104_9!$P$104,ROWS($P$104:P105)-1,COLUMNS($P$104:P105)-1),\"\")","v":""},{"$f":"IF(OFFSET(DE104_9!$Q$104,ROWS($Q$104:Q105)-1,COLUMNS($Q$104:Q105)-1)<>\"\",OFFSET(DE104_9!$Q$104,ROWS($Q$104:Q105)-1,COLUMNS($Q$104:Q105)-1),\"\")","v":""},{"$f":"IF(OFFSET(DE104_9!$R$104,ROWS($R$104:R105)-1,COLUMNS($R$104:R105)-1)<>\"\",OFFSET(DE104_9!$R$104,ROWS($R$104:R105)-1,COLUMNS($R$104:R105)-1),\"\")","v":""},{"$f":"IF(OFFSET(DE104_9!$S$104,ROWS($S$104:S105)-1,COLUMNS($S$104:S105)-1)<>\"\",OFFSET(DE104_9!$S$104,ROWS($S$104:S105)-1,COLUMNS($S$104:S105)-1),\"\")","v":""},{"$f":"IF(OFFSET(DE104_9!$T$104,ROWS($T$104:T105)-1,COLUMNS($T$104:T105)-1)<>\"\",OFFSET(DE104_9!$T$104,ROWS($T$104:T105)-1,COLUMNS($T$104:T105)-1),\"\")","v":""}]
[{"$f":"IF(OFFSET(DE104_9!$C$104,ROWS($C$104:C106)-1,COLUMNS($C$104:C106)-1)<>\"\",OFFSET(DE104_9!$C$104,ROWS($C$104:C106)-1,COLUMNS($C$104:C106)-1),\"\")","v":""},{"$f":"IF(OFFSET(DE104_9!$D$104,ROWS($D$104:D106)-1,COLUMNS($D$104:D106)-1)<>\"\",OFFSET(DE104_9!$D$104,ROWS($D$104:D106)-1,COLUMNS($D$104:D106)-1),\"\")","v":""},{"$f":"IF(OFFSET(DE104_9!$E$104,ROWS($E$104:E106)-1,COLUMNS($E$104:E106)-1)<>\"\",OFFSET(DE104_9!$E$104,ROWS($E$104:E106)-1,COLUMNS($E$104:E106)-1),\"\")","v":""},{"$f":"IF(OFFSET(DE104_9!$F$104,ROWS($F$104:F106)-1,COLUMNS($F$104:F106)-1)<>\"\",OFFSET(DE104_9!$F$104,ROWS($F$104:F106)-1,COLUMNS($F$104:F106)-1),\"\")","v":""},{"$f":"IF(OFFSET(DE104_9!$G$104,ROWS($G$104:G106)-1,COLUMNS($G$104:G106)-1)<>\"\",OFFSET(DE104_9!$G$104,ROWS($G$104:G106)-1,COLUMNS($G$104:G106)-1),\"\")","v":""},{"$f":"IF(OFFSET(DE104_9!$H$104,ROWS($H$104:H106)-1,COLUMNS($H$104:H106)-1)<>\"\",OFFSET(DE104_9!$H$104,ROWS($H$104:H106)-1,COLUMNS($H$104:H106)-1),\"\")","v":""},{"$f":"IF(OFFSET(DE104_9!$I$104,ROWS($I$104:I106)-1,COLUMNS($I$104:I106)-1)<>\"\",OFFSET(DE104_9!$I$104,ROWS($I$104:I106)-1,COLUMNS($I$104:I106)-1),\"\")","v":""},{"$f":"IF(OFFSET(DE104_9!$J$104,ROWS($J$104:J106)-1,COLUMNS($J$104:J106)-1)<>\"\",OFFSET(DE104_9!$J$104,ROWS($J$104:J106)-1,COLUMNS($J$104:J106)-1),\"\")","v":""},{"$f":"IF(OFFSET(DE104_9!$K$104,ROWS($K$104:K106)-1,COLUMNS($K$104:K106)-1)<>\"\",OFFSET(DE104_9!$K$104,ROWS($K$104:K106)-1,COLUMNS($K$104:K106)-1),\"\")","v":""},{"$f":"IF(OFFSET(DE104_9!$L$104,ROWS($L$104:L106)-1,COLUMNS($L$104:L106)-1)<>\"\",OFFSET(DE104_9!$L$104,ROWS($L$104:L106)-1,COLUMNS($L$104:L106)-1),\"\")","v":""},{"$f":"IF(OFFSET(DE104_9!$M$104,ROWS($M$104:M106)-1,COLUMNS($M$104:M106)-1)<>\"\",OFFSET(DE104_9!$M$104,ROWS($M$104:M106)-1,COLUMNS($M$104:M106)-1),\"\")","v":""},{"$f":"IF(OFFSET(DE104_9!$N$104,ROWS($N$104:N106)-1,COLUMNS($N$104:N106)-1)<>\"\",OFFSET(DE104_9!$N$104,ROWS($N$104:N106)-1,COLUMNS($N$104:N106)-1),\"\")","v":""},{"$f":"IF(OFFSET(DE104_9!$O$104,ROWS($O$104:O106)-1,COLUMNS($O$104:O106)-1)<>\"\",OFFSET(DE104_9!$O$104,ROWS($O$104:O106)-1,COLUMNS($O$104:O106)-1),\"\")","v":""},{"$f":"IF(OFFSET(DE104_9!$P$104,ROWS($P$104:P106)-1,COLUMNS($P$104:P106)-1)<>\"\",OFFSET(DE104_9!$P$104,ROWS($P$104:P106)-1,COLUMNS($P$104:P106)-1),\"\")","v":""},{"$f":"IF(OFFSET(DE104_9!$Q$104,ROWS($Q$104:Q106)-1,COLUMNS($Q$104:Q106)-1)<>\"\",OFFSET(DE104_9!$Q$104,ROWS($Q$104:Q106)-1,COLUMNS($Q$104:Q106)-1),\"\")","v":""},{"$f":"IF(OFFSET(DE104_9!$R$104,ROWS($R$104:R106)-1,COLUMNS($R$104:R106)-1)<>\"\",OFFSET(DE104_9!$R$104,ROWS($R$104:R106)-1,COLUMNS($R$104:R106)-1),\"\")","v":""},{"$f":"IF(OFFSET(DE104_9!$S$104,ROWS($S$104:S106)-1,COLUMNS($S$104:S106)-1)<>\"\",OFFSET(DE104_9!$S$104,ROWS($S$104:S106)-1,COLUMNS($S$104:S106)-1),\"\")","v":""},{"$f":"IF(OFFSET(DE104_9!$T$104,ROWS($T$104:T106)-1,COLUMNS($T$104:T106)-1)<>\"\",OFFSET(DE104_9!$T$104,ROWS($T$104:T106)-1,COLUMNS($T$104:T106)-1),\"\")","v":""}]
[{"$f":"IF(OFFSET(DE104_9!$C$104,ROWS($C$104:C107)-1,COLUMNS($C$104:C107)-1)<>\"\",OFFSET(DE104_9!$C$104,ROWS($C$104:C107)-1,COLUMNS($C$104:C107)-1),\"\")","v":""},{"$f":"IF(OFFSET(DE104_9!$D$104,ROWS($D$104:D107)-1,COLUMNS($D$104:D107)-1)<>\"\",OFFSET(DE104_9!$D$104,ROWS($D$104:D107)-1,COLUMNS($D$104:D107)-1),\"\")","v":""},{"$f":"IF(OFFSET(DE104_9!$E$104,ROWS($E$104:E107)-1,COLUMNS($E$104:E107)-1)<>\"\",OFFSET(DE104_9!$E$104,ROWS($E$104:E107)-1,COLUMNS($E$104:E107)-1),\"\")","v":""},{"$f":"IF(OFFSET(DE104_9!$F$104,ROWS($F$104:F107)-1,COLUMNS($F$104:F107)-1)<>\"\",OFFSET(DE104_9!$F$104,ROWS($F$104:F107)-1,COLUMNS($F$104:F107)-1),\"\")","v":""},{"$f":"IF(OFFSET(DE104_9!$G$104,ROWS($G$104:G107)-1,COLUMNS($G$104:G107)-1)<>\"\",OFFSET(DE104_9!$G$104,ROWS($G$104:G107)-1,COLUMNS($G$104:G107)-1),\"\")","v":""},{"$f":"IF(OFFSET(DE104_9!$H$104,ROWS($H$104:H107)-1,COLUMNS($H$104:H107)-1)<>\"\",OFFSET(DE104_9!$H$104,ROWS($H$104:H107)-1,COLUMNS($H$104:H107)-1),\"\")","v":""},{"$f":"IF(OFFSET(DE104_9!$I$104,ROWS($I$104:I107)-1,COLUMNS($I$104:I107)-1)<>\"\",OFFSET(DE104_9!$I$104,ROWS($I$104:I107)-1,COLUMNS($I$104:I107)-1),\"\")","v":""},{"$f":"IF(OFFSET(DE104_9!$J$104,ROWS($J$104:J107)-1,COLUMNS($J$104:J107)-1)<>\"\",OFFSET(DE104_9!$J$104,ROWS($J$104:J107)-1,COLUMNS($J$104:J107)-1),\"\")","v":""},{"$f":"IF(OFFSET(DE104_9!$K$104,ROWS($K$104:K107)-1,COLUMNS($K$104:K107)-1)<>\"\",OFFSET(DE104_9!$K$104,ROWS($K$104:K107)-1,COLUMNS($K$104:K107)-1),\"\")","v":""},{"$f":"IF(OFFSET(DE104_9!$L$104,ROWS($L$104:L107)-1,COLUMNS($L$104:L107)-1)<>\"\",OFFSET(DE104_9!$L$104,ROWS($L$104:L107)-1,COLUMNS($L$104:L107)-1),\"\")","v":""},{"$f":"IF(OFFSET(DE104_9!$M$104,ROWS($M$104:M107)-1,COLUMNS($M$104:M107)-1)<>\"\",OFFSET(DE104_9!$M$104,ROWS($M$104:M107)-1,COLUMNS($M$104:M107)-1),\"\")","v":""},{"$f":"IF(OFFSET(DE104_9!$N$104,ROWS($N$104:N107)-1,COLUMNS($N$104:N107)-1)<>\"\",OFFSET(DE104_9!$N$104,ROWS($N$104:N107)-1,COLUMNS($N$104:N107)-1),\"\")","v":""},{"$f":"IF(OFFSET(DE104_9!$O$104,ROWS($O$104:O107)-1,COLUMNS($O$104:O107)-1)<>\"\",OFFSET(DE104_9!$O$104,ROWS($O$104:O107)-1,COLUMNS($O$104:O107)-1),\"\")","v":""},{"$f":"IF(OFFSET(DE104_9!$P$104,ROWS($P$104:P107)-1,COLUMNS($P$104:P107)-1)<>\"\",OFFSET(DE104_9!$P$104,ROWS($P$104:P107)-1,COLUMNS($P$104:P107)-1),\"\")","v":""},{"$f":"IF(OFFSET(DE104_9!$Q$104,ROWS($Q$104:Q107)-1,COLUMNS($Q$104:Q107)-1)<>\"\",OFFSET(DE104_9!$Q$104,ROWS($Q$104:Q107)-1,COLUMNS($Q$104:Q107)-1),\"\")","v":""},{"$f":"IF(OFFSET(DE104_9!$R$104,ROWS($R$104:R107)-1,COLUMNS($R$104:R107)-1)<>\"\",OFFSET(DE104_9!$R$104,ROWS($R$104:R107)-1,COLUMNS($R$104:R107)-1),\"\")","v":""},{"$f":"IF(OFFSET(DE104_9!$S$104,ROWS($S$104:S107)-1,COLUMNS($S$104:S107)-1)<>\"\",OFFSET(DE104_9!$S$104,ROWS($S$104:S107)-1,COLUMNS($S$104:S107)-1),\"\")","v":""},{"$f":"IF(OFFSET(DE104_9!$T$104,ROWS($T$104:T107)-1,COLUMNS($T$104:T107)-1)<>\"\",OFFSET(DE104_9!$T$104,ROWS($T$104:T107)-1,COLUMNS($T$104:T107)-1),\"\")","v":""}]
[{"$f":"IF(OFFSET(DE104_9!$C$104,ROWS($C$104:C108)-1,COLUMNS($C$104:C108)-1)<>\"\",OFFSET(DE104_9!$C$104,ROWS($C$104:C108)-1,COLUMNS($C$104:C108)-1),\"\")","v":"Backslope drain alignment and flow line elevation can be adjusted"},null,null,null,null,null,{"$f":"IF(OFFSET(DE104_9!$I$104,ROWS($I$104:I108)-1,COLUMNS($I$104:I108)-1)<>\"\",OFFSET(DE104_9!$I$104,ROWS($I$104:I108)-1,COLUMNS($I$104:I108)-1),\"\")","v":""},{"$f":"IF(OFFSET(DE104_9!$J$104,ROWS($J$104:J108)-1,COLUMNS($J$104:J108)-1)<>\"\",OFFSET(DE104_9!$J$104,ROWS($J$104:J108)-1,COLUMNS($J$104:J108)-1),\"\")","v":""},{"$f":"IF(OFFSET(DE104_9!$K$104,ROWS($K$104:K108)-1,COLUMNS($K$104:K108)-1)<>\"\",OFFSET(DE104_9!$K$104,ROWS($K$104:K108)-1,COLUMNS($K$104:K108)-1),\"\")","v":""},{"$f":"IF(OFFSET(DE104_9!$L$104,ROWS($L$104:L108)-1,COLUMNS($L$104:L108)-1)<>\"\",OFFSET(DE104_9!$L$104,ROWS($L$104:L108)-1,COLUMNS($L$104:L108)-1),\"\")","v":""},{"$f":"IF(OFFSET(DE104_9!$M$104,ROWS($M$104:M108)-1,COLUMNS($M$104:M108)-1)<>\"\",OFFSET(DE104_9!$M$104,ROWS($M$104:M108)-1,COLUMNS($M$104:M108)-1),\"\")","v":""},{"$f":"IF(OFFSET(DE104_9!$N$104,ROWS($N$104:N108)-1,COLUMNS($N$104:N108)-1)<>\"\",OFFSET(DE104_9!$N$104,ROWS($N$104:N108)-1,COLUMNS($N$104:N108)-1),\"\")","v":""},{"$f":"IF(OFFSET(DE104_9!$O$104,ROWS($O$104:O108)-1,COLUMNS($O$104:O108)-1)<>\"\",OFFSET(DE104_9!$O$104,ROWS($O$104:O108)-1,COLUMNS($O$104:O108)-1),\"\")","v":""},{"$f":"IF(OFFSET(DE104_9!$P$104,ROWS($P$104:P108)-1,COLUMNS($P$104:P108)-1)<>\"\",OFFSET(DE104_9!$P$104,ROWS($P$104:P108)-1,COLUMNS($P$104:P108)-1),\"\")","v":""},{"$f":"IF(OFFSET(DE104_9!$Q$104,ROWS($Q$104:Q108)-1,COLUMNS($Q$104:Q108)-1)<>\"\",OFFSET(DE104_9!$Q$104,ROWS($Q$104:Q108)-1,COLUMNS($Q$104:Q108)-1),\"\")","v":""},{"$f":"IF(OFFSET(DE104_9!$R$104,ROWS($R$104:R108)-1,COLUMNS($R$104:R108)-1)<>\"\",OFFSET(DE104_9!$R$104,ROWS($R$104:R108)-1,COLUMNS($R$104:R108)-1),\"\")","v":""},{"$f":"IF(OFFSET(DE104_9!$S$104,ROWS($S$104:S108)-1,COLUMNS($S$104:S108)-1)<>\"\",OFFSET(DE104_9!$S$104,ROWS($S$104:S108)-1,COLUMNS($S$104:S108)-1),\"\")","v":""},{"$f":"IF(OFFSET(DE104_9!$T$104,ROWS($T$104:T108)-1,COLUMNS($T$104:T108)-1)<>\"\",OFFSET(DE104_9!$T$104,ROWS($T$104:T108)-1,COLUMNS($T$104:T108)-1),\"\")","v":""}]
[{"$f":"IF(OFFSET(DE104_9!$C$104,ROWS($C$104:C109)-1,COLUMNS($C$104:C109)-1)<>\"\",OFFSET(DE104_9!$C$104,ROWS($C$104:C109)-1,COLUMNS($C$104:C109)-1),\"\")","v":"with the Engineer's approval at the time of construction to adapt"},null,null,null,null,null,{"$f":"IF(OFFSET(DE104_9!$I$104,ROWS($I$104:I109)-1,COLUMNS($I$104:I109)-1)<>\"\",OFFSET(DE104_9!$I$104,ROWS($I$104:I109)-1,COLUMNS($I$104:I109)-1),\"\")","v":""},{"$f":"IF(OFFSET(DE104_9!$J$104,ROWS($J$104:J109)-1,COLUMNS($J$104:J109)-1)<>\"\",OFFSET(DE104_9!$J$104,ROWS($J$104:J109)-1,COLUMNS($J$104:J109)-1),\"\")","v":""},{"$f":"IF(OFFSET(DE104_9!$K$104,ROWS($K$104:K109)-1,COLUMNS($K$104:K109)-1)<>\"\",OFFSET(DE104_9!$K$104,ROWS($K$104:K109)-1,COLUMNS($K$104:K109)-1),\"\")","v":""},{"$f":"IF(OFFSET(DE104_9!$L$104,ROWS($L$104:L109)-1,COLUMNS($L$104:L109)-1)<>\"\",OFFSET(DE104_9!$L$104,ROWS($L$104:L109)-1,COLUMNS($L$104:L109)-1),\"\")","v":""},{"$f":"IF(OFFSET(DE104_9!$M$104,ROWS($M$104:M109)-1,COLUMNS($M$104:M109)-1)<>\"\",OFFSET(DE104_9!$M$104,ROWS($M$104:M109)-1,COLUMNS($M$104:M109)-1),\"\")","v":""},{"$f":"IF(OFFSET(DE104_9!$N$104,ROWS($N$104:N109)-1,COLUMNS($N$104:N109)-1)<>\"\",OFFSET(DE104_9!$N$104,ROWS($N$104:N109)-1,COLUMNS($N$104:N109)-1),\"\")","v":""},{"$f":"IF(OFFSET(DE104_9!$O$104,ROWS($O$104:O109)-1,COLUMNS($O$104:O109)-1)<>\"\",OFFSET(DE104_9!$O$104,ROWS($O$104:O109)-1,COLUMNS($O$104:O109)-1),\"\")","v":""},{"$f":"IF(OFFSET(DE104_9!$P$104,ROWS($P$104:P109)-1,COLUMNS($P$104:P109)-1)<>\"\",OFFSET(DE104_9!$P$104,ROWS($P$104:P109)-1,COLUMNS($P$104:P109)-1),\"\")","v":""},{"$f":"IF(OFFSET(DE104_9!$Q$104,ROWS($Q$104:Q109)-1,COLUMNS($Q$104:Q109)-1)<>\"\",OFFSET(DE104_9!$Q$104,ROWS($Q$104:Q109)-1,COLUMNS($Q$104:Q109)-1),\"\")","v":""},{"$f":"IF(OFFSET(DE104_9!$R$104,ROWS($R$104:R109)-1,COLUMNS($R$104:R109)-1)<>\"\",OFFSET(DE104_9!$R$104,ROWS($R$104:R109)-1,COLUMNS($R$104:R109)-1),\"\")","v":""},{"$f":"IF(OFFSET(DE104_9!$S$104,ROWS($S$104:S109)-1,COLUMNS($S$104:S109)-1)<>\"\",OFFSET(DE104_9!$S$104,ROWS($S$104:S109)-1,COLUMNS($S$104:S109)-1),\"\")","v":""},{"$f":"IF(OFFSET(DE104_9!$T$104,ROWS($T$104:T109)-1,COLUMNS($T$104:T109)-1)<>\"\",OFFSET(DE104_9!$T$104,ROWS($T$104:T109)-1,COLUMNS($T$104:T109)-1),\"\")","v":""}]
[{"$f":"IF(OFFSET(DE104_9!$C$104,ROWS($C$104:C110)-1,COLUMNS($C$104:C110)-1)<>\"\",OFFSET(DE104_9!$C$104,ROWS($C$104:C110)-1,COLUMNS($C$104:C110)-1),\"\")","v":"to observed variations in ground water levels (slope seepage) and"},null,null,null,null,null,{"$f":"IF(OFFSET(DE104_9!$I$104,ROWS($I$104:I110)-1,COLUMNS($I$104:I110)-1)<>\"\",OFFSET(DE104_9!$I$104,ROWS($I$104:I110)-1,COLUMNS($I$104:I110)-1),\"\")","v":""},{"$f":"IF(OFFSET(DE104_9!$J$104,ROWS($J$104:J110)-1,COLUMNS($J$104:J110)-1)<>\"\",OFFSET(DE104_9!$J$104,ROWS($J$104:J110)-1,COLUMNS($J$104:J110)-1),\"\")","v":""},{"$f":"IF(OFFSET(DE104_9!$K$104,ROWS($K$104:K110)-1,COLUMNS($K$104:K110)-1)<>\"\",OFFSET(DE104_9!$K$104,ROWS($K$104:K110)-1,COLUMNS($K$104:K110)-1),\"\")","v":""},{"$f":"IF(OFFSET(DE104_9!$L$104,ROWS($L$104:L110)-1,COLUMNS($L$104:L110)-1)<>\"\",OFFSET(DE104_9!$L$104,ROWS($L$104:L110)-1,COLUMNS($L$104:L110)-1),\"\")","v":""},{"$f":"IF(OFFSET(DE104_9!$M$104,ROWS($M$104:M110)-1,COLUMNS($M$104:M110)-1)<>\"\",OFFSET(DE104_9!$M$104,ROWS($M$104:M110)-1,COLUMNS($M$104:M110)-1),\"\")","v":""},{"$f":"IF(OFFSET(DE104_9!$N$104,ROWS($N$104:N110)-1,COLUMNS($N$104:N110)-1)<>\"\",OFFSET(DE104_9!$N$104,ROWS($N$104:N110)-1,COLUMNS($N$104:N110)-1),\"\")","v":""},{"$f":"IF(OFFSET(DE104_9!$O$104,ROWS($O$104:O110)-1,COLUMNS($O$104:O110)-1)<>\"\",OFFSET(DE104_9!$O$104,ROWS($O$104:O110)-1,COLUMNS($O$104:O110)-1),\"\")","v":""},{"$f":"IF(OFFSET(DE104_9!$P$104,ROWS($P$104:P110)-1,COLUMNS($P$104:P110)-1)<>\"\",OFFSET(DE104_9!$P$104,ROWS($P$104:P110)-1,COLUMNS($P$104:P110)-1),\"\")","v":""},{"$f":"IF(OFFSET(DE104_9!$Q$104,ROWS($Q$104:Q110)-1,COLUMNS($Q$104:Q110)-1)<>\"\",OFFSET(DE104_9!$Q$104,ROWS($Q$104:Q110)-1,COLUMNS($Q$104:Q110)-1),\"\")","v":""},{"$f":"IF(OFFSET(DE104_9!$R$104,ROWS($R$104:R110)-1,COLUMNS($R$104:R110)-1)<>\"\",OFFSET(DE104_9!$R$104,ROWS($R$104:R110)-1,COLUMNS($R$104:R110)-1),\"\")","v":""},{"$f":"IF(OFFSET(DE104_9!$S$104,ROWS($S$104:S110)-1,COLUMNS($S$104:S110)-1)<>\"\",OFFSET(DE104_9!$S$104,ROWS($S$104:S110)-1,COLUMNS($S$104:S110)-1),\"\")","v":""},{"$f":"IF(OFFSET(DE104_9!$T$104,ROWS($T$104:T110)-1,COLUMNS($T$104:T110)-1)<>\"\",OFFSET(DE104_9!$T$104,ROWS($T$104:T110)-1,COLUMNS($T$104:T110)-1),\"\")","v":""}]
[{"$f":"IF(OFFSET(DE104_9!$C$104,ROWS($C$104:C111)-1,COLUMNS($C$104:C111)-1)<>\"\",OFFSET(DE104_9!$C$104,ROWS($C$104:C111)-1,COLUMNS($C$104:C111)-1),\"\")","v":"soil cross sections should be considered a first approximation.  The"},null,null,null,null,null,{"$f":"IF(OFFSET(DE104_9!$I$104,ROWS($I$104:I111)-1,COLUMNS($I$104:I111)-1)<>\"\",OFFSET(DE104_9!$I$104,ROWS($I$104:I111)-1,COLUMNS($I$104:I111)-1),\"\")","v":""},{"$f":"IF(OFFSET(DE104_9!$J$104,ROWS($J$104:J111)-1,COLUMNS($J$104:J111)-1)<>\"\",OFFSET(DE104_9!$J$104,ROWS($J$104:J111)-1,COLUMNS($J$104:J111)-1),\"\")","v":""},{"$f":"IF(OFFSET(DE104_9!$K$104,ROWS($K$104:K111)-1,COLUMNS($K$104:K111)-1)<>\"\",OFFSET(DE104_9!$K$104,ROWS($K$104:K111)-1,COLUMNS($K$104:K111)-1),\"\")","v":""},{"$f":"IF(OFFSET(DE104_9!$L$104,ROWS($L$104:L111)-1,COLUMNS($L$104:L111)-1)<>\"\",OFFSET(DE104_9!$L$104,ROWS($L$104:L111)-1,COLUMNS($L$104:L111)-1),\"\")","v":""},{"$f":"IF(OFFSET(DE104_9!$M$104,ROWS($M$104:M111)-1,COLUMNS($M$104:M111)-1)<>\"\",OFFSET(DE104_9!$M$104,ROWS($M$104:M111)-1,COLUMNS($M$104:M111)-1),\"\")","v":""},{"$f":"IF(OFFSET(DE104_9!$N$104,ROWS($N$104:N111)-1,COLUMNS($N$104:N111)-1)<>\"\",OFFSET(DE104_9!$N$104,ROWS($N$104:N111)-1,COLUMNS($N$104:N111)-1),\"\")","v":""},{"$f":"IF(OFFSET(DE104_9!$O$104,ROWS($O$104:O111)-1,COLUMNS($O$104:O111)-1)<>\"\",OFFSET(DE104_9!$O$104,ROWS($O$104:O111)-1,COLUMNS($O$104:O111)-1),\"\")","v":""},{"$f":"IF(OFFSET(DE104_9!$P$104,ROWS($P$104:P111)-1,COLUMNS($P$104:P111)-1)<>\"\",OFFSET(DE104_9!$P$104,ROWS($P$104:P111)-1,COLUMNS($P$104:P111)-1),\"\")","v":""},{"$f":"IF(OFFSET(DE104_9!$Q$104,ROWS($Q$104:Q111)-1,COLUMNS($Q$104:Q111)-1)<>\"\",OFFSET(DE104_9!$Q$104,ROWS($Q$104:Q111)-1,COLUMNS($Q$104:Q111)-1),\"\")","v":""},{"$f":"IF(OFFSET(DE104_9!$R$104,ROWS($R$104:R111)-1,COLUMNS($R$104:R111)-1)<>\"\",OFFSET(DE104_9!$R$104,ROWS($R$104:R111)-1,COLUMNS($R$104:R111)-1),\"\")","v":""},{"$f":"IF(OFFSET(DE104_9!$S$104,ROWS($S$104:S111)-1,COLUMNS($S$104:S111)-1)<>\"\",OFFSET(DE104_9!$S$104,ROWS($S$104:S111)-1,COLUMNS($S$104:S111)-1),\"\")","v":""},{"$f":"IF(OFFSET(DE104_9!$T$104,ROWS($T$104:T111)-1,COLUMNS($T$104:T111)-1)<>\"\",OFFSET(DE104_9!$T$104,ROWS($T$104:T111)-1,COLUMNS($T$104:T111)-1),\"\")","v":""}]
[{"$f":"IF(OFFSET(DE104_9!$C$104,ROWS($C$104:C112)-1,COLUMNS($C$104:C112)-1)<>\"\",OFFSET(DE104_9!$C$104,ROWS($C$104:C112)-1,COLUMNS($C$104:C112)-1),\"\")","v":"intent is that the drains and outlets may be shifted vertically and"},null,null,null,null,null,{"$f":"IF(OFFSET(DE104_9!$I$104,ROWS($I$104:I112)-1,COLUMNS($I$104:I112)-1)<>\"\",OFFSET(DE104_9!$I$104,ROWS($I$104:I112)-1,COLUMNS($I$104:I112)-1),\"\")","v":""},{"$f":"IF(OFFSET(DE104_9!$J$104,ROWS($J$104:J112)-1,COLUMNS($J$104:J112)-1)<>\"\",OFFSET(DE104_9!$J$104,ROWS($J$104:J112)-1,COLUMNS($J$104:J112)-1),\"\")","v":""},{"$f":"IF(OFFSET(DE104_9!$K$104,ROWS($K$104:K112)-1,COLUMNS($K$104:K112)-1)<>\"\",OFFSET(DE104_9!$K$104,ROWS($K$104:K112)-1,COLUMNS($K$104:K112)-1),\"\")","v":""},{"$f":"IF(OFFSET(DE104_9!$L$104,ROWS($L$104:L112)-1,COLUMNS($L$104:L112)-1)<>\"\",OFFSET(DE104_9!$L$104,ROWS($L$104:L112)-1,COLUMNS($L$104:L112)-1),\"\")","v":""},{"$f":"IF(OFFSET(DE104_9!$M$104,ROWS($M$104:M112)-1,COLUMNS($M$104:M112)-1)<>\"\",OFFSET(DE104_9!$M$104,ROWS($M$104:M112)-1,COLUMNS($M$104:M112)-1),\"\")","v":""},{"$f":"IF(OFFSET(DE104_9!$N$104,ROWS($N$104:N112)-1,COLUMNS($N$104:N112)-1)<>\"\",OFFSET(DE104_9!$N$104,ROWS($N$104:N112)-1,COLUMNS($N$104:N112)-1),\"\")","v":""},{"$f":"IF(OFFSET(DE104_9!$O$104,ROWS($O$104:O112)-1,COLUMNS($O$104:O112)-1)<>\"\",OFFSET(DE104_9!$O$104,ROWS($O$104:O112)-1,COLUMNS($O$104:O112)-1),\"\")","v":""},{"$f":"IF(OFFSET(DE104_9!$P$104,ROWS($P$104:P112)-1,COLUMNS($P$104:P112)-1)<>\"\",OFFSET(DE104_9!$P$104,ROWS($P$104:P112)-1,COLUMNS($P$104:P112)-1),\"\")","v":""},{"$f":"IF(OFFSET(DE104_9!$Q$104,ROWS($Q$104:Q112)-1,COLUMNS($Q$104:Q112)-1)<>\"\",OFFSET(DE104_9!$Q$104,ROWS($Q$104:Q112)-1,COLUMNS($Q$104:Q112)-1),\"\")","v":""},{"$f":"IF(OFFSET(DE104_9!$R$104,ROWS($R$104:R112)-1,COLUMNS($R$104:R112)-1)<>\"\",OFFSET(DE104_9!$R$104,ROWS($R$104:R112)-1,COLUMNS($R$104:R112)-1),\"\")","v":""},{"$f":"IF(OFFSET(DE104_9!$S$104,ROWS($S$104:S112)-1,COLUMNS($S$104:S112)-1)<>\"\",OFFSET(DE104_9!$S$104,ROWS($S$104:S112)-1,COLUMNS($S$104:S112)-1),\"\")","v":""},{"$f":"IF(OFFSET(DE104_9!$T$104,ROWS($T$104:T112)-1,COLUMNS($T$104:T112)-1)<>\"\",OFFSET(DE104_9!$T$104,ROWS($T$104:T112)-1,COLUMNS($T$104:T112)-1),\"\")","v":""}]
[{"$f":"IF(OFFSET(DE104_9!$C$104,ROWS($C$104:C113)-1,COLUMNS($C$104:C113)-1)<>\"\",OFFSET(DE104_9!$C$104,ROWS($C$104:C113)-1,COLUMNS($C$104:C113)-1),\"\")","v":"horizontally, extended, shortened, added to, or deleted as deemed"},null,null,null,null,null,{"$f":"IF(OFFSET(DE104_9!$I$104,ROWS($I$104:I113)-1,COLUMNS($I$104:I113)-1)<>\"\",OFFSET(DE104_9!$I$104,ROWS($I$104:I113)-1,COLUMNS($I$104:I113)-1),\"\")","v":""},{"$f":"IF(OFFSET(DE104_9!$J$104,ROWS($J$104:J113)-1,COLUMNS($J$104:J113)-1)<>\"\",OFFSET(DE104_9!$J$104,ROWS($J$104:J113)-1,COLUMNS($J$104:J113)-1),\"\")","v":""},{"$f":"IF(OFFSET(DE104_9!$K$104,ROWS($K$104:K113)-1,COLUMNS($K$104:K113)-1)<>\"\",OFFSET(DE104_9!$K$104,ROWS($K$104:K113)-1,COLUMNS($K$104:K113)-1),\"\")","v":""},{"$f":"IF(OFFSET(DE104_9!$L$104,ROWS($L$104:L113)-1,COLUMNS($L$104:L113)-1)<>\"\",OFFSET(DE104_9!$L$104,ROWS($L$104:L113)-1,COLUMNS($L$104:L113)-1),\"\")","v":""},{"$f":"IF(OFFSET(DE104_9!$M$104,ROWS($M$104:M113)-1,COLUMNS($M$104:M113)-1)<>\"\",OFFSET(DE104_9!$M$104,ROWS($M$104:M113)-1,COLUMNS($M$104:M113)-1),\"\")","v":""},{"$f":"IF(OFFSET(DE104_9!$N$104,ROWS($N$104:N113)-1,COLUMNS($N$104:N113)-1)<>\"\",OFFSET(DE104_9!$N$104,ROWS($N$104:N113)-1,COLUMNS($N$104:N113)-1),\"\")","v":""},{"$f":"IF(OFFSET(DE104_9!$O$104,ROWS($O$104:O113)-1,COLUMNS($O$104:O113)-1)<>\"\",OFFSET(DE104_9!$O$104,ROWS($O$104:O113)-1,COLUMNS($O$104:O113)-1),\"\")","v":""},{"$f":"IF(OFFSET(DE104_9!$P$104,ROWS($P$104:P113)-1,COLUMNS($P$104:P113)-1)<>\"\",OFFSET(DE104_9!$P$104,ROWS($P$104:P113)-1,COLUMNS($P$104:P113)-1),\"\")","v":""},{"$f":"IF(OFFSET(DE104_9!$Q$104,ROWS($Q$104:Q113)-1,COLUMNS($Q$104:Q113)-1)<>\"\",OFFSET(DE104_9!$Q$104,ROWS($Q$104:Q113)-1,COLUMNS($Q$104:Q113)-1),\"\")","v":""},{"$f":"IF(OFFSET(DE104_9!$R$104,ROWS($R$104:R113)-1,COLUMNS($R$104:R113)-1)<>\"\",OFFSET(DE104_9!$R$104,ROWS($R$104:R113)-1,COLUMNS($R$104:R113)-1),\"\")","v":""},{"$f":"IF(OFFSET(DE104_9!$S$104,ROWS($S$104:S113)-1,COLUMNS($S$104:S113)-1)<>\"\",OFFSET(DE104_9!$S$104,ROWS($S$104:S113)-1,COLUMNS($S$104:S113)-1),\"\")","v":""},{"$f":"IF(OFFSET(DE104_9!$T$104,ROWS($T$104:T113)-1,COLUMNS($T$104:T113)-1)<>\"\",OFFSET(DE104_9!$T$104,ROWS($T$104:T113)-1,COLUMNS($T$104:T113)-1),\"\")","v":""}]
[{"$f":"IF(OFFSET(DE104_9!$C$104,ROWS($C$104:C114)-1,COLUMNS($C$104:C114)-1)<>\"\",OFFSET(DE104_9!$C$104,ROWS($C$104:C114)-1,COLUMNS($C$104:C114)-1),\"\")","v":"necessary by the Field Engineer to optimize control of ground water"},null,null,null,null,null,{"$f":"IF(OFFSET(DE104_9!$I$104,ROWS($I$104:I114)-1,COLUMNS($I$104:I114)-1)<>\"\",OFFSET(DE104_9!$I$104,ROWS($I$104:I114)-1,COLUMNS($I$104:I114)-1),\"\")","v":""},{"$f":"IF(OFFSET(DE104_9!$J$104,ROWS($J$104:J114)-1,COLUMNS($J$104:J114)-1)<>\"\",OFFSET(DE104_9!$J$104,ROWS($J$104:J114)-1,COLUMNS($J$104:J114)-1),\"\")","v":""},{"$f":"IF(OFFSET(DE104_9!$K$104,ROWS($K$104:K114)-1,COLUMNS($K$104:K114)-1)<>\"\",OFFSET(DE104_9!$K$104,ROWS($K$104:K114)-1,COLUMNS($K$104:K114)-1),\"\")","v":""},{"$f":"IF(OFFSET(DE104_9!$L$104,ROWS($L$104:L114)-1,COLUMNS($L$104:L114)-1)<>\"\",OFFSET(DE104_9!$L$104,ROWS($L$104:L114)-1,COLUMNS($L$104:L114)-1),\"\")","v":""},{"$f":"IF(OFFSET(DE104_9!$M$104,ROWS($M$104:M114)-1,COLUMNS($M$104:M114)-1)<>\"\",OFFSET(DE104_9!$M$104,ROWS($M$104:M114)-1,COLUMNS($M$104:M114)-1),\"\")","v":""},{"$f":"IF(OFFSET(DE104_9!$N$104,ROWS($N$104:N114)-1,COLUMNS($N$104:N114)-1)<>\"\",OFFSET(DE104_9!$N$104,ROWS($N$104:N114)-1,COLUMNS($N$104:N114)-1),\"\")","v":""},{"$f":"IF(OFFSET(DE104_9!$O$104,ROWS($O$104:O114)-1,COLUMNS($O$104:O114)-1)<>\"\",OFFSET(DE104_9!$O$104,ROWS($O$104:O114)-1,COLUMNS($O$104:O114)-1),\"\")","v":""},{"$f":"IF(OFFSET(DE104_9!$P$104,ROWS($P$104:P114)-1,COLUMNS($P$104:P114)-1)<>\"\",OFFSET(DE104_9!$P$104,ROWS($P$104:P114)-1,COLUMNS($P$104:P114)-1),\"\")","v":""},{"$f":"IF(OFFSET(DE104_9!$Q$104,ROWS($Q$104:Q114)-1,COLUMNS($Q$104:Q114)-1)<>\"\",OFFSET(DE104_9!$Q$104,ROWS($Q$104:Q114)-1,COLUMNS($Q$104:Q114)-1),\"\")","v":""},{"$f":"IF(OFFSET(DE104_9!$R$104,ROWS($R$104:R114)-1,COLUMNS($R$104:R114)-1)<>\"\",OFFSET(DE104_9!$R$104,ROWS($R$104:R114)-1,COLUMNS($R$104:R114)-1),\"\")","v":""},{"$f":"IF(OFFSET(DE104_9!$S$104,ROWS($S$104:S114)-1,COLUMNS($S$104:S114)-1)<>\"\",OFFSET(DE104_9!$S$104,ROWS($S$104:S114)-1,COLUMNS($S$104:S114)-1),\"\")","v":""},{"$f":"IF(OFFSET(DE104_9!$T$104,ROWS($T$104:T114)-1,COLUMNS($T$104:T114)-1)<>\"\",OFFSET(DE104_9!$T$104,ROWS($T$104:T114)-1,COLUMNS($T$104:T114)-1),\"\")","v":""}]
[{"$f":"IF(OFFSET(DE104_9!$C$104,ROWS($C$104:C115)-1,COLUMNS($C$104:C115)-1)<>\"\",OFFSET(DE104_9!$C$104,ROWS($C$104:C115)-1,COLUMNS($C$104:C115)-1),\"\")","v":"seepage at the slope face."},null,null,null,null,null,{"$f":"IF(OFFSET(DE104_9!$I$104,ROWS($I$104:I115)-1,COLUMNS($I$104:I115)-1)<>\"\",OFFSET(DE104_9!$I$104,ROWS($I$104:I115)-1,COLUMNS($I$104:I115)-1),\"\")","v":""},{"$f":"IF(OFFSET(DE104_9!$J$104,ROWS($J$104:J115)-1,COLUMNS($J$104:J115)-1)<>\"\",OFFSET(DE104_9!$J$104,ROWS($J$104:J115)-1,COLUMNS($J$104:J115)-1),\"\")","v":""},{"$f":"IF(OFFSET(DE104_9!$K$104,ROWS($K$104:K115)-1,COLUMNS($K$104:K115)-1)<>\"\",OFFSET(DE104_9!$K$104,ROWS($K$104:K115)-1,COLUMNS($K$104:K115)-1),\"\")","v":""},{"$f":"IF(OFFSET(DE104_9!$L$104,ROWS($L$104:L115)-1,COLUMNS($L$104:L115)-1)<>\"\",OFFSET(DE104_9!$L$104,ROWS($L$104:L115)-1,COLUMNS($L$104:L115)-1),\"\")","v":""},{"$f":"IF(OFFSET(DE104_9!$M$104,ROWS($M$104:M115)-1,COLUMNS($M$104:M115)-1)<>\"\",OFFSET(DE104_9!$M$104,ROWS($M$104:M115)-1,COLUMNS($M$104:M115)-1),\"\")","v":""},{"$f":"IF(OFFSET(DE104_9!$N$104,ROWS($N$104:N115)-1,COLUMNS($N$104:N115)-1)<>\"\",OFFSET(DE104_9!$N$104,ROWS($N$104:N115)-1,COLUMNS($N$104:N115)-1),\"\")","v":""},{"$f":"IF(OFFSET(DE104_9!$O$104,ROWS($O$104:O115)-1,COLUMNS($O$104:O115)-1)<>\"\",OFFSET(DE104_9!$O$104,ROWS($O$104:O115)-1,COLUMNS($O$104:O115)-1),\"\")","v":""},{"$f":"IF(OFFSET(DE104_9!$P$104,ROWS($P$104:P115)-1,COLUMNS($P$104:P115)-1)<>\"\",OFFSET(DE104_9!$P$104,ROWS($P$104:P115)-1,COLUMNS($P$104:P115)-1),\"\")","v":""},{"$f":"IF(OFFSET(DE104_9!$Q$104,ROWS($Q$104:Q115)-1,COLUMNS($Q$104:Q115)-1)<>\"\",OFFSET(DE104_9!$Q$104,ROWS($Q$104:Q115)-1,COLUMNS($Q$104:Q115)-1),\"\")","v":""},{"$f":"IF(OFFSET(DE104_9!$R$104,ROWS($R$104:R115)-1,COLUMNS($R$104:R115)-1)<>\"\",OFFSET(DE104_9!$R$104,ROWS($R$104:R115)-1,COLUMNS($R$104:R115)-1),\"\")","v":""},{"$f":"IF(OFFSET(DE104_9!$S$104,ROWS($S$104:S115)-1,COLUMNS($S$104:S115)-1)<>\"\",OFFSET(DE104_9!$S$104,ROWS($S$104:S115)-1,COLUMNS($S$104:S115)-1),\"\")","v":""},{"$f":"IF(OFFSET(DE104_9!$T$104,ROWS($T$104:T115)-1,COLUMNS($T$104:T115)-1)<>\"\",OFFSET(DE104_9!$T$104,ROWS($T$104:T115)-1,COLUMNS($T$104:T115)-1),\"\")","v":""}]
[{"$f":"IF(OFFSET(DE104_9!$C$104,ROWS($C$104:C116)-1,COLUMNS($C$104:C116)-1)<>\"\",OFFSET(DE104_9!$C$104,ROWS($C$104:C116)-1,COLUMNS($C$104:C116)-1),\"\")","v":""},{"$f":"IF(OFFSET(DE104_9!$D$104,ROWS($D$104:D116)-1,COLUMNS($D$104:D116)-1)<>\"\",OFFSET(DE104_9!$D$104,ROWS($D$104:D116)-1,COLUMNS($D$104:D116)-1),\"\")","v":""},{"$f":"IF(OFFSET(DE104_9!$E$104,ROWS($E$104:E116)-1,COLUMNS($E$104:E116)-1)<>\"\",OFFSET(DE104_9!$E$104,ROWS($E$104:E116)-1,COLUMNS($E$104:E116)-1),\"\")","v":""},{"$f":"IF(OFFSET(DE104_9!$F$104,ROWS($F$104:F116)-1,COLUMNS($F$104:F116)-1)<>\"\",OFFSET(DE104_9!$F$104,ROWS($F$104:F116)-1,COLUMNS($F$104:F116)-1),\"\")","v":""},{"$f":"IF(OFFSET(DE104_9!$G$104,ROWS($G$104:G116)-1,COLUMNS($G$104:G116)-1)<>\"\",OFFSET(DE104_9!$G$104,ROWS($G$104:G116)-1,COLUMNS($G$104:G116)-1),\"\")","v":""},{"$f":"IF(OFFSET(DE104_9!$H$104,ROWS($H$104:H116)-1,COLUMNS($H$104:H116)-1)<>\"\",OFFSET(DE104_9!$H$104,ROWS($H$104:H116)-1,COLUMNS($H$104:H116)-1),\"\")","v":""},{"$f":"IF(OFFSET(DE104_9!$I$104,ROWS($I$104:I116)-1,COLUMNS($I$104:I116)-1)<>\"\",OFFSET(DE104_9!$I$104,ROWS($I$104:I116)-1,COLUMNS($I$104:I116)-1),\"\")","v":""},{"$f":"IF(OFFSET(DE104_9!$J$104,ROWS($J$104:J116)-1,COLUMNS($J$104:J116)-1)<>\"\",OFFSET(DE104_9!$J$104,ROWS($J$104:J116)-1,COLUMNS($J$104:J116)-1),\"\")","v":""},{"$f":"IF(OFFSET(DE104_9!$K$104,ROWS($K$104:K116)-1,COLUMNS($K$104:K116)-1)<>\"\",OFFSET(DE104_9!$K$104,ROWS($K$104:K116)-1,COLUMNS($K$104:K116)-1),\"\")","v":""},{"$f":"IF(OFFSET(DE104_9!$L$104,ROWS($L$104:L116)-1,COLUMNS($L$104:L116)-1)<>\"\",OFFSET(DE104_9!$L$104,ROWS($L$104:L116)-1,COLUMNS($L$104:L116)-1),\"\")","v":""},{"$f":"IF(OFFSET(DE104_9!$M$104,ROWS($M$104:M116)-1,COLUMNS($M$104:M116)-1)<>\"\",OFFSET(DE104_9!$M$104,ROWS($M$104:M116)-1,COLUMNS($M$104:M116)-1),\"\")","v":""},{"$f":"IF(OFFSET(DE104_9!$N$104,ROWS($N$104:N116)-1,COLUMNS($N$104:N116)-1)<>\"\",OFFSET(DE104_9!$N$104,ROWS($N$104:N116)-1,COLUMNS($N$104:N116)-1),\"\")","v":""},{"$f":"IF(OFFSET(DE104_9!$O$104,ROWS($O$104:O116)-1,COLUMNS($O$104:O116)-1)<>\"\",OFFSET(DE104_9!$O$104,ROWS($O$104:O116)-1,COLUMNS($O$104:O116)-1),\"\")","v":""},{"$f":"IF(OFFSET(DE104_9!$P$104,ROWS($P$104:P116)-1,COLUMNS($P$104:P116)-1)<>\"\",OFFSET(DE104_9!$P$104,ROWS($P$104:P116)-1,COLUMNS($P$104:P116)-1),\"\")","v":""},{"$f":"IF(OFFSET(DE104_9!$Q$104,ROWS($Q$104:Q116)-1,COLUMNS($Q$104:Q116)-1)<>\"\",OFFSET(DE104_9!$Q$104,ROWS($Q$104:Q116)-1,COLUMNS($Q$104:Q116)-1),\"\")","v":""},{"$f":"IF(OFFSET(DE104_9!$R$104,ROWS($R$104:R116)-1,COLUMNS($R$104:R116)-1)<>\"\",OFFSET(DE104_9!$R$104,ROWS($R$104:R116)-1,COLUMNS($R$104:R116)-1),\"\")","v":""},{"$f":"IF(OFFSET(DE104_9!$S$104,ROWS($S$104:S116)-1,COLUMNS($S$104:S116)-1)<>\"\",OFFSET(DE104_9!$S$104,ROWS($S$104:S116)-1,COLUMNS($S$104:S116)-1),\"\")","v":""},{"$f":"IF(OFFSET(DE104_9!$T$104,ROWS($T$104:T116)-1,COLUMNS($T$104:T116)-1)<>\"\",OFFSET(DE104_9!$T$104,ROWS($T$104:T116)-1,COLUMNS($T$104:T116)-1),\"\")","v":""}]
[{"$f":"IF(OFFSET(DE104_9!$C$104,ROWS($C$104:C117)-1,COLUMNS($C$104:C117)-1)<>\"\",OFFSET(DE104_9!$C$104,ROWS($C$104:C117)-1,COLUMNS($C$104:C117)-1),\"\")","v":""},{"$f":"IF(OFFSET(DE104_9!$D$104,ROWS($D$104:D117)-1,COLUMNS($D$104:D117)-1)<>\"\",OFFSET(DE104_9!$D$104,ROWS($D$104:D117)-1,COLUMNS($D$104:D117)-1),\"\")","v":""},{"$f":"IF(OFFSET(DE104_9!$E$104,ROWS($E$104:E117)-1,COLUMNS($E$104:E117)-1)<>\"\",OFFSET(DE104_9!$E$104,ROWS($E$104:E117)-1,COLUMNS($E$104:E117)-1),\"\")","v":""},{"$f":"IF(OFFSET(DE104_9!$F$104,ROWS($F$104:F117)-1,COLUMNS($F$104:F117)-1)<>\"\",OFFSET(DE104_9!$F$104,ROWS($F$104:F117)-1,COLUMNS($F$104:F117)-1),\"\")","v":""},{"$f":"IF(OFFSET(DE104_9!$G$104,ROWS($G$104:G117)-1,COLUMNS($G$104:G117)-1)<>\"\",OFFSET(DE104_9!$G$104,ROWS($G$104:G117)-1,COLUMNS($G$104:G117)-1),\"\")","v":""},{"$f":"IF(OFFSET(DE104_9!$H$104,ROWS($H$104:H117)-1,COLUMNS($H$104:H117)-1)<>\"\",OFFSET(DE104_9!$H$104,ROWS($H$104:H117)-1,COLUMNS($H$104:H117)-1),\"\")","v":""},{"$f":"IF(OFFSET(DE104_9!$I$104,ROWS($I$104:I117)-1,COLUMNS($I$104:I117)-1)<>\"\",OFFSET(DE104_9!$I$104,ROWS($I$104:I117)-1,COLUMNS($I$104:I117)-1),\"\")","v":""},{"$f":"IF(OFFSET(DE104_9!$J$104,ROWS($J$104:J117)-1,COLUMNS($J$104:J117)-1)<>\"\",OFFSET(DE104_9!$J$104,ROWS($J$104:J117)-1,COLUMNS($J$104:J117)-1),\"\")","v":""},{"$f":"IF(OFFSET(DE104_9!$K$104,ROWS($K$104:K117)-1,COLUMNS($K$104:K117)-1)<>\"\",OFFSET(DE104_9!$K$104,ROWS($K$104:K117)-1,COLUMNS($K$104:K117)-1),\"\")","v":""},{"$f":"IF(OFFSET(DE104_9!$L$104,ROWS($L$104:L117)-1,COLUMNS($L$104:L117)-1)<>\"\",OFFSET(DE104_9!$L$104,ROWS($L$104:L117)-1,COLUMNS($L$104:L117)-1),\"\")","v":""},{"$f":"IF(OFFSET(DE104_9!$M$104,ROWS($M$104:M117)-1,COLUMNS($M$104:M117)-1)<>\"\",OFFSET(DE104_9!$M$104,ROWS($M$104:M117)-1,COLUMNS($M$104:M117)-1),\"\")","v":""},{"$f":"IF(OFFSET(DE104_9!$N$104,ROWS($N$104:N117)-1,COLUMNS($N$104:N117)-1)<>\"\",OFFSET(DE104_9!$N$104,ROWS($N$104:N117)-1,COLUMNS($N$104:N117)-1),\"\")","v":""},{"$f":"IF(OFFSET(DE104_9!$O$104,ROWS($O$104:O117)-1,COLUMNS($O$104:O117)-1)<>\"\",OFFSET(DE104_9!$O$104,ROWS($O$104:O117)-1,COLUMNS($O$104:O117)-1),\"\")","v":""},{"$f":"IF(OFFSET(DE104_9!$P$104,ROWS($P$104:P117)-1,COLUMNS($P$104:P117)-1)<>\"\",OFFSET(DE104_9!$P$104,ROWS($P$104:P117)-1,COLUMNS($P$104:P117)-1),\"\")","v":""},{"$f":"IF(OFFSET(DE104_9!$Q$104,ROWS($Q$104:Q117)-1,COLUMNS($Q$104:Q117)-1)<>\"\",OFFSET(DE104_9!$Q$104,ROWS($Q$104:Q117)-1,COLUMNS($Q$104:Q117)-1),\"\")","v":""},{"$f":"IF(OFFSET(DE104_9!$R$104,ROWS($R$104:R117)-1,COLUMNS($R$104:R117)-1)<>\"\",OFFSET(DE104_9!$R$104,ROWS($R$104:R117)-1,COLUMNS($R$104:R117)-1),\"\")","v":""},{"$f":"IF(OFFSET(DE104_9!$S$104,ROWS($S$104:S117)-1,COLUMNS($S$104:S117)-1)<>\"\",OFFSET(DE104_9!$S$104,ROWS($S$104:S117)-1,COLUMNS($S$104:S117)-1),\"\")","v":""},{"$f":"IF(OFFSET(DE104_9!$T$104,ROWS($T$104:T117)-1,COLUMNS($T$104:T117)-1)<>\"\",OFFSET(DE104_9!$T$104,ROWS($T$104:T117)-1,COLUMNS($T$104:T117)-1),\"\")","v":""}]
[{"$f":"IF(OFFSET(DE104_9!$C$104,ROWS($C$104:C118)-1,COLUMNS($C$104:C118)-1)<>\"\",OFFSET(DE104_9!$C$104,ROWS($C$104:C118)-1,COLUMNS($C$104:C118)-1),\"\")","v":""},{"$f":"IF(OFFSET(DE104_9!$D$104,ROWS($D$104:D118)-1,COLUMNS($D$104:D118)-1)<>\"\",OFFSET(DE104_9!$D$104,ROWS($D$104:D118)-1,COLUMNS($D$104:D118)-1),\"\")","v":""},{"$f":"IF(OFFSET(DE104_9!$E$104,ROWS($E$104:E118)-1,COLUMNS($E$104:E118)-1)<>\"\",OFFSET(DE104_9!$E$104,ROWS($E$104:E118)-1,COLUMNS($E$104:E118)-1),\"\")","v":""},{"$f":"IF(OFFSET(DE104_9!$F$104,ROWS($F$104:F118)-1,COLUMNS($F$104:F118)-1)<>\"\",OFFSET(DE104_9!$F$104,ROWS($F$104:F118)-1,COLUMNS($F$104:F118)-1),\"\")","v":""},{"$f":"IF(OFFSET(DE104_9!$G$104,ROWS($G$104:G118)-1,COLUMNS($G$104:G118)-1)<>\"\",OFFSET(DE104_9!$G$104,ROWS($G$104:G118)-1,COLUMNS($G$104:G118)-1),\"\")","v":""},{"$f":"IF(OFFSET(DE104_9!$H$104,ROWS($H$104:H118)-1,COLUMNS($H$104:H118)-1)<>\"\",OFFSET(DE104_9!$H$104,ROWS($H$104:H118)-1,COLUMNS($H$104:H118)-1),\"\")","v":""},{"$f":"IF(OFFSET(DE104_9!$I$104,ROWS($I$104:I118)-1,COLUMNS($I$104:I118)-1)<>\"\",OFFSET(DE104_9!$I$104,ROWS($I$104:I118)-1,COLUMNS($I$104:I118)-1),\"\")","v":""},{"$f":"IF(OFFSET(DE104_9!$J$104,ROWS($J$104:J118)-1,COLUMNS($J$104:J118)-1)<>\"\",OFFSET(DE104_9!$J$104,ROWS($J$104:J118)-1,COLUMNS($J$104:J118)-1),\"\")","v":""},{"$f":"IF(OFFSET(DE104_9!$K$104,ROWS($K$104:K118)-1,COLUMNS($K$104:K118)-1)<>\"\",OFFSET(DE104_9!$K$104,ROWS($K$104:K118)-1,COLUMNS($K$104:K118)-1),\"\")","v":""},{"$f":"IF(OFFSET(DE104_9!$L$104,ROWS($L$104:L118)-1,COLUMNS($L$104:L118)-1)<>\"\",OFFSET(DE104_9!$L$104,ROWS($L$104:L118)-1,COLUMNS($L$104:L118)-1),\"\")","v":""},{"$f":"IF(OFFSET(DE104_9!$M$104,ROWS($M$104:M118)-1,COLUMNS($M$104:M118)-1)<>\"\",OFFSET(DE104_9!$M$104,ROWS($M$104:M118)-1,COLUMNS($M$104:M118)-1),\"\")","v":""},{"$f":"IF(OFFSET(DE104_9!$N$104,ROWS($N$104:N118)-1,COLUMNS($N$104:N118)-1)<>\"\",OFFSET(DE104_9!$N$104,ROWS($N$104:N118)-1,COLUMNS($N$104:N118)-1),\"\")","v":""},{"$f":"IF(OFFSET(DE104_9!$O$104,ROWS($O$104:O118)-1,COLUMNS($O$104:O118)-1)<>\"\",OFFSET(DE104_9!$O$104,ROWS($O$104:O118)-1,COLUMNS($O$104:O118)-1),\"\")","v":""},{"$f":"IF(OFFSET(DE104_9!$P$104,ROWS($P$104:P118)-1,COLUMNS($P$104:P118)-1)<>\"\",OFFSET(DE104_9!$P$104,ROWS($P$104:P118)-1,COLUMNS($P$104:P118)-1),\"\")","v":""},{"$f":"IF(OFFSET(DE104_9!$Q$104,ROWS($Q$104:Q118)-1,COLUMNS($Q$104:Q118)-1)<>\"\",OFFSET(DE104_9!$Q$104,ROWS($Q$104:Q118)-1,COLUMNS($Q$104:Q118)-1),\"\")","v":""},{"$f":"IF(OFFSET(DE104_9!$R$104,ROWS($R$104:R118)-1,COLUMNS($R$104:R118)-1)<>\"\",OFFSET(DE104_9!$R$104,ROWS($R$104:R118)-1,COLUMNS($R$104:R118)-1),\"\")","v":""},{"$f":"IF(OFFSET(DE104_9!$S$104,ROWS($S$104:S118)-1,COLUMNS($S$104:S118)-1)<>\"\",OFFSET(DE104_9!$S$104,ROWS($S$104:S118)-1,COLUMNS($S$104:S118)-1),\"\")","v":""},{"$f":"IF(OFFSET(DE104_9!$T$104,ROWS($T$104:T118)-1,COLUMNS($T$104:T118)-1)<>\"\",OFFSET(DE104_9!$T$104,ROWS($T$104:T118)-1,COLUMNS($T$104:T118)-1),\"\")","v":""}]
[{"$f":"IF(OFFSET(DE104_9!$C$104,ROWS($C$104:C119)-1,COLUMNS($C$104:C119)-1)<>\"\",OFFSET(DE104_9!$C$104,ROWS($C$104:C119)-1,COLUMNS($C$104:C119)-1),\"\")","v":""},{"$f":"IF(OFFSET(DE104_9!$D$104,ROWS($D$104:D119)-1,COLUMNS($D$104:D119)-1)<>\"\",OFFSET(DE104_9!$D$104,ROWS($D$104:D119)-1,COLUMNS($D$104:D119)-1),\"\")","v":""},{"$f":"IF(OFFSET(DE104_9!$E$104,ROWS($E$104:E119)-1,COLUMNS($E$104:E119)-1)<>\"\",OFFSET(DE104_9!$E$104,ROWS($E$104:E119)-1,COLUMNS($E$104:E119)-1),\"\")","v":""},{"$f":"IF(OFFSET(DE104_9!$F$104,ROWS($F$104:F119)-1,COLUMNS($F$104:F119)-1)<>\"\",OFFSET(DE104_9!$F$104,ROWS($F$104:F119)-1,COLUMNS($F$104:F119)-1),\"\")","v":""},{"$f":"IF(OFFSET(DE104_9!$G$104,ROWS($G$104:G119)-1,COLUMNS($G$104:G119)-1)<>\"\",OFFSET(DE104_9!$G$104,ROWS($G$104:G119)-1,COLUMNS($G$104:G119)-1),\"\")","v":""},{"$f":"IF(OFFSET(DE104_9!$H$104,ROWS($H$104:H119)-1,COLUMNS($H$104:H119)-1)<>\"\",OFFSET(DE104_9!$H$104,ROWS($H$104:H119)-1,COLUMNS($H$104:H119)-1),\"\")","v":""},{"$f":"IF(OFFSET(DE104_9!$I$104,ROWS($I$104:I119)-1,COLUMNS($I$104:I119)-1)<>\"\",OFFSET(DE104_9!$I$104,ROWS($I$104:I119)-1,COLUMNS($I$104:I119)-1),\"\")","v":""},{"$f":"IF(OFFSET(DE104_9!$J$104,ROWS($J$104:J119)-1,COLUMNS($J$104:J119)-1)<>\"\",OFFSET(DE104_9!$J$104,ROWS($J$104:J119)-1,COLUMNS($J$104:J119)-1),\"\")","v":""},{"$f":"IF(OFFSET(DE104_9!$K$104,ROWS($K$104:K119)-1,COLUMNS($K$104:K119)-1)<>\"\",OFFSET(DE104_9!$K$104,ROWS($K$104:K119)-1,COLUMNS($K$104:K119)-1),\"\")","v":""},{"$f":"IF(OFFSET(DE104_9!$L$104,ROWS($L$104:L119)-1,COLUMNS($L$104:L119)-1)<>\"\",OFFSET(DE104_9!$L$104,ROWS($L$104:L119)-1,COLUMNS($L$104:L119)-1),\"\")","v":""},{"$f":"IF(OFFSET(DE104_9!$M$104,ROWS($M$104:M119)-1,COLUMNS($M$104:M119)-1)<>\"\",OFFSET(DE104_9!$M$104,ROWS($M$104:M119)-1,COLUMNS($M$104:M119)-1),\"\")","v":""},{"$f":"IF(OFFSET(DE104_9!$N$104,ROWS($N$104:N119)-1,COLUMNS($N$104:N119)-1)<>\"\",OFFSET(DE104_9!$N$104,ROWS($N$104:N119)-1,COLUMNS($N$104:N119)-1),\"\")","v":""},{"$f":"IF(OFFSET(DE104_9!$O$104,ROWS($O$104:O119)-1,COLUMNS($O$104:O119)-1)<>\"\",OFFSET(DE104_9!$O$104,ROWS($O$104:O119)-1,COLUMNS($O$104:O119)-1),\"\")","v":""},{"$f":"IF(OFFSET(DE104_9!$P$104,ROWS($P$104:P119)-1,COLUMNS($P$104:P119)-1)<>\"\",OFFSET(DE104_9!$P$104,ROWS($P$104:P119)-1,COLUMNS($P$104:P119)-1),\"\")","v":""},{"$f":"IF(OFFSET(DE104_9!$Q$104,ROWS($Q$104:Q119)-1,COLUMNS($Q$104:Q119)-1)<>\"\",OFFSET(DE104_9!$Q$104,ROWS($Q$104:Q119)-1,COLUMNS($Q$104:Q119)-1),\"\")","v":""},{"$f":"IF(OFFSET(DE104_9!$R$104,ROWS($R$104:R119)-1,COLUMNS($R$104:R119)-1)<>\"\",OFFSET(DE104_9!$R$104,ROWS($R$104:R119)-1,COLUMNS($R$104:R119)-1),\"\")","v":""},{"$f":"IF(OFFSET(DE104_9!$S$104,ROWS($S$104:S119)-1,COLUMNS($S$104:S119)-1)<>\"\",OFFSET(DE104_9!$S$104,ROWS($S$104:S119)-1,COLUMNS($S$104:S119)-1),\"\")","v":""},{"$f":"IF(OFFSET(DE104_9!$T$104,ROWS($T$104:T119)-1,COLUMNS($T$104:T119)-1)<>\"\",OFFSET(DE104_9!$T$104,ROWS($T$104:T119)-1,COLUMNS($T$104:T119)-1),\"\")","v":""}]
[{"$f":"IF(OFFSET(DE104_9!$C$104,ROWS($C$104:C120)-1,COLUMNS($C$104:C120)-1)<>\"\",OFFSET(DE104_9!$C$104,ROWS($C$104:C120)-1,COLUMNS($C$104:C120)-1),\"\")","v":""},{"$f":"IF(OFFSET(DE104_9!$D$104,ROWS($D$104:D120)-1,COLUMNS($D$104:D120)-1)<>\"\",OFFSET(DE104_9!$D$104,ROWS($D$104:D120)-1,COLUMNS($D$104:D120)-1),\"\")","v":""},{"$f":"IF(OFFSET(DE104_9!$E$104,ROWS($E$104:E120)-1,COLUMNS($E$104:E120)-1)<>\"\",OFFSET(DE104_9!$E$104,ROWS($E$104:E120)-1,COLUMNS($E$104:E120)-1),\"\")","v":""},{"$f":"IF(OFFSET(DE104_9!$F$104,ROWS($F$104:F120)-1,COLUMNS($F$104:F120)-1)<>\"\",OFFSET(DE104_9!$F$104,ROWS($F$104:F120)-1,COLUMNS($F$104:F120)-1),\"\")","v":""},{"$f":"IF(OFFSET(DE104_9!$G$104,ROWS($G$104:G120)-1,COLUMNS($G$104:G120)-1)<>\"\",OFFSET(DE104_9!$G$104,ROWS($G$104:G120)-1,COLUMNS($G$104:G120)-1),\"\")","v":""},{"$f":"IF(OFFSET(DE104_9!$H$104,ROWS($H$104:H120)-1,COLUMNS($H$104:H120)-1)<>\"\",OFFSET(DE104_9!$H$104,ROWS($H$104:H120)-1,COLUMNS($H$104:H120)-1),\"\")","v":""},{"$f":"IF(OFFSET(DE104_9!$I$104,ROWS($I$104:I120)-1,COLUMNS($I$104:I120)-1)<>\"\",OFFSET(DE104_9!$I$104,ROWS($I$104:I120)-1,COLUMNS($I$104:I120)-1),\"\")","v":""},{"$f":"IF(OFFSET(DE104_9!$J$104,ROWS($J$104:J120)-1,COLUMNS($J$104:J120)-1)<>\"\",OFFSET(DE104_9!$J$104,ROWS($J$104:J120)-1,COLUMNS($J$104:J120)-1),\"\")","v":""},{"$f":"IF(OFFSET(DE104_9!$K$104,ROWS($K$104:K120)-1,COLUMNS($K$104:K120)-1)<>\"\",OFFSET(DE104_9!$K$104,ROWS($K$104:K120)-1,COLUMNS($K$104:K120)-1),\"\")","v":""},{"$f":"IF(OFFSET(DE104_9!$L$104,ROWS($L$104:L120)-1,COLUMNS($L$104:L120)-1)<>\"\",OFFSET(DE104_9!$L$104,ROWS($L$104:L120)-1,COLUMNS($L$104:L120)-1),\"\")","v":""},{"$f":"IF(OFFSET(DE104_9!$M$104,ROWS($M$104:M120)-1,COLUMNS($M$104:M120)-1)<>\"\",OFFSET(DE104_9!$M$104,ROWS($M$104:M120)-1,COLUMNS($M$104:M120)-1),\"\")","v":""},{"$f":"IF(OFFSET(DE104_9!$N$104,ROWS($N$104:N120)-1,COLUMNS($N$104:N120)-1)<>\"\",OFFSET(DE104_9!$N$104,ROWS($N$104:N120)-1,COLUMNS($N$104:N120)-1),\"\")","v":""},{"$f":"IF(OFFSET(DE104_9!$O$104,ROWS($O$104:O120)-1,COLUMNS($O$104:O120)-1)<>\"\",OFFSET(DE104_9!$O$104,ROWS($O$104:O120)-1,COLUMNS($O$104:O120)-1),\"\")","v":""},{"$f":"IF(OFFSET(DE104_9!$P$104,ROWS($P$104:P120)-1,COLUMNS($P$104:P120)-1)<>\"\",OFFSET(DE104_9!$P$104,ROWS($P$104:P120)-1,COLUMNS($P$104:P120)-1),\"\")","v":""},{"$f":"IF(OFFSET(DE104_9!$Q$104,ROWS($Q$104:Q120)-1,COLUMNS($Q$104:Q120)-1)<>\"\",OFFSET(DE104_9!$Q$104,ROWS($Q$104:Q120)-1,COLUMNS($Q$104:Q120)-1),\"\")","v":""},{"$f":"IF(OFFSET(DE104_9!$R$104,ROWS($R$104:R120)-1,COLUMNS($R$104:R120)-1)<>\"\",OFFSET(DE104_9!$R$104,ROWS($R$104:R120)-1,COLUMNS($R$104:R120)-1),\"\")","v":""},{"$f":"IF(OFFSET(DE104_9!$S$104,ROWS($S$104:S120)-1,COLUMNS($S$104:S120)-1)<>\"\",OFFSET(DE104_9!$S$104,ROWS($S$104:S120)-1,COLUMNS($S$104:S120)-1),\"\")","v":""},{"$f":"IF(OFFSET(DE104_9!$T$104,ROWS($T$104:T120)-1,COLUMNS($T$104:T120)-1)<>\"\",OFFSET(DE104_9!$T$104,ROWS($T$104:T120)-1,COLUMNS($T$104:T120)-1),\"\")","v":""}]
[{"$f":"IF(OFFSET(DE104_9!$C$104,ROWS($C$104:C121)-1,COLUMNS($C$104:C121)-1)<>\"\",OFFSET(DE104_9!$C$104,ROWS($C$104:C121)-1,COLUMNS($C$104:C121)-1),\"\")","v":""},{"$f":"IF(OFFSET(DE104_9!$D$104,ROWS($D$104:D121)-1,COLUMNS($D$104:D121)-1)<>\"\",OFFSET(DE104_9!$D$104,ROWS($D$104:D121)-1,COLUMNS($D$104:D121)-1),\"\")","v":""},{"$f":"IF(OFFSET(DE104_9!$E$104,ROWS($E$104:E121)-1,COLUMNS($E$104:E121)-1)<>\"\",OFFSET(DE104_9!$E$104,ROWS($E$104:E121)-1,COLUMNS($E$104:E121)-1),\"\")","v":""},{"$f":"IF(OFFSET(DE104_9!$F$104,ROWS($F$104:F121)-1,COLUMNS($F$104:F121)-1)<>\"\",OFFSET(DE104_9!$F$104,ROWS($F$104:F121)-1,COLUMNS($F$104:F121)-1),\"\")","v":""},{"$f":"IF(OFFSET(DE104_9!$G$104,ROWS($G$104:G121)-1,COLUMNS($G$104:G121)-1)<>\"\",OFFSET(DE104_9!$G$104,ROWS($G$104:G121)-1,COLUMNS($G$104:G121)-1),\"\")","v":""},{"$f":"IF(OFFSET(DE104_9!$H$104,ROWS($H$104:H121)-1,COLUMNS($H$104:H121)-1)<>\"\",OFFSET(DE104_9!$H$104,ROWS($H$104:H121)-1,COLUMNS($H$104:H121)-1),\"\")","v":""},{"$f":"IF(OFFSET(DE104_9!$I$104,ROWS($I$104:I121)-1,COLUMNS($I$104:I121)-1)<>\"\",OFFSET(DE104_9!$I$104,ROWS($I$104:I121)-1,COLUMNS($I$104:I121)-1),\"\")","v":""},{"$f":"IF(OFFSET(DE104_9!$J$104,ROWS($J$104:J121)-1,COLUMNS($J$104:J121)-1)<>\"\",OFFSET(DE104_9!$J$104,ROWS($J$104:J121)-1,COLUMNS($J$104:J121)-1),\"\")","v":""},{"$f":"IF(OFFSET(DE104_9!$K$104,ROWS($K$104:K121)-1,COLUMNS($K$104:K121)-1)<>\"\",OFFSET(DE104_9!$K$104,ROWS($K$104:K121)-1,COLUMNS($K$104:K121)-1),\"\")","v":""},{"$f":"IF(OFFSET(DE104_9!$L$104,ROWS($L$104:L121)-1,COLUMNS($L$104:L121)-1)<>\"\",OFFSET(DE104_9!$L$104,ROWS($L$104:L121)-1,COLUMNS($L$104:L121)-1),\"\")","v":""},{"$f":"IF(OFFSET(DE104_9!$M$104,ROWS($M$104:M121)-1,COLUMNS($M$104:M121)-1)<>\"\",OFFSET(DE104_9!$M$104,ROWS($M$104:M121)-1,COLUMNS($M$104:M121)-1),\"\")","v":""},{"$f":"IF(OFFSET(DE104_9!$N$104,ROWS($N$104:N121)-1,COLUMNS($N$104:N121)-1)<>\"\",OFFSET(DE104_9!$N$104,ROWS($N$104:N121)-1,COLUMNS($N$104:N121)-1),\"\")","v":""},{"$f":"IF(OFFSET(DE104_9!$O$104,ROWS($O$104:O121)-1,COLUMNS($O$104:O121)-1)<>\"\",OFFSET(DE104_9!$O$104,ROWS($O$104:O121)-1,COLUMNS($O$104:O121)-1),\"\")","v":""},{"$f":"IF(OFFSET(DE104_9!$P$104,ROWS($P$104:P121)-1,COLUMNS($P$104:P121)-1)<>\"\",OFFSET(DE104_9!$P$104,ROWS($P$104:P121)-1,COLUMNS($P$104:P121)-1),\"\")","v":""},{"$f":"IF(OFFSET(DE104_9!$Q$104,ROWS($Q$104:Q121)-1,COLUMNS($Q$104:Q121)-1)<>\"\",OFFSET(DE104_9!$Q$104,ROWS($Q$104:Q121)-1,COLUMNS($Q$104:Q121)-1),\"\")","v":""},{"$f":"IF(OFFSET(DE104_9!$R$104,ROWS($R$104:R121)-1,COLUMNS($R$104:R121)-1)<>\"\",OFFSET(DE104_9!$R$104,ROWS($R$104:R121)-1,COLUMNS($R$104:R121)-1),\"\")","v":""},{"$f":"IF(OFFSET(DE104_9!$S$104,ROWS($S$104:S121)-1,COLUMNS($S$104:S121)-1)<>\"\",OFFSET(DE104_9!$S$104,ROWS($S$104:S121)-1,COLUMNS($S$104:S121)-1),\"\")","v":""},{"$f":"IF(OFFSET(DE104_9!$T$104,ROWS($T$104:T121)-1,COLUMNS($T$104:T121)-1)<>\"\",OFFSET(DE104_9!$T$104,ROWS($T$104:T121)-1,COLUMNS($T$104:T121)-1),\"\")","v":""}]
[{"$f":"IF(OFFSET(DE104_9!$C$104,ROWS($C$104:C122)-1,COLUMNS($C$104:C122)-1)<>\"\",OFFSET(DE104_9!$C$104,ROWS($C$104:C122)-1,COLUMNS($C$104:C122)-1),\"\")","v":""},{"$f":"IF(OFFSET(DE104_9!$D$104,ROWS($D$104:D122)-1,COLUMNS($D$104:D122)-1)<>\"\",OFFSET(DE104_9!$D$104,ROWS($D$104:D122)-1,COLUMNS($D$104:D122)-1),\"\")","v":""},{"$f":"IF(OFFSET(DE104_9!$E$104,ROWS($E$104:E122)-1,COLUMNS($E$104:E122)-1)<>\"\",OFFSET(DE104_9!$E$104,ROWS($E$104:E122)-1,COLUMNS($E$104:E122)-1),\"\")","v":""},{"$f":"IF(OFFSET(DE104_9!$F$104,ROWS($F$104:F122)-1,COLUMNS($F$104:F122)-1)<>\"\",OFFSET(DE104_9!$F$104,ROWS($F$104:F122)-1,COLUMNS($F$104:F122)-1),\"\")","v":""},{"$f":"IF(OFFSET(DE104_9!$G$104,ROWS($G$104:G122)-1,COLUMNS($G$104:G122)-1)<>\"\",OFFSET(DE104_9!$G$104,ROWS($G$104:G122)-1,COLUMNS($G$104:G122)-1),\"\")","v":""},{"$f":"IF(OFFSET(DE104_9!$H$104,ROWS($H$104:H122)-1,COLUMNS($H$104:H122)-1)<>\"\",OFFSET(DE104_9!$H$104,ROWS($H$104:H122)-1,COLUMNS($H$104:H122)-1),\"\")","v":""},{"$f":"IF(OFFSET(DE104_9!$I$104,ROWS($I$104:I122)-1,COLUMNS($I$104:I122)-1)<>\"\",OFFSET(DE104_9!$I$104,ROWS($I$104:I122)-1,COLUMNS($I$104:I122)-1),\"\")","v":""},{"$f":"IF(OFFSET(DE104_9!$J$104,ROWS($J$104:J122)-1,COLUMNS($J$104:J122)-1)<>\"\",OFFSET(DE104_9!$J$104,ROWS($J$104:J122)-1,COLUMNS($J$104:J122)-1),\"\")","v":""},{"$f":"IF(OFFSET(DE104_9!$K$104,ROWS($K$104:K122)-1,COLUMNS($K$104:K122)-1)<>\"\",OFFSET(DE104_9!$K$104,ROWS($K$104:K122)-1,COLUMNS($K$104:K122)-1),\"\")","v":""},{"$f":"IF(OFFSET(DE104_9!$L$104,ROWS($L$104:L122)-1,COLUMNS($L$104:L122)-1)<>\"\",OFFSET(DE104_9!$L$104,ROWS($L$104:L122)-1,COLUMNS($L$104:L122)-1),\"\")","v":""},{"$f":"IF(OFFSET(DE104_9!$M$104,ROWS($M$104:M122)-1,COLUMNS($M$104:M122)-1)<>\"\",OFFSET(DE104_9!$M$104,ROWS($M$104:M122)-1,COLUMNS($M$104:M122)-1),\"\")","v":""},{"$f":"IF(OFFSET(DE104_9!$N$104,ROWS($N$104:N122)-1,COLUMNS($N$104:N122)-1)<>\"\",OFFSET(DE104_9!$N$104,ROWS($N$104:N122)-1,COLUMNS($N$104:N122)-1),\"\")","v":""},{"$f":"IF(OFFSET(DE104_9!$O$104,ROWS($O$104:O122)-1,COLUMNS($O$104:O122)-1)<>\"\",OFFSET(DE104_9!$O$104,ROWS($O$104:O122)-1,COLUMNS($O$104:O122)-1),\"\")","v":""},{"$f":"IF(OFFSET(DE104_9!$P$104,ROWS($P$104:P122)-1,COLUMNS($P$104:P122)-1)<>\"\",OFFSET(DE104_9!$P$104,ROWS($P$104:P122)-1,COLUMNS($P$104:P122)-1),\"\")","v":""},{"$f":"IF(OFFSET(DE104_9!$Q$104,ROWS($Q$104:Q122)-1,COLUMNS($Q$104:Q122)-1)<>\"\",OFFSET(DE104_9!$Q$104,ROWS($Q$104:Q122)-1,COLUMNS($Q$104:Q122)-1),\"\")","v":""},{"$f":"IF(OFFSET(DE104_9!$R$104,ROWS($R$104:R122)-1,COLUMNS($R$104:R122)-1)<>\"\",OFFSET(DE104_9!$R$104,ROWS($R$104:R122)-1,COLUMNS($R$104:R122)-1),\"\")","v":""},{"$f":"IF(OFFSET(DE104_9!$S$104,ROWS($S$104:S122)-1,COLUMNS($S$104:S122)-1)<>\"\",OFFSET(DE104_9!$S$104,ROWS($S$104:S122)-1,COLUMNS($S$104:S122)-1),\"\")","v":""},{"$f":"IF(OFFSET(DE104_9!$T$104,ROWS($T$104:T122)-1,COLUMNS($T$104:T122)-1)<>\"\",OFFSET(DE104_9!$T$104,ROWS($T$104:T122)-1,COLUMNS($T$104:T122)-1),\"\")","v":""}]
[{"$f":"IF(OFFSET(DE104_9!$C$104,ROWS($C$104:C123)-1,COLUMNS($C$104:C123)-1)<>\"\",OFFSET(DE104_9!$C$104,ROWS($C$104:C123)-1,COLUMNS($C$104:C123)-1),\"\")","v":""},{"$f":"IF(OFFSET(DE104_9!$D$104,ROWS($D$104:D123)-1,COLUMNS($D$104:D123)-1)<>\"\",OFFSET(DE104_9!$D$104,ROWS($D$104:D123)-1,COLUMNS($D$104:D123)-1),\"\")","v":""},{"$f":"IF(OFFSET(DE104_9!$E$104,ROWS($E$104:E123)-1,COLUMNS($E$104:E123)-1)<>\"\",OFFSET(DE104_9!$E$104,ROWS($E$104:E123)-1,COLUMNS($E$104:E123)-1),\"\")","v":""},{"$f":"IF(OFFSET(DE104_9!$F$104,ROWS($F$104:F123)-1,COLUMNS($F$104:F123)-1)<>\"\",OFFSET(DE104_9!$F$104,ROWS($F$104:F123)-1,COLUMNS($F$104:F123)-1),\"\")","v":""},{"$f":"IF(OFFSET(DE104_9!$G$104,ROWS($G$104:G123)-1,COLUMNS($G$104:G123)-1)<>\"\",OFFSET(DE104_9!$G$104,ROWS($G$104:G123)-1,COLUMNS($G$104:G123)-1),\"\")","v":""},{"$f":"IF(OFFSET(DE104_9!$H$104,ROWS($H$104:H123)-1,COLUMNS($H$104:H123)-1)<>\"\",OFFSET(DE104_9!$H$104,ROWS($H$104:H123)-1,COLUMNS($H$104:H123)-1),\"\")","v":""},{"$f":"IF(OFFSET(DE104_9!$I$104,ROWS($I$104:I123)-1,COLUMNS($I$104:I123)-1)<>\"\",OFFSET(DE104_9!$I$104,ROWS($I$104:I123)-1,COLUMNS($I$104:I123)-1),\"\")","v":""},{"$f":"IF(OFFSET(DE104_9!$J$104,ROWS($J$104:J123)-1,COLUMNS($J$104:J123)-1)<>\"\",OFFSET(DE104_9!$J$104,ROWS($J$104:J123)-1,COLUMNS($J$104:J123)-1),\"\")","v":""},{"$f":"IF(OFFSET(DE104_9!$K$104,ROWS($K$104:K123)-1,COLUMNS($K$104:K123)-1)<>\"\",OFFSET(DE104_9!$K$104,ROWS($K$104:K123)-1,COLUMNS($K$104:K123)-1),\"\")","v":""},{"$f":"IF(OFFSET(DE104_9!$L$104,ROWS($L$104:L123)-1,COLUMNS($L$104:L123)-1)<>\"\",OFFSET(DE104_9!$L$104,ROWS($L$104:L123)-1,COLUMNS($L$104:L123)-1),\"\")","v":""},{"$f":"IF(OFFSET(DE104_9!$M$104,ROWS($M$104:M123)-1,COLUMNS($M$104:M123)-1)<>\"\",OFFSET(DE104_9!$M$104,ROWS($M$104:M123)-1,COLUMNS($M$104:M123)-1),\"\")","v":""},{"$f":"IF(OFFSET(DE104_9!$N$104,ROWS($N$104:N123)-1,COLUMNS($N$104:N123)-1)<>\"\",OFFSET(DE104_9!$N$104,ROWS($N$104:N123)-1,COLUMNS($N$104:N123)-1),\"\")","v":""},{"$f":"IF(OFFSET(DE104_9!$O$104,ROWS($O$104:O123)-1,COLUMNS($O$104:O123)-1)<>\"\",OFFSET(DE104_9!$O$104,ROWS($O$104:O123)-1,COLUMNS($O$104:O123)-1),\"\")","v":""},{"$f":"IF(OFFSET(DE104_9!$P$104,ROWS($P$104:P123)-1,COLUMNS($P$104:P123)-1)<>\"\",OFFSET(DE104_9!$P$104,ROWS($P$104:P123)-1,COLUMNS($P$104:P123)-1),\"\")","v":""},{"$f":"IF(OFFSET(DE104_9!$Q$104,ROWS($Q$104:Q123)-1,COLUMNS($Q$104:Q123)-1)<>\"\",OFFSET(DE104_9!$Q$104,ROWS($Q$104:Q123)-1,COLUMNS($Q$104:Q123)-1),\"\")","v":""},{"$f":"IF(OFFSET(DE104_9!$R$104,ROWS($R$104:R123)-1,COLUMNS($R$104:R123)-1)<>\"\",OFFSET(DE104_9!$R$104,ROWS($R$104:R123)-1,COLUMNS($R$104:R123)-1),\"\")","v":""},{"$f":"IF(OFFSET(DE104_9!$S$104,ROWS($S$104:S123)-1,COLUMNS($S$104:S123)-1)<>\"\",OFFSET(DE104_9!$S$104,ROWS($S$104:S123)-1,COLUMNS($S$104:S123)-1),\"\")","v":""},{"$f":"IF(OFFSET(DE104_9!$T$104,ROWS($T$104:T123)-1,COLUMNS($T$104:T123)-1)<>\"\",OFFSET(DE104_9!$T$104,ROWS($T$104:T123)-1,COLUMNS($T$104:T123)-1),\"\")","v":""}]
[{"$f":"IF(OFFSET(DE104_9!$C$104,ROWS($C$104:C124)-1,COLUMNS($C$104:C124)-1)<>\"\",OFFSET(DE104_9!$C$104,ROWS($C$104:C124)-1,COLUMNS($C$104:C124)-1),\"\")","v":""},{"$f":"IF(OFFSET(DE104_9!$D$104,ROWS($D$104:D124)-1,COLUMNS($D$104:D124)-1)<>\"\",OFFSET(DE104_9!$D$104,ROWS($D$104:D124)-1,COLUMNS($D$104:D124)-1),\"\")","v":""},{"$f":"IF(OFFSET(DE104_9!$E$104,ROWS($E$104:E124)-1,COLUMNS($E$104:E124)-1)<>\"\",OFFSET(DE104_9!$E$104,ROWS($E$104:E124)-1,COLUMNS($E$104:E124)-1),\"\")","v":""},{"$f":"IF(OFFSET(DE104_9!$F$104,ROWS($F$104:F124)-1,COLUMNS($F$104:F124)-1)<>\"\",OFFSET(DE104_9!$F$104,ROWS($F$104:F124)-1,COLUMNS($F$104:F124)-1),\"\")","v":""},{"$f":"IF(OFFSET(DE104_9!$G$104,ROWS($G$104:G124)-1,COLUMNS($G$104:G124)-1)<>\"\",OFFSET(DE104_9!$G$104,ROWS($G$104:G124)-1,COLUMNS($G$104:G124)-1),\"\")","v":""},{"$f":"IF(OFFSET(DE104_9!$H$104,ROWS($H$104:H124)-1,COLUMNS($H$104:H124)-1)<>\"\",OFFSET(DE104_9!$H$104,ROWS($H$104:H124)-1,COLUMNS($H$104:H124)-1),\"\")","v":""},{"$f":"IF(OFFSET(DE104_9!$I$104,ROWS($I$104:I124)-1,COLUMNS($I$104:I124)-1)<>\"\",OFFSET(DE104_9!$I$104,ROWS($I$104:I124)-1,COLUMNS($I$104:I124)-1),\"\")","v":""},{"$f":"IF(OFFSET(DE104_9!$J$104,ROWS($J$104:J124)-1,COLUMNS($J$104:J124)-1)<>\"\",OFFSET(DE104_9!$J$104,ROWS($J$104:J124)-1,COLUMNS($J$104:J124)-1),\"\")","v":""},{"$f":"IF(OFFSET(DE104_9!$K$104,ROWS($K$104:K124)-1,COLUMNS($K$104:K124)-1)<>\"\",OFFSET(DE104_9!$K$104,ROWS($K$104:K124)-1,COLUMNS($K$104:K124)-1),\"\")","v":""},{"$f":"IF(OFFSET(DE104_9!$L$104,ROWS($L$104:L124)-1,COLUMNS($L$104:L124)-1)<>\"\",OFFSET(DE104_9!$L$104,ROWS($L$104:L124)-1,COLUMNS($L$104:L124)-1),\"\")","v":""},{"$f":"IF(OFFSET(DE104_9!$M$104,ROWS($M$104:M124)-1,COLUMNS($M$104:M124)-1)<>\"\",OFFSET(DE104_9!$M$104,ROWS($M$104:M124)-1,COLUMNS($M$104:M124)-1),\"\")","v":""},{"$f":"IF(OFFSET(DE104_9!$N$104,ROWS($N$104:N124)-1,COLUMNS($N$104:N124)-1)<>\"\",OFFSET(DE104_9!$N$104,ROWS($N$104:N124)-1,COLUMNS($N$104:N124)-1),\"\")","v":""},{"$f":"IF(OFFSET(DE104_9!$O$104,ROWS($O$104:O124)-1,COLUMNS($O$104:O124)-1)<>\"\",OFFSET(DE104_9!$O$104,ROWS($O$104:O124)-1,COLUMNS($O$104:O124)-1),\"\")","v":""},{"$f":"IF(OFFSET(DE104_9!$P$104,ROWS($P$104:P124)-1,COLUMNS($P$104:P124)-1)<>\"\",OFFSET(DE104_9!$P$104,ROWS($P$104:P124)-1,COLUMNS($P$104:P124)-1),\"\")","v":""},{"$f":"IF(OFFSET(DE104_9!$Q$104,ROWS($Q$104:Q124)-1,COLUMNS($Q$104:Q124)-1)<>\"\",OFFSET(DE104_9!$Q$104,ROWS($Q$104:Q124)-1,COLUMNS($Q$104:Q124)-1),\"\")","v":""},{"$f":"IF(OFFSET(DE104_9!$R$104,ROWS($R$104:R124)-1,COLUMNS($R$104:R124)-1)<>\"\",OFFSET(DE104_9!$R$104,ROWS($R$104:R124)-1,COLUMNS($R$104:R124)-1),\"\")","v":""},{"$f":"IF(OFFSET(DE104_9!$S$104,ROWS($S$104:S124)-1,COLUMNS($S$104:S124)-1)<>\"\",OFFSET(DE104_9!$S$104,ROWS($S$104:S124)-1,COLUMNS($S$104:S124)-1),\"\")","v":""},{"$f":"IF(OFFSET(DE104_9!$T$104,ROWS($T$104:T124)-1,COLUMNS($T$104:T124)-1)<>\"\",OFFSET(DE104_9!$T$104,ROWS($T$104:T124)-1,COLUMNS($T$104:T124)-1),\"\")","v":""}]
[{"$f":"IF(OFFSET(DE104_9!$C$104,ROWS($C$104:C125)-1,COLUMNS($C$104:C125)-1)<>\"\",OFFSET(DE104_9!$C$104,ROWS($C$104:C125)-1,COLUMNS($C$104:C125)-1),\"\")","v":" "},{"$f":"IF(OFFSET(DE104_9!$D$104,ROWS($D$104:D125)-1,COLUMNS($D$104:D125)-1)<>\"\",OFFSET(DE104_9!$D$104,ROWS($D$104:D125)-1,COLUMNS($D$104:D125)-1),\"\")","v":""},{"$f":"IF(OFFSET(DE104_9!$E$104,ROWS($E$104:E125)-1,COLUMNS($E$104:E125)-1)<>\"\",OFFSET(DE104_9!$E$104,ROWS($E$104:E125)-1,COLUMNS($E$104:E125)-1),\"\")","v":""},{"$f":"IF(OFFSET(DE104_9!$F$104,ROWS($F$104:F125)-1,COLUMNS($F$104:F125)-1)<>\"\",OFFSET(DE104_9!$F$104,ROWS($F$104:F125)-1,COLUMNS($F$104:F125)-1),\"\")","v":""},{"$f":"IF(OFFSET(DE104_9!$G$104,ROWS($G$104:G125)-1,COLUMNS($G$104:G125)-1)<>\"\",OFFSET(DE104_9!$G$104,ROWS($G$104:G125)-1,COLUMNS($G$104:G125)-1),\"\")","v":""},{"$f":"IF(OFFSET(DE104_9!$H$104,ROWS($H$104:H125)-1,COLUMNS($H$104:H125)-1)<>\"\",OFFSET(DE104_9!$H$104,ROWS($H$104:H125)-1,COLUMNS($H$104:H125)-1),\"\")","v":""},{"$f":"IF(OFFSET(DE104_9!$I$104,ROWS($I$104:I125)-1,COLUMNS($I$104:I125)-1)<>\"\",OFFSET(DE104_9!$I$104,ROWS($I$104:I125)-1,COLUMNS($I$104:I125)-1),\"\")","v":""},{"$f":"IF(OFFSET(DE104_9!$J$104,ROWS($J$104:J125)-1,COLUMNS($J$104:J125)-1)<>\"\",OFFSET(DE104_9!$J$104,ROWS($J$104:J125)-1,COLUMNS($J$104:J125)-1),\"\")","v":""},{"$f":"IF(OFFSET(DE104_9!$K$104,ROWS($K$104:K125)-1,COLUMNS($K$104:K125)-1)<>\"\",OFFSET(DE104_9!$K$104,ROWS($K$104:K125)-1,COLUMNS($K$104:K125)-1),\"\")","v":""},{"$f":"IF(OFFSET(DE104_9!$L$104,ROWS($L$104:L125)-1,COLUMNS($L$104:L125)-1)<>\"\",OFFSET(DE104_9!$L$104,ROWS($L$104:L125)-1,COLUMNS($L$104:L125)-1),\"\")","v":""},{"$f":"IF(OFFSET(DE104_9!$M$104,ROWS($M$104:M125)-1,COLUMNS($M$104:M125)-1)<>\"\",OFFSET(DE104_9!$M$104,ROWS($M$104:M125)-1,COLUMNS($M$104:M125)-1),\"\")","v":""},{"$f":"IF(OFFSET(DE104_9!$N$104,ROWS($N$104:N125)-1,COLUMNS($N$104:N125)-1)<>\"\",OFFSET(DE104_9!$N$104,ROWS($N$104:N125)-1,COLUMNS($N$104:N125)-1),\"\")","v":""},{"$f":"IF(OFFSET(DE104_9!$O$104,ROWS($O$104:O125)-1,COLUMNS($O$104:O125)-1)<>\"\",OFFSET(DE104_9!$O$104,ROWS($O$104:O125)-1,COLUMNS($O$104:O125)-1),\"\")","v":""},{"$f":"IF(OFFSET(DE104_9!$P$104,ROWS($P$104:P125)-1,COLUMNS($P$104:P125)-1)<>\"\",OFFSET(DE104_9!$P$104,ROWS($P$104:P125)-1,COLUMNS($P$104:P125)-1),\"\")","v":""},{"$f":"IF(OFFSET(DE104_9!$Q$104,ROWS($Q$104:Q125)-1,COLUMNS($Q$104:Q125)-1)<>\"\",OFFSET(DE104_9!$Q$104,ROWS($Q$104:Q125)-1,COLUMNS($Q$104:Q125)-1),\"\")","v":""},{"$f":"IF(OFFSET(DE104_9!$R$104,ROWS($R$104:R125)-1,COLUMNS($R$104:R125)-1)<>\"\",OFFSET(DE104_9!$R$104,ROWS($R$104:R125)-1,COLUMNS($R$104:R125)-1),\"\")","v":""},{"$f":"IF(OFFSET(DE104_9!$S$104,ROWS($S$104:S125)-1,COLUMNS($S$104:S125)-1)<>\"\",OFFSET(DE104_9!$S$104,ROWS($S$104:S125)-1,COLUMNS($S$104:S125)-1),\"\")","v":""},{"$f":"IF(OFFSET(DE104_9!$T$104,ROWS($T$104:T125)-1,COLUMNS($T$104:T125)-1)<>\"\",OFFSET(DE104_9!$T$104,ROWS($T$104:T125)-1,COLUMNS($T$104:T125)-1),\"\")","v":""}]
[{"$f":"IF(OFFSET(DE104_9!$C$104,ROWS($C$104:C126)-1,COLUMNS($C$104:C126)-1)<>\"\",OFFSET(DE104_9!$C$104,ROWS($C$104:C126)-1,COLUMNS($C$104:C126)-1),\"\")","v":""},{"$f":"IF(OFFSET(DE104_9!$D$104,ROWS($D$104:D126)-1,COLUMNS($D$104:D126)-1)<>\"\",OFFSET(DE104_9!$D$104,ROWS($D$104:D126)-1,COLUMNS($D$104:D126)-1),\"\")","v":""},{"$f":"IF(OFFSET(DE104_9!$E$104,ROWS($E$104:E126)-1,COLUMNS($E$104:E126)-1)<>\"\",OFFSET(DE104_9!$E$104,ROWS($E$104:E126)-1,COLUMNS($E$104:E126)-1),\"\")","v":""},{"$f":"IF(OFFSET(DE104_9!$F$104,ROWS($F$104:F126)-1,COLUMNS($F$104:F126)-1)<>\"\",OFFSET(DE104_9!$F$104,ROWS($F$104:F126)-1,COLUMNS($F$104:F126)-1),\"\")","v":""},{"$f":"IF(OFFSET(DE104_9!$G$104,ROWS($G$104:G126)-1,COLUMNS($G$104:G126)-1)<>\"\",OFFSET(DE104_9!$G$104,ROWS($G$104:G126)-1,COLUMNS($G$104:G126)-1),\"\")","v":""},{"$f":"IF(OFFSET(DE104_9!$H$104,ROWS($H$104:H126)-1,COLUMNS($H$104:H126)-1)<>\"\",OFFSET(DE104_9!$H$104,ROWS($H$104:H126)-1,COLUMNS($H$104:H126)-1),\"\")","v":""},{"$f":"IF(OFFSET(DE104_9!$I$104,ROWS($I$104:I126)-1,COLUMNS($I$104:I126)-1)<>\"\",OFFSET(DE104_9!$I$104,ROWS($I$104:I126)-1,COLUMNS($I$104:I126)-1),\"\")","v":""},{"$f":"IF(OFFSET(DE104_9!$J$104,ROWS($J$104:J126)-1,COLUMNS($J$104:J126)-1)<>\"\",OFFSET(DE104_9!$J$104,ROWS($J$104:J126)-1,COLUMNS($J$104:J126)-1),\"\")","v":""},{"$f":"IF(OFFSET(DE104_9!$K$104,ROWS($K$104:K126)-1,COLUMNS($K$104:K126)-1)<>\"\",OFFSET(DE104_9!$K$104,ROWS($K$104:K126)-1,COLUMNS($K$104:K126)-1),\"\")","v":""},{"$f":"IF(OFFSET(DE104_9!$L$104,ROWS($L$104:L126)-1,COLUMNS($L$104:L126)-1)<>\"\",OFFSET(DE104_9!$L$104,ROWS($L$104:L126)-1,COLUMNS($L$104:L126)-1),\"\")","v":""},{"$f":"IF(OFFSET(DE104_9!$M$104,ROWS($M$104:M126)-1,COLUMNS($M$104:M126)-1)<>\"\",OFFSET(DE104_9!$M$104,ROWS($M$104:M126)-1,COLUMNS($M$104:M126)-1),\"\")","v":""},{"$f":"IF(OFFSET(DE104_9!$N$104,ROWS($N$104:N126)-1,COLUMNS($N$104:N126)-1)<>\"\",OFFSET(DE104_9!$N$104,ROWS($N$104:N126)-1,COLUMNS($N$104:N126)-1),\"\")","v":""},{"$f":"IF(OFFSET(DE104_9!$O$104,ROWS($O$104:O126)-1,COLUMNS($O$104:O126)-1)<>\"\",OFFSET(DE104_9!$O$104,ROWS($O$104:O126)-1,COLUMNS($O$104:O126)-1),\"\")","v":""},{"$f":"IF(OFFSET(DE104_9!$P$104,ROWS($P$104:P126)-1,COLUMNS($P$104:P126)-1)<>\"\",OFFSET(DE104_9!$P$104,ROWS($P$104:P126)-1,COLUMNS($P$104:P126)-1),\"\")","v":""},{"$f":"IF(OFFSET(DE104_9!$Q$104,ROWS($Q$104:Q126)-1,COLUMNS($Q$104:Q126)-1)<>\"\",OFFSET(DE104_9!$Q$104,ROWS($Q$104:Q126)-1,COLUMNS($Q$104:Q126)-1),\"\")","v":""},{"$f":"IF(OFFSET(DE104_9!$R$104,ROWS($R$104:R126)-1,COLUMNS($R$104:R126)-1)<>\"\",OFFSET(DE104_9!$R$104,ROWS($R$104:R126)-1,COLUMNS($R$104:R126)-1),\"\")","v":""},{"$f":"IF(OFFSET(DE104_9!$S$104,ROWS($S$104:S126)-1,COLUMNS($S$104:S126)-1)<>\"\",OFFSET(DE104_9!$S$104,ROWS($S$104:S126)-1,COLUMNS($S$104:S126)-1),\"\")","v":""},{"$f":"IF(OFFSET(DE104_9!$T$104,ROWS($T$104:T126)-1,COLUMNS($T$104:T126)-1)<>\"\",OFFSET(DE104_9!$T$104,ROWS($T$104:T126)-1,COLUMNS($T$104:T126)-1),\"\")","v":""}]
[{"$f":"IF(OFFSET(DE104_9!$C$104,ROWS($C$104:C127)-1,COLUMNS($C$104:C127)-1)<>\"\",OFFSET(DE104_9!$C$104,ROWS($C$104:C127)-1,COLUMNS($C$104:C127)-1),\"\")","v":""},{"$f":"IF(OFFSET(DE104_9!$D$104,ROWS($D$104:D127)-1,COLUMNS($D$104:D127)-1)<>\"\",OFFSET(DE104_9!$D$104,ROWS($D$104:D127)-1,COLUMNS($D$104:D127)-1),\"\")","v":""},{"$f":"IF(OFFSET(DE104_9!$E$104,ROWS($E$104:E127)-1,COLUMNS($E$104:E127)-1)<>\"\",OFFSET(DE104_9!$E$104,ROWS($E$104:E127)-1,COLUMNS($E$104:E127)-1),\"\")","v":""},{"$f":"IF(OFFSET(DE104_9!$F$104,ROWS($F$104:F127)-1,COLUMNS($F$104:F127)-1)<>\"\",OFFSET(DE104_9!$F$104,ROWS($F$104:F127)-1,COLUMNS($F$104:F127)-1),\"\")","v":""},{"$f":"IF(OFFSET(DE104_9!$G$104,ROWS($G$104:G127)-1,COLUMNS($G$104:G127)-1)<>\"\",OFFSET(DE104_9!$G$104,ROWS($G$104:G127)-1,COLUMNS($G$104:G127)-1),\"\")","v":""},{"$f":"IF(OFFSET(DE104_9!$H$104,ROWS($H$104:H127)-1,COLUMNS($H$104:H127)-1)<>\"\",OFFSET(DE104_9!$H$104,ROWS($H$104:H127)-1,COLUMNS($H$104:H127)-1),\"\")","v":""},{"$f":"IF(OFFSET(DE104_9!$I$104,ROWS($I$104:I127)-1,COLUMNS($I$104:I127)-1)<>\"\",OFFSET(DE104_9!$I$104,ROWS($I$104:I127)-1,COLUMNS($I$104:I127)-1),\"\")","v":""},{"$f":"IF(OFFSET(DE104_9!$J$104,ROWS($J$104:J127)-1,COLUMNS($J$104:J127)-1)<>\"\",OFFSET(DE104_9!$J$104,ROWS($J$104:J127)-1,COLUMNS($J$104:J127)-1),\"\")","v":""},{"$f":"IF(OFFSET(DE104_9!$K$104,ROWS($K$104:K127)-1,COLUMNS($K$104:K127)-1)<>\"\",OFFSET(DE104_9!$K$104,ROWS($K$104:K127)-1,COLUMNS($K$104:K127)-1),\"\")","v":""},{"$f":"IF(OFFSET(DE104_9!$L$104,ROWS($L$104:L127)-1,COLUMNS($L$104:L127)-1)<>\"\",OFFSET(DE104_9!$L$104,ROWS($L$104:L127)-1,COLUMNS($L$104:L127)-1),\"\")","v":""},{"$f":"IF(OFFSET(DE104_9!$M$104,ROWS($M$104:M127)-1,COLUMNS($M$104:M127)-1)<>\"\",OFFSET(DE104_9!$M$104,ROWS($M$104:M127)-1,COLUMNS($M$104:M127)-1),\"\")","v":""},{"$f":"IF(OFFSET(DE104_9!$N$104,ROWS($N$104:N127)-1,COLUMNS($N$104:N127)-1)<>\"\",OFFSET(DE104_9!$N$104,ROWS($N$104:N127)-1,COLUMNS($N$104:N127)-1),\"\")","v":""},{"$f":"IF(OFFSET(DE104_9!$O$104,ROWS($O$104:O127)-1,COLUMNS($O$104:O127)-1)<>\"\",OFFSET(DE104_9!$O$104,ROWS($O$104:O127)-1,COLUMNS($O$104:O127)-1),\"\")","v":""},{"$f":"IF(OFFSET(DE104_9!$P$104,ROWS($P$104:P127)-1,COLUMNS($P$104:P127)-1)<>\"\",OFFSET(DE104_9!$P$104,ROWS($P$104:P127)-1,COLUMNS($P$104:P127)-1),\"\")","v":""},{"$f":"IF(OFFSET(DE104_9!$Q$104,ROWS($Q$104:Q127)-1,COLUMNS($Q$104:Q127)-1)<>\"\",OFFSET(DE104_9!$Q$104,ROWS($Q$104:Q127)-1,COLUMNS($Q$104:Q127)-1),\"\")","v":""},{"$f":"IF(OFFSET(DE104_9!$R$104,ROWS($R$104:R127)-1,COLUMNS($R$104:R127)-1)<>\"\",OFFSET(DE104_9!$R$104,ROWS($R$104:R127)-1,COLUMNS($R$104:R127)-1),\"\")","v":""},{"$f":"IF(OFFSET(DE104_9!$S$104,ROWS($S$104:S127)-1,COLUMNS($S$104:S127)-1)<>\"\",OFFSET(DE104_9!$S$104,ROWS($S$104:S127)-1,COLUMNS($S$104:S127)-1),\"\")","v":""},{"$f":"IF(OFFSET(DE104_9!$T$104,ROWS($T$104:T127)-1,COLUMNS($T$104:T127)-1)<>\"\",OFFSET(DE104_9!$T$104,ROWS($T$104:T127)-1,COLUMNS($T$104:T127)-1),\"\")","v":""}]
[{"$f":"IF(OFFSET(DE104_9!$C$104,ROWS($C$104:C128)-1,COLUMNS($C$104:C128)-1)<>\"\",OFFSET(DE104_9!$C$104,ROWS($C$104:C128)-1,COLUMNS($C$104:C128)-1),\"\")","v":""},{"$f":"IF(OFFSET(DE104_9!$D$104,ROWS($D$104:D128)-1,COLUMNS($D$104:D128)-1)<>\"\",OFFSET(DE104_9!$D$104,ROWS($D$104:D128)-1,COLUMNS($D$104:D128)-1),\"\")","v":""},{"$f":"IF(OFFSET(DE104_9!$E$104,ROWS($E$104:E128)-1,COLUMNS($E$104:E128)-1)<>\"\",OFFSET(DE104_9!$E$104,ROWS($E$104:E128)-1,COLUMNS($E$104:E128)-1),\"\")","v":""},{"$f":"IF(OFFSET(DE104_9!$F$104,ROWS($F$104:F128)-1,COLUMNS($F$104:F128)-1)<>\"\",OFFSET(DE104_9!$F$104,ROWS($F$104:F128)-1,COLUMNS($F$104:F128)-1),\"\")","v":""},{"$f":"IF(OFFSET(DE104_9!$G$104,ROWS($G$104:G128)-1,COLUMNS($G$104:G128)-1)<>\"\",OFFSET(DE104_9!$G$104,ROWS($G$104:G128)-1,COLUMNS($G$104:G128)-1),\"\")","v":""},{"$f":"IF(OFFSET(DE104_9!$H$104,ROWS($H$104:H128)-1,COLUMNS($H$104:H128)-1)<>\"\",OFFSET(DE104_9!$H$104,ROWS($H$104:H128)-1,COLUMNS($H$104:H128)-1),\"\")","v":""},{"$f":"IF(OFFSET(DE104_9!$I$104,ROWS($I$104:I128)-1,COLUMNS($I$104:I128)-1)<>\"\",OFFSET(DE104_9!$I$104,ROWS($I$104:I128)-1,COLUMNS($I$104:I128)-1),\"\")","v":""},{"$f":"IF(OFFSET(DE104_9!$J$104,ROWS($J$104:J128)-1,COLUMNS($J$104:J128)-1)<>\"\",OFFSET(DE104_9!$J$104,ROWS($J$104:J128)-1,COLUMNS($J$104:J128)-1),\"\")","v":""},{"$f":"IF(OFFSET(DE104_9!$K$104,ROWS($K$104:K128)-1,COLUMNS($K$104:K128)-1)<>\"\",OFFSET(DE104_9!$K$104,ROWS($K$104:K128)-1,COLUMNS($K$104:K128)-1),\"\")","v":""},{"$f":"IF(OFFSET(DE104_9!$L$104,ROWS($L$104:L128)-1,COLUMNS($L$104:L128)-1)<>\"\",OFFSET(DE104_9!$L$104,ROWS($L$104:L128)-1,COLUMNS($L$104:L128)-1),\"\")","v":""},{"$f":"IF(OFFSET(DE104_9!$M$104,ROWS($M$104:M128)-1,COLUMNS($M$104:M128)-1)<>\"\",OFFSET(DE104_9!$M$104,ROWS($M$104:M128)-1,COLUMNS($M$104:M128)-1),\"\")","v":""},{"$f":"IF(OFFSET(DE104_9!$N$104,ROWS($N$104:N128)-1,COLUMNS($N$104:N128)-1)<>\"\",OFFSET(DE104_9!$N$104,ROWS($N$104:N128)-1,COLUMNS($N$104:N128)-1),\"\")","v":""},{"$f":"IF(OFFSET(DE104_9!$O$104,ROWS($O$104:O128)-1,COLUMNS($O$104:O128)-1)<>\"\",OFFSET(DE104_9!$O$104,ROWS($O$104:O128)-1,COLUMNS($O$104:O128)-1),\"\")","v":""},{"$f":"IF(OFFSET(DE104_9!$P$104,ROWS($P$104:P128)-1,COLUMNS($P$104:P128)-1)<>\"\",OFFSET(DE104_9!$P$104,ROWS($P$104:P128)-1,COLUMNS($P$104:P128)-1),\"\")","v":""},{"$f":"IF(OFFSET(DE104_9!$Q$104,ROWS($Q$104:Q128)-1,COLUMNS($Q$104:Q128)-1)<>\"\",OFFSET(DE104_9!$Q$104,ROWS($Q$104:Q128)-1,COLUMNS($Q$104:Q128)-1),\"\")","v":""},{"$f":"IF(OFFSET(DE104_9!$R$104,ROWS($R$104:R128)-1,COLUMNS($R$104:R128)-1)<>\"\",OFFSET(DE104_9!$R$104,ROWS($R$104:R128)-1,COLUMNS($R$104:R128)-1),\"\")","v":""},{"$f":"IF(OFFSET(DE104_9!$S$104,ROWS($S$104:S128)-1,COLUMNS($S$104:S128)-1)<>\"\",OFFSET(DE104_9!$S$104,ROWS($S$104:S128)-1,COLUMNS($S$104:S128)-1),\"\")","v":""},{"$f":"IF(OFFSET(DE104_9!$T$104,ROWS($T$104:T128)-1,COLUMNS($T$104:T128)-1)<>\"\",OFFSET(DE104_9!$T$104,ROWS($T$104:T128)-1,COLUMNS($T$104:T128)-1),\"\")","v":""}]
[{"$f":"IF(OFFSET(DE104_9!$C$104,ROWS($C$104:C129)-1,COLUMNS($C$104:C129)-1)<>\"\",OFFSET(DE104_9!$C$104,ROWS($C$104:C129)-1,COLUMNS($C$104:C129)-1),\"\")","v":""},{"$f":"IF(OFFSET(DE104_9!$D$104,ROWS($D$104:D129)-1,COLUMNS($D$104:D129)-1)<>\"\",OFFSET(DE104_9!$D$104,ROWS($D$104:D129)-1,COLUMNS($D$104:D129)-1),\"\")","v":""},{"$f":"IF(OFFSET(DE104_9!$E$104,ROWS($E$104:E129)-1,COLUMNS($E$104:E129)-1)<>\"\",OFFSET(DE104_9!$E$104,ROWS($E$104:E129)-1,COLUMNS($E$104:E129)-1),\"\")","v":""},{"$f":"IF(OFFSET(DE104_9!$F$104,ROWS($F$104:F129)-1,COLUMNS($F$104:F129)-1)<>\"\",OFFSET(DE104_9!$F$104,ROWS($F$104:F129)-1,COLUMNS($F$104:F129)-1),\"\")","v":""},{"$f":"IF(OFFSET(DE104_9!$G$104,ROWS($G$104:G129)-1,COLUMNS($G$104:G129)-1)<>\"\",OFFSET(DE104_9!$G$104,ROWS($G$104:G129)-1,COLUMNS($G$104:G129)-1),\"\")","v":""},{"$f":"IF(OFFSET(DE104_9!$H$104,ROWS($H$104:H129)-1,COLUMNS($H$104:H129)-1)<>\"\",OFFSET(DE104_9!$H$104,ROWS($H$104:H129)-1,COLUMNS($H$104:H129)-1),\"\")","v":""},{"$f":"IF(OFFSET(DE104_9!$I$104,ROWS($I$104:I129)-1,COLUMNS($I$104:I129)-1)<>\"\",OFFSET(DE104_9!$I$104,ROWS($I$104:I129)-1,COLUMNS($I$104:I129)-1),\"\")","v":""},{"$f":"IF(OFFSET(DE104_9!$J$104,ROWS($J$104:J129)-1,COLUMNS($J$104:J129)-1)<>\"\",OFFSET(DE104_9!$J$104,ROWS($J$104:J129)-1,COLUMNS($J$104:J129)-1),\"\")","v":""},{"$f":"IF(OFFSET(DE104_9!$K$104,ROWS($K$104:K129)-1,COLUMNS($K$104:K129)-1)<>\"\",OFFSET(DE104_9!$K$104,ROWS($K$104:K129)-1,COLUMNS($K$104:K129)-1),\"\")","v":""},{"$f":"IF(OFFSET(DE104_9!$L$104,ROWS($L$104:L129)-1,COLUMNS($L$104:L129)-1)<>\"\",OFFSET(DE104_9!$L$104,ROWS($L$104:L129)-1,COLUMNS($L$104:L129)-1),\"\")","v":""},{"$f":"IF(OFFSET(DE104_9!$M$104,ROWS($M$104:M129)-1,COLUMNS($M$104:M129)-1)<>\"\",OFFSET(DE104_9!$M$104,ROWS($M$104:M129)-1,COLUMNS($M$104:M129)-1),\"\")","v":""},{"$f":"IF(OFFSET(DE104_9!$N$104,ROWS($N$104:N129)-1,COLUMNS($N$104:N129)-1)<>\"\",OFFSET(DE104_9!$N$104,ROWS($N$104:N129)-1,COLUMNS($N$104:N129)-1),\"\")","v":""},{"$f":"IF(OFFSET(DE104_9!$O$104,ROWS($O$104:O129)-1,COLUMNS($O$104:O129)-1)<>\"\",OFFSET(DE104_9!$O$104,ROWS($O$104:O129)-1,COLUMNS($O$104:O129)-1),\"\")","v":""},{"$f":"IF(OFFSET(DE104_9!$P$104,ROWS($P$104:P129)-1,COLUMNS($P$104:P129)-1)<>\"\",OFFSET(DE104_9!$P$104,ROWS($P$104:P129)-1,COLUMNS($P$104:P129)-1),\"\")","v":""},{"$f":"IF(OFFSET(DE104_9!$Q$104,ROWS($Q$104:Q129)-1,COLUMNS($Q$104:Q129)-1)<>\"\",OFFSET(DE104_9!$Q$104,ROWS($Q$104:Q129)-1,COLUMNS($Q$104:Q129)-1),\"\")","v":""},{"$f":"IF(OFFSET(DE104_9!$R$104,ROWS($R$104:R129)-1,COLUMNS($R$104:R129)-1)<>\"\",OFFSET(DE104_9!$R$104,ROWS($R$104:R129)-1,COLUMNS($R$104:R129)-1),\"\")","v":""},{"$f":"IF(OFFSET(DE104_9!$S$104,ROWS($S$104:S129)-1,COLUMNS($S$104:S129)-1)<>\"\",OFFSET(DE104_9!$S$104,ROWS($S$104:S129)-1,COLUMNS($S$104:S129)-1),\"\")","v":""},{"$f":"IF(OFFSET(DE104_9!$T$104,ROWS($T$104:T129)-1,COLUMNS($T$104:T129)-1)<>\"\",OFFSET(DE104_9!$T$104,ROWS($T$104:T129)-1,COLUMNS($T$104:T129)-1),\"\")","v":""}]
[{"$f":"IF(OFFSET(DE104_9!$C$104,ROWS($C$104:C130)-1,COLUMNS($C$104:C130)-1)<>\"\",OFFSET(DE104_9!$C$104,ROWS($C$104:C130)-1,COLUMNS($C$104:C130)-1),\"\")","v":""},{"$f":"IF(OFFSET(DE104_9!$D$104,ROWS($D$104:D130)-1,COLUMNS($D$104:D130)-1)<>\"\",OFFSET(DE104_9!$D$104,ROWS($D$104:D130)-1,COLUMNS($D$104:D130)-1),\"\")","v":""},{"$f":"IF(OFFSET(DE104_9!$E$104,ROWS($E$104:E130)-1,COLUMNS($E$104:E130)-1)<>\"\",OFFSET(DE104_9!$E$104,ROWS($E$104:E130)-1,COLUMNS($E$104:E130)-1),\"\")","v":""},{"$f":"IF(OFFSET(DE104_9!$F$104,ROWS($F$104:F130)-1,COLUMNS($F$104:F130)-1)<>\"\",OFFSET(DE104_9!$F$104,ROWS($F$104:F130)-1,COLUMNS($F$104:F130)-1),\"\")","v":""},{"$f":"IF(OFFSET(DE104_9!$G$104,ROWS($G$104:G130)-1,COLUMNS($G$104:G130)-1)<>\"\",OFFSET(DE104_9!$G$104,ROWS($G$104:G130)-1,COLUMNS($G$104:G130)-1),\"\")","v":""},{"$f":"IF(OFFSET(DE104_9!$H$104,ROWS($H$104:H130)-1,COLUMNS($H$104:H130)-1)<>\"\",OFFSET(DE104_9!$H$104,ROWS($H$104:H130)-1,COLUMNS($H$104:H130)-1),\"\")","v":""},{"$f":"IF(OFFSET(DE104_9!$I$104,ROWS($I$104:I130)-1,COLUMNS($I$104:I130)-1)<>\"\",OFFSET(DE104_9!$I$104,ROWS($I$104:I130)-1,COLUMNS($I$104:I130)-1),\"\")","v":""},{"$f":"IF(OFFSET(DE104_9!$J$104,ROWS($J$104:J130)-1,COLUMNS($J$104:J130)-1)<>\"\",OFFSET(DE104_9!$J$104,ROWS($J$104:J130)-1,COLUMNS($J$104:J130)-1),\"\")","v":""},{"$f":"IF(OFFSET(DE104_9!$K$104,ROWS($K$104:K130)-1,COLUMNS($K$104:K130)-1)<>\"\",OFFSET(DE104_9!$K$104,ROWS($K$104:K130)-1,COLUMNS($K$104:K130)-1),\"\")","v":""},{"$f":"IF(OFFSET(DE104_9!$L$104,ROWS($L$104:L130)-1,COLUMNS($L$104:L130)-1)<>\"\",OFFSET(DE104_9!$L$104,ROWS($L$104:L130)-1,COLUMNS($L$104:L130)-1),\"\")","v":""},{"$f":"IF(OFFSET(DE104_9!$M$104,ROWS($M$104:M130)-1,COLUMNS($M$104:M130)-1)<>\"\",OFFSET(DE104_9!$M$104,ROWS($M$104:M130)-1,COLUMNS($M$104:M130)-1),\"\")","v":""},{"$f":"IF(OFFSET(DE104_9!$N$104,ROWS($N$104:N130)-1,COLUMNS($N$104:N130)-1)<>\"\",OFFSET(DE104_9!$N$104,ROWS($N$104:N130)-1,COLUMNS($N$104:N130)-1),\"\")","v":""},{"$f":"IF(OFFSET(DE104_9!$O$104,ROWS($O$104:O130)-1,COLUMNS($O$104:O130)-1)<>\"\",OFFSET(DE104_9!$O$104,ROWS($O$104:O130)-1,COLUMNS($O$104:O130)-1),\"\")","v":""},{"$f":"IF(OFFSET(DE104_9!$P$104,ROWS($P$104:P130)-1,COLUMNS($P$104:P130)-1)<>\"\",OFFSET(DE104_9!$P$104,ROWS($P$104:P130)-1,COLUMNS($P$104:P130)-1),\"\")","v":""},{"$f":"IF(OFFSET(DE104_9!$Q$104,ROWS($Q$104:Q130)-1,COLUMNS($Q$104:Q130)-1)<>\"\",OFFSET(DE104_9!$Q$104,ROWS($Q$104:Q130)-1,COLUMNS($Q$104:Q130)-1),\"\")","v":""},{"$f":"IF(OFFSET(DE104_9!$R$104,ROWS($R$104:R130)-1,COLUMNS($R$104:R130)-1)<>\"\",OFFSET(DE104_9!$R$104,ROWS($R$104:R130)-1,COLUMNS($R$104:R130)-1),\"\")","v":""},{"$f":"IF(OFFSET(DE104_9!$S$104,ROWS($S$104:S130)-1,COLUMNS($S$104:S130)-1)<>\"\",OFFSET(DE104_9!$S$104,ROWS($S$104:S130)-1,COLUMNS($S$104:S130)-1),\"\")","v":""},{"$f":"IF(OFFSET(DE104_9!$T$104,ROWS($T$104:T130)-1,COLUMNS($T$104:T130)-1)<>\"\",OFFSET(DE104_9!$T$104,ROWS($T$104:T130)-1,COLUMNS($T$104:T130)-1),\"\")","v":""}]
[{"$f":"IF(OFFSET(DE104_9!$C$104,ROWS($C$104:C131)-1,COLUMNS($C$104:C131)-1)<>\"\",OFFSET(DE104_9!$C$104,ROWS($C$104:C131)-1,COLUMNS($C$104:C131)-1),\"\")","v":""},{"$f":"IF(OFFSET(DE104_9!$D$104,ROWS($D$104:D131)-1,COLUMNS($D$104:D131)-1)<>\"\",OFFSET(DE104_9!$D$104,ROWS($D$104:D131)-1,COLUMNS($D$104:D131)-1),\"\")","v":""},{"$f":"IF(OFFSET(DE104_9!$E$104,ROWS($E$104:E131)-1,COLUMNS($E$104:E131)-1)<>\"\",OFFSET(DE104_9!$E$104,ROWS($E$104:E131)-1,COLUMNS($E$104:E131)-1),\"\")","v":""},{"$f":"IF(OFFSET(DE104_9!$F$104,ROWS($F$104:F131)-1,COLUMNS($F$104:F131)-1)<>\"\",OFFSET(DE104_9!$F$104,ROWS($F$104:F131)-1,COLUMNS($F$104:F131)-1),\"\")","v":""},{"$f":"IF(OFFSET(DE104_9!$G$104,ROWS($G$104:G131)-1,COLUMNS($G$104:G131)-1)<>\"\",OFFSET(DE104_9!$G$104,ROWS($G$104:G131)-1,COLUMNS($G$104:G131)-1),\"\")","v":""},{"$f":"IF(OFFSET(DE104_9!$H$104,ROWS($H$104:H131)-1,COLUMNS($H$104:H131)-1)<>\"\",OFFSET(DE104_9!$H$104,ROWS($H$104:H131)-1,COLUMNS($H$104:H131)-1),\"\")","v":""},{"$f":"IF(OFFSET(DE104_9!$I$104,ROWS($I$104:I131)-1,COLUMNS($I$104:I131)-1)<>\"\",OFFSET(DE104_9!$I$104,ROWS($I$104:I131)-1,COLUMNS($I$104:I131)-1),\"\")","v":""},{"$f":"IF(OFFSET(DE104_9!$J$104,ROWS($J$104:J131)-1,COLUMNS($J$104:J131)-1)<>\"\",OFFSET(DE104_9!$J$104,ROWS($J$104:J131)-1,COLUMNS($J$104:J131)-1),\"\")","v":""},{"$f":"IF(OFFSET(DE104_9!$K$104,ROWS($K$104:K131)-1,COLUMNS($K$104:K131)-1)<>\"\",OFFSET(DE104_9!$K$104,ROWS($K$104:K131)-1,COLUMNS($K$104:K131)-1),\"\")","v":""},{"$f":"IF(OFFSET(DE104_9!$L$104,ROWS($L$104:L131)-1,COLUMNS($L$104:L131)-1)<>\"\",OFFSET(DE104_9!$L$104,ROWS($L$104:L131)-1,COLUMNS($L$104:L131)-1),\"\")","v":""},{"$f":"IF(OFFSET(DE104_9!$M$104,ROWS($M$104:M131)-1,COLUMNS($M$104:M131)-1)<>\"\",OFFSET(DE104_9!$M$104,ROWS($M$104:M131)-1,COLUMNS($M$104:M131)-1),\"\")","v":""},{"$f":"IF(OFFSET(DE104_9!$N$104,ROWS($N$104:N131)-1,COLUMNS($N$104:N131)-1)<>\"\",OFFSET(DE104_9!$N$104,ROWS($N$104:N131)-1,COLUMNS($N$104:N131)-1),\"\")","v":""},{"$f":"IF(OFFSET(DE104_9!$O$104,ROWS($O$104:O131)-1,COLUMNS($O$104:O131)-1)<>\"\",OFFSET(DE104_9!$O$104,ROWS($O$104:O131)-1,COLUMNS($O$104:O131)-1),\"\")","v":""},{"$f":"IF(OFFSET(DE104_9!$P$104,ROWS($P$104:P131)-1,COLUMNS($P$104:P131)-1)<>\"\",OFFSET(DE104_9!$P$104,ROWS($P$104:P131)-1,COLUMNS($P$104:P131)-1),\"\")","v":""},{"$f":"IF(OFFSET(DE104_9!$Q$104,ROWS($Q$104:Q131)-1,COLUMNS($Q$104:Q131)-1)<>\"\",OFFSET(DE104_9!$Q$104,ROWS($Q$104:Q131)-1,COLUMNS($Q$104:Q131)-1),\"\")","v":""},{"$f":"IF(OFFSET(DE104_9!$R$104,ROWS($R$104:R131)-1,COLUMNS($R$104:R131)-1)<>\"\",OFFSET(DE104_9!$R$104,ROWS($R$104:R131)-1,COLUMNS($R$104:R131)-1),\"\")","v":""},{"$f":"IF(OFFSET(DE104_9!$S$104,ROWS($S$104:S131)-1,COLUMNS($S$104:S131)-1)<>\"\",OFFSET(DE104_9!$S$104,ROWS($S$104:S131)-1,COLUMNS($S$104:S131)-1),\"\")","v":""},{"$f":"IF(OFFSET(DE104_9!$T$104,ROWS($T$104:T131)-1,COLUMNS($T$104:T131)-1)<>\"\",OFFSET(DE104_9!$T$104,ROWS($T$104:T131)-1,COLUMNS($T$104:T131)-1),\"\")","v":""}]
[{"$f":"IF(OFFSET(DE104_9!$C$104,ROWS($C$104:C132)-1,COLUMNS($C$104:C132)-1)<>\"\",OFFSET(DE104_9!$C$104,ROWS($C$104:C132)-1,COLUMNS($C$104:C132)-1),\"\")","v":""},{"$f":"IF(OFFSET(DE104_9!$D$104,ROWS($D$104:D132)-1,COLUMNS($D$104:D132)-1)<>\"\",OFFSET(DE104_9!$D$104,ROWS($D$104:D132)-1,COLUMNS($D$104:D132)-1),\"\")","v":""},{"$f":"IF(OFFSET(DE104_9!$E$104,ROWS($E$104:E132)-1,COLUMNS($E$104:E132)-1)<>\"\",OFFSET(DE104_9!$E$104,ROWS($E$104:E132)-1,COLUMNS($E$104:E132)-1),\"\")","v":""},{"$f":"IF(OFFSET(DE104_9!$F$104,ROWS($F$104:F132)-1,COLUMNS($F$104:F132)-1)<>\"\",OFFSET(DE104_9!$F$104,ROWS($F$104:F132)-1,COLUMNS($F$104:F132)-1),\"\")","v":""},{"$f":"IF(OFFSET(DE104_9!$G$104,ROWS($G$104:G132)-1,COLUMNS($G$104:G132)-1)<>\"\",OFFSET(DE104_9!$G$104,ROWS($G$104:G132)-1,COLUMNS($G$104:G132)-1),\"\")","v":""},{"$f":"IF(OFFSET(DE104_9!$H$104,ROWS($H$104:H132)-1,COLUMNS($H$104:H132)-1)<>\"\",OFFSET(DE104_9!$H$104,ROWS($H$104:H132)-1,COLUMNS($H$104:H132)-1),\"\")","v":""},{"$f":"IF(OFFSET(DE104_9!$I$104,ROWS($I$104:I132)-1,COLUMNS($I$104:I132)-1)<>\"\",OFFSET(DE104_9!$I$104,ROWS($I$104:I132)-1,COLUMNS($I$104:I132)-1),\"\")","v":""},{"$f":"IF(OFFSET(DE104_9!$J$104,ROWS($J$104:J132)-1,COLUMNS($J$104:J132)-1)<>\"\",OFFSET(DE104_9!$J$104,ROWS($J$104:J132)-1,COLUMNS($J$104:J132)-1),\"\")","v":""},{"$f":"IF(OFFSET(DE104_9!$K$104,ROWS($K$104:K132)-1,COLUMNS($K$104:K132)-1)<>\"\",OFFSET(DE104_9!$K$104,ROWS($K$104:K132)-1,COLUMNS($K$104:K132)-1),\"\")","v":""},{"$f":"IF(OFFSET(DE104_9!$L$104,ROWS($L$104:L132)-1,COLUMNS($L$104:L132)-1)<>\"\",OFFSET(DE104_9!$L$104,ROWS($L$104:L132)-1,COLUMNS($L$104:L132)-1),\"\")","v":""},{"$f":"IF(OFFSET(DE104_9!$M$104,ROWS($M$104:M132)-1,COLUMNS($M$104:M132)-1)<>\"\",OFFSET(DE104_9!$M$104,ROWS($M$104:M132)-1,COLUMNS($M$104:M132)-1),\"\")","v":""},{"$f":"IF(OFFSET(DE104_9!$N$104,ROWS($N$104:N132)-1,COLUMNS($N$104:N132)-1)<>\"\",OFFSET(DE104_9!$N$104,ROWS($N$104:N132)-1,COLUMNS($N$104:N132)-1),\"\")","v":""},{"$f":"IF(OFFSET(DE104_9!$O$104,ROWS($O$104:O132)-1,COLUMNS($O$104:O132)-1)<>\"\",OFFSET(DE104_9!$O$104,ROWS($O$104:O132)-1,COLUMNS($O$104:O132)-1),\"\")","v":""},{"$f":"IF(OFFSET(DE104_9!$P$104,ROWS($P$104:P132)-1,COLUMNS($P$104:P132)-1)<>\"\",OFFSET(DE104_9!$P$104,ROWS($P$104:P132)-1,COLUMNS($P$104:P132)-1),\"\")","v":""},{"$f":"IF(OFFSET(DE104_9!$Q$104,ROWS($Q$104:Q132)-1,COLUMNS($Q$104:Q132)-1)<>\"\",OFFSET(DE104_9!$Q$104,ROWS($Q$104:Q132)-1,COLUMNS($Q$104:Q132)-1),\"\")","v":""},{"$f":"IF(OFFSET(DE104_9!$R$104,ROWS($R$104:R132)-1,COLUMNS($R$104:R132)-1)<>\"\",OFFSET(DE104_9!$R$104,ROWS($R$104:R132)-1,COLUMNS($R$104:R132)-1),\"\")","v":""},{"$f":"IF(OFFSET(DE104_9!$S$104,ROWS($S$104:S132)-1,COLUMNS($S$104:S132)-1)<>\"\",OFFSET(DE104_9!$S$104,ROWS($S$104:S132)-1,COLUMNS($S$104:S132)-1),\"\")","v":""},{"$f":"IF(OFFSET(DE104_9!$T$104,ROWS($T$104:T132)-1,COLUMNS($T$104:T132)-1)<>\"\",OFFSET(DE104_9!$T$104,ROWS($T$104:T132)-1,COLUMNS($T$104:T132)-1),\"\")","v":""}]
[{"$f":"IF(OFFSET(DE104_9!$C$104,ROWS($C$104:C133)-1,COLUMNS($C$104:C133)-1)<>\"\",OFFSET(DE104_9!$C$104,ROWS($C$104:C133)-1,COLUMNS($C$104:C133)-1),\"\")","v":""},{"$f":"IF(OFFSET(DE104_9!$D$104,ROWS($D$104:D133)-1,COLUMNS($D$104:D133)-1)<>\"\",OFFSET(DE104_9!$D$104,ROWS($D$104:D133)-1,COLUMNS($D$104:D133)-1),\"\")","v":""},{"$f":"IF(OFFSET(DE104_9!$E$104,ROWS($E$104:E133)-1,COLUMNS($E$104:E133)-1)<>\"\",OFFSET(DE104_9!$E$104,ROWS($E$104:E133)-1,COLUMNS($E$104:E133)-1),\"\")","v":""},{"$f":"IF(OFFSET(DE104_9!$F$104,ROWS($F$104:F133)-1,COLUMNS($F$104:F133)-1)<>\"\",OFFSET(DE104_9!$F$104,ROWS($F$104:F133)-1,COLUMNS($F$104:F133)-1),\"\")","v":""},{"$f":"IF(OFFSET(DE104_9!$G$104,ROWS($G$104:G133)-1,COLUMNS($G$104:G133)-1)<>\"\",OFFSET(DE104_9!$G$104,ROWS($G$104:G133)-1,COLUMNS($G$104:G133)-1),\"\")","v":""},{"$f":"IF(OFFSET(DE104_9!$H$104,ROWS($H$104:H133)-1,COLUMNS($H$104:H133)-1)<>\"\",OFFSET(DE104_9!$H$104,ROWS($H$104:H133)-1,COLUMNS($H$104:H133)-1),\"\")","v":""},{"$f":"IF(OFFSET(DE104_9!$I$104,ROWS($I$104:I133)-1,COLUMNS($I$104:I133)-1)<>\"\",OFFSET(DE104_9!$I$104,ROWS($I$104:I133)-1,COLUMNS($I$104:I133)-1),\"\")","v":""},{"$f":"IF(OFFSET(DE104_9!$J$104,ROWS($J$104:J133)-1,COLUMNS($J$104:J133)-1)<>\"\",OFFSET(DE104_9!$J$104,ROWS($J$104:J133)-1,COLUMNS($J$104:J133)-1),\"\")","v":""},{"$f":"IF(OFFSET(DE104_9!$K$104,ROWS($K$104:K133)-1,COLUMNS($K$104:K133)-1)<>\"\",OFFSET(DE104_9!$K$104,ROWS($K$104:K133)-1,COLUMNS($K$104:K133)-1),\"\")","v":""},{"$f":"IF(OFFSET(DE104_9!$L$104,ROWS($L$104:L133)-1,COLUMNS($L$104:L133)-1)<>\"\",OFFSET(DE104_9!$L$104,ROWS($L$104:L133)-1,COLUMNS($L$104:L133)-1),\"\")","v":""},{"$f":"IF(OFFSET(DE104_9!$M$104,ROWS($M$104:M133)-1,COLUMNS($M$104:M133)-1)<>\"\",OFFSET(DE104_9!$M$104,ROWS($M$104:M133)-1,COLUMNS($M$104:M133)-1),\"\")","v":""},{"$f":"IF(OFFSET(DE104_9!$N$104,ROWS($N$104:N133)-1,COLUMNS($N$104:N133)-1)<>\"\",OFFSET(DE104_9!$N$104,ROWS($N$104:N133)-1,COLUMNS($N$104:N133)-1),\"\")","v":""},{"$f":"IF(OFFSET(DE104_9!$O$104,ROWS($O$104:O133)-1,COLUMNS($O$104:O133)-1)<>\"\",OFFSET(DE104_9!$O$104,ROWS($O$104:O133)-1,COLUMNS($O$104:O133)-1),\"\")","v":""},{"$f":"IF(OFFSET(DE104_9!$P$104,ROWS($P$104:P133)-1,COLUMNS($P$104:P133)-1)<>\"\",OFFSET(DE104_9!$P$104,ROWS($P$104:P133)-1,COLUMNS($P$104:P133)-1),\"\")","v":""},{"$f":"IF(OFFSET(DE104_9!$Q$104,ROWS($Q$104:Q133)-1,COLUMNS($Q$104:Q133)-1)<>\"\",OFFSET(DE104_9!$Q$104,ROWS($Q$104:Q133)-1,COLUMNS($Q$104:Q133)-1),\"\")","v":""},{"$f":"IF(OFFSET(DE104_9!$R$104,ROWS($R$104:R133)-1,COLUMNS($R$104:R133)-1)<>\"\",OFFSET(DE104_9!$R$104,ROWS($R$104:R133)-1,COLUMNS($R$104:R133)-1),\"\")","v":""},{"$f":"IF(OFFSET(DE104_9!$S$104,ROWS($S$104:S133)-1,COLUMNS($S$104:S133)-1)<>\"\",OFFSET(DE104_9!$S$104,ROWS($S$104:S133)-1,COLUMNS($S$104:S133)-1),\"\")","v":""},{"$f":"IF(OFFSET(DE104_9!$T$104,ROWS($T$104:T133)-1,COLUMNS($T$104:T133)-1)<>\"\",OFFSET(DE104_9!$T$104,ROWS($T$104:T133)-1,COLUMNS($T$104:T133)-1),\"\")","v":""}]
[{"$f":"IF(OFFSET(DE104_9!$C$104,ROWS($C$104:C134)-1,COLUMNS($C$104:C134)-1)<>\"\",OFFSET(DE104_9!$C$104,ROWS($C$104:C134)-1,COLUMNS($C$104:C134)-1),\"\")","v":""},{"$f":"IF(OFFSET(DE104_9!$D$104,ROWS($D$104:D134)-1,COLUMNS($D$104:D134)-1)<>\"\",OFFSET(DE104_9!$D$104,ROWS($D$104:D134)-1,COLUMNS($D$104:D134)-1),\"\")","v":""},{"$f":"IF(OFFSET(DE104_9!$E$104,ROWS($E$104:E134)-1,COLUMNS($E$104:E134)-1)<>\"\",OFFSET(DE104_9!$E$104,ROWS($E$104:E134)-1,COLUMNS($E$104:E134)-1),\"\")","v":""},{"$f":"IF(OFFSET(DE104_9!$F$104,ROWS($F$104:F134)-1,COLUMNS($F$104:F134)-1)<>\"\",OFFSET(DE104_9!$F$104,ROWS($F$104:F134)-1,COLUMNS($F$104:F134)-1),\"\")","v":""},{"$f":"IF(OFFSET(DE104_9!$G$104,ROWS($G$104:G134)-1,COLUMNS($G$104:G134)-1)<>\"\",OFFSET(DE104_9!$G$104,ROWS($G$104:G134)-1,COLUMNS($G$104:G134)-1),\"\")","v":""},{"$f":"IF(OFFSET(DE104_9!$H$104,ROWS($H$104:H134)-1,COLUMNS($H$104:H134)-1)<>\"\",OFFSET(DE104_9!$H$104,ROWS($H$104:H134)-1,COLUMNS($H$104:H134)-1),\"\")","v":""},{"$f":"IF(OFFSET(DE104_9!$I$104,ROWS($I$104:I134)-1,COLUMNS($I$104:I134)-1)<>\"\",OFFSET(DE104_9!$I$104,ROWS($I$104:I134)-1,COLUMNS($I$104:I134)-1),\"\")","v":""},{"$f":"IF(OFFSET(DE104_9!$J$104,ROWS($J$104:J134)-1,COLUMNS($J$104:J134)-1)<>\"\",OFFSET(DE104_9!$J$104,ROWS($J$104:J134)-1,COLUMNS($J$104:J134)-1),\"\")","v":""},{"$f":"IF(OFFSET(DE104_9!$K$104,ROWS($K$104:K134)-1,COLUMNS($K$104:K134)-1)<>\"\",OFFSET(DE104_9!$K$104,ROWS($K$104:K134)-1,COLUMNS($K$104:K134)-1),\"\")","v":""},{"$f":"IF(OFFSET(DE104_9!$L$104,ROWS($L$104:L134)-1,COLUMNS($L$104:L134)-1)<>\"\",OFFSET(DE104_9!$L$104,ROWS($L$104:L134)-1,COLUMNS($L$104:L134)-1),\"\")","v":""},{"$f":"IF(OFFSET(DE104_9!$M$104,ROWS($M$104:M134)-1,COLUMNS($M$104:M134)-1)<>\"\",OFFSET(DE104_9!$M$104,ROWS($M$104:M134)-1,COLUMNS($M$104:M134)-1),\"\")","v":""},{"$f":"IF(OFFSET(DE104_9!$N$104,ROWS($N$104:N134)-1,COLUMNS($N$104:N134)-1)<>\"\",OFFSET(DE104_9!$N$104,ROWS($N$104:N134)-1,COLUMNS($N$104:N134)-1),\"\")","v":""},{"$f":"IF(OFFSET(DE104_9!$O$104,ROWS($O$104:O134)-1,COLUMNS($O$104:O134)-1)<>\"\",OFFSET(DE104_9!$O$104,ROWS($O$104:O134)-1,COLUMNS($O$104:O134)-1),\"\")","v":""},{"$f":"IF(OFFSET(DE104_9!$P$104,ROWS($P$104:P134)-1,COLUMNS($P$104:P134)-1)<>\"\",OFFSET(DE104_9!$P$104,ROWS($P$104:P134)-1,COLUMNS($P$104:P134)-1),\"\")","v":""},{"$f":"IF(OFFSET(DE104_9!$Q$104,ROWS($Q$104:Q134)-1,COLUMNS($Q$104:Q134)-1)<>\"\",OFFSET(DE104_9!$Q$104,ROWS($Q$104:Q134)-1,COLUMNS($Q$104:Q134)-1),\"\")","v":""},{"$f":"IF(OFFSET(DE104_9!$R$104,ROWS($R$104:R134)-1,COLUMNS($R$104:R134)-1)<>\"\",OFFSET(DE104_9!$R$104,ROWS($R$104:R134)-1,COLUMNS($R$104:R134)-1),\"\")","v":""},{"$f":"IF(OFFSET(DE104_9!$S$104,ROWS($S$104:S134)-1,COLUMNS($S$104:S134)-1)<>\"\",OFFSET(DE104_9!$S$104,ROWS($S$104:S134)-1,COLUMNS($S$104:S134)-1),\"\")","v":""},{"$f":"IF(OFFSET(DE104_9!$T$104,ROWS($T$104:T134)-1,COLUMNS($T$104:T134)-1)<>\"\",OFFSET(DE104_9!$T$104,ROWS($T$104:T134)-1,COLUMNS($T$104:T134)-1),\"\")","v":""}]
[{"$f":"IF(OFFSET(DE104_9!$C$104,ROWS($C$104:C135)-1,COLUMNS($C$104:C135)-1)<>\"\",OFFSET(DE104_9!$C$104,ROWS($C$104:C135)-1,COLUMNS($C$104:C135)-1),\"\")","v":""},{"$f":"IF(OFFSET(DE104_9!$D$104,ROWS($D$104:D135)-1,COLUMNS($D$104:D135)-1)<>\"\",OFFSET(DE104_9!$D$104,ROWS($D$104:D135)-1,COLUMNS($D$104:D135)-1),\"\")","v":""},{"$f":"IF(OFFSET(DE104_9!$E$104,ROWS($E$104:E135)-1,COLUMNS($E$104:E135)-1)<>\"\",OFFSET(DE104_9!$E$104,ROWS($E$104:E135)-1,COLUMNS($E$104:E135)-1),\"\")","v":""},{"$f":"IF(OFFSET(DE104_9!$F$104,ROWS($F$104:F135)-1,COLUMNS($F$104:F135)-1)<>\"\",OFFSET(DE104_9!$F$104,ROWS($F$104:F135)-1,COLUMNS($F$104:F135)-1),\"\")","v":""},{"$f":"IF(OFFSET(DE104_9!$G$104,ROWS($G$104:G135)-1,COLUMNS($G$104:G135)-1)<>\"\",OFFSET(DE104_9!$G$104,ROWS($G$104:G135)-1,COLUMNS($G$104:G135)-1),\"\")","v":""},{"$f":"IF(OFFSET(DE104_9!$H$104,ROWS($H$104:H135)-1,COLUMNS($H$104:H135)-1)<>\"\",OFFSET(DE104_9!$H$104,ROWS($H$104:H135)-1,COLUMNS($H$104:H135)-1),\"\")","v":""},{"$f":"IF(OFFSET(DE104_9!$I$104,ROWS($I$104:I135)-1,COLUMNS($I$104:I135)-1)<>\"\",OFFSET(DE104_9!$I$104,ROWS($I$104:I135)-1,COLUMNS($I$104:I135)-1),\"\")","v":""},{"$f":"IF(OFFSET(DE104_9!$J$104,ROWS($J$104:J135)-1,COLUMNS($J$104:J135)-1)<>\"\",OFFSET(DE104_9!$J$104,ROWS($J$104:J135)-1,COLUMNS($J$104:J135)-1),\"\")","v":""},{"$f":"IF(OFFSET(DE104_9!$K$104,ROWS($K$104:K135)-1,COLUMNS($K$104:K135)-1)<>\"\",OFFSET(DE104_9!$K$104,ROWS($K$104:K135)-1,COLUMNS($K$104:K135)-1),\"\")","v":""},{"$f":"IF(OFFSET(DE104_9!$L$104,ROWS($L$104:L135)-1,COLUMNS($L$104:L135)-1)<>\"\",OFFSET(DE104_9!$L$104,ROWS($L$104:L135)-1,COLUMNS($L$104:L135)-1),\"\")","v":""},{"$f":"IF(OFFSET(DE104_9!$M$104,ROWS($M$104:M135)-1,COLUMNS($M$104:M135)-1)<>\"\",OFFSET(DE104_9!$M$104,ROWS($M$104:M135)-1,COLUMNS($M$104:M135)-1),\"\")","v":""},{"$f":"IF(OFFSET(DE104_9!$N$104,ROWS($N$104:N135)-1,COLUMNS($N$104:N135)-1)<>\"\",OFFSET(DE104_9!$N$104,ROWS($N$104:N135)-1,COLUMNS($N$104:N135)-1),\"\")","v":""},{"$f":"IF(OFFSET(DE104_9!$O$104,ROWS($O$104:O135)-1,COLUMNS($O$104:O135)-1)<>\"\",OFFSET(DE104_9!$O$104,ROWS($O$104:O135)-1,COLUMNS($O$104:O135)-1),\"\")","v":""},{"$f":"IF(OFFSET(DE104_9!$P$104,ROWS($P$104:P135)-1,COLUMNS($P$104:P135)-1)<>\"\",OFFSET(DE104_9!$P$104,ROWS($P$104:P135)-1,COLUMNS($P$104:P135)-1),\"\")","v":""},{"$f":"IF(OFFSET(DE104_9!$Q$104,ROWS($Q$104:Q135)-1,COLUMNS($Q$104:Q135)-1)<>\"\",OFFSET(DE104_9!$Q$104,ROWS($Q$104:Q135)-1,COLUMNS($Q$104:Q135)-1),\"\")","v":""},{"$f":"IF(OFFSET(DE104_9!$R$104,ROWS($R$104:R135)-1,COLUMNS($R$104:R135)-1)<>\"\",OFFSET(DE104_9!$R$104,ROWS($R$104:R135)-1,COLUMNS($R$104:R135)-1),\"\")","v":""},{"$f":"IF(OFFSET(DE104_9!$S$104,ROWS($S$104:S135)-1,COLUMNS($S$104:S135)-1)<>\"\",OFFSET(DE104_9!$S$104,ROWS($S$104:S135)-1,COLUMNS($S$104:S135)-1),\"\")","v":""},{"$f":"IF(OFFSET(DE104_9!$T$104,ROWS($T$104:T135)-1,COLUMNS($T$104:T135)-1)<>\"\",OFFSET(DE104_9!$T$104,ROWS($T$104:T135)-1,COLUMNS($T$104:T135)-1),\"\")","v":""}]
[{"$f":"IF(OFFSET(DE104_9!$C$104,ROWS($C$104:C136)-1,COLUMNS($C$104:C136)-1)<>\"\",OFFSET(DE104_9!$C$104,ROWS($C$104:C136)-1,COLUMNS($C$104:C136)-1),\"\")","v":""},{"$f":"IF(OFFSET(DE104_9!$D$104,ROWS($D$104:D136)-1,COLUMNS($D$104:D136)-1)<>\"\",OFFSET(DE104_9!$D$104,ROWS($D$104:D136)-1,COLUMNS($D$104:D136)-1),\"\")","v":""},{"$f":"IF(OFFSET(DE104_9!$E$104,ROWS($E$104:E136)-1,COLUMNS($E$104:E136)-1)<>\"\",OFFSET(DE104_9!$E$104,ROWS($E$104:E136)-1,COLUMNS($E$104:E136)-1),\"\")","v":""},{"$f":"IF(OFFSET(DE104_9!$F$104,ROWS($F$104:F136)-1,COLUMNS($F$104:F136)-1)<>\"\",OFFSET(DE104_9!$F$104,ROWS($F$104:F136)-1,COLUMNS($F$104:F136)-1),\"\")","v":""},{"$f":"IF(OFFSET(DE104_9!$G$104,ROWS($G$104:G136)-1,COLUMNS($G$104:G136)-1)<>\"\",OFFSET(DE104_9!$G$104,ROWS($G$104:G136)-1,COLUMNS($G$104:G136)-1),\"\")","v":""},{"$f":"IF(OFFSET(DE104_9!$H$104,ROWS($H$104:H136)-1,COLUMNS($H$104:H136)-1)<>\"\",OFFSET(DE104_9!$H$104,ROWS($H$104:H136)-1,COLUMNS($H$104:H136)-1),\"\")","v":""},{"$f":"IF(OFFSET(DE104_9!$I$104,ROWS($I$104:I136)-1,COLUMNS($I$104:I136)-1)<>\"\",OFFSET(DE104_9!$I$104,ROWS($I$104:I136)-1,COLUMNS($I$104:I136)-1),\"\")","v":""},{"$f":"IF(OFFSET(DE104_9!$J$104,ROWS($J$104:J136)-1,COLUMNS($J$104:J136)-1)<>\"\",OFFSET(DE104_9!$J$104,ROWS($J$104:J136)-1,COLUMNS($J$104:J136)-1),\"\")","v":""},{"$f":"IF(OFFSET(DE104_9!$K$104,ROWS($K$104:K136)-1,COLUMNS($K$104:K136)-1)<>\"\",OFFSET(DE104_9!$K$104,ROWS($K$104:K136)-1,COLUMNS($K$104:K136)-1),\"\")","v":""},{"$f":"IF(OFFSET(DE104_9!$L$104,ROWS($L$104:L136)-1,COLUMNS($L$104:L136)-1)<>\"\",OFFSET(DE104_9!$L$104,ROWS($L$104:L136)-1,COLUMNS($L$104:L136)-1),\"\")","v":""},{"$f":"IF(OFFSET(DE104_9!$M$104,ROWS($M$104:M136)-1,COLUMNS($M$104:M136)-1)<>\"\",OFFSET(DE104_9!$M$104,ROWS($M$104:M136)-1,COLUMNS($M$104:M136)-1),\"\")","v":""},{"$f":"IF(OFFSET(DE104_9!$N$104,ROWS($N$104:N136)-1,COLUMNS($N$104:N136)-1)<>\"\",OFFSET(DE104_9!$N$104,ROWS($N$104:N136)-1,COLUMNS($N$104:N136)-1),\"\")","v":""},{"$f":"IF(OFFSET(DE104_9!$O$104,ROWS($O$104:O136)-1,COLUMNS($O$104:O136)-1)<>\"\",OFFSET(DE104_9!$O$104,ROWS($O$104:O136)-1,COLUMNS($O$104:O136)-1),\"\")","v":""},{"$f":"IF(OFFSET(DE104_9!$P$104,ROWS($P$104:P136)-1,COLUMNS($P$104:P136)-1)<>\"\",OFFSET(DE104_9!$P$104,ROWS($P$104:P136)-1,COLUMNS($P$104:P136)-1),\"\")","v":""},{"$f":"IF(OFFSET(DE104_9!$Q$104,ROWS($Q$104:Q136)-1,COLUMNS($Q$104:Q136)-1)<>\"\",OFFSET(DE104_9!$Q$104,ROWS($Q$104:Q136)-1,COLUMNS($Q$104:Q136)-1),\"\")","v":""},{"$f":"IF(OFFSET(DE104_9!$R$104,ROWS($R$104:R136)-1,COLUMNS($R$104:R136)-1)<>\"\",OFFSET(DE104_9!$R$104,ROWS($R$104:R136)-1,COLUMNS($R$104:R136)-1),\"\")","v":""},{"$f":"IF(OFFSET(DE104_9!$S$104,ROWS($S$104:S136)-1,COLUMNS($S$104:S136)-1)<>\"\",OFFSET(DE104_9!$S$104,ROWS($S$104:S136)-1,COLUMNS($S$104:S136)-1),\"\")","v":""},{"$f":"IF(OFFSET(DE104_9!$T$104,ROWS($T$104:T136)-1,COLUMNS($T$104:T136)-1)<>\"\",OFFSET(DE104_9!$T$104,ROWS($T$104:T136)-1,COLUMNS($T$104:T136)-1),\"\")","v":""}]
[{"$f":"IF(OFFSET(DE104_9!$C$104,ROWS($C$104:C137)-1,COLUMNS($C$104:C137)-1)<>\"\",OFFSET(DE104_9!$C$104,ROWS($C$104:C137)-1,COLUMNS($C$104:C137)-1),\"\")","v":""},{"$f":"IF(OFFSET(DE104_9!$D$104,ROWS($D$104:D137)-1,COLUMNS($D$104:D137)-1)<>\"\",OFFSET(DE104_9!$D$104,ROWS($D$104:D137)-1,COLUMNS($D$104:D137)-1),\"\")","v":""},{"$f":"IF(OFFSET(DE104_9!$E$104,ROWS($E$104:E137)-1,COLUMNS($E$104:E137)-1)<>\"\",OFFSET(DE104_9!$E$104,ROWS($E$104:E137)-1,COLUMNS($E$104:E137)-1),\"\")","v":""},{"$f":"IF(OFFSET(DE104_9!$F$104,ROWS($F$104:F137)-1,COLUMNS($F$104:F137)-1)<>\"\",OFFSET(DE104_9!$F$104,ROWS($F$104:F137)-1,COLUMNS($F$104:F137)-1),\"\")","v":""},{"$f":"IF(OFFSET(DE104_9!$G$104,ROWS($G$104:G137)-1,COLUMNS($G$104:G137)-1)<>\"\",OFFSET(DE104_9!$G$104,ROWS($G$104:G137)-1,COLUMNS($G$104:G137)-1),\"\")","v":""},{"$f":"IF(OFFSET(DE104_9!$H$104,ROWS($H$104:H137)-1,COLUMNS($H$104:H137)-1)<>\"\",OFFSET(DE104_9!$H$104,ROWS($H$104:H137)-1,COLUMNS($H$104:H137)-1),\"\")","v":""},{"$f":"IF(OFFSET(DE104_9!$I$104,ROWS($I$104:I137)-1,COLUMNS($I$104:I137)-1)<>\"\",OFFSET(DE104_9!$I$104,ROWS($I$104:I137)-1,COLUMNS($I$104:I137)-1),\"\")","v":""},{"$f":"IF(OFFSET(DE104_9!$J$104,ROWS($J$104:J137)-1,COLUMNS($J$104:J137)-1)<>\"\",OFFSET(DE104_9!$J$104,ROWS($J$104:J137)-1,COLUMNS($J$104:J137)-1),\"\")","v":""},{"$f":"IF(OFFSET(DE104_9!$K$104,ROWS($K$104:K137)-1,COLUMNS($K$104:K137)-1)<>\"\",OFFSET(DE104_9!$K$104,ROWS($K$104:K137)-1,COLUMNS($K$104:K137)-1),\"\")","v":""},{"$f":"IF(OFFSET(DE104_9!$L$104,ROWS($L$104:L137)-1,COLUMNS($L$104:L137)-1)<>\"\",OFFSET(DE104_9!$L$104,ROWS($L$104:L137)-1,COLUMNS($L$104:L137)-1),\"\")","v":""},{"$f":"IF(OFFSET(DE104_9!$M$104,ROWS($M$104:M137)-1,COLUMNS($M$104:M137)-1)<>\"\",OFFSET(DE104_9!$M$104,ROWS($M$104:M137)-1,COLUMNS($M$104:M137)-1),\"\")","v":""},{"$f":"IF(OFFSET(DE104_9!$N$104,ROWS($N$104:N137)-1,COLUMNS($N$104:N137)-1)<>\"\",OFFSET(DE104_9!$N$104,ROWS($N$104:N137)-1,COLUMNS($N$104:N137)-1),\"\")","v":""},{"$f":"IF(OFFSET(DE104_9!$O$104,ROWS($O$104:O137)-1,COLUMNS($O$104:O137)-1)<>\"\",OFFSET(DE104_9!$O$104,ROWS($O$104:O137)-1,COLUMNS($O$104:O137)-1),\"\")","v":""},{"$f":"IF(OFFSET(DE104_9!$P$104,ROWS($P$104:P137)-1,COLUMNS($P$104:P137)-1)<>\"\",OFFSET(DE104_9!$P$104,ROWS($P$104:P137)-1,COLUMNS($P$104:P137)-1),\"\")","v":""},{"$f":"IF(OFFSET(DE104_9!$Q$104,ROWS($Q$104:Q137)-1,COLUMNS($Q$104:Q137)-1)<>\"\",OFFSET(DE104_9!$Q$104,ROWS($Q$104:Q137)-1,COLUMNS($Q$104:Q137)-1),\"\")","v":""},{"$f":"IF(OFFSET(DE104_9!$R$104,ROWS($R$104:R137)-1,COLUMNS($R$104:R137)-1)<>\"\",OFFSET(DE104_9!$R$104,ROWS($R$104:R137)-1,COLUMNS($R$104:R137)-1),\"\")","v":""},{"$f":"IF(OFFSET(DE104_9!$S$104,ROWS($S$104:S137)-1,COLUMNS($S$104:S137)-1)<>\"\",OFFSET(DE104_9!$S$104,ROWS($S$104:S137)-1,COLUMNS($S$104:S137)-1),\"\")","v":""},{"$f":"IF(OFFSET(DE104_9!$T$104,ROWS($T$104:T137)-1,COLUMNS($T$104:T137)-1)<>\"\",OFFSET(DE104_9!$T$104,ROWS($T$104:T137)-1,COLUMNS($T$104:T137)-1),\"\")","v":""}]
[{"$f":"IF(OFFSET(DE104_9!$C$104,ROWS($C$104:C138)-1,COLUMNS($C$104:C138)-1)<>\"\",OFFSET(DE104_9!$C$104,ROWS($C$104:C138)-1,COLUMNS($C$104:C138)-1),\"\")","v":""},{"$f":"IF(OFFSET(DE104_9!$D$104,ROWS($D$104:D138)-1,COLUMNS($D$104:D138)-1)<>\"\",OFFSET(DE104_9!$D$104,ROWS($D$104:D138)-1,COLUMNS($D$104:D138)-1),\"\")","v":""},{"$f":"IF(OFFSET(DE104_9!$E$104,ROWS($E$104:E138)-1,COLUMNS($E$104:E138)-1)<>\"\",OFFSET(DE104_9!$E$104,ROWS($E$104:E138)-1,COLUMNS($E$104:E138)-1),\"\")","v":""},{"$f":"IF(OFFSET(DE104_9!$F$104,ROWS($F$104:F138)-1,COLUMNS($F$104:F138)-1)<>\"\",OFFSET(DE104_9!$F$104,ROWS($F$104:F138)-1,COLUMNS($F$104:F138)-1),\"\")","v":""},{"$f":"IF(OFFSET(DE104_9!$G$104,ROWS($G$104:G138)-1,COLUMNS($G$104:G138)-1)<>\"\",OFFSET(DE104_9!$G$104,ROWS($G$104:G138)-1,COLUMNS($G$104:G138)-1),\"\")","v":""},{"$f":"IF(OFFSET(DE104_9!$H$104,ROWS($H$104:H138)-1,COLUMNS($H$104:H138)-1)<>\"\",OFFSET(DE104_9!$H$104,ROWS($H$104:H138)-1,COLUMNS($H$104:H138)-1),\"\")","v":""},{"$f":"IF(OFFSET(DE104_9!$I$104,ROWS($I$104:I138)-1,COLUMNS($I$104:I138)-1)<>\"\",OFFSET(DE104_9!$I$104,ROWS($I$104:I138)-1,COLUMNS($I$104:I138)-1),\"\")","v":""},{"$f":"IF(OFFSET(DE104_9!$J$104,ROWS($J$104:J138)-1,COLUMNS($J$104:J138)-1)<>\"\",OFFSET(DE104_9!$J$104,ROWS($J$104:J138)-1,COLUMNS($J$104:J138)-1),\"\")","v":""},{"$f":"IF(OFFSET(DE104_9!$K$104,ROWS($K$104:K138)-1,COLUMNS($K$104:K138)-1)<>\"\",OFFSET(DE104_9!$K$104,ROWS($K$104:K138)-1,COLUMNS($K$104:K138)-1),\"\")","v":""},{"$f":"IF(OFFSET(DE104_9!$L$104,ROWS($L$104:L138)-1,COLUMNS($L$104:L138)-1)<>\"\",OFFSET(DE104_9!$L$104,ROWS($L$104:L138)-1,COLUMNS($L$104:L138)-1),\"\")","v":""},{"$f":"IF(OFFSET(DE104_9!$M$104,ROWS($M$104:M138)-1,COLUMNS($M$104:M138)-1)<>\"\",OFFSET(DE104_9!$M$104,ROWS($M$104:M138)-1,COLUMNS($M$104:M138)-1),\"\")","v":""},{"$f":"IF(OFFSET(DE104_9!$N$104,ROWS($N$104:N138)-1,COLUMNS($N$104:N138)-1)<>\"\",OFFSET(DE104_9!$N$104,ROWS($N$104:N138)-1,COLUMNS($N$104:N138)-1),\"\")","v":""},{"$f":"IF(OFFSET(DE104_9!$O$104,ROWS($O$104:O138)-1,COLUMNS($O$104:O138)-1)<>\"\",OFFSET(DE104_9!$O$104,ROWS($O$104:O138)-1,COLUMNS($O$104:O138)-1),\"\")","v":""},{"$f":"IF(OFFSET(DE104_9!$P$104,ROWS($P$104:P138)-1,COLUMNS($P$104:P138)-1)<>\"\",OFFSET(DE104_9!$P$104,ROWS($P$104:P138)-1,COLUMNS($P$104:P138)-1),\"\")","v":""},{"$f":"IF(OFFSET(DE104_9!$Q$104,ROWS($Q$104:Q138)-1,COLUMNS($Q$104:Q138)-1)<>\"\",OFFSET(DE104_9!$Q$104,ROWS($Q$104:Q138)-1,COLUMNS($Q$104:Q138)-1),\"\")","v":""},{"$f":"IF(OFFSET(DE104_9!$R$104,ROWS($R$104:R138)-1,COLUMNS($R$104:R138)-1)<>\"\",OFFSET(DE104_9!$R$104,ROWS($R$104:R138)-1,COLUMNS($R$104:R138)-1),\"\")","v":""},{"$f":"IF(OFFSET(DE104_9!$S$104,ROWS($S$104:S138)-1,COLUMNS($S$104:S138)-1)<>\"\",OFFSET(DE104_9!$S$104,ROWS($S$104:S138)-1,COLUMNS($S$104:S138)-1),\"\")","v":""},{"$f":"IF(OFFSET(DE104_9!$T$104,ROWS($T$104:T138)-1,COLUMNS($T$104:T138)-1)<>\"\",OFFSET(DE104_9!$T$104,ROWS($T$104:T138)-1,COLUMNS($T$104:T138)-1),\"\")","v":""}]
[{"$f":"IF(OFFSET(DE104_9!$C$104,ROWS($C$104:C139)-1,COLUMNS($C$104:C139)-1)<>\"\",OFFSET(DE104_9!$C$104,ROWS($C$104:C139)-1,COLUMNS($C$104:C139)-1),\"\")","v":""},{"$f":"IF(OFFSET(DE104_9!$D$104,ROWS($D$104:D139)-1,COLUMNS($D$104:D139)-1)<>\"\",OFFSET(DE104_9!$D$104,ROWS($D$104:D139)-1,COLUMNS($D$104:D139)-1),\"\")","v":""},{"$f":"IF(OFFSET(DE104_9!$E$104,ROWS($E$104:E139)-1,COLUMNS($E$104:E139)-1)<>\"\",OFFSET(DE104_9!$E$104,ROWS($E$104:E139)-1,COLUMNS($E$104:E139)-1),\"\")","v":""},{"$f":"IF(OFFSET(DE104_9!$F$104,ROWS($F$104:F139)-1,COLUMNS($F$104:F139)-1)<>\"\",OFFSET(DE104_9!$F$104,ROWS($F$104:F139)-1,COLUMNS($F$104:F139)-1),\"\")","v":""},{"$f":"IF(OFFSET(DE104_9!$G$104,ROWS($G$104:G139)-1,COLUMNS($G$104:G139)-1)<>\"\",OFFSET(DE104_9!$G$104,ROWS($G$104:G139)-1,COLUMNS($G$104:G139)-1),\"\")","v":""},{"$f":"IF(OFFSET(DE104_9!$H$104,ROWS($H$104:H139)-1,COLUMNS($H$104:H139)-1)<>\"\",OFFSET(DE104_9!$H$104,ROWS($H$104:H139)-1,COLUMNS($H$104:H139)-1),\"\")","v":""},{"$f":"IF(OFFSET(DE104_9!$I$104,ROWS($I$104:I139)-1,COLUMNS($I$104:I139)-1)<>\"\",OFFSET(DE104_9!$I$104,ROWS($I$104:I139)-1,COLUMNS($I$104:I139)-1),\"\")","v":""},{"$f":"IF(OFFSET(DE104_9!$J$104,ROWS($J$104:J139)-1,COLUMNS($J$104:J139)-1)<>\"\",OFFSET(DE104_9!$J$104,ROWS($J$104:J139)-1,COLUMNS($J$104:J139)-1),\"\")","v":""},{"$f":"IF(OFFSET(DE104_9!$K$104,ROWS($K$104:K139)-1,COLUMNS($K$104:K139)-1)<>\"\",OFFSET(DE104_9!$K$104,ROWS($K$104:K139)-1,COLUMNS($K$104:K139)-1),\"\")","v":""},{"$f":"IF(OFFSET(DE104_9!$L$104,ROWS($L$104:L139)-1,COLUMNS($L$104:L139)-1)<>\"\",OFFSET(DE104_9!$L$104,ROWS($L$104:L139)-1,COLUMNS($L$104:L139)-1),\"\")","v":""},{"$f":"IF(OFFSET(DE104_9!$M$104,ROWS($M$104:M139)-1,COLUMNS($M$104:M139)-1)<>\"\",OFFSET(DE104_9!$M$104,ROWS($M$104:M139)-1,COLUMNS($M$104:M139)-1),\"\")","v":""},{"$f":"IF(OFFSET(DE104_9!$N$104,ROWS($N$104:N139)-1,COLUMNS($N$104:N139)-1)<>\"\",OFFSET(DE104_9!$N$104,ROWS($N$104:N139)-1,COLUMNS($N$104:N139)-1),\"\")","v":""},{"$f":"IF(OFFSET(DE104_9!$O$104,ROWS($O$104:O139)-1,COLUMNS($O$104:O139)-1)<>\"\",OFFSET(DE104_9!$O$104,ROWS($O$104:O139)-1,COLUMNS($O$104:O139)-1),\"\")","v":""},{"$f":"IF(OFFSET(DE104_9!$P$104,ROWS($P$104:P139)-1,COLUMNS($P$104:P139)-1)<>\"\",OFFSET(DE104_9!$P$104,ROWS($P$104:P139)-1,COLUMNS($P$104:P139)-1),\"\")","v":""},{"$f":"IF(OFFSET(DE104_9!$Q$104,ROWS($Q$104:Q139)-1,COLUMNS($Q$104:Q139)-1)<>\"\",OFFSET(DE104_9!$Q$104,ROWS($Q$104:Q139)-1,COLUMNS($Q$104:Q139)-1),\"\")","v":""},{"$f":"IF(OFFSET(DE104_9!$R$104,ROWS($R$104:R139)-1,COLUMNS($R$104:R139)-1)<>\"\",OFFSET(DE104_9!$R$104,ROWS($R$104:R139)-1,COLUMNS($R$104:R139)-1),\"\")","v":""},{"$f":"IF(OFFSET(DE104_9!$S$104,ROWS($S$104:S139)-1,COLUMNS($S$104:S139)-1)<>\"\",OFFSET(DE104_9!$S$104,ROWS($S$104:S139)-1,COLUMNS($S$104:S139)-1),\"\")","v":""},{"$f":"IF(OFFSET(DE104_9!$T$104,ROWS($T$104:T139)-1,COLUMNS($T$104:T139)-1)<>\"\",OFFSET(DE104_9!$T$104,ROWS($T$104:T139)-1,COLUMNS($T$104:T139)-1),\"\")","v":""}]
[{"$f":"IF(OFFSET(DE104_9!$C$104,ROWS($C$104:C140)-1,COLUMNS($C$104:C140)-1)<>\"\",OFFSET(DE104_9!$C$104,ROWS($C$104:C140)-1,COLUMNS($C$104:C140)-1),\"\")","v":""},{"$f":"IF(OFFSET(DE104_9!$D$104,ROWS($D$104:D140)-1,COLUMNS($D$104:D140)-1)<>\"\",OFFSET(DE104_9!$D$104,ROWS($D$104:D140)-1,COLUMNS($D$104:D140)-1),\"\")","v":""},{"$f":"IF(OFFSET(DE104_9!$E$104,ROWS($E$104:E140)-1,COLUMNS($E$104:E140)-1)<>\"\",OFFSET(DE104_9!$E$104,ROWS($E$104:E140)-1,COLUMNS($E$104:E140)-1),\"\")","v":""},{"$f":"IF(OFFSET(DE104_9!$F$104,ROWS($F$104:F140)-1,COLUMNS($F$104:F140)-1)<>\"\",OFFSET(DE104_9!$F$104,ROWS($F$104:F140)-1,COLUMNS($F$104:F140)-1),\"\")","v":""},{"$f":"IF(OFFSET(DE104_9!$G$104,ROWS($G$104:G140)-1,COLUMNS($G$104:G140)-1)<>\"\",OFFSET(DE104_9!$G$104,ROWS($G$104:G140)-1,COLUMNS($G$104:G140)-1),\"\")","v":""},{"$f":"IF(OFFSET(DE104_9!$H$104,ROWS($H$104:H140)-1,COLUMNS($H$104:H140)-1)<>\"\",OFFSET(DE104_9!$H$104,ROWS($H$104:H140)-1,COLUMNS($H$104:H140)-1),\"\")","v":""},{"$f":"IF(OFFSET(DE104_9!$I$104,ROWS($I$104:I140)-1,COLUMNS($I$104:I140)-1)<>\"\",OFFSET(DE104_9!$I$104,ROWS($I$104:I140)-1,COLUMNS($I$104:I140)-1),\"\")","v":""},{"$f":"IF(OFFSET(DE104_9!$J$104,ROWS($J$104:J140)-1,COLUMNS($J$104:J140)-1)<>\"\",OFFSET(DE104_9!$J$104,ROWS($J$104:J140)-1,COLUMNS($J$104:J140)-1),\"\")","v":""},{"$f":"IF(OFFSET(DE104_9!$K$104,ROWS($K$104:K140)-1,COLUMNS($K$104:K140)-1)<>\"\",OFFSET(DE104_9!$K$104,ROWS($K$104:K140)-1,COLUMNS($K$104:K140)-1),\"\")","v":""},{"$f":"IF(OFFSET(DE104_9!$L$104,ROWS($L$104:L140)-1,COLUMNS($L$104:L140)-1)<>\"\",OFFSET(DE104_9!$L$104,ROWS($L$104:L140)-1,COLUMNS($L$104:L140)-1),\"\")","v":""},{"$f":"IF(OFFSET(DE104_9!$M$104,ROWS($M$104:M140)-1,COLUMNS($M$104:M140)-1)<>\"\",OFFSET(DE104_9!$M$104,ROWS($M$104:M140)-1,COLUMNS($M$104:M140)-1),\"\")","v":""},{"$f":"IF(OFFSET(DE104_9!$N$104,ROWS($N$104:N140)-1,COLUMNS($N$104:N140)-1)<>\"\",OFFSET(DE104_9!$N$104,ROWS($N$104:N140)-1,COLUMNS($N$104:N140)-1),\"\")","v":""},{"$f":"IF(OFFSET(DE104_9!$O$104,ROWS($O$104:O140)-1,COLUMNS($O$104:O140)-1)<>\"\",OFFSET(DE104_9!$O$104,ROWS($O$104:O140)-1,COLUMNS($O$104:O140)-1),\"\")","v":""},{"$f":"IF(OFFSET(DE104_9!$P$104,ROWS($P$104:P140)-1,COLUMNS($P$104:P140)-1)<>\"\",OFFSET(DE104_9!$P$104,ROWS($P$104:P140)-1,COLUMNS($P$104:P140)-1),\"\")","v":""},{"$f":"IF(OFFSET(DE104_9!$Q$104,ROWS($Q$104:Q140)-1,COLUMNS($Q$104:Q140)-1)<>\"\",OFFSET(DE104_9!$Q$104,ROWS($Q$104:Q140)-1,COLUMNS($Q$104:Q140)-1),\"\")","v":""},{"$f":"IF(OFFSET(DE104_9!$R$104,ROWS($R$104:R140)-1,COLUMNS($R$104:R140)-1)<>\"\",OFFSET(DE104_9!$R$104,ROWS($R$104:R140)-1,COLUMNS($R$104:R140)-1),\"\")","v":""},{"$f":"IF(OFFSET(DE104_9!$S$104,ROWS($S$104:S140)-1,COLUMNS($S$104:S140)-1)<>\"\",OFFSET(DE104_9!$S$104,ROWS($S$104:S140)-1,COLUMNS($S$104:S140)-1),\"\")","v":""},{"$f":"IF(OFFSET(DE104_9!$T$104,ROWS($T$104:T140)-1,COLUMNS($T$104:T140)-1)<>\"\",OFFSET(DE104_9!$T$104,ROWS($T$104:T140)-1,COLUMNS($T$104:T140)-1),\"\")","v":""}]
[{"$f":"IF(OFFSET(DE104_9!$C$104,ROWS($C$104:C141)-1,COLUMNS($C$104:C141)-1)<>\"\",OFFSET(DE104_9!$C$104,ROWS($C$104:C141)-1,COLUMNS($C$104:C141)-1),\"\")","v":""},{"$f":"IF(OFFSET(DE104_9!$D$104,ROWS($D$104:D141)-1,COLUMNS($D$104:D141)-1)<>\"\",OFFSET(DE104_9!$D$104,ROWS($D$104:D141)-1,COLUMNS($D$104:D141)-1),\"\")","v":""},{"$f":"IF(OFFSET(DE104_9!$E$104,ROWS($E$104:E141)-1,COLUMNS($E$104:E141)-1)<>\"\",OFFSET(DE104_9!$E$104,ROWS($E$104:E141)-1,COLUMNS($E$104:E141)-1),\"\")","v":""},{"$f":"IF(OFFSET(DE104_9!$F$104,ROWS($F$104:F141)-1,COLUMNS($F$104:F141)-1)<>\"\",OFFSET(DE104_9!$F$104,ROWS($F$104:F141)-1,COLUMNS($F$104:F141)-1),\"\")","v":""},{"$f":"IF(OFFSET(DE104_9!$G$104,ROWS($G$104:G141)-1,COLUMNS($G$104:G141)-1)<>\"\",OFFSET(DE104_9!$G$104,ROWS($G$104:G141)-1,COLUMNS($G$104:G141)-1),\"\")","v":""},{"$f":"IF(OFFSET(DE104_9!$H$104,ROWS($H$104:H141)-1,COLUMNS($H$104:H141)-1)<>\"\",OFFSET(DE104_9!$H$104,ROWS($H$104:H141)-1,COLUMNS($H$104:H141)-1),\"\")","v":""},{"$f":"IF(OFFSET(DE104_9!$I$104,ROWS($I$104:I141)-1,COLUMNS($I$104:I141)-1)<>\"\",OFFSET(DE104_9!$I$104,ROWS($I$104:I141)-1,COLUMNS($I$104:I141)-1),\"\")","v":""},{"$f":"IF(OFFSET(DE104_9!$J$104,ROWS($J$104:J141)-1,COLUMNS($J$104:J141)-1)<>\"\",OFFSET(DE104_9!$J$104,ROWS($J$104:J141)-1,COLUMNS($J$104:J141)-1),\"\")","v":""},{"$f":"IF(OFFSET(DE104_9!$K$104,ROWS($K$104:K141)-1,COLUMNS($K$104:K141)-1)<>\"\",OFFSET(DE104_9!$K$104,ROWS($K$104:K141)-1,COLUMNS($K$104:K141)-1),\"\")","v":""},{"$f":"IF(OFFSET(DE104_9!$L$104,ROWS($L$104:L141)-1,COLUMNS($L$104:L141)-1)<>\"\",OFFSET(DE104_9!$L$104,ROWS($L$104:L141)-1,COLUMNS($L$104:L141)-1),\"\")","v":""},{"$f":"IF(OFFSET(DE104_9!$M$104,ROWS($M$104:M141)-1,COLUMNS($M$104:M141)-1)<>\"\",OFFSET(DE104_9!$M$104,ROWS($M$104:M141)-1,COLUMNS($M$104:M141)-1),\"\")","v":""},{"$f":"IF(OFFSET(DE104_9!$N$104,ROWS($N$104:N141)-1,COLUMNS($N$104:N141)-1)<>\"\",OFFSET(DE104_9!$N$104,ROWS($N$104:N141)-1,COLUMNS($N$104:N141)-1),\"\")","v":""},{"$f":"IF(OFFSET(DE104_9!$O$104,ROWS($O$104:O141)-1,COLUMNS($O$104:O141)-1)<>\"\",OFFSET(DE104_9!$O$104,ROWS($O$104:O141)-1,COLUMNS($O$104:O141)-1),\"\")","v":""},{"$f":"IF(OFFSET(DE104_9!$P$104,ROWS($P$104:P141)-1,COLUMNS($P$104:P141)-1)<>\"\",OFFSET(DE104_9!$P$104,ROWS($P$104:P141)-1,COLUMNS($P$104:P141)-1),\"\")","v":""},{"$f":"IF(OFFSET(DE104_9!$Q$104,ROWS($Q$104:Q141)-1,COLUMNS($Q$104:Q141)-1)<>\"\",OFFSET(DE104_9!$Q$104,ROWS($Q$104:Q141)-1,COLUMNS($Q$104:Q141)-1),\"\")","v":""},{"$f":"IF(OFFSET(DE104_9!$R$104,ROWS($R$104:R141)-1,COLUMNS($R$104:R141)-1)<>\"\",OFFSET(DE104_9!$R$104,ROWS($R$104:R141)-1,COLUMNS($R$104:R141)-1),\"\")","v":""},{"$f":"IF(OFFSET(DE104_9!$S$104,ROWS($S$104:S141)-1,COLUMNS($S$104:S141)-1)<>\"\",OFFSET(DE104_9!$S$104,ROWS($S$104:S141)-1,COLUMNS($S$104:S141)-1),\"\")","v":""},{"$f":"IF(OFFSET(DE104_9!$T$104,ROWS($T$104:T141)-1,COLUMNS($T$104:T141)-1)<>\"\",OFFSET(DE104_9!$T$104,ROWS($T$104:T141)-1,COLUMNS($T$104:T141)-1),\"\")","v":""}]
[{"$f":"IF(OFFSET(DE104_9!$C$104,ROWS($C$104:C142)-1,COLUMNS($C$104:C142)-1)<>\"\",OFFSET(DE104_9!$C$104,ROWS($C$104:C142)-1,COLUMNS($C$104:C142)-1),\"\")","v":""},{"$f":"IF(OFFSET(DE104_9!$D$104,ROWS($D$104:D142)-1,COLUMNS($D$104:D142)-1)<>\"\",OFFSET(DE104_9!$D$104,ROWS($D$104:D142)-1,COLUMNS($D$104:D142)-1),\"\")","v":""},{"$f":"IF(OFFSET(DE104_9!$E$104,ROWS($E$104:E142)-1,COLUMNS($E$104:E142)-1)<>\"\",OFFSET(DE104_9!$E$104,ROWS($E$104:E142)-1,COLUMNS($E$104:E142)-1),\"\")","v":""},{"$f":"IF(OFFSET(DE104_9!$F$104,ROWS($F$104:F142)-1,COLUMNS($F$104:F142)-1)<>\"\",OFFSET(DE104_9!$F$104,ROWS($F$104:F142)-1,COLUMNS($F$104:F142)-1),\"\")","v":""},{"$f":"IF(OFFSET(DE104_9!$G$104,ROWS($G$104:G142)-1,COLUMNS($G$104:G142)-1)<>\"\",OFFSET(DE104_9!$G$104,ROWS($G$104:G142)-1,COLUMNS($G$104:G142)-1),\"\")","v":""},{"$f":"IF(OFFSET(DE104_9!$H$104,ROWS($H$104:H142)-1,COLUMNS($H$104:H142)-1)<>\"\",OFFSET(DE104_9!$H$104,ROWS($H$104:H142)-1,COLUMNS($H$104:H142)-1),\"\")","v":""},{"$f":"IF(OFFSET(DE104_9!$I$104,ROWS($I$104:I142)-1,COLUMNS($I$104:I142)-1)<>\"\",OFFSET(DE104_9!$I$104,ROWS($I$104:I142)-1,COLUMNS($I$104:I142)-1),\"\")","v":""},{"$f":"IF(OFFSET(DE104_9!$J$104,ROWS($J$104:J142)-1,COLUMNS($J$104:J142)-1)<>\"\",OFFSET(DE104_9!$J$104,ROWS($J$104:J142)-1,COLUMNS($J$104:J142)-1),\"\")","v":""},{"$f":"IF(OFFSET(DE104_9!$K$104,ROWS($K$104:K142)-1,COLUMNS($K$104:K142)-1)<>\"\",OFFSET(DE104_9!$K$104,ROWS($K$104:K142)-1,COLUMNS($K$104:K142)-1),\"\")","v":""},{"$f":"IF(OFFSET(DE104_9!$L$104,ROWS($L$104:L142)-1,COLUMNS($L$104:L142)-1)<>\"\",OFFSET(DE104_9!$L$104,ROWS($L$104:L142)-1,COLUMNS($L$104:L142)-1),\"\")","v":""},{"$f":"IF(OFFSET(DE104_9!$M$104,ROWS($M$104:M142)-1,COLUMNS($M$104:M142)-1)<>\"\",OFFSET(DE104_9!$M$104,ROWS($M$104:M142)-1,COLUMNS($M$104:M142)-1),\"\")","v":""},{"$f":"IF(OFFSET(DE104_9!$N$104,ROWS($N$104:N142)-1,COLUMNS($N$104:N142)-1)<>\"\",OFFSET(DE104_9!$N$104,ROWS($N$104:N142)-1,COLUMNS($N$104:N142)-1),\"\")","v":""},{"$f":"IF(OFFSET(DE104_9!$O$104,ROWS($O$104:O142)-1,COLUMNS($O$104:O142)-1)<>\"\",OFFSET(DE104_9!$O$104,ROWS($O$104:O142)-1,COLUMNS($O$104:O142)-1),\"\")","v":""},{"$f":"IF(OFFSET(DE104_9!$P$104,ROWS($P$104:P142)-1,COLUMNS($P$104:P142)-1)<>\"\",OFFSET(DE104_9!$P$104,ROWS($P$104:P142)-1,COLUMNS($P$104:P142)-1),\"\")","v":""},{"$f":"IF(OFFSET(DE104_9!$Q$104,ROWS($Q$104:Q142)-1,COLUMNS($Q$104:Q142)-1)<>\"\",OFFSET(DE104_9!$Q$104,ROWS($Q$104:Q142)-1,COLUMNS($Q$104:Q142)-1),\"\")","v":""},{"$f":"IF(OFFSET(DE104_9!$R$104,ROWS($R$104:R142)-1,COLUMNS($R$104:R142)-1)<>\"\",OFFSET(DE104_9!$R$104,ROWS($R$104:R142)-1,COLUMNS($R$104:R142)-1),\"\")","v":""},{"$f":"IF(OFFSET(DE104_9!$S$104,ROWS($S$104:S142)-1,COLUMNS($S$104:S142)-1)<>\"\",OFFSET(DE104_9!$S$104,ROWS($S$104:S142)-1,COLUMNS($S$104:S142)-1),\"\")","v":""},{"$f":"IF(OFFSET(DE104_9!$T$104,ROWS($T$104:T142)-1,COLUMNS($T$104:T142)-1)<>\"\",OFFSET(DE104_9!$T$104,ROWS($T$104:T142)-1,COLUMNS($T$104:T142)-1),\"\")","v":""}]
[{"$f":"IF(OFFSET(DE104_9!$C$104,ROWS($C$104:C143)-1,COLUMNS($C$104:C143)-1)<>\"\",OFFSET(DE104_9!$C$104,ROWS($C$104:C143)-1,COLUMNS($C$104:C143)-1),\"\")","v":""},{"$f":"IF(OFFSET(DE104_9!$D$104,ROWS($D$104:D143)-1,COLUMNS($D$104:D143)-1)<>\"\",OFFSET(DE104_9!$D$104,ROWS($D$104:D143)-1,COLUMNS($D$104:D143)-1),\"\")","v":""},{"$f":"IF(OFFSET(DE104_9!$E$104,ROWS($E$104:E143)-1,COLUMNS($E$104:E143)-1)<>\"\",OFFSET(DE104_9!$E$104,ROWS($E$104:E143)-1,COLUMNS($E$104:E143)-1),\"\")","v":""},{"$f":"IF(OFFSET(DE104_9!$F$104,ROWS($F$104:F143)-1,COLUMNS($F$104:F143)-1)<>\"\",OFFSET(DE104_9!$F$104,ROWS($F$104:F143)-1,COLUMNS($F$104:F143)-1),\"\")","v":""},{"$f":"IF(OFFSET(DE104_9!$G$104,ROWS($G$104:G143)-1,COLUMNS($G$104:G143)-1)<>\"\",OFFSET(DE104_9!$G$104,ROWS($G$104:G143)-1,COLUMNS($G$104:G143)-1),\"\")","v":""},{"$f":"IF(OFFSET(DE104_9!$H$104,ROWS($H$104:H143)-1,COLUMNS($H$104:H143)-1)<>\"\",OFFSET(DE104_9!$H$104,ROWS($H$104:H143)-1,COLUMNS($H$104:H143)-1),\"\")","v":""},{"$f":"IF(OFFSET(DE104_9!$I$104,ROWS($I$104:I143)-1,COLUMNS($I$104:I143)-1)<>\"\",OFFSET(DE104_9!$I$104,ROWS($I$104:I143)-1,COLUMNS($I$104:I143)-1),\"\")","v":""},{"$f":"IF(OFFSET(DE104_9!$J$104,ROWS($J$104:J143)-1,COLUMNS($J$104:J143)-1)<>\"\",OFFSET(DE104_9!$J$104,ROWS($J$104:J143)-1,COLUMNS($J$104:J143)-1),\"\")","v":""},{"$f":"IF(OFFSET(DE104_9!$K$104,ROWS($K$104:K143)-1,COLUMNS($K$104:K143)-1)<>\"\",OFFSET(DE104_9!$K$104,ROWS($K$104:K143)-1,COLUMNS($K$104:K143)-1),\"\")","v":""},{"$f":"IF(OFFSET(DE104_9!$L$104,ROWS($L$104:L143)-1,COLUMNS($L$104:L143)-1)<>\"\",OFFSET(DE104_9!$L$104,ROWS($L$104:L143)-1,COLUMNS($L$104:L143)-1),\"\")","v":""},{"$f":"IF(OFFSET(DE104_9!$M$104,ROWS($M$104:M143)-1,COLUMNS($M$104:M143)-1)<>\"\",OFFSET(DE104_9!$M$104,ROWS($M$104:M143)-1,COLUMNS($M$104:M143)-1),\"\")","v":""},{"$f":"IF(OFFSET(DE104_9!$N$104,ROWS($N$104:N143)-1,COLUMNS($N$104:N143)-1)<>\"\",OFFSET(DE104_9!$N$104,ROWS($N$104:N143)-1,COLUMNS($N$104:N143)-1),\"\")","v":""},{"$f":"IF(OFFSET(DE104_9!$O$104,ROWS($O$104:O143)-1,COLUMNS($O$104:O143)-1)<>\"\",OFFSET(DE104_9!$O$104,ROWS($O$104:O143)-1,COLUMNS($O$104:O143)-1),\"\")","v":""},{"$f":"IF(OFFSET(DE104_9!$P$104,ROWS($P$104:P143)-1,COLUMNS($P$104:P143)-1)<>\"\",OFFSET(DE104_9!$P$104,ROWS($P$104:P143)-1,COLUMNS($P$104:P143)-1),\"\")","v":""},{"$f":"IF(OFFSET(DE104_9!$Q$104,ROWS($Q$104:Q143)-1,COLUMNS($Q$104:Q143)-1)<>\"\",OFFSET(DE104_9!$Q$104,ROWS($Q$104:Q143)-1,COLUMNS($Q$104:Q143)-1),\"\")","v":""},{"$f":"IF(OFFSET(DE104_9!$R$104,ROWS($R$104:R143)-1,COLUMNS($R$104:R143)-1)<>\"\",OFFSET(DE104_9!$R$104,ROWS($R$104:R143)-1,COLUMNS($R$104:R143)-1),\"\")","v":""},{"$f":"IF(OFFSET(DE104_9!$S$104,ROWS($S$104:S143)-1,COLUMNS($S$104:S143)-1)<>\"\",OFFSET(DE104_9!$S$104,ROWS($S$104:S143)-1,COLUMNS($S$104:S143)-1),\"\")","v":""},{"$f":"IF(OFFSET(DE104_9!$T$104,ROWS($T$104:T143)-1,COLUMNS($T$104:T143)-1)<>\"\",OFFSET(DE104_9!$T$104,ROWS($T$104:T143)-1,COLUMNS($T$104:T143)-1),\"\")","v":""}]
[{"$f":"IF(OFFSET(DE104_9!$C$104,ROWS($C$104:C144)-1,COLUMNS($C$104:C144)-1)<>\"\",OFFSET(DE104_9!$C$104,ROWS($C$104:C144)-1,COLUMNS($C$104:C144)-1),\"\")","v":""},{"$f":"IF(OFFSET(DE104_9!$D$104,ROWS($D$104:D144)-1,COLUMNS($D$104:D144)-1)<>\"\",OFFSET(DE104_9!$D$104,ROWS($D$104:D144)-1,COLUMNS($D$104:D144)-1),\"\")","v":""},{"$f":"IF(OFFSET(DE104_9!$E$104,ROWS($E$104:E144)-1,COLUMNS($E$104:E144)-1)<>\"\",OFFSET(DE104_9!$E$104,ROWS($E$104:E144)-1,COLUMNS($E$104:E144)-1),\"\")","v":""},{"$f":"IF(OFFSET(DE104_9!$F$104,ROWS($F$104:F144)-1,COLUMNS($F$104:F144)-1)<>\"\",OFFSET(DE104_9!$F$104,ROWS($F$104:F144)-1,COLUMNS($F$104:F144)-1),\"\")","v":""},{"$f":"IF(OFFSET(DE104_9!$G$104,ROWS($G$104:G144)-1,COLUMNS($G$104:G144)-1)<>\"\",OFFSET(DE104_9!$G$104,ROWS($G$104:G144)-1,COLUMNS($G$104:G144)-1),\"\")","v":""},{"$f":"IF(OFFSET(DE104_9!$H$104,ROWS($H$104:H144)-1,COLUMNS($H$104:H144)-1)<>\"\",OFFSET(DE104_9!$H$104,ROWS($H$104:H144)-1,COLUMNS($H$104:H144)-1),\"\")","v":""},{"$f":"IF(OFFSET(DE104_9!$I$104,ROWS($I$104:I144)-1,COLUMNS($I$104:I144)-1)<>\"\",OFFSET(DE104_9!$I$104,ROWS($I$104:I144)-1,COLUMNS($I$104:I144)-1),\"\")","v":""},{"$f":"IF(OFFSET(DE104_9!$J$104,ROWS($J$104:J144)-1,COLUMNS($J$104:J144)-1)<>\"\",OFFSET(DE104_9!$J$104,ROWS($J$104:J144)-1,COLUMNS($J$104:J144)-1),\"\")","v":""},{"$f":"IF(OFFSET(DE104_9!$K$104,ROWS($K$104:K144)-1,COLUMNS($K$104:K144)-1)<>\"\",OFFSET(DE104_9!$K$104,ROWS($K$104:K144)-1,COLUMNS($K$104:K144)-1),\"\")","v":""},{"$f":"IF(OFFSET(DE104_9!$L$104,ROWS($L$104:L144)-1,COLUMNS($L$104:L144)-1)<>\"\",OFFSET(DE104_9!$L$104,ROWS($L$104:L144)-1,COLUMNS($L$104:L144)-1),\"\")","v":""},{"$f":"IF(OFFSET(DE104_9!$M$104,ROWS($M$104:M144)-1,COLUMNS($M$104:M144)-1)<>\"\",OFFSET(DE104_9!$M$104,ROWS($M$104:M144)-1,COLUMNS($M$104:M144)-1),\"\")","v":""},{"$f":"IF(OFFSET(DE104_9!$N$104,ROWS($N$104:N144)-1,COLUMNS($N$104:N144)-1)<>\"\",OFFSET(DE104_9!$N$104,ROWS($N$104:N144)-1,COLUMNS($N$104:N144)-1),\"\")","v":""},{"$f":"IF(OFFSET(DE104_9!$O$104,ROWS($O$104:O144)-1,COLUMNS($O$104:O144)-1)<>\"\",OFFSET(DE104_9!$O$104,ROWS($O$104:O144)-1,COLUMNS($O$104:O144)-1),\"\")","v":""},{"$f":"IF(OFFSET(DE104_9!$P$104,ROWS($P$104:P144)-1,COLUMNS($P$104:P144)-1)<>\"\",OFFSET(DE104_9!$P$104,ROWS($P$104:P144)-1,COLUMNS($P$104:P144)-1),\"\")","v":""},{"$f":"IF(OFFSET(DE104_9!$Q$104,ROWS($Q$104:Q144)-1,COLUMNS($Q$104:Q144)-1)<>\"\",OFFSET(DE104_9!$Q$104,ROWS($Q$104:Q144)-1,COLUMNS($Q$104:Q144)-1),\"\")","v":""},{"$f":"IF(OFFSET(DE104_9!$R$104,ROWS($R$104:R144)-1,COLUMNS($R$104:R144)-1)<>\"\",OFFSET(DE104_9!$R$104,ROWS($R$104:R144)-1,COLUMNS($R$104:R144)-1),\"\")","v":""},{"$f":"IF(OFFSET(DE104_9!$S$104,ROWS($S$104:S144)-1,COLUMNS($S$104:S144)-1)<>\"\",OFFSET(DE104_9!$S$104,ROWS($S$104:S144)-1,COLUMNS($S$104:S144)-1),\"\")","v":""},{"$f":"IF(OFFSET(DE104_9!$T$104,ROWS($T$104:T144)-1,COLUMNS($T$104:T144)-1)<>\"\",OFFSET(DE104_9!$T$104,ROWS($T$104:T144)-1,COLUMNS($T$104:T144)-1),\"\")","v":""}]
[{"$f":"IF(OFFSET(DE104_9!$C$104,ROWS($C$104:C145)-1,COLUMNS($C$104:C145)-1)<>\"\",OFFSET(DE104_9!$C$104,ROWS($C$104:C145)-1,COLUMNS($C$104:C145)-1),\"\")","v":""},{"$f":"IF(OFFSET(DE104_9!$D$104,ROWS($D$104:D145)-1,COLUMNS($D$104:D145)-1)<>\"\",OFFSET(DE104_9!$D$104,ROWS($D$104:D145)-1,COLUMNS($D$104:D145)-1),\"\")","v":""},{"$f":"IF(OFFSET(DE104_9!$E$104,ROWS($E$104:E145)-1,COLUMNS($E$104:E145)-1)<>\"\",OFFSET(DE104_9!$E$104,ROWS($E$104:E145)-1,COLUMNS($E$104:E145)-1),\"\")","v":""},{"$f":"IF(OFFSET(DE104_9!$F$104,ROWS($F$104:F145)-1,COLUMNS($F$104:F145)-1)<>\"\",OFFSET(DE104_9!$F$104,ROWS($F$104:F145)-1,COLUMNS($F$104:F145)-1),\"\")","v":""},{"$f":"IF(OFFSET(DE104_9!$G$104,ROWS($G$104:G145)-1,COLUMNS($G$104:G145)-1)<>\"\",OFFSET(DE104_9!$G$104,ROWS($G$104:G145)-1,COLUMNS($G$104:G145)-1),\"\")","v":""},{"$f":"IF(OFFSET(DE104_9!$H$104,ROWS($H$104:H145)-1,COLUMNS($H$104:H145)-1)<>\"\",OFFSET(DE104_9!$H$104,ROWS($H$104:H145)-1,COLUMNS($H$104:H145)-1),\"\")","v":""},{"$f":"IF(OFFSET(DE104_9!$I$104,ROWS($I$104:I145)-1,COLUMNS($I$104:I145)-1)<>\"\",OFFSET(DE104_9!$I$104,ROWS($I$104:I145)-1,COLUMNS($I$104:I145)-1),\"\")","v":""},{"$f":"IF(OFFSET(DE104_9!$J$104,ROWS($J$104:J145)-1,COLUMNS($J$104:J145)-1)<>\"\",OFFSET(DE104_9!$J$104,ROWS($J$104:J145)-1,COLUMNS($J$104:J145)-1),\"\")","v":""},{"$f":"IF(OFFSET(DE104_9!$K$104,ROWS($K$104:K145)-1,COLUMNS($K$104:K145)-1)<>\"\",OFFSET(DE104_9!$K$104,ROWS($K$104:K145)-1,COLUMNS($K$104:K145)-1),\"\")","v":""},{"$f":"IF(OFFSET(DE104_9!$L$104,ROWS($L$104:L145)-1,COLUMNS($L$104:L145)-1)<>\"\",OFFSET(DE104_9!$L$104,ROWS($L$104:L145)-1,COLUMNS($L$104:L145)-1),\"\")","v":""},{"$f":"IF(OFFSET(DE104_9!$M$104,ROWS($M$104:M145)-1,COLUMNS($M$104:M145)-1)<>\"\",OFFSET(DE104_9!$M$104,ROWS($M$104:M145)-1,COLUMNS($M$104:M145)-1),\"\")","v":""},{"$f":"IF(OFFSET(DE104_9!$N$104,ROWS($N$104:N145)-1,COLUMNS($N$104:N145)-1)<>\"\",OFFSET(DE104_9!$N$104,ROWS($N$104:N145)-1,COLUMNS($N$104:N145)-1),\"\")","v":""},{"$f":"IF(OFFSET(DE104_9!$O$104,ROWS($O$104:O145)-1,COLUMNS($O$104:O145)-1)<>\"\",OFFSET(DE104_9!$O$104,ROWS($O$104:O145)-1,COLUMNS($O$104:O145)-1),\"\")","v":""},{"$f":"IF(OFFSET(DE104_9!$P$104,ROWS($P$104:P145)-1,COLUMNS($P$104:P145)-1)<>\"\",OFFSET(DE104_9!$P$104,ROWS($P$104:P145)-1,COLUMNS($P$104:P145)-1),\"\")","v":""},{"$f":"IF(OFFSET(DE104_9!$Q$104,ROWS($Q$104:Q145)-1,COLUMNS($Q$104:Q145)-1)<>\"\",OFFSET(DE104_9!$Q$104,ROWS($Q$104:Q145)-1,COLUMNS($Q$104:Q145)-1),\"\")","v":""},{"$f":"IF(OFFSET(DE104_9!$R$104,ROWS($R$104:R145)-1,COLUMNS($R$104:R145)-1)<>\"\",OFFSET(DE104_9!$R$104,ROWS($R$104:R145)-1,COLUMNS($R$104:R145)-1),\"\")","v":""},{"$f":"IF(OFFSET(DE104_9!$S$104,ROWS($S$104:S145)-1,COLUMNS($S$104:S145)-1)<>\"\",OFFSET(DE104_9!$S$104,ROWS($S$104:S145)-1,COLUMNS($S$104:S145)-1),\"\")","v":""},{"$f":"IF(OFFSET(DE104_9!$T$104,ROWS($T$104:T145)-1,COLUMNS($T$104:T145)-1)<>\"\",OFFSET(DE104_9!$T$104,ROWS($T$104:T145)-1,COLUMNS($T$104:T145)-1),\"\")","v":""}]
[{"$f":"IF(OFFSET(DE104_9!$C$104,ROWS($C$104:C146)-1,COLUMNS($C$104:C146)-1)<>\"\",OFFSET(DE104_9!$C$104,ROWS($C$104:C146)-1,COLUMNS($C$104:C146)-1),\"\")","v":""},{"$f":"IF(OFFSET(DE104_9!$D$104,ROWS($D$104:D146)-1,COLUMNS($D$104:D146)-1)<>\"\",OFFSET(DE104_9!$D$104,ROWS($D$104:D146)-1,COLUMNS($D$104:D146)-1),\"\")","v":""},{"$f":"IF(OFFSET(DE104_9!$E$104,ROWS($E$104:E146)-1,COLUMNS($E$104:E146)-1)<>\"\",OFFSET(DE104_9!$E$104,ROWS($E$104:E146)-1,COLUMNS($E$104:E146)-1),\"\")","v":""},{"$f":"IF(OFFSET(DE104_9!$F$104,ROWS($F$104:F146)-1,COLUMNS($F$104:F146)-1)<>\"\",OFFSET(DE104_9!$F$104,ROWS($F$104:F146)-1,COLUMNS($F$104:F146)-1),\"\")","v":""},{"$f":"IF(OFFSET(DE104_9!$G$104,ROWS($G$104:G146)-1,COLUMNS($G$104:G146)-1)<>\"\",OFFSET(DE104_9!$G$104,ROWS($G$104:G146)-1,COLUMNS($G$104:G146)-1),\"\")","v":""},{"$f":"IF(OFFSET(DE104_9!$H$104,ROWS($H$104:H146)-1,COLUMNS($H$104:H146)-1)<>\"\",OFFSET(DE104_9!$H$104,ROWS($H$104:H146)-1,COLUMNS($H$104:H146)-1),\"\")","v":""},{"$f":"IF(OFFSET(DE104_9!$I$104,ROWS($I$104:I146)-1,COLUMNS($I$104:I146)-1)<>\"\",OFFSET(DE104_9!$I$104,ROWS($I$104:I146)-1,COLUMNS($I$104:I146)-1),\"\")","v":""},{"$f":"IF(OFFSET(DE104_9!$J$104,ROWS($J$104:J146)-1,COLUMNS($J$104:J146)-1)<>\"\",OFFSET(DE104_9!$J$104,ROWS($J$104:J146)-1,COLUMNS($J$104:J146)-1),\"\")","v":""},{"$f":"IF(OFFSET(DE104_9!$K$104,ROWS($K$104:K146)-1,COLUMNS($K$104:K146)-1)<>\"\",OFFSET(DE104_9!$K$104,ROWS($K$104:K146)-1,COLUMNS($K$104:K146)-1),\"\")","v":""},{"$f":"IF(OFFSET(DE104_9!$L$104,ROWS($L$104:L146)-1,COLUMNS($L$104:L146)-1)<>\"\",OFFSET(DE104_9!$L$104,ROWS($L$104:L146)-1,COLUMNS($L$104:L146)-1),\"\")","v":""},{"$f":"IF(OFFSET(DE104_9!$M$104,ROWS($M$104:M146)-1,COLUMNS($M$104:M146)-1)<>\"\",OFFSET(DE104_9!$M$104,ROWS($M$104:M146)-1,COLUMNS($M$104:M146)-1),\"\")","v":""},{"$f":"IF(OFFSET(DE104_9!$N$104,ROWS($N$104:N146)-1,COLUMNS($N$104:N146)-1)<>\"\",OFFSET(DE104_9!$N$104,ROWS($N$104:N146)-1,COLUMNS($N$104:N146)-1),\"\")","v":""},{"$f":"IF(OFFSET(DE104_9!$O$104,ROWS($O$104:O146)-1,COLUMNS($O$104:O146)-1)<>\"\",OFFSET(DE104_9!$O$104,ROWS($O$104:O146)-1,COLUMNS($O$104:O146)-1),\"\")","v":""},{"$f":"IF(OFFSET(DE104_9!$P$104,ROWS($P$104:P146)-1,COLUMNS($P$104:P146)-1)<>\"\",OFFSET(DE104_9!$P$104,ROWS($P$104:P146)-1,COLUMNS($P$104:P146)-1),\"\")","v":""},{"$f":"IF(OFFSET(DE104_9!$Q$104,ROWS($Q$104:Q146)-1,COLUMNS($Q$104:Q146)-1)<>\"\",OFFSET(DE104_9!$Q$104,ROWS($Q$104:Q146)-1,COLUMNS($Q$104:Q146)-1),\"\")","v":""},{"$f":"IF(OFFSET(DE104_9!$R$104,ROWS($R$104:R146)-1,COLUMNS($R$104:R146)-1)<>\"\",OFFSET(DE104_9!$R$104,ROWS($R$104:R146)-1,COLUMNS($R$104:R146)-1),\"\")","v":""},{"$f":"IF(OFFSET(DE104_9!$S$104,ROWS($S$104:S146)-1,COLUMNS($S$104:S146)-1)<>\"\",OFFSET(DE104_9!$S$104,ROWS($S$104:S146)-1,COLUMNS($S$104:S146)-1),\"\")","v":""},{"$f":"IF(OFFSET(DE104_9!$T$104,ROWS($T$104:T146)-1,COLUMNS($T$104:T146)-1)<>\"\",OFFSET(DE104_9!$T$104,ROWS($T$104:T146)-1,COLUMNS($T$104:T146)-1),\"\")","v":""}]
[{"$f":"IF(OFFSET(DE104_9!$C$104,ROWS($C$104:C147)-1,COLUMNS($C$104:C147)-1)<>\"\",OFFSET(DE104_9!$C$104,ROWS($C$104:C147)-1,COLUMNS($C$104:C147)-1),\"\")","v":""},{"$f":"IF(OFFSET(DE104_9!$D$104,ROWS($D$104:D147)-1,COLUMNS($D$104:D147)-1)<>\"\",OFFSET(DE104_9!$D$104,ROWS($D$104:D147)-1,COLUMNS($D$104:D147)-1),\"\")","v":""},{"$f":"IF(OFFSET(DE104_9!$E$104,ROWS($E$104:E147)-1,COLUMNS($E$104:E147)-1)<>\"\",OFFSET(DE104_9!$E$104,ROWS($E$104:E147)-1,COLUMNS($E$104:E147)-1),\"\")","v":""},{"$f":"IF(OFFSET(DE104_9!$F$104,ROWS($F$104:F147)-1,COLUMNS($F$104:F147)-1)<>\"\",OFFSET(DE104_9!$F$104,ROWS($F$104:F147)-1,COLUMNS($F$104:F147)-1),\"\")","v":""},{"$f":"IF(OFFSET(DE104_9!$G$104,ROWS($G$104:G147)-1,COLUMNS($G$104:G147)-1)<>\"\",OFFSET(DE104_9!$G$104,ROWS($G$104:G147)-1,COLUMNS($G$104:G147)-1),\"\")","v":""},{"$f":"IF(OFFSET(DE104_9!$H$104,ROWS($H$104:H147)-1,COLUMNS($H$104:H147)-1)<>\"\",OFFSET(DE104_9!$H$104,ROWS($H$104:H147)-1,COLUMNS($H$104:H147)-1),\"\")","v":""},{"$f":"IF(OFFSET(DE104_9!$I$104,ROWS($I$104:I147)-1,COLUMNS($I$104:I147)-1)<>\"\",OFFSET(DE104_9!$I$104,ROWS($I$104:I147)-1,COLUMNS($I$104:I147)-1),\"\")","v":""},{"$f":"IF(OFFSET(DE104_9!$J$104,ROWS($J$104:J147)-1,COLUMNS($J$104:J147)-1)<>\"\",OFFSET(DE104_9!$J$104,ROWS($J$104:J147)-1,COLUMNS($J$104:J147)-1),\"\")","v":""},{"$f":"IF(OFFSET(DE104_9!$K$104,ROWS($K$104:K147)-1,COLUMNS($K$104:K147)-1)<>\"\",OFFSET(DE104_9!$K$104,ROWS($K$104:K147)-1,COLUMNS($K$104:K147)-1),\"\")","v":""},{"$f":"IF(OFFSET(DE104_9!$L$104,ROWS($L$104:L147)-1,COLUMNS($L$104:L147)-1)<>\"\",OFFSET(DE104_9!$L$104,ROWS($L$104:L147)-1,COLUMNS($L$104:L147)-1),\"\")","v":""},{"$f":"IF(OFFSET(DE104_9!$M$104,ROWS($M$104:M147)-1,COLUMNS($M$104:M147)-1)<>\"\",OFFSET(DE104_9!$M$104,ROWS($M$104:M147)-1,COLUMNS($M$104:M147)-1),\"\")","v":""},{"$f":"IF(OFFSET(DE104_9!$N$104,ROWS($N$104:N147)-1,COLUMNS($N$104:N147)-1)<>\"\",OFFSET(DE104_9!$N$104,ROWS($N$104:N147)-1,COLUMNS($N$104:N147)-1),\"\")","v":""},{"$f":"IF(OFFSET(DE104_9!$O$104,ROWS($O$104:O147)-1,COLUMNS($O$104:O147)-1)<>\"\",OFFSET(DE104_9!$O$104,ROWS($O$104:O147)-1,COLUMNS($O$104:O147)-1),\"\")","v":""},{"$f":"IF(OFFSET(DE104_9!$P$104,ROWS($P$104:P147)-1,COLUMNS($P$104:P147)-1)<>\"\",OFFSET(DE104_9!$P$104,ROWS($P$104:P147)-1,COLUMNS($P$104:P147)-1),\"\")","v":""},{"$f":"IF(OFFSET(DE104_9!$Q$104,ROWS($Q$104:Q147)-1,COLUMNS($Q$104:Q147)-1)<>\"\",OFFSET(DE104_9!$Q$104,ROWS($Q$104:Q147)-1,COLUMNS($Q$104:Q147)-1),\"\")","v":""},{"$f":"IF(OFFSET(DE104_9!$R$104,ROWS($R$104:R147)-1,COLUMNS($R$104:R147)-1)<>\"\",OFFSET(DE104_9!$R$104,ROWS($R$104:R147)-1,COLUMNS($R$104:R147)-1),\"\")","v":""},{"$f":"IF(OFFSET(DE104_9!$S$104,ROWS($S$104:S147)-1,COLUMNS($S$104:S147)-1)<>\"\",OFFSET(DE104_9!$S$104,ROWS($S$104:S147)-1,COLUMNS($S$104:S147)-1),\"\")","v":""},{"$f":"IF(OFFSET(DE104_9!$T$104,ROWS($T$104:T147)-1,COLUMNS($T$104:T147)-1)<>\"\",OFFSET(DE104_9!$T$104,ROWS($T$104:T147)-1,COLUMNS($T$104:T147)-1),\"\")","v":""}]

{"sheet":"107_31SUR","index":20,"n_rows":18,"n_cols":4,"rows_kept":18,"cut":false,"hidden":false,"merged":[[0,0,0,3],[1,0,1,3],[2,0,3,3],[4,0,4,3],[5,0,7,1],[5,2,6,2],[5,3,7,3]]}
["107-31A"]
["NEW"]
["SURCHARGES"]
[]
["Refer to Sheets Q.12 and Q.40"]
["Station to Station",null,"Height*","Remarks"]
[]
[null,null,"FT"]
[{"$f":"IF(OFFSET(DE107_31SUR!$C$22,ROWS($C$22:C22)-1,COLUMNS($C$22:C22)-1)<>\"\",OFFSET(DE107_31SUR!$C$22,ROWS($C$22:C22)-1,COLUMNS($C$22:C22)-1),\"\")","v":26515},{"$f":"IF(OFFSET(DE107_31SUR!$D$22,ROWS($D$22:D22)-1,COLUMNS($D$22:D22)-1)<>\"\",OFFSET(DE107_31SUR!$D$22,ROWS($D$22:D22)-1,COLUMNS($D$22:D22)-1),\"\")","v":26702},{"$f":"IF(OFFSET(DE107_31SUR!$E$22,ROWS($E$22:E22)-1,COLUMNS($E$22:E22)-1)<>\"\",OFFSET(DE107_31SUR!$E$22,ROWS($E$22:E22)-1,COLUMNS($E$22:E22)-1),\"\")","v":7.5},{"$f":"IF(OFFSET(DE107_31SUR!$F$22,ROWS($F$22:F22)-1,COLUMNS($F$22:F22)-1)<>\"\",OFFSET(DE107_31SUR!$F$22,ROWS($F$22:F22)-1,COLUMNS($F$22:F22)-1),\"\")","v":"6200 cy Class 10 Fill"}]
[{"$f":"IF(OFFSET(DE107_31SUR!$C$22,ROWS($C$22:C23)-1,COLUMNS($C$22:C23)-1)<>\"\",OFFSET(DE107_31SUR!$C$22,ROWS($C$22:C23)-1,COLUMNS($C$22:C23)-1),\"\")","v":26960},{"$f":"IF(OFFSET(DE107_31SUR!$D$22,ROWS($D$22:D23)-1,COLUMNS($D$22:D23)-1)<>\"\",OFFSET(DE107_31SUR!$D$22,ROWS($D$22:D23)-1,COLUMNS($D$22:D23)-1),\"\")","v":27147},{"$f":"IF(OFFSET(DE107_31SUR!$E$22,ROWS($E$22:E23)-1,COLUMNS($E$22:E23)-1)<>\"\",OFFSET(DE107_31SUR!$E$22,ROWS($E$22:E23)-1,COLUMNS($E$22:E23)-1),\"\")","v":7.5},{"$f":"IF(OFFSET(DE107_31SUR!$F$22,ROWS($F$22:F23)-1,COLUMNS($F$22:F23)-1)<>\"\",OFFSET(DE107_31SUR!$F$22,ROWS($F$22:F23)-1,COLUMNS($F$22:F23)-1),\"\")","v":"6200 cy Class 10 Fill"}]
[{"$f":"IF(OFFSET(DE107_31SUR!$C$22,ROWS($C$22:C24)-1,COLUMNS($C$22:C24)-1)<>\"\",OFFSET(DE107_31SUR!$C$22,ROWS($C$22:C24)-1,COLUMNS($C$22:C24)-1),\"\")","v":69480},{"$f":"IF(OFFSET(DE107_31SUR!$D$22,ROWS($D$22:D24)-1,COLUMNS($D$22:D24)-1)<>\"\",OFFSET(DE107_31SUR!$D$22,ROWS($D$22:D24)-1,COLUMNS($D$22:D24)-1),\"\")","v":69580},{"$f":"IF(OFFSET(DE107_31SUR!$E$22,ROWS($E$22:E24)-1,COLUMNS($E$22:E24)-1)<>\"\",OFFSET(DE107_31SUR!$E$22,ROWS($E$22:E24)-1,COLUMNS($E$22:E24)-1),\"\")","v":7.5},{"$f":"IF(OFFSET(DE107_31SUR!$F$22,ROWS($F$22:F24)-1,COLUMNS($F$22:F24)-1)<>\"\",OFFSET(DE107_31SUR!$F$22,ROWS($F$22:F24)-1,COLUMNS($F$22:F24)-1),\"\")","v":"1850 cy Class 10 Fill"}]
[{"$f":"IF(OFFSET(DE107_31SUR!$C$22,ROWS($C$22:C25)-1,COLUMNS($C$22:C25)-1)<>\"\",OFFSET(DE107_31SUR!$C$22,ROWS($C$22:C25)-1,COLUMNS($C$22:C25)-1),\"\")","v":70058},{"$f":"IF(OFFSET(DE107_31SUR!$D$22,ROWS($D$22:D25)-1,COLUMNS($D$22:D25)-1)<>\"\",OFFSET(DE107_31SUR!$D$22,ROWS($D$22:D25)-1,COLUMNS($D$22:D25)-1),\"\")","v":70158},{"$f":"IF(OFFSET(DE107_31SUR!$E$22,ROWS($E$22:E25)-1,COLUMNS($E$22:E25)-1)<>\"\",OFFSET(DE107_31SUR!$E$22,ROWS($E$22:E25)-1,COLUMNS($E$22:E25)-1),\"\")","v":7.5},{"$f":"IF(OFFSET(DE107_31SUR!$F$22,ROWS($F$22:F25)-1,COLUMNS($F$22:F25)-1)<>\"\",OFFSET(DE107_31SUR!$F$22,ROWS($F$22:F25)-1,COLUMNS($F$22:F25)-1),\"\")","v":"1850 cy Class 10 Fill"}]
[{"$f":"IF(OFFSET(DE107_31SUR!$C$22,ROWS($C$22:C26)-1,COLUMNS($C$22:C26)-1)<>\"\",OFFSET(DE107_31SUR!$C$22,ROWS($C$22:C26)-1,COLUMNS($C$22:C26)-1),\"\")","v":""},{"$f":"IF(OFFSET(DE107_31SUR!$D$22,ROWS($D$22:D26)-1,COLUMNS($D$22:D26)-1)<>\"\",OFFSET(DE107_31SUR!$D$22,ROWS($D$22:D26)-1,COLUMNS($D$22:D26)-1),\"\")","v":""},{"$f":"IF(OFFSET(DE107_31SUR!$E$22,ROWS($E$22:E26)-1,COLUMNS($E$22:E26)-1)<>\"\",OFFSET(DE107_31SUR!$E$22,ROWS($E$22:E26)-1,COLUMNS($E$22:E26)-1),\"\")","v":""},{"$f":"IF(OFFSET(DE107_31SUR!$F$22,ROWS($F$22:F26)-1,COLUMNS($F$22:F26)-1)<>\"\",OFFSET(DE107_31SUR!$F$22,ROWS($F$22:F26)-1,COLUMNS($F$22:F26)-1),\"\")","v":""}]
[{"$f":"IF(OFFSET(DE107_31SUR!$C$22,ROWS($C$22:C27)-1,COLUMNS($C$22:C27)-1)<>\"\",OFFSET(DE107_31SUR!$C$22,ROWS($C$22:C27)-1,COLUMNS($C$22:C27)-1),\"\")","v":""},{"$f":"IF(OFFSET(DE107_31SUR!$D$22,ROWS($D$22:D27)-1,COLUMNS($D$22:D27)-1)<>\"\",OFFSET(DE107_31SUR!$D$22,ROWS($D$22:D27)-1,COLUMNS($D$22:D27)-1),\"\")","v":""},{"$f":"IF(OFFSET(DE107_31SUR!$E$22,ROWS($E$22:E27)-1,COLUMNS($E$22:E27)-1)<>\"\",OFFSET(DE107_31SUR!$E$22,ROWS($E$22:E27)-1,COLUMNS($E$22:E27)-1),\"\")","v":""},{"$f":"IF(OFFSET(DE107_31SUR!$F$22,ROWS($F$22:F27)-1,COLUMNS($F$22:F27)-1)<>\"\",OFFSET(DE107_31SUR!$F$22,ROWS($F$22:F27)-1,COLUMNS($F$22:F27)-1),\"\")","v":"*Note that surcharge height"}]
[{"$f":"IF(OFFSET(DE107_31SUR!$C$22,ROWS($C$22:C28)-1,COLUMNS($C$22:C28)-1)<>\"\",OFFSET(DE107_31SUR!$C$22,ROWS($C$22:C28)-1,COLUMNS($C$22:C28)-1),\"\")","v":""},{"$f":"IF(OFFSET(DE107_31SUR!$D$22,ROWS($D$22:D28)-1,COLUMNS($D$22:D28)-1)<>\"\",OFFSET(DE107_31SUR!$D$22,ROWS($D$22:D28)-1,COLUMNS($D$22:D28)-1),\"\")","v":""},{"$f":"IF(OFFSET(DE107_31SUR!$E$22,ROWS($E$22:E28)-1,COLUMNS($E$22:E28)-1)<>\"\",OFFSET(DE107_31SUR!$E$22,ROWS($E$22:E28)-1,COLUMNS($E$22:E28)-1),\"\")","v":""},{"$f":"IF(OFFSET(DE107_31SUR!$F$22,ROWS($F$22:F28)-1,COLUMNS($F$22:F28)-1)<>\"\",OFFSET(DE107_31SUR!$F$22,ROWS($F$22:F28)-1,COLUMNS($F$22:F28)-1),\"\")","v":"and volume are based on top"}]
[{"$f":"IF(OFFSET(DE107_31SUR!$C$22,ROWS($C$22:C29)-1,COLUMNS($C$22:C29)-1)<>\"\",OFFSET(DE107_31SUR!$C$22,ROWS($C$22:C29)-1,COLUMNS($C$22:C29)-1),\"\")","v":""},{"$f":"IF(OFFSET(DE107_31SUR!$D$22,ROWS($D$22:D29)-1,COLUMNS($D$22:D29)-1)<>\"\",OFFSET(DE107_31SUR!$D$22,ROWS($D$22:D29)-1,COLUMNS($D$22:D29)-1),\"\")","v":""},{"$f":"IF(OFFSET(DE107_31SUR!$E$22,ROWS($E$22:E29)-1,COLUMNS($E$22:E29)-1)<>\"\",OFFSET(DE107_31SUR!$E$22,ROWS($E$22:E29)-1,COLUMNS($E$22:E29)-1),\"\")","v":""},{"$f":"IF(OFFSET(DE107_31SUR!$F$22,ROWS($F$22:F29)-1,COLUMNS($F$22:F29)-1)<>\"\",OFFSET(DE107_31SUR!$F$22,ROWS($F$22:F29)-1,COLUMNS($F$22:F29)-1),\"\")","v":"of subgrade treatment."}]
[{"$f":"IF(OFFSET(DE107_31SUR!$C$22,ROWS($C$22:C30)-1,COLUMNS($C$22:C30)-1)<>\"\",OFFSET(DE107_31SUR!$C$22,ROWS($C$22:C30)-1,COLUMNS($C$22:C30)-1),\"\")","v":""},{"$f":"IF(OFFSET(DE107_31SUR!$D$22,ROWS($D$22:D30)-1,COLUMNS($D$22:D30)-1)<>\"\",OFFSET(DE107_31SUR!$D$22,ROWS($D$22:D30)-1,COLUMNS($D$22:D30)-1),\"\")","v":""},{"$f":"IF(OFFSET(DE107_31SUR!$E$22,ROWS($E$22:E30)-1,COLUMNS($E$22:E30)-1)<>\"\",OFFSET(DE107_31SUR!$E$22,ROWS($E$22:E30)-1,COLUMNS($E$22:E30)-1),\"\")","v":""},{"$f":"IF(OFFSET(DE107_31SUR!$F$22,ROWS($F$22:F30)-1,COLUMNS($F$22:F30)-1)<>\"\",OFFSET(DE107_31SUR!$F$22,ROWS($F$22:F30)-1,COLUMNS($F$22:F30)-1),\"\")","v":""}]
[{"$f":"IF(OFFSET(DE107_31SUR!$C$22,ROWS($C$22:C31)-1,COLUMNS($C$22:C31)-1)<>\"\",OFFSET(DE107_31SUR!$C$22,ROWS($C$22:C31)-1,COLUMNS($C$22:C31)-1),\"\")","v":""},{"$f":"IF(OFFSET(DE107_31SUR!$D$22,ROWS($D$22:D31)-1,COLUMNS($D$22:D31)-1)<>\"\",OFFSET(DE107_31SUR!$D$22,ROWS($D$22:D31)-1,COLUMNS($D$22:D31)-1),\"\")","v":""},{"$f":"IF(OFFSET(DE107_31SUR!$E$22,ROWS($E$22:E31)-1,COLUMNS($E$22:E31)-1)<>\"\",OFFSET(DE107_31SUR!$E$22,ROWS($E$22:E31)-1,COLUMNS($E$22:E31)-1),\"\")","v":""},{"$f":"IF(OFFSET(DE107_31SUR!$F$22,ROWS($F$22:F31)-1,COLUMNS($F$22:F31)-1)<>\"\",OFFSET(DE107_31SUR!$F$22,ROWS($F$22:F31)-1,COLUMNS($F$22:F31)-1),\"\")","v":""}]

{"sheet":"104_5CWB","index":21,"n_rows":57,"n_cols":20,"rows_kept":57,"cut":false,"hidden":false,"merged":[[44,0,44,13],[6,0,7,3],[6,4,7,6],[6,7,7,8],[6,9,7,12],[6,13,10,14],[8,0,12,0],[8,1,12,2],[8,3,11,3],[8,4,12,4],[8,5,11,5],[11,13,11,14],[8,6,11,6],[8,7,11,7],[8,8,11,8],[8,9,11,9],[6,18,11,18],[6,19,12,19],[0,0,0,19],[1,0,1,19],[2,0,3,19],[4,0,4,19],[5,0,5,19],[8,10,11,11],[8,12,11,12],[6,15,11,15],[6,16,10,16],[6,17,11,17]]}
["104-5C"]
["2017-10-17"]
["LIST OF SUBDRAIN WORK"]
[]
["Possible Standards: DR-121, DR-201, DR-203, DR-301, DR-302, DR-303, DR-305 and DR-306. Possible Detail: 500-10."]
["* Not a bid item"]
["Location",null,null,null,"Pipe",null,null,"Aprons",null,"Outlets",null,null,null,"Connected Pipe\nJoints*",null,"Trench\nDrain","Granular\nMaterial","Porous\nBackfill*","Class \"A\"\nCrushed\nStone*","Remarks"]
[]
["No.","Station to Station",null,"Type of\nInstallation","Concrete, C.M.P., or Plastic","Dia.","Length","DR-201","DR-203","500-10","DR-305",null,"DR-306"]
[]
[]
[null,null,null,null,null,null,null,null,null,null,null,null,null,"DR-121",null,null,"Blanket"]
[null,null,null,"DR-301, DR-302, DR-303",null,"IN","LF","No.","No.","No.","Type","No.","No.","Type","No.","LF","CY","CY","CY"]
[{"$f":"IF(OFFSET(DE104_5CWB!$C$27,ROWS($C$27:C27)-1,COLUMNS($C$27:C27)-1)<>\"\",OFFSET(DE104_5CWB!$C$27,ROWS($C$27:C27)-1,COLUMNS($C$27:C27)-1),\"\")","v":1},{"$f":"IF(OFFSET(DE104_5CWB!$D$27,ROWS($D$27:D27)-1,COLUMNS($D$27:D27)-1)<>\"\",OFFSET(DE104_5CWB!$D$27,ROWS($D$27:D27)-1,COLUMNS($D$27:D27)-1),\"\")","v":947950},{"$f":"IF(OFFSET(DE104_5CWB!$E$27,ROWS($E$27:E27)-1,COLUMNS($E$27:E27)-1)<>\"\",OFFSET(DE104_5CWB!$E$27,ROWS($E$27:E27)-1,COLUMNS($E$27:E27)-1),\"\")","v":948020},{"$f":"IF(OFFSET(DE104_5CWB!$F$27,ROWS($F$27:F27)-1,COLUMNS($F$27:F27)-1)<>\"\",OFFSET(DE104_5CWB!$F$27,ROWS($F$27:F27)-1,COLUMNS($F$27:F27)-1),\"\")","v":""},{"$f":"IF(OFFSET(DE104_5CWB!$G$27,ROWS($G$27:G27)-1,COLUMNS($G$27:G27)-1)<>\"\",OFFSET(DE104_5CWB!$G$27,ROWS($G$27:G27)-1,COLUMNS($G$27:G27)-1),\"\")","v":""},{"$f":"IF(OFFSET(DE104_5CWB!$H$27,ROWS($H$27:H27)-1,COLUMNS($H$27:H27)-1)<>\"\",OFFSET(DE104_5CWB!$H$27,ROWS($H$27:H27)-1,COLUMNS($H$27:H27)-1),\"\")","v":""},{"$f":"IF(OFFSET(DE104_5CWB!$I$27,ROWS($I$27:I27)-1,COLUMNS($I$27:I27)-1)<>\"\",OFFSET(DE104_5CWB!$I$27,ROWS($I$27:I27)-1,COLUMNS($I$27:I27)-1),\"\")","v":""},{"$f":"IF(OFFSET(DE104_5CWB!$J$27,ROWS($J$27:J27)-1,COLUMNS($J$27:J27)-1)<>\"\",OFFSET(DE104_5CWB!$J$27,ROWS($J$27:J27)-1,COLUMNS($J$27:J27)-1),\"\")","v":""},{"$f":"IF(OFFSET(DE104_5CWB!$K$27,ROWS($K$27:K27)-1,COLUMNS($K$27:K27)-1)<>\"\",OFFSET(DE104_5CWB!$K$27,ROWS($K$27:K27)-1,COLUMNS($K$27:K27)-1),\"\")","v":""},{"$f":"IF(OFFSET(DE104_5CWB!$L$27,ROWS($L$27:L27)-1,COLUMNS($L$27:L27)-1)<>\"\",OFFSET(DE104_5CWB!$L$27,ROWS($L$27:L27)-1,COLUMNS($L$27:L27)-1),\"\")","v":""},{"$f":"IF(OFFSET(DE104_5CWB!$M$27,ROWS($M$27:M27)-1,COLUMNS($M$27:M27)-1)<>\"\",OFFSET(DE104_5CWB!$M$27,ROWS($M$27:M27)-1,COLUMNS($M$27:M27)-1),\"\")","v":""},{"$f":"IF(OFFSET(DE104_5CWB!$N$27,ROWS($N$27:N27)-1,COLUMNS($N$27:N27)-1)<>\"\",OFFSET(DE104_5CWB!$N$27,ROWS($N$27:N27)-1,COLUMNS($N$27:N27)-1),\"\")","v":""},{"$f":"IF(OFFSET(DE104_5CWB!$O$27,ROWS($O$27:O27)-1,COLUMNS($O$27:O27)-1)<>\"\",OFFSET(DE104_5CWB!$O$27,ROWS($O$27:O27)-1,COLUMNS($O$27:O27)-1),\"\")","v":""},{"$f":"IF(OFFSET(DE104_5CWB!$P$27,ROWS($P$27:P27)-1,COLUMNS($P$27:P27)-1)<>\"\",OFFSET(DE104_5CWB!$P$27,ROWS($P$27:P27)-1,COLUMNS($P$27:P27)-1),\"\")","v":""},{"$f":"IF(OFFSET(DE104_5CWB!$Q$27,ROWS($Q$27:Q27)-1,COLUMNS($Q$27:Q27)-1)<>\"\",OFFSET(DE104_5CWB!$Q$27,ROWS($Q$27:Q27)-1,COLUMNS($Q$27:Q27)-1),\"\")","v":""},{"$f":"IF(OFFSET(DE104_5CWB!$R$27,ROWS($R$27:R27)-1,COLUMNS($R$27:R27)-1)<>\"\",OFFSET(DE104_5CWB!$R$27,ROWS($R$27:R27)-1,COLUMNS($R$27:R27)-1),\"\")","v":""},{"$f":"IF(OFFSET(DE104_5CWB!$S$27,ROWS($S$27:S27)-1,COLUMNS($S$27:S27)-1)<>\"\",OFFSET(DE104_5CWB!$S$27,ROWS($S$27:S27)-1,COLUMNS($S$27:S27)-1),\"\")","v":117.6},{"$f":"IF(OFFSET(DE104_5CWB!$T$27,ROWS($T$27:T27)-1,COLUMNS($T$27:T27)-1)<>\"\",OFFSET(DE104_5CWB!$T$27,ROWS($T$27:T27)-1,COLUMNS($T$27:T27)-1),\"\")","v":""},{"$f":"IF(OFFSET(DE104_5CWB!$U$27,ROWS($U$27:U27)-1,COLUMNS($U$27:U27)-1)<>\"\",OFFSET(DE104_5CWB!$U$27,ROWS($U$27:U27)-1,COLUMNS($U$27:U27)-1),\"\")","v":""},{"$f":"IF(OFFSET(DE104_5CWB!$V$27,ROWS($V$27:V27)-1,COLUMNS($V$27:V27)-1)<>\"\",OFFSET(DE104_5CWB!$V$27,ROWS($V$27:V27)-1,COLUMNS($V$27:V27)-1),\"\")","v":"12-inch thick granular working blanket - R Avenue"}]
[{"$f":"IF(OFFSET(DE104_5CWB!$C$27,ROWS($C$27:C28)-1,COLUMNS($C$27:C28)-1)<>\"\",OFFSET(DE104_5CWB!$C$27,ROWS($C$27:C28)-1,COLUMNS($C$27:C28)-1),\"\")","v":2},{"$f":"IF(OFFSET(DE104_5CWB!$D$27,ROWS($D$27:D28)-1,COLUMNS($D$27:D28)-1)<>\"\",OFFSET(DE104_5CWB!$D$27,ROWS($D$27:D28)-1,COLUMNS($D$27:D28)-1),\"\")","v":17380},{"$f":"IF(OFFSET(DE104_5CWB!$E$27,ROWS($E$27:E28)-1,COLUMNS($E$27:E28)-1)<>\"\",OFFSET(DE104_5CWB!$E$27,ROWS($E$27:E28)-1,COLUMNS($E$27:E28)-1),\"\")","v":17520},{"$f":"IF(OFFSET(DE104_5CWB!$F$27,ROWS($F$27:F28)-1,COLUMNS($F$27:F28)-1)<>\"\",OFFSET(DE104_5CWB!$F$27,ROWS($F$27:F28)-1,COLUMNS($F$27:F28)-1),\"\")","v":""},{"$f":"IF(OFFSET(DE104_5CWB!$G$27,ROWS($G$27:G28)-1,COLUMNS($G$27:G28)-1)<>\"\",OFFSET(DE104_5CWB!$G$27,ROWS($G$27:G28)-1,COLUMNS($G$27:G28)-1),\"\")","v":""},{"$f":"IF(OFFSET(DE104_5CWB!$H$27,ROWS($H$27:H28)-1,COLUMNS($H$27:H28)-1)<>\"\",OFFSET(DE104_5CWB!$H$27,ROWS($H$27:H28)-1,COLUMNS($H$27:H28)-1),\"\")","v":""},{"$f":"IF(OFFSET(DE104_5CWB!$I$27,ROWS($I$27:I28)-1,COLUMNS($I$27:I28)-1)<>\"\",OFFSET(DE104_5CWB!$I$27,ROWS($I$27:I28)-1,COLUMNS($I$27:I28)-1),\"\")","v":""},{"$f":"IF(OFFSET(DE104_5CWB!$J$27,ROWS($J$27:J28)-1,COLUMNS($J$27:J28)-1)<>\"\",OFFSET(DE104_5CWB!$J$27,ROWS($J$27:J28)-1,COLUMNS($J$27:J28)-1),\"\")","v":""},{"$f":"IF(OFFSET(DE104_5CWB!$K$27,ROWS($K$27:K28)-1,COLUMNS($K$27:K28)-1)<>\"\",OFFSET(DE104_5CWB!$K$27,ROWS($K$27:K28)-1,COLUMNS($K$27:K28)-1),\"\")","v":""},{"$f":"IF(OFFSET(DE104_5CWB!$L$27,ROWS($L$27:L28)-1,COLUMNS($L$27:L28)-1)<>\"\",OFFSET(DE104_5CWB!$L$27,ROWS($L$27:L28)-1,COLUMNS($L$27:L28)-1),\"\")","v":""},{"$f":"IF(OFFSET(DE104_5CWB!$M$27,ROWS($M$27:M28)-1,COLUMNS($M$27:M28)-1)<>\"\",OFFSET(DE104_5CWB!$M$27,ROWS($M$27:M28)-1,COLUMNS($M$27:M28)-1),\"\")","v":""},{"$f":"IF(OFFSET(DE104_5CWB!$N$27,ROWS($N$27:N28)-1,COLUMNS($N$27:N28)-1)<>\"\",OFFSET(DE104_5CWB!$N$27,ROWS($N$27:N28)-1,COLUMNS($N$27:N28)-1),\"\")","v":""},{"$f":"IF(OFFSET(DE104_5CWB!$O$27,ROWS($O$27:O28)-1,COLUMNS($O$27:O28)-1)<>\"\",OFFSET(DE104_5CWB!$O$27,ROWS($O$27:O28)-1,COLUMNS($O$27:O28)-1),\"\")","v":""},{"$f":"IF(OFFSET(DE104_5CWB!$P$27,ROWS($P$27:P28)-1,COLUMNS($P$27:P28)-1)<>\"\",OFFSET(DE104_5CWB!$P$27,ROWS($P$27:P28)-1,COLUMNS($P$27:P28)-1),\"\")","v":""},{"$f":"IF(OFFSET(DE104_5CWB!$Q$27,ROWS($Q$27:Q28)-1,COLUMNS($Q$27:Q28)-1)<>\"\",OFFSET(DE104_5CWB!$Q$27,ROWS($Q$27:Q28)-1,COLUMNS($Q$27:Q28)-1),\"\")","v":""},{"$f":"IF(OFFSET(DE104_5CWB!$R$27,ROWS($R$27:R28)-1,COLUMNS($R$27:R28)-1)<>\"\",OFFSET(DE104_5CWB!$R$27,ROWS($R$27:R28)-1,COLUMNS($R$27:R28)-1),\"\")","v":""},{"$f":"IF(OFFSET(DE104_5CWB!$S$27,ROWS($S$27:S28)-1,COLUMNS($S$27:S28)-1)<>\"\",OFFSET(DE104_5CWB!$S$27,ROWS($S$27:S28)-1,COLUMNS($S$27:S28)-1),\"\")","v":348.7},{"$f":"IF(OFFSET(DE104_5CWB!$T$27,ROWS($T$27:T28)-1,COLUMNS($T$27:T28)-1)<>\"\",OFFSET(DE104_5CWB!$T$27,ROWS($T$27:T28)-1,COLUMNS($T$27:T28)-1),\"\")","v":""},{"$f":"IF(OFFSET(DE104_5CWB!$U$27,ROWS($U$27:U28)-1,COLUMNS($U$27:U28)-1)<>\"\",OFFSET(DE104_5CWB!$U$27,ROWS($U$27:U28)-1,COLUMNS($U$27:U28)-1),\"\")","v":""},{"$f":"IF(OFFSET(DE104_5CWB!$V$27,ROWS($V$27:V28)-1,COLUMNS($V$27:V28)-1)<>\"\",OFFSET(DE104_5CWB!$V$27,ROWS($V$27:V28)-1,COLUMNS($V$27:V28)-1),\"\")","v":"12-inch thick granular working blanket - US 30"}]
[{"$f":"IF(OFFSET(DE104_5CWB!$C$27,ROWS($C$27:C29)-1,COLUMNS($C$27:C29)-1)<>\"\",OFFSET(DE104_5CWB!$C$27,ROWS($C$27:C29)-1,COLUMNS($C$27:C29)-1),\"\")","v":3},{"$f":"IF(OFFSET(DE104_5CWB!$D$27,ROWS($D$27:D29)-1,COLUMNS($D$27:D29)-1)<>\"\",OFFSET(DE104_5CWB!$D$27,ROWS($D$27:D29)-1,COLUMNS($D$27:D29)-1),\"\")","v":33750},{"$f":"IF(OFFSET(DE104_5CWB!$E$27,ROWS($E$27:E29)-1,COLUMNS($E$27:E29)-1)<>\"\",OFFSET(DE104_5CWB!$E$27,ROWS($E$27:E29)-1,COLUMNS($E$27:E29)-1),\"\")","v":33950},{"$f":"IF(OFFSET(DE104_5CWB!$F$27,ROWS($F$27:F29)-1,COLUMNS($F$27:F29)-1)<>\"\",OFFSET(DE104_5CWB!$F$27,ROWS($F$27:F29)-1,COLUMNS($F$27:F29)-1),\"\")","v":""},{"$f":"IF(OFFSET(DE104_5CWB!$G$27,ROWS($G$27:G29)-1,COLUMNS($G$27:G29)-1)<>\"\",OFFSET(DE104_5CWB!$G$27,ROWS($G$27:G29)-1,COLUMNS($G$27:G29)-1),\"\")","v":""},{"$f":"IF(OFFSET(DE104_5CWB!$H$27,ROWS($H$27:H29)-1,COLUMNS($H$27:H29)-1)<>\"\",OFFSET(DE104_5CWB!$H$27,ROWS($H$27:H29)-1,COLUMNS($H$27:H29)-1),\"\")","v":""},{"$f":"IF(OFFSET(DE104_5CWB!$I$27,ROWS($I$27:I29)-1,COLUMNS($I$27:I29)-1)<>\"\",OFFSET(DE104_5CWB!$I$27,ROWS($I$27:I29)-1,COLUMNS($I$27:I29)-1),\"\")","v":""},{"$f":"IF(OFFSET(DE104_5CWB!$J$27,ROWS($J$27:J29)-1,COLUMNS($J$27:J29)-1)<>\"\",OFFSET(DE104_5CWB!$J$27,ROWS($J$27:J29)-1,COLUMNS($J$27:J29)-1),\"\")","v":""},{"$f":"IF(OFFSET(DE104_5CWB!$K$27,ROWS($K$27:K29)-1,COLUMNS($K$27:K29)-1)<>\"\",OFFSET(DE104_5CWB!$K$27,ROWS($K$27:K29)-1,COLUMNS($K$27:K29)-1),\"\")","v":""},{"$f":"IF(OFFSET(DE104_5CWB!$L$27,ROWS($L$27:L29)-1,COLUMNS($L$27:L29)-1)<>\"\",OFFSET(DE104_5CWB!$L$27,ROWS($L$27:L29)-1,COLUMNS($L$27:L29)-1),\"\")","v":""},{"$f":"IF(OFFSET(DE104_5CWB!$M$27,ROWS($M$27:M29)-1,COLUMNS($M$27:M29)-1)<>\"\",OFFSET(DE104_5CWB!$M$27,ROWS($M$27:M29)-1,COLUMNS($M$27:M29)-1),\"\")","v":""},{"$f":"IF(OFFSET(DE104_5CWB!$N$27,ROWS($N$27:N29)-1,COLUMNS($N$27:N29)-1)<>\"\",OFFSET(DE104_5CWB!$N$27,ROWS($N$27:N29)-1,COLUMNS($N$27:N29)-1),\"\")","v":""},{"$f":"IF(OFFSET(DE104_5CWB!$O$27,ROWS($O$27:O29)-1,COLUMNS($O$27:O29)-1)<>\"\",OFFSET(DE104_5CWB!$O$27,ROWS($O$27:O29)-1,COLUMNS($O$27:O29)-1),\"\")","v":""},{"$f":"IF(OFFSET(DE104_5CWB!$P$27,ROWS($P$27:P29)-1,COLUMNS($P$27:P29)-1)<>\"\",OFFSET(DE104_5CWB!$P$27,ROWS($P$27:P29)-1,COLUMNS($P$27:P29)-1),\"\")","v":""},{"$f":"IF(OFFSET(DE104_5CWB!$Q$27,ROWS($Q$27:Q29)-1,COLUMNS($Q$27:Q29)-1)<>\"\",OFFSET(DE104_5CWB!$Q$27,ROWS($Q$27:Q29)-1,COLUMNS($Q$27:Q29)-1),\"\")","v":""},{"$f":"IF(OFFSET(DE104_5CWB!$R$27,ROWS($R$27:R29)-1,COLUMNS($R$27:R29)-1)<>\"\",OFFSET(DE104_5CWB!$R$27,ROWS($R$27:R29)-1,COLUMNS($R$27:R29)-1),\"\")","v":""},{"$f":"IF(OFFSET(DE104_5CWB!$S$27,ROWS($S$27:S29)-1,COLUMNS($S$27:S29)-1)<>\"\",OFFSET(DE104_5CWB!$S$27,ROWS($S$27:S29)-1,COLUMNS($S$27:S29)-1),\"\")","v":1851.851851851852},{"$f":"IF(OFFSET(DE104_5CWB!$T$27,ROWS($T$27:T29)-1,COLUMNS($T$27:T29)-1)<>\"\",OFFSET(DE104_5CWB!$T$27,ROWS($T$27:T29)-1,COLUMNS($T$27:T29)-1),\"\")","v":""},{"$f":"IF(OFFSET(DE104_5CWB!$U$27,ROWS($U$27:U29)-1,COLUMNS($U$27:U29)-1)<>\"\",OFFSET(DE104_5CWB!$U$27,ROWS($U$27:U29)-1,COLUMNS($U$27:U29)-1),\"\")","v":""},{"$f":"IF(OFFSET(DE104_5CWB!$V$27,ROWS($V$27:V29)-1,COLUMNS($V$27:V29)-1)<>\"\",OFFSET(DE104_5CWB!$V$27,ROWS($V$27:V29)-1,COLUMNS($V$27:V29)-1),\"\")","v":"12-inch thick granular working blanket - US 30"}]
[{"$f":"IF(OFFSET(DE104_5CWB!$C$27,ROWS($C$27:C30)-1,COLUMNS($C$27:C30)-1)<>\"\",OFFSET(DE104_5CWB!$C$27,ROWS($C$27:C30)-1,COLUMNS($C$27:C30)-1),\"\")","v":4},{"$f":"IF(OFFSET(DE104_5CWB!$D$27,ROWS($D$27:D30)-1,COLUMNS($D$27:D30)-1)<>\"\",OFFSET(DE104_5CWB!$D$27,ROWS($D$27:D30)-1,COLUMNS($D$27:D30)-1),\"\")","v":34540},{"$f":"IF(OFFSET(DE104_5CWB!$E$27,ROWS($E$27:E30)-1,COLUMNS($E$27:E30)-1)<>\"\",OFFSET(DE104_5CWB!$E$27,ROWS($E$27:E30)-1,COLUMNS($E$27:E30)-1),\"\")","v":35700},{"$f":"IF(OFFSET(DE104_5CWB!$F$27,ROWS($F$27:F30)-1,COLUMNS($F$27:F30)-1)<>\"\",OFFSET(DE104_5CWB!$F$27,ROWS($F$27:F30)-1,COLUMNS($F$27:F30)-1),\"\")","v":""},{"$f":"IF(OFFSET(DE104_5CWB!$G$27,ROWS($G$27:G30)-1,COLUMNS($G$27:G30)-1)<>\"\",OFFSET(DE104_5CWB!$G$27,ROWS($G$27:G30)-1,COLUMNS($G$27:G30)-1),\"\")","v":""},{"$f":"IF(OFFSET(DE104_5CWB!$H$27,ROWS($H$27:H30)-1,COLUMNS($H$27:H30)-1)<>\"\",OFFSET(DE104_5CWB!$H$27,ROWS($H$27:H30)-1,COLUMNS($H$27:H30)-1),\"\")","v":""},{"$f":"IF(OFFSET(DE104_5CWB!$I$27,ROWS($I$27:I30)-1,COLUMNS($I$27:I30)-1)<>\"\",OFFSET(DE104_5CWB!$I$27,ROWS($I$27:I30)-1,COLUMNS($I$27:I30)-1),\"\")","v":""},{"$f":"IF(OFFSET(DE104_5CWB!$J$27,ROWS($J$27:J30)-1,COLUMNS($J$27:J30)-1)<>\"\",OFFSET(DE104_5CWB!$J$27,ROWS($J$27:J30)-1,COLUMNS($J$27:J30)-1),\"\")","v":""},{"$f":"IF(OFFSET(DE104_5CWB!$K$27,ROWS($K$27:K30)-1,COLUMNS($K$27:K30)-1)<>\"\",OFFSET(DE104_5CWB!$K$27,ROWS($K$27:K30)-1,COLUMNS($K$27:K30)-1),\"\")","v":""},{"$f":"IF(OFFSET(DE104_5CWB!$L$27,ROWS($L$27:L30)-1,COLUMNS($L$27:L30)-1)<>\"\",OFFSET(DE104_5CWB!$L$27,ROWS($L$27:L30)-1,COLUMNS($L$27:L30)-1),\"\")","v":""},{"$f":"IF(OFFSET(DE104_5CWB!$M$27,ROWS($M$27:M30)-1,COLUMNS($M$27:M30)-1)<>\"\",OFFSET(DE104_5CWB!$M$27,ROWS($M$27:M30)-1,COLUMNS($M$27:M30)-1),\"\")","v":""},{"$f":"IF(OFFSET(DE104_5CWB!$N$27,ROWS($N$27:N30)-1,COLUMNS($N$27:N30)-1)<>\"\",OFFSET(DE104_5CWB!$N$27,ROWS($N$27:N30)-1,COLUMNS($N$27:N30)-1),\"\")","v":""},{"$f":"IF(OFFSET(DE104_5CWB!$O$27,ROWS($O$27:O30)-1,COLUMNS($O$27:O30)-1)<>\"\",OFFSET(DE104_5CWB!$O$27,ROWS($O$27:O30)-1,COLUMNS($O$27:O30)-1),\"\")","v":""},{"$f":"IF(OFFSET(DE104_5CWB!$P$27,ROWS($P$27:P30)-1,COLUMNS($P$27:P30)-1)<>\"\",OFFSET(DE104_5CWB!$P$27,ROWS($P$27:P30)-1,COLUMNS($P$27:P30)-1),\"\")","v":""},{"$f":"IF(OFFSET(DE104_5CWB!$Q$27,ROWS($Q$27:Q30)-1,COLUMNS($Q$27:Q30)-1)<>\"\",OFFSET(DE104_5CWB!$Q$27,ROWS($Q$27:Q30)-1,COLUMNS($Q$27:Q30)-1),\"\")","v":""},{"$f":"IF(OFFSET(DE104_5CWB!$R$27,ROWS($R$27:R30)-1,COLUMNS($R$27:R30)-1)<>\"\",OFFSET(DE104_5CWB!$R$27,ROWS($R$27:R30)-1,COLUMNS($R$27:R30)-1),\"\")","v":""},{"$f":"IF(OFFSET(DE104_5CWB!$S$27,ROWS($S$27:S30)-1,COLUMNS($S$27:S30)-1)<>\"\",OFFSET(DE104_5CWB!$S$27,ROWS($S$27:S30)-1,COLUMNS($S$27:S30)-1),\"\")","v":277.8},{"$f":"IF(OFFSET(DE104_5CWB!$T$27,ROWS($T$27:T30)-1,COLUMNS($T$27:T30)-1)<>\"\",OFFSET(DE104_5CWB!$T$27,ROWS($T$27:T30)-1,COLUMNS($T$27:T30)-1),\"\")","v":""},{"$f":"IF(OFFSET(DE104_5CWB!$U$27,ROWS($U$27:U30)-1,COLUMNS($U$27:U30)-1)<>\"\",OFFSET(DE104_5CWB!$U$27,ROWS($U$27:U30)-1,COLUMNS($U$27:U30)-1),\"\")","v":""},{"$f":"IF(OFFSET(DE104_5CWB!$V$27,ROWS($V$27:V30)-1,COLUMNS($V$27:V30)-1)<>\"\",OFFSET(DE104_5CWB!$V$27,ROWS($V$27:V30)-1,COLUMNS($V$27:V30)-1),\"\")","v":"12-inch thick granular working blanket - US 30"}]
[{"$f":"IF(OFFSET(DE104_5CWB!$C$27,ROWS($C$27:C31)-1,COLUMNS($C$27:C31)-1)<>\"\",OFFSET(DE104_5CWB!$C$27,ROWS($C$27:C31)-1,COLUMNS($C$27:C31)-1),\"\")","v":5},{"$f":"IF(OFFSET(DE104_5CWB!$D$27,ROWS($D$27:D31)-1,COLUMNS($D$27:D31)-1)<>\"\",OFFSET(DE104_5CWB!$D$27,ROWS($D$27:D31)-1,COLUMNS($D$27:D31)-1),\"\")","v":35490},{"$f":"IF(OFFSET(DE104_5CWB!$E$27,ROWS($E$27:E31)-1,COLUMNS($E$27:E31)-1)<>\"\",OFFSET(DE104_5CWB!$E$27,ROWS($E$27:E31)-1,COLUMNS($E$27:E31)-1),\"\")","v":35520},{"$f":"IF(OFFSET(DE104_5CWB!$F$27,ROWS($F$27:F31)-1,COLUMNS($F$27:F31)-1)<>\"\",OFFSET(DE104_5CWB!$F$27,ROWS($F$27:F31)-1,COLUMNS($F$27:F31)-1),\"\")","v":""},{"$f":"IF(OFFSET(DE104_5CWB!$G$27,ROWS($G$27:G31)-1,COLUMNS($G$27:G31)-1)<>\"\",OFFSET(DE104_5CWB!$G$27,ROWS($G$27:G31)-1,COLUMNS($G$27:G31)-1),\"\")","v":""},{"$f":"IF(OFFSET(DE104_5CWB!$H$27,ROWS($H$27:H31)-1,COLUMNS($H$27:H31)-1)<>\"\",OFFSET(DE104_5CWB!$H$27,ROWS($H$27:H31)-1,COLUMNS($H$27:H31)-1),\"\")","v":""},{"$f":"IF(OFFSET(DE104_5CWB!$I$27,ROWS($I$27:I31)-1,COLUMNS($I$27:I31)-1)<>\"\",OFFSET(DE104_5CWB!$I$27,ROWS($I$27:I31)-1,COLUMNS($I$27:I31)-1),\"\")","v":""},{"$f":"IF(OFFSET(DE104_5CWB!$J$27,ROWS($J$27:J31)-1,COLUMNS($J$27:J31)-1)<>\"\",OFFSET(DE104_5CWB!$J$27,ROWS($J$27:J31)-1,COLUMNS($J$27:J31)-1),\"\")","v":""},{"$f":"IF(OFFSET(DE104_5CWB!$K$27,ROWS($K$27:K31)-1,COLUMNS($K$27:K31)-1)<>\"\",OFFSET(DE104_5CWB!$K$27,ROWS($K$27:K31)-1,COLUMNS($K$27:K31)-1),\"\")","v":""},{"$f":"IF(OFFSET(DE104_5CWB!$L$27,ROWS($L$27:L31)-1,COLUMNS($L$27:L31)-1)<>\"\",OFFSET(DE104_5CWB!$L$27,ROWS($L$27:L31)-1,COLUMNS($L$27:L31)-1),\"\")","v":""},{"$f":"IF(OFFSET(DE104_5CWB!$M$27,ROWS($M$27:M31)-1,COLUMNS($M$27:M31)-1)<>\"\",OFFSET(DE104_5CWB!$M$27,ROWS($M$27:M31)-1,COLUMNS($M$27:M31)-1),\"\")","v":""},{"$f":"IF(OFFSET(DE104_5CWB!$N$27,ROWS($N$27:N31)-1,COLUMNS($N$27:N31)-1)<>\"\",OFFSET(DE104_5CWB!$N$27,ROWS($N$27:N31)-1,COLUMNS($N$27:N31)-1),\"\")","v":""},{"$f":"IF(OFFSET(DE104_5CWB!$O$27,ROWS($O$27:O31)-1,COLUMNS($O$27:O31)-1)<>\"\",OFFSET(DE104_5CWB!$O$27,ROWS($O$27:O31)-1,COLUMNS($O$27:O31)-1),\"\")","v":""},{"$f":"IF(OFFSET(DE104_5CWB!$P$27,ROWS($P$27:P31)-1,COLUMNS($P$27:P31)-1)<>\"\",OFFSET(DE104_5CWB!$P$27,ROWS($P$27:P31)-1,COLUMNS($P$27:P31)-1),\"\")","v":""},{"$f":"IF(OFFSET(DE104_5CWB!$Q$27,ROWS($Q$27:Q31)-1,COLUMNS($Q$27:Q31)-1)<>\"\",OFFSET(DE104_5CWB!$Q$27,ROWS($Q$27:Q31)-1,COLUMNS($Q$27:Q31)-1),\"\")","v":""},{"$f":"IF(OFFSET(DE104_5CWB!$R$27,ROWS($R$27:R31)-1,COLUMNS($R$27:R31)-1)<>\"\",OFFSET(DE104_5CWB!$R$27,ROWS($R$27:R31)-1,COLUMNS($R$27:R31)-1),\"\")","v":""},{"$f":"IF(OFFSET(DE104_5CWB!$S$27,ROWS($S$27:S31)-1,COLUMNS($S$27:S31)-1)<>\"\",OFFSET(DE104_5CWB!$S$27,ROWS($S$27:S31)-1,COLUMNS($S$27:S31)-1),\"\")","v":246.5},{"$f":"IF(OFFSET(DE104_5CWB!$T$27,ROWS($T$27:T31)-1,COLUMNS($T$27:T31)-1)<>\"\",OFFSET(DE104_5CWB!$T$27,ROWS($T$27:T31)-1,COLUMNS($T$27:T31)-1),\"\")","v":""},{"$f":"IF(OFFSET(DE104_5CWB!$U$27,ROWS($U$27:U31)-1,COLUMNS($U$27:U31)-1)<>\"\",OFFSET(DE104_5CWB!$U$27,ROWS($U$27:U31)-1,COLUMNS($U$27:U31)-1),\"\")","v":""},{"$f":"IF(OFFSET(DE104_5CWB!$V$27,ROWS($V$27:V31)-1,COLUMNS($V$27:V31)-1)<>\"\",OFFSET(DE104_5CWB!$V$27,ROWS($V$27:V31)-1,COLUMNS($V$27:V31)-1),\"\")","v":"12-inch thick granular working blanket - US 30"}]
[{"$f":"IF(OFFSET(DE104_5CWB!$C$27,ROWS($C$27:C32)-1,COLUMNS($C$27:C32)-1)<>\"\",OFFSET(DE104_5CWB!$C$27,ROWS($C$27:C32)-1,COLUMNS($C$27:C32)-1),\"\")","v":6},{"$f":"IF(OFFSET(DE104_5CWB!$D$27,ROWS($D$27:D32)-1,COLUMNS($D$27:D32)-1)<>\"\",OFFSET(DE104_5CWB!$D$27,ROWS($D$27:D32)-1,COLUMNS($D$27:D32)-1),\"\")","v":36420},{"$f":"IF(OFFSET(DE104_5CWB!$E$27,ROWS($E$27:E32)-1,COLUMNS($E$27:E32)-1)<>\"\",OFFSET(DE104_5CWB!$E$27,ROWS($E$27:E32)-1,COLUMNS($E$27:E32)-1),\"\")","v":36520},{"$f":"IF(OFFSET(DE104_5CWB!$F$27,ROWS($F$27:F32)-1,COLUMNS($F$27:F32)-1)<>\"\",OFFSET(DE104_5CWB!$F$27,ROWS($F$27:F32)-1,COLUMNS($F$27:F32)-1),\"\")","v":""},{"$f":"IF(OFFSET(DE104_5CWB!$G$27,ROWS($G$27:G32)-1,COLUMNS($G$27:G32)-1)<>\"\",OFFSET(DE104_5CWB!$G$27,ROWS($G$27:G32)-1,COLUMNS($G$27:G32)-1),\"\")","v":""},{"$f":"IF(OFFSET(DE104_5CWB!$H$27,ROWS($H$27:H32)-1,COLUMNS($H$27:H32)-1)<>\"\",OFFSET(DE104_5CWB!$H$27,ROWS($H$27:H32)-1,COLUMNS($H$27:H32)-1),\"\")","v":""},{"$f":"IF(OFFSET(DE104_5CWB!$I$27,ROWS($I$27:I32)-1,COLUMNS($I$27:I32)-1)<>\"\",OFFSET(DE104_5CWB!$I$27,ROWS($I$27:I32)-1,COLUMNS($I$27:I32)-1),\"\")","v":""},{"$f":"IF(OFFSET(DE104_5CWB!$J$27,ROWS($J$27:J32)-1,COLUMNS($J$27:J32)-1)<>\"\",OFFSET(DE104_5CWB!$J$27,ROWS($J$27:J32)-1,COLUMNS($J$27:J32)-1),\"\")","v":""},{"$f":"IF(OFFSET(DE104_5CWB!$K$27,ROWS($K$27:K32)-1,COLUMNS($K$27:K32)-1)<>\"\",OFFSET(DE104_5CWB!$K$27,ROWS($K$27:K32)-1,COLUMNS($K$27:K32)-1),\"\")","v":""},{"$f":"IF(OFFSET(DE104_5CWB!$L$27,ROWS($L$27:L32)-1,COLUMNS($L$27:L32)-1)<>\"\",OFFSET(DE104_5CWB!$L$27,ROWS($L$27:L32)-1,COLUMNS($L$27:L32)-1),\"\")","v":""},{"$f":"IF(OFFSET(DE104_5CWB!$M$27,ROWS($M$27:M32)-1,COLUMNS($M$27:M32)-1)<>\"\",OFFSET(DE104_5CWB!$M$27,ROWS($M$27:M32)-1,COLUMNS($M$27:M32)-1),\"\")","v":""},{"$f":"IF(OFFSET(DE104_5CWB!$N$27,ROWS($N$27:N32)-1,COLUMNS($N$27:N32)-1)<>\"\",OFFSET(DE104_5CWB!$N$27,ROWS($N$27:N32)-1,COLUMNS($N$27:N32)-1),\"\")","v":""},{"$f":"IF(OFFSET(DE104_5CWB!$O$27,ROWS($O$27:O32)-1,COLUMNS($O$27:O32)-1)<>\"\",OFFSET(DE104_5CWB!$O$27,ROWS($O$27:O32)-1,COLUMNS($O$27:O32)-1),\"\")","v":""},{"$f":"IF(OFFSET(DE104_5CWB!$P$27,ROWS($P$27:P32)-1,COLUMNS($P$27:P32)-1)<>\"\",OFFSET(DE104_5CWB!$P$27,ROWS($P$27:P32)-1,COLUMNS($P$27:P32)-1),\"\")","v":""},{"$f":"IF(OFFSET(DE104_5CWB!$Q$27,ROWS($Q$27:Q32)-1,COLUMNS($Q$27:Q32)-1)<>\"\",OFFSET(DE104_5CWB!$Q$27,ROWS($Q$27:Q32)-1,COLUMNS($Q$27:Q32)-1),\"\")","v":""},{"$f":"IF(OFFSET(DE104_5CWB!$R$27,ROWS($R$27:R32)-1,COLUMNS($R$27:R32)-1)<>\"\",OFFSET(DE104_5CWB!$R$27,ROWS($R$27:R32)-1,COLUMNS($R$27:R32)-1),\"\")","v":""},{"$f":"IF(OFFSET(DE104_5CWB!$S$27,ROWS($S$27:S32)-1,COLUMNS($S$27:S32)-1)<>\"\",OFFSET(DE104_5CWB!$S$27,ROWS($S$27:S32)-1,COLUMNS($S$27:S32)-1),\"\")","v":311},{"$f":"IF(OFFSET(DE104_5CWB!$T$27,ROWS($T$27:T32)-1,COLUMNS($T$27:T32)-1)<>\"\",OFFSET(DE104_5CWB!$T$27,ROWS($T$27:T32)-1,COLUMNS($T$27:T32)-1),\"\")","v":""},{"$f":"IF(OFFSET(DE104_5CWB!$U$27,ROWS($U$27:U32)-1,COLUMNS($U$27:U32)-1)<>\"\",OFFSET(DE104_5CWB!$U$27,ROWS($U$27:U32)-1,COLUMNS($U$27:U32)-1),\"\")","v":""},{"$f":"IF(OFFSET(DE104_5CWB!$V$27,ROWS($V$27:V32)-1,COLUMNS($V$27:V32)-1)<>\"\",OFFSET(DE104_5CWB!$V$27,ROWS($V$27:V32)-1,COLUMNS($V$27:V32)-1),\"\")","v":"12-inch thick granular working blanket - US 30"}]
[{"$f":"IF(OFFSET(DE104_5CWB!$C$27,ROWS($C$27:C33)-1,COLUMNS($C$27:C33)-1)<>\"\",OFFSET(DE104_5CWB!$C$27,ROWS($C$27:C33)-1,COLUMNS($C$27:C33)-1),\"\")","v":7},{"$f":"IF(OFFSET(DE104_5CWB!$D$27,ROWS($D$27:D33)-1,COLUMNS($D$27:D33)-1)<>\"\",OFFSET(DE104_5CWB!$D$27,ROWS($D$27:D33)-1,COLUMNS($D$27:D33)-1),\"\")","v":38080},{"$f":"IF(OFFSET(DE104_5CWB!$E$27,ROWS($E$27:E33)-1,COLUMNS($E$27:E33)-1)<>\"\",OFFSET(DE104_5CWB!$E$27,ROWS($E$27:E33)-1,COLUMNS($E$27:E33)-1),\"\")","v":38850},{"$f":"IF(OFFSET(DE104_5CWB!$F$27,ROWS($F$27:F33)-1,COLUMNS($F$27:F33)-1)<>\"\",OFFSET(DE104_5CWB!$F$27,ROWS($F$27:F33)-1,COLUMNS($F$27:F33)-1),\"\")","v":""},{"$f":"IF(OFFSET(DE104_5CWB!$G$27,ROWS($G$27:G33)-1,COLUMNS($G$27:G33)-1)<>\"\",OFFSET(DE104_5CWB!$G$27,ROWS($G$27:G33)-1,COLUMNS($G$27:G33)-1),\"\")","v":""},{"$f":"IF(OFFSET(DE104_5CWB!$H$27,ROWS($H$27:H33)-1,COLUMNS($H$27:H33)-1)<>\"\",OFFSET(DE104_5CWB!$H$27,ROWS($H$27:H33)-1,COLUMNS($H$27:H33)-1),\"\")","v":""},{"$f":"IF(OFFSET(DE104_5CWB!$I$27,ROWS($I$27:I33)-1,COLUMNS($I$27:I33)-1)<>\"\",OFFSET(DE104_5CWB!$I$27,ROWS($I$27:I33)-1,COLUMNS($I$27:I33)-1),\"\")","v":""},{"$f":"IF(OFFSET(DE104_5CWB!$J$27,ROWS($J$27:J33)-1,COLUMNS($J$27:J33)-1)<>\"\",OFFSET(DE104_5CWB!$J$27,ROWS($J$27:J33)-1,COLUMNS($J$27:J33)-1),\"\")","v":""},{"$f":"IF(OFFSET(DE104_5CWB!$K$27,ROWS($K$27:K33)-1,COLUMNS($K$27:K33)-1)<>\"\",OFFSET(DE104_5CWB!$K$27,ROWS($K$27:K33)-1,COLUMNS($K$27:K33)-1),\"\")","v":""},{"$f":"IF(OFFSET(DE104_5CWB!$L$27,ROWS($L$27:L33)-1,COLUMNS($L$27:L33)-1)<>\"\",OFFSET(DE104_5CWB!$L$27,ROWS($L$27:L33)-1,COLUMNS($L$27:L33)-1),\"\")","v":""},{"$f":"IF(OFFSET(DE104_5CWB!$M$27,ROWS($M$27:M33)-1,COLUMNS($M$27:M33)-1)<>\"\",OFFSET(DE104_5CWB!$M$27,ROWS($M$27:M33)-1,COLUMNS($M$27:M33)-1),\"\")","v":""},{"$f":"IF(OFFSET(DE104_5CWB!$N$27,ROWS($N$27:N33)-1,COLUMNS($N$27:N33)-1)<>\"\",OFFSET(DE104_5CWB!$N$27,ROWS($N$27:N33)-1,COLUMNS($N$27:N33)-1),\"\")","v":""},{"$f":"IF(OFFSET(DE104_5CWB!$O$27,ROWS($O$27:O33)-1,COLUMNS($O$27:O33)-1)<>\"\",OFFSET(DE104_5CWB!$O$27,ROWS($O$27:O33)-1,COLUMNS($O$27:O33)-1),\"\")","v":""},{"$f":"IF(OFFSET(DE104_5CWB!$P$27,ROWS($P$27:P33)-1,COLUMNS($P$27:P33)-1)<>\"\",OFFSET(DE104_5CWB!$P$27,ROWS($P$27:P33)-1,COLUMNS($P$27:P33)-1),\"\")","v":""},{"$f":"IF(OFFSET(DE104_5CWB!$Q$27,ROWS($Q$27:Q33)-1,COLUMNS($Q$27:Q33)-1)<>\"\",OFFSET(DE104_5CWB!$Q$27,ROWS($Q$27:Q33)-1,COLUMNS($Q$27:Q33)-1),\"\")","v":""},{"$f":"IF(OFFSET(DE104_5CWB!$R$27,ROWS($R$27:R33)-1,COLUMNS($R$27:R33)-1)<>\"\",OFFSET(DE104_5CWB!$R$27,ROWS($R$27:R33)-1,COLUMNS($R$27:R33)-1),\"\")","v":""},{"$f":"IF(OFFSET(DE104_5CWB!$S$27,ROWS($S$27:S33)-1,COLUMNS($S$27:S33)-1)<>\"\",OFFSET(DE104_5CWB!$S$27,ROWS($S$27:S33)-1,COLUMNS($S$27:S33)-1),\"\")","v":1134.5},{"$f":"IF(OFFSET(DE104_5CWB!$T$27,ROWS($T$27:T33)-1,COLUMNS($T$27:T33)-1)<>\"\",OFFSET(DE104_5CWB!$T$27,ROWS($T$27:T33)-1,COLUMNS($T$27:T33)-1),\"\")","v":""},{"$f":"IF(OFFSET(DE104_5CWB!$U$27,ROWS($U$27:U33)-1,COLUMNS($U$27:U33)-1)<>\"\",OFFSET(DE104_5CWB!$U$27,ROWS($U$27:U33)-1,COLUMNS($U$27:U33)-1),\"\")","v":""},{"$f":"IF(OFFSET(DE104_5CWB!$V$27,ROWS($V$27:V33)-1,COLUMNS($V$27:V33)-1)<>\"\",OFFSET(DE104_5CWB!$V$27,ROWS($V$27:V33)-1,COLUMNS($V$27:V33)-1),\"\")","v":"12-inch thick granular working blanket - US 30"}]
[{"$f":"IF(OFFSET(DE104_5CWB!$C$27,ROWS($C$27:C34)-1,COLUMNS($C$27:C34)-1)<>\"\",OFFSET(DE104_5CWB!$C$27,ROWS($C$27:C34)-1,COLUMNS($C$27:C34)-1),\"\")","v":8},{"$f":"IF(OFFSET(DE104_5CWB!$D$27,ROWS($D$27:D34)-1,COLUMNS($D$27:D34)-1)<>\"\",OFFSET(DE104_5CWB!$D$27,ROWS($D$27:D34)-1,COLUMNS($D$27:D34)-1),\"\")","v":38890},{"$f":"IF(OFFSET(DE104_5CWB!$E$27,ROWS($E$27:E34)-1,COLUMNS($E$27:E34)-1)<>\"\",OFFSET(DE104_5CWB!$E$27,ROWS($E$27:E34)-1,COLUMNS($E$27:E34)-1),\"\")","v":39920},{"$f":"IF(OFFSET(DE104_5CWB!$F$27,ROWS($F$27:F34)-1,COLUMNS($F$27:F34)-1)<>\"\",OFFSET(DE104_5CWB!$F$27,ROWS($F$27:F34)-1,COLUMNS($F$27:F34)-1),\"\")","v":""},{"$f":"IF(OFFSET(DE104_5CWB!$G$27,ROWS($G$27:G34)-1,COLUMNS($G$27:G34)-1)<>\"\",OFFSET(DE104_5CWB!$G$27,ROWS($G$27:G34)-1,COLUMNS($G$27:G34)-1),\"\")","v":""},{"$f":"IF(OFFSET(DE104_5CWB!$H$27,ROWS($H$27:H34)-1,COLUMNS($H$27:H34)-1)<>\"\",OFFSET(DE104_5CWB!$H$27,ROWS($H$27:H34)-1,COLUMNS($H$27:H34)-1),\"\")","v":""},{"$f":"IF(OFFSET(DE104_5CWB!$I$27,ROWS($I$27:I34)-1,COLUMNS($I$27:I34)-1)<>\"\",OFFSET(DE104_5CWB!$I$27,ROWS($I$27:I34)-1,COLUMNS($I$27:I34)-1),\"\")","v":""},{"$f":"IF(OFFSET(DE104_5CWB!$J$27,ROWS($J$27:J34)-1,COLUMNS($J$27:J34)-1)<>\"\",OFFSET(DE104_5CWB!$J$27,ROWS($J$27:J34)-1,COLUMNS($J$27:J34)-1),\"\")","v":""},{"$f":"IF(OFFSET(DE104_5CWB!$K$27,ROWS($K$27:K34)-1,COLUMNS($K$27:K34)-1)<>\"\",OFFSET(DE104_5CWB!$K$27,ROWS($K$27:K34)-1,COLUMNS($K$27:K34)-1),\"\")","v":""},{"$f":"IF(OFFSET(DE104_5CWB!$L$27,ROWS($L$27:L34)-1,COLUMNS($L$27:L34)-1)<>\"\",OFFSET(DE104_5CWB!$L$27,ROWS($L$27:L34)-1,COLUMNS($L$27:L34)-1),\"\")","v":""},{"$f":"IF(OFFSET(DE104_5CWB!$M$27,ROWS($M$27:M34)-1,COLUMNS($M$27:M34)-1)<>\"\",OFFSET(DE104_5CWB!$M$27,ROWS($M$27:M34)-1,COLUMNS($M$27:M34)-1),\"\")","v":""},{"$f":"IF(OFFSET(DE104_5CWB!$N$27,ROWS($N$27:N34)-1,COLUMNS($N$27:N34)-1)<>\"\",OFFSET(DE104_5CWB!$N$27,ROWS($N$27:N34)-1,COLUMNS($N$27:N34)-1),\"\")","v":""},{"$f":"IF(OFFSET(DE104_5CWB!$O$27,ROWS($O$27:O34)-1,COLUMNS($O$27:O34)-1)<>\"\",OFFSET(DE104_5CWB!$O$27,ROWS($O$27:O34)-1,COLUMNS($O$27:O34)-1),\"\")","v":""},{"$f":"IF(OFFSET(DE104_5CWB!$P$27,ROWS($P$27:P34)-1,COLUMNS($P$27:P34)-1)<>\"\",OFFSET(DE104_5CWB!$P$27,ROWS($P$27:P34)-1,COLUMNS($P$27:P34)-1),\"\")","v":""},{"$f":"IF(OFFSET(DE104_5CWB!$Q$27,ROWS($Q$27:Q34)-1,COLUMNS($Q$27:Q34)-1)<>\"\",OFFSET(DE104_5CWB!$Q$27,ROWS($Q$27:Q34)-1,COLUMNS($Q$27:Q34)-1),\"\")","v":""},{"$f":"IF(OFFSET(DE104_5CWB!$R$27,ROWS($R$27:R34)-1,COLUMNS($R$27:R34)-1)<>\"\",OFFSET(DE104_5CWB!$R$27,ROWS($R$27:R34)-1,COLUMNS($R$27:R34)-1),\"\")","v":""},{"$f":"IF(OFFSET(DE104_5CWB!$S$27,ROWS($S$27:S34)-1,COLUMNS($S$27:S34)-1)<>\"\",OFFSET(DE104_5CWB!$S$27,ROWS($S$27:S34)-1,COLUMNS($S$27:S34)-1),\"\")","v":1208.8},{"$f":"IF(OFFSET(DE104_5CWB!$T$27,ROWS($T$27:T34)-1,COLUMNS($T$27:T34)-1)<>\"\",OFFSET(DE104_5CWB!$T$27,ROWS($T$27:T34)-1,COLUMNS($T$27:T34)-1),\"\")","v":""},{"$f":"IF(OFFSET(DE104_5CWB!$U$27,ROWS($U$27:U34)-1,COLUMNS($U$27:U34)-1)<>\"\",OFFSET(DE104_5CWB!$U$27,ROWS($U$27:U34)-1,COLUMNS($U$27:U34)-1),\"\")","v":""},{"$f":"IF(OFFSET(DE104_5CWB!$V$27,ROWS($V$27:V34)-1,COLUMNS($V$27:V34)-1)<>\"\",OFFSET(DE104_5CWB!$V$27,ROWS($V$27:V34)-1,COLUMNS($V$27:V34)-1),\"\")","v":"12-inch thick granular working blanket - US 30"}]
[{"$f":"IF(OFFSET(DE104_5CWB!$C$27,ROWS($C$27:C35)-1,COLUMNS($C$27:C35)-1)<>\"\",OFFSET(DE104_5CWB!$C$27,ROWS($C$27:C35)-1,COLUMNS($C$27:C35)-1),\"\")","v":9},{"$f":"IF(OFFSET(DE104_5CWB!$D$27,ROWS($D$27:D35)-1,COLUMNS($D$27:D35)-1)<>\"\",OFFSET(DE104_5CWB!$D$27,ROWS($D$27:D35)-1,COLUMNS($D$27:D35)-1),\"\")","v":42670},{"$f":"IF(OFFSET(DE104_5CWB!$E$27,ROWS($E$27:E35)-1,COLUMNS($E$27:E35)-1)<>\"\",OFFSET(DE104_5CWB!$E$27,ROWS($E$27:E35)-1,COLUMNS($E$27:E35)-1),\"\")","v":42780},{"$f":"IF(OFFSET(DE104_5CWB!$F$27,ROWS($F$27:F35)-1,COLUMNS($F$27:F35)-1)<>\"\",OFFSET(DE104_5CWB!$F$27,ROWS($F$27:F35)-1,COLUMNS($F$27:F35)-1),\"\")","v":""},{"$f":"IF(OFFSET(DE104_5CWB!$G$27,ROWS($G$27:G35)-1,COLUMNS($G$27:G35)-1)<>\"\",OFFSET(DE104_5CWB!$G$27,ROWS($G$27:G35)-1,COLUMNS($G$27:G35)-1),\"\")","v":""},{"$f":"IF(OFFSET(DE104_5CWB!$H$27,ROWS($H$27:H35)-1,COLUMNS($H$27:H35)-1)<>\"\",OFFSET(DE104_5CWB!$H$27,ROWS($H$27:H35)-1,COLUMNS($H$27:H35)-1),\"\")","v":""},{"$f":"IF(OFFSET(DE104_5CWB!$I$27,ROWS($I$27:I35)-1,COLUMNS($I$27:I35)-1)<>\"\",OFFSET(DE104_5CWB!$I$27,ROWS($I$27:I35)-1,COLUMNS($I$27:I35)-1),\"\")","v":""},{"$f":"IF(OFFSET(DE104_5CWB!$J$27,ROWS($J$27:J35)-1,COLUMNS($J$27:J35)-1)<>\"\",OFFSET(DE104_5CWB!$J$27,ROWS($J$27:J35)-1,COLUMNS($J$27:J35)-1),\"\")","v":""},{"$f":"IF(OFFSET(DE104_5CWB!$K$27,ROWS($K$27:K35)-1,COLUMNS($K$27:K35)-1)<>\"\",OFFSET(DE104_5CWB!$K$27,ROWS($K$27:K35)-1,COLUMNS($K$27:K35)-1),\"\")","v":""},{"$f":"IF(OFFSET(DE104_5CWB!$L$27,ROWS($L$27:L35)-1,COLUMNS($L$27:L35)-1)<>\"\",OFFSET(DE104_5CWB!$L$27,ROWS($L$27:L35)-1,COLUMNS($L$27:L35)-1),\"\")","v":""},{"$f":"IF(OFFSET(DE104_5CWB!$M$27,ROWS($M$27:M35)-1,COLUMNS($M$27:M35)-1)<>\"\",OFFSET(DE104_5CWB!$M$27,ROWS($M$27:M35)-1,COLUMNS($M$27:M35)-1),\"\")","v":""},{"$f":"IF(OFFSET(DE104_5CWB!$N$27,ROWS($N$27:N35)-1,COLUMNS($N$27:N35)-1)<>\"\",OFFSET(DE104_5CWB!$N$27,ROWS($N$27:N35)-1,COLUMNS($N$27:N35)-1),\"\")","v":""},{"$f":"IF(OFFSET(DE104_5CWB!$O$27,ROWS($O$27:O35)-1,COLUMNS($O$27:O35)-1)<>\"\",OFFSET(DE104_5CWB!$O$27,ROWS($O$27:O35)-1,COLUMNS($O$27:O35)-1),\"\")","v":""},{"$f":"IF(OFFSET(DE104_5CWB!$P$27,ROWS($P$27:P35)-1,COLUMNS($P$27:P35)-1)<>\"\",OFFSET(DE104_5CWB!$P$27,ROWS($P$27:P35)-1,COLUMNS($P$27:P35)-1),\"\")","v":""},{"$f":"IF(OFFSET(DE104_5CWB!$Q$27,ROWS($Q$27:Q35)-1,COLUMNS($Q$27:Q35)-1)<>\"\",OFFSET(DE104_5CWB!$Q$27,ROWS($Q$27:Q35)-1,COLUMNS($Q$27:Q35)-1),\"\")","v":""},{"$f":"IF(OFFSET(DE104_5CWB!$R$27,ROWS($R$27:R35)-1,COLUMNS($R$27:R35)-1)<>\"\",OFFSET(DE104_5CWB!$R$27,ROWS($R$27:R35)-1,COLUMNS($R$27:R35)-1),\"\")","v":""},{"$f":"IF(OFFSET(DE104_5CWB!$S$27,ROWS($S$27:S35)-1,COLUMNS($S$27:S35)-1)<>\"\",OFFSET(DE104_5CWB!$S$27,ROWS($S$27:S35)-1,COLUMNS($S$27:S35)-1),\"\")","v":501.6},{"$f":"IF(OFFSET(DE104_5CWB!$T$27,ROWS($T$27:T35)-1,COLUMNS($T$27:T35)-1)<>\"\",OFFSET(DE104_5CWB!$T$27,ROWS($T$27:T35)-1,COLUMNS($T$27:T35)-1),\"\")","v":""},{"$f":"IF(OFFSET(DE104_5CWB!$U$27,ROWS($U$27:U35)-1,COLUMNS($U$27:U35)-1)<>\"\",OFFSET(DE104_5CWB!$U$27,ROWS($U$27:U35)-1,COLUMNS($U$27:U35)-1),\"\")","v":""},{"$f":"IF(OFFSET(DE104_5CWB!$V$27,ROWS($V$27:V35)-1,COLUMNS($V$27:V35)-1)<>\"\",OFFSET(DE104_5CWB!$V$27,ROWS($V$27:V35)-1,COLUMNS($V$27:V35)-1),\"\")","v":"12-inch thick granular working blanket - US 30"}]
[{"$f":"IF(OFFSET(DE104_5CWB!$C$27,ROWS($C$27:C36)-1,COLUMNS($C$27:C36)-1)<>\"\",OFFSET(DE104_5CWB!$C$27,ROWS($C$27:C36)-1,COLUMNS($C$27:C36)-1),\"\")","v":10},{"$f":"IF(OFFSET(DE104_5CWB!$D$27,ROWS($D$27:D36)-1,COLUMNS($D$27:D36)-1)<>\"\",OFFSET(DE104_5CWB!$D$27,ROWS($D$27:D36)-1,COLUMNS($D$27:D36)-1),\"\")","v":43690},{"$f":"IF(OFFSET(DE104_5CWB!$E$27,ROWS($E$27:E36)-1,COLUMNS($E$27:E36)-1)<>\"\",OFFSET(DE104_5CWB!$E$27,ROWS($E$27:E36)-1,COLUMNS($E$27:E36)-1),\"\")","v":43880},{"$f":"IF(OFFSET(DE104_5CWB!$F$27,ROWS($F$27:F36)-1,COLUMNS($F$27:F36)-1)<>\"\",OFFSET(DE104_5CWB!$F$27,ROWS($F$27:F36)-1,COLUMNS($F$27:F36)-1),\"\")","v":""},{"$f":"IF(OFFSET(DE104_5CWB!$G$27,ROWS($G$27:G36)-1,COLUMNS($G$27:G36)-1)<>\"\",OFFSET(DE104_5CWB!$G$27,ROWS($G$27:G36)-1,COLUMNS($G$27:G36)-1),\"\")","v":""},{"$f":"IF(OFFSET(DE104_5CWB!$H$27,ROWS($H$27:H36)-1,COLUMNS($H$27:H36)-1)<>\"\",OFFSET(DE104_5CWB!$H$27,ROWS($H$27:H36)-1,COLUMNS($H$27:H36)-1),\"\")","v":""},{"$f":"IF(OFFSET(DE104_5CWB!$I$27,ROWS($I$27:I36)-1,COLUMNS($I$27:I36)-1)<>\"\",OFFSET(DE104_5CWB!$I$27,ROWS($I$27:I36)-1,COLUMNS($I$27:I36)-1),\"\")","v":""},{"$f":"IF(OFFSET(DE104_5CWB!$J$27,ROWS($J$27:J36)-1,COLUMNS($J$27:J36)-1)<>\"\",OFFSET(DE104_5CWB!$J$27,ROWS($J$27:J36)-1,COLUMNS($J$27:J36)-1),\"\")","v":""},{"$f":"IF(OFFSET(DE104_5CWB!$K$27,ROWS($K$27:K36)-1,COLUMNS($K$27:K36)-1)<>\"\",OFFSET(DE104_5CWB!$K$27,ROWS($K$27:K36)-1,COLUMNS($K$27:K36)-1),\"\")","v":""},{"$f":"IF(OFFSET(DE104_5CWB!$L$27,ROWS($L$27:L36)-1,COLUMNS($L$27:L36)-1)<>\"\",OFFSET(DE104_5CWB!$L$27,ROWS($L$27:L36)-1,COLUMNS($L$27:L36)-1),\"\")","v":""},{"$f":"IF(OFFSET(DE104_5CWB!$M$27,ROWS($M$27:M36)-1,COLUMNS($M$27:M36)-1)<>\"\",OFFSET(DE104_5CWB!$M$27,ROWS($M$27:M36)-1,COLUMNS($M$27:M36)-1),\"\")","v":""},{"$f":"IF(OFFSET(DE104_5CWB!$N$27,ROWS($N$27:N36)-1,COLUMNS($N$27:N36)-1)<>\"\",OFFSET(DE104_5CWB!$N$27,ROWS($N$27:N36)-1,COLUMNS($N$27:N36)-1),\"\")","v":""},{"$f":"IF(OFFSET(DE104_5CWB!$O$27,ROWS($O$27:O36)-1,COLUMNS($O$27:O36)-1)<>\"\",OFFSET(DE104_5CWB!$O$27,ROWS($O$27:O36)-1,COLUMNS($O$27:O36)-1),\"\")","v":""},{"$f":"IF(OFFSET(DE104_5CWB!$P$27,ROWS($P$27:P36)-1,COLUMNS($P$27:P36)-1)<>\"\",OFFSET(DE104_5CWB!$P$27,ROWS($P$27:P36)-1,COLUMNS($P$27:P36)-1),\"\")","v":""},{"$f":"IF(OFFSET(DE104_5CWB!$Q$27,ROWS($Q$27:Q36)-1,COLUMNS($Q$27:Q36)-1)<>\"\",OFFSET(DE104_5CWB!$Q$27,ROWS($Q$27:Q36)-1,COLUMNS($Q$27:Q36)-1),\"\")","v":""},{"$f":"IF(OFFSET(DE104_5CWB!$R$27,ROWS($R$27:R36)-1,COLUMNS($R$27:R36)-1)<>\"\",OFFSET(DE104_5CWB!$R$27,ROWS($R$27:R36)-1,COLUMNS($R$27:R36)-1),\"\")","v":""},{"$f":"IF(OFFSET(DE104_5CWB!$S$27,ROWS($S$27:S36)-1,COLUMNS($S$27:S36)-1)<>\"\",OFFSET(DE104_5CWB!$S$27,ROWS($S$27:S36)-1,COLUMNS($S$27:S36)-1),\"\")","v":336},{"$f":"IF(OFFSET(DE104_5CWB!$T$27,ROWS($T$27:T36)-1,COLUMNS($T$27:T36)-1)<>\"\",OFFSET(DE104_5CWB!$T$27,ROWS($T$27:T36)-1,COLUMNS($T$27:T36)-1),\"\")","v":""},{"$f":"IF(OFFSET(DE104_5CWB!$U$27,ROWS($U$27:U36)-1,COLUMNS($U$27:U36)-1)<>\"\",OFFSET(DE104_5CWB!$U$27,ROWS($U$27:U36)-1,COLUMNS($U$27:U36)-1),\"\")","v":""},{"$f":"IF(OFFSET(DE104_5CWB!$V$27,ROWS($V$27:V36)-1,COLUMNS($V$27:V36)-1)<>\"\",OFFSET(DE104_5CWB!$V$27,ROWS($V$27:V36)-1,COLUMNS($V$27:V36)-1),\"\")","v":"12-inch thick granular working blanket - US 30"}]
[{"$f":"IF(OFFSET(DE104_5CWB!$C$27,ROWS($C$27:C37)-1,COLUMNS($C$27:C37)-1)<>\"\",OFFSET(DE104_5CWB!$C$27,ROWS($C$27:C37)-1,COLUMNS($C$27:C37)-1),\"\")","v":11},{"$f":"IF(OFFSET(DE104_5CWB!$D$27,ROWS($D$27:D37)-1,COLUMNS($D$27:D37)-1)<>\"\",OFFSET(DE104_5CWB!$D$27,ROWS($D$27:D37)-1,COLUMNS($D$27:D37)-1),\"\")","v":45230},{"$f":"IF(OFFSET(DE104_5CWB!$E$27,ROWS($E$27:E37)-1,COLUMNS($E$27:E37)-1)<>\"\",OFFSET(DE104_5CWB!$E$27,ROWS($E$27:E37)-1,COLUMNS($E$27:E37)-1),\"\")","v":45560},{"$f":"IF(OFFSET(DE104_5CWB!$F$27,ROWS($F$27:F37)-1,COLUMNS($F$27:F37)-1)<>\"\",OFFSET(DE104_5CWB!$F$27,ROWS($F$27:F37)-1,COLUMNS($F$27:F37)-1),\"\")","v":""},{"$f":"IF(OFFSET(DE104_5CWB!$G$27,ROWS($G$27:G37)-1,COLUMNS($G$27:G37)-1)<>\"\",OFFSET(DE104_5CWB!$G$27,ROWS($G$27:G37)-1,COLUMNS($G$27:G37)-1),\"\")","v":""},{"$f":"IF(OFFSET(DE104_5CWB!$H$27,ROWS($H$27:H37)-1,COLUMNS($H$27:H37)-1)<>\"\",OFFSET(DE104_5CWB!$H$27,ROWS($H$27:H37)-1,COLUMNS($H$27:H37)-1),\"\")","v":""},{"$f":"IF(OFFSET(DE104_5CWB!$I$27,ROWS($I$27:I37)-1,COLUMNS($I$27:I37)-1)<>\"\",OFFSET(DE104_5CWB!$I$27,ROWS($I$27:I37)-1,COLUMNS($I$27:I37)-1),\"\")","v":""},{"$f":"IF(OFFSET(DE104_5CWB!$J$27,ROWS($J$27:J37)-1,COLUMNS($J$27:J37)-1)<>\"\",OFFSET(DE104_5CWB!$J$27,ROWS($J$27:J37)-1,COLUMNS($J$27:J37)-1),\"\")","v":""},{"$f":"IF(OFFSET(DE104_5CWB!$K$27,ROWS($K$27:K37)-1,COLUMNS($K$27:K37)-1)<>\"\",OFFSET(DE104_5CWB!$K$27,ROWS($K$27:K37)-1,COLUMNS($K$27:K37)-1),\"\")","v":""},{"$f":"IF(OFFSET(DE104_5CWB!$L$27,ROWS($L$27:L37)-1,COLUMNS($L$27:L37)-1)<>\"\",OFFSET(DE104_5CWB!$L$27,ROWS($L$27:L37)-1,COLUMNS($L$27:L37)-1),\"\")","v":""},{"$f":"IF(OFFSET(DE104_5CWB!$M$27,ROWS($M$27:M37)-1,COLUMNS($M$27:M37)-1)<>\"\",OFFSET(DE104_5CWB!$M$27,ROWS($M$27:M37)-1,COLUMNS($M$27:M37)-1),\"\")","v":""},{"$f":"IF(OFFSET(DE104_5CWB!$N$27,ROWS($N$27:N37)-1,COLUMNS($N$27:N37)-1)<>\"\",OFFSET(DE104_5CWB!$N$27,ROWS($N$27:N37)-1,COLUMNS($N$27:N37)-1),\"\")","v":""},{"$f":"IF(OFFSET(DE104_5CWB!$O$27,ROWS($O$27:O37)-1,COLUMNS($O$27:O37)-1)<>\"\",OFFSET(DE104_5CWB!$O$27,ROWS($O$27:O37)-1,COLUMNS($O$27:O37)-1),\"\")","v":""},{"$f":"IF(OFFSET(DE104_5CWB!$P$27,ROWS($P$27:P37)-1,COLUMNS($P$27:P37)-1)<>\"\",OFFSET(DE104_5CWB!$P$27,ROWS($P$27:P37)-1,COLUMNS($P$27:P37)-1),\"\")","v":""},{"$f":"IF(OFFSET(DE104_5CWB!$Q$27,ROWS($Q$27:Q37)-1,COLUMNS($Q$27:Q37)-1)<>\"\",OFFSET(DE104_5CWB!$Q$27,ROWS($Q$27:Q37)-1,COLUMNS($Q$27:Q37)-1),\"\")","v":""},{"$f":"IF(OFFSET(DE104_5CWB!$R$27,ROWS($R$27:R37)-1,COLUMNS($R$27:R37)-1)<>\"\",OFFSET(DE104_5CWB!$R$27,ROWS($R$27:R37)-1,COLUMNS($R$27:R37)-1),\"\")","v":""},{"$f":"IF(OFFSET(DE104_5CWB!$S$27,ROWS($S$27:S37)-1,COLUMNS($S$27:S37)-1)<>\"\",OFFSET(DE104_5CWB!$S$27,ROWS($S$27:S37)-1,COLUMNS($S$27:S37)-1),\"\")","v":674},{"$f":"IF(OFFSET(DE104_5CWB!$T$27,ROWS($T$27:T37)-1,COLUMNS($T$27:T37)-1)<>\"\",OFFSET(DE104_5CWB!$T$27,ROWS($T$27:T37)-1,COLUMNS($T$27:T37)-1),\"\")","v":""},{"$f":"IF(OFFSET(DE104_5CWB!$U$27,ROWS($U$27:U37)-1,COLUMNS($U$27:U37)-1)<>\"\",OFFSET(DE104_5CWB!$U$27,ROWS($U$27:U37)-1,COLUMNS($U$27:U37)-1),\"\")","v":""},{"$f":"IF(OFFSET(DE104_5CWB!$V$27,ROWS($V$27:V37)-1,COLUMNS($V$27:V37)-1)<>\"\",OFFSET(DE104_5CWB!$V$27,ROWS($V$27:V37)-1,COLUMNS($V$27:V37)-1),\"\")","v":"12-inch thick granular working blanket - US 30"}]
[{"$f":"IF(OFFSET(DE104_5CWB!$C$27,ROWS($C$27:C38)-1,COLUMNS($C$27:C38)-1)<>\"\",OFFSET(DE104_5CWB!$C$27,ROWS($C$27:C38)-1,COLUMNS($C$27:C38)-1),\"\")","v":12},{"$f":"IF(OFFSET(DE104_5CWB!$D$27,ROWS($D$27:D38)-1,COLUMNS($D$27:D38)-1)<>\"\",OFFSET(DE104_5CWB!$D$27,ROWS($D$27:D38)-1,COLUMNS($D$27:D38)-1),\"\")","v":45970},{"$f":"IF(OFFSET(DE104_5CWB!$E$27,ROWS($E$27:E38)-1,COLUMNS($E$27:E38)-1)<>\"\",OFFSET(DE104_5CWB!$E$27,ROWS($E$27:E38)-1,COLUMNS($E$27:E38)-1),\"\")","v":46000},{"$f":"IF(OFFSET(DE104_5CWB!$F$27,ROWS($F$27:F38)-1,COLUMNS($F$27:F38)-1)<>\"\",OFFSET(DE104_5CWB!$F$27,ROWS($F$27:F38)-1,COLUMNS($F$27:F38)-1),\"\")","v":""},{"$f":"IF(OFFSET(DE104_5CWB!$G$27,ROWS($G$27:G38)-1,COLUMNS($G$27:G38)-1)<>\"\",OFFSET(DE104_5CWB!$G$27,ROWS($G$27:G38)-1,COLUMNS($G$27:G38)-1),\"\")","v":""},{"$f":"IF(OFFSET(DE104_5CWB!$H$27,ROWS($H$27:H38)-1,COLUMNS($H$27:H38)-1)<>\"\",OFFSET(DE104_5CWB!$H$27,ROWS($H$27:H38)-1,COLUMNS($H$27:H38)-1),\"\")","v":""},{"$f":"IF(OFFSET(DE104_5CWB!$I$27,ROWS($I$27:I38)-1,COLUMNS($I$27:I38)-1)<>\"\",OFFSET(DE104_5CWB!$I$27,ROWS($I$27:I38)-1,COLUMNS($I$27:I38)-1),\"\")","v":""},{"$f":"IF(OFFSET(DE104_5CWB!$J$27,ROWS($J$27:J38)-1,COLUMNS($J$27:J38)-1)<>\"\",OFFSET(DE104_5CWB!$J$27,ROWS($J$27:J38)-1,COLUMNS($J$27:J38)-1),\"\")","v":""},{"$f":"IF(OFFSET(DE104_5CWB!$K$27,ROWS($K$27:K38)-1,COLUMNS($K$27:K38)-1)<>\"\",OFFSET(DE104_5CWB!$K$27,ROWS($K$27:K38)-1,COLUMNS($K$27:K38)-1),\"\")","v":""},{"$f":"IF(OFFSET(DE104_5CWB!$L$27,ROWS($L$27:L38)-1,COLUMNS($L$27:L38)-1)<>\"\",OFFSET(DE104_5CWB!$L$27,ROWS($L$27:L38)-1,COLUMNS($L$27:L38)-1),\"\")","v":""},{"$f":"IF(OFFSET(DE104_5CWB!$M$27,ROWS($M$27:M38)-1,COLUMNS($M$27:M38)-1)<>\"\",OFFSET(DE104_5CWB!$M$27,ROWS($M$27:M38)-1,COLUMNS($M$27:M38)-1),\"\")","v":""},{"$f":"IF(OFFSET(DE104_5CWB!$N$27,ROWS($N$27:N38)-1,COLUMNS($N$27:N38)-1)<>\"\",OFFSET(DE104_5CWB!$N$27,ROWS($N$27:N38)-1,COLUMNS($N$27:N38)-1),\"\")","v":""},{"$f":"IF(OFFSET(DE104_5CWB!$O$27,ROWS($O$27:O38)-1,COLUMNS($O$27:O38)-1)<>\"\",OFFSET(DE104_5CWB!$O$27,ROWS($O$27:O38)-1,COLUMNS($O$27:O38)-1),\"\")","v":""},{"$f":"IF(OFFSET(DE104_5CWB!$P$27,ROWS($P$27:P38)-1,COLUMNS($P$27:P38)-1)<>\"\",OFFSET(DE104_5CWB!$P$27,ROWS($P$27:P38)-1,COLUMNS($P$27:P38)-1),\"\")","v":""},{"$f":"IF(OFFSET(DE104_5CWB!$Q$27,ROWS($Q$27:Q38)-1,COLUMNS($Q$27:Q38)-1)<>\"\",OFFSET(DE104_5CWB!$Q$27,ROWS($Q$27:Q38)-1,COLUMNS($Q$27:Q38)-1),\"\")","v":""},{"$f":"IF(OFFSET(DE104_5CWB!$R$27,ROWS($R$27:R38)-1,COLUMNS($R$27:R38)-1)<>\"\",OFFSET(DE104_5CWB!$R$27,ROWS($R$27:R38)-1,COLUMNS($R$27:R38)-1),\"\")","v":""},{"$f":"IF(OFFSET(DE104_5CWB!$S$27,ROWS($S$27:S38)-1,COLUMNS($S$27:S38)-1)<>\"\",OFFSET(DE104_5CWB!$S$27,ROWS($S$27:S38)-1,COLUMNS($S$27:S38)-1),\"\")","v":243.8},{"$f":"IF(OFFSET(DE104_5CWB!$T$27,ROWS($T$27:T38)-1,COLUMNS($T$27:T38)-1)<>\"\",OFFSET(DE104_5CWB!$T$27,ROWS($T$27:T38)-1,COLUMNS($T$27:T38)-1),\"\")","v":""},{"$f":"IF(OFFSET(DE104_5CWB!$U$27,ROWS($U$27:U38)-1,COLUMNS($U$27:U38)-1)<>\"\",OFFSET(DE104_5CWB!$U$27,ROWS($U$27:U38)-1,COLUMNS($U$27:U38)-1),\"\")","v":""},{"$f":"IF(OFFSET(DE104_5CWB!$V$27,ROWS($V$27:V38)-1,COLUMNS($V$27:V38)-1)<>\"\",OFFSET(DE104_5CWB!$V$27,ROWS($V$27:V38)-1,COLUMNS($V$27:V38)-1),\"\")","v":"12-inch thick granular working blanket - US 30"}]
[{"$f":"IF(OFFSET(DE104_5CWB!$C$27,ROWS($C$27:C39)-1,COLUMNS($C$27:C39)-1)<>\"\",OFFSET(DE104_5CWB!$C$27,ROWS($C$27:C39)-1,COLUMNS($C$27:C39)-1),\"\")","v":13},{"$f":"IF(OFFSET(DE104_5CWB!$D$27,ROWS($D$27:D39)-1,COLUMNS($D$27:D39)-1)<>\"\",OFFSET(DE104_5CWB!$D$27,ROWS($D$27:D39)-1,COLUMNS($D$27:D39)-1),\"\")","v":47370},{"$f":"IF(OFFSET(DE104_5CWB!$E$27,ROWS($E$27:E39)-1,COLUMNS($E$27:E39)-1)<>\"\",OFFSET(DE104_5CWB!$E$27,ROWS($E$27:E39)-1,COLUMNS($E$27:E39)-1),\"\")","v":47490},{"$f":"IF(OFFSET(DE104_5CWB!$F$27,ROWS($F$27:F39)-1,COLUMNS($F$27:F39)-1)<>\"\",OFFSET(DE104_5CWB!$F$27,ROWS($F$27:F39)-1,COLUMNS($F$27:F39)-1),\"\")","v":""},{"$f":"IF(OFFSET(DE104_5CWB!$G$27,ROWS($G$27:G39)-1,COLUMNS($G$27:G39)-1)<>\"\",OFFSET(DE104_5CWB!$G$27,ROWS($G$27:G39)-1,COLUMNS($G$27:G39)-1),\"\")","v":""},{"$f":"IF(OFFSET(DE104_5CWB!$H$27,ROWS($H$27:H39)-1,COLUMNS($H$27:H39)-1)<>\"\",OFFSET(DE104_5CWB!$H$27,ROWS($H$27:H39)-1,COLUMNS($H$27:H39)-1),\"\")","v":""},{"$f":"IF(OFFSET(DE104_5CWB!$I$27,ROWS($I$27:I39)-1,COLUMNS($I$27:I39)-1)<>\"\",OFFSET(DE104_5CWB!$I$27,ROWS($I$27:I39)-1,COLUMNS($I$27:I39)-1),\"\")","v":""},{"$f":"IF(OFFSET(DE104_5CWB!$J$27,ROWS($J$27:J39)-1,COLUMNS($J$27:J39)-1)<>\"\",OFFSET(DE104_5CWB!$J$27,ROWS($J$27:J39)-1,COLUMNS($J$27:J39)-1),\"\")","v":""},{"$f":"IF(OFFSET(DE104_5CWB!$K$27,ROWS($K$27:K39)-1,COLUMNS($K$27:K39)-1)<>\"\",OFFSET(DE104_5CWB!$K$27,ROWS($K$27:K39)-1,COLUMNS($K$27:K39)-1),\"\")","v":""},{"$f":"IF(OFFSET(DE104_5CWB!$L$27,ROWS($L$27:L39)-1,COLUMNS($L$27:L39)-1)<>\"\",OFFSET(DE104_5CWB!$L$27,ROWS($L$27:L39)-1,COLUMNS($L$27:L39)-1),\"\")","v":""},{"$f":"IF(OFFSET(DE104_5CWB!$M$27,ROWS($M$27:M39)-1,COLUMNS($M$27:M39)-1)<>\"\",OFFSET(DE104_5CWB!$M$27,ROWS($M$27:M39)-1,COLUMNS($M$27:M39)-1),\"\")","v":""},{"$f":"IF(OFFSET(DE104_5CWB!$N$27,ROWS($N$27:N39)-1,COLUMNS($N$27:N39)-1)<>\"\",OFFSET(DE104_5CWB!$N$27,ROWS($N$27:N39)-1,COLUMNS($N$27:N39)-1),\"\")","v":""},{"$f":"IF(OFFSET(DE104_5CWB!$O$27,ROWS($O$27:O39)-1,COLUMNS($O$27:O39)-1)<>\"\",OFFSET(DE104_5CWB!$O$27,ROWS($O$27:O39)-1,COLUMNS($O$27:O39)-1),\"\")","v":""},{"$f":"IF(OFFSET(DE104_5CWB!$P$27,ROWS($P$27:P39)-1,COLUMNS($P$27:P39)-1)<>\"\",OFFSET(DE104_5CWB!$P$27,ROWS($P$27:P39)-1,COLUMNS($P$27:P39)-1),\"\")","v":""},{"$f":"IF(OFFSET(DE104_5CWB!$Q$27,ROWS($Q$27:Q39)-1,COLUMNS($Q$27:Q39)-1)<>\"\",OFFSET(DE104_5CWB!$Q$27,ROWS($Q$27:Q39)-1,COLUMNS($Q$27:Q39)-1),\"\")","v":""},{"$f":"IF(OFFSET(DE104_5CWB!$R$27,ROWS($R$27:R39)-1,COLUMNS($R$27:R39)-1)<>\"\",OFFSET(DE104_5CWB!$R$27,ROWS($R$27:R39)-1,COLUMNS($R$27:R39)-1),\"\")","v":""},{"$f":"IF(OFFSET(DE104_5CWB!$S$27,ROWS($S$27:S39)-1,COLUMNS($S$27:S39)-1)<>\"\",OFFSET(DE104_5CWB!$S$27,ROWS($S$27:S39)-1,COLUMNS($S$27:S39)-1),\"\")","v":581},{"$f":"IF(OFFSET(DE104_5CWB!$T$27,ROWS($T$27:T39)-1,COLUMNS($T$27:T39)-1)<>\"\",OFFSET(DE104_5CWB!$T$27,ROWS($T$27:T39)-1,COLUMNS($T$27:T39)-1),\"\")","v":""},{"$f":"IF(OFFSET(DE104_5CWB!$U$27,ROWS($U$27:U39)-1,COLUMNS($U$27:U39)-1)<>\"\",OFFSET(DE104_5CWB!$U$27,ROWS($U$27:U39)-1,COLUMNS($U$27:U39)-1),\"\")","v":""},{"$f":"IF(OFFSET(DE104_5CWB!$V$27,ROWS($V$27:V39)-1,COLUMNS($V$27:V39)-1)<>\"\",OFFSET(DE104_5CWB!$V$27,ROWS($V$27:V39)-1,COLUMNS($V$27:V39)-1),\"\")","v":"12-inch thick granular working blanket - US 30"}]
[{"$f":"IF(OFFSET(DE104_5CWB!$C$27,ROWS($C$27:C40)-1,COLUMNS($C$27:C40)-1)<>\"\",OFFSET(DE104_5CWB!$C$27,ROWS($C$27:C40)-1,COLUMNS($C$27:C40)-1),\"\")","v":14},{"$f":"IF(OFFSET(DE104_5CWB!$D$27,ROWS($D$27:D40)-1,COLUMNS($D$27:D40)-1)<>\"\",OFFSET(DE104_5CWB!$D$27,ROWS($D$27:D40)-1,COLUMNS($D$27:D40)-1),\"\")","v":48000},{"$f":"IF(OFFSET(DE104_5CWB!$E$27,ROWS($E$27:E40)-1,COLUMNS($E$27:E40)-1)<>\"\",OFFSET(DE104_5CWB!$E$27,ROWS($E$27:E40)-1,COLUMNS($E$27:E40)-1),\"\")","v":48220},{"$f":"IF(OFFSET(DE104_5CWB!$F$27,ROWS($F$27:F40)-1,COLUMNS($F$27:F40)-1)<>\"\",OFFSET(DE104_5CWB!$F$27,ROWS($F$27:F40)-1,COLUMNS($F$27:F40)-1),\"\")","v":""},{"$f":"IF(OFFSET(DE104_5CWB!$G$27,ROWS($G$27:G40)-1,COLUMNS($G$27:G40)-1)<>\"\",OFFSET(DE104_5CWB!$G$27,ROWS($G$27:G40)-1,COLUMNS($G$27:G40)-1),\"\")","v":""},{"$f":"IF(OFFSET(DE104_5CWB!$H$27,ROWS($H$27:H40)-1,COLUMNS($H$27:H40)-1)<>\"\",OFFSET(DE104_5CWB!$H$27,ROWS($H$27:H40)-1,COLUMNS($H$27:H40)-1),\"\")","v":""},{"$f":"IF(OFFSET(DE104_5CWB!$I$27,ROWS($I$27:I40)-1,COLUMNS($I$27:I40)-1)<>\"\",OFFSET(DE104_5CWB!$I$27,ROWS($I$27:I40)-1,COLUMNS($I$27:I40)-1),\"\")","v":""},{"$f":"IF(OFFSET(DE104_5CWB!$J$27,ROWS($J$27:J40)-1,COLUMNS($J$27:J40)-1)<>\"\",OFFSET(DE104_5CWB!$J$27,ROWS($J$27:J40)-1,COLUMNS($J$27:J40)-1),\"\")","v":""},{"$f":"IF(OFFSET(DE104_5CWB!$K$27,ROWS($K$27:K40)-1,COLUMNS($K$27:K40)-1)<>\"\",OFFSET(DE104_5CWB!$K$27,ROWS($K$27:K40)-1,COLUMNS($K$27:K40)-1),\"\")","v":""},{"$f":"IF(OFFSET(DE104_5CWB!$L$27,ROWS($L$27:L40)-1,COLUMNS($L$27:L40)-1)<>\"\",OFFSET(DE104_5CWB!$L$27,ROWS($L$27:L40)-1,COLUMNS($L$27:L40)-1),\"\")","v":""},{"$f":"IF(OFFSET(DE104_5CWB!$M$27,ROWS($M$27:M40)-1,COLUMNS($M$27:M40)-1)<>\"\",OFFSET(DE104_5CWB!$M$27,ROWS($M$27:M40)-1,COLUMNS($M$27:M40)-1),\"\")","v":""},{"$f":"IF(OFFSET(DE104_5CWB!$N$27,ROWS($N$27:N40)-1,COLUMNS($N$27:N40)-1)<>\"\",OFFSET(DE104_5CWB!$N$27,ROWS($N$27:N40)-1,COLUMNS($N$27:N40)-1),\"\")","v":""},{"$f":"IF(OFFSET(DE104_5CWB!$O$27,ROWS($O$27:O40)-1,COLUMNS($O$27:O40)-1)<>\"\",OFFSET(DE104_5CWB!$O$27,ROWS($O$27:O40)-1,COLUMNS($O$27:O40)-1),\"\")","v":""},{"$f":"IF(OFFSET(DE104_5CWB!$P$27,ROWS($P$27:P40)-1,COLUMNS($P$27:P40)-1)<>\"\",OFFSET(DE104_5CWB!$P$27,ROWS($P$27:P40)-1,COLUMNS($P$27:P40)-1),\"\")","v":""},{"$f":"IF(OFFSET(DE104_5CWB!$Q$27,ROWS($Q$27:Q40)-1,COLUMNS($Q$27:Q40)-1)<>\"\",OFFSET(DE104_5CWB!$Q$27,ROWS($Q$27:Q40)-1,COLUMNS($Q$27:Q40)-1),\"\")","v":""},{"$f":"IF(OFFSET(DE104_5CWB!$R$27,ROWS($R$27:R40)-1,COLUMNS($R$27:R40)-1)<>\"\",OFFSET(DE104_5CWB!$R$27,ROWS($R$27:R40)-1,COLUMNS($R$27:R40)-1),\"\")","v":""},{"$f":"IF(OFFSET(DE104_5CWB!$S$27,ROWS($S$27:S40)-1,COLUMNS($S$27:S40)-1)<>\"\",OFFSET(DE104_5CWB!$S$27,ROWS($S$27:S40)-1,COLUMNS($S$27:S40)-1),\"\")","v":502.6},{"$f":"IF(OFFSET(DE104_5CWB!$T$27,ROWS($T$27:T40)-1,COLUMNS($T$27:T40)-1)<>\"\",OFFSET(DE104_5CWB!$T$27,ROWS($T$27:T40)-1,COLUMNS($T$27:T40)-1),\"\")","v":""},{"$f":"IF(OFFSET(DE104_5CWB!$U$27,ROWS($U$27:U40)-1,COLUMNS($U$27:U40)-1)<>\"\",OFFSET(DE104_5CWB!$U$27,ROWS($U$27:U40)-1,COLUMNS($U$27:U40)-1),\"\")","v":""},{"$f":"IF(OFFSET(DE104_5CWB!$V$27,ROWS($V$27:V40)-1,COLUMNS($V$27:V40)-1)<>\"\",OFFSET(DE104_5CWB!$V$27,ROWS($V$27:V40)-1,COLUMNS($V$27:V40)-1),\"\")","v":"12-inch thick granular working blanket - US 30"}]
[{"$f":"IF(OFFSET(DE104_5CWB!$C$27,ROWS($C$27:C41)-1,COLUMNS($C$27:C41)-1)<>\"\",OFFSET(DE104_5CWB!$C$27,ROWS($C$27:C41)-1,COLUMNS($C$27:C41)-1),\"\")","v":15},{"$f":"IF(OFFSET(DE104_5CWB!$D$27,ROWS($D$27:D41)-1,COLUMNS($D$27:D41)-1)<>\"\",OFFSET(DE104_5CWB!$D$27,ROWS($D$27:D41)-1,COLUMNS($D$27:D41)-1),\"\")","v":49450},{"$f":"IF(OFFSET(DE104_5CWB!$E$27,ROWS($E$27:E41)-1,COLUMNS($E$27:E41)-1)<>\"\",OFFSET(DE104_5CWB!$E$27,ROWS($E$27:E41)-1,COLUMNS($E$27:E41)-1),\"\")","v":49590},{"$f":"IF(OFFSET(DE104_5CWB!$F$27,ROWS($F$27:F41)-1,COLUMNS($F$27:F41)-1)<>\"\",OFFSET(DE104_5CWB!$F$27,ROWS($F$27:F41)-1,COLUMNS($F$27:F41)-1),\"\")","v":""},{"$f":"IF(OFFSET(DE104_5CWB!$G$27,ROWS($G$27:G41)-1,COLUMNS($G$27:G41)-1)<>\"\",OFFSET(DE104_5CWB!$G$27,ROWS($G$27:G41)-1,COLUMNS($G$27:G41)-1),\"\")","v":""},{"$f":"IF(OFFSET(DE104_5CWB!$H$27,ROWS($H$27:H41)-1,COLUMNS($H$27:H41)-1)<>\"\",OFFSET(DE104_5CWB!$H$27,ROWS($H$27:H41)-1,COLUMNS($H$27:H41)-1),\"\")","v":""},{"$f":"IF(OFFSET(DE104_5CWB!$I$27,ROWS($I$27:I41)-1,COLUMNS($I$27:I41)-1)<>\"\",OFFSET(DE104_5CWB!$I$27,ROWS($I$27:I41)-1,COLUMNS($I$27:I41)-1),\"\")","v":""},{"$f":"IF(OFFSET(DE104_5CWB!$J$27,ROWS($J$27:J41)-1,COLUMNS($J$27:J41)-1)<>\"\",OFFSET(DE104_5CWB!$J$27,ROWS($J$27:J41)-1,COLUMNS($J$27:J41)-1),\"\")","v":""},{"$f":"IF(OFFSET(DE104_5CWB!$K$27,ROWS($K$27:K41)-1,COLUMNS($K$27:K41)-1)<>\"\",OFFSET(DE104_5CWB!$K$27,ROWS($K$27:K41)-1,COLUMNS($K$27:K41)-1),\"\")","v":""},{"$f":"IF(OFFSET(DE104_5CWB!$L$27,ROWS($L$27:L41)-1,COLUMNS($L$27:L41)-1)<>\"\",OFFSET(DE104_5CWB!$L$27,ROWS($L$27:L41)-1,COLUMNS($L$27:L41)-1),\"\")","v":""},{"$f":"IF(OFFSET(DE104_5CWB!$M$27,ROWS($M$27:M41)-1,COLUMNS($M$27:M41)-1)<>\"\",OFFSET(DE104_5CWB!$M$27,ROWS($M$27:M41)-1,COLUMNS($M$27:M41)-1),\"\")","v":""},{"$f":"IF(OFFSET(DE104_5CWB!$N$27,ROWS($N$27:N41)-1,COLUMNS($N$27:N41)-1)<>\"\",OFFSET(DE104_5CWB!$N$27,ROWS($N$27:N41)-1,COLUMNS($N$27:N41)-1),\"\")","v":""},{"$f":"IF(OFFSET(DE104_5CWB!$O$27,ROWS($O$27:O41)-1,COLUMNS($O$27:O41)-1)<>\"\",OFFSET(DE104_5CWB!$O$27,ROWS($O$27:O41)-1,COLUMNS($O$27:O41)-1),\"\")","v":""},{"$f":"IF(OFFSET(DE104_5CWB!$P$27,ROWS($P$27:P41)-1,COLUMNS($P$27:P41)-1)<>\"\",OFFSET(DE104_5CWB!$P$27,ROWS($P$27:P41)-1,COLUMNS($P$27:P41)-1),\"\")","v":""},{"$f":"IF(OFFSET(DE104_5CWB!$Q$27,ROWS($Q$27:Q41)-1,COLUMNS($Q$27:Q41)-1)<>\"\",OFFSET(DE104_5CWB!$Q$27,ROWS($Q$27:Q41)-1,COLUMNS($Q$27:Q41)-1),\"\")","v":""},{"$f":"IF(OFFSET(DE104_5CWB!$R$27,ROWS($R$27:R41)-1,COLUMNS($R$27:R41)-1)<>\"\",OFFSET(DE104_5CWB!$R$27,ROWS($R$27:R41)-1,COLUMNS($R$27:R41)-1),\"\")","v":""},{"$f":"IF(OFFSET(DE104_5CWB!$S$27,ROWS($S$27:S41)-1,COLUMNS($S$27:S41)-1)<>\"\",OFFSET(DE104_5CWB!$S$27,ROWS($S$27:S41)-1,COLUMNS($S$27:S41)-1),\"\")","v":289.5},{"$f":"IF(OFFSET(DE104_5CWB!$T$27,ROWS($T$27:T41)-1,COLUMNS($T$27:T41)-1)<>\"\",OFFSET(DE104_5CWB!$T$27,ROWS($T$27:T41)-1,COLUMNS($T$27:T41)-1),\"\")","v":""},{"$f":"IF(OFFSET(DE104_5CWB!$U$27,ROWS($U$27:U41)-1,COLUMNS($U$27:U41)-1)<>\"\",OFFSET(DE104_5CWB!$U$27,ROWS($U$27:U41)-1,COLUMNS($U$27:U41)-1),\"\")","v":""},{"$f":"IF(OFFSET(DE104_5CWB!$V$27,ROWS($V$27:V41)-1,COLUMNS($V$27:V41)-1)<>\"\",OFFSET(DE104_5CWB!$V$27,ROWS($V$27:V41)-1,COLUMNS($V$27:V41)-1),\"\")","v":"12-inch thick granular working blanket - US 30"}]
[{"$f":"IF(OFFSET(DE104_5CWB!$C$27,ROWS($C$27:C42)-1,COLUMNS($C$27:C42)-1)<>\"\",OFFSET(DE104_5CWB!$C$27,ROWS($C$27:C42)-1,COLUMNS($C$27:C42)-1),\"\")","v":16},{"$f":"IF(OFFSET(DE104_5CWB!$D$27,ROWS($D$27:D42)-1,COLUMNS($D$27:D42)-1)<>\"\",OFFSET(DE104_5CWB!$D$27,ROWS($D$27:D42)-1,COLUMNS($D$27:D42)-1),\"\")","v":51100},{"$f":"IF(OFFSET(DE104_5CWB!$E$27,ROWS($E$27:E42)-1,COLUMNS($E$27:E42)-1)<>\"\",OFFSET(DE104_5CWB!$E$27,ROWS($E$27:E42)-1,COLUMNS($E$27:E42)-1),\"\")","v":51200},{"$f":"IF(OFFSET(DE104_5CWB!$F$27,ROWS($F$27:F42)-1,COLUMNS($F$27:F42)-1)<>\"\",OFFSET(DE104_5CWB!$F$27,ROWS($F$27:F42)-1,COLUMNS($F$27:F42)-1),\"\")","v":""},{"$f":"IF(OFFSET(DE104_5CWB!$G$27,ROWS($G$27:G42)-1,COLUMNS($G$27:G42)-1)<>\"\",OFFSET(DE104_5CWB!$G$27,ROWS($G$27:G42)-1,COLUMNS($G$27:G42)-1),\"\")","v":""},{"$f":"IF(OFFSET(DE104_5CWB!$H$27,ROWS($H$27:H42)-1,COLUMNS($H$27:H42)-1)<>\"\",OFFSET(DE104_5CWB!$H$27,ROWS($H$27:H42)-1,COLUMNS($H$27:H42)-1),\"\")","v":""},{"$f":"IF(OFFSET(DE104_5CWB!$I$27,ROWS($I$27:I42)-1,COLUMNS($I$27:I42)-1)<>\"\",OFFSET(DE104_5CWB!$I$27,ROWS($I$27:I42)-1,COLUMNS($I$27:I42)-1),\"\")","v":""},{"$f":"IF(OFFSET(DE104_5CWB!$J$27,ROWS($J$27:J42)-1,COLUMNS($J$27:J42)-1)<>\"\",OFFSET(DE104_5CWB!$J$27,ROWS($J$27:J42)-1,COLUMNS($J$27:J42)-1),\"\")","v":""},{"$f":"IF(OFFSET(DE104_5CWB!$K$27,ROWS($K$27:K42)-1,COLUMNS($K$27:K42)-1)<>\"\",OFFSET(DE104_5CWB!$K$27,ROWS($K$27:K42)-1,COLUMNS($K$27:K42)-1),\"\")","v":""},{"$f":"IF(OFFSET(DE104_5CWB!$L$27,ROWS($L$27:L42)-1,COLUMNS($L$27:L42)-1)<>\"\",OFFSET(DE104_5CWB!$L$27,ROWS($L$27:L42)-1,COLUMNS($L$27:L42)-1),\"\")","v":""},{"$f":"IF(OFFSET(DE104_5CWB!$M$27,ROWS($M$27:M42)-1,COLUMNS($M$27:M42)-1)<>\"\",OFFSET(DE104_5CWB!$M$27,ROWS($M$27:M42)-1,COLUMNS($M$27:M42)-1),\"\")","v":""},{"$f":"IF(OFFSET(DE104_5CWB!$N$27,ROWS($N$27:N42)-1,COLUMNS($N$27:N42)-1)<>\"\",OFFSET(DE104_5CWB!$N$27,ROWS($N$27:N42)-1,COLUMNS($N$27:N42)-1),\"\")","v":""},{"$f":"IF(OFFSET(DE104_5CWB!$O$27,ROWS($O$27:O42)-1,COLUMNS($O$27:O42)-1)<>\"\",OFFSET(DE104_5CWB!$O$27,ROWS($O$27:O42)-1,COLUMNS($O$27:O42)-1),\"\")","v":""},{"$f":"IF(OFFSET(DE104_5CWB!$P$27,ROWS($P$27:P42)-1,COLUMNS($P$27:P42)-1)<>\"\",OFFSET(DE104_5CWB!$P$27,ROWS($P$27:P42)-1,COLUMNS($P$27:P42)-1),\"\")","v":""},{"$f":"IF(OFFSET(DE104_5CWB!$Q$27,ROWS($Q$27:Q42)-1,COLUMNS($Q$27:Q42)-1)<>\"\",OFFSET(DE104_5CWB!$Q$27,ROWS($Q$27:Q42)-1,COLUMNS($Q$27:Q42)-1),\"\")","v":""},{"$f":"IF(OFFSET(DE104_5CWB!$R$27,ROWS($R$27:R42)-1,COLUMNS($R$27:R42)-1)<>\"\",OFFSET(DE104_5CWB!$R$27,ROWS($R$27:R42)-1,COLUMNS($R$27:R42)-1),\"\")","v":""},{"$f":"IF(OFFSET(DE104_5CWB!$S$27,ROWS($S$27:S42)-1,COLUMNS($S$27:S42)-1)<>\"\",OFFSET(DE104_5CWB!$S$27,ROWS($S$27:S42)-1,COLUMNS($S$27:S42)-1),\"\")","v":825.2},{"$f":"IF(OFFSET(DE104_5CWB!$T$27,ROWS($T$27:T42)-1,COLUMNS($T$27:T42)-1)<>\"\",OFFSET(DE104_5CWB!$T$27,ROWS($T$27:T42)-1,COLUMNS($T$27:T42)-1),\"\")","v":""},{"$f":"IF(OFFSET(DE104_5CWB!$U$27,ROWS($U$27:U42)-1,COLUMNS($U$27:U42)-1)<>\"\",OFFSET(DE104_5CWB!$U$27,ROWS($U$27:U42)-1,COLUMNS($U$27:U42)-1),\"\")","v":""},{"$f":"IF(OFFSET(DE104_5CWB!$V$27,ROWS($V$27:V42)-1,COLUMNS($V$27:V42)-1)<>\"\",OFFSET(DE104_5CWB!$V$27,ROWS($V$27:V42)-1,COLUMNS($V$27:V42)-1),\"\")","v":"12-inch thick granular working blanket - US 30"}]
[{"$f":"IF(OFFSET(DE104_5CWB!$C$27,ROWS($C$27:C43)-1,COLUMNS($C$27:C43)-1)<>\"\",OFFSET(DE104_5CWB!$C$27,ROWS($C$27:C43)-1,COLUMNS($C$27:C43)-1),\"\")","v":17},{"$f":"IF(OFFSET(DE104_5CWB!$D$27,ROWS($D$27:D43)-1,COLUMNS($D$27:D43)-1)<>\"\",OFFSET(DE104_5CWB!$D$27,ROWS($D$27:D43)-1,COLUMNS($D$27:D43)-1),\"\")","v":52560},{"$f":"IF(OFFSET(DE104_5CWB!$E$27,ROWS($E$27:E43)-1,COLUMNS($E$27:E43)-1)<>\"\",OFFSET(DE104_5CWB!$E$27,ROWS($E$27:E43)-1,COLUMNS($E$27:E43)-1),\"\")","v":52750},{"$f":"IF(OFFSET(DE104_5CWB!$F$27,ROWS($F$27:F43)-1,COLUMNS($F$27:F43)-1)<>\"\",OFFSET(DE104_5CWB!$F$27,ROWS($F$27:F43)-1,COLUMNS($F$27:F43)-1),\"\")","v":""},{"$f":"IF(OFFSET(DE104_5CWB!$G$27,ROWS($G$27:G43)-1,COLUMNS($G$27:G43)-1)<>\"\",OFFSET(DE104_5CWB!$G$27,ROWS($G$27:G43)-1,COLUMNS($G$27:G43)-1),\"\")","v":""},{"$f":"IF(OFFSET(DE104_5CWB!$H$27,ROWS($H$27:H43)-1,COLUMNS($H$27:H43)-1)<>\"\",OFFSET(DE104_5CWB!$H$27,ROWS($H$27:H43)-1,COLUMNS($H$27:H43)-1),\"\")","v":""},{"$f":"IF(OFFSET(DE104_5CWB!$I$27,ROWS($I$27:I43)-1,COLUMNS($I$27:I43)-1)<>\"\",OFFSET(DE104_5CWB!$I$27,ROWS($I$27:I43)-1,COLUMNS($I$27:I43)-1),\"\")","v":""},{"$f":"IF(OFFSET(DE104_5CWB!$J$27,ROWS($J$27:J43)-1,COLUMNS($J$27:J43)-1)<>\"\",OFFSET(DE104_5CWB!$J$27,ROWS($J$27:J43)-1,COLUMNS($J$27:J43)-1),\"\")","v":""},{"$f":"IF(OFFSET(DE104_5CWB!$K$27,ROWS($K$27:K43)-1,COLUMNS($K$27:K43)-1)<>\"\",OFFSET(DE104_5CWB!$K$27,ROWS($K$27:K43)-1,COLUMNS($K$27:K43)-1),\"\")","v":""},{"$f":"IF(OFFSET(DE104_5CWB!$L$27,ROWS($L$27:L43)-1,COLUMNS($L$27:L43)-1)<>\"\",OFFSET(DE104_5CWB!$L$27,ROWS($L$27:L43)-1,COLUMNS($L$27:L43)-1),\"\")","v":""},{"$f":"IF(OFFSET(DE104_5CWB!$M$27,ROWS($M$27:M43)-1,COLUMNS($M$27:M43)-1)<>\"\",OFFSET(DE104_5CWB!$M$27,ROWS($M$27:M43)-1,COLUMNS($M$27:M43)-1),\"\")","v":""},{"$f":"IF(OFFSET(DE104_5CWB!$N$27,ROWS($N$27:N43)-1,COLUMNS($N$27:N43)-1)<>\"\",OFFSET(DE104_5CWB!$N$27,ROWS($N$27:N43)-1,COLUMNS($N$27:N43)-1),\"\")","v":""},{"$f":"IF(OFFSET(DE104_5CWB!$O$27,ROWS($O$27:O43)-1,COLUMNS($O$27:O43)-1)<>\"\",OFFSET(DE104_5CWB!$O$27,ROWS($O$27:O43)-1,COLUMNS($O$27:O43)-1),\"\")","v":""},{"$f":"IF(OFFSET(DE104_5CWB!$P$27,ROWS($P$27:P43)-1,COLUMNS($P$27:P43)-1)<>\"\",OFFSET(DE104_5CWB!$P$27,ROWS($P$27:P43)-1,COLUMNS($P$27:P43)-1),\"\")","v":""},{"$f":"IF(OFFSET(DE104_5CWB!$Q$27,ROWS($Q$27:Q43)-1,COLUMNS($Q$27:Q43)-1)<>\"\",OFFSET(DE104_5CWB!$Q$27,ROWS($Q$27:Q43)-1,COLUMNS($Q$27:Q43)-1),\"\")","v":""},{"$f":"IF(OFFSET(DE104_5CWB!$R$27,ROWS($R$27:R43)-1,COLUMNS($R$27:R43)-1)<>\"\",OFFSET(DE104_5CWB!$R$27,ROWS($R$27:R43)-1,COLUMNS($R$27:R43)-1),\"\")","v":""},{"$f":"IF(OFFSET(DE104_5CWB!$S$27,ROWS($S$27:S43)-1,COLUMNS($S$27:S43)-1)<>\"\",OFFSET(DE104_5CWB!$S$27,ROWS($S$27:S43)-1,COLUMNS($S$27:S43)-1),\"\")","v":262.89999999999998},{"$f":"IF(OFFSET(DE104_5CWB!$T$27,ROWS($T$27:T43)-1,COLUMNS($T$27:T43)-1)<>\"\",OFFSET(DE104_5CWB!$T$27,ROWS($T$27:T43)-1,COLUMNS($T$27:T43)-1),\"\")","v":""},{"$f":"IF(OFFSET(DE104_5CWB!$U$27,ROWS($U$27:U43)-1,COLUMNS($U$27:U43)-1)<>\"\",OFFSET(DE104_5CWB!$U$27,ROWS($U$27:U43)-1,COLUMNS($U$27:U43)-1),\"\")","v":""},{"$f":"IF(OFFSET(DE104_5CWB!$V$27,ROWS($V$27:V43)-1,COLUMNS($V$27:V43)-1)<>\"\",OFFSET(DE104_5CWB!$V$27,ROWS($V$27:V43)-1,COLUMNS($V$27:V43)-1),\"\")","v":"12-inch thick granular working blanket - US 30"}]
[{"$f":"IF(OFFSET(DE104_5CWB!$C$27,ROWS($C$27:C44)-1,COLUMNS($C$27:C44)-1)<>\"\",OFFSET(DE104_5CWB!$C$27,ROWS($C$27:C44)-1,COLUMNS($C$27:C44)-1),\"\")","v":18},{"$f":"IF(OFFSET(DE104_5CWB!$D$27,ROWS($D$27:D44)-1,COLUMNS($D$27:D44)-1)<>\"\",OFFSET(DE104_5CWB!$D$27,ROWS($D$27:D44)-1,COLUMNS($D$27:D44)-1),\"\")","v":52910},{"$f":"IF(OFFSET(DE104_5CWB!$E$27,ROWS($E$27:E44)-1,COLUMNS($E$27:E44)-1)<>\"\",OFFSET(DE104_5CWB!$E$27,ROWS($E$27:E44)-1,COLUMNS($E$27:E44)-1),\"\")","v":52990},{"$f":"IF(OFFSET(DE104_5CWB!$F$27,ROWS($F$27:F44)-1,COLUMNS($F$27:F44)-1)<>\"\",OFFSET(DE104_5CWB!$F$27,ROWS($F$27:F44)-1,COLUMNS($F$27:F44)-1),\"\")","v":""},{"$f":"IF(OFFSET(DE104_5CWB!$G$27,ROWS($G$27:G44)-1,COLUMNS($G$27:G44)-1)<>\"\",OFFSET(DE104_5CWB!$G$27,ROWS($G$27:G44)-1,COLUMNS($G$27:G44)-1),\"\")","v":""},{"$f":"IF(OFFSET(DE104_5CWB!$H$27,ROWS($H$27:H44)-1,COLUMNS($H$27:H44)-1)<>\"\",OFFSET(DE104_5CWB!$H$27,ROWS($H$27:H44)-1,COLUMNS($H$27:H44)-1),\"\")","v":""},{"$f":"IF(OFFSET(DE104_5CWB!$I$27,ROWS($I$27:I44)-1,COLUMNS($I$27:I44)-1)<>\"\",OFFSET(DE104_5CWB!$I$27,ROWS($I$27:I44)-1,COLUMNS($I$27:I44)-1),\"\")","v":""},{"$f":"IF(OFFSET(DE104_5CWB!$J$27,ROWS($J$27:J44)-1,COLUMNS($J$27:J44)-1)<>\"\",OFFSET(DE104_5CWB!$J$27,ROWS($J$27:J44)-1,COLUMNS($J$27:J44)-1),\"\")","v":""},{"$f":"IF(OFFSET(DE104_5CWB!$K$27,ROWS($K$27:K44)-1,COLUMNS($K$27:K44)-1)<>\"\",OFFSET(DE104_5CWB!$K$27,ROWS($K$27:K44)-1,COLUMNS($K$27:K44)-1),\"\")","v":""},{"$f":"IF(OFFSET(DE104_5CWB!$L$27,ROWS($L$27:L44)-1,COLUMNS($L$27:L44)-1)<>\"\",OFFSET(DE104_5CWB!$L$27,ROWS($L$27:L44)-1,COLUMNS($L$27:L44)-1),\"\")","v":""},{"$f":"IF(OFFSET(DE104_5CWB!$M$27,ROWS($M$27:M44)-1,COLUMNS($M$27:M44)-1)<>\"\",OFFSET(DE104_5CWB!$M$27,ROWS($M$27:M44)-1,COLUMNS($M$27:M44)-1),\"\")","v":""},{"$f":"IF(OFFSET(DE104_5CWB!$N$27,ROWS($N$27:N44)-1,COLUMNS($N$27:N44)-1)<>\"\",OFFSET(DE104_5CWB!$N$27,ROWS($N$27:N44)-1,COLUMNS($N$27:N44)-1),\"\")","v":""},{"$f":"IF(OFFSET(DE104_5CWB!$O$27,ROWS($O$27:O44)-1,COLUMNS($O$27:O44)-1)<>\"\",OFFSET(DE104_5CWB!$O$27,ROWS($O$27:O44)-1,COLUMNS($O$27:O44)-1),\"\")","v":""},{"$f":"IF(OFFSET(DE104_5CWB!$P$27,ROWS($P$27:P44)-1,COLUMNS($P$27:P44)-1)<>\"\",OFFSET(DE104_5CWB!$P$27,ROWS($P$27:P44)-1,COLUMNS($P$27:P44)-1),\"\")","v":""},{"$f":"IF(OFFSET(DE104_5CWB!$Q$27,ROWS($Q$27:Q44)-1,COLUMNS($Q$27:Q44)-1)<>\"\",OFFSET(DE104_5CWB!$Q$27,ROWS($Q$27:Q44)-1,COLUMNS($Q$27:Q44)-1),\"\")","v":""},{"$f":"IF(OFFSET(DE104_5CWB!$R$27,ROWS($R$27:R44)-1,COLUMNS($R$27:R44)-1)<>\"\",OFFSET(DE104_5CWB!$R$27,ROWS($R$27:R44)-1,COLUMNS($R$27:R44)-1),\"\")","v":""},{"$f":"IF(OFFSET(DE104_5CWB!$S$27,ROWS($S$27:S44)-1,COLUMNS($S$27:S44)-1)<>\"\",OFFSET(DE104_5CWB!$S$27,ROWS($S$27:S44)-1,COLUMNS($S$27:S44)-1),\"\")","v":157.30000000000001},{"$f":"IF(OFFSET(DE104_5CWB!$T$27,ROWS($T$27:T44)-1,COLUMNS($T$27:T44)-1)<>\"\",OFFSET(DE104_5CWB!$T$27,ROWS($T$27:T44)-1,COLUMNS($T$27:T44)-1),\"\")","v":""},{"$f":"IF(OFFSET(DE104_5CWB!$U$27,ROWS($U$27:U44)-1,COLUMNS($U$27:U44)-1)<>\"\",OFFSET(DE104_5CWB!$U$27,ROWS($U$27:U44)-1,COLUMNS($U$27:U44)-1),\"\")","v":""},{"$f":"IF(OFFSET(DE104_5CWB!$V$27,ROWS($V$27:V44)-1,COLUMNS($V$27:V44)-1)<>\"\",OFFSET(DE104_5CWB!$V$27,ROWS($V$27:V44)-1,COLUMNS($V$27:V44)-1),\"\")","v":"12-inch thick granular working blanket - US 30"}]
[{"$f":"IF(OFFSET(DE104_5CWB!$C$27,ROWS($C$27:C45)-1,COLUMNS($C$27:C45)-1)<>\"\",OFFSET(DE104_5CWB!$C$27,ROWS($C$27:C45)-1,COLUMNS($C$27:C45)-1),\"\")","v":19},{"$f":"IF(OFFSET(DE104_5CWB!$D$27,ROWS($D$27:D45)-1,COLUMNS($D$27:D45)-1)<>\"\",OFFSET(DE104_5CWB!$D$27,ROWS($D$27:D45)-1,COLUMNS($D$27:D45)-1),\"\")","v":53810},{"$f":"IF(OFFSET(DE104_5CWB!$E$27,ROWS($E$27:E45)-1,COLUMNS($E$27:E45)-1)<>\"\",OFFSET(DE104_5CWB!$E$27,ROWS($E$27:E45)-1,COLUMNS($E$27:E45)-1),\"\")","v":53930},{"$f":"IF(OFFSET(DE104_5CWB!$F$27,ROWS($F$27:F45)-1,COLUMNS($F$27:F45)-1)<>\"\",OFFSET(DE104_5CWB!$F$27,ROWS($F$27:F45)-1,COLUMNS($F$27:F45)-1),\"\")","v":""},{"$f":"IF(OFFSET(DE104_5CWB!$G$27,ROWS($G$27:G45)-1,COLUMNS($G$27:G45)-1)<>\"\",OFFSET(DE104_5CWB!$G$27,ROWS($G$27:G45)-1,COLUMNS($G$27:G45)-1),\"\")","v":""},{"$f":"IF(OFFSET(DE104_5CWB!$H$27,ROWS($H$27:H45)-1,COLUMNS($H$27:H45)-1)<>\"\",OFFSET(DE104_5CWB!$H$27,ROWS($H$27:H45)-1,COLUMNS($H$27:H45)-1),\"\")","v":""},{"$f":"IF(OFFSET(DE104_5CWB!$I$27,ROWS($I$27:I45)-1,COLUMNS($I$27:I45)-1)<>\"\",OFFSET(DE104_5CWB!$I$27,ROWS($I$27:I45)-1,COLUMNS($I$27:I45)-1),\"\")","v":""},{"$f":"IF(OFFSET(DE104_5CWB!$J$27,ROWS($J$27:J45)-1,COLUMNS($J$27:J45)-1)<>\"\",OFFSET(DE104_5CWB!$J$27,ROWS($J$27:J45)-1,COLUMNS($J$27:J45)-1),\"\")","v":""},{"$f":"IF(OFFSET(DE104_5CWB!$K$27,ROWS($K$27:K45)-1,COLUMNS($K$27:K45)-1)<>\"\",OFFSET(DE104_5CWB!$K$27,ROWS($K$27:K45)-1,COLUMNS($K$27:K45)-1),\"\")","v":""},{"$f":"IF(OFFSET(DE104_5CWB!$L$27,ROWS($L$27:L45)-1,COLUMNS($L$27:L45)-1)<>\"\",OFFSET(DE104_5CWB!$L$27,ROWS($L$27:L45)-1,COLUMNS($L$27:L45)-1),\"\")","v":""},{"$f":"IF(OFFSET(DE104_5CWB!$M$27,ROWS($M$27:M45)-1,COLUMNS($M$27:M45)-1)<>\"\",OFFSET(DE104_5CWB!$M$27,ROWS($M$27:M45)-1,COLUMNS($M$27:M45)-1),\"\")","v":""},{"$f":"IF(OFFSET(DE104_5CWB!$N$27,ROWS($N$27:N45)-1,COLUMNS($N$27:N45)-1)<>\"\",OFFSET(DE104_5CWB!$N$27,ROWS($N$27:N45)-1,COLUMNS($N$27:N45)-1),\"\")","v":""},{"$f":"IF(OFFSET(DE104_5CWB!$O$27,ROWS($O$27:O45)-1,COLUMNS($O$27:O45)-1)<>\"\",OFFSET(DE104_5CWB!$O$27,ROWS($O$27:O45)-1,COLUMNS($O$27:O45)-1),\"\")","v":""},{"$f":"IF(OFFSET(DE104_5CWB!$P$27,ROWS($P$27:P45)-1,COLUMNS($P$27:P45)-1)<>\"\",OFFSET(DE104_5CWB!$P$27,ROWS($P$27:P45)-1,COLUMNS($P$27:P45)-1),\"\")","v":""},{"$f":"IF(OFFSET(DE104_5CWB!$Q$27,ROWS($Q$27:Q45)-1,COLUMNS($Q$27:Q45)-1)<>\"\",OFFSET(DE104_5CWB!$Q$27,ROWS($Q$27:Q45)-1,COLUMNS($Q$27:Q45)-1),\"\")","v":""},{"$f":"IF(OFFSET(DE104_5CWB!$R$27,ROWS($R$27:R45)-1,COLUMNS($R$27:R45)-1)<>\"\",OFFSET(DE104_5CWB!$R$27,ROWS($R$27:R45)-1,COLUMNS($R$27:R45)-1),\"\")","v":""},{"$f":"IF(OFFSET(DE104_5CWB!$S$27,ROWS($S$27:S45)-1,COLUMNS($S$27:S45)-1)<>\"\",OFFSET(DE104_5CWB!$S$27,ROWS($S$27:S45)-1,COLUMNS($S$27:S45)-1),\"\")","v":290.89999999999998},{"$f":"IF(OFFSET(DE104_5CWB!$T$27,ROWS($T$27:T45)-1,COLUMNS($T$27:T45)-1)<>\"\",OFFSET(DE104_5CWB!$T$27,ROWS($T$27:T45)-1,COLUMNS($T$27:T45)-1),\"\")","v":""},{"$f":"IF(OFFSET(DE104_5CWB!$U$27,ROWS($U$27:U45)-1,COLUMNS($U$27:U45)-1)<>\"\",OFFSET(DE104_5CWB!$U$27,ROWS($U$27:U45)-1,COLUMNS($U$27:U45)-1),\"\")","v":""},{"$f":"IF(OFFSET(DE104_5CWB!$V$27,ROWS($V$27:V45)-1,COLUMNS($V$27:V45)-1)<>\"\",OFFSET(DE104_5CWB!$V$27,ROWS($V$27:V45)-1,COLUMNS($V$27:V45)-1),\"\")","v":"12-inch thick granular working blanket - US 30"}]
[{"$f":"IF(OFFSET(DE104_5CWB!$C$27,ROWS($C$27:C46)-1,COLUMNS($C$27:C46)-1)<>\"\",OFFSET(DE104_5CWB!$C$27,ROWS($C$27:C46)-1,COLUMNS($C$27:C46)-1),\"\")","v":20},{"$f":"IF(OFFSET(DE104_5CWB!$D$27,ROWS($D$27:D46)-1,COLUMNS($D$27:D46)-1)<>\"\",OFFSET(DE104_5CWB!$D$27,ROWS($D$27:D46)-1,COLUMNS($D$27:D46)-1),\"\")","v":55550},{"$f":"IF(OFFSET(DE104_5CWB!$E$27,ROWS($E$27:E46)-1,COLUMNS($E$27:E46)-1)<>\"\",OFFSET(DE104_5CWB!$E$27,ROWS($E$27:E46)-1,COLUMNS($E$27:E46)-1),\"\")","v":56000},{"$f":"IF(OFFSET(DE104_5CWB!$F$27,ROWS($F$27:F46)-1,COLUMNS($F$27:F46)-1)<>\"\",OFFSET(DE104_5CWB!$F$27,ROWS($F$27:F46)-1,COLUMNS($F$27:F46)-1),\"\")","v":""},{"$f":"IF(OFFSET(DE104_5CWB!$G$27,ROWS($G$27:G46)-1,COLUMNS($G$27:G46)-1)<>\"\",OFFSET(DE104_5CWB!$G$27,ROWS($G$27:G46)-1,COLUMNS($G$27:G46)-1),\"\")","v":""},{"$f":"IF(OFFSET(DE104_5CWB!$H$27,ROWS($H$27:H46)-1,COLUMNS($H$27:H46)-1)<>\"\",OFFSET(DE104_5CWB!$H$27,ROWS($H$27:H46)-1,COLUMNS($H$27:H46)-1),\"\")","v":""},{"$f":"IF(OFFSET(DE104_5CWB!$I$27,ROWS($I$27:I46)-1,COLUMNS($I$27:I46)-1)<>\"\",OFFSET(DE104_5CWB!$I$27,ROWS($I$27:I46)-1,COLUMNS($I$27:I46)-1),\"\")","v":""},{"$f":"IF(OFFSET(DE104_5CWB!$J$27,ROWS($J$27:J46)-1,COLUMNS($J$27:J46)-1)<>\"\",OFFSET(DE104_5CWB!$J$27,ROWS($J$27:J46)-1,COLUMNS($J$27:J46)-1),\"\")","v":""},{"$f":"IF(OFFSET(DE104_5CWB!$K$27,ROWS($K$27:K46)-1,COLUMNS($K$27:K46)-1)<>\"\",OFFSET(DE104_5CWB!$K$27,ROWS($K$27:K46)-1,COLUMNS($K$27:K46)-1),\"\")","v":""},{"$f":"IF(OFFSET(DE104_5CWB!$L$27,ROWS($L$27:L46)-1,COLUMNS($L$27:L46)-1)<>\"\",OFFSET(DE104_5CWB!$L$27,ROWS($L$27:L46)-1,COLUMNS($L$27:L46)-1),\"\")","v":""},{"$f":"IF(OFFSET(DE104_5CWB!$M$27,ROWS($M$27:M46)-1,COLUMNS($M$27:M46)-1)<>\"\",OFFSET(DE104_5CWB!$M$27,ROWS($M$27:M46)-1,COLUMNS($M$27:M46)-1),\"\")","v":""},{"$f":"IF(OFFSET(DE104_5CWB!$N$27,ROWS($N$27:N46)-1,COLUMNS($N$27:N46)-1)<>\"\",OFFSET(DE104_5CWB!$N$27,ROWS($N$27:N46)-1,COLUMNS($N$27:N46)-1),\"\")","v":""},{"$f":"IF(OFFSET(DE104_5CWB!$O$27,ROWS($O$27:O46)-1,COLUMNS($O$27:O46)-1)<>\"\",OFFSET(DE104_5CWB!$O$27,ROWS($O$27:O46)-1,COLUMNS($O$27:O46)-1),\"\")","v":""},{"$f":"IF(OFFSET(DE104_5CWB!$P$27,ROWS($P$27:P46)-1,COLUMNS($P$27:P46)-1)<>\"\",OFFSET(DE104_5CWB!$P$27,ROWS($P$27:P46)-1,COLUMNS($P$27:P46)-1),\"\")","v":""},{"$f":"IF(OFFSET(DE104_5CWB!$Q$27,ROWS($Q$27:Q46)-1,COLUMNS($Q$27:Q46)-1)<>\"\",OFFSET(DE104_5CWB!$Q$27,ROWS($Q$27:Q46)-1,COLUMNS($Q$27:Q46)-1),\"\")","v":""},{"$f":"IF(OFFSET(DE104_5CWB!$R$27,ROWS($R$27:R46)-1,COLUMNS($R$27:R46)-1)<>\"\",OFFSET(DE104_5CWB!$R$27,ROWS($R$27:R46)-1,COLUMNS($R$27:R46)-1),\"\")","v":""},{"$f":"IF(OFFSET(DE104_5CWB!$S$27,ROWS($S$27:S46)-1,COLUMNS($S$27:S46)-1)<>\"\",OFFSET(DE104_5CWB!$S$27,ROWS($S$27:S46)-1,COLUMNS($S$27:S46)-1),\"\")","v":1676.6},{"$f":"IF(OFFSET(DE104_5CWB!$T$27,ROWS($T$27:T46)-1,COLUMNS($T$27:T46)-1)<>\"\",OFFSET(DE104_5CWB!$T$27,ROWS($T$27:T46)-1,COLUMNS($T$27:T46)-1),\"\")","v":""},{"$f":"IF(OFFSET(DE104_5CWB!$U$27,ROWS($U$27:U46)-1,COLUMNS($U$27:U46)-1)<>\"\",OFFSET(DE104_5CWB!$U$27,ROWS($U$27:U46)-1,COLUMNS($U$27:U46)-1),\"\")","v":""},{"$f":"IF(OFFSET(DE104_5CWB!$V$27,ROWS($V$27:V46)-1,COLUMNS($V$27:V46)-1)<>\"\",OFFSET(DE104_5CWB!$V$27,ROWS($V$27:V46)-1,COLUMNS($V$27:V46)-1),\"\")","v":"12-inch thick granular working blanket - US 30"}]
[{"$f":"IF(OFFSET(DE104_5CWB!$C$27,ROWS($C$27:C47)-1,COLUMNS($C$27:C47)-1)<>\"\",OFFSET(DE104_5CWB!$C$27,ROWS($C$27:C47)-1,COLUMNS($C$27:C47)-1),\"\")","v":21},{"$f":"IF(OFFSET(DE104_5CWB!$D$27,ROWS($D$27:D47)-1,COLUMNS($D$27:D47)-1)<>\"\",OFFSET(DE104_5CWB!$D$27,ROWS($D$27:D47)-1,COLUMNS($D$27:D47)-1),\"\")","v":56480},{"$f":"IF(OFFSET(DE104_5CWB!$E$27,ROWS($E$27:E47)-1,COLUMNS($E$27:E47)-1)<>\"\",OFFSET(DE104_5CWB!$E$27,ROWS($E$27:E47)-1,COLUMNS($E$27:E47)-1),\"\")","v":56650},{"$f":"IF(OFFSET(DE104_5CWB!$F$27,ROWS($F$27:F47)-1,COLUMNS($F$27:F47)-1)<>\"\",OFFSET(DE104_5CWB!$F$27,ROWS($F$27:F47)-1,COLUMNS($F$27:F47)-1),\"\")","v":""},{"$f":"IF(OFFSET(DE104_5CWB!$G$27,ROWS($G$27:G47)-1,COLUMNS($G$27:G47)-1)<>\"\",OFFSET(DE104_5CWB!$G$27,ROWS($G$27:G47)-1,COLUMNS($G$27:G47)-1),\"\")","v":""},{"$f":"IF(OFFSET(DE104_5CWB!$H$27,ROWS($H$27:H47)-1,COLUMNS($H$27:H47)-1)<>\"\",OFFSET(DE104_5CWB!$H$27,ROWS($H$27:H47)-1,COLUMNS($H$27:H47)-1),\"\")","v":""},{"$f":"IF(OFFSET(DE104_5CWB!$I$27,ROWS($I$27:I47)-1,COLUMNS($I$27:I47)-1)<>\"\",OFFSET(DE104_5CWB!$I$27,ROWS($I$27:I47)-1,COLUMNS($I$27:I47)-1),\"\")","v":""},{"$f":"IF(OFFSET(DE104_5CWB!$J$27,ROWS($J$27:J47)-1,COLUMNS($J$27:J47)-1)<>\"\",OFFSET(DE104_5CWB!$J$27,ROWS($J$27:J47)-1,COLUMNS($J$27:J47)-1),\"\")","v":""},{"$f":"IF(OFFSET(DE104_5CWB!$K$27,ROWS($K$27:K47)-1,COLUMNS($K$27:K47)-1)<>\"\",OFFSET(DE104_5CWB!$K$27,ROWS($K$27:K47)-1,COLUMNS($K$27:K47)-1),\"\")","v":""},{"$f":"IF(OFFSET(DE104_5CWB!$L$27,ROWS($L$27:L47)-1,COLUMNS($L$27:L47)-1)<>\"\",OFFSET(DE104_5CWB!$L$27,ROWS($L$27:L47)-1,COLUMNS($L$27:L47)-1),\"\")","v":""},{"$f":"IF(OFFSET(DE104_5CWB!$M$27,ROWS($M$27:M47)-1,COLUMNS($M$27:M47)-1)<>\"\",OFFSET(DE104_5CWB!$M$27,ROWS($M$27:M47)-1,COLUMNS($M$27:M47)-1),\"\")","v":""},{"$f":"IF(OFFSET(DE104_5CWB!$N$27,ROWS($N$27:N47)-1,COLUMNS($N$27:N47)-1)<>\"\",OFFSET(DE104_5CWB!$N$27,ROWS($N$27:N47)-1,COLUMNS($N$27:N47)-1),\"\")","v":""},{"$f":"IF(OFFSET(DE104_5CWB!$O$27,ROWS($O$27:O47)-1,COLUMNS($O$27:O47)-1)<>\"\",OFFSET(DE104_5CWB!$O$27,ROWS($O$27:O47)-1,COLUMNS($O$27:O47)-1),\"\")","v":""},{"$f":"IF(OFFSET(DE104_5CWB!$P$27,ROWS($P$27:P47)-1,COLUMNS($P$27:P47)-1)<>\"\",OFFSET(DE104_5CWB!$P$27,ROWS($P$27:P47)-1,COLUMNS($P$27:P47)-1),\"\")","v":""},{"$f":"IF(OFFSET(DE104_5CWB!$Q$27,ROWS($Q$27:Q47)-1,COLUMNS($Q$27:Q47)-1)<>\"\",OFFSET(DE104_5CWB!$Q$27,ROWS($Q$27:Q47)-1,COLUMNS($Q$27:Q47)-1),\"\")","v":""},{"$f":"IF(OFFSET(DE104_5CWB!$R$27,ROWS($R$27:R47)-1,COLUMNS($R$27:R47)-1)<>\"\",OFFSET(DE104_5CWB!$R$27,ROWS($R$27:R47)-1,COLUMNS($R$27:R47)-1),\"\")","v":""},{"$f":"IF(OFFSET(DE104_5CWB!$S$27,ROWS($S$27:S47)-1,COLUMNS($S$27:S47)-1)<>\"\",OFFSET(DE104_5CWB!$S$27,ROWS($S$27:S47)-1,COLUMNS($S$27:S47)-1),\"\")","v":325.7},{"$f":"IF(OFFSET(DE104_5CWB!$T$27,ROWS($T$27:T47)-1,COLUMNS($T$27:T47)-1)<>\"\",OFFSET(DE104_5CWB!$T$27,ROWS($T$27:T47)-1,COLUMNS($T$27:T47)-1),\"\")","v":""},{"$f":"IF(OFFSET(DE104_5CWB!$U$27,ROWS($U$27:U47)-1,COLUMNS($U$27:U47)-1)<>\"\",OFFSET(DE104_5CWB!$U$27,ROWS($U$27:U47)-1,COLUMNS($U$27:U47)-1),\"\")","v":""},{"$f":"IF(OFFSET(DE104_5CWB!$V$27,ROWS($V$27:V47)-1,COLUMNS($V$27:V47)-1)<>\"\",OFFSET(DE104_5CWB!$V$27,ROWS($V$27:V47)-1,COLUMNS($V$27:V47)-1),\"\")","v":"12-inch thick granular working blanket - US 30"}]
[{"$f":"IF(OFFSET(DE104_5CWB!$C$27,ROWS($C$27:C48)-1,COLUMNS($C$27:C48)-1)<>\"\",OFFSET(DE104_5CWB!$C$27,ROWS($C$27:C48)-1,COLUMNS($C$27:C48)-1),\"\")","v":22},{"$f":"IF(OFFSET(DE104_5CWB!$D$27,ROWS($D$27:D48)-1,COLUMNS($D$27:D48)-1)<>\"\",OFFSET(DE104_5CWB!$D$27,ROWS($D$27:D48)-1,COLUMNS($D$27:D48)-1),\"\")","v":57600},{"$f":"IF(OFFSET(DE104_5CWB!$E$27,ROWS($E$27:E48)-1,COLUMNS($E$27:E48)-1)<>\"\",OFFSET(DE104_5CWB!$E$27,ROWS($E$27:E48)-1,COLUMNS($E$27:E48)-1),\"\")","v":57900},{"$f":"IF(OFFSET(DE104_5CWB!$F$27,ROWS($F$27:F48)-1,COLUMNS($F$27:F48)-1)<>\"\",OFFSET(DE104_5CWB!$F$27,ROWS($F$27:F48)-1,COLUMNS($F$27:F48)-1),\"\")","v":""},{"$f":"IF(OFFSET(DE104_5CWB!$G$27,ROWS($G$27:G48)-1,COLUMNS($G$27:G48)-1)<>\"\",OFFSET(DE104_5CWB!$G$27,ROWS($G$27:G48)-1,COLUMNS($G$27:G48)-1),\"\")","v":""},{"$f":"IF(OFFSET(DE104_5CWB!$H$27,ROWS($H$27:H48)-1,COLUMNS($H$27:H48)-1)<>\"\",OFFSET(DE104_5CWB!$H$27,ROWS($H$27:H48)-1,COLUMNS($H$27:H48)-1),\"\")","v":""},{"$f":"IF(OFFSET(DE104_5CWB!$I$27,ROWS($I$27:I48)-1,COLUMNS($I$27:I48)-1)<>\"\",OFFSET(DE104_5CWB!$I$27,ROWS($I$27:I48)-1,COLUMNS($I$27:I48)-1),\"\")","v":""},{"$f":"IF(OFFSET(DE104_5CWB!$J$27,ROWS($J$27:J48)-1,COLUMNS($J$27:J48)-1)<>\"\",OFFSET(DE104_5CWB!$J$27,ROWS($J$27:J48)-1,COLUMNS($J$27:J48)-1),\"\")","v":""},{"$f":"IF(OFFSET(DE104_5CWB!$K$27,ROWS($K$27:K48)-1,COLUMNS($K$27:K48)-1)<>\"\",OFFSET(DE104_5CWB!$K$27,ROWS($K$27:K48)-1,COLUMNS($K$27:K48)-1),\"\")","v":""},{"$f":"IF(OFFSET(DE104_5CWB!$L$27,ROWS($L$27:L48)-1,COLUMNS($L$27:L48)-1)<>\"\",OFFSET(DE104_5CWB!$L$27,ROWS($L$27:L48)-1,COLUMNS($L$27:L48)-1),\"\")","v":""},{"$f":"IF(OFFSET(DE104_5CWB!$M$27,ROWS($M$27:M48)-1,COLUMNS($M$27:M48)-1)<>\"\",OFFSET(DE104_5CWB!$M$27,ROWS($M$27:M48)-1,COLUMNS($M$27:M48)-1),\"\")","v":""},{"$f":"IF(OFFSET(DE104_5CWB!$N$27,ROWS($N$27:N48)-1,COLUMNS($N$27:N48)-1)<>\"\",OFFSET(DE104_5CWB!$N$27,ROWS($N$27:N48)-1,COLUMNS($N$27:N48)-1),\"\")","v":""},{"$f":"IF(OFFSET(DE104_5CWB!$O$27,ROWS($O$27:O48)-1,COLUMNS($O$27:O48)-1)<>\"\",OFFSET(DE104_5CWB!$O$27,ROWS($O$27:O48)-1,COLUMNS($O$27:O48)-1),\"\")","v":""},{"$f":"IF(OFFSET(DE104_5CWB!$P$27,ROWS($P$27:P48)-1,COLUMNS($P$27:P48)-1)<>\"\",OFFSET(DE104_5CWB!$P$27,ROWS($P$27:P48)-1,COLUMNS($P$27:P48)-1),\"\")","v":""},{"$f":"IF(OFFSET(DE104_5CWB!$Q$27,ROWS($Q$27:Q48)-1,COLUMNS($Q$27:Q48)-1)<>\"\",OFFSET(DE104_5CWB!$Q$27,ROWS($Q$27:Q48)-1,COLUMNS($Q$27:Q48)-1),\"\")","v":""},{"$f":"IF(OFFSET(DE104_5CWB!$R$27,ROWS($R$27:R48)-1,COLUMNS($R$27:R48)-1)<>\"\",OFFSET(DE104_5CWB!$R$27,ROWS($R$27:R48)-1,COLUMNS($R$27:R48)-1),\"\")","v":""},{"$f":"IF(OFFSET(DE104_5CWB!$S$27,ROWS($S$27:S48)-1,COLUMNS($S$27:S48)-1)<>\"\",OFFSET(DE104_5CWB!$S$27,ROWS($S$27:S48)-1,COLUMNS($S$27:S48)-1),\"\")","v":2793.7},{"$f":"IF(OFFSET(DE104_5CWB!$T$27,ROWS($T$27:T48)-1,COLUMNS($T$27:T48)-1)<>\"\",OFFSET(DE104_5CWB!$T$27,ROWS($T$27:T48)-1,COLUMNS($T$27:T48)-1),\"\")","v":""},{"$f":"IF(OFFSET(DE104_5CWB!$U$27,ROWS($U$27:U48)-1,COLUMNS($U$27:U48)-1)<>\"\",OFFSET(DE104_5CWB!$U$27,ROWS($U$27:U48)-1,COLUMNS($U$27:U48)-1),\"\")","v":""},{"$f":"IF(OFFSET(DE104_5CWB!$V$27,ROWS($V$27:V48)-1,COLUMNS($V$27:V48)-1)<>\"\",OFFSET(DE104_5CWB!$V$27,ROWS($V$27:V48)-1,COLUMNS($V$27:V48)-1),\"\")","v":"12-inch thick granular working blanket - US 30"}]
[{"$f":"IF(OFFSET(DE104_5CWB!$C$27,ROWS($C$27:C49)-1,COLUMNS($C$27:C49)-1)<>\"\",OFFSET(DE104_5CWB!$C$27,ROWS($C$27:C49)-1,COLUMNS($C$27:C49)-1),\"\")","v":23},{"$f":"IF(OFFSET(DE104_5CWB!$D$27,ROWS($D$27:D49)-1,COLUMNS($D$27:D49)-1)<>\"\",OFFSET(DE104_5CWB!$D$27,ROWS($D$27:D49)-1,COLUMNS($D$27:D49)-1),\"\")","v":59250},{"$f":"IF(OFFSET(DE104_5CWB!$E$27,ROWS($E$27:E49)-1,COLUMNS($E$27:E49)-1)<>\"\",OFFSET(DE104_5CWB!$E$27,ROWS($E$27:E49)-1,COLUMNS($E$27:E49)-1),\"\")","v":59400},{"$f":"IF(OFFSET(DE104_5CWB!$F$27,ROWS($F$27:F49)-1,COLUMNS($F$27:F49)-1)<>\"\",OFFSET(DE104_5CWB!$F$27,ROWS($F$27:F49)-1,COLUMNS($F$27:F49)-1),\"\")","v":""},{"$f":"IF(OFFSET(DE104_5CWB!$G$27,ROWS($G$27:G49)-1,COLUMNS($G$27:G49)-1)<>\"\",OFFSET(DE104_5CWB!$G$27,ROWS($G$27:G49)-1,COLUMNS($G$27:G49)-1),\"\")","v":""},{"$f":"IF(OFFSET(DE104_5CWB!$H$27,ROWS($H$27:H49)-1,COLUMNS($H$27:H49)-1)<>\"\",OFFSET(DE104_5CWB!$H$27,ROWS($H$27:H49)-1,COLUMNS($H$27:H49)-1),\"\")","v":""},{"$f":"IF(OFFSET(DE104_5CWB!$I$27,ROWS($I$27:I49)-1,COLUMNS($I$27:I49)-1)<>\"\",OFFSET(DE104_5CWB!$I$27,ROWS($I$27:I49)-1,COLUMNS($I$27:I49)-1),\"\")","v":""},{"$f":"IF(OFFSET(DE104_5CWB!$J$27,ROWS($J$27:J49)-1,COLUMNS($J$27:J49)-1)<>\"\",OFFSET(DE104_5CWB!$J$27,ROWS($J$27:J49)-1,COLUMNS($J$27:J49)-1),\"\")","v":""},{"$f":"IF(OFFSET(DE104_5CWB!$K$27,ROWS($K$27:K49)-1,COLUMNS($K$27:K49)-1)<>\"\",OFFSET(DE104_5CWB!$K$27,ROWS($K$27:K49)-1,COLUMNS($K$27:K49)-1),\"\")","v":""},{"$f":"IF(OFFSET(DE104_5CWB!$L$27,ROWS($L$27:L49)-1,COLUMNS($L$27:L49)-1)<>\"\",OFFSET(DE104_5CWB!$L$27,ROWS($L$27:L49)-1,COLUMNS($L$27:L49)-1),\"\")","v":""},{"$f":"IF(OFFSET(DE104_5CWB!$M$27,ROWS($M$27:M49)-1,COLUMNS($M$27:M49)-1)<>\"\",OFFSET(DE104_5CWB!$M$27,ROWS($M$27:M49)-1,COLUMNS($M$27:M49)-1),\"\")","v":""},{"$f":"IF(OFFSET(DE104_5CWB!$N$27,ROWS($N$27:N49)-1,COLUMNS($N$27:N49)-1)<>\"\",OFFSET(DE104_5CWB!$N$27,ROWS($N$27:N49)-1,COLUMNS($N$27:N49)-1),\"\")","v":""},{"$f":"IF(OFFSET(DE104_5CWB!$O$27,ROWS($O$27:O49)-1,COLUMNS($O$27:O49)-1)<>\"\",OFFSET(DE104_5CWB!$O$27,ROWS($O$27:O49)-1,COLUMNS($O$27:O49)-1),\"\")","v":""},{"$f":"IF(OFFSET(DE104_5CWB!$P$27,ROWS($P$27:P49)-1,COLUMNS($P$27:P49)-1)<>\"\",OFFSET(DE104_5CWB!$P$27,ROWS($P$27:P49)-1,COLUMNS($P$27:P49)-1),\"\")","v":""},{"$f":"IF(OFFSET(DE104_5CWB!$Q$27,ROWS($Q$27:Q49)-1,COLUMNS($Q$27:Q49)-1)<>\"\",OFFSET(DE104_5CWB!$Q$27,ROWS($Q$27:Q49)-1,COLUMNS($Q$27:Q49)-1),\"\")","v":""},{"$f":"IF(OFFSET(DE104_5CWB!$R$27,ROWS($R$27:R49)-1,COLUMNS($R$27:R49)-1)<>\"\",OFFSET(DE104_5CWB!$R$27,ROWS($R$27:R49)-1,COLUMNS($R$27:R49)-1),\"\")","v":""},{"$f":"IF(OFFSET(DE104_5CWB!$S$27,ROWS($S$27:S49)-1,COLUMNS($S$27:S49)-1)<>\"\",OFFSET(DE104_5CWB!$S$27,ROWS($S$27:S49)-1,COLUMNS($S$27:S49)-1),\"\")","v":1111.0999999999999},{"$f":"IF(OFFSET(DE104_5CWB!$T$27,ROWS($T$27:T49)-1,COLUMNS($T$27:T49)-1)<>\"\",OFFSET(DE104_5CWB!$T$27,ROWS($T$27:T49)-1,COLUMNS($T$27:T49)-1),\"\")","v":""},{"$f":"IF(OFFSET(DE104_5CWB!$U$27,ROWS($U$27:U49)-1,COLUMNS($U$27:U49)-1)<>\"\",OFFSET(DE104_5CWB!$U$27,ROWS($U$27:U49)-1,COLUMNS($U$27:U49)-1),\"\")","v":""},{"$f":"IF(OFFSET(DE104_5CWB!$V$27,ROWS($V$27:V49)-1,COLUMNS($V$27:V49)-1)<>\"\",OFFSET(DE104_5CWB!$V$27,ROWS($V$27:V49)-1,COLUMNS($V$27:V49)-1),\"\")","v":"12-inch thick granular working blanket - US 30"}]
[{"$f":"IF(OFFSET(DE104_5CWB!$C$27,ROWS($C$27:C50)-1,COLUMNS($C$27:C50)-1)<>\"\",OFFSET(DE104_5CWB!$C$27,ROWS($C$27:C50)-1,COLUMNS($C$27:C50)-1),\"\")","v":24},{"$f":"IF(OFFSET(DE104_5CWB!$D$27,ROWS($D$27:D50)-1,COLUMNS($D$27:D50)-1)<>\"\",OFFSET(DE104_5CWB!$D$27,ROWS($D$27:D50)-1,COLUMNS($D$27:D50)-1),\"\")","v":60850},{"$f":"IF(OFFSET(DE104_5CWB!$E$27,ROWS($E$27:E50)-1,COLUMNS($E$27:E50)-1)<>\"\",OFFSET(DE104_5CWB!$E$27,ROWS($E$27:E50)-1,COLUMNS($E$27:E50)-1),\"\")","v":61050},{"$f":"IF(OFFSET(DE104_5CWB!$F$27,ROWS($F$27:F50)-1,COLUMNS($F$27:F50)-1)<>\"\",OFFSET(DE104_5CWB!$F$27,ROWS($F$27:F50)-1,COLUMNS($F$27:F50)-1),\"\")","v":""},{"$f":"IF(OFFSET(DE104_5CWB!$G$27,ROWS($G$27:G50)-1,COLUMNS($G$27:G50)-1)<>\"\",OFFSET(DE104_5CWB!$G$27,ROWS($G$27:G50)-1,COLUMNS($G$27:G50)-1),\"\")","v":""},{"$f":"IF(OFFSET(DE104_5CWB!$H$27,ROWS($H$27:H50)-1,COLUMNS($H$27:H50)-1)<>\"\",OFFSET(DE104_5CWB!$H$27,ROWS($H$27:H50)-1,COLUMNS($H$27:H50)-1),\"\")","v":""},{"$f":"IF(OFFSET(DE104_5CWB!$I$27,ROWS($I$27:I50)-1,COLUMNS($I$27:I50)-1)<>\"\",OFFSET(DE104_5CWB!$I$27,ROWS($I$27:I50)-1,COLUMNS($I$27:I50)-1),\"\")","v":""},{"$f":"IF(OFFSET(DE104_5CWB!$J$27,ROWS($J$27:J50)-1,COLUMNS($J$27:J50)-1)<>\"\",OFFSET(DE104_5CWB!$J$27,ROWS($J$27:J50)-1,COLUMNS($J$27:J50)-1),\"\")","v":""},{"$f":"IF(OFFSET(DE104_5CWB!$K$27,ROWS($K$27:K50)-1,COLUMNS($K$27:K50)-1)<>\"\",OFFSET(DE104_5CWB!$K$27,ROWS($K$27:K50)-1,COLUMNS($K$27:K50)-1),\"\")","v":""},{"$f":"IF(OFFSET(DE104_5CWB!$L$27,ROWS($L$27:L50)-1,COLUMNS($L$27:L50)-1)<>\"\",OFFSET(DE104_5CWB!$L$27,ROWS($L$27:L50)-1,COLUMNS($L$27:L50)-1),\"\")","v":""},{"$f":"IF(OFFSET(DE104_5CWB!$M$27,ROWS($M$27:M50)-1,COLUMNS($M$27:M50)-1)<>\"\",OFFSET(DE104_5CWB!$M$27,ROWS($M$27:M50)-1,COLUMNS($M$27:M50)-1),\"\")","v":""},{"$f":"IF(OFFSET(DE104_5CWB!$N$27,ROWS($N$27:N50)-1,COLUMNS($N$27:N50)-1)<>\"\",OFFSET(DE104_5CWB!$N$27,ROWS($N$27:N50)-1,COLUMNS($N$27:N50)-1),\"\")","v":""},{"$f":"IF(OFFSET(DE104_5CWB!$O$27,ROWS($O$27:O50)-1,COLUMNS($O$27:O50)-1)<>\"\",OFFSET(DE104_5CWB!$O$27,ROWS($O$27:O50)-1,COLUMNS($O$27:O50)-1),\"\")","v":""},{"$f":"IF(OFFSET(DE104_5CWB!$P$27,ROWS($P$27:P50)-1,COLUMNS($P$27:P50)-1)<>\"\",OFFSET(DE104_5CWB!$P$27,ROWS($P$27:P50)-1,COLUMNS($P$27:P50)-1),\"\")","v":""},{"$f":"IF(OFFSET(DE104_5CWB!$Q$27,ROWS($Q$27:Q50)-1,COLUMNS($Q$27:Q50)-1)<>\"\",OFFSET(DE104_5CWB!$Q$27,ROWS($Q$27:Q50)-1,COLUMNS($Q$27:Q50)-1),\"\")","v":""},{"$f":"IF(OFFSET(DE104_5CWB!$R$27,ROWS($R$27:R50)-1,COLUMNS($R$27:R50)-1)<>\"\",OFFSET(DE104_5CWB!$R$27,ROWS($R$27:R50)-1,COLUMNS($R$27:R50)-1),\"\")","v":""},{"$f":"IF(OFFSET(DE104_5CWB!$S$27,ROWS($S$27:S50)-1,COLUMNS($S$27:S50)-1)<>\"\",OFFSET(DE104_5CWB!$S$27,ROWS($S$27:S50)-1,COLUMNS($S$27:S50)-1),\"\")","v":926.3},{"$f":"IF(OFFSET(DE104_5CWB!$T$27,ROWS($T$27:T50)-1,COLUMNS($T$27:T50)-1)<>\"\",OFFSET(DE104_5CWB!$T$27,ROWS($T$27:T50)-1,COLUMNS($T$27:T50)-1),\"\")","v":""},{"$f":"IF(OFFSET(DE104_5CWB!$U$27,ROWS($U$27:U50)-1,COLUMNS($U$27:U50)-1)<>\"\",OFFSET(DE104_5CWB!$U$27,ROWS($U$27:U50)-1,COLUMNS($U$27:U50)-1),\"\")","v":""},{"$f":"IF(OFFSET(DE104_5CWB!$V$27,ROWS($V$27:V50)-1,COLUMNS($V$27:V50)-1)<>\"\",OFFSET(DE104_5CWB!$V$27,ROWS($V$27:V50)-1,COLUMNS($V$27:V50)-1),\"\")","v":"12-inch thick granular working blanket - US 30"}]
[{"$f":"IF(OFFSET(DE104_5CWB!$C$27,ROWS($C$27:C51)-1,COLUMNS($C$27:C51)-1)<>\"\",OFFSET(DE104_5CWB!$C$27,ROWS($C$27:C51)-1,COLUMNS($C$27:C51)-1),\"\")","v":25},{"$f":"IF(OFFSET(DE104_5CWB!$D$27,ROWS($D$27:D51)-1,COLUMNS($D$27:D51)-1)<>\"\",OFFSET(DE104_5CWB!$D$27,ROWS($D$27:D51)-1,COLUMNS($D$27:D51)-1),\"\")","v":61200},{"$f":"IF(OFFSET(DE104_5CWB!$E$27,ROWS($E$27:E51)-1,COLUMNS($E$27:E51)-1)<>\"\",OFFSET(DE104_5CWB!$E$27,ROWS($E$27:E51)-1,COLUMNS($E$27:E51)-1),\"\")","v":61400},{"$f":"IF(OFFSET(DE104_5CWB!$F$27,ROWS($F$27:F51)-1,COLUMNS($F$27:F51)-1)<>\"\",OFFSET(DE104_5CWB!$F$27,ROWS($F$27:F51)-1,COLUMNS($F$27:F51)-1),\"\")","v":""},{"$f":"IF(OFFSET(DE104_5CWB!$G$27,ROWS($G$27:G51)-1,COLUMNS($G$27:G51)-1)<>\"\",OFFSET(DE104_5CWB!$G$27,ROWS($G$27:G51)-1,COLUMNS($G$27:G51)-1),\"\")","v":""},{"$f":"IF(OFFSET(DE104_5CWB!$H$27,ROWS($H$27:H51)-1,COLUMNS($H$27:H51)-1)<>\"\",OFFSET(DE104_5CWB!$H$27,ROWS($H$27:H51)-1,COLUMNS($H$27:H51)-1),\"\")","v":""},{"$f":"IF(OFFSET(DE104_5CWB!$I$27,ROWS($I$27:I51)-1,COLUMNS($I$27:I51)-1)<>\"\",OFFSET(DE104_5CWB!$I$27,ROWS($I$27:I51)-1,COLUMNS($I$27:I51)-1),\"\")","v":""},{"$f":"IF(OFFSET(DE104_5CWB!$J$27,ROWS($J$27:J51)-1,COLUMNS($J$27:J51)-1)<>\"\",OFFSET(DE104_5CWB!$J$27,ROWS($J$27:J51)-1,COLUMNS($J$27:J51)-1),\"\")","v":""},{"$f":"IF(OFFSET(DE104_5CWB!$K$27,ROWS($K$27:K51)-1,COLUMNS($K$27:K51)-1)<>\"\",OFFSET(DE104_5CWB!$K$27,ROWS($K$27:K51)-1,COLUMNS($K$27:K51)-1),\"\")","v":""},{"$f":"IF(OFFSET(DE104_5CWB!$L$27,ROWS($L$27:L51)-1,COLUMNS($L$27:L51)-1)<>\"\",OFFSET(DE104_5CWB!$L$27,ROWS($L$27:L51)-1,COLUMNS($L$27:L51)-1),\"\")","v":""},{"$f":"IF(OFFSET(DE104_5CWB!$M$27,ROWS($M$27:M51)-1,COLUMNS($M$27:M51)-1)<>\"\",OFFSET(DE104_5CWB!$M$27,ROWS($M$27:M51)-1,COLUMNS($M$27:M51)-1),\"\")","v":""},{"$f":"IF(OFFSET(DE104_5CWB!$N$27,ROWS($N$27:N51)-1,COLUMNS($N$27:N51)-1)<>\"\",OFFSET(DE104_5CWB!$N$27,ROWS($N$27:N51)-1,COLUMNS($N$27:N51)-1),\"\")","v":""},{"$f":"IF(OFFSET(DE104_5CWB!$O$27,ROWS($O$27:O51)-1,COLUMNS($O$27:O51)-1)<>\"\",OFFSET(DE104_5CWB!$O$27,ROWS($O$27:O51)-1,COLUMNS($O$27:O51)-1),\"\")","v":""},{"$f":"IF(OFFSET(DE104_5CWB!$P$27,ROWS($P$27:P51)-1,COLUMNS($P$27:P51)-1)<>\"\",OFFSET(DE104_5CWB!$P$27,ROWS($P$27:P51)-1,COLUMNS($P$27:P51)-1),\"\")","v":""},{"$f":"IF(OFFSET(DE104_5CWB!$Q$27,ROWS($Q$27:Q51)-1,COLUMNS($Q$27:Q51)-1)<>\"\",OFFSET(DE104_5CWB!$Q$27,ROWS($Q$27:Q51)-1,COLUMNS($Q$27:Q51)-1),\"\")","v":""},{"$f":"IF(OFFSET(DE104_5CWB!$R$27,ROWS($R$27:R51)-1,COLUMNS($R$27:R51)-1)<>\"\",OFFSET(DE104_5CWB!$R$27,ROWS($R$27:R51)-1,COLUMNS($R$27:R51)-1),\"\")","v":""},{"$f":"IF(OFFSET(DE104_5CWB!$S$27,ROWS($S$27:S51)-1,COLUMNS($S$27:S51)-1)<>\"\",OFFSET(DE104_5CWB!$S$27,ROWS($S$27:S51)-1,COLUMNS($S$27:S51)-1),\"\")","v":1569.9},{"$f":"IF(OFFSET(DE104_5CWB!$T$27,ROWS($T$27:T51)-1,COLUMNS($T$27:T51)-1)<>\"\",OFFSET(DE104_5CWB!$T$27,ROWS($T$27:T51)-1,COLUMNS($T$27:T51)-1),\"\")","v":""},{"$f":"IF(OFFSET(DE104_5CWB!$U$27,ROWS($U$27:U51)-1,COLUMNS($U$27:U51)-1)<>\"\",OFFSET(DE104_5CWB!$U$27,ROWS($U$27:U51)-1,COLUMNS($U$27:U51)-1),\"\")","v":""},{"$f":"IF(OFFSET(DE104_5CWB!$V$27,ROWS($V$27:V51)-1,COLUMNS($V$27:V51)-1)<>\"\",OFFSET(DE104_5CWB!$V$27,ROWS($V$27:V51)-1,COLUMNS($V$27:V51)-1),\"\")","v":"12-inch thick granular working blanket - US 30"}]
[{"$f":"IF(OFFSET(DE104_5CWB!$C$27,ROWS($C$27:C52)-1,COLUMNS($C$27:C52)-1)<>\"\",OFFSET(DE104_5CWB!$C$27,ROWS($C$27:C52)-1,COLUMNS($C$27:C52)-1),\"\")","v":26},{"$f":"IF(OFFSET(DE104_5CWB!$D$27,ROWS($D$27:D52)-1,COLUMNS($D$27:D52)-1)<>\"\",OFFSET(DE104_5CWB!$D$27,ROWS($D$27:D52)-1,COLUMNS($D$27:D52)-1),\"\")","v":62550},{"$f":"IF(OFFSET(DE104_5CWB!$E$27,ROWS($E$27:E52)-1,COLUMNS($E$27:E52)-1)<>\"\",OFFSET(DE104_5CWB!$E$27,ROWS($E$27:E52)-1,COLUMNS($E$27:E52)-1),\"\")","v":62700},{"$f":"IF(OFFSET(DE104_5CWB!$F$27,ROWS($F$27:F52)-1,COLUMNS($F$27:F52)-1)<>\"\",OFFSET(DE104_5CWB!$F$27,ROWS($F$27:F52)-1,COLUMNS($F$27:F52)-1),\"\")","v":""},{"$f":"IF(OFFSET(DE104_5CWB!$G$27,ROWS($G$27:G52)-1,COLUMNS($G$27:G52)-1)<>\"\",OFFSET(DE104_5CWB!$G$27,ROWS($G$27:G52)-1,COLUMNS($G$27:G52)-1),\"\")","v":""},{"$f":"IF(OFFSET(DE104_5CWB!$H$27,ROWS($H$27:H52)-1,COLUMNS($H$27:H52)-1)<>\"\",OFFSET(DE104_5CWB!$H$27,ROWS($H$27:H52)-1,COLUMNS($H$27:H52)-1),\"\")","v":""},{"$f":"IF(OFFSET(DE104_5CWB!$I$27,ROWS($I$27:I52)-1,COLUMNS($I$27:I52)-1)<>\"\",OFFSET(DE104_5CWB!$I$27,ROWS($I$27:I52)-1,COLUMNS($I$27:I52)-1),\"\")","v":""},{"$f":"IF(OFFSET(DE104_5CWB!$J$27,ROWS($J$27:J52)-1,COLUMNS($J$27:J52)-1)<>\"\",OFFSET(DE104_5CWB!$J$27,ROWS($J$27:J52)-1,COLUMNS($J$27:J52)-1),\"\")","v":""},{"$f":"IF(OFFSET(DE104_5CWB!$K$27,ROWS($K$27:K52)-1,COLUMNS($K$27:K52)-1)<>\"\",OFFSET(DE104_5CWB!$K$27,ROWS($K$27:K52)-1,COLUMNS($K$27:K52)-1),\"\")","v":""},{"$f":"IF(OFFSET(DE104_5CWB!$L$27,ROWS($L$27:L52)-1,COLUMNS($L$27:L52)-1)<>\"\",OFFSET(DE104_5CWB!$L$27,ROWS($L$27:L52)-1,COLUMNS($L$27:L52)-1),\"\")","v":""},{"$f":"IF(OFFSET(DE104_5CWB!$M$27,ROWS($M$27:M52)-1,COLUMNS($M$27:M52)-1)<>\"\",OFFSET(DE104_5CWB!$M$27,ROWS($M$27:M52)-1,COLUMNS($M$27:M52)-1),\"\")","v":""},{"$f":"IF(OFFSET(DE104_5CWB!$N$27,ROWS($N$27:N52)-1,COLUMNS($N$27:N52)-1)<>\"\",OFFSET(DE104_5CWB!$N$27,ROWS($N$27:N52)-1,COLUMNS($N$27:N52)-1),\"\")","v":""},{"$f":"IF(OFFSET(DE104_5CWB!$O$27,ROWS($O$27:O52)-1,COLUMNS($O$27:O52)-1)<>\"\",OFFSET(DE104_5CWB!$O$27,ROWS($O$27:O52)-1,COLUMNS($O$27:O52)-1),\"\")","v":""},{"$f":"IF(OFFSET(DE104_5CWB!$P$27,ROWS($P$27:P52)-1,COLUMNS($P$27:P52)-1)<>\"\",OFFSET(DE104_5CWB!$P$27,ROWS($P$27:P52)-1,COLUMNS($P$27:P52)-1),\"\")","v":""},{"$f":"IF(OFFSET(DE104_5CWB!$Q$27,ROWS($Q$27:Q52)-1,COLUMNS($Q$27:Q52)-1)<>\"\",OFFSET(DE104_5CWB!$Q$27,ROWS($Q$27:Q52)-1,COLUMNS($Q$27:Q52)-1),\"\")","v":""},{"$f":"IF(OFFSET(DE104_5CWB!$R$27,ROWS($R$27:R52)-1,COLUMNS($R$27:R52)-1)<>\"\",OFFSET(DE104_5CWB!$R$27,ROWS($R$27:R52)-1,COLUMNS($R$27:R52)-1),\"\")","v":""},{"$f":"IF(OFFSET(DE104_5CWB!$S$27,ROWS($S$27:S52)-1,COLUMNS($S$27:S52)-1)<>\"\",OFFSET(DE104_5CWB!$S$27,ROWS($S$27:S52)-1,COLUMNS($S$27:S52)-1),\"\")","v":1112.0999999999999},{"$f":"IF(OFFSET(DE104_5CWB!$T$27,ROWS($T$27:T52)-1,COLUMNS($T$27:T52)-1)<>\"\",OFFSET(DE104_5CWB!$T$27,ROWS($T$27:T52)-1,COLUMNS($T$27:T52)-1),\"\")","v":""},{"$f":"IF(OFFSET(DE104_5CWB!$U$27,ROWS($U$27:U52)-1,COLUMNS($U$27:U52)-1)<>\"\",OFFSET(DE104_5CWB!$U$27,ROWS($U$27:U52)-1,COLUMNS($U$27:U52)-1),\"\")","v":""},{"$f":"IF(OFFSET(DE104_5CWB!$V$27,ROWS($V$27:V52)-1,COLUMNS($V$27:V52)-1)<>\"\",OFFSET(DE104_5CWB!$V$27,ROWS($V$27:V52)-1,COLUMNS($V$27:V52)-1),\"\")","v":"12-inch thick granular working blanket - US 30"}]
[{"$f":"IF(OFFSET(DE104_5CWB!$C$27,ROWS($C$27:C53)-1,COLUMNS($C$27:C53)-1)<>\"\",OFFSET(DE104_5CWB!$C$27,ROWS($C$27:C53)-1,COLUMNS($C$27:C53)-1),\"\")","v":27},{"$f":"IF(OFFSET(DE104_5CWB!$D$27,ROWS($D$27:D53)-1,COLUMNS($D$27:D53)-1)<>\"\",OFFSET(DE104_5CWB!$D$27,ROWS($D$27:D53)-1,COLUMNS($D$27:D53)-1),\"\")","v":65540},{"$f":"IF(OFFSET(DE104_5CWB!$E$27,ROWS($E$27:E53)-1,COLUMNS($E$27:E53)-1)<>\"\",OFFSET(DE104_5CWB!$E$27,ROWS($E$27:E53)-1,COLUMNS($E$27:E53)-1),\"\")","v":67200},{"$f":"IF(OFFSET(DE104_5CWB!$F$27,ROWS($F$27:F53)-1,COLUMNS($F$27:F53)-1)<>\"\",OFFSET(DE104_5CWB!$F$27,ROWS($F$27:F53)-1,COLUMNS($F$27:F53)-1),\"\")","v":""},{"$f":"IF(OFFSET(DE104_5CWB!$G$27,ROWS($G$27:G53)-1,COLUMNS($G$27:G53)-1)<>\"\",OFFSET(DE104_5CWB!$G$27,ROWS($G$27:G53)-1,COLUMNS($G$27:G53)-1),\"\")","v":""},{"$f":"IF(OFFSET(DE104_5CWB!$H$27,ROWS($H$27:H53)-1,COLUMNS($H$27:H53)-1)<>\"\",OFFSET(DE104_5CWB!$H$27,ROWS($H$27:H53)-1,COLUMNS($H$27:H53)-1),\"\")","v":""},{"$f":"IF(OFFSET(DE104_5CWB!$I$27,ROWS($I$27:I53)-1,COLUMNS($I$27:I53)-1)<>\"\",OFFSET(DE104_5CWB!$I$27,ROWS($I$27:I53)-1,COLUMNS($I$27:I53)-1),\"\")","v":""},{"$f":"IF(OFFSET(DE104_5CWB!$J$27,ROWS($J$27:J53)-1,COLUMNS($J$27:J53)-1)<>\"\",OFFSET(DE104_5CWB!$J$27,ROWS($J$27:J53)-1,COLUMNS($J$27:J53)-1),\"\")","v":""},{"$f":"IF(OFFSET(DE104_5CWB!$K$27,ROWS($K$27:K53)-1,COLUMNS($K$27:K53)-1)<>\"\",OFFSET(DE104_5CWB!$K$27,ROWS($K$27:K53)-1,COLUMNS($K$27:K53)-1),\"\")","v":""},{"$f":"IF(OFFSET(DE104_5CWB!$L$27,ROWS($L$27:L53)-1,COLUMNS($L$27:L53)-1)<>\"\",OFFSET(DE104_5CWB!$L$27,ROWS($L$27:L53)-1,COLUMNS($L$27:L53)-1),\"\")","v":""},{"$f":"IF(OFFSET(DE104_5CWB!$M$27,ROWS($M$27:M53)-1,COLUMNS($M$27:M53)-1)<>\"\",OFFSET(DE104_5CWB!$M$27,ROWS($M$27:M53)-1,COLUMNS($M$27:M53)-1),\"\")","v":""},{"$f":"IF(OFFSET(DE104_5CWB!$N$27,ROWS($N$27:N53)-1,COLUMNS($N$27:N53)-1)<>\"\",OFFSET(DE104_5CWB!$N$27,ROWS($N$27:N53)-1,COLUMNS($N$27:N53)-1),\"\")","v":""},{"$f":"IF(OFFSET(DE104_5CWB!$O$27,ROWS($O$27:O53)-1,COLUMNS($O$27:O53)-1)<>\"\",OFFSET(DE104_5CWB!$O$27,ROWS($O$27:O53)-1,COLUMNS($O$27:O53)-1),\"\")","v":""},{"$f":"IF(OFFSET(DE104_5CWB!$P$27,ROWS($P$27:P53)-1,COLUMNS($P$27:P53)-1)<>\"\",OFFSET(DE104_5CWB!$P$27,ROWS($P$27:P53)-1,COLUMNS($P$27:P53)-1),\"\")","v":""},{"$f":"IF(OFFSET(DE104_5CWB!$Q$27,ROWS($Q$27:Q53)-1,COLUMNS($Q$27:Q53)-1)<>\"\",OFFSET(DE104_5CWB!$Q$27,ROWS($Q$27:Q53)-1,COLUMNS($Q$27:Q53)-1),\"\")","v":""},{"$f":"IF(OFFSET(DE104_5CWB!$R$27,ROWS($R$27:R53)-1,COLUMNS($R$27:R53)-1)<>\"\",OFFSET(DE104_5CWB!$R$27,ROWS($R$27:R53)-1,COLUMNS($R$27:R53)-1),\"\")","v":""},{"$f":"IF(OFFSET(DE104_5CWB!$S$27,ROWS($S$27:S53)-1,COLUMNS($S$27:S53)-1)<>\"\",OFFSET(DE104_5CWB!$S$27,ROWS($S$27:S53)-1,COLUMNS($S$27:S53)-1),\"\")","v":1866.4},{"$f":"IF(OFFSET(DE104_5CWB!$T$27,ROWS($T$27:T53)-1,COLUMNS($T$27:T53)-1)<>\"\",OFFSET(DE104_5CWB!$T$27,ROWS($T$27:T53)-1,COLUMNS($T$27:T53)-1),\"\")","v":""},{"$f":"IF(OFFSET(DE104_5CWB!$U$27,ROWS($U$27:U53)-1,COLUMNS($U$27:U53)-1)<>\"\",OFFSET(DE104_5CWB!$U$27,ROWS($U$27:U53)-1,COLUMNS($U$27:U53)-1),\"\")","v":""},{"$f":"IF(OFFSET(DE104_5CWB!$V$27,ROWS($V$27:V53)-1,COLUMNS($V$27:V53)-1)<>\"\",OFFSET(DE104_5CWB!$V$27,ROWS($V$27:V53)-1,COLUMNS($V$27:V53)-1),\"\")","v":"12-inch thick granular working blanket - US 30"}]
[{"$f":"IF(OFFSET(DE104_5CWB!$C$27,ROWS($C$27:C54)-1,COLUMNS($C$27:C54)-1)<>\"\",OFFSET(DE104_5CWB!$C$27,ROWS($C$27:C54)-1,COLUMNS($C$27:C54)-1),\"\")","v":""},{"$f":"IF(OFFSET(DE104_5CWB!$D$27,ROWS($D$27:D54)-1,COLUMNS($D$27:D54)-1)<>\"\",OFFSET(DE104_5CWB!$D$27,ROWS($D$27:D54)-1,COLUMNS($D$27:D54)-1),\"\")","v":""},{"$f":"IF(OFFSET(DE104_5CWB!$E$27,ROWS($E$27:E54)-1,COLUMNS($E$27:E54)-1)<>\"\",OFFSET(DE104_5CWB!$E$27,ROWS($E$27:E54)-1,COLUMNS($E$27:E54)-1),\"\")","v":""},{"$f":"IF(OFFSET(DE104_5CWB!$F$27,ROWS($F$27:F54)-1,COLUMNS($F$27:F54)-1)<>\"\",OFFSET(DE104_5CWB!$F$27,ROWS($F$27:F54)-1,COLUMNS($F$27:F54)-1),\"\")","v":""},{"$f":"IF(OFFSET(DE104_5CWB!$G$27,ROWS($G$27:G54)-1,COLUMNS($G$27:G54)-1)<>\"\",OFFSET(DE104_5CWB!$G$27,ROWS($G$27:G54)-1,COLUMNS($G$27:G54)-1),\"\")","v":""},{"$f":"IF(OFFSET(DE104_5CWB!$H$27,ROWS($H$27:H54)-1,COLUMNS($H$27:H54)-1)<>\"\",OFFSET(DE104_5CWB!$H$27,ROWS($H$27:H54)-1,COLUMNS($H$27:H54)-1),\"\")","v":""},{"$f":"IF(OFFSET(DE104_5CWB!$I$27,ROWS($I$27:I54)-1,COLUMNS($I$27:I54)-1)<>\"\",OFFSET(DE104_5CWB!$I$27,ROWS($I$27:I54)-1,COLUMNS($I$27:I54)-1),\"\")","v":""},{"$f":"IF(OFFSET(DE104_5CWB!$J$27,ROWS($J$27:J54)-1,COLUMNS($J$27:J54)-1)<>\"\",OFFSET(DE104_5CWB!$J$27,ROWS($J$27:J54)-1,COLUMNS($J$27:J54)-1),\"\")","v":""},{"$f":"IF(OFFSET(DE104_5CWB!$K$27,ROWS($K$27:K54)-1,COLUMNS($K$27:K54)-1)<>\"\",OFFSET(DE104_5CWB!$K$27,ROWS($K$27:K54)-1,COLUMNS($K$27:K54)-1),\"\")","v":""},{"$f":"IF(OFFSET(DE104_5CWB!$L$27,ROWS($L$27:L54)-1,COLUMNS($L$27:L54)-1)<>\"\",OFFSET(DE104_5CWB!$L$27,ROWS($L$27:L54)-1,COLUMNS($L$27:L54)-1),\"\")","v":""},{"$f":"IF(OFFSET(DE104_5CWB!$M$27,ROWS($M$27:M54)-1,COLUMNS($M$27:M54)-1)<>\"\",OFFSET(DE104_5CWB!$M$27,ROWS($M$27:M54)-1,COLUMNS($M$27:M54)-1),\"\")","v":""},{"$f":"IF(OFFSET(DE104_5CWB!$N$27,ROWS($N$27:N54)-1,COLUMNS($N$27:N54)-1)<>\"\",OFFSET(DE104_5CWB!$N$27,ROWS($N$27:N54)-1,COLUMNS($N$27:N54)-1),\"\")","v":""},{"$f":"IF(OFFSET(DE104_5CWB!$O$27,ROWS($O$27:O54)-1,COLUMNS($O$27:O54)-1)<>\"\",OFFSET(DE104_5CWB!$O$27,ROWS($O$27:O54)-1,COLUMNS($O$27:O54)-1),\"\")","v":""},{"$f":"IF(OFFSET(DE104_5CWB!$P$27,ROWS($P$27:P54)-1,COLUMNS($P$27:P54)-1)<>\"\",OFFSET(DE104_5CWB!$P$27,ROWS($P$27:P54)-1,COLUMNS($P$27:P54)-1),\"\")","v":""},{"$f":"IF(OFFSET(DE104_5CWB!$Q$27,ROWS($Q$27:Q54)-1,COLUMNS($Q$27:Q54)-1)<>\"\",OFFSET(DE104_5CWB!$Q$27,ROWS($Q$27:Q54)-1,COLUMNS($Q$27:Q54)-1),\"\")","v":""},{"$f":"IF(OFFSET(DE104_5CWB!$R$27,ROWS($R$27:R54)-1,COLUMNS($R$27:R54)-1)<>\"\",OFFSET(DE104_5CWB!$R$27,ROWS($R$27:R54)-1,COLUMNS($R$27:R54)-1),\"\")","v":""},{"$f":"IF(OFFSET(DE104_5CWB!$S$27,ROWS($S$27:S54)-1,COLUMNS($S$27:S54)-1)<>\"\",OFFSET(DE104_5CWB!$S$27,ROWS($S$27:S54)-1,COLUMNS($S$27:S54)-1),\"\")","v":""},{"$f":"IF(OFFSET(DE104_5CWB!$T$27,ROWS($T$27:T54)-1,COLUMNS($T$27:T54)-1)<>\"\",OFFSET(DE104_5CWB!$T$27,ROWS($T$27:T54)-1,COLUMNS($T$27:T54)-1),\"\")","v":""},{"$f":"IF(OFFSET(DE104_5CWB!$U$27,ROWS($U$27:U54)-1,COLUMNS($U$27:U54)-1)<>\"\",OFFSET(DE104_5CWB!$U$27,ROWS($U$27:U54)-1,COLUMNS($U$27:U54)-1),\"\")","v":""},{"$f":"IF(OFFSET(DE104_5CWB!$V$27,ROWS($V$27:V54)-1,COLUMNS($V$27:V54)-1)<>\"\",OFFSET(DE104_5CWB!$V$27,ROWS($V$27:V54)-1,COLUMNS($V$27:V54)-1),\"\")","v":""}]
[{"$f":"IF(OFFSET(DE104_5CWB!$C$27,ROWS($C$27:C55)-1,COLUMNS($C$27:C55)-1)<>\"\",OFFSET(DE104_5CWB!$C$27,ROWS($C$27:C55)-1,COLUMNS($C$27:C55)-1),\"\")","v":""},{"$f":"IF(OFFSET(DE104_5CWB!$D$27,ROWS($D$27:D55)-1,COLUMNS($D$27:D55)-1)<>\"\",OFFSET(DE104_5CWB!$D$27,ROWS($D$27:D55)-1,COLUMNS($D$27:D55)-1),\"\")","v":"Totals"},{"$f":"IF(OFFSET(DE104_5CWB!$E$27,ROWS($E$27:E55)-1,COLUMNS($E$27:E55)-1)<>\"\",OFFSET(DE104_5CWB!$E$27,ROWS($E$27:E55)-1,COLUMNS($E$27:E55)-1),\"\")","v":""},{"$f":"IF(OFFSET(DE104_5CWB!$F$27,ROWS($F$27:F55)-1,COLUMNS($F$27:F55)-1)<>\"\",OFFSET(DE104_5CWB!$F$27,ROWS($F$27:F55)-1,COLUMNS($F$27:F55)-1),\"\")","v":""},{"$f":"IF(OFFSET(DE104_5CWB!$G$27,ROWS($G$27:G55)-1,COLUMNS($G$27:G55)-1)<>\"\",OFFSET(DE104_5CWB!$G$27,ROWS($G$27:G55)-1,COLUMNS($G$27:G55)-1),\"\")","v":""},{"$f":"IF(OFFSET(DE104_5CWB!$H$27,ROWS($H$27:H55)-1,COLUMNS($H$27:H55)-1)<>\"\",OFFSET(DE104_5CWB!$H$27,ROWS($H$27:H55)-1,COLUMNS($H$27:H55)-1),\"\")","v":""},{"$f":"IF(OFFSET(DE104_5CWB!$I$27,ROWS($I$27:I55)-1,COLUMNS($I$27:I55)-1)<>\"\",OFFSET(DE104_5CWB!$I$27,ROWS($I$27:I55)-1,COLUMNS($I$27:I55)-1),\"\")","v":""},{"$f":"IF(OFFSET(DE104_5CWB!$J$27,ROWS($J$27:J55)-1,COLUMNS($J$27:J55)-1)<>\"\",OFFSET(DE104_5CWB!$J$27,ROWS($J$27:J55)-1,COLUMNS($J$27:J55)-1),\"\")","v":""},{"$f":"IF(OFFSET(DE104_5CWB!$K$27,ROWS($K$27:K55)-1,COLUMNS($K$27:K55)-1)<>\"\",OFFSET(DE104_5CWB!$K$27,ROWS($K$27:K55)-1,COLUMNS($K$27:K55)-1),\"\")","v":""},{"$f":"IF(OFFSET(DE104_5CWB!$L$27,ROWS($L$27:L55)-1,COLUMNS($L$27:L55)-1)<>\"\",OFFSET(DE104_5CWB!$L$27,ROWS($L$27:L55)-1,COLUMNS($L$27:L55)-1),\"\")","v":""},{"$f":"IF(OFFSET(DE104_5CWB!$M$27,ROWS($M$27:M55)-1,COLUMNS($M$27:M55)-1)<>\"\",OFFSET(DE104_5CWB!$M$27,ROWS($M$27:M55)-1,COLUMNS($M$27:M55)-1),\"\")","v":""},{"$f":"IF(OFFSET(DE104_5CWB!$N$27,ROWS($N$27:N55)-1,COLUMNS($N$27:N55)-1)<>\"\",OFFSET(DE104_5CWB!$N$27,ROWS($N$27:N55)-1,COLUMNS($N$27:N55)-1),\"\")","v":""},{"$f":"IF(OFFSET(DE104_5CWB!$O$27,ROWS($O$27:O55)-1,COLUMNS($O$27:O55)-1)<>\"\",OFFSET(DE104_5CWB!$O$27,ROWS($O$27:O55)-1,COLUMNS($O$27:O55)-1),\"\")","v":""},{"$f":"IF(OFFSET(DE104_5CWB!$P$27,ROWS($P$27:P55)-1,COLUMNS($P$27:P55)-1)<>\"\",OFFSET(DE104_5CWB!$P$27,ROWS($P$27:P55)-1,COLUMNS($P$27:P55)-1),\"\")","v":""},{"$f":"IF(OFFSET(DE104_5CWB!$Q$27,ROWS($Q$27:Q55)-1,COLUMNS($Q$27:Q55)-1)<>\"\",OFFSET(DE104_5CWB!$Q$27,ROWS($Q$27:Q55)-1,COLUMNS($Q$27:Q55)-1),\"\")","v":""},{"$f":"IF(OFFSET(DE104_5CWB!$R$27,ROWS($R$27:R55)-1,COLUMNS($R$27:R55)-1)<>\"\",OFFSET(DE104_5CWB!$R$27,ROWS($R$27:R55)-1,COLUMNS($R$27:R55)-1),\"\")","v":""},{"$f":"IF(OFFSET(DE104_5CWB!$S$27,ROWS($S$27:S55)-1,COLUMNS($S$27:S55)-1)<>\"\",OFFSET(DE104_5CWB!$S$27,ROWS($S$27:S55)-1,COLUMNS($S$27:S55)-1),\"\")","v":21543.351851851858},{"$f":"IF(OFFSET(DE104_5CWB!$T$27,ROWS($T$27:T55)-1,COLUMNS($T$27:T55)-1)<>\"\",OFFSET(DE104_5CWB!$T$27,ROWS($T$27:T55)-1,COLUMNS($T$27:T55)-1),\"\")","v":""},{"$f":"IF(OFFSET(DE104_5CWB!$U$27,ROWS($U$27:U55)-1,COLUMNS($U$27:U55)-1)<>\"\",OFFSET(DE104_5CWB!$U$27,ROWS($U$27:U55)-1,COLUMNS($U$27:U55)-1),\"\")","v":""},{"$f":"IF(OFFSET(DE104_5CWB!$V$27,ROWS($V$27:V55)-1,COLUMNS($V$27:V55)-1)<>\"\",OFFSET(DE104_5CWB!$V$27,ROWS($V$27:V55)-1,COLUMNS($V$27:V55)-1),\"\")","v":""}]
[{"$f":"IF(OFFSET(DE104_5CWB!$C$27,ROWS($C$27:C56)-1,COLUMNS($C$27:C56)-1)<>\"\",OFFSET(DE104_5CWB!$C$27,ROWS($C$27:C56)-1,COLUMNS($C$27:C56)-1),\"\")","v":""},{"$f":"IF(OFFSET(DE104_5CWB!$D$27,ROWS($D$27:D56)-1,COLUMNS($D$27:D56)-1)<>\"\",OFFSET(DE104_5CWB!$D$27,ROWS($D$27:D56)-1,COLUMNS($D$27:D56)-1),\"\")","v":""},{"$f":"IF(OFFSET(DE104_5CWB!$E$27,ROWS($E$27:E56)-1,COLUMNS($E$27:E56)-1)<>\"\",OFFSET(DE104_5CWB!$E$27,ROWS($E$27:E56)-1,COLUMNS($E$27:E56)-1),\"\")","v":""},{"$f":"IF(OFFSET(DE104_5CWB!$F$27,ROWS($F$27:F56)-1,COLUMNS($F$27:F56)-1)<>\"\",OFFSET(DE104_5CWB!$F$27,ROWS($F$27:F56)-1,COLUMNS($F$27:F56)-1),\"\")","v":""},{"$f":"IF(OFFSET(DE104_5CWB!$G$27,ROWS($G$27:G56)-1,COLUMNS($G$27:G56)-1)<>\"\",OFFSET(DE104_5CWB!$G$27,ROWS($G$27:G56)-1,COLUMNS($G$27:G56)-1),\"\")","v":""},{"$f":"IF(OFFSET(DE104_5CWB!$H$27,ROWS($H$27:H56)-1,COLUMNS($H$27:H56)-1)<>\"\",OFFSET(DE104_5CWB!$H$27,ROWS($H$27:H56)-1,COLUMNS($H$27:H56)-1),\"\")","v":""},{"$f":"IF(OFFSET(DE104_5CWB!$I$27,ROWS($I$27:I56)-1,COLUMNS($I$27:I56)-1)<>\"\",OFFSET(DE104_5CWB!$I$27,ROWS($I$27:I56)-1,COLUMNS($I$27:I56)-1),\"\")","v":""},{"$f":"IF(OFFSET(DE104_5CWB!$J$27,ROWS($J$27:J56)-1,COLUMNS($J$27:J56)-1)<>\"\",OFFSET(DE104_5CWB!$J$27,ROWS($J$27:J56)-1,COLUMNS($J$27:J56)-1),\"\")","v":""},{"$f":"IF(OFFSET(DE104_5CWB!$K$27,ROWS($K$27:K56)-1,COLUMNS($K$27:K56)-1)<>\"\",OFFSET(DE104_5CWB!$K$27,ROWS($K$27:K56)-1,COLUMNS($K$27:K56)-1),\"\")","v":""},{"$f":"IF(OFFSET(DE104_5CWB!$L$27,ROWS($L$27:L56)-1,COLUMNS($L$27:L56)-1)<>\"\",OFFSET(DE104_5CWB!$L$27,ROWS($L$27:L56)-1,COLUMNS($L$27:L56)-1),\"\")","v":""},{"$f":"IF(OFFSET(DE104_5CWB!$M$27,ROWS($M$27:M56)-1,COLUMNS($M$27:M56)-1)<>\"\",OFFSET(DE104_5CWB!$M$27,ROWS($M$27:M56)-1,COLUMNS($M$27:M56)-1),\"\")","v":""},{"$f":"IF(OFFSET(DE104_5CWB!$N$27,ROWS($N$27:N56)-1,COLUMNS($N$27:N56)-1)<>\"\",OFFSET(DE104_5CWB!$N$27,ROWS($N$27:N56)-1,COLUMNS($N$27:N56)-1),\"\")","v":""},{"$f":"IF(OFFSET(DE104_5CWB!$O$27,ROWS($O$27:O56)-1,COLUMNS($O$27:O56)-1)<>\"\",OFFSET(DE104_5CWB!$O$27,ROWS($O$27:O56)-1,COLUMNS($O$27:O56)-1),\"\")","v":""},{"$f":"IF(OFFSET(DE104_5CWB!$P$27,ROWS($P$27:P56)-1,COLUMNS($P$27:P56)-1)<>\"\",OFFSET(DE104_5CWB!$P$27,ROWS($P$27:P56)-1,COLUMNS($P$27:P56)-1),\"\")","v":""},{"$f":"IF(OFFSET(DE104_5CWB!$Q$27,ROWS($Q$27:Q56)-1,COLUMNS($Q$27:Q56)-1)<>\"\",OFFSET(DE104_5CWB!$Q$27,ROWS($Q$27:Q56)-1,COLUMNS($Q$27:Q56)-1),\"\")","v":""},{"$f":"IF(OFFSET(DE104_5CWB!$R$27,ROWS($R$27:R56)-1,COLUMNS($R$27:R56)-1)<>\"\",OFFSET(DE104_5CWB!$R$27,ROWS($R$27:R56)-1,COLUMNS($R$27:R56)-1),\"\")","v":""},{"$f":"IF(OFFSET(DE104_5CWB!$S$27,ROWS($S$27:S56)-1,COLUMNS($S$27:S56)-1)<>\"\",OFFSET(DE104_5CWB!$S$27,ROWS($S$27:S56)-1,COLUMNS($S$27:S56)-1),\"\")","v":""},{"$f":"IF(OFFSET(DE104_5CWB!$T$27,ROWS($T$27:T56)-1,COLUMNS($T$27:T56)-1)<>\"\",OFFSET(DE104_5CWB!$T$27,ROWS($T$27:T56)-1,COLUMNS($T$27:T56)-1),\"\")","v":""},{"$f":"IF(OFFSET(DE104_5CWB!$U$27,ROWS($U$27:U56)-1,COLUMNS($U$27:U56)-1)<>\"\",OFFSET(DE104_5CWB!$U$27,ROWS($U$27:U56)-1,COLUMNS($U$27:U56)-1),\"\")","v":""},{"$f":"IF(OFFSET(DE104_5CWB!$V$27,ROWS($V$27:V56)-1,COLUMNS($V$27:V56)-1)<>\"\",OFFSET(DE104_5CWB!$V$27,ROWS($V$27:V56)-1,COLUMNS($V$27:V56)-1),\"\")","v":""}]
[{"$f":"IF(OFFSET(DE104_5CWB!$C$27,ROWS($C$27:C57)-1,COLUMNS($C$27:C57)-1)<>\"\",OFFSET(DE104_5CWB!$C$27,ROWS($C$27:C57)-1,COLUMNS($C$27:C57)-1),\"\")","v":"Notes:"},{"$f":"IF(OFFSET(DE104_5CWB!$D$27,ROWS($D$27:D57)-1,COLUMNS($D$27:D57)-1)<>\"\",OFFSET(DE104_5CWB!$D$27,ROWS($D$27:D57)-1,COLUMNS($D$27:D57)-1),\"\")","v":""},{"$f":"IF(OFFSET(DE104_5CWB!$E$27,ROWS($E$27:E57)-1,COLUMNS($E$27:E57)-1)<>\"\",OFFSET(DE104_5CWB!$E$27,ROWS($E$27:E57)-1,COLUMNS($E$27:E57)-1),\"\")","v":""},{"$f":"IF(OFFSET(DE104_5CWB!$F$27,ROWS($F$27:F57)-1,COLUMNS($F$27:F57)-1)<>\"\",OFFSET(DE104_5CWB!$F$27,ROWS($F$27:F57)-1,COLUMNS($F$27:F57)-1),\"\")","v":""},{"$f":"IF(OFFSET(DE104_5CWB!$G$27,ROWS($G$27:G57)-1,COLUMNS($G$27:G57)-1)<>\"\",OFFSET(DE104_5CWB!$G$27,ROWS($G$27:G57)-1,COLUMNS($G$27:G57)-1),\"\")","v":""},{"$f":"IF(OFFSET(DE104_5CWB!$H$27,ROWS($H$27:H57)-1,COLUMNS($H$27:H57)-1)<>\"\",OFFSET(DE104_5CWB!$H$27,ROWS($H$27:H57)-1,COLUMNS($H$27:H57)-1),\"\")","v":""},{"$f":"IF(OFFSET(DE104_5CWB!$I$27,ROWS($I$27:I57)-1,COLUMNS($I$27:I57)-1)<>\"\",OFFSET(DE104_5CWB!$I$27,ROWS($I$27:I57)-1,COLUMNS($I$27:I57)-1),\"\")","v":""},{"$f":"IF(OFFSET(DE104_5CWB!$J$27,ROWS($J$27:J57)-1,COLUMNS($J$27:J57)-1)<>\"\",OFFSET(DE104_5CWB!$J$27,ROWS($J$27:J57)-1,COLUMNS($J$27:J57)-1),\"\")","v":""},{"$f":"IF(OFFSET(DE104_5CWB!$K$27,ROWS($K$27:K57)-1,COLUMNS($K$27:K57)-1)<>\"\",OFFSET(DE104_5CWB!$K$27,ROWS($K$27:K57)-1,COLUMNS($K$27:K57)-1),\"\")","v":""},{"$f":"IF(OFFSET(DE104_5CWB!$L$27,ROWS($L$27:L57)-1,COLUMNS($L$27:L57)-1)<>\"\",OFFSET(DE104_5CWB!$L$27,ROWS($L$27:L57)-1,COLUMNS($L$27:L57)-1),\"\")","v":""},{"$f":"IF(OFFSET(DE104_5CWB!$M$27,ROWS($M$27:M57)-1,COLUMNS($M$27:M57)-1)<>\"\",OFFSET(DE104_5CWB!$M$27,ROWS($M$27:M57)-1,COLUMNS($M$27:M57)-1),\"\")","v":""},{"$f":"IF(OFFSET(DE104_5CWB!$N$27,ROWS($N$27:N57)-1,COLUMNS($N$27:N57)-1)<>\"\",OFFSET(DE104_5CWB!$N$27,ROWS($N$27:N57)-1,COLUMNS($N$27:N57)-1),\"\")","v":""},{"$f":"IF(OFFSET(DE104_5CWB!$O$27,ROWS($O$27:O57)-1,COLUMNS($O$27:O57)-1)<>\"\",OFFSET(DE104_5CWB!$O$27,ROWS($O$27:O57)-1,COLUMNS($O$27:O57)-1),\"\")","v":""},{"$f":"IF(OFFSET(DE104_5CWB!$P$27,ROWS($P$27:P57)-1,COLUMNS($P$27:P57)-1)<>\"\",OFFSET(DE104_5CWB!$P$27,ROWS($P$27:P57)-1,COLUMNS($P$27:P57)-1),\"\")","v":""},{"$f":"IF(OFFSET(DE104_5CWB!$Q$27,ROWS($Q$27:Q57)-1,COLUMNS($Q$27:Q57)-1)<>\"\",OFFSET(DE104_5CWB!$Q$27,ROWS($Q$27:Q57)-1,COLUMNS($Q$27:Q57)-1),\"\")","v":""},{"$f":"IF(OFFSET(DE104_5CWB!$R$27,ROWS($R$27:R57)-1,COLUMNS($R$27:R57)-1)<>\"\",OFFSET(DE104_5CWB!$R$27,ROWS($R$27:R57)-1,COLUMNS($R$27:R57)-1),\"\")","v":""},{"$f":"IF(OFFSET(DE104_5CWB!$S$27,ROWS($S$27:S57)-1,COLUMNS($S$27:S57)-1)<>\"\",OFFSET(DE104_5CWB!$S$27,ROWS($S$27:S57)-1,COLUMNS($S$27:S57)-1),\"\")","v":""},{"$f":"IF(OFFSET(DE104_5CWB!$T$27,ROWS($T$27:T57)-1,COLUMNS($T$27:T57)-1)<>\"\",OFFSET(DE104_5CWB!$T$27,ROWS($T$27:T57)-1,COLUMNS($T$27:T57)-1),\"\")","v":""},{"$f":"IF(OFFSET(DE104_5CWB!$U$27,ROWS($U$27:U57)-1,COLUMNS($U$27:U57)-1)<>\"\",OFFSET(DE104_5CWB!$U$27,ROWS($U$27:U57)-1,COLUMNS($U$27:U57)-1),\"\")","v":""},{"$f":"IF(OFFSET(DE104_5CWB!$V$27,ROWS($V$27:V57)-1,COLUMNS($V$27:V57)-1)<>\"\",OFFSET(DE104_5CWB!$V$27,ROWS($V$27:V57)-1,COLUMNS($V$27:V57)-1),\"\")","v":""}]
[{"$f":"IF(OFFSET(DE104_5CWB!$C$27,ROWS($C$27:C58)-1,COLUMNS($C$27:C58)-1)<>\"\",OFFSET(DE104_5CWB!$C$27,ROWS($C$27:C58)-1,COLUMNS($C$27:C58)-1),\"\")","v":"1. The Working Blankets shown on the Q Sheets and on tab. 104-5C may be extended, reduced or deleted as field conditions dictate at time of construction."},null,null,null,null,null,null,null,null,null,null,null,null,null,{"$f":"IF(OFFSET(DE104_5CWB!$Q$27,ROWS($Q$27:Q58)-1,COLUMNS($Q$27:Q58)-1)<>\"\",OFFSET(DE104_5CWB!$Q$27,ROWS($Q$27:Q58)-1,COLUMNS($Q$27:Q58)-1),\"\")","v":""},{"$f":"IF(OFFSET(DE104_5CWB!$R$27,ROWS($R$27:R58)-1,COLUMNS($R$27:R58)-1)<>\"\",OFFSET(DE104_5CWB!$R$27,ROWS($R$27:R58)-1,COLUMNS($R$27:R58)-1),\"\")","v":""},{"$f":"IF(OFFSET(DE104_5CWB!$S$27,ROWS($S$27:S58)-1,COLUMNS($S$27:S58)-1)<>\"\",OFFSET(DE104_5CWB!$S$27,ROWS($S$27:S58)-1,COLUMNS($S$27:S58)-1),\"\")","v":""},{"$f":"IF(OFFSET(DE104_5CWB!$T$27,ROWS($T$27:T58)-1,COLUMNS($T$27:T58)-1)<>\"\",OFFSET(DE104_5CWB!$T$27,ROWS($T$27:T58)-1,COLUMNS($T$27:T58)-1),\"\")","v":""},{"$f":"IF(OFFSET(DE104_5CWB!$U$27,ROWS($U$27:U58)-1,COLUMNS($U$27:U58)-1)<>\"\",OFFSET(DE104_5CWB!$U$27,ROWS($U$27:U58)-1,COLUMNS($U$27:U58)-1),\"\")","v":""},{"$f":"IF(OFFSET(DE104_5CWB!$V$27,ROWS($V$27:V58)-1,COLUMNS($V$27:V58)-1)<>\"\",OFFSET(DE104_5CWB!$V$27,ROWS($V$27:V58)-1,COLUMNS($V$27:V58)-1),\"\")","v":""}]
[{"$f":"IF(OFFSET(DE104_5CWB!$C$27,ROWS($C$27:C59)-1,COLUMNS($C$27:C59)-1)<>\"\",OFFSET(DE104_5CWB!$C$27,ROWS($C$27:C59)-1,COLUMNS($C$27:C59)-1),\"\")","v":""},{"$f":"IF(OFFSET(DE104_5CWB!$D$27,ROWS($D$27:D59)-1,COLUMNS($D$27:D59)-1)<>\"\",OFFSET(DE104_5CWB!$D$27,ROWS($D$27:D59)-1,COLUMNS($D$27:D59)-1),\"\")","v":""},{"$f":"IF(OFFSET(DE104_5CWB!$E$27,ROWS($E$27:E59)-1,COLUMNS($E$27:E59)-1)<>\"\",OFFSET(DE104_5CWB!$E$27,ROWS($E$27:E59)-1,COLUMNS($E$27:E59)-1),\"\")","v":""},{"$f":"IF(OFFSET(DE104_5CWB!$F$27,ROWS($F$27:F59)-1,COLUMNS($F$27:F59)-1)<>\"\",OFFSET(DE104_5CWB!$F$27,ROWS($F$27:F59)-1,COLUMNS($F$27:F59)-1),\"\")","v":""},{"$f":"IF(OFFSET(DE104_5CWB!$G$27,ROWS($G$27:G59)-1,COLUMNS($G$27:G59)-1)<>\"\",OFFSET(DE104_5CWB!$G$27,ROWS($G$27:G59)-1,COLUMNS($G$27:G59)-1),\"\")","v":""},{"$f":"IF(OFFSET(DE104_5CWB!$H$27,ROWS($H$27:H59)-1,COLUMNS($H$27:H59)-1)<>\"\",OFFSET(DE104_5CWB!$H$27,ROWS($H$27:H59)-1,COLUMNS($H$27:H59)-1),\"\")","v":""},{"$f":"IF(OFFSET(DE104_5CWB!$I$27,ROWS($I$27:I59)-1,COLUMNS($I$27:I59)-1)<>\"\",OFFSET(DE104_5CWB!$I$27,ROWS($I$27:I59)-1,COLUMNS($I$27:I59)-1),\"\")","v":""},{"$f":"IF(OFFSET(DE104_5CWB!$J$27,ROWS($J$27:J59)-1,COLUMNS($J$27:J59)-1)<>\"\",OFFSET(DE104_5CWB!$J$27,ROWS($J$27:J59)-1,COLUMNS($J$27:J59)-1),\"\")","v":""},{"$f":"IF(OFFSET(DE104_5CWB!$K$27,ROWS($K$27:K59)-1,COLUMNS($K$27:K59)-1)<>\"\",OFFSET(DE104_5CWB!$K$27,ROWS($K$27:K59)-1,COLUMNS($K$27:K59)-1),\"\")","v":""},{"$f":"IF(OFFSET(DE104_5CWB!$L$27,ROWS($L$27:L59)-1,COLUMNS($L$27:L59)-1)<>\"\",OFFSET(DE104_5CWB!$L$27,ROWS($L$27:L59)-1,COLUMNS($L$27:L59)-1),\"\")","v":""},{"$f":"IF(OFFSET(DE104_5CWB!$M$27,ROWS($M$27:M59)-1,COLUMNS($M$27:M59)-1)<>\"\",OFFSET(DE104_5CWB!$M$27,ROWS($M$27:M59)-1,COLUMNS($M$27:M59)-1),\"\")","v":""},{"$f":"IF(OFFSET(DE104_5CWB!$N$27,ROWS($N$27:N59)-1,COLUMNS($N$27:N59)-1)<>\"\",OFFSET(DE104_5CWB!$N$27,ROWS($N$27:N59)-1,COLUMNS($N$27:N59)-1),\"\")","v":""},{"$f":"IF(OFFSET(DE104_5CWB!$O$27,ROWS($O$27:O59)-1,COLUMNS($O$27:O59)-1)<>\"\",OFFSET(DE104_5CWB!$O$27,ROWS($O$27:O59)-1,COLUMNS($O$27:O59)-1),\"\")","v":""},{"$f":"IF(OFFSET(DE104_5CWB!$P$27,ROWS($P$27:P59)-1,COLUMNS($P$27:P59)-1)<>\"\",OFFSET(DE104_5CWB!$P$27,ROWS($P$27:P59)-1,COLUMNS($P$27:P59)-1),\"\")","v":""},{"$f":"IF(OFFSET(DE104_5CWB!$Q$27,ROWS($Q$27:Q59)-1,COLUMNS($Q$27:Q59)-1)<>\"\",OFFSET(DE104_5CWB!$Q$27,ROWS($Q$27:Q59)-1,COLUMNS($Q$27:Q59)-1),\"\")","v":""},{"$f":"IF(OFFSET(DE104_5CWB!$R$27,ROWS($R$27:R59)-1,COLUMNS($R$27:R59)-1)<>\"\",OFFSET(DE104_5CWB!$R$27,ROWS($R$27:R59)-1,COLUMNS($R$27:R59)-1),\"\")","v":""},{"$f":"IF(OFFSET(DE104_5CWB!$S$27,ROWS($S$27:S59)-1,COLUMNS($S$27:S59)-1)<>\"\",OFFSET(DE104_5CWB!$S$27,ROWS($S$27:S59)-1,COLUMNS($S$27:S59)-1),\"\")","v":""},{"$f":"IF(OFFSET(DE104_5CWB!$T$27,ROWS($T$27:T59)-1,COLUMNS($T$27:T59)-1)<>\"\",OFFSET(DE104_5CWB!$T$27,ROWS($T$27:T59)-1,COLUMNS($T$27:T59)-1),\"\")","v":""},{"$f":"IF(OFFSET(DE104_5CWB!$U$27,ROWS($U$27:U59)-1,COLUMNS($U$27:U59)-1)<>\"\",OFFSET(DE104_5CWB!$U$27,ROWS($U$27:U59)-1,COLUMNS($U$27:U59)-1),\"\")","v":""},{"$f":"IF(OFFSET(DE104_5CWB!$V$27,ROWS($V$27:V59)-1,COLUMNS($V$27:V59)-1)<>\"\",OFFSET(DE104_5CWB!$V$27,ROWS($V$27:V59)-1,COLUMNS($V$27:V59)-1),\"\")","v":""}]
[{"$f":"IF(OFFSET(DE104_5CWB!$C$27,ROWS($C$27:C60)-1,COLUMNS($C$27:C60)-1)<>\"\",OFFSET(DE104_5CWB!$C$27,ROWS($C$27:C60)-1,COLUMNS($C$27:C60)-1),\"\")","v":""},{"$f":"IF(OFFSET(DE104_5CWB!$D$27,ROWS($D$27:D60)-1,COLUMNS($D$27:D60)-1)<>\"\",OFFSET(DE104_5CWB!$D$27,ROWS($D$27:D60)-1,COLUMNS($D$27:D60)-1),\"\")","v":""},{"$f":"IF(OFFSET(DE104_5CWB!$E$27,ROWS($E$27:E60)-1,COLUMNS($E$27:E60)-1)<>\"\",OFFSET(DE104_5CWB!$E$27,ROWS($E$27:E60)-1,COLUMNS($E$27:E60)-1),\"\")","v":""},{"$f":"IF(OFFSET(DE104_5CWB!$F$27,ROWS($F$27:F60)-1,COLUMNS($F$27:F60)-1)<>\"\",OFFSET(DE104_5CWB!$F$27,ROWS($F$27:F60)-1,COLUMNS($F$27:F60)-1),\"\")","v":""},{"$f":"IF(OFFSET(DE104_5CWB!$G$27,ROWS($G$27:G60)-1,COLUMNS($G$27:G60)-1)<>\"\",OFFSET(DE104_5CWB!$G$27,ROWS($G$27:G60)-1,COLUMNS($G$27:G60)-1),\"\")","v":""},{"$f":"IF(OFFSET(DE104_5CWB!$H$27,ROWS($H$27:H60)-1,COLUMNS($H$27:H60)-1)<>\"\",OFFSET(DE104_5CWB!$H$27,ROWS($H$27:H60)-1,COLUMNS($H$27:H60)-1),\"\")","v":""},{"$f":"IF(OFFSET(DE104_5CWB!$I$27,ROWS($I$27:I60)-1,COLUMNS($I$27:I60)-1)<>\"\",OFFSET(DE104_5CWB!$I$27,ROWS($I$27:I60)-1,COLUMNS($I$27:I60)-1),\"\")","v":""},{"$f":"IF(OFFSET(DE104_5CWB!$J$27,ROWS($J$27:J60)-1,COLUMNS($J$27:J60)-1)<>\"\",OFFSET(DE104_5CWB!$J$27,ROWS($J$27:J60)-1,COLUMNS($J$27:J60)-1),\"\")","v":""},{"$f":"IF(OFFSET(DE104_5CWB!$K$27,ROWS($K$27:K60)-1,COLUMNS($K$27:K60)-1)<>\"\",OFFSET(DE104_5CWB!$K$27,ROWS($K$27:K60)-1,COLUMNS($K$27:K60)-1),\"\")","v":""},{"$f":"IF(OFFSET(DE104_5CWB!$L$27,ROWS($L$27:L60)-1,COLUMNS($L$27:L60)-1)<>\"\",OFFSET(DE104_5CWB!$L$27,ROWS($L$27:L60)-1,COLUMNS($L$27:L60)-1),\"\")","v":""},{"$f":"IF(OFFSET(DE104_5CWB!$M$27,ROWS($M$27:M60)-1,COLUMNS($M$27:M60)-1)<>\"\",OFFSET(DE104_5CWB!$M$27,ROWS($M$27:M60)-1,COLUMNS($M$27:M60)-1),\"\")","v":""},{"$f":"IF(OFFSET(DE104_5CWB!$N$27,ROWS($N$27:N60)-1,COLUMNS($N$27:N60)-1)<>\"\",OFFSET(DE104_5CWB!$N$27,ROWS($N$27:N60)-1,COLUMNS($N$27:N60)-1),\"\")","v":""},{"$f":"IF(OFFSET(DE104_5CWB!$O$27,ROWS($O$27:O60)-1,COLUMNS($O$27:O60)-1)<>\"\",OFFSET(DE104_5CWB!$O$27,ROWS($O$27:O60)-1,COLUMNS($O$27:O60)-1),\"\")","v":""},{"$f":"IF(OFFSET(DE104_5CWB!$P$27,ROWS($P$27:P60)-1,COLUMNS($P$27:P60)-1)<>\"\",OFFSET(DE104_5CWB!$P$27,ROWS($P$27:P60)-1,COLUMNS($P$27:P60)-1),\"\")","v":""},{"$f":"IF(OFFSET(DE104_5CWB!$Q$27,ROWS($Q$27:Q60)-1,COLUMNS($Q$27:Q60)-1)<>\"\",OFFSET(DE104_5CWB!$Q$27,ROWS($Q$27:Q60)-1,COLUMNS($Q$27:Q60)-1),\"\")","v":""},{"$f":"IF(OFFSET(DE104_5CWB!$R$27,ROWS($R$27:R60)-1,COLUMNS($R$27:R60)-1)<>\"\",OFFSET(DE104_5CWB!$R$27,ROWS($R$27:R60)-1,COLUMNS($R$27:R60)-1),\"\")","v":""},{"$f":"IF(OFFSET(DE104_5CWB!$S$27,ROWS($S$27:S60)-1,COLUMNS($S$27:S60)-1)<>\"\",OFFSET(DE104_5CWB!$S$27,ROWS($S$27:S60)-1,COLUMNS($S$27:S60)-1),\"\")","v":""},{"$f":"IF(OFFSET(DE104_5CWB!$T$27,ROWS($T$27:T60)-1,COLUMNS($T$27:T60)-1)<>\"\",OFFSET(DE104_5CWB!$T$27,ROWS($T$27:T60)-1,COLUMNS($T$27:T60)-1),\"\")","v":""},{"$f":"IF(OFFSET(DE104_5CWB!$U$27,ROWS($U$27:U60)-1,COLUMNS($U$27:U60)-1)<>\"\",OFFSET(DE104_5CWB!$U$27,ROWS($U$27:U60)-1,COLUMNS($U$27:U60)-1),\"\")","v":""},{"$f":"IF(OFFSET(DE104_5CWB!$V$27,ROWS($V$27:V60)-1,COLUMNS($V$27:V60)-1)<>\"\",OFFSET(DE104_5CWB!$V$27,ROWS($V$27:V60)-1,COLUMNS($V$27:V60)-1),\"\")","v":""}]
[{"$f":"IF(OFFSET(DE104_5CWB!$C$27,ROWS($C$27:C61)-1,COLUMNS($C$27:C61)-1)<>\"\",OFFSET(DE104_5CWB!$C$27,ROWS($C$27:C61)-1,COLUMNS($C$27:C61)-1),\"\")","v":""},{"$f":"IF(OFFSET(DE104_5CWB!$D$27,ROWS($D$27:D61)-1,COLUMNS($D$27:D61)-1)<>\"\",OFFSET(DE104_5CWB!$D$27,ROWS($D$27:D61)-1,COLUMNS($D$27:D61)-1),\"\")","v":""},{"$f":"IF(OFFSET(DE104_5CWB!$E$27,ROWS($E$27:E61)-1,COLUMNS($E$27:E61)-1)<>\"\",OFFSET(DE104_5CWB!$E$27,ROWS($E$27:E61)-1,COLUMNS($E$27:E61)-1),\"\")","v":""},{"$f":"IF(OFFSET(DE104_5CWB!$F$27,ROWS($F$27:F61)-1,COLUMNS($F$27:F61)-1)<>\"\",OFFSET(DE104_5CWB!$F$27,ROWS($F$27:F61)-1,COLUMNS($F$27:F61)-1),\"\")","v":""},{"$f":"IF(OFFSET(DE104_5CWB!$G$27,ROWS($G$27:G61)-1,COLUMNS($G$27:G61)-1)<>\"\",OFFSET(DE104_5CWB!$G$27,ROWS($G$27:G61)-1,COLUMNS($G$27:G61)-1),\"\")","v":""},{"$f":"IF(OFFSET(DE104_5CWB!$H$27,ROWS($H$27:H61)-1,COLUMNS($H$27:H61)-1)<>\"\",OFFSET(DE104_5CWB!$H$27,ROWS($H$27:H61)-1,COLUMNS($H$27:H61)-1),\"\")","v":""},{"$f":"IF(OFFSET(DE104_5CWB!$I$27,ROWS($I$27:I61)-1,COLUMNS($I$27:I61)-1)<>\"\",OFFSET(DE104_5CWB!$I$27,ROWS($I$27:I61)-1,COLUMNS($I$27:I61)-1),\"\")","v":""},{"$f":"IF(OFFSET(DE104_5CWB!$J$27,ROWS($J$27:J61)-1,COLUMNS($J$27:J61)-1)<>\"\",OFFSET(DE104_5CWB!$J$27,ROWS($J$27:J61)-1,COLUMNS($J$27:J61)-1),\"\")","v":""},{"$f":"IF(OFFSET(DE104_5CWB!$K$27,ROWS($K$27:K61)-1,COLUMNS($K$27:K61)-1)<>\"\",OFFSET(DE104_5CWB!$K$27,ROWS($K$27:K61)-1,COLUMNS($K$27:K61)-1),\"\")","v":""},{"$f":"IF(OFFSET(DE104_5CWB!$L$27,ROWS($L$27:L61)-1,COLUMNS($L$27:L61)-1)<>\"\",OFFSET(DE104_5CWB!$L$27,ROWS($L$27:L61)-1,COLUMNS($L$27:L61)-1),\"\")","v":""},{"$f":"IF(OFFSET(DE104_5CWB!$M$27,ROWS($M$27:M61)-1,COLUMNS($M$27:M61)-1)<>\"\",OFFSET(DE104_5CWB!$M$27,ROWS($M$27:M61)-1,COLUMNS($M$27:M61)-1),\"\")","v":""},{"$f":"IF(OFFSET(DE104_5CWB!$N$27,ROWS($N$27:N61)-1,COLUMNS($N$27:N61)-1)<>\"\",OFFSET(DE104_5CWB!$N$27,ROWS($N$27:N61)-1,COLUMNS($N$27:N61)-1),\"\")","v":""},{"$f":"IF(OFFSET(DE104_5CWB!$O$27,ROWS($O$27:O61)-1,COLUMNS($O$27:O61)-1)<>\"\",OFFSET(DE104_5CWB!$O$27,ROWS($O$27:O61)-1,COLUMNS($O$27:O61)-1),\"\")","v":""},{"$f":"IF(OFFSET(DE104_5CWB!$P$27,ROWS($P$27:P61)-1,COLUMNS($P$27:P61)-1)<>\"\",OFFSET(DE104_5CWB!$P$27,ROWS($P$27:P61)-1,COLUMNS($P$27:P61)-1),\"\")","v":""},{"$f":"IF(OFFSET(DE104_5CWB!$Q$27,ROWS($Q$27:Q61)-1,COLUMNS($Q$27:Q61)-1)<>\"\",OFFSET(DE104_5CWB!$Q$27,ROWS($Q$27:Q61)-1,COLUMNS($Q$27:Q61)-1),\"\")","v":""},{"$f":"IF(OFFSET(DE104_5CWB!$R$27,ROWS($R$27:R61)-1,COLUMNS($R$27:R61)-1)<>\"\",OFFSET(DE104_5CWB!$R$27,ROWS($R$27:R61)-1,COLUMNS($R$27:R61)-1),\"\")","v":""},{"$f":"IF(OFFSET(DE104_5CWB!$S$27,ROWS($S$27:S61)-1,COLUMNS($S$27:S61)-1)<>\"\",OFFSET(DE104_5CWB!$S$27,ROWS($S$27:S61)-1,COLUMNS($S$27:S61)-1),\"\")","v":""},{"$f":"IF(OFFSET(DE104_5CWB!$T$27,ROWS($T$27:T61)-1,COLUMNS($T$27:T61)-1)<>\"\",OFFSET(DE104_5CWB!$T$27,ROWS($T$27:T61)-1,COLUMNS($T$27:T61)-1),\"\")","v":""},{"$f":"IF(OFFSET(DE104_5CWB!$U$27,ROWS($U$27:U61)-1,COLUMNS($U$27:U61)-1)<>\"\",OFFSET(DE104_5CWB!$U$27,ROWS($U$27:U61)-1,COLUMNS($U$27:U61)-1),\"\")","v":""},{"$f":"IF(OFFSET(DE104_5CWB!$V$27,ROWS($V$27:V61)-1,COLUMNS($V$27:V61)-1)<>\"\",OFFSET(DE104_5CWB!$V$27,ROWS($V$27:V61)-1,COLUMNS($V$27:V61)-1),\"\")","v":""}]
[{"$f":"IF(OFFSET(DE104_5CWB!$C$27,ROWS($C$27:C62)-1,COLUMNS($C$27:C62)-1)<>\"\",OFFSET(DE104_5CWB!$C$27,ROWS($C$27:C62)-1,COLUMNS($C$27:C62)-1),\"\")","v":""},{"$f":"IF(OFFSET(DE104_5CWB!$D$27,ROWS($D$27:D62)-1,COLUMNS($D$27:D62)-1)<>\"\",OFFSET(DE104_5CWB!$D$27,ROWS($D$27:D62)-1,COLUMNS($D$27:D62)-1),\"\")","v":""},{"$f":"IF(OFFSET(DE104_5CWB!$E$27,ROWS($E$27:E62)-1,COLUMNS($E$27:E62)-1)<>\"\",OFFSET(DE104_5CWB!$E$27,ROWS($E$27:E62)-1,COLUMNS($E$27:E62)-1),\"\")","v":""},{"$f":"IF(OFFSET(DE104_5CWB!$F$27,ROWS($F$27:F62)-1,COLUMNS($F$27:F62)-1)<>\"\",OFFSET(DE104_5CWB!$F$27,ROWS($F$27:F62)-1,COLUMNS($F$27:F62)-1),\"\")","v":""},{"$f":"IF(OFFSET(DE104_5CWB!$G$27,ROWS($G$27:G62)-1,COLUMNS($G$27:G62)-1)<>\"\",OFFSET(DE104_5CWB!$G$27,ROWS($G$27:G62)-1,COLUMNS($G$27:G62)-1),\"\")","v":""},{"$f":"IF(OFFSET(DE104_5CWB!$H$27,ROWS($H$27:H62)-1,COLUMNS($H$27:H62)-1)<>\"\",OFFSET(DE104_5CWB!$H$27,ROWS($H$27:H62)-1,COLUMNS($H$27:H62)-1),\"\")","v":""},{"$f":"IF(OFFSET(DE104_5CWB!$I$27,ROWS($I$27:I62)-1,COLUMNS($I$27:I62)-1)<>\"\",OFFSET(DE104_5CWB!$I$27,ROWS($I$27:I62)-1,COLUMNS($I$27:I62)-1),\"\")","v":""},{"$f":"IF(OFFSET(DE104_5CWB!$J$27,ROWS($J$27:J62)-1,COLUMNS($J$27:J62)-1)<>\"\",OFFSET(DE104_5CWB!$J$27,ROWS($J$27:J62)-1,COLUMNS($J$27:J62)-1),\"\")","v":""},{"$f":"IF(OFFSET(DE104_5CWB!$K$27,ROWS($K$27:K62)-1,COLUMNS($K$27:K62)-1)<>\"\",OFFSET(DE104_5CWB!$K$27,ROWS($K$27:K62)-1,COLUMNS($K$27:K62)-1),\"\")","v":""},{"$f":"IF(OFFSET(DE104_5CWB!$L$27,ROWS($L$27:L62)-1,COLUMNS($L$27:L62)-1)<>\"\",OFFSET(DE104_5CWB!$L$27,ROWS($L$27:L62)-1,COLUMNS($L$27:L62)-1),\"\")","v":""},{"$f":"IF(OFFSET(DE104_5CWB!$M$27,ROWS($M$27:M62)-1,COLUMNS($M$27:M62)-1)<>\"\",OFFSET(DE104_5CWB!$M$27,ROWS($M$27:M62)-1,COLUMNS($M$27:M62)-1),\"\")","v":""},{"$f":"IF(OFFSET(DE104_5CWB!$N$27,ROWS($N$27:N62)-1,COLUMNS($N$27:N62)-1)<>\"\",OFFSET(DE104_5CWB!$N$27,ROWS($N$27:N62)-1,COLUMNS($N$27:N62)-1),\"\")","v":""},{"$f":"IF(OFFSET(DE104_5CWB!$O$27,ROWS($O$27:O62)-1,COLUMNS($O$27:O62)-1)<>\"\",OFFSET(DE104_5CWB!$O$27,ROWS($O$27:O62)-1,COLUMNS($O$27:O62)-1),\"\")","v":""},{"$f":"IF(OFFSET(DE104_5CWB!$P$27,ROWS($P$27:P62)-1,COLUMNS($P$27:P62)-1)<>\"\",OFFSET(DE104_5CWB!$P$27,ROWS($P$27:P62)-1,COLUMNS($P$27:P62)-1),\"\")","v":""},{"$f":"IF(OFFSET(DE104_5CWB!$Q$27,ROWS($Q$27:Q62)-1,COLUMNS($Q$27:Q62)-1)<>\"\",OFFSET(DE104_5CWB!$Q$27,ROWS($Q$27:Q62)-1,COLUMNS($Q$27:Q62)-1),\"\")","v":""},{"$f":"IF(OFFSET(DE104_5CWB!$R$27,ROWS($R$27:R62)-1,COLUMNS($R$27:R62)-1)<>\"\",OFFSET(DE104_5CWB!$R$27,ROWS($R$27:R62)-1,COLUMNS($R$27:R62)-1),\"\")","v":""},{"$f":"IF(OFFSET(DE104_5CWB!$S$27,ROWS($S$27:S62)-1,COLUMNS($S$27:S62)-1)<>\"\",OFFSET(DE104_5CWB!$S$27,ROWS($S$27:S62)-1,COLUMNS($S$27:S62)-1),\"\")","v":""},{"$f":"IF(OFFSET(DE104_5CWB!$T$27,ROWS($T$27:T62)-1,COLUMNS($T$27:T62)-1)<>\"\",OFFSET(DE104_5CWB!$T$27,ROWS($T$27:T62)-1,COLUMNS($T$27:T62)-1),\"\")","v":""},{"$f":"IF(OFFSET(DE104_5CWB!$U$27,ROWS($U$27:U62)-1,COLUMNS($U$27:U62)-1)<>\"\",OFFSET(DE104_5CWB!$U$27,ROWS($U$27:U62)-1,COLUMNS($U$27:U62)-1),\"\")","v":""},{"$f":"IF(OFFSET(DE104_5CWB!$V$27,ROWS($V$27:V62)-1,COLUMNS($V$27:V62)-1)<>\"\",OFFSET(DE104_5CWB!$V$27,ROWS($V$27:V62)-1,COLUMNS($V$27:V62)-1),\"\")","v":""}]
[{"$f":"IF(OFFSET(DE104_5CWB!$C$27,ROWS($C$27:C63)-1,COLUMNS($C$27:C63)-1)<>\"\",OFFSET(DE104_5CWB!$C$27,ROWS($C$27:C63)-1,COLUMNS($C$27:C63)-1),\"\")","v":""},{"$f":"IF(OFFSET(DE104_5CWB!$D$27,ROWS($D$27:D63)-1,COLUMNS($D$27:D63)-1)<>\"\",OFFSET(DE104_5CWB!$D$27,ROWS($D$27:D63)-1,COLUMNS($D$27:D63)-1),\"\")","v":""},{"$f":"IF(OFFSET(DE104_5CWB!$E$27,ROWS($E$27:E63)-1,COLUMNS($E$27:E63)-1)<>\"\",OFFSET(DE104_5CWB!$E$27,ROWS($E$27:E63)-1,COLUMNS($E$27:E63)-1),\"\")","v":""},{"$f":"IF(OFFSET(DE104_5CWB!$F$27,ROWS($F$27:F63)-1,COLUMNS($F$27:F63)-1)<>\"\",OFFSET(DE104_5CWB!$F$27,ROWS($F$27:F63)-1,COLUMNS($F$27:F63)-1),\"\")","v":""},{"$f":"IF(OFFSET(DE104_5CWB!$G$27,ROWS($G$27:G63)-1,COLUMNS($G$27:G63)-1)<>\"\",OFFSET(DE104_5CWB!$G$27,ROWS($G$27:G63)-1,COLUMNS($G$27:G63)-1),\"\")","v":""},{"$f":"IF(OFFSET(DE104_5CWB!$H$27,ROWS($H$27:H63)-1,COLUMNS($H$27:H63)-1)<>\"\",OFFSET(DE104_5CWB!$H$27,ROWS($H$27:H63)-1,COLUMNS($H$27:H63)-1),\"\")","v":""},{"$f":"IF(OFFSET(DE104_5CWB!$I$27,ROWS($I$27:I63)-1,COLUMNS($I$27:I63)-1)<>\"\",OFFSET(DE104_5CWB!$I$27,ROWS($I$27:I63)-1,COLUMNS($I$27:I63)-1),\"\")","v":""},{"$f":"IF(OFFSET(DE104_5CWB!$J$27,ROWS($J$27:J63)-1,COLUMNS($J$27:J63)-1)<>\"\",OFFSET(DE104_5CWB!$J$27,ROWS($J$27:J63)-1,COLUMNS($J$27:J63)-1),\"\")","v":""},{"$f":"IF(OFFSET(DE104_5CWB!$K$27,ROWS($K$27:K63)-1,COLUMNS($K$27:K63)-1)<>\"\",OFFSET(DE104_5CWB!$K$27,ROWS($K$27:K63)-1,COLUMNS($K$27:K63)-1),\"\")","v":""},{"$f":"IF(OFFSET(DE104_5CWB!$L$27,ROWS($L$27:L63)-1,COLUMNS($L$27:L63)-1)<>\"\",OFFSET(DE104_5CWB!$L$27,ROWS($L$27:L63)-1,COLUMNS($L$27:L63)-1),\"\")","v":""},{"$f":"IF(OFFSET(DE104_5CWB!$M$27,ROWS($M$27:M63)-1,COLUMNS($M$27:M63)-1)<>\"\",OFFSET(DE104_5CWB!$M$27,ROWS($M$27:M63)-1,COLUMNS($M$27:M63)-1),\"\")","v":""},{"$f":"IF(OFFSET(DE104_5CWB!$N$27,ROWS($N$27:N63)-1,COLUMNS($N$27:N63)-1)<>\"\",OFFSET(DE104_5CWB!$N$27,ROWS($N$27:N63)-1,COLUMNS($N$27:N63)-1),\"\")","v":""},{"$f":"IF(OFFSET(DE104_5CWB!$O$27,ROWS($O$27:O63)-1,COLUMNS($O$27:O63)-1)<>\"\",OFFSET(DE104_5CWB!$O$27,ROWS($O$27:O63)-1,COLUMNS($O$27:O63)-1),\"\")","v":""},{"$f":"IF(OFFSET(DE104_5CWB!$P$27,ROWS($P$27:P63)-1,COLUMNS($P$27:P63)-1)<>\"\",OFFSET(DE104_5CWB!$P$27,ROWS($P$27:P63)-1,COLUMNS($P$27:P63)-1),\"\")","v":""},{"$f":"IF(OFFSET(DE104_5CWB!$Q$27,ROWS($Q$27:Q63)-1,COLUMNS($Q$27:Q63)-1)<>\"\",OFFSET(DE104_5CWB!$Q$27,ROWS($Q$27:Q63)-1,COLUMNS($Q$27:Q63)-1),\"\")","v":""},{"$f":"IF(OFFSET(DE104_5CWB!$R$27,ROWS($R$27:R63)-1,COLUMNS($R$27:R63)-1)<>\"\",OFFSET(DE104_5CWB!$R$27,ROWS($R$27:R63)-1,COLUMNS($R$27:R63)-1),\"\")","v":""},{"$f":"IF(OFFSET(DE104_5CWB!$S$27,ROWS($S$27:S63)-1,COLUMNS($S$27:S63)-1)<>\"\",OFFSET(DE104_5CWB!$S$27,ROWS($S$27:S63)-1,COLUMNS($S$27:S63)-1),\"\")","v":""},{"$f":"IF(OFFSET(DE104_5CWB!$T$27,ROWS($T$27:T63)-1,COLUMNS($T$27:T63)-1)<>\"\",OFFSET(DE104_5CWB!$T$27,ROWS($T$27:T63)-1,COLUMNS($T$27:T63)-1),\"\")","v":""},{"$f":"IF(OFFSET(DE104_5CWB!$U$27,ROWS($U$27:U63)-1,COLUMNS($U$27:U63)-1)<>\"\",OFFSET(DE104_5CWB!$U$27,ROWS($U$27:U63)-1,COLUMNS($U$27:U63)-1),\"\")","v":""},{"$f":"IF(OFFSET(DE104_5CWB!$V$27,ROWS($V$27:V63)-1,COLUMNS($V$27:V63)-1)<>\"\",OFFSET(DE104_5CWB!$V$27,ROWS($V$27:V63)-1,COLUMNS($V$27:V63)-1),\"\")","v":""}]
[{"$f":"IF(OFFSET(DE104_5CWB!$C$27,ROWS($C$27:C64)-1,COLUMNS($C$27:C64)-1)<>\"\",OFFSET(DE104_5CWB!$C$27,ROWS($C$27:C64)-1,COLUMNS($C$27:C64)-1),\"\")","v":""},{"$f":"IF(OFFSET(DE104_5CWB!$D$27,ROWS($D$27:D64)-1,COLUMNS($D$27:D64)-1)<>\"\",OFFSET(DE104_5CWB!$D$27,ROWS($D$27:D64)-1,COLUMNS($D$27:D64)-1),\"\")","v":""},{"$f":"IF(OFFSET(DE104_5CWB!$E$27,ROWS($E$27:E64)-1,COLUMNS($E$27:E64)-1)<>\"\",OFFSET(DE104_5CWB!$E$27,ROWS($E$27:E64)-1,COLUMNS($E$27:E64)-1),\"\")","v":""},{"$f":"IF(OFFSET(DE104_5CWB!$F$27,ROWS($F$27:F64)-1,COLUMNS($F$27:F64)-1)<>\"\",OFFSET(DE104_5CWB!$F$27,ROWS($F$27:F64)-1,COLUMNS($F$27:F64)-1),\"\")","v":""},{"$f":"IF(OFFSET(DE104_5CWB!$G$27,ROWS($G$27:G64)-1,COLUMNS($G$27:G64)-1)<>\"\",OFFSET(DE104_5CWB!$G$27,ROWS($G$27:G64)-1,COLUMNS($G$27:G64)-1),\"\")","v":""},{"$f":"IF(OFFSET(DE104_5CWB!$H$27,ROWS($H$27:H64)-1,COLUMNS($H$27:H64)-1)<>\"\",OFFSET(DE104_5CWB!$H$27,ROWS($H$27:H64)-1,COLUMNS($H$27:H64)-1),\"\")","v":""},{"$f":"IF(OFFSET(DE104_5CWB!$I$27,ROWS($I$27:I64)-1,COLUMNS($I$27:I64)-1)<>\"\",OFFSET(DE104_5CWB!$I$27,ROWS($I$27:I64)-1,COLUMNS($I$27:I64)-1),\"\")","v":""},{"$f":"IF(OFFSET(DE104_5CWB!$J$27,ROWS($J$27:J64)-1,COLUMNS($J$27:J64)-1)<>\"\",OFFSET(DE104_5CWB!$J$27,ROWS($J$27:J64)-1,COLUMNS($J$27:J64)-1),\"\")","v":""},{"$f":"IF(OFFSET(DE104_5CWB!$K$27,ROWS($K$27:K64)-1,COLUMNS($K$27:K64)-1)<>\"\",OFFSET(DE104_5CWB!$K$27,ROWS($K$27:K64)-1,COLUMNS($K$27:K64)-1),\"\")","v":""},{"$f":"IF(OFFSET(DE104_5CWB!$L$27,ROWS($L$27:L64)-1,COLUMNS($L$27:L64)-1)<>\"\",OFFSET(DE104_5CWB!$L$27,ROWS($L$27:L64)-1,COLUMNS($L$27:L64)-1),\"\")","v":""},{"$f":"IF(OFFSET(DE104_5CWB!$M$27,ROWS($M$27:M64)-1,COLUMNS($M$27:M64)-1)<>\"\",OFFSET(DE104_5CWB!$M$27,ROWS($M$27:M64)-1,COLUMNS($M$27:M64)-1),\"\")","v":""},{"$f":"IF(OFFSET(DE104_5CWB!$N$27,ROWS($N$27:N64)-1,COLUMNS($N$27:N64)-1)<>\"\",OFFSET(DE104_5CWB!$N$27,ROWS($N$27:N64)-1,COLUMNS($N$27:N64)-1),\"\")","v":""},{"$f":"IF(OFFSET(DE104_5CWB!$O$27,ROWS($O$27:O64)-1,COLUMNS($O$27:O64)-1)<>\"\",OFFSET(DE104_5CWB!$O$27,ROWS($O$27:O64)-1,COLUMNS($O$27:O64)-1),\"\")","v":""},{"$f":"IF(OFFSET(DE104_5CWB!$P$27,ROWS($P$27:P64)-1,COLUMNS($P$27:P64)-1)<>\"\",OFFSET(DE104_5CWB!$P$27,ROWS($P$27:P64)-1,COLUMNS($P$27:P64)-1),\"\")","v":""},{"$f":"IF(OFFSET(DE104_5CWB!$Q$27,ROWS($Q$27:Q64)-1,COLUMNS($Q$27:Q64)-1)<>\"\",OFFSET(DE104_5CWB!$Q$27,ROWS($Q$27:Q64)-1,COLUMNS($Q$27:Q64)-1),\"\")","v":""},{"$f":"IF(OFFSET(DE104_5CWB!$R$27,ROWS($R$27:R64)-1,COLUMNS($R$27:R64)-1)<>\"\",OFFSET(DE104_5CWB!$R$27,ROWS($R$27:R64)-1,COLUMNS($R$27:R64)-1),\"\")","v":""},{"$f":"IF(OFFSET(DE104_5CWB!$S$27,ROWS($S$27:S64)-1,COLUMNS($S$27:S64)-1)<>\"\",OFFSET(DE104_5CWB!$S$27,ROWS($S$27:S64)-1,COLUMNS($S$27:S64)-1),\"\")","v":""},{"$f":"IF(OFFSET(DE104_5CWB!$T$27,ROWS($T$27:T64)-1,COLUMNS($T$27:T64)-1)<>\"\",OFFSET(DE104_5CWB!$T$27,ROWS($T$27:T64)-1,COLUMNS($T$27:T64)-1),\"\")","v":""},{"$f":"IF(OFFSET(DE104_5CWB!$U$27,ROWS($U$27:U64)-1,COLUMNS($U$27:U64)-1)<>\"\",OFFSET(DE104_5CWB!$U$27,ROWS($U$27:U64)-1,COLUMNS($U$27:U64)-1),\"\")","v":""},{"$f":"IF(OFFSET(DE104_5CWB!$V$27,ROWS($V$27:V64)-1,COLUMNS($V$27:V64)-1)<>\"\",OFFSET(DE104_5CWB!$V$27,ROWS($V$27:V64)-1,COLUMNS($V$27:V64)-1),\"\")","v":""}]
[{"$f":"IF(OFFSET(DE104_5CWB!$C$27,ROWS($C$27:C65)-1,COLUMNS($C$27:C65)-1)<>\"\",OFFSET(DE104_5CWB!$C$27,ROWS($C$27:C65)-1,COLUMNS($C$27:C65)-1),\"\")","v":""},{"$f":"IF(OFFSET(DE104_5CWB!$D$27,ROWS($D$27:D65)-1,COLUMNS($D$27:D65)-1)<>\"\",OFFSET(DE104_5CWB!$D$27,ROWS($D$27:D65)-1,COLUMNS($D$27:D65)-1),\"\")","v":""},{"$f":"IF(OFFSET(DE104_5CWB!$E$27,ROWS($E$27:E65)-1,COLUMNS($E$27:E65)-1)<>\"\",OFFSET(DE104_5CWB!$E$27,ROWS($E$27:E65)-1,COLUMNS($E$27:E65)-1),\"\")","v":""},{"$f":"IF(OFFSET(DE104_5CWB!$F$27,ROWS($F$27:F65)-1,COLUMNS($F$27:F65)-1)<>\"\",OFFSET(DE104_5CWB!$F$27,ROWS($F$27:F65)-1,COLUMNS($F$27:F65)-1),\"\")","v":""},{"$f":"IF(OFFSET(DE104_5CWB!$G$27,ROWS($G$27:G65)-1,COLUMNS($G$27:G65)-1)<>\"\",OFFSET(DE104_5CWB!$G$27,ROWS($G$27:G65)-1,COLUMNS($G$27:G65)-1),\"\")","v":""},{"$f":"IF(OFFSET(DE104_5CWB!$H$27,ROWS($H$27:H65)-1,COLUMNS($H$27:H65)-1)<>\"\",OFFSET(DE104_5CWB!$H$27,ROWS($H$27:H65)-1,COLUMNS($H$27:H65)-1),\"\")","v":""},{"$f":"IF(OFFSET(DE104_5CWB!$I$27,ROWS($I$27:I65)-1,COLUMNS($I$27:I65)-1)<>\"\",OFFSET(DE104_5CWB!$I$27,ROWS($I$27:I65)-1,COLUMNS($I$27:I65)-1),\"\")","v":""},{"$f":"IF(OFFSET(DE104_5CWB!$J$27,ROWS($J$27:J65)-1,COLUMNS($J$27:J65)-1)<>\"\",OFFSET(DE104_5CWB!$J$27,ROWS($J$27:J65)-1,COLUMNS($J$27:J65)-1),\"\")","v":""},{"$f":"IF(OFFSET(DE104_5CWB!$K$27,ROWS($K$27:K65)-1,COLUMNS($K$27:K65)-1)<>\"\",OFFSET(DE104_5CWB!$K$27,ROWS($K$27:K65)-1,COLUMNS($K$27:K65)-1),\"\")","v":""},{"$f":"IF(OFFSET(DE104_5CWB!$L$27,ROWS($L$27:L65)-1,COLUMNS($L$27:L65)-1)<>\"\",OFFSET(DE104_5CWB!$L$27,ROWS($L$27:L65)-1,COLUMNS($L$27:L65)-1),\"\")","v":""},{"$f":"IF(OFFSET(DE104_5CWB!$M$27,ROWS($M$27:M65)-1,COLUMNS($M$27:M65)-1)<>\"\",OFFSET(DE104_5CWB!$M$27,ROWS($M$27:M65)-1,COLUMNS($M$27:M65)-1),\"\")","v":""},{"$f":"IF(OFFSET(DE104_5CWB!$N$27,ROWS($N$27:N65)-1,COLUMNS($N$27:N65)-1)<>\"\",OFFSET(DE104_5CWB!$N$27,ROWS($N$27:N65)-1,COLUMNS($N$27:N65)-1),\"\")","v":""},{"$f":"IF(OFFSET(DE104_5CWB!$O$27,ROWS($O$27:O65)-1,COLUMNS($O$27:O65)-1)<>\"\",OFFSET(DE104_5CWB!$O$27,ROWS($O$27:O65)-1,COLUMNS($O$27:O65)-1),\"\")","v":""},{"$f":"IF(OFFSET(DE104_5CWB!$P$27,ROWS($P$27:P65)-1,COLUMNS($P$27:P65)-1)<>\"\",OFFSET(DE104_5CWB!$P$27,ROWS($P$27:P65)-1,COLUMNS($P$27:P65)-1),\"\")","v":""},{"$f":"IF(OFFSET(DE104_5CWB!$Q$27,ROWS($Q$27:Q65)-1,COLUMNS($Q$27:Q65)-1)<>\"\",OFFSET(DE104_5CWB!$Q$27,ROWS($Q$27:Q65)-1,COLUMNS($Q$27:Q65)-1),\"\")","v":""},{"$f":"IF(OFFSET(DE104_5CWB!$R$27,ROWS($R$27:R65)-1,COLUMNS($R$27:R65)-1)<>\"\",OFFSET(DE104_5CWB!$R$27,ROWS($R$27:R65)-1,COLUMNS($R$27:R65)-1),\"\")","v":""},{"$f":"IF(OFFSET(DE104_5CWB!$S$27,ROWS($S$27:S65)-1,COLUMNS($S$27:S65)-1)<>\"\",OFFSET(DE104_5CWB!$S$27,ROWS($S$27:S65)-1,COLUMNS($S$27:S65)-1),\"\")","v":""},{"$f":"IF(OFFSET(DE104_5CWB!$T$27,ROWS($T$27:T65)-1,COLUMNS($T$27:T65)-1)<>\"\",OFFSET(DE104_5CWB!$T$27,ROWS($T$27:T65)-1,COLUMNS($T$27:T65)-1),\"\")","v":""},{"$f":"IF(OFFSET(DE104_5CWB!$U$27,ROWS($U$27:U65)-1,COLUMNS($U$27:U65)-1)<>\"\",OFFSET(DE104_5CWB!$U$27,ROWS($U$27:U65)-1,COLUMNS($U$27:U65)-1),\"\")","v":""},{"$f":"IF(OFFSET(DE104_5CWB!$V$27,ROWS($V$27:V65)-1,COLUMNS($V$27:V65)-1)<>\"\",OFFSET(DE104_5CWB!$V$27,ROWS($V$27:V65)-1,COLUMNS($V$27:V65)-1),\"\")","v":""}]
[{"$f":"IF(OFFSET(DE104_5CWB!$C$27,ROWS($C$27:C66)-1,COLUMNS($C$27:C66)-1)<>\"\",OFFSET(DE104_5CWB!$C$27,ROWS($C$27:C66)-1,COLUMNS($C$27:C66)-1),\"\")","v":""},{"$f":"IF(OFFSET(DE104_5CWB!$D$27,ROWS($D$27:D66)-1,COLUMNS($D$27:D66)-1)<>\"\",OFFSET(DE104_5CWB!$D$27,ROWS($D$27:D66)-1,COLUMNS($D$27:D66)-1),\"\")","v":""},{"$f":"IF(OFFSET(DE104_5CWB!$E$27,ROWS($E$27:E66)-1,COLUMNS($E$27:E66)-1)<>\"\",OFFSET(DE104_5CWB!$E$27,ROWS($E$27:E66)-1,COLUMNS($E$27:E66)-1),\"\")","v":""},{"$f":"IF(OFFSET(DE104_5CWB!$F$27,ROWS($F$27:F66)-1,COLUMNS($F$27:F66)-1)<>\"\",OFFSET(DE104_5CWB!$F$27,ROWS($F$27:F66)-1,COLUMNS($F$27:F66)-1),\"\")","v":""},{"$f":"IF(OFFSET(DE104_5CWB!$G$27,ROWS($G$27:G66)-1,COLUMNS($G$27:G66)-1)<>\"\",OFFSET(DE104_5CWB!$G$27,ROWS($G$27:G66)-1,COLUMNS($G$27:G66)-1),\"\")","v":""},{"$f":"IF(OFFSET(DE104_5CWB!$H$27,ROWS($H$27:H66)-1,COLUMNS($H$27:H66)-1)<>\"\",OFFSET(DE104_5CWB!$H$27,ROWS($H$27:H66)-1,COLUMNS($H$27:H66)-1),\"\")","v":""},{"$f":"IF(OFFSET(DE104_5CWB!$I$27,ROWS($I$27:I66)-1,COLUMNS($I$27:I66)-1)<>\"\",OFFSET(DE104_5CWB!$I$27,ROWS($I$27:I66)-1,COLUMNS($I$27:I66)-1),\"\")","v":""},{"$f":"IF(OFFSET(DE104_5CWB!$J$27,ROWS($J$27:J66)-1,COLUMNS($J$27:J66)-1)<>\"\",OFFSET(DE104_5CWB!$J$27,ROWS($J$27:J66)-1,COLUMNS($J$27:J66)-1),\"\")","v":""},{"$f":"IF(OFFSET(DE104_5CWB!$K$27,ROWS($K$27:K66)-1,COLUMNS($K$27:K66)-1)<>\"\",OFFSET(DE104_5CWB!$K$27,ROWS($K$27:K66)-1,COLUMNS($K$27:K66)-1),\"\")","v":""},{"$f":"IF(OFFSET(DE104_5CWB!$L$27,ROWS($L$27:L66)-1,COLUMNS($L$27:L66)-1)<>\"\",OFFSET(DE104_5CWB!$L$27,ROWS($L$27:L66)-1,COLUMNS($L$27:L66)-1),\"\")","v":""},{"$f":"IF(OFFSET(DE104_5CWB!$M$27,ROWS($M$27:M66)-1,COLUMNS($M$27:M66)-1)<>\"\",OFFSET(DE104_5CWB!$M$27,ROWS($M$27:M66)-1,COLUMNS($M$27:M66)-1),\"\")","v":""},{"$f":"IF(OFFSET(DE104_5CWB!$N$27,ROWS($N$27:N66)-1,COLUMNS($N$27:N66)-1)<>\"\",OFFSET(DE104_5CWB!$N$27,ROWS($N$27:N66)-1,COLUMNS($N$27:N66)-1),\"\")","v":""},{"$f":"IF(OFFSET(DE104_5CWB!$O$27,ROWS($O$27:O66)-1,COLUMNS($O$27:O66)-1)<>\"\",OFFSET(DE104_5CWB!$O$27,ROWS($O$27:O66)-1,COLUMNS($O$27:O66)-1),\"\")","v":""},{"$f":"IF(OFFSET(DE104_5CWB!$P$27,ROWS($P$27:P66)-1,COLUMNS($P$27:P66)-1)<>\"\",OFFSET(DE104_5CWB!$P$27,ROWS($P$27:P66)-1,COLUMNS($P$27:P66)-1),\"\")","v":""},{"$f":"IF(OFFSET(DE104_5CWB!$Q$27,ROWS($Q$27:Q66)-1,COLUMNS($Q$27:Q66)-1)<>\"\",OFFSET(DE104_5CWB!$Q$27,ROWS($Q$27:Q66)-1,COLUMNS($Q$27:Q66)-1),\"\")","v":""},{"$f":"IF(OFFSET(DE104_5CWB!$R$27,ROWS($R$27:R66)-1,COLUMNS($R$27:R66)-1)<>\"\",OFFSET(DE104_5CWB!$R$27,ROWS($R$27:R66)-1,COLUMNS($R$27:R66)-1),\"\")","v":""},{"$f":"IF(OFFSET(DE104_5CWB!$S$27,ROWS($S$27:S66)-1,COLUMNS($S$27:S66)-1)<>\"\",OFFSET(DE104_5CWB!$S$27,ROWS($S$27:S66)-1,COLUMNS($S$27:S66)-1),\"\")","v":""},{"$f":"IF(OFFSET(DE104_5CWB!$T$27,ROWS($T$27:T66)-1,COLUMNS($T$27:T66)-1)<>\"\",OFFSET(DE104_5CWB!$T$27,ROWS($T$27:T66)-1,COLUMNS($T$27:T66)-1),\"\")","v":""},{"$f":"IF(OFFSET(DE104_5CWB!$U$27,ROWS($U$27:U66)-1,COLUMNS($U$27:U66)-1)<>\"\",OFFSET(DE104_5CWB!$U$27,ROWS($U$27:U66)-1,COLUMNS($U$27:U66)-1),\"\")","v":""},{"$f":"IF(OFFSET(DE104_5CWB!$V$27,ROWS($V$27:V66)-1,COLUMNS($V$27:V66)-1)<>\"\",OFFSET(DE104_5CWB!$V$27,ROWS($V$27:V66)-1,COLUMNS($V$27:V66)-1),\"\")","v":""}]
[{"$f":"IF(OFFSET(DE104_5CWB!$C$27,ROWS($C$27:C67)-1,COLUMNS($C$27:C67)-1)<>\"\",OFFSET(DE104_5CWB!$C$27,ROWS($C$27:C67)-1,COLUMNS($C$27:C67)-1),\"\")","v":""},{"$f":"IF(OFFSET(DE104_5CWB!$D$27,ROWS($D$27:D67)-1,COLUMNS($D$27:D67)-1)<>\"\",OFFSET(DE104_5CWB!$D$27,ROWS($D$27:D67)-1,COLUMNS($D$27:D67)-1),\"\")","v":""},{"$f":"IF(OFFSET(DE104_5CWB!$E$27,ROWS($E$27:E67)-1,COLUMNS($E$27:E67)-1)<>\"\",OFFSET(DE104_5CWB!$E$27,ROWS($E$27:E67)-1,COLUMNS($E$27:E67)-1),\"\")","v":""},{"$f":"IF(OFFSET(DE104_5CWB!$F$27,ROWS($F$27:F67)-1,COLUMNS($F$27:F67)-1)<>\"\",OFFSET(DE104_5CWB!$F$27,ROWS($F$27:F67)-1,COLUMNS($F$27:F67)-1),\"\")","v":""},{"$f":"IF(OFFSET(DE104_5CWB!$G$27,ROWS($G$27:G67)-1,COLUMNS($G$27:G67)-1)<>\"\",OFFSET(DE104_5CWB!$G$27,ROWS($G$27:G67)-1,COLUMNS($G$27:G67)-1),\"\")","v":""},{"$f":"IF(OFFSET(DE104_5CWB!$H$27,ROWS($H$27:H67)-1,COLUMNS($H$27:H67)-1)<>\"\",OFFSET(DE104_5CWB!$H$27,ROWS($H$27:H67)-1,COLUMNS($H$27:H67)-1),\"\")","v":""},{"$f":"IF(OFFSET(DE104_5CWB!$I$27,ROWS($I$27:I67)-1,COLUMNS($I$27:I67)-1)<>\"\",OFFSET(DE104_5CWB!$I$27,ROWS($I$27:I67)-1,COLUMNS($I$27:I67)-1),\"\")","v":""},{"$f":"IF(OFFSET(DE104_5CWB!$J$27,ROWS($J$27:J67)-1,COLUMNS($J$27:J67)-1)<>\"\",OFFSET(DE104_5CWB!$J$27,ROWS($J$27:J67)-1,COLUMNS($J$27:J67)-1),\"\")","v":""},{"$f":"IF(OFFSET(DE104_5CWB!$K$27,ROWS($K$27:K67)-1,COLUMNS($K$27:K67)-1)<>\"\",OFFSET(DE104_5CWB!$K$27,ROWS($K$27:K67)-1,COLUMNS($K$27:K67)-1),\"\")","v":""},{"$f":"IF(OFFSET(DE104_5CWB!$L$27,ROWS($L$27:L67)-1,COLUMNS($L$27:L67)-1)<>\"\",OFFSET(DE104_5CWB!$L$27,ROWS($L$27:L67)-1,COLUMNS($L$27:L67)-1),\"\")","v":""},{"$f":"IF(OFFSET(DE104_5CWB!$M$27,ROWS($M$27:M67)-1,COLUMNS($M$27:M67)-1)<>\"\",OFFSET(DE104_5CWB!$M$27,ROWS($M$27:M67)-1,COLUMNS($M$27:M67)-1),\"\")","v":""},{"$f":"IF(OFFSET(DE104_5CWB!$N$27,ROWS($N$27:N67)-1,COLUMNS($N$27:N67)-1)<>\"\",OFFSET(DE104_5CWB!$N$27,ROWS($N$27:N67)-1,COLUMNS($N$27:N67)-1),\"\")","v":""},{"$f":"IF(OFFSET(DE104_5CWB!$O$27,ROWS($O$27:O67)-1,COLUMNS($O$27:O67)-1)<>\"\",OFFSET(DE104_5CWB!$O$27,ROWS($O$27:O67)-1,COLUMNS($O$27:O67)-1),\"\")","v":""},{"$f":"IF(OFFSET(DE104_5CWB!$P$27,ROWS($P$27:P67)-1,COLUMNS($P$27:P67)-1)<>\"\",OFFSET(DE104_5CWB!$P$27,ROWS($P$27:P67)-1,COLUMNS($P$27:P67)-1),\"\")","v":""},{"$f":"IF(OFFSET(DE104_5CWB!$Q$27,ROWS($Q$27:Q67)-1,COLUMNS($Q$27:Q67)-1)<>\"\",OFFSET(DE104_5CWB!$Q$27,ROWS($Q$27:Q67)-1,COLUMNS($Q$27:Q67)-1),\"\")","v":""},{"$f":"IF(OFFSET(DE104_5CWB!$R$27,ROWS($R$27:R67)-1,COLUMNS($R$27:R67)-1)<>\"\",OFFSET(DE104_5CWB!$R$27,ROWS($R$27:R67)-1,COLUMNS($R$27:R67)-1),\"\")","v":""},{"$f":"IF(OFFSET(DE104_5CWB!$S$27,ROWS($S$27:S67)-1,COLUMNS($S$27:S67)-1)<>\"\",OFFSET(DE104_5CWB!$S$27,ROWS($S$27:S67)-1,COLUMNS($S$27:S67)-1),\"\")","v":""},{"$f":"IF(OFFSET(DE104_5CWB!$T$27,ROWS($T$27:T67)-1,COLUMNS($T$27:T67)-1)<>\"\",OFFSET(DE104_5CWB!$T$27,ROWS($T$27:T67)-1,COLUMNS($T$27:T67)-1),\"\")","v":""},{"$f":"IF(OFFSET(DE104_5CWB!$U$27,ROWS($U$27:U67)-1,COLUMNS($U$27:U67)-1)<>\"\",OFFSET(DE104_5CWB!$U$27,ROWS($U$27:U67)-1,COLUMNS($U$27:U67)-1),\"\")","v":""},{"$f":"IF(OFFSET(DE104_5CWB!$V$27,ROWS($V$27:V67)-1,COLUMNS($V$27:V67)-1)<>\"\",OFFSET(DE104_5CWB!$V$27,ROWS($V$27:V67)-1,COLUMNS($V$27:V67)-1),\"\")","v":""}]
[{"$f":"IF(OFFSET(DE104_5CWB!$C$27,ROWS($C$27:C68)-1,COLUMNS($C$27:C68)-1)<>\"\",OFFSET(DE104_5CWB!$C$27,ROWS($C$27:C68)-1,COLUMNS($C$27:C68)-1),\"\")","v":""},{"$f":"IF(OFFSET(DE104_5CWB!$D$27,ROWS($D$27:D68)-1,COLUMNS($D$27:D68)-1)<>\"\",OFFSET(DE104_5CWB!$D$27,ROWS($D$27:D68)-1,COLUMNS($D$27:D68)-1),\"\")","v":""},{"$f":"IF(OFFSET(DE104_5CWB!$E$27,ROWS($E$27:E68)-1,COLUMNS($E$27:E68)-1)<>\"\",OFFSET(DE104_5CWB!$E$27,ROWS($E$27:E68)-1,COLUMNS($E$27:E68)-1),\"\")","v":""},{"$f":"IF(OFFSET(DE104_5CWB!$F$27,ROWS($F$27:F68)-1,COLUMNS($F$27:F68)-1)<>\"\",OFFSET(DE104_5CWB!$F$27,ROWS($F$27:F68)-1,COLUMNS($F$27:F68)-1),\"\")","v":""},{"$f":"IF(OFFSET(DE104_5CWB!$G$27,ROWS($G$27:G68)-1,COLUMNS($G$27:G68)-1)<>\"\",OFFSET(DE104_5CWB!$G$27,ROWS($G$27:G68)-1,COLUMNS($G$27:G68)-1),\"\")","v":""},{"$f":"IF(OFFSET(DE104_5CWB!$H$27,ROWS($H$27:H68)-1,COLUMNS($H$27:H68)-1)<>\"\",OFFSET(DE104_5CWB!$H$27,ROWS($H$27:H68)-1,COLUMNS($H$27:H68)-1),\"\")","v":""},{"$f":"IF(OFFSET(DE104_5CWB!$I$27,ROWS($I$27:I68)-1,COLUMNS($I$27:I68)-1)<>\"\",OFFSET(DE104_5CWB!$I$27,ROWS($I$27:I68)-1,COLUMNS($I$27:I68)-1),\"\")","v":""},{"$f":"IF(OFFSET(DE104_5CWB!$J$27,ROWS($J$27:J68)-1,COLUMNS($J$27:J68)-1)<>\"\",OFFSET(DE104_5CWB!$J$27,ROWS($J$27:J68)-1,COLUMNS($J$27:J68)-1),\"\")","v":""},{"$f":"IF(OFFSET(DE104_5CWB!$K$27,ROWS($K$27:K68)-1,COLUMNS($K$27:K68)-1)<>\"\",OFFSET(DE104_5CWB!$K$27,ROWS($K$27:K68)-1,COLUMNS($K$27:K68)-1),\"\")","v":""},{"$f":"IF(OFFSET(DE104_5CWB!$L$27,ROWS($L$27:L68)-1,COLUMNS($L$27:L68)-1)<>\"\",OFFSET(DE104_5CWB!$L$27,ROWS($L$27:L68)-1,COLUMNS($L$27:L68)-1),\"\")","v":""},{"$f":"IF(OFFSET(DE104_5CWB!$M$27,ROWS($M$27:M68)-1,COLUMNS($M$27:M68)-1)<>\"\",OFFSET(DE104_5CWB!$M$27,ROWS($M$27:M68)-1,COLUMNS($M$27:M68)-1),\"\")","v":""},{"$f":"IF(OFFSET(DE104_5CWB!$N$27,ROWS($N$27:N68)-1,COLUMNS($N$27:N68)-1)<>\"\",OFFSET(DE104_5CWB!$N$27,ROWS($N$27:N68)-1,COLUMNS($N$27:N68)-1),\"\")","v":""},{"$f":"IF(OFFSET(DE104_5CWB!$O$27,ROWS($O$27:O68)-1,COLUMNS($O$27:O68)-1)<>\"\",OFFSET(DE104_5CWB!$O$27,ROWS($O$27:O68)-1,COLUMNS($O$27:O68)-1),\"\")","v":""},{"$f":"IF(OFFSET(DE104_5CWB!$P$27,ROWS($P$27:P68)-1,COLUMNS($P$27:P68)-1)<>\"\",OFFSET(DE104_5CWB!$P$27,ROWS($P$27:P68)-1,COLUMNS($P$27:P68)-1),\"\")","v":""},{"$f":"IF(OFFSET(DE104_5CWB!$Q$27,ROWS($Q$27:Q68)-1,COLUMNS($Q$27:Q68)-1)<>\"\",OFFSET(DE104_5CWB!$Q$27,ROWS($Q$27:Q68)-1,COLUMNS($Q$27:Q68)-1),\"\")","v":""},{"$f":"IF(OFFSET(DE104_5CWB!$R$27,ROWS($R$27:R68)-1,COLUMNS($R$27:R68)-1)<>\"\",OFFSET(DE104_5CWB!$R$27,ROWS($R$27:R68)-1,COLUMNS($R$27:R68)-1),\"\")","v":""},{"$f":"IF(OFFSET(DE104_5CWB!$S$27,ROWS($S$27:S68)-1,COLUMNS($S$27:S68)-1)<>\"\",OFFSET(DE104_5CWB!$S$27,ROWS($S$27:S68)-1,COLUMNS($S$27:S68)-1),\"\")","v":""},{"$f":"IF(OFFSET(DE104_5CWB!$T$27,ROWS($T$27:T68)-1,COLUMNS($T$27:T68)-1)<>\"\",OFFSET(DE104_5CWB!$T$27,ROWS($T$27:T68)-1,COLUMNS($T$27:T68)-1),\"\")","v":""},{"$f":"IF(OFFSET(DE104_5CWB!$U$27,ROWS($U$27:U68)-1,COLUMNS($U$27:U68)-1)<>\"\",OFFSET(DE104_5CWB!$U$27,ROWS($U$27:U68)-1,COLUMNS($U$27:U68)-1),\"\")","v":""},{"$f":"IF(OFFSET(DE104_5CWB!$V$27,ROWS($V$27:V68)-1,COLUMNS($V$27:V68)-1)<>\"\",OFFSET(DE104_5CWB!$V$27,ROWS($V$27:V68)-1,COLUMNS($V$27:V68)-1),\"\")","v":""}]
[{"$f":"IF(OFFSET(DE104_5CWB!$C$27,ROWS($C$27:C69)-1,COLUMNS($C$27:C69)-1)<>\"\",OFFSET(DE104_5CWB!$C$27,ROWS($C$27:C69)-1,COLUMNS($C$27:C69)-1),\"\")","v":""},{"$f":"IF(OFFSET(DE104_5CWB!$D$27,ROWS($D$27:D69)-1,COLUMNS($D$27:D69)-1)<>\"\",OFFSET(DE104_5CWB!$D$27,ROWS($D$27:D69)-1,COLUMNS($D$27:D69)-1),\"\")","v":""},{"$f":"IF(OFFSET(DE104_5CWB!$E$27,ROWS($E$27:E69)-1,COLUMNS($E$27:E69)-1)<>\"\",OFFSET(DE104_5CWB!$E$27,ROWS($E$27:E69)-1,COLUMNS($E$27:E69)-1),\"\")","v":""},{"$f":"IF(OFFSET(DE104_5CWB!$F$27,ROWS($F$27:F69)-1,COLUMNS($F$27:F69)-1)<>\"\",OFFSET(DE104_5CWB!$F$27,ROWS($F$27:F69)-1,COLUMNS($F$27:F69)-1),\"\")","v":""},{"$f":"IF(OFFSET(DE104_5CWB!$G$27,ROWS($G$27:G69)-1,COLUMNS($G$27:G69)-1)<>\"\",OFFSET(DE104_5CWB!$G$27,ROWS($G$27:G69)-1,COLUMNS($G$27:G69)-1),\"\")","v":""},{"$f":"IF(OFFSET(DE104_5CWB!$H$27,ROWS($H$27:H69)-1,COLUMNS($H$27:H69)-1)<>\"\",OFFSET(DE104_5CWB!$H$27,ROWS($H$27:H69)-1,COLUMNS($H$27:H69)-1),\"\")","v":""},{"$f":"IF(OFFSET(DE104_5CWB!$I$27,ROWS($I$27:I69)-1,COLUMNS($I$27:I69)-1)<>\"\",OFFSET(DE104_5CWB!$I$27,ROWS($I$27:I69)-1,COLUMNS($I$27:I69)-1),\"\")","v":""},{"$f":"IF(OFFSET(DE104_5CWB!$J$27,ROWS($J$27:J69)-1,COLUMNS($J$27:J69)-1)<>\"\",OFFSET(DE104_5CWB!$J$27,ROWS($J$27:J69)-1,COLUMNS($J$27:J69)-1),\"\")","v":""},{"$f":"IF(OFFSET(DE104_5CWB!$K$27,ROWS($K$27:K69)-1,COLUMNS($K$27:K69)-1)<>\"\",OFFSET(DE104_5CWB!$K$27,ROWS($K$27:K69)-1,COLUMNS($K$27:K69)-1),\"\")","v":""},{"$f":"IF(OFFSET(DE104_5CWB!$L$27,ROWS($L$27:L69)-1,COLUMNS($L$27:L69)-1)<>\"\",OFFSET(DE104_5CWB!$L$27,ROWS($L$27:L69)-1,COLUMNS($L$27:L69)-1),\"\")","v":""},{"$f":"IF(OFFSET(DE104_5CWB!$M$27,ROWS($M$27:M69)-1,COLUMNS($M$27:M69)-1)<>\"\",OFFSET(DE104_5CWB!$M$27,ROWS($M$27:M69)-1,COLUMNS($M$27:M69)-1),\"\")","v":""},{"$f":"IF(OFFSET(DE104_5CWB!$N$27,ROWS($N$27:N69)-1,COLUMNS($N$27:N69)-1)<>\"\",OFFSET(DE104_5CWB!$N$27,ROWS($N$27:N69)-1,COLUMNS($N$27:N69)-1),\"\")","v":""},{"$f":"IF(OFFSET(DE104_5CWB!$O$27,ROWS($O$27:O69)-1,COLUMNS($O$27:O69)-1)<>\"\",OFFSET(DE104_5CWB!$O$27,ROWS($O$27:O69)-1,COLUMNS($O$27:O69)-1),\"\")","v":""},{"$f":"IF(OFFSET(DE104_5CWB!$P$27,ROWS($P$27:P69)-1,COLUMNS($P$27:P69)-1)<>\"\",OFFSET(DE104_5CWB!$P$27,ROWS($P$27:P69)-1,COLUMNS($P$27:P69)-1),\"\")","v":""},{"$f":"IF(OFFSET(DE104_5CWB!$Q$27,ROWS($Q$27:Q69)-1,COLUMNS($Q$27:Q69)-1)<>\"\",OFFSET(DE104_5CWB!$Q$27,ROWS($Q$27:Q69)-1,COLUMNS($Q$27:Q69)-1),\"\")","v":""},{"$f":"IF(OFFSET(DE104_5CWB!$R$27,ROWS($R$27:R69)-1,COLUMNS($R$27:R69)-1)<>\"\",OFFSET(DE104_5CWB!$R$27,ROWS($R$27:R69)-1,COLUMNS($R$27:R69)-1),\"\")","v":""},{"$f":"IF(OFFSET(DE104_5CWB!$S$27,ROWS($S$27:S69)-1,COLUMNS($S$27:S69)-1)<>\"\",OFFSET(DE104_5CWB!$S$27,ROWS($S$27:S69)-1,COLUMNS($S$27:S69)-1),\"\")","v":""},{"$f":"IF(OFFSET(DE104_5CWB!$T$27,ROWS($T$27:T69)-1,COLUMNS($T$27:T69)-1)<>\"\",OFFSET(DE104_5CWB!$T$27,ROWS($T$27:T69)-1,COLUMNS($T$27:T69)-1),\"\")","v":""},{"$f":"IF(OFFSET(DE104_5CWB!$U$27,ROWS($U$27:U69)-1,COLUMNS($U$27:U69)-1)<>\"\",OFFSET(DE104_5CWB!$U$27,ROWS($U$27:U69)-1,COLUMNS($U$27:U69)-1),\"\")","v":""},{"$f":"IF(OFFSET(DE104_5CWB!$V$27,ROWS($V$27:V69)-1,COLUMNS($V$27:V69)-1)<>\"\",OFFSET(DE104_5CWB!$V$27,ROWS($V$27:V69)-1,COLUMNS($V$27:V69)-1),\"\")","v":""}]
[{"$f":"IF(OFFSET(DE104_5CWB!$C$27,ROWS($C$27:C70)-1,COLUMNS($C$27:C70)-1)<>\"\",OFFSET(DE104_5CWB!$C$27,ROWS($C$27:C70)-1,COLUMNS($C$27:C70)-1),\"\")","v":""},{"$f":"IF(OFFSET(DE104_5CWB!$D$27,ROWS($D$27:D70)-1,COLUMNS($D$27:D70)-1)<>\"\",OFFSET(DE104_5CWB!$D$27,ROWS($D$27:D70)-1,COLUMNS($D$27:D70)-1),\"\")","v":""},{"$f":"IF(OFFSET(DE104_5CWB!$E$27,ROWS($E$27:E70)-1,COLUMNS($E$27:E70)-1)<>\"\",OFFSET(DE104_5CWB!$E$27,ROWS($E$27:E70)-1,COLUMNS($E$27:E70)-1),\"\")","v":""},{"$f":"IF(OFFSET(DE104_5CWB!$F$27,ROWS($F$27:F70)-1,COLUMNS($F$27:F70)-1)<>\"\",OFFSET(DE104_5CWB!$F$27,ROWS($F$27:F70)-1,COLUMNS($F$27:F70)-1),\"\")","v":""},{"$f":"IF(OFFSET(DE104_5CWB!$G$27,ROWS($G$27:G70)-1,COLUMNS($G$27:G70)-1)<>\"\",OFFSET(DE104_5CWB!$G$27,ROWS($G$27:G70)-1,COLUMNS($G$27:G70)-1),\"\")","v":""},{"$f":"IF(OFFSET(DE104_5CWB!$H$27,ROWS($H$27:H70)-1,COLUMNS($H$27:H70)-1)<>\"\",OFFSET(DE104_5CWB!$H$27,ROWS($H$27:H70)-1,COLUMNS($H$27:H70)-1),\"\")","v":""},{"$f":"IF(OFFSET(DE104_5CWB!$I$27,ROWS($I$27:I70)-1,COLUMNS($I$27:I70)-1)<>\"\",OFFSET(DE104_5CWB!$I$27,ROWS($I$27:I70)-1,COLUMNS($I$27:I70)-1),\"\")","v":""},{"$f":"IF(OFFSET(DE104_5CWB!$J$27,ROWS($J$27:J70)-1,COLUMNS($J$27:J70)-1)<>\"\",OFFSET(DE104_5CWB!$J$27,ROWS($J$27:J70)-1,COLUMNS($J$27:J70)-1),\"\")","v":""},{"$f":"IF(OFFSET(DE104_5CWB!$K$27,ROWS($K$27:K70)-1,COLUMNS($K$27:K70)-1)<>\"\",OFFSET(DE104_5CWB!$K$27,ROWS($K$27:K70)-1,COLUMNS($K$27:K70)-1),\"\")","v":""},{"$f":"IF(OFFSET(DE104_5CWB!$L$27,ROWS($L$27:L70)-1,COLUMNS($L$27:L70)-1)<>\"\",OFFSET(DE104_5CWB!$L$27,ROWS($L$27:L70)-1,COLUMNS($L$27:L70)-1),\"\")","v":""},{"$f":"IF(OFFSET(DE104_5CWB!$M$27,ROWS($M$27:M70)-1,COLUMNS($M$27:M70)-1)<>\"\",OFFSET(DE104_5CWB!$M$27,ROWS($M$27:M70)-1,COLUMNS($M$27:M70)-1),\"\")","v":""},{"$f":"IF(OFFSET(DE104_5CWB!$N$27,ROWS($N$27:N70)-1,COLUMNS($N$27:N70)-1)<>\"\",OFFSET(DE104_5CWB!$N$27,ROWS($N$27:N70)-1,COLUMNS($N$27:N70)-1),\"\")","v":""},{"$f":"IF(OFFSET(DE104_5CWB!$O$27,ROWS($O$27:O70)-1,COLUMNS($O$27:O70)-1)<>\"\",OFFSET(DE104_5CWB!$O$27,ROWS($O$27:O70)-1,COLUMNS($O$27:O70)-1),\"\")","v":""},{"$f":"IF(OFFSET(DE104_5CWB!$P$27,ROWS($P$27:P70)-1,COLUMNS($P$27:P70)-1)<>\"\",OFFSET(DE104_5CWB!$P$27,ROWS($P$27:P70)-1,COLUMNS($P$27:P70)-1),\"\")","v":""},{"$f":"IF(OFFSET(DE104_5CWB!$Q$27,ROWS($Q$27:Q70)-1,COLUMNS($Q$27:Q70)-1)<>\"\",OFFSET(DE104_5CWB!$Q$27,ROWS($Q$27:Q70)-1,COLUMNS($Q$27:Q70)-1),\"\")","v":""},{"$f":"IF(OFFSET(DE104_5CWB!$R$27,ROWS($R$27:R70)-1,COLUMNS($R$27:R70)-1)<>\"\",OFFSET(DE104_5CWB!$R$27,ROWS($R$27:R70)-1,COLUMNS($R$27:R70)-1),\"\")","v":""},{"$f":"IF(OFFSET(DE104_5CWB!$S$27,ROWS($S$27:S70)-1,COLUMNS($S$27:S70)-1)<>\"\",OFFSET(DE104_5CWB!$S$27,ROWS($S$27:S70)-1,COLUMNS($S$27:S70)-1),\"\")","v":""},{"$f":"IF(OFFSET(DE104_5CWB!$T$27,ROWS($T$27:T70)-1,COLUMNS($T$27:T70)-1)<>\"\",OFFSET(DE104_5CWB!$T$27,ROWS($T$27:T70)-1,COLUMNS($T$27:T70)-1),\"\")","v":""},{"$f":"IF(OFFSET(DE104_5CWB!$U$27,ROWS($U$27:U70)-1,COLUMNS($U$27:U70)-1)<>\"\",OFFSET(DE104_5CWB!$U$27,ROWS($U$27:U70)-1,COLUMNS($U$27:U70)-1),\"\")","v":""},{"$f":"IF(OFFSET(DE104_5CWB!$V$27,ROWS($V$27:V70)-1,COLUMNS($V$27:V70)-1)<>\"\",OFFSET(DE104_5CWB!$V$27,ROWS($V$27:V70)-1,COLUMNS($V$27:V70)-1),\"\")","v":""}]

{"sheet":"PrintSheetTemplate","index":22,"n_rows":95,"n_cols":179,"rows_kept":95,"cut":false,"hidden":true,"merged":[[93,171,93,178],[94,1,94,178],[93,101,93,106],[93,107,93,118],[93,119,93,148],[93,149,93,158],[93,159,93,164],[93,165,93,170],[93,1,93,7],[93,8,93,14],[93,15,93,21],[93,22,93,30],[93,31,93,64],[93,65,93,100]]}
[" "]
[]
[]
[]
[]
[]
[]
[]
[]
[]
[]
[]
[]
[]
[]
[]
[]
[]
[]
[]
[]
[]
[]
[]
[]
[]
[]
[]
[]
[]
[]
[]
[]
[]
[]
[]
[]
[]
[]
[]
[]
[]
[]
[]
[]
[]
[]
[]
[]
[]
[]
[]
[]
[]
[]
[]
[]
[]
[]
[]
[]
[]
[]
[]
[]
[]
[]
[]
[]
[]
[]
[]
[]
[]
[]
[]
[]
[]
[]
[]
[]
[]
[]
[]
[]
[]
[]
[]
[]
[]
[]
[]
[null,"","","","","","","","","","","","","","","","","","","","","","","","","","","","","","","","","","","","","","","","","","","","","","","","","","","","","","","","","","","","","","","","","","","","","","","","","","","","","","","","","","","","","","","","","","","","","","","","","","","","","","","","","","","","","","","","","","","","","","","","","","","","","","","","","","","","","","","","","","","","","","","","","","","","","","","",null,"","","","","","","","","","","","","","","","","","","","","","","","","",""]
[null,"FILE NO.",null,null,null,null,null,null,{"$f":"IF(ProjectInformation!$B$11<>\"\",ProjectInformation!$B$11,\"\")","v":""},null,null,null,null,null,null,{"$f":"UPPER(ProjectInformation!$B$8)","v":"ENGLISH"},null,null,null,null,null,null,"DESIGN TEAM",null,null,null,null,null,null,null,null,{"$f":"IF(AND(ProjectInformation!$B$3<>\"\",ProjectInformation!$B$4<>\"\",ProjectInformation!$B$5<>\"\"),ProjectInformation!$B$3&\"\\\"&ProjectInformation!$B$4&\"\\\"&ProjectInformation!$B$5,IF(AND(ProjectInformation!$B$3<>\"\",ProjectInformation!$B$4<>\"\"),ProjectInformation!$B$3&\"\\\"&ProjectInformation!$B$4,IF(ProjectInformation!$B$3<>\"\",ProjectInformation!$B$3,\"\")))","v":""},null,null,null,null,null,null,null,null,null,null,null,null,null,null,null,null,null,null,null,null,null,null,null,null,null,null,null,null,null,null,null,null,null,{"$f":"IF(ProjectInformation!$B$6<>\"\",ProjectInformation!$B$6,\"\")","v":"TAMA"},null,null,null,null,null,null,null,null,null,null,null,null,null,null,null,null,null,null,null,null,null,null,null,null,null,null,null,null,null,null,null,null,null,null,null,"COUNTY",null,null,null,null,null,"PROJECT NUMBER",null,null,null,null,null,null,null,null,null,null,null,{"$f":"IF(ProjectInformation!$B$7<>\"\",ProjectInformation!$B$7,\"\")","v":"NHSX-030-6(189)--3H-86"},null,null,null,null,null,null,null,null,null,null,null,null,null,null,null,null,null,null,null,null,null,null,null,null,null,null,null,null,null,"SHEET NUMBER",null,null,null,null,null,null,null,null,null,null,null,null,null,null,null,{"$f":"IF(FP94<>\"\",\"REVISED\",\"\")","v":""},null,null,null,null,null,{"$f":"IF(ProjectInformation!$B$9<>\"\",ProjectInformation!$B$9,\"\")","v":""}]
[""]

{"sheet":"Note1","index":23,"n_rows":1,"n_cols":1,"rows_kept":1,"cut":false,"hidden":true,"merged":[[0,0,2,0]]}
["SEE V SHEETS FOR ADDITIONAL BID ITEMS AND QUANTITIES"]

{"sheet":"BridgeBlock","index":24,"n_rows":4,"n_cols":14,"rows_kept":4,"cut":false,"hidden":true,"merged":[[2,2,2,8],[3,2,3,7],[2,9,2,12],[3,8,3,12]]}
[2]
[null,"","","","","","","","","","","","",""]
[null,null,"Design No.",null,null,null,null,null,null,{"$f":"IF(#REF!<>\"\",#REF!,\"\")","v":{"$error":"#REF!"}}]
[null,null,"File No.",null,null,null,null,null,{"$f":"IF(#REF!<>\"\",#REF!,\"\")","v":{"$error":"#REF!"}}]

{"sheet":"Index","index":25,"n_rows":164,"n_cols":15,"rows_kept":164,"cut":false,"hidden":true,"merged":[]}
["100-0A","1997-10-28","4.5.6","ADAIR",null,"Live English File Path","W:\\Highway\\Design\\RoadDesignDetails\\ExcelTabs\\",null,"Brian R. Smith","bsmith2","Methods","ROADWAY DESIGN",null,"103_7(1)","="]
["100-1A","1997-07-15","10/01/15","ADAMS",null,"Live Metric File Path","W:\\Highway\\Design\\RoadDesignDetails\\ExcelTabs\\MetricTabs\\",null,"Khyle B. Clute","kclute","Methods","ROADWAY DESIGN",null,"104_6(1)","="]
["100-1C","2012-04-17","CS","ALLAMAKEE",null,"Index File Path","W:\\Highway\\Design\\RoadDesignDetails\\PDFsandWebFiles\\Indexes\\",null,"Thomas M. Hamski","thamski","Methods","ROADWAY DESIGN",null,"103_6(1)","="]
["100-1D","2005-10-18",null,"APPANOOSE",null,"Index File Name","TNT_EnglishIndexes.xlsx",null,"Wesley L. Mayberry","wmayber","Methods","ROADWAY DESIGN",null,"103_10(1)","='103_10'!$A$1:$G$29"]
["100-4A","2002-10-29",null,"AUDUBON",null,"Last Revision English File Path","W:\\Highway\\Design\\RoadDesignDetails\\Old_Details\\ExcelTabs\\",null,"John M. Narigon","jnarigo","Methods","ROADWAY DESIGN",null,"107_31SUR(1)","='107_31SUR'!$A$1:$D$18"]
["100-7","2012-10-16",null,"BENTON",null,"Last Revision Metric File Path","W:\\Highway\\Design\\RoadDesignDetails\\Old_Details\\ExcelTabs\\MetricTabs\\",null,"Christopher Poole","cpoole","Methods","ROADWAY DESIGN",null,"104_5CEX(1)","='104_5CEX'!$A$1:$T$19"]
["100-10","2011-10-18",null,"BLACK HAWK",null,"Seed Path","W:\\Highway\\Design\\CADD\\SpreadSheets\\ExcelTabulations.xltm",null,"Daniel J. Harness","dharnes","Methods","ROADWAY DESIGN",null,"103_5PIE(1)","='103_5PIE'!$A$1:$D$22"]
["100-11","2008-08-01",null,"BOONE",null,"VersionCheck Path","W:\\Highway\\Design\\CADD\\SpreadSheets\\ExcelTabulations.xlsm",null,"Jason M. Holst","jholst","Road1","ROADWAY DESIGN",null,"104_5CWB(1)","='104_5CWB'!$A$1:$T$57"]
["100-12","2008-08-01",null,"BREMER",null,"Standard Road Plan Path","W:\\Highway\\Design\\StandardRoadPlans\\PDFsAndWebFiles\\Indexes\\SRP_EnglishIndex.xls",null,"Jason R. Strum","jstrum","Road1","ROADWAY DESIGN",null,"103_5SP(1)","='103_5SP'!$A$1:$D$36"]
["100-12A","2008-08-01",null,"BUCHANAN",null,"Last Revision Standard Road Plan Path","W:\\Highway\\Design\\StandardRoadPlans\\PDFsAndWebFiles\\Old_Indexes\\SRP_EnglishIndex.xls",null,"Robert A. Schoenrock","rschoen","Road1","ROADWAY DESIGN",null,"104_9(1)","='104_9'!$A$1:$R$90"]
["100-13","2010-04-20",null,"BUENA VISTA",null,"AddIn Path","W:\\Highway\\Design\\CADD\\SpreadSheets\\ExcelTabulations.xlam",null,"Stacy M. Ryan","sryan","Road1","ROADWAY DESIGN",null,"104_9(2)","='104_9'!$A$91:$R$146"]
["100-14","2010-04-20",null,"BUTLER",null,"Old Files Path","W:\\Highway\\Design\\RoadDesignDetails\\Old_Details\\ExcelTabs\\",null,"Nathan A. Thede","nthede","Road1","ROADWAY DESIGN"]
["100-15","2010-04-20",null,"CALHOUN",null,null,null,null,"Yanxiao Jia","yjia","Road2","ROADWAY DESIGN"]
["100-16","2010-10-19",null,"CARROLL",null,null,null,null,"Ryan R. Miller","rmille3","Road2","ROADWAY DESIGN"]
["100-17","2010-04-20",null,"CASS",null,null,null,null,"Dustin T. Skogerboe","dskoge2","Road2","ROADWAY DESIGN"]
["100-18","2010-04-20",null,"CEDAR",null,null,null,null,"Dung T. Ta","dta","Road2","ROADWAY DESIGN"]
["100-19","2012-10-16",null,"CERRO GORDO",null,null,null,null,"Allison L. P. Smyth","asmyth","Road2","ROADWAY DESIGN"]
["100-20","2008-08-01",null,"CHEROKEE",null,null,null,null,"Paul W. Flattery","pflatte","Road3","ROADWAY DESIGN"]
["100-21","2008-08-01",null,"CHICKASAW",null,null,null,null,"Kelly C. Bell","kbell","Road3","ROADWAY DESIGN"]
["100-22","2008-08-01",null,"CLARKE",null,null,null,null,"Angela K. Johnson","ajohns1","Road3","ROADWAY DESIGN"]
["100-23","2010-10-19",null,"CLAY",null,null,null,null,"Elijah D. Gansen","egansen","Road3","ROADWAY DESIGN"]
["100-24","2013-04-16",null,"CLAYTON",null,null,null,null,"James R. Schoenrock","jschoen","Consultant","ROADWAY DESIGN"]
["100-26","2008-08-01",null,"CLINTON",null,null,null,null,"Randall E. Schlei","rschlie","Consultant","ROADWAY DESIGN"]
["100-27","2009-10-20",null,"CRAWFORD",null,null,null,null,"Mark D. Mastellar","mmastel","Roadside","ROADWAY DESIGN"]
["100-28","2010-10-19",null,"DALLAS",null,null,null,null,"Robert L. Stanley","rstanle","Soils","GEOTECHNICAL DESIGN"]
["101-4","2002-04-30",null,"DAVIS",null,null,null,null,"Stephen J. Megivern","smegive","Soils","GEOTECHNICAL DESIGN"]
["101-5","2002-04-30",null,"DECATUR",null,null,null,null,"Mark A. Dell","mdell","Soils","GEOTECHNICAL DESIGN"]
["101-6","2002-04-30",null,"DELAWARE",null,null,null,null,"David R. Claman","dclaman","Bridge","HYDRAULIC DESIGN"]
["101-7","2002-04-30",null,"DES MOINES",null,null,null,null,"Zachary K. Abrams","zabrams","TrafficAndSafety","ROADWAY DESIGN"]
["101-8","2013-04-16",null,"DICKINSON"]
["101-13","2004-04-20",null,"DUBUQUE"]
["101-16","2009-10-20",null,"EMMET"]
["101-17","2011-04-19",null,"FAYETTE"]
["101-18","2011-04-19",null,"FLOYD"]
["102-3","2013-04-16",null,"FRANKLIN"]
["102-4","2011-10-18",null,"FREMONT"]
["102-5","2012-10-16",null,"GREENE"]
["102-5A","2008-08-01",null,"GRUNDY"]
["102-6C","2011-10-18",null,"GUTHRIE"]
["102-10","2008-08-01",null,"HAMILTON"]
["102-11","2008-08-01",null,"HANCOCK"]
["102-12","2008-08-01",null,"HARDIN"]
["102-14","2012-04-17",null,"HARRISON"]
["102-15","2008-08-01",null,"HENRY"]
["103-1","2010-10-19",null,"HOWARD"]
["103-3","2012-10-16",null,"HUMBOLDT"]
["103-4","2011-04-19",null,"IDA"]
["103-5","2008-08-01",null,"IOWA"]
["103-6","2011-04-19",null,"JACKSON"]
["103-7","2008-08-01",null,"JASPER"]
["104-3","2012-10-16",null,"JEFFERSON"]
["104-4","2009-10-20",null,"JOHNSON"]
["104-5A","2011-10-18",null,"JONES"]
["104-5B","2011-10-18",null,"KEOKUK"]
["104-5C","2012-04-17",null,"KOSSUTH"]
["104-8","2008-08-01",null,"LEE"]
["104-8A","2010-04-20",null,"LINN"]
["104-9","2012-04-17",null,"LOUISA"]
["104-10","2008-08-01",null,"LUCAS"]
["104-11","2008-08-01",null,"LYON"]
["104-12","2012-10-16",null,"MADISON"]
["104-13","2013-04-16",null,"MAHASKA"]
["105-1","1994-09-27",null,"MARION"]
["105-3","2005-10-18",null,"MARSHALL"]
["105-4","2011-10-18",null,"MILLS"]
["106-1","2008-08-01",null,"MITCHELL"]
["106-2","2008-08-01",null,"MONONA"]
["106-3","2008-08-01",null,"MONROE"]
["106-4","2013-04-16",null,"MONTGOMERY"]
["106-5","2008-08-01",null,"MUSCATINE"]
["106-7","2008-08-01",null,"O'BRIEN"]
["106-8","2011-04-19",null,"OSCEOLA"]
["107-7","2008-08-01",null,"PAGE"]
["107-22","2013-04-16",null,"PALO ALTO"]
["107-23","2011-10-18",null,"PLYMOUTH"]
["107-24","2008-08-01",null,"POCAHONTAS"]
["107-25","2008-08-01",null,"POLK"]
["107-29","2012-04-17",null,"POTTAWATTAMIE"]
["107-30","2012-04-17",null,"POWESHIEK"]
["107-31","2011-04-19",null,"RINGGOLD"]
["108-1","2008-08-01",null,"SAC"]
["108-2","2008-08-01",null,"SCOTT"]
["108-2A","2008-08-01",null,"SHELBY"]
["108-8A","2010-10-19",null,"SIOUX"]
["108-8B","2011-10-18",null,"STORY"]
["108-8C","2011-10-18",null,"TAMA"]
["108-8D","2010-10-19",null,"TAYLOR"]
["108-9A","2010-04-20",null,"UNION"]
["108-11A","2008-08-01",null,"VAN BUREN"]
["108-12","2008-08-01",null,"WAPELLO"]
["108-13A","2008-08-01",null,"WARREN"]
["108-15","2008-08-01",null,"WASHINGTON"]
["108-16","2010-10-19",null,"WAYNE"]
["108-18","2011-10-18",null,"WEBSTER"]
["108-18B","2012-10-16",null,"WINNEBAGO"]
["108-22","2013-04-16",null,"WINNESHIEK"]
["108-23A","2008-08-01",null,"WOODBURY"]
["108-24","2011-04-19",null,"WORTH"]
["108-26A","2008-08-01",null,"WRIGHT"]
["108-27","2012-10-16"]
["108-28","2008-08-01",null,"SeriesList.xlsx"]
["108-29","2012-10-16"]
["108-30","2013-04-16"]
["108-33","2013-04-16"]
["108-34","2010-10-19"]
["108-35","2012-04-17"]
["110-1","2013-04-16"]
["110-2","2013-04-16"]
["110-3","2008-08-01"]
["110-4","2008-08-01"]
["110-5","2008-08-01"]
["110-6","2008-08-01"]
["110-7A","2012-04-17"]
["110-7B","2010-10-19"]
["110-8","2008-08-01"]
["110-9","2011-10-18"]
["110-10","2008-08-01"]
["110-11","2008-08-01"]
["110-12A","2013-04-16"]
["110-13","2010-04-20"]
["110-14","2013-04-16"]
["110-15","2013-04-16"]
["110-16","2013-04-16"]
["111-1","2012-04-17"]
["111-2","1989-02-28"]
["111-23","2002-10-29"]
["111-25","2011-10-18"]
["112-3","2013-04-16"]
["112-5","2008-08-01"]
["112-6","2013-04-16"]
["112-7","2010-10-19"]
["112-8","2012-10-16"]
["112-9","2012-04-17"]
["112-10","2011-04-19"]
["113-1","2013-04-16"]
["113-2","2013-04-16"]
["113-3","2011-10-18"]
["113-10","2012-10-16"]
["213-2","2011-10-18"]
["213-3","2011-10-18"]
["231-1","2011-10-18"]
["231-2","2012-10-16"]
["232-3A","2012-10-16"]
["232-3B","2012-10-16"]
["232-3C","2012-10-16"]
["232-3D","2012-10-16"]
["232-4","2011-10-18"]
["232-6","2011-10-18"]
["232-7","2012-10-16"]
["232-9","2011-10-18"]
["232-11","2012-10-16"]
["241-5","2011-10-18"]
["252-1","2012-10-16"]
["253-1","2011-10-18"]
["254-1","2001-10-02"]
["262-3","2012-10-16"]
["262-4","2013-04-16"]
["262-5","2005-10-18"]
["262-6","2005-10-18"]
["263-1","2011-10-18"]
["271-1","2011-10-18"]
["271-2","1985-08-20"]
["271-4","2011-10-18"]
["271-9","1994-09-27"]