{"text_format":"1","workbook":"xlsx","n_sheets":7,"sheets":["WWD Crashes","Non-Crash Events","Intersections","Weight Based","Cameras","Camera Sheet for DTS","Location Sheet For Snyder"],"not_rendered":{"charts":0,"images":0,"macros":1,"external_links":0,"defined_names":6,"comments":10,"pivot_tables":0},"unopened":[],"bounds":{"document_bytes":16777216,"sheet_cells":100000,"rows_first":2000,"rows_last":500,"rows_between":2000,"halvings":0,"cell_chars":16384,"cell_head_chars":4096},"cells_cut":0,"cells_raw":0,"read":"whole","date_system":"1900"}

{"sheet":"WWD Crashes","index":0,"n_rows":378,"n_cols":14,"rows_kept":378,"cut":false,"hidden":false,"merged":[]}
["CASENUMBER","Date","Interchange","Interchange ID","Major AADT","Minor AADT","Certainty","COUNTY","Direction","Possible/Unknown Injuries","Minor Injuries","Major Injuries","Fatalities","PROPDMG"]
[2008416086,"2008-01-10","I-235 & Keosauqua Way",501,91300,13800,1,"Polk","EB in WB",0,0,0,0,3000]
[2008419331,"2008-01-20","I-29 & Bunge Ave",41,19000,5000,1,"Mills","SB in NB",0,3,0,0,20000]
[2008430552,"2008-02-21","US-61 & Main St",365,8200,4900,1,"Jackson","NB in SB",0,0,0,0,19000]
[2008428344,"2008-02-26","I-80 & Hubbell Ave",272,42800,13700,0,"Polk","WB in EB",0,0,0,0,3000]
[2008434985,"2008-04-01","US-30 & University Blvd",337,18300,15400,1,"Story","WB in EB",2,1,0,0,1500]
[2008435399,"2008-04-05","I- 29 W & 1ST ST",80,{"$f":"VLOOKUP(C7,Intersections!A:F,6,FALSE)","v":25600},{"$f":"VLOOKUP(C7,Intersections!A:G,7,FALSE)","v":6800},0.25,"Woodbury","NB in SB",0,0,0,0,11500]
[2008435399,"2008-04-05","I-29 & Singing Hills Blvd",133,42000,13600,0.75,"Woodbury","NB in SB",0,0,0,0,11500]
[2008437216,"2008-04-18","I-80 & IA-415/2nd St",122,101100,35800,1,"Polk","WB in EB",0,0,0,0,9200]
[2008445199,"2008-06-10","US-30 & 6th Ave",373,11100,6300,1,"Clinton","EB in WB",0,0,0,0,3000]
[2008448093,"2008-06-20","IA-163 & IA-92",301,10600,11000,0.99,"Mahaska","WB in EB",0,1,2,0,8500]
[2008451179,"2008-07-03","US-218 & IA-16",null,{"$f":"VLOOKUP(C12,Intersections!A:F,6,FALSE)","v":8900},{"$f":"VLOOKUP(C12,Intersections!A:G,7,FALSE)","v":1150},0.25,"Lee","NB in SB",0,0,0,1,17000]
[2008451179,"2008-07-03","US-218 & IA-2",202,6500,3380,0.75,"Lee","NB in SB",0,0,0,1,17000]
[2008452578,"2008-07-27","Nebraska",null,18000,null,1,"Woodbury","EB in WB",0,0,0,0,1000]
[2008455788,"2008-08-14","I-380 SE RAMP & IA-150",247,{"$f":"VLOOKUP(C15,Intersections!A:F,6,FALSE)","v":21000},{"$f":"VLOOKUP(C15,Intersections!A:G,7,FALSE)","v":4820},0.25,"Buchanan","NB in SB",0,1,0,2,37000]
[2008455788,"2008-08-14","I-380 SE RAMP & 54 ST TRL",244,{"$f":"VLOOKUP(C16,Intersections!A:F,6,FALSE)","v":24100},{"$f":"VLOOKUP(C16,Intersections!A:G,7,FALSE)","v":4490},0.25,"Buchanan","NB in SB",0,1,0,2,37000]
[2008455788,"2008-08-14","I-380 & 330th St",248,17700,1560,0.5,"Buchanan","NB in SB",0,1,0,2,37000]
[2008466363,"2008-09-06","US-20 RAMP & CENTER AVE S/PLACID RD",220,{"$f":"VLOOKUP(C18,Intersections!A:F,6,FALSE)","v":13800},{"$f":"VLOOKUP(C18,Intersections!A:G,7,FALSE)","v":4100},0.25,"Dubuque","EB in WB",0,0,3,0,35000]
[2008466363,"2008-09-06","US-20 & 1st St",219,{"$f":"VLOOKUP(C19,Intersections!A:F,6,FALSE)","v":14300},{"$f":"VLOOKUP(C19,Intersections!A:G,7,FALSE)","v":1860},0.25,"Dubuque","EB in WB",0,0,3,0,35000]
[2008466363,"2008-09-06","US-20 & Peosta St",221,18000,8600,0.5,"Dubuque","EB in WB",0,0,3,0,35000]
[2008475036,"2008-09-21","I-80 & 1st Ave",419,64300,24200,1,"Johnson","WB in EB",0,1,1,1,25000]
[2008488002,"2008-12-09","I-35 & Corporate Woods Dr",137,{"$f":"VLOOKUP(C22,Intersections!A:F,6,FALSE)","v":89800},{"$f":"VLOOKUP(C22,Intersections!A:G,7,FALSE)","v":18700},0.5,"Polk","SB in NB",3,0,1,1,17500]
[2008488002,"2008-12-09","I-35 & Oralabor Rd",141,80700,30200,0.5,"Polk","SB in NB",3,0,1,1,17500]
[2008476953,"2008-12-10","US-20 & Charles Ave",null,11300,400,1,"Woodbury","WB in EB",0,0,4,0,17000]
[2008491849,"2008-12-26","I-80 & Division St",116,27100,4620,1,"Adair","EB in WB",0,0,0,0,2100]
[2008481695,"2008-12-28","US-218 & Greenhill Rd",298,27500,6900,1,"Black Hawk","NB in SB",0,0,0,0,1500]
[2009484384,"2009-01-07","I-80 SW RAMP/LOOP & MIDDLE RD",425,{"$f":"VLOOKUP(C27,Intersections!A:F,6,FALSE)","v":34400},{"$f":"VLOOKUP(C27,Intersections!A:G,7,FALSE)","v":6400},0.5,"Scott","EB in WB",0,0,0,0,5000]
[2009484384,"2009-01-07","US-61 NE RAMP & E 90TH ST/210 ST",399,{"$f":"VLOOKUP(C28,Intersections!A:F,6,FALSE)","v":42200},{"$f":"VLOOKUP(C28,Intersections!A:G,7,FALSE)","v":8200},0.5,"Scott","EB in WB",0,0,0,0,5000]
[2009493938,"2009-02-12","I-380 & County Home Rd",241,34400,12800,1,"Linn","SB in NB",2,0,0,0,5250]
[2009498158,"2009-03-05","I 35 N & US 18 W",48,{"$f":"VLOOKUP(C30,Intersections!A:F,6,FALSE)","v":16000},{"$f":"VLOOKUP(C30,Intersections!A:G,7,FALSE)","v":22100},0.25,"Cerro Gordo","SB in NB",1,0,0,0,2200]
[2009498158,"2009-03-05","I-35 & 4th Ave",52,21600,5900,0.75,"Cerro Gordo","SB in NB",1,0,0,0,2200]
[2009507578,"2009-05-20","I-29 & Floyd Blvd",454,37700,7099,1E-4,"Woodbury","SB in NB",1,1,0,2,255500]
[2009514228,"2009-06-14","I-380 & 1st St",466,{"$f":"VLOOKUP(C33,Intersections!A:F,6,FALSE)","v":79400},{"$f":"VLOOKUP(C33,Intersections!A:G,7,FALSE)","v":4550},0.75,"Linn","NB in SB",0,0,0,1,20000]
[2009514228,"2009-06-14","I-380 & 1st Ave",465,{"$f":"VLOOKUP(C34,Intersections!A:F,6,FALSE)","v":79400},{"$f":"VLOOKUP(C34,Intersections!A:G,7,FALSE)","v":22500},0.25,"Linn","NB in SB",0,0,0,1,20000]
[2009521041,"2009-07-02","US-30 & Story St",null,11700,6700,0.99,"Boone","EB in WB",0,0,0,0,11000]
[2009521268,"2009-08-19","I-35 & Grand Ave",54,53700,4660,0.99,"Polk","NB in SB",0,1,0,1,50000]
[2009534971,"2009-09-29","I-80 & 1st Ave",419,64300,24200,1,"Johnson","WB in EB",0,0,0,0,5500]
[2009531827,"2009-10-01","U-Turn",null,0,0,0.5,"Boone","EB in WB",0,0,0,0,6000]
[2009545387,"2009-11-11","US-30 & 6th Ave",373,{"$f":"VLOOKUP(C39,Intersections!A:F,6,FALSE)","v":11100},{"$f":"VLOOKUP(C39,Intersections!A:G,7,FALSE)","v":6300},0.25,"Clinton","EB in WB",0,0,1,1,10000]
[2009536948,"2009-11-14","US-61 & Main St",365,{"$f":"VLOOKUP(C40,Intersections!A:F,6,FALSE)","v":8200},{"$f":"VLOOKUP(C40,Intersections!A:G,7,FALSE)","v":4900},0.75,"Jackson","NB in SB",0,0,0,0,3500]
[2009536948,"2009-11-14","US-61 & IA-64",363,8200,7600,null,"Jackson","NB in SB",0,0,0,0,3500]
[2009538822,"2009-11-25","U-Turn",null,24400,0,1,"Story","EB in WB",0,0,0,2,45000]
[2009561753,"2009-12-05","US-75 & IA-3",99,{"$f":"VLOOKUP(C43,Intersections!A:F,6,FALSE)","v":7800},{"$f":"VLOOKUP(C43,Intersections!A:G,7,FALSE)","v":4510},0.5,"Plymouth","NB in SB",0,0,1,0,42000]
[2009561753,"2009-12-05","US-75 & 24th St",94,{"$f":"VLOOKUP(C44,Intersections!A:F,6,FALSE)","v":12900},{"$f":"VLOOKUP(C44,Intersections!A:G,7,FALSE)","v":7700},0.5,"Plymouth","NB in SB",0,0,1,0,42000]
[2009544434,"2009-12-23","I-80 & US-6",160,29500,7900,0.99,"Pottawattamie","WB in EB",1,1,0,0,11000]
[2010547550,"2010-01-01","US-67 & 2nd St",539,33400,11500,1,"Scott","SB in NB",0,1,0,0,5000]
[2010546164,"2010-01-03","US-169 & Kenyon Rd",null,8700,8000,1,"Webster","SB in NB",1,0,0,0,5500]
[2010548583,"2010-01-07","US-218 & Greenhill Rd",298,27500,6900,1,"Black Hawk","NB in SB",1,0,1,0,13000]
[2010547828,"2010-01-11","I-380 & Glass Rd",460,83100,13900,0.99,"Linn","NB in SB",0,0,0,0,1200]
[2010549862,"2010-01-16","U-Turn",56,0,0,1,"Pottawattamie","EB in WB",0,0,0,0,1000]
[2010552832,"2010-01-31","I-29 & 9th Ave",418,{"$f":"VLOOKUP(C51,Intersections!A:F,6,FALSE)","v":39100},{"$f":"VLOOKUP(C51,Intersections!A:G,7,FALSE)","v":8100},0.79,"Pottawattamie","NB in SB",1,0,0,0,20000]
[2010552832,"2010-01-31","Nebraska",null,{"$f":"VLOOKUP(C52,Intersections!A:F,6,FALSE)","v":0},{"$f":"VLOOKUP(C52,Intersections!A:G,7,FALSE)","v":0},0.2,"Pottawattamie","NB in SB",1,0,0,0,20000]
[2010552832,"2010-01-31","I-29 & Ave G",417,22700,3450,0.01,"Pottawattamie","NB in SB",1,0,0,0,20000]
[2010562563,"2010-03-01","I-80 & IA-21",352,{"$f":"VLOOKUP(C54,Intersections!A:F,6,FALSE)","v":28700},{"$f":"VLOOKUP(C54,Intersections!A:G,7,FALSE)","v":3430},1,"Poweshiek","EB in WB",0,0,0,0,1500]
[2010569964,"2010-03-08","Fork",null,{"$f":"VLOOKUP(C55,Intersections!A:F,6,FALSE)","v":0},{"$f":"VLOOKUP(C55,Intersections!A:G,7,FALSE)","v":0},0.5,"Benton","EB in WB",1,0,0,0,16000]
[2010569964,"2010-03-08","US-30 & IA-287",null,10700,1250,0.5,"Benton","EB in WB",1,0,0,0,16000]
[2010562600,"2010-03-10","I-29 & IA-141",71,18400,3560,0.99,"Woodbury","NB in SB",0,1,2,0,1500]
[2010565003,"2010-03-27","US-61 & IA-64",363,{"$f":"VLOOKUP(C58,Intersections!A:F,6,FALSE)","v":8200},{"$f":"VLOOKUP(C58,Intersections!A:G,7,FALSE)","v":7600},0.25,"Clinton","SB in NB",3,0,0,0,7000]
[2010565003,"2010-03-27","US-61 & Main St",365,8200,4900,0.75,"Clinton","SB in NB",3,0,0,0,7000]
[2010576787,"2010-06-12","I-280 & US-6",444,{"$f":"VLOOKUP(C60,Intersections!A:F,6,FALSE)","v":22400},{"$f":"VLOOKUP(C60,Intersections!A:G,7,FALSE)","v":6600},0.75,"Scott","EB in WB",1,0,0,1,11000]
[2010576787,"2010-06-12","I-280 & Locust St",433,24400,8800,0.25,"Scott","EB in WB",1,0,0,1,11000]
[2010578422,"2010-06-24","I-35 & Merle Hay Rd",120,{"$f":"VLOOKUP(C62,Intersections!A:F,6,FALSE)","v":101100},{"$f":"VLOOKUP(C62,Intersections!A:G,7,FALSE)","v":30600},1,"Polk","WB in EB",0,0,1,0,2500]
[2010580661,"2010-07-08","I-680 & CR-L34",15,{"$f":"VLOOKUP(C63,Intersections!A:F,6,FALSE)","v":6600},{"$f":"VLOOKUP(C63,Intersections!A:G,7,FALSE)","v":800},0.25,"Pottawattamie","SB in NB",0,0,0,0,3000]
[2010580661,"2010-07-08","I-680 & Missouri Valley Eastbound Rest Area",null,6600,0,0.75,"Pottawattamie","SB in NB",0,0,0,0,3000]
[2010580853,"2010-07-10","I-235 & 7th St/5th Ave",470,{"$f":"VLOOKUP(C65,Intersections!A:F,6,FALSE)","v":91800},{"$f":"VLOOKUP(C65,Intersections!A:G,7,FALSE)","v":9100},0.5,"Polk","WB in EB",0,0,0,0,1500]
[2010580853,"2010-07-10","I-235 & Keosauqua Way",501,91300,13800,0.5,"Polk","WB in EB",0,0,0,0,1500]
[2010585255,"2010-08-04","I-80 & US-65",259,{"$f":"VLOOKUP(C67,Intersections!A:F,6,FALSE)","v":65400},{"$f":"VLOOKUP(C67,Intersections!A:G,7,FALSE)","v":15900},0.25,"Polk","WB in EB",0,1,0,0,9500]
[2010585255,"2010-08-04","I-80 & Hubbell Ave",272,{"$f":"VLOOKUP(C68,Intersections!A:F,6,FALSE)","v":42800},{"$f":"VLOOKUP(C68,Intersections!A:G,7,FALSE)","v":13700},0.25,"Polk","WB in EB",0,1,0,0,9500]
[2010585255,"2010-08-04","I 80 E & NE 72ND ST/1ST AVE N",278,{"$f":"VLOOKUP(C69,Intersections!A:F,6,FALSE)","v":45100},{"$f":"VLOOKUP(C69,Intersections!A:G,7,FALSE)","v":11000},0.25,"Polk","WB in EB",0,1,0,0,9500]
[2010587945,"2010-08-22","I 80 E & I 80 E TO HWY F-48 W E",292,{"$f":"VLOOKUP(C70,Intersections!A:F,6,FALSE)","v":31300},{"$f":"VLOOKUP(C70,Intersections!A:G,7,FALSE)","v":3850},0.5,"Jasper","WB in EB",1,0,0,0,11000]
[2010587945,"2010-08-22","I-80 & IA-117",287,32100,6900,0.5,"Jasper","WB in EB",1,0,0,0,11000]
[2010595934,"2010-10-05","US-34 & 235th St",313,{"$f":"VLOOKUP(C72,Intersections!A:F,6,FALSE)","v":7400},{"$f":"VLOOKUP(C72,Intersections!A:G,7,FALSE)","v":2010},0.25,"Jefferson","WB in EB",0,0,0,0,6500]
[2010595934,"2010-10-05","US-34 & Wintergreen Blvd",null,6900,760,0.75,"Jefferson","WB in EB",0,0,0,0,6500]
[2011620158,"2011-02-21","I-29 & 275th St",74,19300,1050,0.99,"Woodbury","SB in NB",0,1,0,1,18000]
[2011628997,"2011-05-08","I-35 & Mills Civic Pkwy",57,73200,20500,1,"Polk","NB in SB",0,0,0,0,14000]
[2011636200,"2011-05-14","US 63 E RAMP & FAYETTE ST",264,{"$f":"VLOOKUP(C76,Intersections!A:F,6,FALSE)","v":5900},{"$f":"VLOOKUP(C76,Intersections!A:G,7,FALSE)","v":3200},0.25,"Black Hawk","SB in NB",0,1,0,0,7000]
[2011636200,"2011-05-14","US-63 & State St",null,{"$f":"VLOOKUP(C77,Intersections!A:F,6,FALSE)","v":9000},{"$f":"VLOOKUP(C77,Intersections!A:G,7,FALSE)","v":3120},0.25,"Black Hawk","SB in NB",0,1,0,0,7000]
[2011636200,"2011-05-14","US-63 & Cedar Wapsi Rd",null,9300,3370,0.5,"Black Hawk","SB in NB",0,1,0,0,7000]
[2011632220,"2011-05-22","I-29 & IA-333",13,14100,1450,0.99,"Fremont","NB in SB",0,2,0,0,25000]
[2011639843,"2011-07-23","IA-100 & Center Point Rd",452,25300,13100,0.99,"Linn","WB in EB",0,0,0,0,10000]
[2011640529,"2011-07-29","US-218 & Sergeant Rd",261,25500,7000,0.99,"Black Hawk","NB in SB",0,0,0,0,2000]
[2011647085,"2011-09-12","I-80 SW RAMP/LOOP & MIDDLE RD",425,{"$f":"VLOOKUP(C82,Intersections!A:F,6,FALSE)","v":34400},{"$f":"VLOOKUP(C82,Intersections!A:G,7,FALSE)","v":6400},1,"Scott","EB in WB",0,0,0,0,8000]
[2011649090,"2011-09-28","Fork",null,13500,0,1,"Linn","WB in EB",0,1,0,0,18500]
[2011654387,"2011-10-26","U-Turn",null,9000,0,1,"Des Moines","EB in WB",0,1,0,0,20000]
[2011656309,"2011-10-28","US-30 & IA-330",360,8900,11700,0.99,"Marshall","NB in SB",0,0,4,0,14500]
[2011658461,"2011-10-29","US-61 & 65th St",null,28700,11100,1,"Scott","NB in SB",0,0,1,0,12000]
[2011656668,"2011-11-11","IA-5 & 9th St",390,27500,8400,0.99,"Warren","WB in EB",1,1,0,0,10000]
[2011658454,"2011-11-18","I-74 & 53rd St",523,{"$f":"VLOOKUP(C88,Intersections!A:F,6,FALSE)","v":36600},{"$f":"VLOOKUP(C88,Intersections!A:G,7,FALSE)","v":44900},0.5,"Scott","EB in WB",0,0,0,0,22000]
[2011658454,"2011-11-18","I-74 & US-6/Spruce Hills Dr",434,49800,33700,0.5,"Scott","EB in WB",0,0,0,0,22000]
[2012666522,"2012-01-01","US-20 & 330th Ave/CR-X49",null,{"$f":"VLOOKUP(C90,Intersections!A:F,6,FALSE)","v":12000},{"$f":"VLOOKUP(C90,Intersections!A:G,7,FALSE)","v":3960},0.5,"Delaware","WB in EB",0,1,0,1,27000]
[2012666522,"2012-01-01","US-20 & 270th Ave",331,8800,1710,0.5,"Delaware","WB in EB",0,1,0,1,27000]
[2012667607,"2012-01-04","US-30 & 3rd St/CR-S14",null,{"$f":"VLOOKUP(C92,Intersections!A:F,6,FALSE)","v":{"$error":"#N/A"}},{"$f":"VLOOKUP(C92,Intersections!A:G,7,FALSE)","v":{"$error":"#N/A"}},0.5,"Story","WB in EB",1,0,1,0,7000]
[2012667607,"2012-01-04","US-30 & 580th Ave",null,17300,1790,0.5,"Story","WB in EB",1,0,1,0,7000]
[2012666080,"2012-01-08","IA-141 & IA-210",394,9900,3810,1,"Dallas","EB in WB",0,0,0,0,3000]
[2012669313,"2012-01-25","I-29 & 9th Ave",418,39100,8100,1,"Pottawattamie","SB in NB",0,1,1,0,20000]
[2012672260,"2012-02-08","Fork",null,{"$f":"VLOOKUP(C96,Intersections!A:F,6,FALSE)","v":0},{"$f":"VLOOKUP(C96,Intersections!A:G,7,FALSE)","v":0},0.25,"Wapello","EB in WB",0,4,0,0,10000]
[2012672260,"2012-02-08","US-34 & Quincy Ave",null,18900,11800,0.75,"Wapello","EB in WB",0,4,0,0,10000]
[2012677105,"2012-02-09","I-29 & I-680",191,22800,17500,1,"Pottawattamie","SB in NB",0,0,0,0,10000]
[2012677927,"2012-02-16","US-34 & Burlington Ave",260,8000,5200,0.5,"Jefferson","EB in WB",1,0,0,0,5000]
[2012675640,"2012-02-23","US-34 & Roemer Ave",null,10200,2910,0.5,"Wapello","WB in EB",0,1,0,0,5000]
[2012676781,"2012-03-11","US-63 & US-34",280,10800,10600,0.99,"Wapello","SB in NB",0,0,0,0,3750]
[2012683812,"2012-04-20","US-218 & 9th St",null,{"$f":"VLOOKUP(C102,Intersections!A:F,6,FALSE)","v":34700},{"$f":"VLOOKUP(C102,Intersections!A:G,7,FALSE)","v":7500},0.5,"Black Hawk","NB in SB",0,1,1,0,8000]
[2012683122,"2012-04-25","US-75 & IA-3",99,{"$f":"VLOOKUP(C103,Intersections!A:F,6,FALSE)","v":7800},{"$f":"VLOOKUP(C103,Intersections!A:G,7,FALSE)","v":4510},0.5,"Plymouth","SB in NB",0,0,0,0,1500]
[2012683122,"2012-04-25","US-75 & 24th St",94,12900,7700,0.5,"Plymouth","SB in NB",0,0,0,0,1500]
[2012687442,"2012-05-22","US 63 NE RAMP & 100TH ST/Pennsylvania Ave",273,{"$f":"VLOOKUP(C105,Intersections!A:F,6,FALSE)","v":8000},{"$f":"VLOOKUP(C105,Intersections!A:G,7,FALSE)","v":2780},0.25,"Wapello","EB in WB",0,0,0,0,2000]
[2012687442,"2012-05-22","US-63 & US-34",280,10800,10600,0.75,"Wapello","EB in WB",0,0,0,0,2000]
[2012689083,"2012-05-25","I 235 W & I 235 W TO 31ST ST S",245,{"$f":"VLOOKUP(C107,Intersections!A:F,6,FALSE)","v":134700},{"$f":"VLOOKUP(C107,Intersections!A:G,7,FALSE)","v":15800},1,"Polk","EB in WB",0,0,0,0,2760]
[2012691154,"2012-06-16","US-63 & Almond St",null,12100,1390,0.99,"Black Hawk","SB in NB",0,0,0,0,2500]
[2012694439,"2012-06-30","Crossover",null,22500,0,1,"Warren","NB in SB",0,1,0,0,35000]
[2012696716,"2012-07-27","I-74 & 53rd St",523,{"$f":"VLOOKUP(C110,Intersections!A:F,6,FALSE)","v":36600},{"$f":"VLOOKUP(C110,Intersections!A:G,7,FALSE)","v":44900},0.25,"Scott","EB in WB",0,2,0,0,15000]
[2012696716,"2012-07-27","I-74 & US-6/Spruce Hills Dr",434,{"$f":"VLOOKUP(C111,Intersections!A:F,6,FALSE)","v":49800},{"$f":"VLOOKUP(C111,Intersections!A:G,7,FALSE)","v":33700},0.25,"Scott","EB in WB",0,2,0,0,15000]
[2012696716,"2012-07-27","I-74 SE RAMP & MIDDLE RD",427,67000,15000,0.25,"Scott","EB in WB",0,2,0,0,15000]
[2012700492,"2012-08-26","US-18 & US-65",159,11100,6900,1,"Cerro Gordo","WB in EB",0,1,1,0,35000]
[2012701305,"2012-08-31","US-34 & Beaverdale Rd",232,{"$f":"VLOOKUP(C114,Intersections!A:F,6,FALSE)","v":9000},{"$f":"VLOOKUP(C114,Intersections!A:G,7,FALSE)","v":3090},0.25,"Des Moines","EB in WB",0,2,0,0,3000]
[2012701305,"2012-08-31","US-34 & Mount Pleasant St",235,9600,3760,0.75,"Des Moines","EB in WB",0,2,0,0,3000]
[2012703623,"2012-09-08","I-80 & IA-244",162,22100,2060,0.99,"Pottawattamie","EB in WB",0,0,1,0,19500]
[2012705565,"2012-10-02","US-20 & Jamesmeier Rd",null,12600,1560,1,"Dubuque","EB in WB",0,0,0,0,4000]
[2012708914,"2012-10-02","I-80 & 86th St",100,{"$f":"VLOOKUP(C118,Intersections!A:F,6,FALSE)","v":96500},{"$f":"VLOOKUP(C118,Intersections!A:G,7,FALSE)","v":17500},0.5,"Polk","EB in WB",0,0,0,2,23000]
[2012708914,"2012-10-02","I-35 & Merle Hay Rd",120,101100,30600,0.5,"Polk","EB in WB",0,0,0,2,23000]
[2012712561,"2012-11-12","I-35 & 1st St",148,{"$f":"VLOOKUP(C120,Intersections!A:F,6,FALSE)","v":67200},{"$f":"VLOOKUP(C120,Intersections!A:G,7,FALSE)","v":12400},0.5,"Polk","SB in NB",1,0,0,0,13700]
[2012712561,"2012-11-12","I-35 & Oralabor Rd",141,80700,30200,0.5,"Polk","SB in NB",1,0,0,0,13700]
[2012713020,"2012-11-17","I-235 & 7th St/5th Ave",470,91800,9100,1,"Polk","WB in EB",1,0,0,0,10000]
[2012714245,"2012-11-18","I-380 & Wilson Ave",203,{"$f":"VLOOKUP(C123,Intersections!A:F,6,FALSE)","v":81100},{"$f":"VLOOKUP(C123,Intersections!A:G,7,FALSE)","v":15000},0.25,"Linn","SB in NB",0,0,1,1,19000]
[2012714245,"2012-11-18","I-380 & 33rd Ave",199,{"$f":"VLOOKUP(C124,Intersections!A:F,6,FALSE)","v":76100},{"$f":"VLOOKUP(C124,Intersections!A:G,7,FALSE)","v":20400},0.25,"Linn","SB in NB",0,0,1,1,19000]
[2012714245,"2012-11-18","US-30 & Kirkwood Blvd",407,{"$f":"VLOOKUP(C125,Intersections!A:F,6,FALSE)","v":31700},{"$f":"VLOOKUP(C125,Intersections!A:G,7,FALSE)","v":16200},0.25,"Linn","SB in NB",0,0,1,1,19000]
[2012714245,"2012-11-18","I-380 & Wright Brothers Blvd",183,59800,6800,0.25,"Linn","SB in NB",0,0,1,1,19000]
[2012723492,"2012-12-09","I-380 & Poyner Rd",258,16700,710,1,"Black Hawk","SB in NB",0,6,0,0,20500]
[2012721390,"2012-12-22","US-218 & Salem Rd",null,{"$f":"VLOOKUP(C128,Intersections!A:F,6,FALSE)","v":9300},{"$f":"VLOOKUP(C128,Intersections!A:G,7,FALSE)","v":880},0.5,"Henry","SB in NB",0,0,0,0,16000]
[2012721390,"2012-12-22","US-34 & US-218",249,9800,7900,0.5,"Henry","SB in NB",0,0,0,0,16000]
[2013724742,"2013-02-01","US-61 & 9th St/11th St",359,24700,3850,1,"Dubuque","SB in NB",0,0,0,0,2500]
[2013742785,"2013-05-10","US-61 & US-52",null,20000,6800,0.99,"Dubuque","NB in SB",1,0,0,1,17500]
[2013752876,"2013-06-09","I-80 & CR-F60/ELDORADO AVE",139,{"$f":"VLOOKUP(C132,Intersections!A:F,6,FALSE)","v":28900},{"$f":"VLOOKUP(C132,Intersections!A:G,7,FALSE)","v":3170},0.5,"Dallas","EB in WB",0,2,0,2,25000]
[2013752876,"2013-06-09","I 80W & I 80 W TO ADAIR-MADISON AVE, S",119,{"$f":"VLOOKUP(C133,Intersections!A:F,6,FALSE)","v":27100},{"$f":"VLOOKUP(C133,Intersections!A:G,7,FALSE)","v":320},0.25,"Dallas","EB in WB",0,2,0,2,25000]
[2013752876,"2013-06-09","I-80 & CR-P57",142,31500,3110,0.25,"Dallas","EB in WB",0,2,0,2,25000]
[2013744318,"2013-06-15","Crossover",null,{"$f":"VLOOKUP(C135,Intersections!A:F,6,FALSE)","v":22500},{"$f":"VLOOKUP(C135,Intersections!A:G,7,FALSE)","v":0},0.5,"Polk","NB in SB",0,0,0,0,10000]
[2013744318,"2013-06-15","I-35 & CR-G14",46,26700,3290,0.5,"Polk","NB in SB",0,0,0,0,10000]
[2013750431,"2013-07-24","US-218 & Cedar Wapsi Rd",null,{"$f":"VLOOKUP(C137,Intersections!A:F,6,FALSE)","v":23900},{"$f":"VLOOKUP(C137,Intersections!A:G,7,FALSE)","v":3370},0,"Bremer","NB in SB",1,0,1,1,38500]
[2013750431,"2013-07-24","US-218 & Barrick Rd",210,19000,2900,0.75,"Bremer","NB in SB",1,0,1,1,38500]
[2013751805,"2013-07-29","IA-141 & IA-210",394,9900,3810,1,"Dallas","WB in EB",0,0,0,0,17000]
[2013752730,"2013-08-11","US-20 & Lakeport St",86,33200,20000,1,"Woodbury","EB in WB",0,0,0,0,1520]
[2013755978,"2013-08-30","I-29 & Wesley Pkwy & US-77",479,36800,28300,1,"Woodbury","NB in SB",0,0,0,0,2500]
[2013757549,"2013-08-31","U-Turn",null,29700,0,1,"Story","SB in NB",0,0,0,0,3000]
[2013756927,"2013-09-11","I-380 & County Home Rd",241,34400,12800,1,"Linn","SB in NB",0,0,0,0,3500]
[2013759287,"2013-09-21","I-80 & US-6/IA-38/ROSE AVE",446,{"$f":"VLOOKUP(C144,Intersections!A:F,6,FALSE)","v":36200},{"$f":"VLOOKUP(C144,Intersections!A:G,7,FALSE)","v":3580},0.125,"Cedar","WB in EB",0,1,0,0,15000]
[2013759287,"2013-09-21","I-80 & EB Wilton Rest Area",null,{"$f":"VLOOKUP(C145,Intersections!A:F,6,FALSE)","v":36200},{"$f":"VLOOKUP(C145,Intersections!A:G,7,FALSE)","v":0},0.125,"Cedar","WB in EB",0,1,0,0,15000]
[2013759287,"2013-09-21","I-80 & IA-38",440,36200,3540,0.5,"Cedar","WB in EB",0,1,0,0,15000]
[2013762021,"2013-10-15","US-61 & Hurtsville Rd",null,8100,1460,0.5,"Jackson","SB in NB",1,0,0,0,5500]
[2013763057,"2013-10-22","I-80 & Hubbell Ave",272,42800,13700,1,"Polk","WB in EB",0,0,1,0,5200]
[2013770164,"2013-11-15","I-35 & Oralabor Rd",141,80700,30200,1,"Polk","NB in SB",0,0,0,0,20500]
[2013771944,"2013-11-23","I-35 & Clay St",30,{"$f":"VLOOKUP(C150,Intersections!A:F,6,FALSE)","v":16900},{"$f":"VLOOKUP(C150,Intersections!A:G,7,FALSE)","v":800},0.5,"Clarke","SB in NB",1,0,0,0,3000]
[2013771944,"2013-11-23","I-35 & US-34",25,16900,9700,0.5,"Clarke","SB in NB",1,0,0,0,3000]
[2013773050,"2013-12-16","IA-934 & Greenhill Rd",null,7000,4620,0.5,"Black Hawk","EB in WB",0,0,0,0,2200]
[2013775267,"2013-12-23","Fork",null,{"$f":"VLOOKUP(C153,Intersections!A:F,6,FALSE)","v":0},{"$f":"VLOOKUP(C153,Intersections!A:G,7,FALSE)","v":0},null,"Boone","EB in WB",0,0,0,0,1500]
[2013775267,"2013-12-23","US-30 & US-169",324,7500,3550,0.5,"Boone","EB in WB",0,0,0,0,1500]
[2013782425,"2013-12-27","US-151 & Skyline Rd",null,6200,1480,1,"Dubuque","SB in NB",0,0,0,0,3500]
[2014781205,"2014-01-17","I-29 & 25th St",167,{"$f":"VLOOKUP(C156,Intersections!A:F,6,FALSE)","v":19700},{"$f":"VLOOKUP(C156,Intersections!A:G,7,FALSE)","v":8000},0.2,"Pottawattamie","NB in SB",0,1,2,1,26000]
[2014781205,"2014-01-17","I-29 & Ave G",417,{"$f":"VLOOKUP(C157,Intersections!A:F,6,FALSE)","v":22700},{"$f":"VLOOKUP(C157,Intersections!A:G,7,FALSE)","v":3450},0.01,"Pottawattamie","NB in SB",0,1,2,1,26000]
[2014781205,"2014-01-17","I-29 & IA-192/16th St",488,18200,8700,0.79,"Pottawattamie","NB in SB",0,1,2,1,26000]
[2014786965,"2014-02-14","I-80 & Division St",116,27100,4620,1,"Dallas","EB in WB",6,0,2,0,16000]
[2014789518,"2014-02-28","US-61 & 210th St",null,{"$f":"VLOOKUP(C160,Intersections!A:F,6,FALSE)","v":13800},{"$f":"VLOOKUP(C160,Intersections!A:G,7,FALSE)","v":390},0.75,"Clinton","SB in NB",0,0,0,0,7000]
[2014789518,"2014-02-28","US-61 & US-30 (North of De Witt)",371,17400,7700,0.25,"Clinton","SB in NB",0,0,0,0,7000]
[2014793572,"2014-03-26","I-35 & US-69",2,13200,610,0.99,"Decatur","NB in SB",0,0,0,0,2500]
[2014792541,"2014-03-28","I-380 NW RAMP & H AVE NE",225,{"$f":"VLOOKUP(C163,Intersections!A:F,6,FALSE)","v":97700},{"$f":"VLOOKUP(C163,Intersections!A:G,7,FALSE)","v":9000},0.25,"Linn","NB in SB",0,0,0,0,9500]
[2014792541,"2014-03-28","I-380 & Glass Rd",460,83100,13900,0.75,"Linn","NB in SB",0,0,0,0,9500]
[2014798808,"2014-05-12","I-80 & US-61",421,53000,42200,1,"Scott","NB in SB",0,0,0,0,10150]
[2014803809,"2014-06-06","I-380 & Penn St",175,51100,19700,0.99,"Johnson","NB in SB",0,0,0,0,3500]
[2014803291,"2014-06-15","Fork",null,6300,650,1,"Boone","EB in WB",0,0,0,0,2000]
[2014804270,"2014-06-20","I-35 & Mills Civic Pkwy",57,73200,20500,1,"Polk","NB in SB",0,0,0,0,20000]
[2014807550,"2014-07-11","US-75 & US-20",143,27300,11900,1,"Woodbury","WB in EB",0,0,0,0,2000]
[2014807466,"2014-07-12","IA-5 & 35th St",334,33200,2360,0.99,"Polk","EB in WB",0,0,0,0,8500]
[2014811247,"2014-07-16","U-Turn",null,45400,0,1,"Polk","SB in NB",0,0,0,0,4000]
[2014815265,"2014-08-29","US-20/Dodge St & Locust St",null,{"$f":"VLOOKUP(C172,Intersections!A:F,6,FALSE)","v":29000},{"$f":"VLOOKUP(C172,Intersections!A:G,7,FALSE)","v":29300},0.25,"Dubuque","WB in EB",0,0,0,0,1500]
[2014815265,"2014-08-29","US-20 & Bryant St",338,35500,9300,0.75,"Dubuque","WB in EB",0,0,0,0,1500]
[2014815317,"2014-08-30","US 30 S Ramp & ZELLER AVE/ IOWA 146",370,{"$f":"VLOOKUP(C174,Intersections!A:F,6,FALSE)","v":12100},{"$f":"VLOOKUP(C174,Intersections!A:G,7,FALSE)","v":3800},0.25,"Marshall","WB in EB",0,1,0,0,14000]
[2014815317,"2014-08-30","US-30 & 18th Ave",366,13100,5600,0.75,"Marshall","WB in EB",0,1,0,0,14000]
[2014814612,"2014-08-31","I-80 & US-6",160,29500,7900,0.99,"Pottawattamie","WB in EB",1,1,0,0,23000]
[2014819352,"2014-09-25","US-34 & BUS-34 / Middletown",237,{"$f":"VLOOKUP(C177,Intersections!A:F,6,FALSE)","v":7700},{"$f":"VLOOKUP(C177,Intersections!A:G,7,FALSE)","v":2720},0.5,"Des Moines","EB in WB",0,1,0,0,5100]
[2014819352,"2014-09-25","US-34 & Beaverdale Rd",232,9000,3090,0.5,"Des Moines","EB in WB",0,1,0,0,5100]
[2014823357,"2014-10-24","U-Turn",null,23900,0,1,"Warren","EB in WB",2,0,0,0,20000]
[2014823453,"2014-10-26","I-80 & Madison Ave",56,43000,9300,1,"Pottawattamie","EB in WB",0,1,0,0,20000]
[2014827688,"2014-11-14","US-169 & Kenyon Rd",null,8700,8000,1,"Webster","SB in NB",0,0,0,0,1500]
[2014833821,"2014-12-10","US-30 & US-169",324,{"$f":"VLOOKUP(C182,Intersections!A:F,6,FALSE)","v":7500},{"$f":"VLOOKUP(C182,Intersections!A:G,7,FALSE)","v":3550},0.5,"Boone","EB in WB",2,0,0,0,8000]
[2014833821,"2014-12-10","US-30 & 215th Dr/Walnut St/Old Lincoln Highway",null,{"$f":"VLOOKUP(C183,Intersections!A:F,6,FALSE)","v":6000},{"$f":"VLOOKUP(C183,Intersections!A:G,7,FALSE)","v":650},0.5,"Boone","EB in WB",2,0,0,0,8000]
[2014834455,"2014-12-19","I-29 & Wesley Pkwy & US-77",479,{"$f":"VLOOKUP(C184,Intersections!A:F,6,FALSE)","v":36800},{"$f":"VLOOKUP(C184,Intersections!A:G,7,FALSE)","v":28400},1,"Woodbury","SB in NB",0,0,0,0,3500]
[2014837085,"2014-12-31","I- 680 N Ramp & 130TH ST",45,{"$f":"VLOOKUP(C185,Intersections!A:F,6,FALSE)","v":17300},{"$f":"VLOOKUP(C185,Intersections!A:G,7,FALSE)","v":210},0.25,"Pottawattamie","WB in EB",0,1,0,0,10000]
[2014837085,"2014-12-31","I-29 & I-680",191,22800,17500,0.75,"Pottawattamie","WB in EB",0,1,0,0,10000]
[2015839571,"2015-01-12","Fork",null,3150,0,1,"Marion","WB in EB",1,0,0,0,1500]
[2015845182,"2015-02-01","U-Turn",null,6300,0,1,"Dubuque","NB in SB",0,1,0,0,18500]
[2015842883,"2015-02-02","US-34 & Main St",217,14800,3740,1,"Des Moines","WB in EB",0,0,0,0,5000]
[2015850799,"2015-03-18","Nebraska",null,0,0,1,"Woodbury","EB in WB",0,1,0,1,12500]
[2015859573,"2015-05-16","I 80 W & I 80 W TO OLIVE ST, S",65,{"$f":"VLOOKUP(C191,Intersections!A:F,6,FALSE)","v":22400},{"$f":"VLOOKUP(C191,Intersections!A:G,7,FALSE)","v":1310},0.25,"Cass","WB in EB",0,0,1,1,31000]
[2015859573,"2015-05-16","I 80 & US 71",72,{"$f":"VLOOKUP(C192,Intersections!A:F,6,FALSE)","v":22700},{"$f":"VLOOKUP(C192,Intersections!A:G,7,FALSE)","v":2870},0.25,"Cass","WB in EB",0,0,1,1,31000]
[2015859573,"2015-05-16","I-80 & IA-173",62,22800,1510,0.5,"Cass","WB in EB",0,0,1,1,31000]
[2015866570,"2015-06-14","Fork",null,6400,0,1,"Harrison","EB in WB",0,0,0,0,1500]
[2015867565,"2015-07-09","I-80 & Expressway St",177,73700,27000,1,"Pottawattamie","EB in WB",0,0,0,0,2500]
[2015867981,"2015-07-12","I-80 & Expressway St",177,73700,27000,1,"Pottawattamie","EB in WB",0,0,1,0,8000]
[2015874221,"2015-07-12","Crossover",null,14700,3650,1,"Story","EB in WB",0,0,0,0,21995]
[2015869068,"2015-07-17","US-30 & Kirkwood Blvd",407,69200,16200,1,"Linn","WB in EB",0,0,0,0,30000]
[2015869225,"2015-07-17","US-20 & Lakeport St",86,{"$f":"VLOOKUP(C199,Intersections!A:F,6,FALSE)","v":33200},{"$f":"VLOOKUP(C199,Intersections!A:G,7,FALSE)","v":20000},0.25,"Woodbury","NB in SB",0,0,0,0,10500]
[2015869225,"2015-07-17","I-29 & Singing Hills Blvd",133,42000,13600,0.75,"Woodbury","NB in SB",0,0,0,0,10500]
[2015884833,"2015-08-19","US-151 & Richland Rd",null,{"$f":"VLOOKUP(C201,Intersections!A:F,6,FALSE)","v":8300},{"$f":"VLOOKUP(C201,Intersections!A:G,7,FALSE)","v":590},0.33,"Jones","NB in SB",0,0,1,1,40000]
[2015884833,"2015-08-19","US-151 & BUS-151 (North of Monticello)",null,{"$f":"VLOOKUP(C202,Intersections!A:F,6,FALSE)","v":7900},{"$f":"VLOOKUP(C202,Intersections!A:G,7,FALSE)","v":1220},0.33,"Jones","NB in SB",0,0,1,1,40000]
[2015884833,"2015-08-19","US-151 & IA-38",356,8400,2690,0.33,"Jones","NB in SB",0,0,1,1,40000]
[2015875568,"2015-08-28","US-169 & Kenyon Rd",null,8700,8000,1,"Webster","NB in SB",0,0,0,0,3000]
[2015884344,"2015-10-17","US-34 & Mount Pleasant St",235,9600,3760,1,"Des Moines","WB in EB",4,0,0,0,6000]
[2015885996,"2015-10-25","IA-163 & CR-G28",305,{"$f":"VLOOKUP(C206,Intersections!A:F,6,FALSE)","v":10200},{"$f":"VLOOKUP(C206,Intersections!A:G,7,FALSE)","v":9800},0.5,"Marion","EB in WB",1,0,0,0,8500]
[2015885996,"2015-10-25","IA 163 E & IA 163 E TO S CLARK ST S",304,{"$f":"VLOOKUP(C207,Intersections!A:F,6,FALSE)","v":10400},{"$f":"VLOOKUP(C207,Intersections!A:G,7,FALSE)","v":8400},0.5,"Marion","EB in WB",1,0,0,0,8500]
[2015888719,"2015-11-09","US-18 & US-65",159,11100,6900,0.99,"Cerro Gordo","EB in WB",0,0,0,0,1500]
[2015891761,"2015-11-22","US-34 & E Main St/Henry Des Moines Ave",null,{"$f":"VLOOKUP(C209,Intersections!A:F,6,FALSE)","v":8800},{"$f":"VLOOKUP(C209,Intersections!A:G,7,FALSE)","v":1280},0.5,"Des Moines","EB in WB",0,0,5,0,10000]
[2015891761,"2015-11-22","US-34 & Pine St/New London Rd",239,8000,2710,0.5,"Des Moines","EB in WB",0,0,5,0,10000]
[2015894171,"2015-11-25","US-218 & 110th St",null,10200,510,1,"Bremer","NB in SB",1,0,0,0,14000]
[2015893110,"2015-11-29","US-218 & IA-2",202,{"$f":"VLOOKUP(C212,Intersections!A:F,6,FALSE)","v":6500},{"$f":"VLOOKUP(C212,Intersections!A:G,7,FALSE)","v":3380},0.5,"Lee","SB in NB",0,1,1,1,30000]
[2015893110,"2015-11-29","IA-27 & US-218",522,6300,2710,0.5,"Lee","SB in NB",0,1,1,1,30000]
[2015896349,"2015-12-17","I-29 & Nebraska St",151,37700,8300,1,"Woodbury","SB in NB",0,0,0,0,5500]
[2015898912,"2015-12-20","US-30 & IA-330",360,8900,11700,1,"Marshall","SB in NB",2,0,0,0,11000]
[20160908516,"2016-02-19","I-80 & Expressway St",177,{"$f":"VLOOKUP(C216,Intersections!A:F,6,FALSE)","v":73700},{"$f":"VLOOKUP(C216,Intersections!A:G,7,FALSE)","v":27000},1,"Pottawattamie","EB in WB",0,0,0,0,5000]
[20160908769,"2016-02-21","I-80 & 24th St",51,87000,8600,1,"Pottawattamie","WB in EB",1,0,0,0,3000]
[20160912026,"2016-03-14","IA-141 & IA-415",397,20000,8900,1,"Polk","WB in EB",0,1,1,0,15000]
[20160918082,"2016-03-26","I-80 & Grand Prairie Pkwy","Interchange without ID",47200,5100,1,"Dallas","WB in EB",0,0,0,4,25000]
[20160918850,"2016-04-30","US-20/Dodge St & Locust St",null,{"$f":"VLOOKUP(C220,Intersections!A:F,6,FALSE)","v":29000},{"$f":"VLOOKUP(C220,Intersections!A:G,7,FALSE)","v":29300},0.5,"Dubuque","WB in EB",0,0,0,0,10000]
[20160918850,"2016-04-30","US-20 & Bryant St",338,35500,9300,0.5,"Dubuque","WB in EB",0,0,0,0,10000]
[20160970100,"2016-05-04","I-35 & IA-2",4,14400,2140,1,"Decatur","SB in NB",0,0,0,0,24500]
[20160930641,"2016-05-05","I-35 & Mills Civic Pkwy",54,53700,4660,0.99,"Polk","NB in SB",1,0,0,0,5100]
[20160921130,"2016-05-10","I-35 & Grand Ave",54,{"$f":"VLOOKUP(C224,Intersections!A:F,6,FALSE)","v":53700},{"$f":"VLOOKUP(C224,Intersections!A:G,7,FALSE)","v":4660},0.25,"Warren","SB in NB",0,0,1,0,20000]
[20160921130,"2016-05-10","I-35 & CR-G14",46,26700,3290,0.75,"Warren","SB in NB",0,0,1,0,20000]
[20160924703,"2016-06-05","I-74 & US-6/Spruce Hills Dr",434,{"$f":"VLOOKUP(C226,Intersections!A:F,6,FALSE)","v":49800},{"$f":"VLOOKUP(C226,Intersections!A:G,7,FALSE)","v":33700},0.7,"Scott","WB in EB",1,0,0,0,5000]
[20160924703,"2016-06-05","I-74 SE RAMP & MIDDLE RD",427,{"$f":"VLOOKUP(C227,Intersections!A:F,6,FALSE)","v":59700},{"$f":"VLOOKUP(C227,Intersections!A:G,7,FALSE)","v":24000},0.28999999999999998,"Scott","WB in EB",1,0,0,0,5000]
[20160924703,"2016-06-05","I-74 & KIMBERLY RD/13TH ST/MISSISSIPPI BLVD",513,49800,33700,0.01,"Scott","WB in EB",1,0,0,0,5000]
[20160933648,"2016-07-05","US-218 & Cedar Wapsi Rd","Interchange without ID",23900,3370,0.99,"Bremer","NB in SB",1,1,0,0,6000]
[20160935074,"2016-07-05","I-380 & Wilson Ave",203,81100,15000,1,"Linn","SB in NB",0,0,0,3,9000]
[20160932499,"2016-07-24","US-20 & IA-136",332,12000,8500,0.99,"Delaware","WB in EB",0,0,0,0,37000]
[20160942991,"2016-08-04","US-61 & Taylor Ave/CR Y14",null,{"$f":"VLOOKUP(C232,Intersections!A:F,6,FALSE)","v":10500},{"$f":"VLOOKUP(C232,Intersections!A:G,7,FALSE)","v":1110},0.25,"Muscatine","NB in SB",0,0,0,2,15000]
[20160942991,"2016-08-04","US-61 & IA-38",null,{"$f":"VLOOKUP(C233,Intersections!A:F,6,FALSE)","v":20100},{"$f":"VLOOKUP(C233,Intersections!A:G,7,FALSE)","v":14700},0.25,"Muscatine","NB in SB",0,0,0,2,15000]
[20160942991,"2016-08-04","Crossover",null,{"$f":"VLOOKUP(C234,Intersections!A:F,6,FALSE)","v":22500},{"$f":"VLOOKUP(C234,Intersections!A:G,7,FALSE)","v":0},0.25,"Muscatine","NB in SB",0,0,0,2,15000]
[20160942991,"2016-08-04","US-61 & Vail Ave",null,12300,1290,0.25,"Muscatine","NB in SB",0,0,0,2,15000]
[20160940352,"2016-08-18","I-80 & Herbert Hoover Highway",441,{"$f":"VLOOKUP(C236,Intersections!A:F,6,FALSE)","v":42400},{"$f":"VLOOKUP(C236,Intersections!A:G,7,FALSE)","v":6500},0.25,"Cedar","EB in WB",0,2,0,0,8900]
[20160940352,"2016-08-18","I-80 & Downey St",426,40400,5300,0.75,"Cedar","EB in WB",0,2,0,0,8900]
[20160941367,"2016-09-18","I-29 & Bunge Ave",41,19000,5000,1,"Mills","NB in SB",0,0,0,0,9000]
[20160943914,"2016-10-01","US-20  N Ramp & LITTLE WALL LAKE RD/ US 69",92,{"$f":"VLOOKUP(C239,Intersections!A:F,6,FALSE)","v":9500},{"$f":"VLOOKUP(C239,Intersections!A:G,7,FALSE)","v":1240},0.25,"Hamilton","EB in WB",0,1,0,0,5000]
[20160943914,"2016-10-01","US-20 & IA-17",66,10000,1970,0.75,"Hamilton","EB in WB",0,1,0,0,5000]
[20160946699,"2016-10-15","I 80 W & I 80 W TO IA 25 S",111,{"$f":"VLOOKUP(C241,Intersections!A:F,6,FALSE)","v":22900},{"$f":"VLOOKUP(C241,Intersections!A:G,7,FALSE)","v":2000},0.5,"Cass","WB in EB",0,0,0,0,4000]
[20160946699,"2016-10-15","I-80 & CR-P20/Pinewood Ave",117,{"$f":"VLOOKUP(C242,Intersections!A:F,6,FALSE)","v":24700},{"$f":"VLOOKUP(C242,Intersections!A:G,7,FALSE)","v":200},0.5,"Cass","WB in EB",0,0,0,0,4000]
[20160950234,"2016-11-05","US-34 & Locust St",164,9000,4080,0.99,"Mills","EB in WB",0,0,0,0,11000]
[20160950515,"2016-11-08","I-380 & Boyson Rd",233,48300,19800,1,"Linn","SB in NB",0,1,0,0,8000]
[20160953555,"2016-11-23","I-235 & E 14th St",432,{"$f":"VLOOKUP(C245,Intersections!A:F,6,FALSE)","v":94000},{"$f":"VLOOKUP(C245,Intersections!A:G,7,FALSE)","v":21300},0.95,"Polk","NB in SB",0,1,1,0,32000]
[20160955441,"2016-11-25","US-30 & US-63",375,9100,7300,1,"Tama","EB in WB",0,0,0,0,6000]
[20160955002,"2016-11-29","US- 20 N RAMP & N AVE/ IA 14",144,{"$f":"VLOOKUP(C247,Intersections!A:F,6,FALSE)","v":13200},{"$f":"VLOOKUP(C247,Intersections!A:G,7,FALSE)","v":4430},0.25,"Black Hawk","EB in WB",1,1,0,0,20000]
[20160955002,"2016-11-29","US-20 & Grundy Rd/University Ave",145,{"$f":"VLOOKUP(C248,Intersections!A:F,6,FALSE)","v":14000},{"$f":"VLOOKUP(C248,Intersections!A:G,7,FALSE)","v":1680},0.25,"Black Hawk","EB in WB",1,1,0,0,20000]
[20160955002,"2016-11-29","US-20 & 1st St",219,14300,1860,0.5,"Black Hawk","EB in WB",1,1,0,0,20000]
[20160955002,"2016-11-29","US- 20 N Ramp, Loop & 1ST ST/U AVENUE",{"$f":"VLOOKUP(C250,Intersections!A:B,2,FALSE)","v":250},{"$f":"VLOOKUP(C250,Intersections!A:F,6,FALSE)","v":14000},{"$f":"VLOOKUP(C250,Intersections!A:G,7,FALSE)","v":2370},0.33,"Black Hawk","EB in WB",0,1,0,0,20000]
[20160957774,"2016-12-07","I 80 W & CR V 18 RD S",345,{"$f":"VLOOKUP(C251,Intersections!A:F,6,FALSE)","v":28700},{"$f":"VLOOKUP(C251,Intersections!A:G,7,FALSE)","v":2080},0.25,"Poweshiek","WB in EB",0,0,0,0,12500]
[20160957774,"2016-12-07","I-80 & IA-21",352,{"$f":"VLOOKUP(C252,Intersections!A:F,6,FALSE)","v":28700},{"$f":"VLOOKUP(C252,Intersections!A:G,7,FALSE)","v":3430},0.25,"Poweshiek","WB in EB",0,0,0,0,12500]
[20160957774,"2016-12-07","I-80 & US-63",341,28700,3290,0.5,"Poweshiek","WB in EB",0,0,0,0,12500]
[20160958739,"2016-12-09","I-80 & US-6",160,29500,7900,1,"Pottawattamie","EB in WB",0,0,1,0,22000]
[20160959013,"2016-12-18","Nebraska",null,49900,0,1,"Pottawattamie","EB in WB",0,0,0,0,9000]
[20170967651,"2017-02-04","US-61 & US-52",null,20000,6800,0.99,"Dubuque","NB in SB",0,0,0,0,7000]
[20170973630,"2017-02-13","IA-141 & IA-210",394,9900,3810,1,"Dallas","WB in EB",0,0,1,0,31650]
[20170969540,"2017-02-14","I-80 & Black Hawk Ave",410,34400,1190,1,"Johnson","EB in WB",0,1,0,0,6500]
[20170971278,"2017-02-25","I-29 & IA-300",59,15700,880,1,"Harrison","NB in SB",0,0,0,0,4500]
[20170976228,"2017-04-02","US-151 & Grandview Ave",349,19100,7500,0.99,"Dubuque","NB in SB",0,0,0,0,5000]
[20170979546,"2017-04-23","I-29 & Bunge Ave",41,19000,5000,1,"Mills","SB in NB",0,0,0,0,3000]
[20170980833,"2017-04-30","US-63 & Dahlonega Rd",274,6800,2810,0.99,"Wapello","SB in NB",0,1,0,0,6000]
[20170991589,"2017-05-19","IA-934 & Cedar Heights Dr",null,15500,6800,0.25,"Black Hawk","EB in WB",1,0,0,0,6000]
[20170988798,"2017-05-21","I-235 & 73rd St",206,128100,22600,1,"Polk","WB in EB",0,2,0,0,20000]
[20170989524,"2017-05-25","I-80 & IA-415/2nd St",122,101100,35800,1,"Polk","EB in WB",1,0,0,0,8000]
[20170985245,"2017-06-03","US-20 & Lakeport St",86,33200,20000,1,"Woodbury","WB in EB",0,1,0,0,5500]
[20170990934,"2017-07-05","I-80 & IA-21",352,{"$f":"VLOOKUP(C267,Intersections!A:F,6,FALSE)","v":28700},{"$f":"VLOOKUP(C267,Intersections!A:G,7,FALSE)","v":3430},1,"Poweshiek","EB in WB",0,0,0,0,1800]
[20171004096,"2017-09-19","US-75 & IA-3",99,{"$f":"VLOOKUP(C268,Intersections!A:F,6,FALSE)","v":7800},{"$f":"VLOOKUP(C268,Intersections!A:G,7,FALSE)","v":4510},0.5,"Plymouth","NB in SB",1,0,0,0,1500]
[20171004096,"2017-09-19","IA-60 & US-75",103,6600,4880,0.5,"Plymouth","NB in SB",1,0,0,0,1500]
[20171009314,"2017-10-11","US 34 COOK AVE & CHURCH ST",288,{"$f":"VLOOKUP(C270,Intersections!A:F,6,FALSE)","v":13900},{"$f":"VLOOKUP(C270,Intersections!A:G,7,FALSE)","v":7200},0.25,"Wapello","SB in NB",0,0,0,0,1500]
[20171009314,"2017-10-11","US-34 & Vine St",null,11200,2030,0.75,"Wapello","SB in NB",0,0,0,0,1500]
[20171009984,"2017-10-15","I-35 & US-6/Hickman Rd",78,121400,37300,1,"Polk","SB in NB",0,0,1,2,40000]
[20171016153,"2017-10-18","I-380 & Blairs Ferry Rd",526,51900,21100,1,"Linn","SB in NB",0,0,0,0,8000]
[20171018041,"2017-11-18","IA-141 & IA-210",394,9900,3810,1,"Dallas","EB in WB",1,1,2,0,35000]
[20171017731,"2017-11-25","I- 29 E  Ramp & 155 ST",26,{"$f":"VLOOKUP(C275,Intersections!A:F,6,FALSE)","v":13200},{"$f":"VLOOKUP(C275,Intersections!A:G,7,FALSE)","v":620},0.25,"Fremont","SB in NB",0,1,0,0,3500]
[20171017731,"2017-11-25","I- 29 W Ramp & 200 st",20,{"$f":"VLOOKUP(C276,Intersections!A:F,6,FALSE)","v":12300},{"$f":"VLOOKUP(C276,Intersections!A:G,7,FALSE)","v":460},0.25,"Fremont","SB in NB",0,1,0,0,3500]
[20171017731,"2017-11-25","I-29 & IA-2",27,14100,8000,0.5,"Fremont","SB in NB",0,1,0,0,3500]
[20171038760,"2017-12-05","I-80 & 86th St",100,96500,17500,1,"Polk","EB in WB",0,0,0,0,4000]
[20171020952,"2017-12-09","US-218 & Cedar Wapsi Rd","Interchange without ID",{"$f":"VLOOKUP(C279,Intersections!A:F,6,FALSE)","v":23900},{"$f":"VLOOKUP(C279,Intersections!A:G,7,FALSE)","v":3370},0.25,"Black Hawk","SB in NB",1,0,0,0,28000]
[20171020952,"2017-12-09","US 218 E RAMP & LONE TREE RD",266,{"$f":"VLOOKUP(C280,Intersections!A:F,6,FALSE)","v":26400},{"$f":"VLOOKUP(C280,Intersections!A:G,7,FALSE)","v":3340},0.25,"Black Hawk","SB in NB",1,0,0,0,28000]
[20171020952,"2017-12-09","IA-57 & Main St",null,16100,5700,0.5,"Black Hawk","SB in NB",1,0,0,0,28000]
[20171020688,"2017-12-11","I-29 & Bunge Ave",41,19000,5000,1,"Mills","NB in SB",0,0,0,0,6800]
[20181026886,"2018-01-14","Fork",null,3670,0,1,"Chickasaw","SB in NB",0,0,0,0,8000]
[20181029308,"2018-01-17","US 30 N Ramp & REED AVE/ IOWA 14",364,{"$f":"VLOOKUP(C284,Intersections!A:F,6,FALSE)","v":10400},{"$f":"VLOOKUP(C284,Intersections!A:G,7,FALSE)","v":13300},0.5,"Marshall","EB in WB",0,0,0,0,1900]
[20181029308,"2018-01-17","US-30 & 18th Ave",366,13100,5600,0.5,"Marshall","EB in WB",0,0,0,0,1900]
[20181030310,"2018-01-22","US-61 & Blackhawk Trail Rd",392,36500,3570,1,"Scott","SB in NB",3,0,0,0,27500]
[20181073895,"2018-01-26","IA-13 & Central City Rd",null,{"$f":"VLOOKUP(C287,Intersections!A:F,6,FALSE)","v":8400},{"$f":"VLOOKUP(C287,Intersections!A:G,7,FALSE)","v":880},0.25,"Linn","SB in NB",1,0,0,0,17000]
[20181073895,"2018-01-26","Fork",null,{"$f":"VLOOKUP(C288,Intersections!A:F,6,FALSE)","v":0},{"$f":"VLOOKUP(C288,Intersections!A:G,7,FALSE)","v":0},0.25,"Linn","SB in NB",1,0,0,0,17000]
[20181073895,"2018-01-26","IA-13 & Maple St",null,8100,2940,0.5,"Linn","SB in NB",1,0,0,0,17000]
[20181037534,"2018-01-29","I-380 & Wilson Ave",203,{"$f":"VLOOKUP(C290,Intersections!A:F,6,FALSE)","v":81100},{"$f":"VLOOKUP(C290,Intersections!A:G,7,FALSE)","v":15000},0.25,"Linn","SB in NB",2,0,0,2,50000]
[20181037534,"2018-01-29","US-30 & Kirkwood Blvd",407,{"$f":"VLOOKUP(C291,Intersections!A:F,6,FALSE)","v":31700},{"$f":"VLOOKUP(C291,Intersections!A:G,7,FALSE)","v":16200},0.25,"Linn","SB in NB",2,0,0,2,50000]
[20181037534,"2018-01-29","I-380 & 33rd Ave",199,76100,20400,0.5,"Linn","SB in NB",2,0,0,2,50000]
[20181036891,"2018-02-11","U-Turn",null,34800,0,1,"Polk","WB in EB",0,0,0,0,15000]
[20181034612,"2018-02-14","I- 35 E  Ramp & NE 36TH ST",156,{"$f":"VLOOKUP(C294,Intersections!A:F,6,FALSE)","v":53700},{"$f":"VLOOKUP(C294,Intersections!A:G,7,FALSE)","v":5600},0.25,"Story","NB in SB",1,0,0,0,4000]
[20181034612,"2018-02-14","I-35 & 126th Ave",153,{"$f":"VLOOKUP(C295,Intersections!A:F,6,FALSE)","v":45400},{"$f":"VLOOKUP(C295,Intersections!A:G,7,FALSE)","v":4630},0.25,"Story","NB in SB",1,0,0,0,4000]
[20181034612,"2018-02-14","I-35 & IA-210",152,45300,6200,0.5,"Story","NB in SB",1,0,0,0,4000]
[20181034590,"2018-02-21","Crossover",40,22500,4970,1,"Warren","NB in SB",0,0,0,1,110000]
[20181036697,"2018-03-03","US-30 & IA-287",null,{"$f":"VLOOKUP(C298,Intersections!A:F,6,FALSE)","v":10700},{"$f":"VLOOKUP(C298,Intersections!A:G,7,FALSE)","v":1250},0.5,"Benton","EB in WB",2,0,0,0,10000]
[20181036697,"2018-03-03","US-30 & 32nd Ave",null,11300,1790,0.5,"Benton","EB in WB",2,0,0,0,10000]
[20181038895,"2018-03-20","US-218 & Island View Dr",null,21500,210,1,"Bremer","SB in NB",0,0,0,0,4000]
[20181042279,"2018-04-11","US-20 & Bryant St",338,35500,9300,1,"Dubuque","EB in WB",1,0,0,0,3500]
[20181045978,"2018-05-05","US-75 & US-20",143,27300,11900,1,"Woodbury","SB in NB",0,1,1,0,15000]
[20181047582,"2018-05-15","US-61 & 9th St/11th St",359,24700,3850,1,"Dubuque","SB in NB",0,1,0,0,6250]
[20181050959,"2018-05-26","IA-5 & 110th Pl",312,{"$f":"VLOOKUP(C304,Intersections!A:F,6,FALSE)","v":4600},{"$f":"VLOOKUP(C304,Intersections!A:G,7,FALSE)","v":460},0.5,"Marion","EB in WB",0,0,0,1,27000]
[20181050959,"2018-05-26","IA-5 & McKimber St",504,{"$f":"VLOOKUP(C305,Intersections!A:F,6,FALSE)","v":7700},{"$f":"VLOOKUP(C305,Intersections!A:G,7,FALSE)","v":3090},0.5,"Marion","EB in WB",0,0,0,1,27000]
[20181063458,"2018-06-07","US-151 & IA-946",null,35100,21000,1,"Dubuque","SB in NB",0,0,0,0,4500]
[20181057751,"2018-07-14","IA-12 & Pierce St",null,14900,8300,0.5,"Woodbury","EB in WB",0,0,0,0,2500]
[20181063261,"2018-08-08","US-20 & 270th Ave",331,8800,1710,1,"Dubuque","EB in WB",0,1,0,0,10000]
[20181067026,"2018-09-10","US-18 & Thrush Ave",166,{"$f":"VLOOKUP(C309,Intersections!A:F,6,FALSE)","v":11600},{"$f":"VLOOKUP(C309,Intersections!A:G,7,FALSE)","v":2230},0,"Cerro Gordo","EB in WB",0,1,0,1,35000]
[20181076159,"2018-10-31","I-29 & Lambert Ave",31,14100,270,0.99,"Mills","NB in SB",0,0,0,0,40000]
[20181087417,"2018-11-10","I-80 & US-69",125,87400,19600,1,"Polk","EB in WB",0,0,1,1,12000]
[20181105599,"2018-11-19","IA 60 NW  RAMP & NEST AVE",107,{"$f":"VLOOKUP(C312,Intersections!A:F,6,FALSE)","v":4010},{"$f":"VLOOKUP(C312,Intersections!A:G,7,FALSE)","v":380},0.25,"Sioux","SB in NB",0,1,0,1,30000]
[20181105599,"2018-11-19","US-18 & IA-60",112,{"$f":"VLOOKUP(C313,Intersections!A:F,6,FALSE)","v":6300},{"$f":"VLOOKUP(C313,Intersections!A:G,7,FALSE)","v":4520},0.25,"Sioux","SB in NB",0,1,0,1,30000]
[20181105599,"2018-11-19","IA-60 & McKinley Ave",106,6400,2830,0.25,"Sioux","SB in NB",0,1,0,1,30000]
[20181081965,"2018-11-21","I-29 & CR-E60",61,{"$f":"VLOOKUP(C315,Intersections!A:F,6,FALSE)","v":14700},{"$f":"VLOOKUP(C315,Intersections!A:G,7,FALSE)","v":410},0.25,"Monona","SB in NB",0,0,3,2,24000]
[20181081965,"2018-11-21","I-29 & IA-175",64,15300,5500,0.75,"Monona","SB in NB",0,0,3,2,24000]
[20181081711,"2018-11-22","US 34 COOK AVE & CHURCH ST",288,{"$f":"VLOOKUP(C317,Intersections!A:F,6,FALSE)","v":13900},{"$f":"VLOOKUP(C317,Intersections!A:G,7,FALSE)","v":7200},0.25,"Wapello","EB in WB",2,1,0,0,7200]
[20181081711,"2018-11-22","US-34 & Vine St",null,11200,2030,0.75,"Wapello","EB in WB",2,1,0,0,7200]
[20181086806,"2018-12-18","Fork",null,{"$f":"VLOOKUP(C319,Intersections!A:F,6,FALSE)","v":0},{"$f":"VLOOKUP(C319,Intersections!A:G,7,FALSE)","v":0},0.1,"Marshall","SB in NB",1,0,0,0,8000]
[20181086806,"2018-12-18","US-30 & IA-330",360,8900,11700,0.9,"Marshall","SB in NB",1,0,0,0,8000]
[20181086824,"2018-12-19","I-80 & Magnolia Rd",161,23800,3130,1,"Pottawattamie","EB in WB",1,0,0,0,27000]
[20181087358,"2018-12-19","IA-163 & CR-G28",305,10200,9800,0.99,"Marion","EB in WB",1,0,0,1,160000]
[20181087854,"2018-12-24","I-80 & Madison Ave",56,{"$f":"VLOOKUP(C323,Intersections!A:F,6,FALSE)","v":43000},{"$f":"VLOOKUP(C323,Intersections!A:G,7,FALSE)","v":9300},0.5,"Pottawattamie","EB in WB",1,0,1,0,14000]
[20181087854,"2018-12-24","I-80 & US-6",160,29500,7900,0.5,"Pottawattamie","EB in WB",1,0,1,0,14000]
[20191090847,"2019-01-12","I-235 & E 14th St",499,94000,21300,1,"Polk","WB in EB",0,0,0,0,4500]
[20191097231,"2019-02-09","I-80 & IA-244",162,{"$f":"VLOOKUP(C326,Intersections!A:F,6,FALSE)","v":22100},{"$f":"VLOOKUP(C326,Intersections!A:G,7,FALSE)","v":2060},0.5,"Pottawattamie","WB in EB",0,0,0,0,20000]
[20191097231,"2019-02-09","I-80 & Magnolia Rd",161,23800,3130,0.5,"Pottawattamie","WB in EB",0,0,0,0,20000]
[20191099275,"2019-02-18","US-63 & Dahlonega Rd",274,6800,2810,0.5,"Wapello","NB in SB",0,0,0,0,2000]
[20191105018,"2019-03-15","US-34 & 235th St",313,7400,2010,1,"Henry","WB in EB",0,0,1,0,7000]
[20191107558,"2019-03-19","US-20 & 330th Ave/CR-X49","Interchange without ID",{"$f":"VLOOKUP(C330,Intersections!A:F,6,FALSE)","v":12000},{"$f":"VLOOKUP(C330,Intersections!A:G,7,FALSE)","v":3960},0.25,"Dubuque","EB in WB",0,0,2,1,30000]
[20191107558,"2019-03-19","US-20 & Wuchter Rd",null,{"$f":"VLOOKUP(C331,Intersections!A:F,6,FALSE)","v":13000},{"$f":"VLOOKUP(C331,Intersections!A:G,7,FALSE)","v":1530},0.25,"Dubuque","EB in WB",0,0,2,1,30000]
[20191107558,"2019-03-19","US-20 & IA-136",332,12000,8500,0.5,"Dubuque","EB in WB",0,0,2,1,30000]
[20191110593,"2019-04-27","US-151 & IA-1",398,13800,4280,1,"Jones","SB in NB",1,0,0,0,30000]
[20191112707,"2019-05-04","I-80 & US-69",125,87400,19600,1,"Polk","WB in EB",0,0,0,0,11000]
[20191113289,"2019-05-12","US-30 NE RAMP & WILLIAMS BLVD/US-151",383,{"$f":"VLOOKUP(C335,Intersections!A:F,6,FALSE)","v":20400},{"$f":"VLOOKUP(C335,Intersections!A:G,7,FALSE)","v":16200},0.25,"Linn","EB in WB",0,0,0,0,2915]
[20191113289,"2019-05-12","US-30 & Edgewood Rd",384,{"$f":"VLOOKUP(C336,Intersections!A:F,6,FALSE)","v":31500},{"$f":"VLOOKUP(C336,Intersections!A:G,7,FALSE)","v":10900},0.25,"Linn","EB in WB",0,0,0,0,2915]
[20191113289,"2019-05-12","US-30 & 6th St",385,27400,11415,0.5,"Linn","EB in WB",0,0,0,0,2915]
[20191113773,"2019-05-16","Crossover",null,40400,0,1,"Johnson","EB in WB",1,0,0,0,207500]
[20191113896,"2019-05-18","US-30 & 380th Ave",401,{"$f":"VLOOKUP(C339,Intersections!A:F,6,FALSE)","v":10700},{"$f":"VLOOKUP(C339,Intersections!A:G,7,FALSE)","v":1830},0.25,"Clinton","EB in WB",2,0,0,0,20000]
[20191113896,"2019-05-18","US-30 & 54th St",null,11500,270,0.75,"Clinton","EB in WB",2,0,0,0,20000]
[20191117435,"2019-06-08","I-380 & 7th St",463,{"$f":"VLOOKUP(C341,Intersections!A:F,6,FALSE)","v":90800},{"$f":"VLOOKUP(C341,Intersections!A:G,7,FALSE)","v":6900},1,"Linn","NB in SB",0,0,0,0,3000]
[20191120186,"2019-06-16","Attempted Suicide",null,null,null,1,"Johnson","EB in WB",0,2,0,1,63000]
[20191122694,"2019-07-05","US-30 & Edgewood Rd",384,{"$f":"VLOOKUP(C343,Intersections!A:F,6,FALSE)","v":31500},{"$f":"VLOOKUP(C343,Intersections!A:G,7,FALSE)","v":10900},0.5,"Linn","EB in WB",0,0,0,0,10000]
[20191122694,"2019-07-05","US-30 & WACONIA AVE/6TH ST SW",385,{"$f":"VLOOKUP(C344,Intersections!A:F,6,FALSE)","v":34000},{"$f":"VLOOKUP(C344,Intersections!A:G,7,FALSE)","v":12600},0.5,"Linn","EB in WB",0,0,0,0,10000]
[null,"2019-08-05","US-30 & 33rd Ave",null,{"$f":"VLOOKUP(C345,Intersections!A:F,6,FALSE)","v":{"$error":"#N/A"}},{"$f":"VLOOKUP(C345,Intersections!A:G,7,FALSE)","v":{"$error":"#N/A"}},0.33,"Benton","EB in WB",null,null,null,1]
[null,"2019-08-05","US-30 & 32nd Ave",null,{"$f":"VLOOKUP(C346,Intersections!A:F,6,FALSE)","v":11300},{"$f":"VLOOKUP(C346,Intersections!A:G,7,FALSE)","v":1790},0.33,"Benton","EB in WB",null,null,null,1]
[null,"2019-08-05","US-30 & 27 Ave",null,{"$f":"VLOOKUP(C347,Intersections!A:F,6,FALSE)","v":{"$error":"#N/A"}},{"$f":"VLOOKUP(C347,Intersections!A:G,7,FALSE)","v":{"$error":"#N/A"}},0.33,"Benton","EB in WB",null,null,null,1]
[20191128938,"2019-08-17","I-80 & IA-21",352,{"$f":"VLOOKUP(C348,Intersections!A:F,6,FALSE)","v":28700},{"$f":"VLOOKUP(C348,Intersections!A:G,7,FALSE)","v":3430},1,"Poweshiek","WB in EB",3,0,0,0,22000]
[20191151276,"2019-09-20","US-61 & Skyline Rd",null,{"$f":"VLOOKUP(C349,Intersections!A:F,6,FALSE)","v":8900},{"$f":"VLOOKUP(C349,Intersections!A:G,7,FALSE)","v":1470},0.5,"Dubuque","NB in SB",1,0,0,0,34000]
[20191151276,"2019-09-20","US-61 & Higginsport Rd",null,{"$f":"VLOOKUP(C350,Intersections!A:F,6,FALSE)","v":8900},{"$f":"VLOOKUP(C350,Intersections!A:G,7,FALSE)","v":250},0.5,"Dubuque","NB in SB",1,0,0,0,34000]
[20191143867,"2019-10-29","U-Turn",null,null,null,0.95,"Black Hawk","SB in NB",0,1,0,0,20000]
[20191146312,"2019-11-15","IA-122 & Mason City Airport",null,{"$f":"VLOOKUP(C352,Intersections!A:F,6,FALSE)","v":13800},{"$f":"VLOOKUP(C352,Intersections!A:G,7,FALSE)","v":0},0.99,"Cerro Gordo","EB in WB",0,0,1,1,10000]
[20191150351,"2019-12-07","I-29 & Wesley Pkwy & US-77",479,{"$f":"VLOOKUP(C353,Intersections!A:F,6,FALSE)","v":36800},{"$f":"VLOOKUP(C353,Intersections!A:G,7,FALSE)","v":28400},1,"Woodbury","SB in NB",1,0,1,0,25000]
[20191151116,"2019-12-11","U-Turn",null,{"$f":"VLOOKUP(C354,Intersections!A:F,6,FALSE)","v":0},{"$f":"VLOOKUP(C354,Intersections!A:G,7,FALSE)","v":0},1,"Cerro Gordo","SB in NB",0,0,0,2,70000]
[20191156879,"2019-12-21","US-30 & IA-234",null,{"$f":"VLOOKUP(C355,Intersections!A:F,6,FALSE)","v":7500},{"$f":"VLOOKUP(C355,Intersections!A:G,7,FALSE)","v":3120},0.99,"Marshall","EB in WB",1,0,0,1,10600]
[20191154239,"2019-12-29","I-80 & 86th St",100,{"$f":"VLOOKUP(C356,Intersections!A:F,6,FALSE)","v":96500},{"$f":"VLOOKUP(C356,Intersections!A:G,7,FALSE)","v":17500},0.75,"Polk","EB in WB",0,0,1,0,88000]
[20191154239,"2019-12-29","I-80 & 100th St",null,{"$f":"VLOOKUP(C357,Intersections!A:F,6,FALSE)","v":92300},{"$f":"VLOOKUP(C357,Intersections!A:G,7,FALSE)","v":6300},0.25,"Polk","EB in WB",0,0,1,0,88000]
[20201159247,"2020-01-21","I-80 & Coral Ridge Ave",415,{"$f":"VLOOKUP(C358,Intersections!A:F,6,FALSE)","v":62500},{"$f":"VLOOKUP(C358,Intersections!A:G,7,FALSE)","v":33200},1,"Johnson","EB in WB",0,0,0,0,6000]
[20201164406,"2020-02-26","US-218 & IA-92",null,{"$f":"VLOOKUP(C359,Intersections!A:F,6,FALSE)","v":11800},{"$f":"VLOOKUP(C359,Intersections!A:G,7,FALSE)","v":4480},0.99,"Washington","NB in SB",0,1,0,0,10000]
[20201171917,"2020-05-07","I-35 & CR-G14",46,{"$f":"VLOOKUP(C360,Intersections!A:F,6,FALSE)","v":26700},{"$f":"VLOOKUP(C360,Intersections!A:G,7,FALSE)","v":3290},0.99,"Warren","SB in NB",0,2,1,0,46000]
[20201178739,"2020-06-12","Crossover",null,{"$f":"VLOOKUP(C361,Intersections!A:F,6,FALSE)","v":22500},{"$f":"VLOOKUP(C361,Intersections!A:G,7,FALSE)","v":0},1,"Poweshiek","WB in EB",0,0,0,0,0]
[20201184608,"2020-08-07","US-18 & IA-60",112,{"$f":"VLOOKUP(C362,Intersections!A:F,6,FALSE)","v":6300},{"$f":"VLOOKUP(C362,Intersections!A:G,7,FALSE)","v":4520},0.5,"O'Brien","SB in NB",0,0,0,0,25000]
[20201184608,"2020-08-07","IA-60 & McKinley Ave",106,{"$f":"VLOOKUP(C363,Intersections!A:F,6,FALSE)","v":6400},{"$f":"VLOOKUP(C363,Intersections!A:G,7,FALSE)","v":2830},0.25,"O'Brien","SB in NB",0,0,0,0,25000]
[20201184608,"2020-08-07","IA 60 NW  RAMP & NEST AVE",107,{"$f":"VLOOKUP(C364,Intersections!A:F,6,FALSE)","v":4010},{"$f":"VLOOKUP(C364,Intersections!A:G,7,FALSE)","v":380},0.25,"O'Brien","SB in NB",0,0,0,0,25000]
[20201187983,"2020-08-23","US-20  N Ramp & XIRCUS AVE",{"$f":"VLOOKUP(C365,Intersections!A:B,2,FALSE)","v":95},{"$f":"VLOOKUP(C365,Intersections!A:F,6,FALSE)","v":8900},{"$f":"VLOOKUP(C365,Intersections!A:G,7,FALSE)","v":360},0.75,"Hamilton","EB in WB",0,1,1,3,35000]
[20201187983,"2020-08-23","US-20  N Ramp & LITTLE WALL LAKE RD/ US 69",{"$f":"VLOOKUP(C366,Intersections!A:B,2,FALSE)","v":92},{"$f":"VLOOKUP(C366,Intersections!A:F,6,FALSE)","v":9500},{"$f":"VLOOKUP(C366,Intersections!A:G,7,FALSE)","v":1240},0.25,"Hamilton","EB in WB",0,1,1,3,35000]
[20201192408,"2020-09-20","US-63 & US-18/IA-346",{"$f":"VLOOKUP(C367,Intersections!A:B,2,FALSE)","v":236},{"$f":"VLOOKUP(C367,Intersections!A:F,6,FALSE)","v":5300},{"$f":"VLOOKUP(C367,Intersections!A:G,7,FALSE)","v":2110},1,"Chickasaw","NB in SB",null,1,1,null,200000]
[20201191645,"2020-09-22","US-34 & E Main St/Henry Des Moines Ave",null,{"$f":"VLOOKUP(C368,Intersections!A:F,6,FALSE)","v":8800},{"$f":"VLOOKUP(C368,Intersections!A:G,7,FALSE)","v":1280},1,"Des Moines","EB in WB",0,1,1,0,5000]
[null,"2020-10-23","Ia-5 & Caseys",{"$f":"VLOOKUP(C369,Intersections!A:B,2,FALSE)","v":{"$error":"#N/A"}},{"$f":"VLOOKUP(C369,Intersections!A:F,6,FALSE)","v":{"$error":"#N/A"}},{"$f":"VLOOKUP(C369,Intersections!A:G,7,FALSE)","v":{"$error":"#N/A"}},0.5,"Warren","EB in WB"]
[null,"2020-10-23","Ia-5 & Se 52nd St",{"$f":"VLOOKUP(C370,Intersections!A:B,2,FALSE)","v":{"$error":"#N/A"}},{"$f":"VLOOKUP(C370,Intersections!A:F,6,FALSE)","v":{"$error":"#N/A"}},{"$f":"VLOOKUP(C370,Intersections!A:G,7,FALSE)","v":{"$error":"#N/A"}},0.5,"Warren","EB in WB"]
[20201199583,"2020-11-08","I-235 & Keosauqua Way",{"$f":"VLOOKUP(C371,Intersections!A:B,2,FALSE)","v":501},{"$f":"VLOOKUP(C371,Intersections!A:F,6,FALSE)","v":91300},{"$f":"VLOOKUP(C371,Intersections!A:G,7,FALSE)","v":13800},1,"Polk","EB in WB",0,0,0,0,15000]
[null,"2020-11-21","US-61 & Cedar St",{"$f":"VLOOKUP(C372,Intersections!A:B,2,FALSE)","v":{"$error":"#N/A"}},{"$f":"VLOOKUP(C372,Intersections!A:F,6,FALSE)","v":{"$error":"#N/A"}},{"$f":"VLOOKUP(C372,Intersections!A:G,7,FALSE)","v":{"$error":"#N/A"}},0.5,"Muscatine","SB in NB"]
[null,"2020-11-21","US-61 & Lucas St",{"$f":"VLOOKUP(C373,Intersections!A:B,2,FALSE)","v":{"$error":"#N/A"}},{"$f":"VLOOKUP(C373,Intersections!A:F,6,FALSE)","v":{"$error":"#N/A"}},{"$f":"VLOOKUP(C373,Intersections!A:G,7,FALSE)","v":{"$error":"#N/A"}},0.5,"Muscatine","SB in NB"]
[null,"2020-12-12","Attempted Suicide",null,null,null,1,"Polk","WB in EB",null,null,null,3]
[null,"2020-12-21","U-Turn",{"$f":"VLOOKUP(C375,Intersections!A:B,2,FALSE)","v":0},{"$f":"VLOOKUP(C375,Intersections!A:F,6,FALSE)","v":0},{"$f":"VLOOKUP(C375,Intersections!A:G,7,FALSE)","v":0},0.99,"Cedar","EB in WB",null,null,null,3]
[null,"2020-12-26","I-80 SE RAMP & 20 AVE",{"$f":"VLOOKUP(C376,Intersections!A:B,2,FALSE)","v":448},{"$f":"VLOOKUP(C376,Intersections!A:F,6,FALSE)","v":35200},{"$f":"VLOOKUP(C376,Intersections!A:G,7,FALSE)","v":790},0.33,"Scott","EB in WB",null,null,null,2]
[null,"2020-12-26","I-80 NE RAMP & YANKEE AVE",{"$f":"VLOOKUP(C377,Intersections!A:B,2,FALSE)","v":443},{"$f":"VLOOKUP(C377,Intersections!A:F,6,FALSE)","v":34800},{"$f":"VLOOKUP(C377,Intersections!A:G,7,FALSE)","v":2310},0.33,"Scott","EB in WB",null,null,null,2]
[null,"2020-12-26","I-80 & Ia-38",{"$f":"VLOOKUP(C378,Intersections!A:B,2,FALSE)","v":440},{"$f":"VLOOKUP(C378,Intersections!A:F,6,FALSE)","v":36200},{"$f":"VLOOKUP(C378,Intersections!A:G,7,FALSE)","v":3540},0.33,"Scott","EB in WB",null,null,null,2]

{"sheet":"Non-Crash Events","index":1,"n_rows":489,"n_cols":19,"rows_kept":489,"cut":false,"hidden":false,"merged":[]}
["UID","Interchange","Major AADT","Minor AADT","City","Interchange Type","Date","Military_Time","Day","Adj. Day","Direction","POE_Known","Video","Caught","EIN #","Crash Case Number","Crash_Severity","Certainty"]
["AMES-na","US-30 & Dayton Ave",{"$f":"VLOOKUP(B2,Intersections!A:G,6,FALSE)","v":32100},{"$f":"VLOOKUP(B2,Intersections!A:G,7,FALSE)","v":12000},"Ames",{"$f":"VLOOKUP(B2,Intersections!A:E,5,FALSE)","v":"Diamond"},"2013-11-05",2243,"Tuesday","Tuesday","EB in WB","Yes","Yes","0-No",null,null,null,1]
["AMES-na","US-30 & Dayton Ave",{"$f":"VLOOKUP(B3,Intersections!A:G,6,FALSE)","v":32100},{"$f":"VLOOKUP(B3,Intersections!A:G,7,FALSE)","v":12000},"Ames",{"$f":"VLOOKUP(B3,Intersections!A:E,5,FALSE)","v":"Diamond"},"2013-11-22",107,"Friday","Thursday","EB in WB","Yes","Yes","0-No",null,null,null,1]
["AMES-1","I 35 S & I 35 S TO US 30 W",{"$f":"VLOOKUP(B4,Intersections!A:G,6,FALSE)","v":44300},{"$f":"VLOOKUP(B4,Intersections!A:G,7,FALSE)","v":30900},"Ames",{"$f":"VLOOKUP(B4,Intersections!A:E,5,FALSE)","v":"System"},"2014-07-05",256,"Saturday","Friday","WB in EB ","Yes","Yes","0-No",null,null,null,1]
["AMES-2","US-30 & Dayton Ave",{"$f":"VLOOKUP(B5,Intersections!A:G,6,FALSE)","v":32100},{"$f":"VLOOKUP(B5,Intersections!A:G,7,FALSE)","v":12000},"Ames",{"$f":"VLOOKUP(B5,Intersections!A:E,5,FALSE)","v":"Diamond"},"2014-07-08",822,"Tuesday ","Tuesday","WB in EB ","Yes","No","0-No",null,null,null,1]
["AMES-3","I 35 S & I 35 S TO US 30 W",{"$f":"VLOOKUP(B6,Intersections!A:G,6,FALSE)","v":44300},{"$f":"VLOOKUP(B6,Intersections!A:G,7,FALSE)","v":30900},"Ames",{"$f":"VLOOKUP(B6,Intersections!A:E,5,FALSE)","v":"System"},"2014-07-27",411,"Sunday","Saturday","WB in EB and EB in WB ","Yes","Yes","0-No",null,null,null,1]
["AMES-7","US-30 & Dayton Ave",{"$f":"VLOOKUP(B7,Intersections!A:G,6,FALSE)","v":32100},{"$f":"VLOOKUP(B7,Intersections!A:G,7,FALSE)","v":12000},"Ames",{"$f":"VLOOKUP(B7,Intersections!A:E,5,FALSE)","v":"Diamond"},"2014-09-21",140,"Sunday","Saturday","WB in EB ","Yes","No","0-No",null,null,null,1]
["AMES-8","US-30 & 650th Ave/CR-S27",{"$f":"VLOOKUP(B8,Intersections!A:G,6,FALSE)","v":10300},{"$f":"VLOOKUP(B8,Intersections!A:G,7,FALSE)","v":1040},"Nevada",{"$f":"VLOOKUP(B8,Intersections!A:E,5,FALSE)","v":"At Grade"},"2014-09-23",350,"Tuesday ","Monday","WB in EB ","Yes","Yes","0-No",null,null,null,1]
["AMES-78","US-30 & Dayton Ave",{"$f":"VLOOKUP(B9,Intersections!A:G,6,FALSE)","v":32100},{"$f":"VLOOKUP(B9,Intersections!A:G,7,FALSE)","v":12000},"Ames",{"$f":"VLOOKUP(B9,Intersections!A:E,5,FALSE)","v":"Diamond"},"2014-10-07",1854,"Tuesday ","Tuesday","EB in WB","Yes","Yes","0-No",null,null,null,1]
["AMES-10","U-Turn",{"$f":"VLOOKUP(B10,Intersections!A:G,6,FALSE)","v":0},{"$f":"VLOOKUP(B10,Intersections!A:G,7,FALSE)","v":0},"Boone",{"$f":"VLOOKUP(B10,Intersections!A:E,5,FALSE)","v":"n/a"},"2014-10-21",2049,"Tuesday ","Tuesday","WB in EB ","Yes","Yes","0-No",null,null,null,1]
["AMES-12","US-30 & IA-930/Lincoln Way",{"$f":"VLOOKUP(B11,Intersections!A:G,6,FALSE)","v":17100},{"$f":"VLOOKUP(B11,Intersections!A:G,7,FALSE)","v":5600},"Ames",{"$f":"VLOOKUP(B11,Intersections!A:E,5,FALSE)","v":"Split"},"2014-11-30",1542,"Sunday","Saturday","WB in EB ","Yes","Yes","0-No",null,null,null,1]
["AMES-13","US-30 & University Blvd",{"$f":"VLOOKUP(B12,Intersections!A:G,6,FALSE)","v":18300},{"$f":"VLOOKUP(B12,Intersections!A:G,7,FALSE)","v":15400},"Ames",{"$f":"VLOOKUP(B12,Intersections!A:E,5,FALSE)","v":"Diamond"},"2015-02-13",1346,"Friday","Friday","WB in EB ","Yes","Yes","0-No",null,null,null,1]
[103,"IA-163 & 91st St",15000,220,"Pleasant Hill",{"$f":"VLOOKUP(B13,Intersections!A:E,5,FALSE)","v":"At Grade"},"2015-03-24",2343,"Tuesday","Tuesday","3-WB in EB","No","No","0-No",null,null,null,0.25]
["AMES-15","US-30 & IA-930/Lincoln Way",{"$f":"VLOOKUP(B14,Intersections!A:G,6,FALSE)","v":17100},{"$f":"VLOOKUP(B14,Intersections!A:G,7,FALSE)","v":5600},"Ames",{"$f":"VLOOKUP(B14,Intersections!A:E,5,FALSE)","v":"Split"},"2015-04-10",1336,"Friday","Friday","WB in EB ","Yes","Yes","0-No",null,null,null,1]
["AMES-16","US-30 & W Ave",{"$f":"VLOOKUP(B15,Intersections!A:G,6,FALSE)","v":16400},{"$f":"VLOOKUP(B15,Intersections!A:G,7,FALSE)","v":820},"Ames",{"$f":"VLOOKUP(B15,Intersections!A:E,5,FALSE)","v":"At Grade"},"2015-05-10",506,"Sunday","Saturday","EB in WB","Yes","Yes","0-No",null,null,null,1]
["AMES-18","US-30 & Duff Ave/US-69",{"$f":"VLOOKUP(B16,Intersections!A:G,6,FALSE)","v":32400},{"$f":"VLOOKUP(B16,Intersections!A:G,7,FALSE)","v":25900},"Ames",{"$f":"VLOOKUP(B16,Intersections!A:E,5,FALSE)","v":"Excluded Unique"},"2015-05-29",2145,"Friday","Friday","EB in WB","Yes","No","0-No",null,null,null,1]
["AMES-19","US-30 & 19th St",{"$f":"VLOOKUP(B17,Intersections!A:G,6,FALSE)","v":12200},{"$f":"VLOOKUP(B17,Intersections!A:G,7,FALSE)","v":4240},"Nevada",{"$f":"VLOOKUP(B17,Intersections!A:E,5,FALSE)","v":"Unique"},"2015-06-19",2130,{"$f":"IF(G17=\"\",\"\",CHOOSE(WEEKDAY(G17,2),\"Monday\",\"Tuesday\",\"Wednesday\",\"Thursday\",\"Friday\",\"Saturday\",\"Sunday\"))","v":"Friday"},{"$f":"IF(H17=\"\",\"\",CHOOSE(WEEKDAY(H17,2),\"Monday\",\"Tuesday\",\"Wednesday\",\"Thursday\",\"Friday\",\"Saturday\",\"Sunday\"))","v":"Monday"},"WB in EB ","Yes","Yes","0-No",null,null,null,1]
["AMES-20","US-30 & S Linn St",{"$f":"VLOOKUP(B18,Intersections!A:G,6,FALSE)","v":14100},{"$f":"VLOOKUP(B18,Intersections!A:G,7,FALSE)","v":5100},"Boone",{"$f":"VLOOKUP(B18,Intersections!A:E,5,FALSE)","v":"At Grade"},"2015-06-26",128,"Thursday ","Wednesday","EB in WB","Yes","Yes","1-Yes",null,null,null,1]
["AMES-21","US-30 & 19th St",{"$f":"VLOOKUP(B19,Intersections!A:G,6,FALSE)","v":12200},{"$f":"VLOOKUP(B19,Intersections!A:G,7,FALSE)","v":4240},"Nevada",{"$f":"VLOOKUP(B19,Intersections!A:E,5,FALSE)","v":"Unique"},"2015-06-28",1341,"Sunday","Sunday","WB in EB ","Yes","Yes","0-No",null,null,null,1]
["AMES-23","I 35 S & I 35 S TO US 30 W",{"$f":"VLOOKUP(B20,Intersections!A:G,6,FALSE)","v":44300},{"$f":"VLOOKUP(B20,Intersections!A:G,7,FALSE)","v":30900},"Nevada",{"$f":"VLOOKUP(B20,Intersections!A:E,5,FALSE)","v":"System"},"2015-08-09",415,"Sunday","Saturday","WB in EB ","Yes","Yes","0-No",null,null,null,1]
["AMES-26","US-30 & T Ave",{"$f":"VLOOKUP(B21,Intersections!A:G,6,FALSE)","v":16300},{"$f":"VLOOKUP(B21,Intersections!A:G,7,FALSE)","v":35},"Boone",{"$f":"VLOOKUP(B21,Intersections!A:E,5,FALSE)","v":"At Grade"},"2015-10-08",447,"Thursday ","Wednesday","WB in EB ","Yes","Yes","0-No",null,null,null,1]
["AMES-28","U-Turn",{"$f":"VLOOKUP(B22,Intersections!A:G,6,FALSE)","v":0},{"$f":"VLOOKUP(B22,Intersections!A:G,7,FALSE)","v":0},"Ames",{"$f":"VLOOKUP(B22,Intersections!A:E,5,FALSE)","v":"n/a"},"2015-10-23",314,"Friday","Thursday ","EB in WB","Yes","Yes","0-No",null,null,null,1]
["AMES-30","US-30 & S Linn St",{"$f":"VLOOKUP(B23,Intersections!A:G,6,FALSE)","v":14100},{"$f":"VLOOKUP(B23,Intersections!A:G,7,FALSE)","v":5100},"Boone",{"$f":"VLOOKUP(B23,Intersections!A:E,5,FALSE)","v":"At Grade"},"2015-12-08",447,"Tuesday ","Monday","EB in WB","Yes","Yes","1-Yes",null,null,null,1]
["AMES-31","US-30 & 18th St/610th Ave",{"$f":"VLOOKUP(B24,Intersections!A:G,6,FALSE)","v":15300},{"$f":"VLOOKUP(B24,Intersections!A:G,7,FALSE)","v":2240},"Nevada",{"$f":"VLOOKUP(B24,Intersections!A:E,5,FALSE)","v":"At Grade"},"2015-12-09",1220,"Wednesday","Wednesday","EB in WB","Yes","Yes","0-No",null,null,null,1]
["AMES-32","US-30 & 580th Ave",{"$f":"VLOOKUP(B25,Intersections!A:G,6,FALSE)","v":17300},{"$f":"VLOOKUP(B25,Intersections!A:G,7,FALSE)","v":1790},"Ames",{"$f":"VLOOKUP(B25,Intersections!A:E,5,FALSE)","v":"At Grade"},"2015-12-19",447,"Saturday","Friday","EB in WB","Yes","Yes","1-Yes",null,null,null,1]
["AMES-34","US-30 & S Linn St",{"$f":"VLOOKUP(B26,Intersections!A:G,6,FALSE)","v":14100},{"$f":"VLOOKUP(B26,Intersections!A:G,7,FALSE)","v":5100},"Boone",{"$f":"VLOOKUP(B26,Intersections!A:E,5,FALSE)","v":"At Grade"},"2016-01-10",530,"Sunday","Saturday","EB in WB","Yes","Yes","0-No",null,null,null,1]
["AMES-35","US-30 & Duff Ave/US-69",{"$f":"VLOOKUP(B27,Intersections!A:G,6,FALSE)","v":32400},{"$f":"VLOOKUP(B27,Intersections!A:G,7,FALSE)","v":25900},"Ames",{"$f":"VLOOKUP(B27,Intersections!A:E,5,FALSE)","v":"Excluded Unique"},"2016-01-25",1106,"Monday","Monday","EB in WB","Yes","Yes","0-No",null,null,null,1]
["AMES-36","US-30 & Corporal Roger Snedden Dr",{"$f":"VLOOKUP(B28,Intersections!A:G,6,FALSE)","v":14400},{"$f":"VLOOKUP(B28,Intersections!A:G,7,FALSE)","v":2440},"Boone",{"$f":"VLOOKUP(B28,Intersections!A:E,5,FALSE)","v":"At Grade"},"2016-03-08",2243,"Tuesday ","Tuesday","EB in WB","Yes","Yes","0-No",null,null,null,1]
["AMES-37","US-30 & T Ave",{"$f":"VLOOKUP(B29,Intersections!A:G,6,FALSE)","v":16300},{"$f":"VLOOKUP(B29,Intersections!A:G,7,FALSE)","v":35},"Boone",{"$f":"VLOOKUP(B29,Intersections!A:E,5,FALSE)","v":"At Grade"},"2016-03-12",354,"Saturday","Friday","EB in WB ","Yes","Yes","1-Yes",null,null,null,1]
["AMES-41","US-30 & Corporal Roger Snedden Dr",{"$f":"VLOOKUP(B30,Intersections!A:G,6,FALSE)","v":14400},{"$f":"VLOOKUP(B30,Intersections!A:G,7,FALSE)","v":2440},"Boone",{"$f":"VLOOKUP(B30,Intersections!A:E,5,FALSE)","v":"At Grade"},"2016-04-06",34,"Wednesday","Tuesday","EB in WB","Yes","Yes","0-No",null,null,null,1]
["AMES-43","US-30 & S Linn St",{"$f":"VLOOKUP(B31,Intersections!A:G,6,FALSE)","v":14100},{"$f":"VLOOKUP(B31,Intersections!A:G,7,FALSE)","v":5100},"Boone",{"$f":"VLOOKUP(B31,Intersections!A:E,5,FALSE)","v":"At Grade"},"2016-04-17",112,"Sunday","Saturday","EB in WB","Yes","Yes","0-No",null,null,null,1]
["AMES-42","US-30 & Story St",{"$f":"VLOOKUP(B32,Intersections!A:G,6,FALSE)","v":11700},{"$f":"VLOOKUP(B32,Intersections!A:G,7,FALSE)","v":6700},"Boone",{"$f":"VLOOKUP(B32,Intersections!A:E,5,FALSE)","v":"At Grade"},"2016-06-10",206,"Sunday","Saturday","EB in WB","Yes","Yes","0-No",null,null,null,1]
["AMES-44","US-30 & T Ave",{"$f":"VLOOKUP(B33,Intersections!A:G,6,FALSE)","v":16300},{"$f":"VLOOKUP(B33,Intersections!A:G,7,FALSE)","v":35},"Boone",{"$f":"VLOOKUP(B33,Intersections!A:E,5,FALSE)","v":"At Grade"},"2016-06-22",127,"Wednesday","Wednesday","EB in WB","Yes","Yes","1-Yes",null,null,null,1]
["AMES-46","US-30 & T Ave",{"$f":"VLOOKUP(B34,Intersections!A:G,6,FALSE)","v":16300},{"$f":"VLOOKUP(B34,Intersections!A:G,7,FALSE)","v":35},"Boone",{"$f":"VLOOKUP(B34,Intersections!A:E,5,FALSE)","v":"At Grade"},"2016-07-03",401,"Sunday","Saturday","EB in WB","Yes","Yes","0-No",null,null,null,1]
[22,"I-380 & Wilson Ave",81100,15000,"Cedar Rapids",{"$f":"VLOOKUP(B35,Intersections!A:E,5,FALSE)","v":"Diamond"},"2016-07-05",332,"Tuesday","Monday","2-SB in NB","Yes","Yes","1-Yes",null,20160935074,"1 - Fatal"]
["AMES-47","US-30 & IA-930/Lincoln Way",{"$f":"VLOOKUP(B36,Intersections!A:G,6,FALSE)","v":17100},{"$f":"VLOOKUP(B36,Intersections!A:G,7,FALSE)","v":5600},"Ames",{"$f":"VLOOKUP(B36,Intersections!A:E,5,FALSE)","v":"Split"},"2016-07-28",150,"Friday","Thursday ","EB in WB","Yes","Yes","0-No",null,null,null,1]
["AMES-49","US-30 & SW 4th St/CR-S14",{"$f":"VLOOKUP(B37,Intersections!A:G,6,FALSE)","v":15000},{"$f":"VLOOKUP(B37,Intersections!A:G,7,FALSE)","v":2830},"Nevada",{"$f":"VLOOKUP(B37,Intersections!A:E,5,FALSE)","v":"At Grade"},"2016-08-06",2301,"Saturday","Saturday","WB in EB ","Yes","Yes","0-No",null,null,null,1]
[25,"I-35 & Oralabor Rd",80700,30200,"Ankeny",{"$f":"VLOOKUP(B38,Intersections!A:E,5,FALSE)","v":"Diamond"},"2016-08-20",130,"Saturday","Friday","1-NB in SB","Yes","Yes","0-No",null,null,null,1]
[173,"I- 35 E  Ramp & E 13TH ST",{"$f":"VLOOKUP(B39,Intersections!A:G,6,FALSE)","v":34500},{"$f":"VLOOKUP(B39,Intersections!A:G,7,FALSE)","v":13600},"Ames",{"$f":"VLOOKUP(B39,Intersections!A:E,5,FALSE)","v":"Diamond"},"2016-08-20",130,{"$f":"IF(G39=\"\",\"\",CHOOSE(WEEKDAY(G39,2),\"Monday\",\"Tuesday\",\"Wednesday\",\"Thursday\",\"Friday\",\"Saturday\",\"Sunday\"))","v":"Saturday"},{"$f":"IF(G39=\"\",\"\",IF(H39<500,CHOOSE(WEEKDAY(G39,2)-1,\"Monday\",\"Tuesday\",\"Wednesday\",\"Thursday\",\"Friday\",\"Saturday\",\"Sunday\"),I39))","v":"Friday"},"NB in SB","Yes","Yes","0-No",null,null,null,1]
["AMES-51","US-30 & T Ave",{"$f":"VLOOKUP(B40,Intersections!A:G,6,FALSE)","v":16300},{"$f":"VLOOKUP(B40,Intersections!A:G,7,FALSE)","v":35},"Boone",{"$f":"VLOOKUP(B40,Intersections!A:E,5,FALSE)","v":"At Grade"},"2016-08-23",850,"Friday","Friday","EB in WB","Yes","Yes","0-No",null,null,null,1]
["AMES-53","US-30 & Duff Ave/US-69",{"$f":"VLOOKUP(B41,Intersections!A:G,6,FALSE)","v":32400},{"$f":"VLOOKUP(B41,Intersections!A:G,7,FALSE)","v":25900},"Ames",{"$f":"VLOOKUP(B41,Intersections!A:E,5,FALSE)","v":"Excluded Unique"},"2016-10-07",953,"Friday","Friday","EB in WB","Yes","Yes","0-No",null,null,null,1]
["AMES-54","I 35 S & I 35 S TO US 30 W",{"$f":"VLOOKUP(B42,Intersections!A:G,6,FALSE)","v":44300},{"$f":"VLOOKUP(B42,Intersections!A:G,7,FALSE)","v":30900},"Ames",{"$f":"VLOOKUP(B42,Intersections!A:E,5,FALSE)","v":"System"},"2016-10-08",2232,"Saturday","Saturday","WB in EB ","Yes","Yes","1-Yes",null,null,null,1]
["Ames-55.1","US-30 & University Blvd",{"$f":"VLOOKUP(B43,Intersections!A:G,6,FALSE)","v":18300},{"$f":"VLOOKUP(B43,Intersections!A:G,7,FALSE)","v":15400},"Ames",{"$f":"VLOOKUP(B43,Intersections!A:E,5,FALSE)","v":"Diamond"},"2016-11-01",945,"Tuesday","Tuesday","WB in EB","Yes","No","0-No",null,null,null,0.99]
["AMES-56","US-30 & Corporal Roger Snedden Dr",{"$f":"VLOOKUP(B44,Intersections!A:G,6,FALSE)","v":14400},{"$f":"VLOOKUP(B44,Intersections!A:G,7,FALSE)","v":2440},"Boone",{"$f":"VLOOKUP(B44,Intersections!A:E,5,FALSE)","v":"At Grade"},"2016-11-11",341,"Friday","Thursday ","EB in WB","Yes","Yes","1-Yes",null,null,null,1]
["AMES-57","US-30 & W Ave",{"$f":"VLOOKUP(B45,Intersections!A:G,6,FALSE)","v":16400},{"$f":"VLOOKUP(B45,Intersections!A:G,7,FALSE)","v":820},"Boone",{"$f":"VLOOKUP(B45,Intersections!A:E,5,FALSE)","v":"At Grade"},"2016-11-12",312,"Saturday","Friday","EB in WB","Yes","Yes","1-Yes",null,null,null,1]
["AMES-58","US-30 & SW 4th St/CR-S14",{"$f":"VLOOKUP(B46,Intersections!A:G,6,FALSE)","v":15000},{"$f":"VLOOKUP(B46,Intersections!A:G,7,FALSE)","v":2830},"Nevada",{"$f":"VLOOKUP(B46,Intersections!A:E,5,FALSE)","v":"At Grade"},"2017-01-18",2307,"Wednesday","Wednesday","EB in WB","Yes","Yes","1-Yes",null,null,null,1]
["AMES-59","US-30 & W Ave",{"$f":"VLOOKUP(B47,Intersections!A:G,6,FALSE)","v":16400},{"$f":"VLOOKUP(B47,Intersections!A:G,7,FALSE)","v":820},"Boone",{"$f":"VLOOKUP(B47,Intersections!A:E,5,FALSE)","v":"At Grade"},"2017-02-07",2007,"Tuesday ","Tuesday","EB in WB","Yes","Yes","1-Yes",null,null,null,1]
[104,"IA-163 & Fareway Access",21400,0,"Pleasant Hill",{"$f":"VLOOKUP(B48,Intersections!A:E,5,FALSE)","v":"At Grade"},"2017-03-06",1913,"Monday","Monday","4-EB in WB","No","No","0-No",null,null,null,0.25]
["AMES-60","U-Turn",{"$f":"VLOOKUP(B49,Intersections!A:G,6,FALSE)","v":0},{"$f":"VLOOKUP(B49,Intersections!A:G,7,FALSE)","v":0},"Ames",{"$f":"VLOOKUP(B49,Intersections!A:E,5,FALSE)","v":"n/a"},"2017-04-05",41,"Sunday","Saturday","WB in EB ","Yes","Yes","0-No",null,null,null,1]
["AMES-62","US-30 & Sand Hill Trail",{"$f":"VLOOKUP(B50,Intersections!A:G,6,FALSE)","v":17300},{"$f":"VLOOKUP(B50,Intersections!A:G,7,FALSE)","v":700},"Ames",{"$f":"VLOOKUP(B50,Intersections!A:E,5,FALSE)","v":"At Grade"},"2017-04-21",526,"Sunday","Saturday","WB in EB ","Yes","Yes","0-No",null,null,null,1]
["AMES-66","I 35 S & I 35 S TO US 30 W",{"$f":"VLOOKUP(B51,Intersections!A:G,6,FALSE)","v":44300},{"$f":"VLOOKUP(B51,Intersections!A:G,7,FALSE)","v":30900},"Ames",{"$f":"VLOOKUP(B51,Intersections!A:E,5,FALSE)","v":"System"},"2017-05-16",312,"Tuesday ","Monday","WB in EB ","Yes","Yes","0-No",null,null,null,1]
["AMES-67","US-30 & University Blvd",{"$f":"VLOOKUP(B52,Intersections!A:G,6,FALSE)","v":18300},{"$f":"VLOOKUP(B52,Intersections!A:G,7,FALSE)","v":15400},"Ames",{"$f":"VLOOKUP(B52,Intersections!A:E,5,FALSE)","v":"Diamond"},"2017-05-16",2117,"Tuesday ","Tuesday","WB in EB ","Yes","Yes","0-No",null,null,null,1]
["AMES-69","I 35 S & I 35 S TO US 30 W",{"$f":"VLOOKUP(B53,Intersections!A:G,6,FALSE)","v":44300},{"$f":"VLOOKUP(B53,Intersections!A:G,7,FALSE)","v":30900},"Ames",{"$f":"VLOOKUP(B53,Intersections!A:E,5,FALSE)","v":"System"},"2017-06-19",19,"Monday","Sunday","WB in EB","Yes","Yes","0-No",null,null,null,1]
["Ames-201","US-30 & Story St",{"$f":"VLOOKUP(B54,Intersections!A:G,6,FALSE)","v":11700},{"$f":"VLOOKUP(B54,Intersections!A:G,7,FALSE)","v":6700},"Ames",{"$f":"VLOOKUP(B54,Intersections!A:E,5,FALSE)","v":"At Grade"},"2017-06-28",1210,{"$f":"IF(G54=\"\",\"\",CHOOSE(WEEKDAY(G54,2),\"Monday\",\"Tuesday\",\"Wednesday\",\"Thursday\",\"Friday\",\"Saturday\",\"Sunday\"))","v":"Wednesday"},{"$f":"IF(G54=\"\",\"\",IF(H54<500,CHOOSE(WEEKDAY(G54,2)-1,\"Monday\",\"Tuesday\",\"Wednesday\",\"Thursday\",\"Friday\",\"Saturday\",\"Sunday\"),I54))","v":"Wednesday"},null,"No","No","0-No"]
["AMES-70","US-30 & T Ave",{"$f":"VLOOKUP(B55,Intersections!A:G,6,FALSE)","v":16300},{"$f":"VLOOKUP(B55,Intersections!A:G,7,FALSE)","v":35},"Boone",{"$f":"VLOOKUP(B55,Intersections!A:E,5,FALSE)","v":"At Grade"},"2017-07-01",2143,"Saturday","Saturday","EB in WB","Yes","Yes","0-No",null,null,null,1]
[105,"IA-163 & IA-316",15000,1850,"Pleasant Hill",{"$f":"VLOOKUP(B56,Intersections!A:E,5,FALSE)","v":"At Grade"},"2017-07-26",104,"Wednesday","Tuesday","3-WB in EB","No","No","1-Yes",null,null,null,0.25]
["AMES-71","US-30 & University Blvd",{"$f":"VLOOKUP(B57,Intersections!A:G,6,FALSE)","v":18300},{"$f":"VLOOKUP(B57,Intersections!A:G,7,FALSE)","v":15400},"Ames",{"$f":"VLOOKUP(B57,Intersections!A:E,5,FALSE)","v":"Diamond"},"2017-08-18",2124,"Friday","Friday","WB in EB","Yes","Yes","0-No",null,null,null,1]
[102,"IA-163 & 12th Ave",18000,140,"Pleasant Hill",{"$f":"VLOOKUP(B58,Intersections!A:E,5,FALSE)","v":"At Grade"},"2017-08-19",2223,"Saturday","Saturday","4-EB in WB","No","No","0-No",null,null,null,0.25]
["AMES-72","US-30 & University Blvd",{"$f":"VLOOKUP(B59,Intersections!A:G,6,FALSE)","v":18300},{"$f":"VLOOKUP(B59,Intersections!A:G,7,FALSE)","v":15400},"Ames",{"$f":"VLOOKUP(B59,Intersections!A:E,5,FALSE)","v":"Diamond"},"2017-08-23",1310,"Wednesday","Wednesday","WB in EB","Yes","Yes","0-No",null,null,null,1]
["AMES-73","US-30 & IA-930/Lincoln Way",{"$f":"VLOOKUP(B60,Intersections!A:G,6,FALSE)","v":17100},{"$f":"VLOOKUP(B60,Intersections!A:G,7,FALSE)","v":5600},"Ames",{"$f":"VLOOKUP(B60,Intersections!A:E,5,FALSE)","v":"Split"},"2017-08-24",1912,"Thursday ","Thursday ","EB in WB","Yes","Yes","0-No",null,null,null,1]
["AMES-74","US-30 & Duff Ave/US-69",{"$f":"VLOOKUP(B61,Intersections!A:G,6,FALSE)","v":32400},{"$f":"VLOOKUP(B61,Intersections!A:G,7,FALSE)","v":25900},"Ames",{"$f":"VLOOKUP(B61,Intersections!A:E,5,FALSE)","v":"Excluded Unique"},"2017-09-02",2117,"Saturday","Saturday","EB in WB","Yes","Yes","0-No",null,null,null,1]
["AMES-75","US-30 & Sand Hill Trail",{"$f":"VLOOKUP(B62,Intersections!A:G,6,FALSE)","v":17300},{"$f":"VLOOKUP(B62,Intersections!A:G,7,FALSE)","v":700},"Ames",{"$f":"VLOOKUP(B62,Intersections!A:E,5,FALSE)","v":"At Grade"},"2017-09-03",2053,"Sunday","Sunday","WB in EB","Yes","Yes","1-Yes",null,null,null,1]
["AMES-76","US-30 & S Linn St",{"$f":"VLOOKUP(B63,Intersections!A:G,6,FALSE)","v":14100},{"$f":"VLOOKUP(B63,Intersections!A:G,7,FALSE)","v":5100},"Boone",{"$f":"VLOOKUP(B63,Intersections!A:E,5,FALSE)","v":"At Grade"},"2017-09-04",2322,"Monday","Monday","EB in WB","Yes","Yes","1-Yes",null,null,null,1]
["AMES-77","US-30 & T Ave",{"$f":"VLOOKUP(B64,Intersections!A:G,6,FALSE)","v":16300},{"$f":"VLOOKUP(B64,Intersections!A:G,7,FALSE)","v":35},"Boone",{"$f":"VLOOKUP(B64,Intersections!A:E,5,FALSE)","v":"At Grade"},"2017-09-10",1455,"Sunday","Sunday","EB in WB","Yes","Yes","0-No",null,null,null,1]
["AMES-80","I- 35 E  Ramp & E 13TH ST",{"$f":"VLOOKUP(B65,Intersections!A:G,6,FALSE)","v":34500},{"$f":"VLOOKUP(B65,Intersections!A:G,7,FALSE)","v":13600},"Ames",{"$f":"VLOOKUP(B65,Intersections!A:E,5,FALSE)","v":"Diamond"},"2017-09-24",2206,"Sunday","Sunday","SB in NB","Yes","No","0-No",null,null,null,1]
["AMES-81","US-30 & University Blvd",{"$f":"VLOOKUP(B66,Intersections!A:G,6,FALSE)","v":18300},{"$f":"VLOOKUP(B66,Intersections!A:G,7,FALSE)","v":15400},"Ames",{"$f":"VLOOKUP(B66,Intersections!A:E,5,FALSE)","v":"Diamond"},"2017-09-29",223,"Friday","Thursday ","WB in EB","Yes","Yes","0-No",null,null,null,1]
["AMES-82","US-30 & Corporal Roger Snedden Dr",{"$f":"VLOOKUP(B67,Intersections!A:G,6,FALSE)","v":14400},{"$f":"VLOOKUP(B67,Intersections!A:G,7,FALSE)","v":2440},"Boone",{"$f":"VLOOKUP(B67,Intersections!A:E,5,FALSE)","v":"At Grade"},"2017-09-30",2109,"Saturday","Saturday","EB in WB","Yes","Yes","0-No",null,null,null,1]
["AMES-85","US-30 & University Blvd",{"$f":"VLOOKUP(B68,Intersections!A:G,6,FALSE)","v":18300},{"$f":"VLOOKUP(B68,Intersections!A:G,7,FALSE)","v":15400},"Ames",{"$f":"VLOOKUP(B68,Intersections!A:E,5,FALSE)","v":"Diamond"},"2017-10-12",1540,"Thursday ","Thursday ","WB in EB","Yes","Yes","0-No",null,null,null,1]
[26,"I-35 & US-6/Hickman Rd",121400,37300,"Clive",{"$f":"VLOOKUP(B69,Intersections!A:E,5,FALSE)","v":"Diamond"},"2017-10-15",155,"Saturday","Friday","2-SB in NB","Yes","Yes","1-Yes",null,20171009984,"1 - Fatal"]
[3,"I-380 & Blairs Ferry Rd",51900,21100,"Cedar Rapids",{"$f":"VLOOKUP(B70,Intersections!A:E,5,FALSE)","v":"Split"},"2017-10-18",2353,"Wednesday","Wednesday","2-SB in NB","Yes","Yes","1-Yes",null,20171016153,"4 - PDO"]
["AMES-86","US-30 & University Blvd",{"$f":"VLOOKUP(B71,Intersections!A:G,6,FALSE)","v":18300},{"$f":"VLOOKUP(B71,Intersections!A:G,7,FALSE)","v":15400},"Ames",{"$f":"VLOOKUP(B71,Intersections!A:E,5,FALSE)","v":"Diamond"},"2017-10-21",1322,"Saturday","Saturday","WB in EB","Yes","Yes","0-No",null,null,null,1]
["AMES-87","US-30 & S Linn St",{"$f":"VLOOKUP(B72,Intersections!A:G,6,FALSE)","v":14100},{"$f":"VLOOKUP(B72,Intersections!A:G,7,FALSE)","v":5100},"Boone",{"$f":"VLOOKUP(B72,Intersections!A:E,5,FALSE)","v":"At Grade"},"2017-11-02",26,"Thursday ","Wednesday","EB in WB","Yes","Yes","1-Yes",null,null,null,1]
[174,"US-20  N Ramp & US 65",{"$f":"VLOOKUP(B73,Intersections!A:G,6,FALSE)","v":9400},{"$f":"VLOOKUP(B73,Intersections!A:G,7,FALSE)","v":5300},"Iowa Falls",{"$f":"VLOOKUP(B73,Intersections!A:E,5,FALSE)","v":"Diamond"},"2017-11-14",1630,{"$f":"IF(G73=\"\",\"\",CHOOSE(WEEKDAY(G73,2),\"Monday\",\"Tuesday\",\"Wednesday\",\"Thursday\",\"Friday\",\"Saturday\",\"Sunday\"))","v":"Tuesday"},{"$f":"IF(G73=\"\",\"\",IF(H73<500,CHOOSE(WEEKDAY(G73,2)-1,\"Monday\",\"Tuesday\",\"Wednesday\",\"Thursday\",\"Friday\",\"Saturday\",\"Sunday\"),I73))","v":"Tuesday"},"EB in WB","No","No","0-No",null,null,null,0.9,"Email from Tim Simodynes"]
[174,"US-20 & County Road S27",{"$f":"VLOOKUP(B74,Intersections!A:G,6,FALSE)","v":8900},{"$f":"VLOOKUP(B74,Intersections!A:G,7,FALSE)","v":1370},"Buckeye",{"$f":"VLOOKUP(B74,Intersections!A:E,5,FALSE)","v":"Diamond"},"2017-11-14",1630,{"$f":"IF(G74=\"\",\"\",CHOOSE(WEEKDAY(G74,2),\"Monday\",\"Tuesday\",\"Wednesday\",\"Thursday\",\"Friday\",\"Saturday\",\"Sunday\"))","v":"Tuesday"},{"$f":"IF(G74=\"\",\"\",IF(H74<500,CHOOSE(WEEKDAY(G74,2)-1,\"Monday\",\"Tuesday\",\"Wednesday\",\"Thursday\",\"Friday\",\"Saturday\",\"Sunday\"),I74))","v":"Tuesday"},"EB in WB","No","No","0-No",null,null,null,0.1,"Email from Tim Simodynes"]
[4,"I-29 & IA-92",33300,20000,"Council Bluffs",{"$f":"VLOOKUP(B75,Intersections!A:E,5,FALSE)","v":"Excluded Unique"},"2017-11-18",128,"Saturday","Friday","1-NB in SB","Yes","Yes","1-Yes",null,null,null,1]
[101,"IA-141 & IA-210",9900,3810,"Woodward",{"$f":"VLOOKUP(B76,Intersections!A:E,5,FALSE)","v":"Diamond"},"2017-11-18",1838,"Saturday","Saturday","4-EB in WB","Yes","No","1-Yes",27829,20171018041,"2 - Major"]
["AMES-88","US-30 & University Blvd",{"$f":"VLOOKUP(B77,Intersections!A:G,6,FALSE)","v":18300},{"$f":"VLOOKUP(B77,Intersections!A:G,7,FALSE)","v":15400},"Ames",{"$f":"VLOOKUP(B77,Intersections!A:E,5,FALSE)","v":"Diamond"},"2017-12-01",1340,"Friday","Thursday ","WB in EB","Yes","Yes","0-No",null,null,null,1]
["AMES-89","US-30 & IA-17",{"$f":"VLOOKUP(B78,Intersections!A:G,6,FALSE)","v":15200},{"$f":"VLOOKUP(B78,Intersections!A:G,7,FALSE)","v":4900},"Boone",{"$f":"VLOOKUP(B78,Intersections!A:E,5,FALSE)","v":"Diamond"},"2017-12-06",509,"Wednesday","Tuesday","EB in WB","Yes","Yes","0-No",null,null,null,1]
["AMES-90","US-30 & 650th Ave/CR-S27",{"$f":"VLOOKUP(B79,Intersections!A:G,6,FALSE)","v":10300},{"$f":"VLOOKUP(B79,Intersections!A:G,7,FALSE)","v":1040},"Nevada",{"$f":"VLOOKUP(B79,Intersections!A:E,5,FALSE)","v":"At Grade"},"2017-12-06",1537,"Wednesday","Wednesday","WB in EB","Yes","Yes","0-No",null,null,null,1]
["AMES-91","US-30 & Corporal Roger Snedden Dr",{"$f":"VLOOKUP(B80,Intersections!A:G,6,FALSE)","v":14400},{"$f":"VLOOKUP(B80,Intersections!A:G,7,FALSE)","v":2440},"Boone",{"$f":"VLOOKUP(B80,Intersections!A:E,5,FALSE)","v":"At Grade"},"2017-12-07",2300,"Thursday ","Thursday ","EB in WB","Yes","Yes","0-No",null,null,null,1]
["AMES-93","US-30 & IA-17",{"$f":"VLOOKUP(B81,Intersections!A:G,6,FALSE)","v":15200},{"$f":"VLOOKUP(B81,Intersections!A:G,7,FALSE)","v":4900},"Boone",{"$f":"VLOOKUP(B81,Intersections!A:E,5,FALSE)","v":"Diamond"},"2017-12-14",1710,"Thursday ","Thursday ","EB in WB","Yes","No","0-No",null,null,null,1]
["AMES-95","US-30 & University Blvd",{"$f":"VLOOKUP(B82,Intersections!A:G,6,FALSE)","v":18300},{"$f":"VLOOKUP(B82,Intersections!A:G,7,FALSE)","v":15400},"Ames",{"$f":"VLOOKUP(B82,Intersections!A:E,5,FALSE)","v":"Diamond"},"2017-12-20",1143,"Wednesday","Wednesday","WB in EB","Yes","Yes","0-No",null,null,null,1]
["AMES-96","US-30 & 230th St",{"$f":"VLOOKUP(B83,Intersections!A:G,6,FALSE)","v":16400},{"$f":"VLOOKUP(B83,Intersections!A:G,7,FALSE)","v":1160},"Boone",{"$f":"VLOOKUP(B83,Intersections!A:E,5,FALSE)","v":"At Grade"},"2017-12-20",2000,"Wednesday","Wednesday","WB in EB","Yes","Yes","1-Yes",null,null,null,1]
["AMES-98","US-30 & 650th Ave/CR-S27",{"$f":"VLOOKUP(B84,Intersections!A:G,6,FALSE)","v":10300},{"$f":"VLOOKUP(B84,Intersections!A:G,7,FALSE)","v":1040},"Nevada",{"$f":"VLOOKUP(B84,Intersections!A:E,5,FALSE)","v":"At Grade"},"2018-01-12",434,"Friday","Thursday ","WB in EB","Yes","Yes","0-No",null,null,null,1]
[99,"US-218 & Riverside Dr",22100,6900,"Iowa City",{"$f":"VLOOKUP(B85,Intersections!A:E,5,FALSE)","v":"Unique"},"2018-01-14",2255,"Sunday","Sunday","1-NB in SB","No","Yes","1-Yes",null,null,null,0.99]
[100,"IA-163 & 70th St",21500,5200,"Pleasant Hill",{"$f":"VLOOKUP(B86,Intersections!A:E,5,FALSE)","v":"At Grade"},"2018-01-15",505,"Monday","Sunday","3-WB in EB","No","No","0-No",null,null,null,0.25]
[98,"US-30 & US-65",8500,2240,"Colo",{"$f":"VLOOKUP(B87,Intersections!A:E,5,FALSE)","v":"Excluded Unique"},"2018-01-19",2015,"Friday","Friday","3-WB in EB","No","No","1-Yes",null,null,null,0.5]
["AMES-99","US-30 & IA-930/Lincoln Way",{"$f":"VLOOKUP(B88,Intersections!A:G,6,FALSE)","v":17100},{"$f":"VLOOKUP(B88,Intersections!A:G,7,FALSE)","v":5600},"Ames",{"$f":"VLOOKUP(B88,Intersections!A:E,5,FALSE)","v":"Split"},"2018-01-25",2116,"Thursday ","Thursday ","EB in WB","Yes","Yes","0-No",null,null,null,1]
[97,"I-380 & 33rd Ave",76100,20400,"Cedar Rapids",{"$f":"VLOOKUP(B89,Intersections!A:E,5,FALSE)","v":"Diamond"},"2018-01-29",2124,"Monday","Monday","2-SB in NB","Yes","Yes","1-Yes",36103,20181037534,"1 - Fatal"]
["AMES-100","US-30 & 580th Ave",{"$f":"VLOOKUP(B90,Intersections!A:G,6,FALSE)","v":17300},{"$f":"VLOOKUP(B90,Intersections!A:G,7,FALSE)","v":1790},"Ames",{"$f":"VLOOKUP(B90,Intersections!A:E,5,FALSE)","v":"At Grade"},"2018-01-30",2130,"Tuesday ","Tuesday","WB in EB","Yes","Yes","0-No",null,null,null,1]
["AMES-101","US-30 & 18th St/610th Ave",{"$f":"VLOOKUP(B91,Intersections!A:G,6,FALSE)","v":15300},{"$f":"VLOOKUP(B91,Intersections!A:G,7,FALSE)","v":2240},"Nevada",{"$f":"VLOOKUP(B91,Intersections!A:E,5,FALSE)","v":"At Grade"},"2018-02-03",308,"Saturday","Friday","EB in WB","Yes","Yes","0-No",null,null,null,1]
["AMES-102","US-30 & University Blvd",{"$f":"VLOOKUP(B92,Intersections!A:G,6,FALSE)","v":18300},{"$f":"VLOOKUP(B92,Intersections!A:G,7,FALSE)","v":15400},"Ames",{"$f":"VLOOKUP(B92,Intersections!A:E,5,FALSE)","v":"Diamond"},"2018-02-08",632,"Thursday ","Thursday ","WB in EB","Yes","Yes","0-No",null,null,null,1]
["AMES-103","US-30 & 19th St",{"$f":"VLOOKUP(B93,Intersections!A:G,6,FALSE)","v":12200},{"$f":"VLOOKUP(B93,Intersections!A:G,7,FALSE)","v":4240},"Nevada",{"$f":"VLOOKUP(B93,Intersections!A:E,5,FALSE)","v":"Unique"},"2018-02-12",2100,"Monday","Monday","EB in WB","Yes","Yes","0-No",null,null,null,1]
[1,"I-380 & Glass Rd",83100,13900,"Cedar Rapids",{"$f":"VLOOKUP(B94,Intersections!A:E,5,FALSE)","v":"Split"},"2018-02-18",1045,"Monday","Monday","1-NB in SB","Yes","Yes","0-No",78297,null,null,1]
[96,"I-35 & IA-92",22500,4970,"Bevington",{"$f":"VLOOKUP(B95,Intersections!A:E,5,FALSE)","v":"Diamond"},"2018-02-21",314,"Wednesday","Tuesday","1-NB in SB","No","No","1-Yes",38931,20181034590,"1 - Fatal"]
[2,"US-30 & Kirkwood Blvd",31700,16200,"Cedar Rapids",{"$f":"VLOOKUP(B96,Intersections!A:E,5,FALSE)","v":"Unique"},"2018-02-22",1434,"Friday","Friday","3-WB in EB","Yes","Yes","0-No",null,null,null,1]
["AMES-104","US-30 & University Blvd",{"$f":"VLOOKUP(B97,Intersections!A:G,6,FALSE)","v":18300},{"$f":"VLOOKUP(B97,Intersections!A:G,7,FALSE)","v":15400},"Ames",{"$f":"VLOOKUP(B97,Intersections!A:E,5,FALSE)","v":"Diamond"},"2018-02-24",517,"Saturday","Friday","WB in EB","Yes","Yes","0-No",null,null,null,1]
["AMES-105","US-30 & T Ave",{"$f":"VLOOKUP(B98,Intersections!A:G,6,FALSE)","v":16300},{"$f":"VLOOKUP(B98,Intersections!A:G,7,FALSE)","v":35},"Boone",{"$f":"VLOOKUP(B98,Intersections!A:E,5,FALSE)","v":"At Grade"},"2018-03-05",339,"Monday","Sunday","EB in WB","Yes","Yes","0-No",null,null,null,1]
["AMES-106","US-30 & Corporal Roger Snedden Dr",{"$f":"VLOOKUP(B99,Intersections!A:G,6,FALSE)","v":14400},{"$f":"VLOOKUP(B99,Intersections!A:G,7,FALSE)","v":2440},"Boone",{"$f":"VLOOKUP(B99,Intersections!A:E,5,FALSE)","v":"At Grade"},"2018-03-10",238,"Saturday","Friday","EB in WB","Yes","Yes","0-No",null,null,null,1]
["Ames -216","I-35 & Ia-210",{"$f":"VLOOKUP(B100,Intersections!A:G,6,FALSE)","v":45300},{"$f":"VLOOKUP(B100,Intersections!A:G,7,FALSE)","v":6200},"Huxley",{"$f":"VLOOKUP(B100,Intersections!A:E,5,FALSE)","v":"Diamond"},"2018-03-17",2350,{"$f":"IF(G100=\"\",\"\",CHOOSE(WEEKDAY(G100,2),\"Monday\",\"Tuesday\",\"Wednesday\",\"Thursday\",\"Friday\",\"Saturday\",\"Sunday\"))","v":"Saturday"},"Tuesday","NB in Sb and WB in EB","No","Yes","1-Yes",null,null,null,0.5]
["AMES-109","US-30 & 19th St",{"$f":"VLOOKUP(B101,Intersections!A:G,6,FALSE)","v":12200},{"$f":"VLOOKUP(B101,Intersections!A:G,7,FALSE)","v":4240},"Nevada",{"$f":"VLOOKUP(B101,Intersections!A:E,5,FALSE)","v":"Unique"},"2018-04-03",2126,"Tuesday ","Tuesday","WB in EB","No","Yes","0-No",null,null,null,0.5]
[95,"I-35 & Mills Civic Pkwy",73200,20500,"West Des Moines",{"$f":"VLOOKUP(B102,Intersections!A:E,5,FALSE)","v":"Unique"},"2018-04-07",116,"Saturday","Friday","1-NB in SB","Yes","Yes","1-Yes",44479,null,null,1]
["AMES-110","US-30 & University Blvd",{"$f":"VLOOKUP(B103,Intersections!A:G,6,FALSE)","v":18300},{"$f":"VLOOKUP(B103,Intersections!A:G,7,FALSE)","v":15400},"Ames",{"$f":"VLOOKUP(B103,Intersections!A:E,5,FALSE)","v":"Diamond"},"2018-04-07",1402,"Saturday","Saturday","WB in EB","Yes","Yes","0-No",null,null,null,1]
["AMES-112","US-30 & University Blvd",{"$f":"VLOOKUP(B104,Intersections!A:G,6,FALSE)","v":18300},{"$f":"VLOOKUP(B104,Intersections!A:G,7,FALSE)","v":15400},"Ames",{"$f":"VLOOKUP(B104,Intersections!A:E,5,FALSE)","v":"Diamond"},"2018-04-15",832,"Sunday","Sunday","WB in EB","Yes","Yes",null,null,null,null,1]
[94,"I-35 & Grand Ave",53700,4660,"West Des Moines",{"$f":"VLOOKUP(B105,Intersections!A:E,5,FALSE)","v":"Diamond"},"2018-04-16",252,"Monday","Sunday","1-NB in SB","Yes","Yes","1-Yes",null,null,null,1]
[93,"IA-141 & IA-210",9900,3810,"Woodward",{"$f":"VLOOKUP(B106,Intersections!A:E,5,FALSE)","v":"Diamond"},"2018-04-17",411,"Tuesday","Monday","4-EB in WB","No","No","0-No",null,null,null,0.99]
["AMES-113","U-Turn",{"$f":"VLOOKUP(B107,Intersections!A:G,6,FALSE)","v":0},{"$f":"VLOOKUP(B107,Intersections!A:G,7,FALSE)","v":0},"Nevada",{"$f":"VLOOKUP(B107,Intersections!A:E,5,FALSE)","v":"n/a"},"2018-04-26",231,"Thursday ","Wednesday","WB in EB","Yes","Yes","0-No",null,null,null,1]
["AMES-114","US-30 & S Linn St",{"$f":"VLOOKUP(B108,Intersections!A:G,6,FALSE)","v":14100},{"$f":"VLOOKUP(B108,Intersections!A:G,7,FALSE)","v":5100},"Boone",{"$f":"VLOOKUP(B108,Intersections!A:E,5,FALSE)","v":"At Grade"},"2018-05-10",2142,"Thursday ","Thursday ","EB in WB","No","Yes","0-No",null,null,null,0.33]
["AMES-115","US-30 & IA-17",{"$f":"VLOOKUP(B109,Intersections!A:G,6,FALSE)","v":15200},{"$f":"VLOOKUP(B109,Intersections!A:G,7,FALSE)","v":4900},"Boone",{"$f":"VLOOKUP(B109,Intersections!A:E,5,FALSE)","v":"Diamond"},"2018-05-12",2130,"Saturday","Saturday","WB in EB","Yes","Yes","1-Yes",null,null,null,1]
[92,"Crossover",40400,0,"West Branch",{"$f":"VLOOKUP(B110,Intersections!A:E,5,FALSE)","v":"n/a"},"2018-05-20",358,"Sunday","Saturday","4-EB in WB","No","No","0-No"]
[90,"IA-5 & IA-92",7700,4890,"Knoxville",{"$f":"VLOOKUP(B111,Intersections!A:E,5,FALSE)","v":"At Grade"},"2018-05-26",803,"Saturday","Saturday","2-SB in NB","No","No","1-Yes",49784,20181050959,"1 - Fatal"]
[91,"I-380 & 7th St",90800,6900,"Cedar Rapids",{"$f":"VLOOKUP(B112,Intersections!A:E,5,FALSE)","v":"Unique"},"2018-05-29",200,"Tuesday","Monday","2-SB in NB","Yes","Yes","0-No",null,null,null,1]
[27,"I-80 & Coral Ridge Ave",62500,33200,"Coralville",{"$f":"VLOOKUP(B113,Intersections!A:E,5,FALSE)","v":"Excluded Unique"},"2018-05-31",2135,"Thursday","Thursday","4-EB in WB","Yes","Yes","0-No",null,null,null,1]
[89,"I-80 & Coral Ridge Ave",62500,33200,"Coralville",{"$f":"VLOOKUP(B114,Intersections!A:E,5,FALSE)","v":"Excluded Unique"},"2018-05-31",2136,"Thursday","Thursday","4-EB in WB","No","No","0-No",50315,null,null,0.5]
[88,"US-30 & Kirkwood Blvd",31700,16200,"Cedar Rapids",{"$f":"VLOOKUP(B115,Intersections!A:E,5,FALSE)","v":"Unique"},"2018-06-01",2112,"Friday","Friday","4-EB in WB","Yes","No","0-No",50445,null,null,1]
[87,"IA-100 & Twixt Town Rd",21500,5301,"Marion",{"$f":"VLOOKUP(B116,Intersections!A:E,5,FALSE)","v":"At Grade"},"2018-06-07",1053,"Thursday","Thursday","4-EB in WB","No","No","0-No",50958,null,null,0.25]
[86,"I-80 & IA-146",29500,9000,"Grinnell",{"$f":"VLOOKUP(B117,Intersections!A:E,5,FALSE)","v":"Diamond"},"2018-06-15",35,"Friday","Thursday","4-EB in WB","No","No","1-Yes",51810,null,null,0.5]
["AMES-117","US-30 & IA-17",{"$f":"VLOOKUP(B118,Intersections!A:G,6,FALSE)","v":15200},{"$f":"VLOOKUP(B118,Intersections!A:G,7,FALSE)","v":4900},"Boone",{"$f":"VLOOKUP(B118,Intersections!A:E,5,FALSE)","v":"Diamond"},"2018-06-23",1035,"Saturday","Saturday","EB in WB","Yes","Yes",null,null,null,null,1]
["AMES-118","US-30 & T Ave",{"$f":"VLOOKUP(B119,Intersections!A:G,6,FALSE)","v":16300},{"$f":"VLOOKUP(B119,Intersections!A:G,7,FALSE)","v":35},"Boone",{"$f":"VLOOKUP(B119,Intersections!A:E,5,FALSE)","v":"At Grade"},"2018-06-30",243,"Saturday","Saturday","EB in WB","Yes","Yes","1-Yes",null,null,null,1]
[85,"US-30 & Kirkwood Blvd",31700,16200,"Cedar Rapids",{"$f":"VLOOKUP(B120,Intersections!A:E,5,FALSE)","v":"Unique"},"2018-07-01",131,"Sunday","Saturday","4-EB in WB","No","No","0-No",53634,null,null,0.25]
["AMES-119","US-30 & Corporal Roger Snedden Dr",{"$f":"VLOOKUP(B121,Intersections!A:G,6,FALSE)","v":14400},{"$f":"VLOOKUP(B121,Intersections!A:G,7,FALSE)","v":2440},"Boone",{"$f":"VLOOKUP(B121,Intersections!A:E,5,FALSE)","v":"At Grade"},"2018-07-02",2314,"Monday","Monday","EB in WB","Yes","Yes",null,null,null,null,1]
[83,"I-80 & Tiffin WB Rest Area",34400,0,"Tiffin",{"$f":"VLOOKUP(B122,Intersections!A:E,5,FALSE)","v":"Rest Area"},"2018-07-07",2314,"Saturday","Saturday","4-EB in WB","No","No","0-No",54295,null,null,0.99]
[84,"US-218 & Observatory Ave",22100,3250,"Hills",{"$f":"VLOOKUP(B123,Intersections!A:E,5,FALSE)","v":"Diamond"},"2018-07-07",2152,"Saturday","Saturday","1-NB in SB","No","No","0-No",54292,null,null,0.5]
[82,"US-30 & Sisley Grove Rd",14100,50,"Cedar Rapids",{"$f":"VLOOKUP(B124,Intersections!A:E,5,FALSE)","v":"At Grade"},"2018-07-13",2352,"Friday","Friday","4-EB in WB","No","No","0-No",54978,null,null,0.25]
[81,"I-380 & 33rd Ave",76100,20400,"Cedar Rapids",{"$f":"VLOOKUP(B125,Intersections!A:E,5,FALSE)","v":"Diamond"},"2018-07-17",1534,"Tuesday","Tuesday","1-NB in SB","Yes","No","0-No",55285,null,null,1]
[80,"I-80 & Coral Ridge Ave",62500,33200,"Coralville",{"$f":"VLOOKUP(B126,Intersections!A:E,5,FALSE)","v":"Excluded Unique"},"2018-07-19",431,"Thursday","Wednesday","4-EB in WB","No","No","0-No",55464,null,null,0.99]
[78,"I-280 & US-6",22400,6600,"Davenport",{"$f":"VLOOKUP(B127,Intersections!A:E,5,FALSE)","v":"Unique"},"2018-07-25",1606,"Wednesday","Wednesday","3-WB in EB","No","No","0-No",56137,null,null,0.5]
[79,"I-80 & Dubuque St",64300,24100,"Iowa City",{"$f":"VLOOKUP(B128,Intersections!A:E,5,FALSE)","v":"Diamond"},"2018-07-25",1443,"Wednesday","Wednesday","3-WB in EB","No","No","1-Yes",56126,null,null,0.99]
[76,"US-30 & Kepler Dr",13500,100,"Mount Vernon",{"$f":"VLOOKUP(B129,Intersections!A:E,5,FALSE)","v":"At Grade"},"2018-08-04",2212,"Saturday","Saturday","3-WB in EB","Yes","No","0-No",57097,null,null,1]
[77,"I-380 & Penn St",51100,19700,"North Liberty",{"$f":"VLOOKUP(B130,Intersections!A:E,5,FALSE)","v":"Diamond"},"2018-08-04",110,"Saturday","Friday","2-SB in NB","No","Yes","1-Yes",57050,null,null,0.5]
["AMES-120","US-30 & 580th Ave",{"$f":"VLOOKUP(B131,Intersections!A:G,6,FALSE)","v":17300},{"$f":"VLOOKUP(B131,Intersections!A:G,7,FALSE)","v":1790},"Ames",{"$f":"VLOOKUP(B131,Intersections!A:E,5,FALSE)","v":"At Grade"},"2018-08-11",2333,"Saturday","Saturday","EB in WB","Yes","Yes",null,null,null,null,1]
[75,"U-Turn",28800,0,"Newton",{"$f":"VLOOKUP(B132,Intersections!A:E,5,FALSE)","v":"n/a"},"2018-08-17",2244,"Friday","Friday","3-WB in EB","No","Yes","1-Yes",58312]
[65,"I-35 & 1st St",67200,12400,"Ankeny",{"$f":"VLOOKUP(B133,Intersections!A:E,5,FALSE)","v":"Diamond"},"2018-08-22",1700,"Wednesday","Wednesday","1-NB in SB","No","No","0-No",null,null,null,0.99]
["AMES-121","I 35 S & I 35 S TO US 30 W",{"$f":"VLOOKUP(B134,Intersections!A:G,6,FALSE)","v":44300},{"$f":"VLOOKUP(B134,Intersections!A:G,7,FALSE)","v":30900},"Ames",{"$f":"VLOOKUP(B134,Intersections!A:E,5,FALSE)","v":"System"},"2018-08-27",140,"Monday","Monday","WB in EB","Yes","Yes",null,null,null,null,1]
[66,"I-380 & 1st St",79400,4550,"Cedar Rapids",{"$f":"VLOOKUP(B135,Intersections!A:E,5,FALSE)","v":"Unique"},"2018-08-30",1904,"Thursday","Thursday","1-NB in SB","No","No","0-No",59515,null,null,0.5]
[67,"I-380 & 7th St",90800,6900,"Cedar Rapids",{"$f":"VLOOKUP(B136,Intersections!A:E,5,FALSE)","v":"Unique"},"2018-08-30",1904,"Thursday","Thursday","1-NB in SB","No","No","0-No",59515,null,null,0.5]
[64,"I-380 & 7th St",90800,6900,"Cedar Rapids",{"$f":"VLOOKUP(B137,Intersections!A:E,5,FALSE)","v":"Unique"},"2018-09-02",152,"Saturday","Friday","1-NB in SB","Yes","Yes","1-Yes",59732,null,null,1]
["AMES-122","US-30 & University Blvd",{"$f":"VLOOKUP(B138,Intersections!A:G,6,FALSE)","v":18300},{"$f":"VLOOKUP(B138,Intersections!A:G,7,FALSE)","v":15400},"Ames",{"$f":"VLOOKUP(B138,Intersections!A:E,5,FALSE)","v":"Diamond"},"2018-09-03",2120,"Wednesday","Wednesday","WB in EB","Yes","Yes",null,null,null,null,1]
[12,"US-18 & Thrush Ave",11600,2230,"Mason City",{"$f":"VLOOKUP(B139,Intersections!A:E,5,FALSE)","v":"Diamond"},"2018-09-10",1134,"Monday","Monday","4-EB in WB","Yes","No","1-Yes",null,20181067026,"1 - Fatal"]
["AMES-123","US-30 & T Ave",{"$f":"VLOOKUP(B140,Intersections!A:G,6,FALSE)","v":16300},{"$f":"VLOOKUP(B140,Intersections!A:G,7,FALSE)","v":35},"Boone",{"$f":"VLOOKUP(B140,Intersections!A:E,5,FALSE)","v":"At Grade"},"2018-09-10",123,"Monday","Monday","EB in WB","Yes","Yes",null,null,null,null,1]
[55,"US-30 & 16th Ave - No Longer Exists",0,0,"Cedar Rapids",{"$f":"VLOOKUP(B141,Intersections!A:E,5,FALSE)","v":"Unique"},"2018-09-11",2328,"Tuesday","Tuesday","4-EB in WB","No","Yes","0-No"]
["AMES-124","US-30 & T Ave",{"$f":"VLOOKUP(B142,Intersections!A:G,6,FALSE)","v":16300},{"$f":"VLOOKUP(B142,Intersections!A:G,7,FALSE)","v":35},"Boone",{"$f":"VLOOKUP(B142,Intersections!A:E,5,FALSE)","v":"At Grade"},"2018-09-11",2034,"Tuesday ","Tuesday","EB in WB","Yes","Yes",null,null,null,null,1]
["AMES-125","US-30 & IA-17",{"$f":"VLOOKUP(B143,Intersections!A:G,6,FALSE)","v":15200},{"$f":"VLOOKUP(B143,Intersections!A:G,7,FALSE)","v":4900},"Boone",{"$f":"VLOOKUP(B143,Intersections!A:E,5,FALSE)","v":"Diamond"},"2018-09-16",1155,"Sunday","Sunday","WB in EB",null,"Yes",null,null,null,null,1]
[62,"I-80 & Atalissa Rd",35300,1660,"Rochester",{"$f":"VLOOKUP(B144,Intersections!A:E,5,FALSE)","v":"Diamond"},"2018-09-20",2137,"Sunday","Sunday","4-EB in WB","No","No","0-No",62373,null,null,0.5]
[63,"I-380 & Boyson Rd",48300,19800,"Hiawatha",{"$f":"VLOOKUP(B145,Intersections!A:E,5,FALSE)","v":"Diamond"},"2018-09-25",1453,"Tuesday","Tuesday","2-SB in NB","No","No","0-No",61909,null,null,0.99]
[60,"I-380 & IA-297",31000,4090,"Raymond",{"$f":"VLOOKUP(B146,Intersections!A:E,5,FALSE)","v":"Diamond"},"2018-10-06",215,"Saturday","Friday","4-EB in WB","No","Yes","0-No",null,null,null,0.5]
[61,"I-380 & Poyner Rd",16700,710,"Gilbertville",{"$f":"VLOOKUP(B147,Intersections!A:E,5,FALSE)","v":"Diamond"},"2018-10-06",215,"Saturday","Friday","4-EB in WB","No","Yes","0-No",null,null,null,0.5]
[56,"IA-141 & Willis Ave",10100,1980,"Perry",{"$f":"VLOOKUP(B148,Intersections!A:E,5,FALSE)","v":"At Grade"},"2018-10-10",null,"Wednesday","Wednesday","4-EB in WB","No","No","0-No",null,null,null,0.5]
[52,"IA-5 & 35th St",33200,2360,"West Des Moines",{"$f":"VLOOKUP(B149,Intersections!A:E,5,FALSE)","v":"Diamond"},"2018-10-13",2210,"Saturday","Saturday","1-NB in SB","No","Yes","1-Yes",63604,null,null,0.5]
[53,"I-35 & CR-G14",26700,3290,"Cumming",{"$f":"VLOOKUP(B150,Intersections!A:E,5,FALSE)","v":"Diamond"},"2018-10-13",2210,"Saturday","Saturday",null,"No","Yes","1-Yes",63604,null,null,0.5]
[50,"I-380 & Wright Brothers Blvd",59800,6800,"Cedar Rapids",{"$f":"VLOOKUP(B151,Intersections!A:E,5,FALSE)","v":"See Intersections Tab"},"2018-10-14",309,"Sunday","Saturday","1-NB in SB","Yes","Yes","0-No",63611,null,null,1]
[57,"US-30 & 16th Ave - No Longer Exists",0,0,"Cedar Rapids",{"$f":"VLOOKUP(B152,Intersections!A:E,5,FALSE)","v":"Unique"},"2018-10-14",2333,"Sunday","Sunday","4-EB in WB","No","Yes","0-No",63649]
["AMES-128","US-30 & 19th St",{"$f":"VLOOKUP(B153,Intersections!A:G,6,FALSE)","v":12200},{"$f":"VLOOKUP(B153,Intersections!A:G,7,FALSE)","v":4240},"Nevada",{"$f":"VLOOKUP(B153,Intersections!A:E,5,FALSE)","v":"Unique"},"2018-10-17",1153,"Wednesday","Wednesday","WB in EB","Yes","No",null,null,null,null,1]
[48,"US-30 & 16th Ave - No Longer Exists",0,0,"Cedar Rapids",{"$f":"VLOOKUP(B154,Intersections!A:E,5,FALSE)","v":"Unique"},"2018-10-18",2314,"Thursday","Thursday","4-EB in WB","No","No","0-No",64098]
["AMES-129","US-30 & Corporal Roger Snedden Dr",{"$f":"VLOOKUP(B155,Intersections!A:G,6,FALSE)","v":14400},{"$f":"VLOOKUP(B155,Intersections!A:G,7,FALSE)","v":2440},"Boone",{"$f":"VLOOKUP(B155,Intersections!A:E,5,FALSE)","v":"At Grade"},"2018-11-01",121,"Thursday ","Thursday ","WB in EB","Yes","Yes",null,null,null,null,1]
[47,"I-80 & IA-1",55900,20400,"Iowa City",{"$f":"VLOOKUP(B156,Intersections!A:E,5,FALSE)","v":"Diamond"},"2018-11-04",242,"Sunday","Saturday","4-EB in WB","No","Yes","1-Yes",65541,null,null,0.99]
[58,"US-30 & Edgewood Rd",31500,10900,"Cedar Rapids",{"$f":"VLOOKUP(B157,Intersections!A:E,5,FALSE)","v":"Excluded Unique"},"2018-11-04",102,"Saturday","Friday","4-EB in WB","No","No","0-No",null,null,null,0.25]
[21,"I-80 & US-69",87400,19600,"Des Moines",{"$f":"VLOOKUP(B158,Intersections!A:E,5,FALSE)","v":"Excluded Unique"},"2018-11-10",300,"Saturday","Friday","4-EB in WB","Yes","Yes","1-Yes",null,20181087417,"1 - Fatal"]
[46,"I-380 & Diagonal Dr",81100,14700,"Cedar Rapids",{"$f":"VLOOKUP(B159,Intersections!A:E,5,FALSE)","v":"Split"},"2018-11-11",1108,"Sunday","Sunday","2-SB in NB","No","No","0-No",66341,null,null,0.5]
[45,"US-30 & Edgewood Rd",31500,10900,"Cedar Rapids",{"$f":"VLOOKUP(B160,Intersections!A:E,5,FALSE)","v":"Excluded Unique"},"2018-11-15",1109,"Thursday","Thursday","4-EB in WB","No","No","0-No",67258,null,null,0.5]
["AMES-130","US-30 & IA-17",{"$f":"VLOOKUP(B161,Intersections!A:G,6,FALSE)","v":15200},{"$f":"VLOOKUP(B161,Intersections!A:G,7,FALSE)","v":4900},"Boone",{"$f":"VLOOKUP(B161,Intersections!A:E,5,FALSE)","v":"Diamond"},"2018-11-17",554,"Saturday","Saturday","EB in WB","Yes","Yes","1-Yes",null,null,null,1]
[37,"US-65 & IA-163",29000,26800,"Pleasant Hill",{"$f":"VLOOKUP(B162,Intersections!A:E,5,FALSE)","v":"Diamond"},"2018-11-20",1940,"Tuesday","Tuesday","1-NB in SB","No","No","0-No",68291,null,null,0.99]
[43,"I-35 & Broad St",28800,9300,"Story City",{"$f":"VLOOKUP(B163,Intersections!A:E,5,FALSE)","v":"Diamond"},"2018-11-20",1754,"Tuesday","Tuesday","2-SB in NB","No","No","0-No",68279,null,null,0.5]
[44,"I-35 & 130th St",29700,4000,"Story City",{"$f":"VLOOKUP(B164,Intersections!A:E,5,FALSE)","v":"Diamond"},"2018-11-20",1754,"Tuesday","Tuesday","2-SB in NB","No","No","0-No",68279,null,null,0.5]
["AMES-131","US-30 & Corporal Roger Snedden Dr",{"$f":"VLOOKUP(B165,Intersections!A:G,6,FALSE)","v":14400},{"$f":"VLOOKUP(B165,Intersections!A:G,7,FALSE)","v":2440},"Boone",{"$f":"VLOOKUP(B165,Intersections!A:E,5,FALSE)","v":"At Grade"},"2018-11-20",1156,"Tuesday ","Tuesday","EB in WB","Yes","Yes",null,null,null,null,1]
[36,"I-29 & CR-E60",14700,410,"Blencoe",{"$f":"VLOOKUP(B166,Intersections!A:E,5,FALSE)","v":"Diamond"},"2018-11-21",2310,"Wednesday","Wednesday","2-SB in NB","No","No","1-Yes",68415,20181081965,"1 - Fatal"]
[42,"I-380 & 33rd Ave",76100,20400,"Cedar Rapids",{"$f":"VLOOKUP(B167,Intersections!A:E,5,FALSE)","v":"Diamond"},"2018-11-23",1931,"Friday","Friday","2-SB in NB","No","No","0-No",68522,null,null,0.99]
[39,"I-380 & 1st Ave",79400,22500,"Cedar Rapids",{"$f":"VLOOKUP(B168,Intersections!A:E,5,FALSE)","v":"Split"},"2018-11-28",1627,"Wednesday","Wednesday","1-NB in SB","No","No","0-No",69016,null,null,0.25]
[40,"I-380 & 1st St",79400,4550,"Cedar Rapids",{"$f":"VLOOKUP(B169,Intersections!A:E,5,FALSE)","v":"Unique"},"2018-11-28",1627,"Wednesday","Wednesday","1-NB in SB","No","No","0-No",69016,null,null,0.25]
[41,"I-380 & 7th St",90800,6900,"Cedar Rapids",{"$f":"VLOOKUP(B170,Intersections!A:E,5,FALSE)","v":"Unique"},"2018-11-28",1627,"Wednesday","Wednesday","1-NB in SB","No","No","0-No",69016,null,null,0.25]
["AMES-132","US-30 & Corporal Roger Snedden Dr",{"$f":"VLOOKUP(B171,Intersections!A:G,6,FALSE)","v":14400},{"$f":"VLOOKUP(B171,Intersections!A:G,7,FALSE)","v":2440},"Boone",{"$f":"VLOOKUP(B171,Intersections!A:E,5,FALSE)","v":"At Grade"},"2018-11-30",654,"Sunday","Sunday","EB in WB",null,"Yes",null,null,null,null,1]
["AMES-133","US-30 & Story St",{"$f":"VLOOKUP(B172,Intersections!A:G,6,FALSE)","v":11700},{"$f":"VLOOKUP(B172,Intersections!A:G,7,FALSE)","v":6700},"Boone",{"$f":"VLOOKUP(B172,Intersections!A:E,5,FALSE)","v":"At Grade"},"2018-12-02",258,"Wednesday","Wednesday","EB in WB","Yes","Yes",null,null,null,null,1]
[59,"US-30 & C St",31700,16200,"Cedar Rapids",{"$f":"VLOOKUP(B173,Intersections!A:E,5,FALSE)","v":"Unique"},"2018-12-07",203,"Friday","Thursday","4-EB in WB","No","No","0-No",69853,null,null,0.99]
["AMES-134","US-30 & Story St",{"$f":"VLOOKUP(B174,Intersections!A:G,6,FALSE)","v":11700},{"$f":"VLOOKUP(B174,Intersections!A:G,7,FALSE)","v":6700},"Boone",{"$f":"VLOOKUP(B174,Intersections!A:E,5,FALSE)","v":"At Grade"},"2018-12-07",953,"Friday","Friday","EB in WB","Yes","Yes",null,null,null,null,1]
["AMES-135","US-30 & Marshall St",{"$f":"VLOOKUP(B175,Intersections!A:G,6,FALSE)","v":14100},{"$f":"VLOOKUP(B175,Intersections!A:G,7,FALSE)","v":1910},"Boone",{"$f":"VLOOKUP(B175,Intersections!A:E,5,FALSE)","v":"At Grade"},"2018-12-09",622,"Sunday","Sunday","EB in WB","Yes","Yes",null,null,null,null,1]
[34,"US-30 & Kirkwood Blvd",59800,6800,"Cedar Rapids",{"$f":"VLOOKUP(B176,Intersections!A:E,5,FALSE)","v":"Unique"},"2018-12-14",350,"Friday","Thursday","2-SB in NB","No","No","0-No",70409,null,null,0.5]
[35,"I-380 & 33rd Ave",76100,20400,"Cedar Rapids",{"$f":"VLOOKUP(B177,Intersections!A:E,5,FALSE)","v":"Diamond"},"2018-12-14",350,"Friday","Thursday","2-SB in NB","No","No","0-No",70409,null,null,0.5]
["AMES-136","US-30 & Corporal Roger Snedden Dr",{"$f":"VLOOKUP(B178,Intersections!A:G,6,FALSE)","v":14400},{"$f":"VLOOKUP(B178,Intersections!A:G,7,FALSE)","v":2440},"Boone",{"$f":"VLOOKUP(B178,Intersections!A:E,5,FALSE)","v":"At Grade"},"2018-12-15",941,"Saturday","Saturday","EB in WB","Yes","Yes",null,null,null,null,1]
[32,"I-80 & 1st Ave",64300,24200,"Coralville",{"$f":"VLOOKUP(B179,Intersections!A:E,5,FALSE)","v":"Diamond"},"2018-12-16",207,"Saturday","Friday","3-WB in EB","Yes","Yes","1-Yes",70571,null,null,1]
["AMES-137","US-30 & T Ave",{"$f":"VLOOKUP(B180,Intersections!A:G,6,FALSE)","v":16300},{"$f":"VLOOKUP(B180,Intersections!A:G,7,FALSE)","v":35},"Boone",{"$f":"VLOOKUP(B180,Intersections!A:E,5,FALSE)","v":"At Grade"},"2018-12-17",1107,"Monday","Monday","EB in WB","Yes","Yes",null,null,null,null,1]
[31,"I-35 & 126th Ave",45400,4630,"Elkhart",{"$f":"VLOOKUP(B181,Intersections!A:E,5,FALSE)","v":"Diamond"},"2018-12-18",755,"Tuesday","Tuesday","2-SB in NB","Yes","Yes","0-No",null,null,null,1]
[6,"I-80 & Magnolia Rd",23800,3130,"Council Bluffs",{"$f":"VLOOKUP(B182,Intersections!A:E,5,FALSE)","v":"Diamond"},"2018-12-19",1923,"Wednesday","Wednesday","4-EB in WB","Yes","No","1-Yes",70877,20181086824,"3 - Minor"]
[5,"I-80 & US-6",29500,7900,"Council Bluffs",{"$f":"VLOOKUP(B183,Intersections!A:E,5,FALSE)","v":"Diamond"},"2018-12-24",30,"Monday","Sunday","4-EB in WB","No","No","1-Yes",71178,20181087854,"2 - Major"]
[30,"I-80 & US-65",65400,15900,"Altoona",{"$f":"VLOOKUP(B184,Intersections!A:E,5,FALSE)","v":"System"},"2018-12-30",1215,"Sunday","Saturday","4-EB in WB","Yes","No","0-No",null,null,null,1]
[29,"I-380 & US-30",59800,24400,"Cedar Rapids",{"$f":"VLOOKUP(B185,Intersections!A:E,5,FALSE)","v":"System"},"2019-01-06",1603,"Sunday","Sunday","4-EB in WB","Yes","Yes","0-No",null,null,null,1]
[38,"US-30 & 6th St",27400,11415,"Cedar Rapids",{"$f":"VLOOKUP(B186,Intersections!A:E,5,FALSE)","v":"At Grade"},"2019-01-20",2,"Sunday","Saturday","4-EB in WB","No","Yes","0-No",74005,null,null,0.99]
["AMES-140","US-30 & 600th Ave",{"$f":"VLOOKUP(B187,Intersections!A:G,6,FALSE)","v":15300},{"$f":"VLOOKUP(B187,Intersections!A:G,7,FALSE)","v":260},"Nevada",{"$f":"VLOOKUP(B187,Intersections!A:E,5,FALSE)","v":"At Grade"},"2019-02-01",2359,"Friday","Friday","EB","Yes","Yes","1-Yes",null,null,null,1]
[33,"I-380 & 120th St",57700,7000,"Shueyville",{"$f":"VLOOKUP(B188,Intersections!A:E,5,FALSE)","v":"Diamond"},"2019-02-05",1832,"Tuesday","Tuesday","1-NB in SB","No","No","0-No",76507,null,null,0.99]
["AMES-141","US-30 & Marshall St",{"$f":"VLOOKUP(B189,Intersections!A:G,6,FALSE)","v":14100},{"$f":"VLOOKUP(B189,Intersections!A:G,7,FALSE)","v":1910},"Boone",{"$f":"VLOOKUP(B189,Intersections!A:E,5,FALSE)","v":"At Grade"},"2019-02-05",1907,"Saturday","Saturday","EB in WB","Yes","Yes","1-Yes",null,null,null,1]
[28,"I-80 & Magnolia Rd",23800,3130,"Council Bluffs",{"$f":"VLOOKUP(B190,Intersections!A:E,5,FALSE)","v":"Diamond"},"2019-02-09",225,"Saturday","Friday","2-SB in NB","No","No","1-Yes",77013,20191097231,"4 - PDO"]
["AMES-142","US-30 & Story St",{"$f":"VLOOKUP(B191,Intersections!A:G,6,FALSE)","v":11700},{"$f":"VLOOKUP(B191,Intersections!A:G,7,FALSE)","v":6700},"Boone",{"$f":"VLOOKUP(B191,Intersections!A:E,5,FALSE)","v":"At Grade"},"2019-02-11",2230,"Friday","Friday","EB in WB","Yes","Yes","0-No",null,null,null,1]
["AMES-143","US-30 & US-169",{"$f":"VLOOKUP(B192,Intersections!A:G,6,FALSE)","v":7500},{"$f":"VLOOKUP(B192,Intersections!A:G,7,FALSE)","v":3550},"Ogden",{"$f":"VLOOKUP(B192,Intersections!A:E,5,FALSE)","v":"Excluded Unique"},"2019-02-16",137,"Saturday","Saturday",null,"Yes","No","1-Yes",null,null,null,1]
[23,"US-65 & US-6",30800,10100,"Altoona",{"$f":"VLOOKUP(B193,Intersections!A:E,5,FALSE)","v":"Split"},"2019-02-17",338,"Sunday","Saturday","1-NB in SB","Yes","Yes","0-No",78117,null,null,1]
[20,"US-63 & Dahlonega Rd",6800,2810,"Ottumwa",{"$f":"VLOOKUP(B194,Intersections!A:E,5,FALSE)","v":"Diamond"},"2019-02-18",105,"Monday","Sunday","1-NB in SB","No","No","1-Yes",78248,20191099275,"4 - PDO"]
[null,"I 80 W & I 80 W TO IRELAND AVE N",6800,2810,"Tiffin",{"$f":"VLOOKUP(B195,Intersections!A:E,5,FALSE)","v":"Diamond"},"2019-02-18",404,"Monday","Sunday","EB in WB","No","No","N",78251,null,null,0.8]
[17,"I-380 & 7th St",90800,6900,"Cedar Rapids",{"$f":"VLOOKUP(B196,Intersections!A:E,5,FALSE)","v":"Unique"},"2019-02-19",256,"Tuesday","Monday","1-NB in SB","No","No","0-No",78369,null,null,0.25]
[18,"I-380 & 1st St",79400,4550,"Cedar Rapids",{"$f":"VLOOKUP(B197,Intersections!A:E,5,FALSE)","v":"Unique"},"2019-02-19",256,"Tuesday","Monday","1-NB in SB","No","No","0-No",78369,null,null,0.25]
[19,"I-380 & 1st Ave",79400,22500,"Cedar Rapids",{"$f":"VLOOKUP(B198,Intersections!A:E,5,FALSE)","v":"Split"},"2019-02-19",256,"Tuesday","Monday","1-NB in SB","No","No","0-No",78369,null,null,0.25]
[24,"US-65 & Vandalia Rd",25000,6300,"Pleasant Hill",{"$f":"VLOOKUP(B199,Intersections!A:E,5,FALSE)","v":"Unique"},"2019-02-19",1544,"Tuesday","Tuesday","2-SB in NB","No","Yes","0-No",null,null,null,0.99]
[16,"I-80 & IA-146",29500,9000,"Grinnell",{"$f":"VLOOKUP(B200,Intersections!A:E,5,FALSE)","v":"Diamond"},"2019-02-22",457,"Friday","Friday","4-EB in WB","No","No","0-No",78822,null,null,0.5]
["AMES-146","US-30 & 19th St",{"$f":"VLOOKUP(B201,Intersections!A:G,6,FALSE)","v":12200},{"$f":"VLOOKUP(B201,Intersections!A:G,7,FALSE)","v":4240},"Nevada",{"$f":"VLOOKUP(B201,Intersections!A:E,5,FALSE)","v":"Unique"},"2019-02-23",0.51736111111111105,"Saturday","Saturday",null,null,null,null,null,null,null,1]
["AMES-144","US-30 & University Blvd",{"$f":"VLOOKUP(B202,Intersections!A:G,6,FALSE)","v":18300},{"$f":"VLOOKUP(B202,Intersections!A:G,7,FALSE)","v":15400},"Ames",{"$f":"VLOOKUP(B202,Intersections!A:E,5,FALSE)","v":"Diamond"},"2019-02-23",1723,"Saturday","Saturday","WB in EB","Yes","Yes",null,null,null,null,1]
["AMES-145","US-30 & 18th St/610th Ave",{"$f":"VLOOKUP(B203,Intersections!A:G,6,FALSE)","v":15300},{"$f":"VLOOKUP(B203,Intersections!A:G,7,FALSE)","v":2240},"Nevada",{"$f":"VLOOKUP(B203,Intersections!A:E,5,FALSE)","v":"At Grade"},"2019-02-25",322,"Monday","Monday","EB in WB","Yes","Yes",null,null,null,null,1]
[13,"I-80 & US-63",28700,3290,"Malcom",{"$f":"VLOOKUP(B204,Intersections!A:E,5,FALSE)","v":"Diamond"},"2019-03-14",424,"Thursday","Wednesday","3-WB in EB","Yes","No","1-Yes",81255,null,null,1]
[10,"I-380 & Wright Brothers Blvd",59800,6800,"Cedar Rapids",{"$f":"VLOOKUP(B205,Intersections!A:E,5,FALSE)","v":"See Intersections Tab"},"2019-03-17",2006,"Sunday","Sunday","1-NB in SB","Yes","Yes","1-Yes",81630,null,null,1]
[7,"Crossover",6300,0,"Ogden",{"$f":"VLOOKUP(B206,Intersections!A:E,5,FALSE)","v":"n/a"},"2019-03-19",1000,"Tuesday","Tuesday","4-EB in WB","Yes","No","1-Yes"]
[9,"US-65 & US-6",30800,10100,"Altoona",{"$f":"VLOOKUP(B207,Intersections!A:E,5,FALSE)","v":"Split"},"2019-03-23",2344,"Saturday","Saturday","2-SB in NB","Yes","Yes","1-Yes",82096,null,null,1]
[11,"I-80 & Grand Prairie Pkwy",47200,5100,"Waukee",{"$f":"VLOOKUP(B208,Intersections!A:E,5,FALSE)","v":"Unique"},"2019-03-24",343,"Sunday","Saturday","4-EB in WB","Yes","Yes","0-No",82155,null,null,1]
[14,"I-380 & 29th St",96900,8600,"Cedar Rapids",{"$f":"VLOOKUP(B209,Intersections!A:E,5,FALSE)","v":"Split"},"2019-03-26",1137,"Tuesday","Tuesday","2-SB in NB","No","Yes","0-No",82336,null,null,0.5]
[15,"I-380 & 42nd St",83100,12000,"Cedar Rapids",{"$f":"VLOOKUP(B210,Intersections!A:E,5,FALSE)","v":"Split"},"2019-03-26",1137,"Tuesday","Tuesday","2-SB in NB","No","Yes","0-No",82336,null,null,0.5]
[8,"I-380 & 33rd Ave",76100,20400,"Cedar Rapids",{"$f":"VLOOKUP(B211,Intersections!A:E,5,FALSE)","v":"Diamond"},"2019-03-31",116,"Sunday","Saturday","2-SB in NB","Yes","Yes","1-Yes",82785,null,null,1]
["AMES-148","US-30 & 230th St",{"$f":"VLOOKUP(B212,Intersections!A:G,6,FALSE)","v":16400},{"$f":"VLOOKUP(B212,Intersections!A:G,7,FALSE)","v":1160},"Boone",{"$f":"VLOOKUP(B212,Intersections!A:E,5,FALSE)","v":"At Grade"},"2019-04-05",526,"Friday","Friday","WB in EB","Yes","Yes",null,null,null,null,1]
[54,"US-30 & IA-287",11300,1480,"Atkins",{"$f":"VLOOKUP(B213,Intersections!A:E,5,FALSE)","v":"At Grade"},"2019-04-11",2228,"Thursday","Thursday","4-EB in WB","No","No","0-No",84012,null,null,0.5]
[69,"I-29 & US-34",20000,11900,"Glenwood",{"$f":"VLOOKUP(B214,Intersections!A:E,5,FALSE)","v":"System"},"2019-04-11",1143,"Thursday","Thursday","1-NB in SB","No","Yes","1-Yes",83951,null,null,0.99]
["AMES-149","US-30 & 580th Ave",{"$f":"VLOOKUP(B215,Intersections!A:G,6,FALSE)","v":17300},{"$f":"VLOOKUP(B215,Intersections!A:G,7,FALSE)","v":1790},"Ames",{"$f":"VLOOKUP(B215,Intersections!A:E,5,FALSE)","v":"At Grade"},"2019-04-14",109,"Sunday","Sunday","EB in WB","Yes","Yes",null,null,null,null,1]
["AMES-150","US-30 & 580th Ave",{"$f":"VLOOKUP(B216,Intersections!A:G,6,FALSE)","v":17300},{"$f":"VLOOKUP(B216,Intersections!A:G,7,FALSE)","v":1790},"Ames",{"$f":"VLOOKUP(B216,Intersections!A:E,5,FALSE)","v":"At Grade"},"2019-04-20",1134,"Saturday","Saturday","EB in WB","Yes","Yes","0-No",null,null,null,1]
[51,"I-29 & I-680",22800,17500,"Crescent",{"$f":"VLOOKUP(B217,Intersections!A:E,5,FALSE)","v":"System"},"2019-04-23",910,"Tuesday","Tuesday","2-SB in NB","No","Yes","0-No",85130,null,null,0]
[68,"I-380 & Lewis Access Rd",28100,9000,"Center Point",{"$f":"VLOOKUP(B218,Intersections!A:E,5,FALSE)","v":"Diamond"},"2019-04-27",1448,"Saturday","Saturday","2-SB in NB","No","Yes","1-Yes",85653,null,null,0.99]
[71,"IA-141 & 28th St",32300,2120,"Grimes",{"$f":"VLOOKUP(B219,Intersections!A:E,5,FALSE)","v":"At Grade"},"2019-05-01",1958,"Wednesday","Wednesday","4-EB in WB","Yes","Yes","0-No",86095,null,null,1]
[70,"US-218 & IA-1",30400,23700,"Iowa City",{"$f":"VLOOKUP(B220,Intersections!A:E,5,FALSE)","v":"Diamond"},"2019-05-02",440,"Thursday","Wednesday","1-NB in SB","No","No","0-No",86087,null,null,0.5]
["AMES-151","US-30 & S Linn St",{"$f":"VLOOKUP(B221,Intersections!A:G,6,FALSE)","v":14100},{"$f":"VLOOKUP(B221,Intersections!A:G,7,FALSE)","v":5100},"Boone",{"$f":"VLOOKUP(B221,Intersections!A:E,5,FALSE)","v":"At Grade"},"2019-05-02",2350,"Thursday","Thursday ","EB in WB",null,"Yes",null,null,null,null,1]
[72,"I-29 & Bunge Ave",19000,5000,"Council Bluffs",{"$f":"VLOOKUP(B222,Intersections!A:E,5,FALSE)","v":"Diamond"},"2019-05-07",435,"Tuesday","Monday","2-SB in NB","Yes","Yes","0-No",86608,null,null,1]
["AMES-152","US-30 & University Blvd",{"$f":"VLOOKUP(B223,Intersections!A:G,6,FALSE)","v":18300},{"$f":"VLOOKUP(B223,Intersections!A:G,7,FALSE)","v":15400},"Ames",{"$f":"VLOOKUP(B223,Intersections!A:E,5,FALSE)","v":"Diamond"},"2019-05-08",1901,"Wednesday","Wednesday",null,null,null,null,null,null,null,1]
["AMES-153","US-30 & Duff Ave/US-69",{"$f":"VLOOKUP(B224,Intersections!A:G,6,FALSE)","v":32400},{"$f":"VLOOKUP(B224,Intersections!A:G,7,FALSE)","v":25900},"Ames",{"$f":"VLOOKUP(B224,Intersections!A:E,5,FALSE)","v":"Excluded Unique"},"2019-05-09",1040,"Thursday","Thursday ","EB in WB","Yes","No",null,null,null,null,1]
[73,"US-30 & C St",31700,16300,"Cedar Rapids",{"$f":"VLOOKUP(B225,Intersections!A:E,5,FALSE)","v":"Unique"},"2019-05-12",341,"Sunday","Saturday","3-WB in EB","Yes","Yes","1-Yes",87185,null,"4 - PDO"]
[74,"I-380 & 1st St",79400,4550,"Cedar Rapids",{"$f":"VLOOKUP(B226,Intersections!A:E,5,FALSE)","v":"Unique"},"2019-05-12",706,"Sunday","Sunday","1-NB in SB","No","Yes","0-No",87189,null,null,0.99]
["AMES-154","US-30 & 600th Ave",{"$f":"VLOOKUP(B227,Intersections!A:G,6,FALSE)","v":15300},{"$f":"VLOOKUP(B227,Intersections!A:G,7,FALSE)","v":260},"Nevada",{"$f":"VLOOKUP(B227,Intersections!A:E,5,FALSE)","v":"At Grade"},"2019-05-16",432,"Thursday","Thursday ","WB in EB","Yes","Yes",null,null,null,null,1]
["AMES-155","US-30 & Sand Hill Trail",{"$f":"VLOOKUP(B228,Intersections!A:G,6,FALSE)","v":17300},{"$f":"VLOOKUP(B228,Intersections!A:G,7,FALSE)","v":700},"Ames",{"$f":"VLOOKUP(B228,Intersections!A:E,5,FALSE)","v":"At Grade"},"2019-05-27",31,"Monday","Monday","EB in WB","Yes","Yes","1-Yes",null,null,null,1]
[106,"I-235 & 50th St",104900,21000,"West Des Moines",{"$f":"VLOOKUP(B229,Intersections!A:E,5,FALSE)","v":"Half Diamond"},"2019-06-03",2248,"Monday","Monday","4-EB in WB","Yes","Yes","0-No",null,null,null,1]
["AMES-156","US-30 & 19th St",{"$f":"VLOOKUP(B230,Intersections!A:G,6,FALSE)","v":12200},{"$f":"VLOOKUP(B230,Intersections!A:G,7,FALSE)","v":4240},"Nevada",{"$f":"VLOOKUP(B230,Intersections!A:E,5,FALSE)","v":"Unique"},"2019-06-05",1014,"Wednesday","Wednesday","EB in WB","Yes","Yes","0-No",null,null,null,1]
["AMES-157","US-30 & University Blvd",{"$f":"VLOOKUP(B231,Intersections!A:G,6,FALSE)","v":18300},{"$f":"VLOOKUP(B231,Intersections!A:G,7,FALSE)","v":15400},"Ames",{"$f":"VLOOKUP(B231,Intersections!A:E,5,FALSE)","v":"Diamond"},"2019-06-08",1254,"Saturday","Saturday","WB in EB","Yes",null,null,null,null,null,1]
["AMES-158","US-30 & Corporal Roger Snedden Dr",{"$f":"VLOOKUP(B232,Intersections!A:G,6,FALSE)","v":14400},{"$f":"VLOOKUP(B232,Intersections!A:G,7,FALSE)","v":2440},"Boone",{"$f":"VLOOKUP(B232,Intersections!A:E,5,FALSE)","v":"At Grade"},"2019-06-08",2133,"Saturday","Saturday","WB in EB","Yes","Yes","0-No",null,null,null,1]
[111,"I-80 & IA-21",{"$f":"VLOOKUP(B233,Intersections!A:G,6,FALSE)","v":28700},{"$f":"VLOOKUP(B233,Intersections!A:G,7,FALSE)","v":3430},"Victor",{"$f":"VLOOKUP(B233,Intersections!A:E,5,FALSE)","v":"Unique"},"2019-06-15",2352,"Saturday","Saturday","4-EB in WB","No","No","0-No",91421,null,null,0.75]
[110,"I-80 & Black Hawk Ave",{"$f":"VLOOKUP(B234,Intersections!A:G,6,FALSE)","v":34400},{"$f":"VLOOKUP(B234,Intersections!A:G,7,FALSE)","v":1190},"Oxford",{"$f":"VLOOKUP(B234,Intersections!A:E,5,FALSE)","v":"Unique"},"2019-06-25",46,"Tuesday","Monday","3-WB in EB","Yes","Yes","0-No",95202,null,null,1]
[108,"US-65 & IA-330",{"$f":"VLOOKUP(B235,Intersections!A:G,6,FALSE)","v":9700},{"$f":"VLOOKUP(B235,Intersections!A:G,7,FALSE)","v":1710},"Bondurant",{"$f":"VLOOKUP(B235,Intersections!A:E,5,FALSE)","v":"Diamond"},"2019-06-28",2251,"Friday","Friday","2-SB in NB","No","No","0-No",null,null,null,0.99]
[107,"I-35 & IA-92",{"$f":"VLOOKUP(B236,Intersections!A:G,6,FALSE)","v":22500},{"$f":"VLOOKUP(B236,Intersections!A:G,7,FALSE)","v":4970},"Cumming",{"$f":"VLOOKUP(B236,Intersections!A:E,5,FALSE)","v":"Diamond"},"2019-06-29",511,"Saturday","Saturday","1-NB in SB","No","No","0-No",93037,null,null,0]
["AMES-159","US-30 & Corporal Roger Snedden Dr",{"$f":"VLOOKUP(B237,Intersections!A:G,6,FALSE)","v":14400},{"$f":"VLOOKUP(B237,Intersections!A:G,7,FALSE)","v":2440},"Boone",{"$f":"VLOOKUP(B237,Intersections!A:E,5,FALSE)","v":"At Grade"},"2019-06-29",1401,"Saturday","Saturday","EB in WB","Yes","Yes",null,null,null,null,1]
["AMES-160","US-30 & IA-930/Lincoln Way",{"$f":"VLOOKUP(B238,Intersections!A:G,6,FALSE)","v":17100},{"$f":"VLOOKUP(B238,Intersections!A:G,7,FALSE)","v":5600},"Ames",{"$f":"VLOOKUP(B238,Intersections!A:E,5,FALSE)","v":"Split"},"2019-07-01",1930,"Monday","Monday","EB in WB","No","Yes",null,null,null,null,1]
["AMES-161","US-30 & SW 4th St/CR-S14",{"$f":"VLOOKUP(B239,Intersections!A:G,6,FALSE)","v":15000},{"$f":"VLOOKUP(B239,Intersections!A:G,7,FALSE)","v":2830},"Nevada",{"$f":"VLOOKUP(B239,Intersections!A:E,5,FALSE)","v":"At Grade"},"2019-07-02",2241,"Tuesday ","Tuesday","WB in EB","Yes","Yes","0-No",null,null,null,1]
[131,"I-80 & Expressway St",{"$f":"VLOOKUP(B240,Intersections!A:G,6,FALSE)","v":73700},{"$f":"VLOOKUP(B240,Intersections!A:G,7,FALSE)","v":27000},"Council Bluffs",{"$f":"VLOOKUP(B240,Intersections!A:E,5,FALSE)","v":"n/a"},"2019-07-09",1009,"Tuesday","Tuesday","WB in EB","No","No","0-No",94130,null,null,0.99]
["AMES-171","US-30 & Duff Ave/US-69",{"$f":"VLOOKUP(B241,Intersections!A:G,6,FALSE)","v":32400},{"$f":"VLOOKUP(B241,Intersections!A:G,7,FALSE)","v":25900},"Ames",{"$f":"VLOOKUP(B241,Intersections!A:E,5,FALSE)","v":"Excluded Unique"},"2019-07-09",200,"Tuesday ","Tuesday","EB in WB","Yes","No",null,null,null,null,1]
["AMES-162","US-30 & 19th St",{"$f":"VLOOKUP(B242,Intersections!A:G,6,FALSE)","v":12200},{"$f":"VLOOKUP(B242,Intersections!A:G,7,FALSE)","v":4240},"Nevada",{"$f":"VLOOKUP(B242,Intersections!A:E,5,FALSE)","v":"Unique"},"2019-07-14",241,"Sunday","Sunday","WB in EB","Yes","Yes","0-No",null,null,null,1]
["AMES-163","US-30 & 580th Ave",{"$f":"VLOOKUP(B243,Intersections!A:G,6,FALSE)","v":17300},{"$f":"VLOOKUP(B243,Intersections!A:G,7,FALSE)","v":1790},"Ames",{"$f":"VLOOKUP(B243,Intersections!A:E,5,FALSE)","v":"At Grade"},"2019-07-14",31,"Sunday","Sunday","WB in EB","Yes","Yes","1-Yes",null,null,null,1]
[112,"IA-100 & Covington Rd",{"$f":"VLOOKUP(B244,Intersections!A:G,6,FALSE)","v":9300},{"$f":"VLOOKUP(B244,Intersections!A:G,7,FALSE)","v":8400},"Cedar Rapids",{"$f":"VLOOKUP(B244,Intersections!A:E,5,FALSE)","v":"Diamond"},"2019-07-15",1407,"Monday","Monday","4-EB in WB","No","No","1-Yes",94808,null,null,0.75]
[113,"IA-100 & E Ave NW",{"$f":"VLOOKUP(B245,Intersections!A:G,6,FALSE)","v":8100},{"$f":"VLOOKUP(B245,Intersections!A:G,7,FALSE)","v":1080},"Cedar Rapids",{"$f":"VLOOKUP(B245,Intersections!A:E,5,FALSE)","v":"Diamond"},"2019-07-15",1407,"Monday","Monday","4-EB in WB","No","No","1-Yes",94808,null,null,0.25]
[114,"I 80 W & I 80 W TO IA 149 N",{"$f":"VLOOKUP(B246,Intersections!A:G,6,FALSE)","v":32400},{"$f":"VLOOKUP(B246,Intersections!A:G,7,FALSE)","v":7600},"Williamsburg",{"$f":"VLOOKUP(B246,Intersections!A:E,5,FALSE)","v":"Diamond"},"2019-07-15",1707,"Monday","Monday","4-EB in WB","No","No","0-No",94841,null,null,0.75]
[115,"I 80 W & I 80 W TO M AVE N",{"$f":"VLOOKUP(B247,Intersections!A:G,6,FALSE)","v":29300},{"$f":"VLOOKUP(B247,Intersections!A:G,7,FALSE)","v":4290},"Williamsburg",{"$f":"VLOOKUP(B247,Intersections!A:E,5,FALSE)","v":"Excluded Unique"},"2019-07-15",1707,"Monday","Monday","4-EB in WB","No","No","0-No",94841,null,null,0.25]
["AMES-164","US-30 & Marshall St",{"$f":"VLOOKUP(B248,Intersections!A:G,6,FALSE)","v":14100},{"$f":"VLOOKUP(B248,Intersections!A:G,7,FALSE)","v":1910},"Boone",{"$f":"VLOOKUP(B248,Intersections!A:E,5,FALSE)","v":"At Grade"},"2019-07-16",1639,"Tuesday ","Tuesday","EB in WB","Yes","Yes","0-No",null,null,null,1]
["AMES-165","US-30 & Corporal Roger Snedden Dr",{"$f":"VLOOKUP(B249,Intersections!A:G,6,FALSE)","v":14400},{"$f":"VLOOKUP(B249,Intersections!A:G,7,FALSE)","v":2440},"Boone",{"$f":"VLOOKUP(B249,Intersections!A:E,5,FALSE)","v":"At Grade"},"2019-07-18",317,"Thursday","Thursday ","EB in WB","Yes","Yes",null,null,null,null,1]
[116,"IA-35 East RAMP & 100TH ST",{"$f":"VLOOKUP(B250,Intersections!A:G,6,FALSE)","v":15900},{"$f":"VLOOKUP(B250,Intersections!A:G,7,FALSE)","v":2680},"Dows",{"$f":"VLOOKUP(B250,Intersections!A:E,5,FALSE)","v":"Diamond"},"2019-07-21",241,"Sunday","Saturday","2-SB in NB","Yes","Yes","1-Yes",95510,null,null,1]
[117,"Nebraska",{"$f":"VLOOKUP(B251,Intersections!A:G,6,FALSE)","v":0},{"$f":"VLOOKUP(B251,Intersections!A:G,7,FALSE)","v":0},"Council Bluffs",{"$f":"VLOOKUP(B251,Intersections!A:E,5,FALSE)","v":"n/a"},"2019-07-21",218,"Sunday","Saturday","4-EB in WB","Yes","Yes","1-Yes",95509,20191126176,"4-PDO"]
["AMES-166","US-30 & University Blvd",{"$f":"VLOOKUP(B252,Intersections!A:G,6,FALSE)","v":18300},{"$f":"VLOOKUP(B252,Intersections!A:G,7,FALSE)","v":15400},"Ames",{"$f":"VLOOKUP(B252,Intersections!A:E,5,FALSE)","v":"Diamond"},"2019-07-24",1034,"Wednesday","Wednesday","WB in EB","Yes","No",null,null,null,null,1]
["AMES-167","US-30 & University Blvd",{"$f":"VLOOKUP(B253,Intersections!A:G,6,FALSE)","v":18300},{"$f":"VLOOKUP(B253,Intersections!A:G,7,FALSE)","v":15400},"Ames",{"$f":"VLOOKUP(B253,Intersections!A:E,5,FALSE)","v":"Diamond"},"2019-07-28",119,"Sunday","Sunday","WB in EB","Yes","Yes",null,null,null,null,1]
["AMES-168","US-30 & 650th Ave/CR-S27",{"$f":"VLOOKUP(B254,Intersections!A:G,6,FALSE)","v":10300},{"$f":"VLOOKUP(B254,Intersections!A:G,7,FALSE)","v":1040},"Nevada",{"$f":"VLOOKUP(B254,Intersections!A:E,5,FALSE)","v":"At Grade"},"2019-07-28",351,"Sunday","Sunday","WB in EB","Yes","Yes","0-No",null,null,null,1]
["AMES-169","US-30 & Sand Hill Trail",{"$f":"VLOOKUP(B255,Intersections!A:G,6,FALSE)","v":17300},{"$f":"VLOOKUP(B255,Intersections!A:G,7,FALSE)","v":700},"Ames",{"$f":"VLOOKUP(B255,Intersections!A:E,5,FALSE)","v":"At Grade"},"2019-07-28",402,"Sunday","Sunday","WB in EB","Yes","Yes",null,null,null,null,1]
[118,"US-30 & 215th Dr/Walnut St/Old Lincoln Highway",{"$f":"VLOOKUP(B256,Intersections!A:G,6,FALSE)","v":6000},{"$f":"VLOOKUP(B256,Intersections!A:G,7,FALSE)","v":650},"Ogden",{"$f":"VLOOKUP(B256,Intersections!A:E,5,FALSE)","v":"At Grade"},"2019-07-29",2309,"Monday","Monday","4-EB in WB","No","No","0-No",null,null,null,0.5]
[119,"US-30 & US-169",{"$f":"VLOOKUP(B257,Intersections!A:G,6,FALSE)","v":7500},{"$f":"VLOOKUP(B257,Intersections!A:G,7,FALSE)","v":3550},"Ogden",{"$f":"VLOOKUP(B257,Intersections!A:E,5,FALSE)","v":"Excluded Unique"},"2019-07-29",2309,"Monday","Monday","4-EB in WB","No","No","0-No",null,null,null,0.5]
["AMES-170","US-30 & 650th Ave/CR-S27",{"$f":"VLOOKUP(B258,Intersections!A:G,6,FALSE)","v":10300},{"$f":"VLOOKUP(B258,Intersections!A:G,7,FALSE)","v":1040},"Nevada",{"$f":"VLOOKUP(B258,Intersections!A:E,5,FALSE)","v":"At Grade"},"2019-07-30",203,"Tuesday ","Tuesday","WB in EB","Yes","Yes","1-Yes",null,null,null,1]
[120,"US-30 & IA-279",{"$f":"VLOOKUP(B259,Intersections!A:G,6,FALSE)","v":14100},{"$f":"VLOOKUP(B259,Intersections!A:G,7,FALSE)","v":2690},"Atkins",{"$f":"VLOOKUP(B259,Intersections!A:E,5,FALSE)","v":"At Grade"},"2019-08-04",2337,"Sunday","Sunday","4-EB in WB","No","Yes","1-Yes",96968,null,"1-Fatal"]
[121,"US-30 & 32nd Ave",{"$f":"VLOOKUP(B260,Intersections!A:G,6,FALSE)","v":11300},{"$f":"VLOOKUP(B260,Intersections!A:G,7,FALSE)","v":1790},"Atkins",{"$f":"VLOOKUP(B260,Intersections!A:E,5,FALSE)","v":"At Grade"},"2019-08-04",2337,"Sunday","Sunday","4-EB in WB","No","Yes","1-Yes",96968,null,"1-Fatal"]
[122,"US-30 & IA-287",{"$f":"VLOOKUP(B261,Intersections!A:G,6,FALSE)","v":10700},{"$f":"VLOOKUP(B261,Intersections!A:G,7,FALSE)","v":1250},"Newhall",{"$f":"VLOOKUP(B261,Intersections!A:E,5,FALSE)","v":"At Grade"},"2019-08-04",2337,"Sunday","Sunday","4-EB in WB","No","Yes","1-Yes",96968,null,"1-Fatal"]
[123,"US-30 & L Ave/CR-R18",{"$f":"VLOOKUP(B262,Intersections!A:G,6,FALSE)","v":8800},{"$f":"VLOOKUP(B262,Intersections!A:G,7,FALSE)","v":1320},"Boone",{"$f":"VLOOKUP(B262,Intersections!A:E,5,FALSE)","v":"At Grade"},"2019-08-12",2108,"Monday","Monday","WB in EB","No","No","1-Yes",null,null,null,0.99]
["AMES-172","US-30 & S Linn St",{"$f":"VLOOKUP(B263,Intersections!A:G,6,FALSE)","v":14100},{"$f":"VLOOKUP(B263,Intersections!A:G,7,FALSE)","v":5100},"Boone",{"$f":"VLOOKUP(B263,Intersections!A:E,5,FALSE)","v":"At Grade"},"2019-08-13",2233,"Tuesday","Tuesday","EB in WB","Yes","Yes","0-No",null,null,null,1]
[124,"US-30 & Edgewood Rd",{"$f":"VLOOKUP(B264,Intersections!A:G,6,FALSE)","v":31500},{"$f":"VLOOKUP(B264,Intersections!A:G,7,FALSE)","v":10900},"Cedar Rapids",{"$f":"VLOOKUP(B264,Intersections!A:E,5,FALSE)","v":"Excluded Unique"},"2019-08-16",925,"Friday","Friday","EB in WB","No","No","0-No",98218,null,null,0.99]
["AMES-173","US-30 & SW 4th St/CR-S14",{"$f":"VLOOKUP(B265,Intersections!A:G,6,FALSE)","v":15000},{"$f":"VLOOKUP(B265,Intersections!A:G,7,FALSE)","v":2830},"Nevada",{"$f":"VLOOKUP(B265,Intersections!A:E,5,FALSE)","v":"At Grade"},"2019-08-17",43,"Saturday","Friday","WB in EB","Yes","Yes","0-No",null,null,null,1]
["AMES-174","US-30 & 650th Ave/CR-S27",{"$f":"VLOOKUP(B266,Intersections!A:G,6,FALSE)","v":10300},{"$f":"VLOOKUP(B266,Intersections!A:G,7,FALSE)","v":1040},"Nevada",{"$f":"VLOOKUP(B266,Intersections!A:E,5,FALSE)","v":"At Grade"},"2019-08-19",21,"Monday","Sunday","WB in EB","Yes","Yes","0-No",null,null,null,1]
["AMES-175","US-30 & T Ave",{"$f":"VLOOKUP(B267,Intersections!A:G,6,FALSE)","v":16300},{"$f":"VLOOKUP(B267,Intersections!A:G,7,FALSE)","v":35},"Boone",{"$f":"VLOOKUP(B267,Intersections!A:E,5,FALSE)","v":"At Grade"},"2019-09-10",1735,"Tuesday","Tuesday","EB in WB","Yes","Yes","0-No",null,null,null,1]
[125,"US-30 & Dogwood Rd",{"$f":"VLOOKUP(B268,Intersections!A:G,6,FALSE)","v":24300},{"$f":"VLOOKUP(B268,Intersections!A:G,7,FALSE)","v":101},"Cedar Rapids",{"$f":"VLOOKUP(B268,Intersections!A:E,5,FALSE)","v":"At Grade"},"2019-09-27",13,"Sunday","Saturday","EB in WB","No","No","0-No",104131,null,null,0.5]
[141,"IA-100 & Edgewood Rd",{"$f":"VLOOKUP(B269,Intersections!A:G,6,FALSE)","v":23900},{"$f":"VLOOKUP(B269,Intersections!A:G,7,FALSE)","v":33500},"Cedar Rapids",{"$f":"VLOOKUP(B269,Intersections!A:E,5,FALSE)","v":"Excluded Unique"},"2019-09-30",1850,"Monday","Monday","WB in EB","Yes","Yes","0-No",105091,null,null,1]
[130,"I-29 & Singing Hills Blvd",{"$f":"VLOOKUP(B270,Intersections!A:G,6,FALSE)","v":42000},{"$f":"VLOOKUP(B270,Intersections!A:G,7,FALSE)","v":13600},"Sioux City",{"$f":"VLOOKUP(B270,Intersections!A:E,5,FALSE)","v":"Diamond"},"2019-10-01",1440,"Tuesday","Tuesday","SB in NB","Yes","Yes","0-No",105188,null,null,1]
[129,"US-30 & 32nd Ave",{"$f":"VLOOKUP(B271,Intersections!A:G,6,FALSE)","v":11300},{"$f":"VLOOKUP(B271,Intersections!A:G,7,FALSE)","v":1790},"Atkins",{"$f":"VLOOKUP(B271,Intersections!A:E,5,FALSE)","v":"At Grade"},"2019-10-03",2244,"Thursday","Thursday","EB in WB","No","No","1-Yes",105509,null,null,0.99]
[128,"US-30 & 32nd Ave",{"$f":"VLOOKUP(B272,Intersections!A:G,6,FALSE)","v":11300},{"$f":"VLOOKUP(B272,Intersections!A:G,7,FALSE)","v":1790},"Atkins",{"$f":"VLOOKUP(B272,Intersections!A:E,5,FALSE)","v":"At Grade"},"2019-10-04",2156,"Friday","Friday","EB in WB","No","No","0-No",105643,null,null,0.99]
[127,"I-380 & Wilson Ave",{"$f":"VLOOKUP(B273,Intersections!A:G,6,FALSE)","v":81100},{"$f":"VLOOKUP(B273,Intersections!A:G,7,FALSE)","v":15000},"Cedar Rapids",{"$f":"VLOOKUP(B273,Intersections!A:E,5,FALSE)","v":"Diamond"},"2019-10-05",1706,"Saturday","Saturday","SB in NB","Yes","Yes","0-No",105678,null,null,1]
["AMES-176","US-30 & 19th St",{"$f":"VLOOKUP(B274,Intersections!A:G,6,FALSE)","v":12200},{"$f":"VLOOKUP(B274,Intersections!A:G,7,FALSE)","v":4240},"Nevada",{"$f":"VLOOKUP(B274,Intersections!A:E,5,FALSE)","v":"Unique"},"2019-10-05",542,"Tuesday","Monday","WB in EB","No","Yes","0-No",null,null,null,0]
[126,"I-380 & 1st Ave",{"$f":"VLOOKUP(B275,Intersections!A:G,6,FALSE)","v":79400},{"$f":"VLOOKUP(B275,Intersections!A:G,7,FALSE)","v":22500},"Cedar Rapids",{"$f":"VLOOKUP(B275,Intersections!A:E,5,FALSE)","v":"Split"},"2019-10-06",57,"Sunday","Saturday","NB in SB","No","No","0-No",105698,null,null,0.99]
["AMES-177","US-30 & US-169",{"$f":"VLOOKUP(B276,Intersections!A:G,6,FALSE)","v":7500},{"$f":"VLOOKUP(B276,Intersections!A:G,7,FALSE)","v":3550},"Ogden",{"$f":"VLOOKUP(B276,Intersections!A:E,5,FALSE)","v":"Excluded Unique"},"2019-10-11",2301,"Friday","Friday","EB in WB","No","No","1-Yes",null,null,null,0]
[132,"US-30 & 32nd Ave",{"$f":"VLOOKUP(B277,Intersections!A:G,6,FALSE)","v":11300},{"$f":"VLOOKUP(B277,Intersections!A:G,7,FALSE)","v":1790},"Atkins",{"$f":"VLOOKUP(B277,Intersections!A:E,5,FALSE)","v":"At Grade"},"2019-10-12",2155,"Saturday","Saturday","EB in WB","No","No","0-No",106404,null,null,0.5]
[132,"US-30 & IA-279",{"$f":"VLOOKUP(B278,Intersections!A:G,6,FALSE)","v":14100},{"$f":"VLOOKUP(B278,Intersections!A:G,7,FALSE)","v":2690},"Atkins",{"$f":"VLOOKUP(B278,Intersections!A:E,5,FALSE)","v":"At Grade"},"2019-10-12",2155,"Saturday","Saturday","EB in WB","No","No","0-No",106404,null,null,0.5]
[140,"US-30 & IA-287",{"$f":"VLOOKUP(B279,Intersections!A:G,6,FALSE)","v":10700},{"$f":"VLOOKUP(B279,Intersections!A:G,7,FALSE)","v":1250},"Newhall",{"$f":"VLOOKUP(B279,Intersections!A:E,5,FALSE)","v":"At Grade"},"2019-10-12",2321,"Saturday","Saturday","EB in WB","No","No","0-No",106409,null,null,0.33]
[140,"US-30 & 32nd Ave",{"$f":"VLOOKUP(B280,Intersections!A:G,6,FALSE)","v":11300},{"$f":"VLOOKUP(B280,Intersections!A:G,7,FALSE)","v":1790},"Atkins",{"$f":"VLOOKUP(B280,Intersections!A:E,5,FALSE)","v":"At Grade"},"2019-10-12",2321,"Saturday","Saturday","EB in WB","No","No","0-No",106409,null,null,0.33]
[140,"US-30 & IA-279",{"$f":"VLOOKUP(B281,Intersections!A:G,6,FALSE)","v":14100},{"$f":"VLOOKUP(B281,Intersections!A:G,7,FALSE)","v":2690},"Atkins",{"$f":"VLOOKUP(B281,Intersections!A:E,5,FALSE)","v":"At Grade"},"2019-10-12",2321,"Saturday","Saturday","EB in WB","No","No","0-No",106409,null,null,0.33]
["AMES-178","US-30 & University Blvd",{"$f":"VLOOKUP(B282,Intersections!A:G,6,FALSE)","v":18300},{"$f":"VLOOKUP(B282,Intersections!A:G,7,FALSE)","v":15400},"Ames",{"$f":"VLOOKUP(B282,Intersections!A:E,5,FALSE)","v":"Diamond"},"2019-10-14",1218,"Monday","Monday","WB in EB","Yes","Yes","0-No",null,null,null,1]
[49,"US-30 & 16th Ave - No Longer Exists",0,0,"Cedar Rapids",{"$f":"VLOOKUP(B283,Intersections!A:E,5,FALSE)","v":"Unique"},"2019-10-18",2314,"Thursday","Thursday","4-EB in WB","No","No","0-No",64098]
["AMES-179","US-30 & Story St",{"$f":"VLOOKUP(B284,Intersections!A:G,6,FALSE)","v":11700},{"$f":"VLOOKUP(B284,Intersections!A:G,7,FALSE)","v":6700},"Boone",{"$f":"VLOOKUP(B284,Intersections!A:E,5,FALSE)","v":"At Grade"},"2019-10-21",203,"Sunday","Saturday","EB in WB","Yes","Yes","0-No",null,null,null,1]
[142,"US-65/69 & County Road G24",{"$f":"VLOOKUP(B285,Intersections!A:G,6,FALSE)","v":21400},{"$f":"VLOOKUP(B285,Intersections!A:G,7,FALSE)","v":1460},"Carlisle",{"$f":"VLOOKUP(B285,Intersections!A:E,5,FALSE)","v":"At Grade"},"2019-11-01",2148,"Sunday","Sunday","NB in SB","No","Yes","0-No",null,null,null,0.99]
[133,"IA-100 & Edgewood Rd",{"$f":"VLOOKUP(B286,Intersections!A:G,6,FALSE)","v":23900},{"$f":"VLOOKUP(B286,Intersections!A:G,7,FALSE)","v":33500},"Cedar Rapids",{"$f":"VLOOKUP(B286,Intersections!A:E,5,FALSE)","v":"Excluded Unique"},"2019-11-04",1154,"Monday","Monday","EB in WB","No","No","0-No",109113,null,null,0.99]
[135,"US-30 & IA-279",{"$f":"VLOOKUP(B287,Intersections!A:G,6,FALSE)","v":14100},{"$f":"VLOOKUP(B287,Intersections!A:G,7,FALSE)","v":2690},"Atkins",{"$f":"VLOOKUP(B287,Intersections!A:E,5,FALSE)","v":"At Grade"},"2019-11-16",2334,"Saturday","Saturday","EB in WB","No","Yes","1-Yes",110931,null,null,0.5]
[135,"US-30 & IA-287",{"$f":"VLOOKUP(B288,Intersections!A:G,6,FALSE)","v":10700},{"$f":"VLOOKUP(B288,Intersections!A:G,7,FALSE)","v":1250},"Newhall",{"$f":"VLOOKUP(B288,Intersections!A:E,5,FALSE)","v":"At Grade"},"2019-11-16",2334,"Saturday","Saturday","EB in WB","No","Yes","1-Yes",110931,null,null,0.5]
[136,"US-218 & IA-92",{"$f":"VLOOKUP(B289,Intersections!A:G,6,FALSE)","v":11800},{"$f":"VLOOKUP(B289,Intersections!A:G,7,FALSE)","v":4480},"Ainsworth",{"$f":"VLOOKUP(B289,Intersections!A:E,5,FALSE)","v":"Unique"},"2019-11-17",253,"Sunday","Saturday","NB in SB","No","No","0-No",110933,null,null,0.75]
[136,"US 218 NE RAMP & 220TH ST",{"$f":"VLOOKUP(B290,Intersections!A:G,6,FALSE)","v":15000},{"$f":"VLOOKUP(B290,Intersections!A:G,7,FALSE)","v":2440},"Haskins",{"$f":"VLOOKUP(B290,Intersections!A:E,5,FALSE)","v":"Diamond"},"2019-11-17",253,"Sunday","Saturday","NB in SB","No","No","0-No",110933,null,null,0.25]
[134,"I- 35 E  Ramp & NE 36TH ST",{"$f":"VLOOKUP(B291,Intersections!A:G,6,FALSE)","v":53700},{"$f":"VLOOKUP(B291,Intersections!A:G,7,FALSE)","v":5600},"Ankeny",{"$f":"VLOOKUP(B291,Intersections!A:E,5,FALSE)","v":"Diamond"},"2019-11-19",256,"Tuesday","Monday","NB in SB","Yes","Yes","0-No",111103,null,null,1]
[138,"I-29 & Nebraska St",{"$f":"VLOOKUP(B292,Intersections!A:G,6,FALSE)","v":37700},{"$f":"VLOOKUP(B292,Intersections!A:G,7,FALSE)","v":8300},"Council Bluffs",{"$f":"VLOOKUP(B292,Intersections!A:E,5,FALSE)","v":"n/a"},"2019-11-26",1940,"Tuesday","Tuesday","SB in NB","Yes","Yes","1-Yes",112016,20191148232,"4-PDO",1]
[139,"I-80 NE RAMP & 60 AVE",{"$f":"VLOOKUP(B293,Intersections!A:G,6,FALSE)","v":38400},{"$f":"VLOOKUP(B293,Intersections!A:G,7,FALSE)","v":10400},"Walcott",{"$f":"VLOOKUP(B293,Intersections!A:E,5,FALSE)","v":"Diamond"},"2019-11-27",38,"Wednesday","Tuesday","WB in EB","No","No","0-No",112046,null,null,0.5]
[139,"I-280 & US-6",{"$f":"VLOOKUP(B294,Intersections!A:G,6,FALSE)","v":22400},{"$f":"VLOOKUP(B294,Intersections!A:G,7,FALSE)","v":6600},"Davenport",{"$f":"VLOOKUP(B294,Intersections!A:E,5,FALSE)","v":"Unique"},"2019-11-27",38,"Wednesday","Tuesday","WB in EB","No","No","0-No",112046,null,null,0.5]
["AMES-180","US-30 & W Ave",{"$f":"VLOOKUP(B295,Intersections!A:G,6,FALSE)","v":16400},{"$f":"VLOOKUP(B295,Intersections!A:G,7,FALSE)","v":820},"Ames",{"$f":"VLOOKUP(B295,Intersections!A:E,5,FALSE)","v":"At Grade"},"2019-12-01",203,"Thursday","Thursday","WB in EB","Yes","Yes","0-No",null,null,null,1]
[143,"US-30 & Hart Ave/CR-S62",{"$f":"VLOOKUP(B296,Intersections!A:G,6,FALSE)","v":7500},{"$f":"VLOOKUP(B296,Intersections!A:G,7,FALSE)","v":850},"State Center",{"$f":"VLOOKUP(B296,Intersections!A:E,5,FALSE)","v":"At Grade"},"2019-12-21",2010,"Saturday","Saturday","EB in WB","No","No","1-Yes",114894,1156879,"1-Fatal",0]
[154,"I-80 & IA-21",{"$f":"VLOOKUP(B297,Intersections!A:G,6,FALSE)","v":28700},{"$f":"VLOOKUP(B297,Intersections!A:G,7,FALSE)","v":3430},"Guernsey",{"$f":"VLOOKUP(B297,Intersections!A:E,5,FALSE)","v":"Unique"},"2019-12-23",118,"Monday","Sunday","WB in EB","No","No","0-No",114963,null,null,0.99]
[144,"IA-141 & Willis Ave",{"$f":"VLOOKUP(B298,Intersections!A:G,6,FALSE)","v":10100},{"$f":"VLOOKUP(B298,Intersections!A:G,7,FALSE)","v":1980},"Perry",{"$f":"VLOOKUP(B298,Intersections!A:E,5,FALSE)","v":"At Grade"},"2019-12-29",2108,"Sunday","Sunday","EB in WB","No","No","0-No",115504,null,null,0.25]
[144,"IA-141 & Iowa St (Perry)",{"$f":"VLOOKUP(B299,Intersections!A:G,6,FALSE)","v":8100},{"$f":"VLOOKUP(B299,Intersections!A:G,7,FALSE)","v":1310},"Perry",{"$f":"VLOOKUP(B299,Intersections!A:E,5,FALSE)","v":"At Grade"},"2019-12-29",2108,"Sunday","Sunday","EB in WB","No","No","0-No",115504,null,null,0.25]
[144,"IA-141 & 16th St (Perry)",{"$f":"VLOOKUP(B300,Intersections!A:G,6,FALSE)","v":8200},{"$f":"VLOOKUP(B300,Intersections!A:G,7,FALSE)","v":1360},"Perry",{"$f":"VLOOKUP(B300,Intersections!A:E,5,FALSE)","v":"At Grade"},"2019-12-29",2108,"Sunday","Sunday","EB in WB","No","No","0-No",115504,null,null,0.25]
[144,"IA-141 & 10th St (Perry)",{"$f":"VLOOKUP(B301,Intersections!A:G,6,FALSE)","v":8200},{"$f":"VLOOKUP(B301,Intersections!A:G,7,FALSE)","v":400},"Perry",{"$f":"VLOOKUP(B301,Intersections!A:E,5,FALSE)","v":"At Grade"},"2019-12-29",2108,"Sunday","Sunday","EB in WB","No","No","0-No",115504,null,null,0.25]
[153,"I-380 & Wright Brothers Blvd",{"$f":"VLOOKUP(B302,Intersections!A:G,6,FALSE)","v":59800},{"$f":"VLOOKUP(B302,Intersections!A:G,7,FALSE)","v":6800},"Cedar Rapids",{"$f":"VLOOKUP(B302,Intersections!A:E,5,FALSE)","v":"See Intersections Tab"},"2020-01-01",450,"Wednesday","Tuesday","NB in SB","Yes","No","0-No",115736,null,null,1]
[145,"I-80 & Hubbell Ave",{"$f":"VLOOKUP(B303,Intersections!A:G,6,FALSE)","v":42800},{"$f":"VLOOKUP(B303,Intersections!A:G,7,FALSE)","v":13700},"Altoona",{"$f":"VLOOKUP(B303,Intersections!A:E,5,FALSE)","v":"Excluded Unique"},"2020-01-14",2039,"Tuesday","Tuesday","WB in EB","Yes","Yes","1-Yes",117073,null,null,1]
[147,"I 80 W & I 80 W TO H AVE S",{"$f":"VLOOKUP(B304,Intersections!A:G,6,FALSE)","v":29400},{"$f":"VLOOKUP(B304,Intersections!A:G,7,FALSE)","v":640},"Williamsburg",{"$f":"VLOOKUP(B304,Intersections!A:E,5,FALSE)","v":"Diamond"},"2020-01-26",126,"Sunday","Saturday","EB in WB","Yes","Yes","0-No",118443,null,null,1]
[146,"I-35 & University Ave",{"$f":"VLOOKUP(B305,Intersections!A:G,6,FALSE)","v":121400},{"$f":"VLOOKUP(B305,Intersections!A:G,7,FALSE)","v":33100},"Clive",{"$f":"VLOOKUP(B305,Intersections!A:E,5,FALSE)","v":"Excluded Unique"},"2020-01-27",2020,"Monday","Monday","SB in NB","Yes","Yes","1-Yes",118572,null,null,1]
[148,"US-30 NE RAMP & WILLIAMS BLVD/US-151",{"$f":"VLOOKUP(B306,Intersections!A:G,6,FALSE)","v":20400},{"$f":"VLOOKUP(B306,Intersections!A:G,7,FALSE)","v":16200},"Cedar Rapids",{"$f":"VLOOKUP(B306,Intersections!A:E,5,FALSE)","v":"Diamond"},"2020-02-02",30,"Sunday","Saturday","EB in WB","No","No","0-No",119071,null,null,0.5]
[148,"U-Turn",{"$f":"VLOOKUP(B307,Intersections!A:G,6,FALSE)","v":0},{"$f":"VLOOKUP(B307,Intersections!A:G,7,FALSE)","v":0},"Cedar Rapids",{"$f":"VLOOKUP(B307,Intersections!A:E,5,FALSE)","v":"n/a"},"2020-02-02",30,"Sunday","Saturday","EB in WB","No","No","0-No",119071,null,null,0.5]
[149,"I-380 & 1st St",{"$f":"VLOOKUP(B308,Intersections!A:G,6,FALSE)","v":79400},{"$f":"VLOOKUP(B308,Intersections!A:G,7,FALSE)","v":4550},"Cedar Rapids",{"$f":"VLOOKUP(B308,Intersections!A:E,5,FALSE)","v":"Unique"},"2020-02-07",20,"Friday","Thursday","NB in SB","Yes","Yes","1-Yes",119558,null,null,1]
[150,"US-30 & Kirkwood Blvd",{"$f":"VLOOKUP(B309,Intersections!A:G,6,FALSE)","v":31700},{"$f":"VLOOKUP(B309,Intersections!A:G,7,FALSE)","v":16200},"Cedar Rapids",{"$f":"VLOOKUP(B309,Intersections!A:E,5,FALSE)","v":"Unique"},"2020-02-08",938,"Saturday","Saturday","EB in WB","No","No","0-No",119680,null,null,0.99]
[151,"I-80 & Tiffin EB Rest Area",{"$f":"VLOOKUP(B310,Intersections!A:G,6,FALSE)","v":34400},{"$f":"VLOOKUP(B310,Intersections!A:G,7,FALSE)","v":0},"Tiffin",{"$f":"VLOOKUP(B310,Intersections!A:E,5,FALSE)","v":"Rest Area"},"2020-02-19",1728,"Wednesday","Wednesday","WB in EB","No","No","0-No",120870,null,null,0.5]
[151,"I 80 W & I 80 W TO IRELAND AVE N",{"$f":"VLOOKUP(B311,Intersections!A:G,6,FALSE)","v":37700},{"$f":"VLOOKUP(B311,Intersections!A:G,7,FALSE)","v":3690},"Tiffin",{"$f":"VLOOKUP(B311,Intersections!A:E,5,FALSE)","v":"Diamond"},"2020-02-19",1728,"Wednesday","Wednesday","WB in EB","No","No","0-No",120870,null,null,0.5]
[152,"I-380 & Wright Brothers Blvd",{"$f":"VLOOKUP(B312,Intersections!A:G,6,FALSE)","v":59800},{"$f":"VLOOKUP(B312,Intersections!A:G,7,FALSE)","v":6800},"Cedar Rapids",{"$f":"VLOOKUP(B312,Intersections!A:E,5,FALSE)","v":"See Intersections Tab"},"2020-02-21",552,"Friday","Friday","SB in NB","No","No","0-No",121030,null,null,0.99]
["AMES-181","US-30 & Story St",{"$f":"VLOOKUP(B313,Intersections!A:G,6,FALSE)","v":11700},{"$f":"VLOOKUP(B313,Intersections!A:G,7,FALSE)","v":6700},"Ames",{"$f":"VLOOKUP(B313,Intersections!A:E,5,FALSE)","v":"At Grade"},"2020-03-08",1916,{"$f":"IF(G313=\"\",\"\",CHOOSE(WEEKDAY(G313,2),\"Monday\",\"Tuesday\",\"Wednesday\",\"Thursday\",\"Friday\",\"Saturday\",\"Sunday\"))","v":"Sunday"},{"$f":"IF(H313=\"\",\"\",CHOOSE(WEEKDAY(H313,2),\"Monday\",\"Tuesday\",\"Wednesday\",\"Thursday\",\"Friday\",\"Saturday\",\"Sunday\"))","v":"Thursday"},"WB in EB","Yes","Yes","0-No",null,null,null,1]
[155,"US-30 & IA-100",{"$f":"VLOOKUP(B314,Intersections!A:G,6,FALSE)","v":14100},{"$f":"VLOOKUP(B314,Intersections!A:G,7,FALSE)","v":5300},"Cedar Rapids",{"$f":"VLOOKUP(B314,Intersections!A:E,5,FALSE)","v":"System"},"2020-03-12",37,"Thursday","Wednesday","EB in WB","Yes","Yes","0-No",123233,null,null,1]
[156,"US-30 & US-65",{"$f":"VLOOKUP(B315,Intersections!A:G,6,FALSE)","v":8500},{"$f":"VLOOKUP(B315,Intersections!A:G,7,FALSE)","v":2240},"Colo",{"$f":"VLOOKUP(B315,Intersections!A:E,5,FALSE)","v":"Excluded Unique"},"2020-03-12",null,"Thursday","Thursday","EB in WB","No","No","1-Yes",null,null,null,0.99]
["AMES-182","US-30 & Marshall St",{"$f":"VLOOKUP(B316,Intersections!A:G,6,FALSE)","v":14100},{"$f":"VLOOKUP(B316,Intersections!A:G,7,FALSE)","v":1910},"Ames",{"$f":"VLOOKUP(B316,Intersections!A:E,5,FALSE)","v":"At Grade"},"2020-03-12",1216,{"$f":"IF(G316=\"\",\"\",CHOOSE(WEEKDAY(G316,2),\"Monday\",\"Tuesday\",\"Wednesday\",\"Thursday\",\"Friday\",\"Saturday\",\"Sunday\"))","v":"Thursday"},{"$f":"IF(H316=\"\",\"\",CHOOSE(WEEKDAY(H316,2),\"Monday\",\"Tuesday\",\"Wednesday\",\"Thursday\",\"Friday\",\"Saturday\",\"Sunday\"))","v":"Thursday"},"WB in EB","Yes","Yes","0-No",null,null,null,1]
[157,"US-30 & US-65",{"$f":"VLOOKUP(B317,Intersections!A:G,6,FALSE)","v":8500},{"$f":"VLOOKUP(B317,Intersections!A:G,7,FALSE)","v":2240},"Colo",{"$f":"VLOOKUP(B317,Intersections!A:E,5,FALSE)","v":"Excluded Unique"},"2020-03-13",null,"Friday","Friday","WB in EB","No","No","0-No",null,null,null,0.99]
["AMES-183","US-30 & Sand Hill Trail",{"$f":"VLOOKUP(B318,Intersections!A:G,6,FALSE)","v":17300},{"$f":"VLOOKUP(B318,Intersections!A:G,7,FALSE)","v":700},"Ames",{"$f":"VLOOKUP(B318,Intersections!A:E,5,FALSE)","v":"At Grade"},"2020-03-13",1637,{"$f":"IF(G318=\"\",\"\",CHOOSE(WEEKDAY(G318,2),\"Monday\",\"Tuesday\",\"Wednesday\",\"Thursday\",\"Friday\",\"Saturday\",\"Sunday\"))","v":"Friday"},{"$f":"IF(H318=\"\",\"\",CHOOSE(WEEKDAY(H318,2),\"Monday\",\"Tuesday\",\"Wednesday\",\"Thursday\",\"Friday\",\"Saturday\",\"Sunday\"))","v":"Friday"},"WB in EB","Yes","Yes","0-No",null,null,null,1]
["AMES-184","US-30 & 18th St/610th Ave",{"$f":"VLOOKUP(B319,Intersections!A:G,6,FALSE)","v":15300},{"$f":"VLOOKUP(B319,Intersections!A:G,7,FALSE)","v":2240},"Ames",{"$f":"VLOOKUP(B319,Intersections!A:E,5,FALSE)","v":"At Grade"},"2020-03-14",2146,{"$f":"IF(G319=\"\",\"\",CHOOSE(WEEKDAY(G319,2),\"Monday\",\"Tuesday\",\"Wednesday\",\"Thursday\",\"Friday\",\"Saturday\",\"Sunday\"))","v":"Saturday"},{"$f":"IF(H319=\"\",\"\",CHOOSE(WEEKDAY(H319,2),\"Monday\",\"Tuesday\",\"Wednesday\",\"Thursday\",\"Friday\",\"Saturday\",\"Sunday\"))","v":"Wednesday"},"WB in EB","Yes","Yes","0-No",null,null,null,1]
[158,"I-235 & Keosauqua Way",{"$f":"VLOOKUP(B320,Intersections!A:G,6,FALSE)","v":91300},{"$f":"VLOOKUP(B320,Intersections!A:G,7,FALSE)","v":13800},"Des Moines",{"$f":"VLOOKUP(B320,Intersections!A:E,5,FALSE)","v":"Unique"},"2020-03-17",2354,"Tuesday","Tuesday","EB in WB","Yes","Yes","1-Yes",123836,null,null,1]
["AMES-185","US-30 & T Ave",{"$f":"VLOOKUP(B321,Intersections!A:G,6,FALSE)","v":16300},{"$f":"VLOOKUP(B321,Intersections!A:G,7,FALSE)","v":35},"Ames",{"$f":"VLOOKUP(B321,Intersections!A:E,5,FALSE)","v":"At Grade"},"2020-03-25",2324,{"$f":"IF(G321=\"\",\"\",CHOOSE(WEEKDAY(G321,2),\"Monday\",\"Tuesday\",\"Wednesday\",\"Thursday\",\"Friday\",\"Saturday\",\"Sunday\"))","v":"Wednesday"},{"$f":"IF(H321=\"\",\"\",CHOOSE(WEEKDAY(H321,2),\"Monday\",\"Tuesday\",\"Wednesday\",\"Thursday\",\"Friday\",\"Saturday\",\"Sunday\"))","v":"Saturday"},"WB in EB","Yes","Yes","0-No",null,null,null,1]
["AMES-186","US-30 & 650th Ave/CR-S27",{"$f":"VLOOKUP(B322,Intersections!A:G,6,FALSE)","v":10300},{"$f":"VLOOKUP(B322,Intersections!A:G,7,FALSE)","v":1040},"Ames",{"$f":"VLOOKUP(B322,Intersections!A:E,5,FALSE)","v":"At Grade"},"2020-04-01",1532,{"$f":"IF(G322=\"\",\"\",CHOOSE(WEEKDAY(G322,2),\"Monday\",\"Tuesday\",\"Wednesday\",\"Thursday\",\"Friday\",\"Saturday\",\"Sunday\"))","v":"Wednesday"},{"$f":"IF(H322=\"\",\"\",CHOOSE(WEEKDAY(H322,2),\"Monday\",\"Tuesday\",\"Wednesday\",\"Thursday\",\"Friday\",\"Saturday\",\"Sunday\"))","v":"Friday"},"WB in EB","Yes","Yes","0-No",null,null,null,1]
[159,"I-80 & IA-21",{"$f":"VLOOKUP(B323,Intersections!A:G,6,FALSE)","v":28700},{"$f":"VLOOKUP(B323,Intersections!A:G,7,FALSE)","v":3430},"Guernsey",{"$f":"VLOOKUP(B323,Intersections!A:E,5,FALSE)","v":"Unique"},"2020-04-06",529,"Monday","Monday","WB in EB","Yes","Yes","0-No",124846,null,null,1]
[160,"I-35 & IA-175/330th St",{"$f":"VLOOKUP(B324,Intersections!A:G,6,FALSE)","v":26000},{"$f":"VLOOKUP(B324,Intersections!A:G,7,FALSE)","v":2940},"Ellsworth",{"$f":"VLOOKUP(B324,Intersections!A:E,5,FALSE)","v":"Diamond"},"2020-04-07",55,"Tuesday","Monday","SB in NB","No","No","0-No",null,null,null,0.25]
[160,"I- 35 W  Ramp & 380TH ST/ D65",{"$f":"VLOOKUP(B325,Intersections!A:G,6,FALSE)","v":27000},{"$f":"VLOOKUP(B325,Intersections!A:G,7,FALSE)","v":1020},"Randall",{"$f":"VLOOKUP(B325,Intersections!A:E,5,FALSE)","v":"Diamond"},"2020-04-07",55,"Tuesday","Monday","SB in NB","No","No","0-No",null,null,null,0.75]
[161,"I-380 MM 12 Rest Area",{"$f":"VLOOKUP(B326,Intersections!A:G,6,FALSE)","v":57700},{"$f":"VLOOKUP(B326,Intersections!A:G,7,FALSE)","v":0},"Cedar Rapids",{"$f":"VLOOKUP(B326,Intersections!A:E,5,FALSE)","v":"Rest Area"},"2020-04-11",47,"Saturday","Friday","NB in SB","Yes","Yes","1-Yes",125131,null,null,1]
[162,"U-Turn",{"$f":"VLOOKUP(B327,Intersections!A:G,6,FALSE)","v":0},{"$f":"VLOOKUP(B327,Intersections!A:G,7,FALSE)","v":0},"Cedar Rapids",{"$f":"VLOOKUP(B327,Intersections!A:E,5,FALSE)","v":"n/a"},"2020-04-20",650,"Monday","Monday","WB in EB","Yes","Yes","1-Yes",125591,null,null,0.99]
["AMES-187","US-30 & University Blvd",{"$f":"VLOOKUP(B328,Intersections!A:G,6,FALSE)","v":18300},{"$f":"VLOOKUP(B328,Intersections!A:G,7,FALSE)","v":15400},"Ames",{"$f":"VLOOKUP(B328,Intersections!A:E,5,FALSE)","v":"Diamond"},"2020-04-23",1611,{"$f":"IF(G328=\"\",\"\",CHOOSE(WEEKDAY(G328,2),\"Monday\",\"Tuesday\",\"Wednesday\",\"Thursday\",\"Friday\",\"Saturday\",\"Sunday\"))","v":"Thursday"},"Sunday","WB in EB","Yes","Yes","0-No",null,null,null,1]
["AMES-188","US-30 & 19th St",{"$f":"VLOOKUP(B329,Intersections!A:G,6,FALSE)","v":12200},{"$f":"VLOOKUP(B329,Intersections!A:G,7,FALSE)","v":4240},"Nevada",{"$f":"VLOOKUP(B329,Intersections!A:E,5,FALSE)","v":"Unique"},"2020-04-25",1230,"Saturday","Thursday","EB in WB","Yes","Yes","0-No",null,null,null,1]
["AMES-189","US-30 & 19th St",{"$f":"VLOOKUP(B330,Intersections!A:G,6,FALSE)","v":12200},{"$f":"VLOOKUP(B330,Intersections!A:G,7,FALSE)","v":4240},"Nevada",{"$f":"VLOOKUP(B330,Intersections!A:E,5,FALSE)","v":"Unique"},"2020-04-26",2042,"Sunday","Thursday","EB in WB","Yes","Yes","0-No",null,null,null,1]
[163,"IA-100 & Edgewood Rd",{"$f":"VLOOKUP(B331,Intersections!A:G,6,FALSE)","v":23900},{"$f":"VLOOKUP(B331,Intersections!A:G,7,FALSE)","v":33500},"Cedar Rapids",{"$f":"VLOOKUP(B331,Intersections!A:E,5,FALSE)","v":"Excluded Unique"},"2020-05-01",1111,"Friday","Friday","EB in WB","Yes","Yes","0-No",126264,null,null,1]
[164,"US-30 & 6th St",{"$f":"VLOOKUP(B332,Intersections!A:G,6,FALSE)","v":14700},{"$f":"VLOOKUP(B332,Intersections!A:G,7,FALSE)","v":3650},"Cedar Rapids",{"$f":"VLOOKUP(B332,Intersections!A:E,5,FALSE)","v":"At Grade"},"2020-05-03",2050,"Sunday","Sunday","EB in WB","Yes","No","0-No",126395,null,null,0.99]
[165,"US-30 & 260th Ave",{"$f":"VLOOKUP(B333,Intersections!A:G,6,FALSE)","v":5600},{"$f":"VLOOKUP(B333,Intersections!A:G,7,FALSE)","v":770},"DeWitt",{"$f":"VLOOKUP(B333,Intersections!A:E,5,FALSE)","v":"At Grade"},"2020-05-03",1142,"Sunday","Sunday","NB in SB","No","No","0-No",126360,null,null,0.99]
["Ames-190","US-30 & SW 4th St/CR-S14",{"$f":"VLOOKUP(B334,Intersections!A:G,6,FALSE)","v":15000},{"$f":"VLOOKUP(B334,Intersections!A:G,7,FALSE)","v":2830},"Ames",{"$f":"VLOOKUP(B334,Intersections!A:E,5,FALSE)","v":"At Grade"},"2020-05-07",2140,{"$f":"IF(G334=\"\",\"\",CHOOSE(WEEKDAY(G334,2),\"Monday\",\"Tuesday\",\"Wednesday\",\"Thursday\",\"Friday\",\"Saturday\",\"Sunday\"))","v":"Thursday"},{"$f":"IF(H334=\"\",\"\",CHOOSE(WEEKDAY(H334,2),\"Monday\",\"Tuesday\",\"Wednesday\",\"Thursday\",\"Friday\",\"Saturday\",\"Sunday\"))","v":"Thursday"},"WB in EB","Yes","Yes","0-No","N/A",null,null,1]
["Ames-191","US-30 & W Ave",{"$f":"VLOOKUP(B335,Intersections!A:G,6,FALSE)","v":16400},{"$f":"VLOOKUP(B335,Intersections!A:G,7,FALSE)","v":820},"Ames",{"$f":"VLOOKUP(B335,Intersections!A:E,5,FALSE)","v":"At Grade"},"2020-05-16",238,{"$f":"IF(G335=\"\",\"\",CHOOSE(WEEKDAY(G335,2),\"Monday\",\"Tuesday\",\"Wednesday\",\"Thursday\",\"Friday\",\"Saturday\",\"Sunday\"))","v":"Saturday"},{"$f":"IF(H335=\"\",\"\",CHOOSE(WEEKDAY(H335,2),\"Monday\",\"Tuesday\",\"Wednesday\",\"Thursday\",\"Friday\",\"Saturday\",\"Sunday\"))","v":"Saturday"},"WB in EB","No","Yes","0-No","N/A",null,null,0.5]
["Ames-191","US-30 & V Ave",{"$f":"VLOOKUP(B336,Intersections!A:G,6,FALSE)","v":16400},{"$f":"VLOOKUP(B336,Intersections!A:G,7,FALSE)","v":80},"Ames",{"$f":"VLOOKUP(B336,Intersections!A:E,5,FALSE)","v":"At Grade"},"2020-05-16",238,{"$f":"IF(G336=\"\",\"\",CHOOSE(WEEKDAY(G336,2),\"Monday\",\"Tuesday\",\"Wednesday\",\"Thursday\",\"Friday\",\"Saturday\",\"Sunday\"))","v":"Saturday"},{"$f":"IF(G336=\"\",\"\",IF(H336<500,CHOOSE(WEEKDAY(G336,2)-1,\"Monday\",\"Tuesday\",\"Wednesday\",\"Thursday\",\"Friday\",\"Saturday\",\"Sunday\"),I336))","v":"Friday"},"WB in EB","No","Yes","0-No","N/A",null,null,0.5]
[166,"US-61 & IA-16",{"$f":"VLOOKUP(B337,Intersections!A:G,6,FALSE)","v":14100},{"$f":"VLOOKUP(B337,Intersections!A:G,7,FALSE)","v":1900},"Fort Madison",{"$f":"VLOOKUP(B337,Intersections!A:E,5,FALSE)","v":"At Grade"},"2020-05-28",2335,"Thursday","Thursday","NB in SB","No","No","0-No",128247,null,null,0.5]
[166,"US-61 & 175th St",{"$f":"VLOOKUP(B338,Intersections!A:G,6,FALSE)","v":13300},{"$f":"VLOOKUP(B338,Intersections!A:G,7,FALSE)","v":1150},"Fort Madison",{"$f":"VLOOKUP(B338,Intersections!A:E,5,FALSE)","v":"At Grade"},"2020-05-28",2335,"Thursday","Thursday","NB in SB","No","No","0-No",128247,null,null,0.5]
[167,"US 61 SE RAMP & 303rd AVE",{"$f":"VLOOKUP(B339,Intersections!A:G,6,FALSE)","v":6200},{"$f":"VLOOKUP(B339,Intersections!A:G,7,FALSE)","v":3030},"Fort Madison",{"$f":"VLOOKUP(B339,Intersections!A:E,5,FALSE)","v":"Diamond"},"2020-05-30",643,"Saturday","Saturday","NB in SB","No","No","0-No",128329,null,null,0.25]
[167,"US 61 NE RAMP & 190 st/BUS US 61",{"$f":"VLOOKUP(B340,Intersections!A:G,6,FALSE)","v":11600},{"$f":"VLOOKUP(B340,Intersections!A:G,7,FALSE)","v":4040},"Fort Madison",{"$f":"VLOOKUP(B340,Intersections!A:E,5,FALSE)","v":"Diamond"},"2020-05-30",643,"Saturday","Saturday","NB in SB","No","No","0-No",128329,null,null,0.25]
[167,"US-61 & 175th St",{"$f":"VLOOKUP(B341,Intersections!A:G,6,FALSE)","v":13300},{"$f":"VLOOKUP(B341,Intersections!A:G,7,FALSE)","v":1150},"Fort Madison",{"$f":"VLOOKUP(B341,Intersections!A:E,5,FALSE)","v":"At Grade"},"2020-05-30",643,"Saturday","Saturday","NB in SB","No","No","0-No",128329,null,null,0.25]
[167,"US-61 & IA-16",{"$f":"VLOOKUP(B342,Intersections!A:G,6,FALSE)","v":14100},{"$f":"VLOOKUP(B342,Intersections!A:G,7,FALSE)","v":1900},"Fort Madison",{"$f":"VLOOKUP(B342,Intersections!A:E,5,FALSE)","v":"At Grade"},"2020-05-30",643,"Saturday","Saturday","NB in SB","No","No","0-No",128329,null,null,0.25]
[191,"US-30 & Edgewood Rd",{"$f":"VLOOKUP(B343,Intersections!A:G,6,FALSE)","v":31500},{"$f":"VLOOKUP(B343,Intersections!A:G,7,FALSE)","v":10900},"Ames",{"$f":"VLOOKUP(B343,Intersections!A:E,5,FALSE)","v":"Excluded Unique"},"2020-06-01",1127,{"$f":"IF(G343=\"\",\"\",CHOOSE(WEEKDAY(G343,2),\"Monday\",\"Tuesday\",\"Wednesday\",\"Thursday\",\"Friday\",\"Saturday\",\"Sunday\"))","v":"Monday"},{"$f":"IF(G343=\"\",\"\",IF(H343<500,CHOOSE(WEEKDAY(G343,2)-1,\"Monday\",\"Tuesday\",\"Wednesday\",\"Thursday\",\"Friday\",\"Saturday\",\"Sunday\"),I343))","v":"Monday"},"Unk","No","No","N",null,null,null,0.99]
[168,"US-30 & Edgewood Rd",{"$f":"VLOOKUP(B344,Intersections!A:G,6,FALSE)","v":31500},{"$f":"VLOOKUP(B344,Intersections!A:G,7,FALSE)","v":10900},"Cedar Rapids",{"$f":"VLOOKUP(B344,Intersections!A:E,5,FALSE)","v":"Excluded Unique"},"2020-06-13",1437,"Saturday","Saturday","WB in EB","No","No","0-No",129613,null,null,0.99]
[169,"I 80 W & CR V 18 RD S",{"$f":"VLOOKUP(B345,Intersections!A:G,6,FALSE)","v":28700},{"$f":"VLOOKUP(B345,Intersections!A:G,7,FALSE)","v":2080},"Brooklyn",{"$f":"VLOOKUP(B345,Intersections!A:E,5,FALSE)","v":"Diamond"},"2020-06-14",16,"Sunday","Saturday","WB in EB","No","No","0-No",129646,null,null,0.99]
[191,"I-380 & IA-100",{"$f":"VLOOKUP(B346,Intersections!A:G,6,FALSE)","v":82000},{"$f":"VLOOKUP(B346,Intersections!A:G,7,FALSE)","v":15400},"Cedar Rapids",{"$f":"VLOOKUP(B346,Intersections!A:E,5,FALSE)","v":"Diamond"},"2020-06-14",112,{"$f":"IF(G346=\"\",\"\",CHOOSE(WEEKDAY(G346,2),\"Monday\",\"Tuesday\",\"Wednesday\",\"Thursday\",\"Friday\",\"Saturday\",\"Sunday\"))","v":"Sunday"},{"$f":"IF(G346=\"\",\"\",IF(H346<500,CHOOSE(WEEKDAY(G346,2)-1,\"Monday\",\"Tuesday\",\"Wednesday\",\"Thursday\",\"Friday\",\"Saturday\",\"Sunday\"),I346))","v":"Saturday"},"EB in WB","No","No","1-Yes",null,null,null,0.99]
["Ames-192","US-30 & Corporal Roger Snedden Dr",{"$f":"VLOOKUP(B347,Intersections!A:G,6,FALSE)","v":14400},{"$f":"VLOOKUP(B347,Intersections!A:G,7,FALSE)","v":2440},"Ames",{"$f":"VLOOKUP(B347,Intersections!A:E,5,FALSE)","v":"At Grade"},"2020-06-21",1027,{"$f":"IF(G347=\"\",\"\",CHOOSE(WEEKDAY(G347,2),\"Monday\",\"Tuesday\",\"Wednesday\",\"Thursday\",\"Friday\",\"Saturday\",\"Sunday\"))","v":"Sunday"},{"$f":"IF(G347=\"\",\"\",IF(H347<500,CHOOSE(WEEKDAY(G347,2)-1,\"Monday\",\"Tuesday\",\"Wednesday\",\"Thursday\",\"Friday\",\"Saturday\",\"Sunday\"),I347))","v":"Sunday"},"WB in EB","Yes","Yes","1-Yes"]
[170,"US-30 & IA-1",{"$f":"VLOOKUP(B348,Intersections!A:G,6,FALSE)","v":13100},{"$f":"VLOOKUP(B348,Intersections!A:G,7,FALSE)","v":7100},"Mount Vernon",{"$f":"VLOOKUP(B348,Intersections!A:E,5,FALSE)","v":"Diamond"},"2020-06-28",238,"Sunday","Saturday","WB in EB","No","Yes","1-Yes",130811,null,null,0.33]
[170,"US-30 & Cedar River Rd",{"$f":"VLOOKUP(B349,Intersections!A:G,6,FALSE)","v":13500},{"$f":"VLOOKUP(B349,Intersections!A:G,7,FALSE)","v":1330},"Mount Vernon",{"$f":"VLOOKUP(B349,Intersections!A:E,5,FALSE)","v":"At Grade"},"2020-06-28",238,"Sunday","Saturday","WB in EB","No","Yes","1-Yes",130811,null,null,0.33]
[170,"US-30 & Old US-30",{"$f":"VLOOKUP(B350,Intersections!A:G,6,FALSE)","v":13500},{"$f":"VLOOKUP(B350,Intersections!A:G,7,FALSE)","v":13500},"Mount Vernon",{"$f":"VLOOKUP(B350,Intersections!A:E,5,FALSE)","v":"At Grade"},"2020-06-28",238,"Sunday","Saturday","WB in EB","No","Yes","1-Yes",130811,null,null,0.33]
["Ames-193","US-30 & Corporal Roger Snedden Dr",{"$f":"VLOOKUP(B351,Intersections!A:G,6,FALSE)","v":14400},{"$f":"VLOOKUP(B351,Intersections!A:G,7,FALSE)","v":2440},"Ames",{"$f":"VLOOKUP(B351,Intersections!A:E,5,FALSE)","v":"At Grade"},"2020-07-02",148,{"$f":"IF(G351=\"\",\"\",CHOOSE(WEEKDAY(G351,2),\"Monday\",\"Tuesday\",\"Wednesday\",\"Thursday\",\"Friday\",\"Saturday\",\"Sunday\"))","v":"Thursday"},{"$f":"IF(G351=\"\",\"\",IF(H351<500,CHOOSE(WEEKDAY(G351,2)-1,\"Monday\",\"Tuesday\",\"Wednesday\",\"Thursday\",\"Friday\",\"Saturday\",\"Sunday\"),I351))","v":"Wednesday"},"WB in EB","Yes","Yes","0-No"]
["Ames-194","US-30 & 19th St",{"$f":"VLOOKUP(B352,Intersections!A:G,6,FALSE)","v":12200},{"$f":"VLOOKUP(B352,Intersections!A:G,7,FALSE)","v":4240},"Ames",{"$f":"VLOOKUP(B352,Intersections!A:E,5,FALSE)","v":"Unique"},"2020-07-11",1104,{"$f":"IF(G352=\"\",\"\",CHOOSE(WEEKDAY(G352,2),\"Monday\",\"Tuesday\",\"Wednesday\",\"Thursday\",\"Friday\",\"Saturday\",\"Sunday\"))","v":"Saturday"},{"$f":"IF(G352=\"\",\"\",IF(H352<500,CHOOSE(WEEKDAY(G352,2)-1,\"Monday\",\"Tuesday\",\"Wednesday\",\"Thursday\",\"Friday\",\"Saturday\",\"Sunday\"),I352))","v":"Saturday"},"WB in EB","Yes"]
["Ames-195","US-30 & Corporal Roger Snedden Dr",{"$f":"VLOOKUP(B353,Intersections!A:G,6,FALSE)","v":14400},{"$f":"VLOOKUP(B353,Intersections!A:G,7,FALSE)","v":2440},"Ames",{"$f":"VLOOKUP(B353,Intersections!A:E,5,FALSE)","v":"At Grade"},"2020-07-12",1013,{"$f":"IF(G353=\"\",\"\",CHOOSE(WEEKDAY(G353,2),\"Monday\",\"Tuesday\",\"Wednesday\",\"Thursday\",\"Friday\",\"Saturday\",\"Sunday\"))","v":"Sunday"},{"$f":"IF(G353=\"\",\"\",IF(H353<500,CHOOSE(WEEKDAY(G353,2)-1,\"Monday\",\"Tuesday\",\"Wednesday\",\"Thursday\",\"Friday\",\"Saturday\",\"Sunday\"),I353))","v":"Sunday"},"EB in WB","Yes","Yes","0-No"]
["Ames-196","US-30 & 19th St",{"$f":"VLOOKUP(B354,Intersections!A:G,6,FALSE)","v":12200},{"$f":"VLOOKUP(B354,Intersections!A:G,7,FALSE)","v":4240},"Ames",{"$f":"VLOOKUP(B354,Intersections!A:E,5,FALSE)","v":"Unique"},"2020-07-12",1053,{"$f":"IF(G354=\"\",\"\",CHOOSE(WEEKDAY(G354,2),\"Monday\",\"Tuesday\",\"Wednesday\",\"Thursday\",\"Friday\",\"Saturday\",\"Sunday\"))","v":"Sunday"},{"$f":"IF(G354=\"\",\"\",IF(H354<500,CHOOSE(WEEKDAY(G354,2)-1,\"Monday\",\"Tuesday\",\"Wednesday\",\"Thursday\",\"Friday\",\"Saturday\",\"Sunday\"),I354))","v":"Sunday"},"WB in EB","Yes","Yes"]
[171,"IA-100 & Edgewood Rd",{"$f":"VLOOKUP(B355,Intersections!A:G,6,FALSE)","v":23900},{"$f":"VLOOKUP(B355,Intersections!A:G,7,FALSE)","v":33500},"Cedar Rapids",{"$f":"VLOOKUP(B355,Intersections!A:E,5,FALSE)","v":"Excluded Unique"},"2020-07-14",1947,"Tuesday","Tuesday","EB in WB","Yes","Yes","1-Yes",132336,null,null,1]
[192,"I-380 & County Home Rd",{"$f":"VLOOKUP(B356,Intersections!A:G,6,FALSE)","v":34400},{"$f":"VLOOKUP(B356,Intersections!A:G,7,FALSE)","v":12800},"Cedar Rapids",{"$f":"VLOOKUP(B356,Intersections!A:E,5,FALSE)","v":"Diamond"},"2020-07-15",1129,{"$f":"IF(G356=\"\",\"\",CHOOSE(WEEKDAY(G356,2),\"Monday\",\"Tuesday\",\"Wednesday\",\"Thursday\",\"Friday\",\"Saturday\",\"Sunday\"))","v":"Wednesday"},{"$f":"IF(G356=\"\",\"\",IF(H356<500,CHOOSE(WEEKDAY(G356,2)-1,\"Monday\",\"Tuesday\",\"Wednesday\",\"Thursday\",\"Friday\",\"Saturday\",\"Sunday\"),I356))","v":"Wednesday"},"SB in NB","No","No","0-No",null,null,null,0.75]
[192,"I-380 & Lewis Access Rd",{"$f":"VLOOKUP(B357,Intersections!A:G,6,FALSE)","v":28100},{"$f":"VLOOKUP(B357,Intersections!A:G,7,FALSE)","v":9000},"Cedar Rapids",{"$f":"VLOOKUP(B357,Intersections!A:E,5,FALSE)","v":"Diamond"},"2020-07-15",1129,{"$f":"IF(G357=\"\",\"\",CHOOSE(WEEKDAY(G357,2),\"Monday\",\"Tuesday\",\"Wednesday\",\"Thursday\",\"Friday\",\"Saturday\",\"Sunday\"))","v":"Wednesday"},{"$f":"IF(G357=\"\",\"\",IF(H357<500,CHOOSE(WEEKDAY(G357,2)-1,\"Monday\",\"Tuesday\",\"Wednesday\",\"Thursday\",\"Friday\",\"Saturday\",\"Sunday\"),I357))","v":"Wednesday"},"SB in NB","No","No","0-No",null,null,null,0.25]
[193,"IA-100 & Edgewood Rd",{"$f":"VLOOKUP(B358,Intersections!A:G,6,FALSE)","v":23900},{"$f":"VLOOKUP(B358,Intersections!A:G,7,FALSE)","v":33500},"Cedar Rapids",{"$f":"VLOOKUP(B358,Intersections!A:E,5,FALSE)","v":"Excluded Unique"},"2020-07-21",47,{"$f":"IF(G358=\"\",\"\",CHOOSE(WEEKDAY(G358,2),\"Monday\",\"Tuesday\",\"Wednesday\",\"Thursday\",\"Friday\",\"Saturday\",\"Sunday\"))","v":"Tuesday"},{"$f":"IF(G358=\"\",\"\",IF(H358<500,CHOOSE(WEEKDAY(G358,2)-1,\"Monday\",\"Tuesday\",\"Wednesday\",\"Thursday\",\"Friday\",\"Saturday\",\"Sunday\"),I358))","v":"Monday"},"EB in WB","No","No","0-No",null,null,null,0.99]
["Ames-197","US-30 & T Ave",{"$f":"VLOOKUP(B359,Intersections!A:G,6,FALSE)","v":16300},{"$f":"VLOOKUP(B359,Intersections!A:G,7,FALSE)","v":35},"Ames",{"$f":"VLOOKUP(B359,Intersections!A:E,5,FALSE)","v":"At Grade"},"2020-07-25",610,{"$f":"IF(G359=\"\",\"\",CHOOSE(WEEKDAY(G359,2),\"Monday\",\"Tuesday\",\"Wednesday\",\"Thursday\",\"Friday\",\"Saturday\",\"Sunday\"))","v":"Saturday"},{"$f":"IF(G359=\"\",\"\",IF(H359<500,CHOOSE(WEEKDAY(G359,2)-1,\"Monday\",\"Tuesday\",\"Wednesday\",\"Thursday\",\"Friday\",\"Saturday\",\"Sunday\"),I359))","v":"Saturday"},"EB in WB","Yes","Yes"]
["Ames-198","US-30 & S Linn St",{"$f":"VLOOKUP(B360,Intersections!A:G,6,FALSE)","v":14100},{"$f":"VLOOKUP(B360,Intersections!A:G,7,FALSE)","v":5100},"Ames",{"$f":"VLOOKUP(B360,Intersections!A:E,5,FALSE)","v":"At Grade"},"2020-07-29",148,{"$f":"IF(G360=\"\",\"\",CHOOSE(WEEKDAY(G360,2),\"Monday\",\"Tuesday\",\"Wednesday\",\"Thursday\",\"Friday\",\"Saturday\",\"Sunday\"))","v":"Wednesday"},{"$f":"IF(G360=\"\",\"\",IF(H360<500,CHOOSE(WEEKDAY(G360,2)-1,\"Monday\",\"Tuesday\",\"Wednesday\",\"Thursday\",\"Friday\",\"Saturday\",\"Sunday\"),I360))","v":"Tuesday"},"EB in WB","Yes","Yes"]
[172,"I-380 & Wilson Ave",{"$f":"VLOOKUP(B361,Intersections!A:G,6,FALSE)","v":81100},{"$f":"VLOOKUP(B361,Intersections!A:G,7,FALSE)","v":15000},"Cedar Rapids",{"$f":"VLOOKUP(B361,Intersections!A:E,5,FALSE)","v":"Diamond"},"2020-08-06",2207,"Thursday","Thursday","SB in NB","Yes","Yes","0-No",null,null,null,1]
["Ames-198.5","US-30 & 580th Ave",{"$f":"VLOOKUP(B362,Intersections!A:G,6,FALSE)","v":17300},{"$f":"VLOOKUP(B362,Intersections!A:G,7,FALSE)","v":1790},"Ames",{"$f":"VLOOKUP(B362,Intersections!A:E,5,FALSE)","v":"At Grade"},"2020-08-06",2118,{"$f":"IF(G362=\"\",\"\",CHOOSE(WEEKDAY(G362,2),\"Monday\",\"Tuesday\",\"Wednesday\",\"Thursday\",\"Friday\",\"Saturday\",\"Sunday\"))","v":"Thursday"},{"$f":"IF(G362=\"\",\"\",IF(H362<500,CHOOSE(WEEKDAY(G362,2)-1,\"Monday\",\"Tuesday\",\"Wednesday\",\"Thursday\",\"Friday\",\"Saturday\",\"Sunday\"),I362))","v":"Thursday"},"EB in WB","Yes","No","0-No",null,null,null,0.99]
["Ames-199","US-30 & University Blvd",{"$f":"VLOOKUP(B363,Intersections!A:G,6,FALSE)","v":18300},{"$f":"VLOOKUP(B363,Intersections!A:G,7,FALSE)","v":15400},"Ames",{"$f":"VLOOKUP(B363,Intersections!A:E,5,FALSE)","v":"Diamond"},"2020-08-13",28,"Thursday","Wednesday","WB in EB","Yes","Yes","0-No"]
["Ames-202","US 30 W & US 30 W TO DAKOTA AVE N",{"$f":"VLOOKUP(B364,Intersections!A:G,6,FALSE)","v":24400},{"$f":"VLOOKUP(B364,Intersections!A:G,7,FALSE)","v":14200},"Ames",{"$f":"VLOOKUP(B364,Intersections!A:E,5,FALSE)","v":"Excluded Unique"},"2020-08-22",2117,"Saturday","Saturday","EB in WB","Yes","Yes","1-Yes"]
["Ames-200","US-30 & U Ave",{"$f":"VLOOKUP(B365,Intersections!A:G,6,FALSE)","v":16400},{"$f":"VLOOKUP(B365,Intersections!A:G,7,FALSE)","v":800},"Ames",{"$f":"VLOOKUP(B365,Intersections!A:E,5,FALSE)","v":"At Grade"},"2020-08-23",null,"Sunday","Saturday"]
["Ames-203","US-30 & 580th Ave",{"$f":"VLOOKUP(B366,Intersections!A:G,6,FALSE)","v":17300},{"$f":"VLOOKUP(B366,Intersections!A:G,7,FALSE)","v":1790},"Ames",{"$f":"VLOOKUP(B366,Intersections!A:E,5,FALSE)","v":"At Grade"},"2020-08-23",218,"Sunday","Saturday","EB in WB","Yes","Yes","0-No"]
["Ames-204","US-30 & 580th Ave",{"$f":"VLOOKUP(B367,Intersections!A:G,6,FALSE)","v":17300},{"$f":"VLOOKUP(B367,Intersections!A:G,7,FALSE)","v":1790},"Ames",{"$f":"VLOOKUP(B367,Intersections!A:E,5,FALSE)","v":"At Grade"},"2020-08-28",2045,"Friday","Friday","WB in EB","Yes","Yes","0-No"]
[175,"US-30 & IA-330",{"$f":"VLOOKUP(B368,Intersections!A:G,6,FALSE)","v":8900},{"$f":"VLOOKUP(B368,Intersections!A:G,7,FALSE)","v":11700},"Marshalltown",{"$f":"VLOOKUP(B368,Intersections!A:E,5,FALSE)","v":"Split"},"2020-09-03",2153,"Thursday","Thursday","WB in EB","No","No","1-Yes",null,null,null,0.5,"Email from Bret Johnson"]
[175,"IOWA AVE W E & IOWA AVE W W",{"$f":"VLOOKUP(B369,Intersections!A:G,6,FALSE)","v":11700},{"$f":"VLOOKUP(B369,Intersections!A:G,7,FALSE)","v":3110},"Marshalltown",{"$f":"VLOOKUP(B369,Intersections!A:E,5,FALSE)","v":"Split"},"2020-09-03",2153,"Thursday","Thursday","WB in EB","No","No","1-Yes",null,null,null,0.5,"Email from Bret Johnson"]
[176,"I-80 & Madison Ave",{"$f":"VLOOKUP(B370,Intersections!A:G,6,FALSE)","v":43000},{"$f":"VLOOKUP(B370,Intersections!A:G,7,FALSE)","v":9300},"Council Bluffs",{"$f":"VLOOKUP(B370,Intersections!A:E,5,FALSE)","v":"Diamond"},"2020-09-18",1026,"Friday","Friday","EB in WB","Yes","No","0-No",null,null,null,1,"Evan and Willy witnessed driver turn wrong way and self-correct during field review"]
[null,"US-30 & US-65",{"$f":"VLOOKUP(B371,Intersections!A:G,6,FALSE)","v":8500},{"$f":"VLOOKUP(B371,Intersections!A:G,7,FALSE)","v":2240},"Colo",{"$f":"VLOOKUP(B371,Intersections!A:E,5,FALSE)","v":"Excluded Unique"},"2020-09-20",238,"Sunday","Saturday","WB in EB","No","No","1-Yes",null,null,null,0.1]
[null,"US-30 & IA-234",{"$f":"VLOOKUP(B372,Intersections!A:G,6,FALSE)","v":7500},{"$f":"VLOOKUP(B372,Intersections!A:G,7,FALSE)","v":3120},"State Center",{"$f":"VLOOKUP(B372,Intersections!A:E,5,FALSE)","v":"At Grade"},"2020-09-20",238,"Sunday","Saturday","WB in EB","No","No","1-Yes",null,null,null,0.9]
[177,"US-30 & Kirkwood Blvd",{"$f":"VLOOKUP(B373,Intersections!A:G,6,FALSE)","v":31700},{"$f":"VLOOKUP(B373,Intersections!A:G,7,FALSE)","v":16200},"Cedar Rapids",{"$f":"VLOOKUP(B373,Intersections!A:E,5,FALSE)","v":"Unique"},"2020-09-22",533,"Tuesday","Tuesday","WB in EB","Yes","No","0-No",139199,null,null,1]
[178,"I-29 & IA-141",{"$f":"VLOOKUP(B374,Intersections!A:G,6,FALSE)","v":18400},{"$f":"VLOOKUP(B374,Intersections!A:G,7,FALSE)","v":3560},"Whiting",{"$f":"VLOOKUP(B374,Intersections!A:E,5,FALSE)","v":"Diamond"},"2020-10-07",2217,"Wednesday","Wednesday","SB in NB","No","No","1-Yes",140789,null,null,0.5]
[178,"I- 29 SE Ramp & 160TH ST",{"$f":"VLOOKUP(B375,Intersections!A:G,6,FALSE)","v":15400},{"$f":"VLOOKUP(B375,Intersections!A:G,7,FALSE)","v":810},"Whiting",{"$f":"VLOOKUP(B375,Intersections!A:E,5,FALSE)","v":"Diamond"},"2020-10-07",2217,"Wednesday","Wednesday","SB in NB","No","No","1-Yes",140789,null,null,0.5]
["Ames-205","US-30 & Ia-17",{"$f":"VLOOKUP(B376,Intersections!A:G,6,FALSE)","v":15200},{"$f":"VLOOKUP(B376,Intersections!A:G,7,FALSE)","v":4900},"Ames",{"$f":"VLOOKUP(B376,Intersections!A:E,5,FALSE)","v":"Diamond"},"2020-10-07",116,"Wednesday","Tuesday","EB in WB","Yes","No","0-No"]
["Ames-206","US-30 & Median",{"$f":"VLOOKUP(B377,Intersections!A:G,6,FALSE)","v":{"$error":"#N/A"}},{"$f":"VLOOKUP(B377,Intersections!A:G,7,FALSE)","v":{"$error":"#N/A"}},"Ames",{"$f":"VLOOKUP(B377,Intersections!A:E,5,FALSE)","v":{"$error":"#N/A"}},"2020-10-08",430,"Thursday","Wednesday","WB in EB","Yes","Yes","0-No"]
["Ames-207","US-30 & Corporal Roger Snedden Dr",{"$f":"VLOOKUP(B378,Intersections!A:G,6,FALSE)","v":14400},{"$f":"VLOOKUP(B378,Intersections!A:G,7,FALSE)","v":2440},"Ames",{"$f":"VLOOKUP(B378,Intersections!A:E,5,FALSE)","v":"At Grade"},"2020-10-08",2309,"Thursday","Thursday","WB in EB","Yes","Yes","0-No"]
[179,"US-30 & 32nd Ave",{"$f":"VLOOKUP(B379,Intersections!A:G,6,FALSE)","v":11300},{"$f":"VLOOKUP(B379,Intersections!A:G,7,FALSE)","v":1790},"Atkins",{"$f":"VLOOKUP(B379,Intersections!A:E,5,FALSE)","v":"At Grade"},"2020-10-15",126,"Thursday","Wednesday","EB in WB","No","Yes","1-Yes",141537,null,null,0.5]
[179,"US-30 & IA-279",{"$f":"VLOOKUP(B380,Intersections!A:G,6,FALSE)","v":14100},{"$f":"VLOOKUP(B380,Intersections!A:G,7,FALSE)","v":2690},"Atkins",{"$f":"VLOOKUP(B380,Intersections!A:E,5,FALSE)","v":"At Grade"},"2020-10-15",126,"Thursday","Wednesday","EB in WB","No","Yes","1-Yes",141537,null,null,0.5]
[null,"IA 5 N & IA 5 N TO IA 28 N",{"$f":"VLOOKUP(B381,Intersections!A:G,6,FALSE)","v":30600},{"$f":"VLOOKUP(B381,Intersections!A:G,7,FALSE)","v":19400},"Des Moines",{"$f":"VLOOKUP(B381,Intersections!A:E,5,FALSE)","v":"Excluded Unique"},"2020-10-17",1753,"Saturday","Saturday","EB in WB","Yes","Yes","0-No",null,null,null,1]
[180,"US-30 & Benton Linn Rd",{"$f":"VLOOKUP(B382,Intersections!A:G,6,FALSE)","v":14200},{"$f":"VLOOKUP(B382,Intersections!A:G,7,FALSE)","v":190},"Atkins",{"$f":"VLOOKUP(B382,Intersections!A:E,5,FALSE)","v":"At Grade"},"2020-10-20",1210,"Tuesday","Tuesday","EB in WB","Yes","Yes","1-Yes",142035,null,null,1]
[181,"US-30 & Edgewood Rd",{"$f":"VLOOKUP(B383,Intersections!A:G,6,FALSE)","v":31500},{"$f":"VLOOKUP(B383,Intersections!A:G,7,FALSE)","v":10900},"Cedar Rapids",{"$f":"VLOOKUP(B383,Intersections!A:E,5,FALSE)","v":"Excluded Unique"},"2020-11-03",329,"Tuesday","Monday","EB in WB","No","Yes","0-No",143481,null,null,0.5]
[181,"US-30 NE RAMP & WILLIAMS BLVD/US-151",{"$f":"VLOOKUP(B384,Intersections!A:G,6,FALSE)","v":20400},{"$f":"VLOOKUP(B384,Intersections!A:G,7,FALSE)","v":16200},"Cedar Rapids",{"$f":"VLOOKUP(B384,Intersections!A:E,5,FALSE)","v":"Diamond"},"2020-11-03",329,"Tuesday","Monday","EB in WB","No","Yes","0-No",143481,null,null,0.5]
[182,"I-80 & Black Hawk Ave",{"$f":"VLOOKUP(B385,Intersections!A:G,6,FALSE)","v":34400},{"$f":"VLOOKUP(B385,Intersections!A:G,7,FALSE)","v":1190},"Oxford",{"$f":"VLOOKUP(B385,Intersections!A:E,5,FALSE)","v":"Unique"},"2020-11-09",1840,"Monday","Monday","WB in EB","Yes","Yes","0-No",144232,null,null,1]
["Ames-208","US-30 & 580th Ave",{"$f":"VLOOKUP(B386,Intersections!A:G,6,FALSE)","v":17300},{"$f":"VLOOKUP(B386,Intersections!A:G,7,FALSE)","v":1790},"Ames",{"$f":"VLOOKUP(B386,Intersections!A:E,5,FALSE)","v":"At Grade"},"2020-11-09",2227,"Monday","Monday","WB in EB","Yes","Yes","0-No"]
[188,"I-80 & Dubuque St",{"$f":"VLOOKUP(B387,Intersections!A:G,6,FALSE)","v":64300},{"$f":"VLOOKUP(B387,Intersections!A:G,7,FALSE)","v":24100},"Ames",{"$f":"VLOOKUP(B387,Intersections!A:E,5,FALSE)","v":"Diamond"},"2020-11-10",2216,"Tuesday","Tuesday","EB in WB","Yes","Yes","0-No",null,null,null,1]
[186,"U-Turn at 73rd and I-235",{"$f":"VLOOKUP(B388,Intersections!A:G,6,FALSE)","v":{"$error":"#N/A"}},{"$f":"VLOOKUP(B388,Intersections!A:G,7,FALSE)","v":{"$error":"#N/A"}},"Ames",{"$f":"VLOOKUP(B388,Intersections!A:E,5,FALSE)","v":{"$error":"#N/A"}},"2020-11-13",{"$f":"HOUR(G387)*100+MINUTE(G387)","v":0},{"$f":"IF(G387=\"\",\"\",CHOOSE(WEEKDAY(G387,2),\"Monday\",\"Tuesday\",\"Wednesday\",\"Thursday\",\"Friday\",\"Saturday\",\"Sunday\"))","v":"Tuesday"},{"$f":"IF(G387=\"\",\"\",IF(H388<500,CHOOSE(WEEKDAY(G387,2)-1,\"Monday\",\"Tuesday\",\"Wednesday\",\"Thursday\",\"Friday\",\"Saturday\",\"Sunday\"),I388))","v":"Monday"},"EB in WB","Yes","Yes",null,null,null,null,1]
[183,"I-80 & IA-21",{"$f":"VLOOKUP(B389,Intersections!A:G,6,FALSE)","v":28700},{"$f":"VLOOKUP(B389,Intersections!A:G,7,FALSE)","v":3430},"Guernsey",{"$f":"VLOOKUP(B389,Intersections!A:E,5,FALSE)","v":"Unique"},"2020-11-16",520,{"$f":"IF(G389=\"\",\"\",CHOOSE(WEEKDAY(G389,2),\"Monday\",\"Tuesday\",\"Wednesday\",\"Thursday\",\"Friday\",\"Saturday\",\"Sunday\"))","v":"Monday"},{"$f":"IF(G389=\"\",\"\",IF(H389<500,CHOOSE(WEEKDAY(G389,2)-1,\"Monday\",\"Tuesday\",\"Wednesday\",\"Thursday\",\"Friday\",\"Saturday\",\"Sunday\"),I389))","v":"Monday"},"WB in EB","Yes","Yes","0-No",144926,null,null,1]
[187,"I-35 & Broad St",{"$f":"VLOOKUP(B390,Intersections!A:G,6,FALSE)","v":28800},{"$f":"VLOOKUP(B390,Intersections!A:G,7,FALSE)","v":9300},"Ames",{"$f":"VLOOKUP(B390,Intersections!A:E,5,FALSE)","v":"Diamond"},"2020-11-23",537,"Monday","Monday","SB in NB",null,null,null,null,null,null,0.33]
[187,"I- 35 W  Ramp & 380TH ST/ D65",{"$f":"VLOOKUP(B391,Intersections!A:G,6,FALSE)","v":27000},{"$f":"VLOOKUP(B391,Intersections!A:G,7,FALSE)","v":1020},"Ames",{"$f":"VLOOKUP(B391,Intersections!A:E,5,FALSE)","v":"Diamond"},"2020-11-23",537,"Monday","Monday","SB in NB",null,null,null,null,null,null,0.33]
[187,"I-35 & IA-175/330th St",{"$f":"VLOOKUP(B392,Intersections!A:G,6,FALSE)","v":26000},{"$f":"VLOOKUP(B392,Intersections!A:G,7,FALSE)","v":2940},"Ames",{"$f":"VLOOKUP(B392,Intersections!A:E,5,FALSE)","v":"Diamond"},"2020-11-23",537,"Monday","Monday","SB in NB",null,null,null,null,null,null,0.33]
[194,"I-380 & IA-100",{"$f":"VLOOKUP(B393,Intersections!A:G,6,FALSE)","v":82000},{"$f":"VLOOKUP(B393,Intersections!A:G,7,FALSE)","v":15400},"Cedar Rapids",{"$f":"VLOOKUP(B393,Intersections!A:E,5,FALSE)","v":"Diamond"},"2020-12-02",1310,"Wednesday","Wednesday","SB in NB","Yes","Yes","1-Yes",null,null,null,1]
[189,"I-80 & 1st Ave",{"$f":"VLOOKUP(B394,Intersections!A:G,6,FALSE)","v":64300},{"$f":"VLOOKUP(B394,Intersections!A:G,7,FALSE)","v":24200},"Iowa City",{"$f":"VLOOKUP(B394,Intersections!A:E,5,FALSE)","v":"Diamond"},"2020-12-06",2036,"Sunday","Sunday","WB in EB","Yes","Yes","0-No",null,null,null,1]
[184,"I 80 W & I 80 W TO IA 149 N",{"$f":"VLOOKUP(B395,Intersections!A:G,6,FALSE)","v":32400},{"$f":"VLOOKUP(B395,Intersections!A:G,7,FALSE)","v":7600},"Williamsburg",{"$f":"VLOOKUP(B395,Intersections!A:E,5,FALSE)","v":"Diamond"},"2020-12-08",1547,"Tuesday","Tuesday","WB in EB","Yes","No","0-No",147156]
[185,"Police Chase",{"$f":"VLOOKUP(B396,Intersections!A:G,6,FALSE)","v":{"$error":"#N/A"}},{"$f":"VLOOKUP(B396,Intersections!A:G,7,FALSE)","v":{"$error":"#N/A"}},"Ames",{"$f":"VLOOKUP(B396,Intersections!A:E,5,FALSE)","v":{"$error":"#N/A"}},"2020-12-09",2007,"Wednesday","Wednesday","EB in WB","Yes","Yes","1-Yes"]
["Ames-209","U-Turn at South Dakota",{"$f":"VLOOKUP(B397,Intersections!A:G,6,FALSE)","v":{"$error":"#N/A"}},{"$f":"VLOOKUP(B397,Intersections!A:G,7,FALSE)","v":{"$error":"#N/A"}},"Ames",{"$f":"VLOOKUP(B397,Intersections!A:E,5,FALSE)","v":{"$error":"#N/A"}},"2020-12-09",{"$f":"HOUR(G397)*100+MINUTE(G397)","v":0},"Wednesday","Tuesday","EB in WB","Yes","Yes","1-Yes",null,null,null,1]
[195,"I-380 & Wilson Ave",{"$f":"VLOOKUP(B398,Intersections!A:G,6,FALSE)","v":81100},{"$f":"VLOOKUP(B398,Intersections!A:G,7,FALSE)","v":15000},"Cedar Rapids",{"$f":"VLOOKUP(B398,Intersections!A:E,5,FALSE)","v":"Diamond"},"2020-12-10",1337,"Thursday","Thursday","SB in NB","Yes","Yes","0-No",null,null,null,1]
[196,"I-380 & Wright Brothers Blvd",{"$f":"VLOOKUP(B399,Intersections!A:G,6,FALSE)","v":59800},{"$f":"VLOOKUP(B399,Intersections!A:G,7,FALSE)","v":6800},"Cedar Rapids",{"$f":"VLOOKUP(B399,Intersections!A:E,5,FALSE)","v":"See Intersections Tab"},"2020-12-13",135,"Sunday","Saturday","NB in SB","Yes","Yes","0-No"]
[190,"I-80 & IA-1",{"$f":"VLOOKUP(B400,Intersections!A:G,6,FALSE)","v":55900},{"$f":"VLOOKUP(B400,Intersections!A:G,7,FALSE)","v":20400},"Iowa City",{"$f":"VLOOKUP(B400,Intersections!A:E,5,FALSE)","v":"Diamond"},"2020-12-22",1912,"Tuesday","Tuesday","EB in WB","Yes","Yes","0-No",null,null,null,1]
["Ames-210","US-30 & 19th St",{"$f":"VLOOKUP(B401,Intersections!A:G,6,FALSE)","v":12200},{"$f":"VLOOKUP(B401,Intersections!A:G,7,FALSE)","v":4240},"Ames",{"$f":"VLOOKUP(B401,Intersections!A:E,5,FALSE)","v":"Unique"},"2020-12-23",{"$f":"HOUR(G401)*100+MINUTE(G401)","v":0},"Wednesday","Tuesday","EB in WB","Yes","Yes"]
["Ames-211","US-30 & 580th Ave",{"$f":"VLOOKUP(B402,Intersections!A:G,6,FALSE)","v":17300},{"$f":"VLOOKUP(B402,Intersections!A:G,7,FALSE)","v":1790},"Ames",{"$f":"VLOOKUP(B402,Intersections!A:E,5,FALSE)","v":"At Grade"},"2020-12-27",{"$f":"HOUR(G402)*100+MINUTE(G402)","v":0},"Sunday","Saturday","EB in WB","Yes","Yes"]
["Ames-212","US-30 & X Ave",{"$f":"VLOOKUP(B403,Intersections!A:G,6,FALSE)","v":16400},{"$f":"VLOOKUP(B403,Intersections!A:G,7,FALSE)","v":1550},"Ames",{"$f":"VLOOKUP(B403,Intersections!A:E,5,FALSE)","v":"At Grade"},"2021-01-10",{"$f":"HOUR(G402)*100+MINUTE(G402)","v":0},{"$f":"IF(G402=\"\",\"\",CHOOSE(WEEKDAY(G402,2),\"Monday\",\"Tuesday\",\"Wednesday\",\"Thursday\",\"Friday\",\"Saturday\",\"Sunday\"))","v":"Sunday"},{"$f":"IF(G402=\"\",\"\",IF(H403<500,CHOOSE(WEEKDAY(G402,2)-1,\"Monday\",\"Tuesday\",\"Wednesday\",\"Thursday\",\"Friday\",\"Saturday\",\"Sunday\"),I403))","v":"Saturday"},"WB in EB","Yes","Yes"]
[null,"I-35 & IA-210",{"$f":"VLOOKUP(B404,Intersections!A:G,6,FALSE)","v":45300},{"$f":"VLOOKUP(B404,Intersections!A:G,7,FALSE)","v":6200},"Huxley",{"$f":"VLOOKUP(B404,Intersections!A:E,5,FALSE)","v":"Diamond"},"2021-01-15",2154,{"$f":"IF(G404=\"\",\"\",CHOOSE(WEEKDAY(G404,2),\"Monday\",\"Tuesday\",\"Wednesday\",\"Thursday\",\"Friday\",\"Saturday\",\"Sunday\"))","v":"Friday"},{"$f":"IF(G404=\"\",\"\",IF(H404<500,CHOOSE(WEEKDAY(G404,2)-1,\"Monday\",\"Tuesday\",\"Wednesday\",\"Thursday\",\"Friday\",\"Saturday\",\"Sunday\"),I404))","v":"Friday"},"NB in SB","Yes","Yes","1-Yes",null,null,null,1]
[null,"US-30 & IA-144",{"$f":"VLOOKUP(B405,Intersections!A:G,6,FALSE)","v":{"$error":"#N/A"}},{"$f":"VLOOKUP(B405,Intersections!A:G,7,FALSE)","v":{"$error":"#N/A"}},"Grand Junction","At Grade","2021-01-17",724,"Sunday","Sunday","WB in EB","No","No","0-No",null,null,null,0.5]
[null,"US-30 & US-151/IA-13",{"$f":"VLOOKUP(B406,Intersections!A:G,6,FALSE)","v":26300},{"$f":"VLOOKUP(B406,Intersections!A:G,7,FALSE)","v":22000},"Ames",{"$f":"VLOOKUP(B406,Intersections!A:E,5,FALSE)","v":"System"},"2021-01-21",100,"Thursday","Wednesday","EB in WB","Yes","No","0-No",null,null,null,0.9]
[null,"I-380 & Diagonal Dr",{"$f":"VLOOKUP(B407,Intersections!A:G,6,FALSE)","v":81100},{"$f":"VLOOKUP(B407,Intersections!A:G,7,FALSE)","v":14700},"Cedar Rapids",{"$f":"VLOOKUP(B407,Intersections!A:E,5,FALSE)","v":"Split"},"2021-01-31",2339,"Sunday","Sunday","SB in NB","No","No","0-No",null,null,null,0.5]
[null,"US-30 & U Ave",{"$f":"VLOOKUP(B408,Intersections!A:G,6,FALSE)","v":16400},{"$f":"VLOOKUP(B408,Intersections!A:G,7,FALSE)","v":800},"Ames",{"$f":"VLOOKUP(B408,Intersections!A:E,5,FALSE)","v":"At Grade"},"2021-01-31",230,"Sunday","Saturday","EB in WB","No","Yes","0-No",null,null,null,1]
[null,"I-380 & 1st St",{"$f":"VLOOKUP(B409,Intersections!A:G,6,FALSE)","v":79400},{"$f":"VLOOKUP(B409,Intersections!A:G,7,FALSE)","v":4550},"Cedar Rapids",{"$f":"VLOOKUP(B409,Intersections!A:E,5,FALSE)","v":"Unique"},"2021-02-04",226,"Thursday","Wednesday","NB in SB","Yes","Yes","1-Yes",null,null,null,1]
[null,"US-30 & US-218",{"$f":"VLOOKUP(B410,Intersections!A:G,6,FALSE)","v":9600},{"$f":"VLOOKUP(B410,Intersections!A:G,7,FALSE)","v":2370},"Cedar Rapids","At Grade","2021-02-07",3,"Sunday","Saturday","EB in WB","No","No","0-No",null,null,null,0.3]
[null,"I-380 & Glass Rd",{"$f":"VLOOKUP(B411,Intersections!A:G,6,FALSE)","v":83100},{"$f":"VLOOKUP(B411,Intersections!A:G,7,FALSE)","v":13900},"Cedar Rapids",{"$f":"VLOOKUP(B411,Intersections!A:E,5,FALSE)","v":"Split"},"2021-02-08",8,"Monday","Sunday","SB in NB","No","Yes","0-No",null,null,null,0.99]
[null,"I-80 & Black Hawk Ave",{"$f":"VLOOKUP(B412,Intersections!A:G,6,FALSE)","v":34400},{"$f":"VLOOKUP(B412,Intersections!A:G,7,FALSE)","v":1190},"Oxford",{"$f":"VLOOKUP(B412,Intersections!A:E,5,FALSE)","v":"Unique"},"2021-02-10",2353,"Wednesday",{"$f":"IF(G412=\"\",\"\",IF(H412<500,CHOOSE(WEEKDAY(G412,2)-1,\"Monday\",\"Tuesday\",\"Wednesday\",\"Thursday\",\"Friday\",\"Saturday\",\"Sunday\"),I412))","v":"Wednesday"},"WB in EB","Yes","Yes","0-No",null,null,null,0.99]
[null,"US-30 & L Ave/CR-R18",{"$f":"VLOOKUP(B413,Intersections!A:G,6,FALSE)","v":8800},{"$f":"VLOOKUP(B413,Intersections!A:G,7,FALSE)","v":1320},"Boone",{"$f":"VLOOKUP(B413,Intersections!A:E,5,FALSE)","v":"At Grade"},"2021-02-15",1140,"Monday","Monday","EB in WB","No","Yes","1-Yes",null,null,null,0.7]
["AMES-61","US-30 & IA-17",{"$f":"VLOOKUP(B414,Intersections!A:G,6,FALSE)","v":15200},{"$f":"VLOOKUP(B414,Intersections!A:G,7,FALSE)","v":4900},"Boone",{"$f":"VLOOKUP(B414,Intersections!A:E,5,FALSE)","v":"Diamond"},"N/A",null,null,"Weekday","WB in EB ","Yes","No","0-No",null,null,null,1]
["AMES-114","US-30 & Corporal Roger Snedden Dr",{"$f":"VLOOKUP(B415,Intersections!A:G,6,FALSE)","v":14400},{"$f":"VLOOKUP(B415,Intersections!A:G,7,FALSE)","v":2440},"Boone",{"$f":"VLOOKUP(B415,Intersections!A:E,5,FALSE)","v":"At Grade"},null,null,null,null,null,"No",null,null,null,null,null,0.33]
["AMES-114","US-30 & Marshall St",{"$f":"VLOOKUP(B416,Intersections!A:G,6,FALSE)","v":14100},{"$f":"VLOOKUP(B416,Intersections!A:G,7,FALSE)","v":1910},"Boone",{"$f":"VLOOKUP(B416,Intersections!A:E,5,FALSE)","v":"At Grade"},null,null,null,null,null,"No",null,null,null,null,null,0.33]
[null,"US-30 & IA-330",{"$f":"VLOOKUP(B417,Intersections!A:G,6,FALSE)","v":8900},{"$f":"VLOOKUP(B417,Intersections!A:G,7,FALSE)","v":11700},"Marshalltown",{"$f":"VLOOKUP(B417,Intersections!A:E,5,FALSE)","v":"Split"},null,null,null,null,null,null,null,null,null,null,null,1,"Per Gary Kretlow Email"]
[null,"US-30 & IA-330",{"$f":"VLOOKUP(B418,Intersections!A:G,6,FALSE)","v":8900},{"$f":"VLOOKUP(B418,Intersections!A:G,7,FALSE)","v":11700},"Marshalltown",{"$f":"VLOOKUP(B418,Intersections!A:E,5,FALSE)","v":"Split"},null,null,null,null,null,null,null,null,null,null,null,1,"Per Gary Kretlow Email"]
[null,"US-30 & IA-330",{"$f":"VLOOKUP(B419,Intersections!A:G,6,FALSE)","v":8900},{"$f":"VLOOKUP(B419,Intersections!A:G,7,FALSE)","v":11700},"Marshalltown",{"$f":"VLOOKUP(B419,Intersections!A:E,5,FALSE)","v":"Split"},null,null,null,null,null,null,null,null,null,null,null,1,"Per Gary Kretlow Email"]
[null,"US 63 N RAMP & LA SALLE AVE",{"$f":"VLOOKUP(B420,Intersections!A:G,6,FALSE)","v":3810},{"$f":"VLOOKUP(B420,Intersections!A:G,7,FALSE)","v":1120},"New Hampton",{"$f":"VLOOKUP(B420,Intersections!A:E,5,FALSE)","v":"Excluded Unique"},null,null,null,null,null,null,null,null,null,null,null,11,"11 911 calls per Chickasaw County sheriff email"]
[null,"I-380 & Lewis Access Rd",{"$f":"VLOOKUP(B421,Intersections!A:G,6,FALSE)","v":28100},{"$f":"VLOOKUP(B421,Intersections!A:G,7,FALSE)","v":9000},"Robbins",{"$f":"VLOOKUP(B421,Intersections!A:E,5,FALSE)","v":"Diamond"},"2021-02-27",2343,{"$f":"IF(G421=\"\",\"\",CHOOSE(WEEKDAY(G421,2),\"Monday\",\"Tuesday\",\"Wednesday\",\"Thursday\",\"Friday\",\"Saturday\",\"Sunday\"))","v":"Saturday"},{"$f":"IF(H421=\"\",I421,IF(H421<500,CHOOSE(WEEKDAY(G421,2)-1,\"Monday\",\"Tuesday\",\"Wednesday\",\"Thursday\",\"Friday\",\"Saturday\",\"Sunday\"),I421))","v":"Saturday"},"SB in NB","No","No","1-Yes",155598,null,null,0.7]
[null,"I-380 & Penn St",{"$f":"VLOOKUP(B422,Intersections!A:G,6,FALSE)","v":51100},{"$f":"VLOOKUP(B422,Intersections!A:G,7,FALSE)","v":19700},"North Liberty",{"$f":"VLOOKUP(B422,Intersections!A:E,5,FALSE)","v":"Diamond"},"2021-02-28",2235,"Sunday",{"$f":"IF(G422=\"\",\"\",IF(H422<500,CHOOSE(WEEKDAY(G422,2)-1,\"Monday\",\"Tuesday\",\"Wednesday\",\"Thursday\",\"Friday\",\"Saturday\",\"Sunday\"),I422))","v":"Sunday"},"SB in NB","Yes","No","1-Yes",155646,null,null,0.99]
[null,"I-380 & Wright Brothers Blvd",{"$f":"VLOOKUP(B423,Intersections!A:G,6,FALSE)","v":59800},{"$f":"VLOOKUP(B423,Intersections!A:G,7,FALSE)","v":6800},"Cedar Rapids",{"$f":"VLOOKUP(B423,Intersections!A:E,5,FALSE)","v":"See Intersections Tab"},"2021-03-03",1202,"Wednesday","Wednesday","NB in SB","Yes","Yes","0-No",155857,null,null,1]
[null,"US-30 & US-65",{"$f":"VLOOKUP(B424,Intersections!A:G,6,FALSE)","v":8500},{"$f":"VLOOKUP(B424,Intersections!A:G,7,FALSE)","v":2240},"Colo",{"$f":"VLOOKUP(B424,Intersections!A:E,5,FALSE)","v":"Excluded Unique"},"2021-03-01",212,"Monday","Sunday","WB in EB","No","No","1-Yes",null,null,null,0.33]
[null,"US-30 & Hart Ave/CR-S62",{"$f":"VLOOKUP(B425,Intersections!A:G,6,FALSE)","v":7500},{"$f":"VLOOKUP(B425,Intersections!A:G,7,FALSE)","v":850},"State Center",{"$f":"VLOOKUP(B425,Intersections!A:E,5,FALSE)","v":"At Grade"},"2021-03-01",212,"Monday","Sunday","WB in EB","No","No","1-Yes",null,null,null,0.33]
[null,"US-30 & IA-330",{"$f":"VLOOKUP(B426,Intersections!A:G,6,FALSE)","v":8900},{"$f":"VLOOKUP(B426,Intersections!A:G,7,FALSE)","v":11700},"Marshalltown",{"$f":"VLOOKUP(B426,Intersections!A:E,5,FALSE)","v":"Split"},"2021-03-01",212,"Monday","Sunday","WB in EB","No","No","1-Yes",null,null,null,0.33]
[null,"US-30 & IA-930/Lincoln Way",{"$f":"VLOOKUP(B427,Intersections!A:G,6,FALSE)","v":17100},{"$f":"VLOOKUP(B427,Intersections!A:G,7,FALSE)","v":5600},"Ames",{"$f":"VLOOKUP(B427,Intersections!A:E,5,FALSE)","v":"Split"},"2021-03-14",2257,"Sunday","Sunday","EB in WB","Yes","Yes","0-No",null,null,null,1]
[null,null,null,null,null,null,null,null,"",""]
[null,null,null,null,null,null,null,null,"",""]
[null,null,null,null,null,null,null,null,"",""]
[null,null,null,null,null,null,null,null,"",""]
[null,null,null,null,null,null,null,null,"",""]
[null,null,null,null,null,null,null,null,"",""]
[null,null,null,null,null,null,null,null,"",""]
[null,null,null,null,null,null,null,null,"",""]
[null,null,null,null,null,null,null,null,"",""]
[null,null,null,null,null,null,null,null,"",""]
[null,null,null,null,null,null,null,null,"",""]
[null,null,null,null,null,null,null,null,"",""]
[null,null,null,null,null,null,null,null,"",""]
[null,null,null,null,null,null,null,null,"",""]
[null,null,null,null,null,null,null,null,"",""]
[null,null,null,null,null,null,null,null,"",""]
[null,null,null,null,null,null,null,null,"",""]
[null,null,null,null,null,null,null,null,"",""]
[null,null,null,null,null,null,null,null,"",""]
[null,null,null,null,null,null,null,null,"",""]
[null,null,null,null,null,null,null,null,"",""]
[null,null,null,null,null,null,null,null,"",""]
[null,null,null,null,null,null,null,null,"",""]
[null,null,null,null,null,null,null,null,"",""]
[null,null,null,null,null,null,null,null,"",""]
[null,null,null,null,null,null,null,null,{"$f":"IF(G453=\"\",\"\",CHOOSE(WEEKDAY(G453,2),\"Monday\",\"Tuesday\",\"Wednesday\",\"Thursday\",\"Friday\",\"Saturday\",\"Sunday\"))","v":""},{"$f":"IF(G453=\"\",\"\",IF(H453<500,CHOOSE(WEEKDAY(G453,2)-1,\"Monday\",\"Tuesday\",\"Wednesday\",\"Thursday\",\"Friday\",\"Saturday\",\"Sunday\"),I453))","v":""}]
[null,null,null,null,null,null,null,null,"",""]
[null,null,null,null,null,null,null,null,"",""]
[null,null,null,null,null,null,null,null,"",""]
[null,null,null,null,null,null,null,null,"",""]
[null,null,null,null,null,null,null,null,"",""]
[null,null,null,null,null,null,null,null,"",""]
[null,null,null,null,null,null,null,null,"",""]
[null,null,null,null,null,null,null,null,"",""]
[null,null,null,null,null,null,null,null,"",""]
[null,null,null,null,null,null,null,null,"",""]
[null,null,null,null,null,null,null,null,"",""]
[null,null,null,null,null,null,null,null,"",""]
[null,null,null,null,null,null,null,null,"",""]
[null,null,null,null,null,null,null,null,"",""]
[null,null,null,null,null,null,null,null,"",""]
[null,null,null,null,null,null,null,null,"",""]
[null,null,null,null,null,null,null,null,"",""]
[null,null,null,null,null,null,null,null,"",""]
[null,null,null,null,null,null,null,null,"",""]
[null,null,null,null,null,null,null,null,"",""]
[null,null,null,null,null,null,null,null,"",""]
[null,null,null,null,null,null,null,null,"",""]
[null,null,null,null,null,null,null,null,"",""]
[null,null,null,null,null,null,null,null,"",""]
[null,null,null,null,null,null,null,null,"",""]
[null,null,null,null,null,null,null,null,"",""]
[null,null,null,null,null,null,null,null,"",""]
[null,null,null,null,null,null,null,null,"",""]
[null,null,null,null,null,null,null,null,"",""]
[null,null,null,null,null,null,null,null,"",""]
[null,null,null,null,null,null,null,null,"",""]
[null,null,null,null,null,null,null,null,"",{"$f":"IF(G485=\"\",\"\",IF(H485<500,CHOOSE(WEEKDAY(G485,2)-1,\"Monday\",\"Tuesday\",\"Wednesday\",\"Thursday\",\"Friday\",\"Saturday\",\"Sunday\"),I485))","v":""}]
[null,null,null,null,null,null,null,null,"",""]
[null,null,null,null,null,null,null,null,"",""]
[null,null,null,null,null,null,null,null,"",""]
[null,null,null,null,null,null,null,null,"",""]

{"sheet":"Intersections","index":2,"n_rows":575,"n_cols":11,"rows_kept":575,"cut":false,"hidden":false,"merged":[]}
["Interchange","Interchange ID","County","Area","Type","Major AADT","Minor AADT","Liquor Store Distance","Rank (Calculated)","Crash Count","Crash Score"]
["I-380 & Wilson Ave",203,"Linn","Urban","Diamond",81100,15000,0.3,{"$f":"_xlfn.IFNA(MATCH(A2,'Weight Based'!F:F,0)-1,\"Not Included in Ranking\")","v":1},{"$f":"COUNTIF('WWD Crashes'!C:C,A2)","v":3},{"$f":"_xlfn.IFNA(VLOOKUP(A2,'Weight Based'!F:AA,22,FALSE),\"Not Ranked\")","v":1.5}]
["I-80 & Grand Prairie Pkwy","Interchange without ID","Dallas","Urban","Unique",47200,5100,0.3,{"$f":"_xlfn.IFNA(MATCH(A3,'Weight Based'!F:F,0)-1,\"Not Included in Ranking\")","v":4},{"$f":"COUNTIF('WWD Crashes'!C:C,A3)","v":1},{"$f":"_xlfn.IFNA(VLOOKUP(A3,'Weight Based'!F:AA,22,FALSE),\"Not Ranked\")","v":1}]
["IA-163 & CR-G28",305,"Marion","Urban","Unique",10200,9800,0.5,{"$f":"_xlfn.IFNA(MATCH(A4,'Weight Based'!F:F,0)-1,\"Not Included in Ranking\")","v":5},{"$f":"COUNTIF('WWD Crashes'!C:C,A4)","v":2},{"$f":"_xlfn.IFNA(VLOOKUP(A4,'Weight Based'!F:AA,22,FALSE),\"Not Ranked\")","v":1.49}]
["I-35 & US-6/Hickman Rd",78,"Polk","Urban","Diamond",121400,37300,0.4,{"$f":"_xlfn.IFNA(MATCH(A5,'Weight Based'!F:F,0)-1,\"Not Included in Ranking\")","v":14},{"$f":"COUNTIF('WWD Crashes'!C:C,A5)","v":1},{"$f":"_xlfn.IFNA(VLOOKUP(A5,'Weight Based'!F:AA,22,FALSE),\"Not Ranked\")","v":1}]
["I-380 & 1st St",466,"Linn","Urban","Unique",79400,4550,0.2,{"$f":"_xlfn.IFNA(MATCH(A6,'Weight Based'!F:F,0)-1,\"Not Included in Ranking\")","v":2},{"$f":"COUNTIF('WWD Crashes'!C:C,A6)","v":1},{"$f":"_xlfn.IFNA(VLOOKUP(A6,'Weight Based'!F:AA,22,FALSE),\"Not Ranked\")","v":0.75}]
["I-80 & 1st Ave",419,"Johnson","Urban","Diamond",64300,24200,0.5,{"$f":"_xlfn.IFNA(MATCH(A7,'Weight Based'!F:F,0)-1,\"Not Included in Ranking\")","v":6},{"$f":"COUNTIF('WWD Crashes'!C:C,A7)","v":2},{"$f":"_xlfn.IFNA(VLOOKUP(A7,'Weight Based'!F:AA,22,FALSE),\"Not Ranked\")","v":2}]
["US-30 & University Blvd",337,"Story","Urban","Diamond",18300,15400,0.2,{"$f":"_xlfn.IFNA(MATCH(A8,'Weight Based'!F:F,0)-1,\"Not Included in Ranking\")","v":433},{"$f":"COUNTIF('WWD Crashes'!C:C,A8)","v":1},{"$f":"_xlfn.IFNA(VLOOKUP(A8,'Weight Based'!F:AA,22,FALSE),\"Not Ranked\")","v":1}]
["I-35 & Grand Ave",54,"Polk","Urban","Diamond",53700,4660,1.2,{"$f":"_xlfn.IFNA(MATCH(A9,'Weight Based'!F:F,0)-1,\"Not Included in Ranking\")","v":11},{"$f":"COUNTIF('WWD Crashes'!C:C,A9)","v":2},{"$f":"_xlfn.IFNA(VLOOKUP(A9,'Weight Based'!F:AA,22,FALSE),\"Not Ranked\")","v":1.24}]
["I-29 & IA-192/16th St",488,"Pottawattamie","Urban","Unique",18200,8700,0.7,{"$f":"_xlfn.IFNA(MATCH(A10,'Weight Based'!F:F,0)-1,\"Not Included in Ranking\")","v":7},{"$f":"COUNTIF('WWD Crashes'!C:C,A10)","v":1},{"$f":"_xlfn.IFNA(VLOOKUP(A10,'Weight Based'!F:AA,22,FALSE),\"Not Ranked\")","v":0.79}]
["I-380 & 33rd Ave",199,"Linn","Urban","Diamond",76100,20400,0,{"$f":"_xlfn.IFNA(MATCH(A11,'Weight Based'!F:F,0)-1,\"Not Included in Ranking\")","v":9},{"$f":"COUNTIF('WWD Crashes'!C:C,A11)","v":2},{"$f":"_xlfn.IFNA(VLOOKUP(A11,'Weight Based'!F:AA,22,FALSE),\"Not Ranked\")","v":0.75}]
["US-30 & Kirkwood Blvd",407,"Linn","Urban","Unique",31700,16200,0.4,{"$f":"_xlfn.IFNA(MATCH(A12,'Weight Based'!F:F,0)-1,\"Not Included in Ranking\")","v":3},{"$f":"COUNTIF('WWD Crashes'!C:C,A12)","v":3},{"$f":"_xlfn.IFNA(VLOOKUP(A12,'Weight Based'!F:AA,22,FALSE),\"Not Ranked\")","v":1.5}]
["US-218 & IA-2",202,"Lee","Rural","Diamond",6500,3380,0.4,{"$f":"_xlfn.IFNA(MATCH(A13,'Weight Based'!F:F,0)-1,\"Not Included in Ranking\")","v":15},{"$f":"COUNTIF('WWD Crashes'!C:C,A13)","v":2},{"$f":"_xlfn.IFNA(VLOOKUP(A13,'Weight Based'!F:AA,22,FALSE),\"Not Ranked\")","v":1.25}]
["I-35 & Merle Hay Rd",120,"Polk","Urban","Diamond",101100,30600,0.1,{"$f":"_xlfn.IFNA(MATCH(A14,'Weight Based'!F:F,0)-1,\"Not Included in Ranking\")","v":28},{"$f":"COUNTIF('WWD Crashes'!C:C,A14)","v":2},{"$f":"_xlfn.IFNA(VLOOKUP(A14,'Weight Based'!F:AA,22,FALSE),\"Not Ranked\")","v":1.5}]
["I-80 & Black Hawk Ave",410,"Johnson","Rural","Unique",34400,1190,2.6,{"$f":"_xlfn.IFNA(MATCH(A15,'Weight Based'!F:F,0)-1,\"Not Included in Ranking\")","v":21},{"$f":"COUNTIF('WWD Crashes'!C:C,A15)","v":1},{"$f":"_xlfn.IFNA(VLOOKUP(A15,'Weight Based'!F:AA,22,FALSE),\"Not Ranked\")","v":1}]
["I-280 & US-6",444,"Scott","Rural","Unique",22400,6600,3,{"$f":"_xlfn.IFNA(MATCH(A16,'Weight Based'!F:F,0)-1,\"Not Included in Ranking\")","v":8},{"$f":"COUNTIF('WWD Crashes'!C:C,A16)","v":1},{"$f":"_xlfn.IFNA(VLOOKUP(A16,'Weight Based'!F:AA,22,FALSE),\"Not Ranked\")","v":0.75}]
["US-218 & Barrick Rd",210,"Bremer","Rural","Unique",19000,2900,3.7,{"$f":"_xlfn.IFNA(MATCH(A17,'Weight Based'!F:F,0)-1,\"Not Included in Ranking\")","v":13},{"$f":"COUNTIF('WWD Crashes'!C:C,A17)","v":1},{"$f":"_xlfn.IFNA(VLOOKUP(A17,'Weight Based'!F:AA,22,FALSE),\"Not Ranked\")","v":0.75}]
["I-35 & IA-92",40,"Warren","Rural","Diamond",22500,4970,0.7,{"$f":"_xlfn.IFNA(MATCH(A18,'Weight Based'!F:F,0)-1,\"Not Included in Ranking\")","v":215},{"$f":"COUNTIF('WWD Crashes'!C:C,A18)","v":0},{"$f":"_xlfn.IFNA(VLOOKUP(A18,'Weight Based'!F:AA,22,FALSE),\"Not Ranked\")","v":0}]
["I-29 & 275th St",74,"Woodbury","Rural","Diamond",19300,1050,6.4,{"$f":"_xlfn.IFNA(MATCH(A19,'Weight Based'!F:F,0)-1,\"Not Included in Ranking\")","v":27},{"$f":"COUNTIF('WWD Crashes'!C:C,A19)","v":1},{"$f":"_xlfn.IFNA(VLOOKUP(A19,'Weight Based'!F:AA,22,FALSE),\"Not Ranked\")","v":0.99}]
["I-35 & Oralabor Rd",141,"Polk","Urban","Diamond",80700,30200,0.2,{"$f":"_xlfn.IFNA(MATCH(A20,'Weight Based'!F:F,0)-1,\"Not Included in Ranking\")","v":22},{"$f":"COUNTIF('WWD Crashes'!C:C,A20)","v":3},{"$f":"_xlfn.IFNA(VLOOKUP(A20,'Weight Based'!F:AA,22,FALSE),\"Not Ranked\")","v":2}]
["I-35 & Corporate Woods Dr",137,"Polk","Urban","Diamond",89800,18700,0.8,{"$f":"_xlfn.IFNA(MATCH(A21,'Weight Based'!F:F,0)-1,\"Not Included in Ranking\")","v":42},{"$f":"COUNTIF('WWD Crashes'!C:C,A21)","v":1},{"$f":"_xlfn.IFNA(VLOOKUP(A21,'Weight Based'!F:AA,22,FALSE),\"Not Ranked\")","v":0.5}]
["US-18 & US-65",159,"Cerro Gordo","Rural","Diamond",11100,6900,1.9,{"$f":"_xlfn.IFNA(MATCH(A22,'Weight Based'!F:F,0)-1,\"Not Included in Ranking\")","v":160},{"$f":"COUNTIF('WWD Crashes'!C:C,A22)","v":2},{"$f":"_xlfn.IFNA(VLOOKUP(A22,'Weight Based'!F:AA,22,FALSE),\"Not Ranked\")","v":1.99}]
["I-80 & 86th St",100,"Polk","Urban","Diamond",96500,17500,0.1,{"$f":"_xlfn.IFNA(MATCH(A23,'Weight Based'!F:F,0)-1,\"Not Included in Ranking\")","v":29},{"$f":"COUNTIF('WWD Crashes'!C:C,A23)","v":3},{"$f":"_xlfn.IFNA(VLOOKUP(A23,'Weight Based'!F:AA,22,FALSE),\"Not Ranked\")","v":2.25}]
["I-80 & US-69",125,"Polk","Urban","Excluded Unique",87400,19600,0.1,{"$f":"_xlfn.IFNA(MATCH(A24,'Weight Based'!F:F,0)-1,\"Not Included in Ranking\")","v":10},{"$f":"COUNTIF('WWD Crashes'!C:C,A24)","v":2},{"$f":"_xlfn.IFNA(VLOOKUP(A24,'Weight Based'!F:AA,22,FALSE),\"Not Ranked\")","v":2}]
["I-380 & 7th St",463,"Linn","Urban","Unique",90800,6900,0.4,{"$f":"_xlfn.IFNA(MATCH(A25,'Weight Based'!F:F,0)-1,\"Not Included in Ranking\")","v":12},{"$f":"COUNTIF('WWD Crashes'!C:C,A25)","v":1},{"$f":"_xlfn.IFNA(VLOOKUP(A25,'Weight Based'!F:AA,22,FALSE),\"Not Ranked\")","v":1}]
["I-380 & 1st Ave",465,"Linn","Urban","Split",79400,22500,0.3,{"$f":"_xlfn.IFNA(MATCH(A26,'Weight Based'!F:F,0)-1,\"Not Included in Ranking\")","v":25},{"$f":"COUNTIF('WWD Crashes'!C:C,A26)","v":1},{"$f":"_xlfn.IFNA(VLOOKUP(A26,'Weight Based'!F:AA,22,FALSE),\"Not Ranked\")","v":0.25}]
["US-30 & 19th St",347,"Story","Rural","Unique",12200,4240,0.1,{"$f":"_xlfn.IFNA(MATCH(A27,'Weight Based'!F:F,0)-1,\"Not Included in Ranking\")","v":19},{"$f":"COUNTIF('WWD Crashes'!C:C,A27)","v":0},{"$f":"_xlfn.IFNA(VLOOKUP(A27,'Weight Based'!F:AA,22,FALSE),\"Not Ranked\")","v":0}]
["I-29 & IA-175",64,"Monona","Rural","Diamond",15300,5500,0.1,{"$f":"_xlfn.IFNA(MATCH(A28,'Weight Based'!F:F,0)-1,\"Not Included in Ranking\")","v":33},{"$f":"COUNTIF('WWD Crashes'!C:C,A28)","v":1},{"$f":"_xlfn.IFNA(VLOOKUP(A28,'Weight Based'!F:AA,22,FALSE),\"Not Ranked\")","v":0.75}]
["I-80 & Expressway St",177,"Pottawattamie","Urban","n/a",73700,27000,0.2,{"$f":"_xlfn.IFNA(MATCH(A29,'Weight Based'!F:F,0)-1,\"Not Included in Ranking\")","v":"Not Included in Ranking"},{"$f":"COUNTIF('WWD Crashes'!C:C,A29)","v":3},{"$f":"_xlfn.IFNA(VLOOKUP(A29,'Weight Based'!F:AA,22,FALSE),\"Not Ranked\")","v":"Not Ranked"}]
["I-235 & 73rd St",206,"Polk","Urban","Unique",128100,22600,0.1,{"$f":"_xlfn.IFNA(MATCH(A30,'Weight Based'!F:F,0)-1,\"Not Included in Ranking\")","v":23},{"$f":"COUNTIF('WWD Crashes'!C:C,A30)","v":1},{"$f":"_xlfn.IFNA(VLOOKUP(A30,'Weight Based'!F:AA,22,FALSE),\"Not Ranked\")","v":1}]
["US-20 & 330th Ave/CR-X49","Interchange without ID","Delaware","Rural","Diamond",12000,3960,1.8,{"$f":"_xlfn.IFNA(MATCH(A31,'Weight Based'!F:F,0)-1,\"Not Included in Ranking\")","v":45},{"$f":"COUNTIF('WWD Crashes'!C:C,A31)","v":2},{"$f":"_xlfn.IFNA(VLOOKUP(A31,'Weight Based'!F:AA,22,FALSE),\"Not Ranked\")","v":0.75}]
["I-235 & 19th St/MLK Pkwy",467,"Polk","Urban","Excluded Unique",136000,23800,0.4,{"$f":"_xlfn.IFNA(MATCH(A32,'Weight Based'!F:F,0)-1,\"Not Included in Ranking\")","v":187},{"$f":"COUNTIF('WWD Crashes'!C:C,A32)","v":0},{"$f":"_xlfn.IFNA(VLOOKUP(A32,'Weight Based'!F:AA,22,FALSE),\"Not Ranked\")","v":0}]
["I-35 & Mills Civic Pkwy",57,"Polk","Urban","Unique",73200,20500,0.2,{"$f":"_xlfn.IFNA(MATCH(A33,'Weight Based'!F:F,0)-1,\"Not Included in Ranking\")","v":17},{"$f":"COUNTIF('WWD Crashes'!C:C,A33)","v":3},{"$f":"_xlfn.IFNA(VLOOKUP(A33,'Weight Based'!F:AA,22,FALSE),\"Not Ranked\")","v":2.99}]
["I-80 & IA-415/2nd St",122,"Polk","Urban","Diamond",101100,35800,0.3,{"$f":"_xlfn.IFNA(MATCH(A34,'Weight Based'!F:F,0)-1,\"Not Included in Ranking\")","v":90},{"$f":"COUNTIF('WWD Crashes'!C:C,A34)","v":2},{"$f":"_xlfn.IFNA(VLOOKUP(A34,'Weight Based'!F:AA,22,FALSE),\"Not Ranked\")","v":2}]
["IA-5 & McKimber St",504,"Marion","Rural","Split",7700,3090,1.8,{"$f":"_xlfn.IFNA(MATCH(A35,'Weight Based'!F:F,0)-1,\"Not Included in Ranking\")","v":37},{"$f":"COUNTIF('WWD Crashes'!C:C,A35)","v":1},{"$f":"_xlfn.IFNA(VLOOKUP(A35,'Weight Based'!F:AA,22,FALSE),\"Not Ranked\")","v":0.5}]
["I-29 & IA-92",186,"Pottawattamie","Urban","Excluded Unique",33300,20000,0.2,{"$f":"_xlfn.IFNA(MATCH(A36,'Weight Based'!F:F,0)-1,\"Not Included in Ranking\")","v":170},{"$f":"COUNTIF('WWD Crashes'!C:C,A36)","v":0},{"$f":"_xlfn.IFNA(VLOOKUP(A36,'Weight Based'!F:AA,22,FALSE),\"Not Ranked\")","v":0}]
["I-235 & Keosauqua Way",501,"Polk","Urban","Unique",91300,13800,0.2,{"$f":"_xlfn.IFNA(MATCH(A37,'Weight Based'!F:F,0)-1,\"Not Included in Ranking\")","v":18},{"$f":"COUNTIF('WWD Crashes'!C:C,A37)","v":3},{"$f":"_xlfn.IFNA(VLOOKUP(A37,'Weight Based'!F:AA,22,FALSE),\"Not Ranked\")","v":2.5}]
["IA-5 & 110th Pl",312,"Marion","Rural","Split",4600,460,1.1000000000000001,{"$f":"_xlfn.IFNA(MATCH(A38,'Weight Based'!F:F,0)-1,\"Not Included in Ranking\")","v":46},{"$f":"COUNTIF('WWD Crashes'!C:C,A38)","v":1},{"$f":"_xlfn.IFNA(VLOOKUP(A38,'Weight Based'!F:AA,22,FALSE),\"Not Ranked\")","v":0.5}]
["US-30 & C St",386,"Linn","Urban","Unique",31700,16300,0.2,{"$f":"_xlfn.IFNA(MATCH(A39,'Weight Based'!F:F,0)-1,\"Not Included in Ranking\")","v":41},{"$f":"COUNTIF('WWD Crashes'!C:C,A39)","v":0},{"$f":"_xlfn.IFNA(VLOOKUP(A39,'Weight Based'!F:AA,22,FALSE),\"Not Ranked\")","v":0}]
["US-30 & Duff Ave/US-69",342,"Story","Urban","Excluded Unique",32400,25900,0.1,{"$f":"_xlfn.IFNA(MATCH(A40,'Weight Based'!F:F,0)-1,\"Not Included in Ranking\")","v":56},{"$f":"COUNTIF('WWD Crashes'!C:C,A40)","v":0},{"$f":"_xlfn.IFNA(VLOOKUP(A40,'Weight Based'!F:AA,22,FALSE),\"Not Ranked\")","v":0}]
["US-218 & Riverside Dr",299,"Johnson","Urban","Unique",22100,6900,1.7,{"$f":"_xlfn.IFNA(MATCH(A41,'Weight Based'!F:F,0)-1,\"Not Included in Ranking\")","v":57},{"$f":"COUNTIF('WWD Crashes'!C:C,A41)","v":0},{"$f":"_xlfn.IFNA(VLOOKUP(A41,'Weight Based'!F:AA,22,FALSE),\"Not Ranked\")","v":0}]
["I-80 & US-67",439,"Scott","Urban","Excluded Unique",38600,13100,0.6,{"$f":"_xlfn.IFNA(MATCH(A42,'Weight Based'!F:F,0)-1,\"Not Included in Ranking\")","v":209},{"$f":"COUNTIF('WWD Crashes'!C:C,A42)","v":0},{"$f":"_xlfn.IFNA(VLOOKUP(A42,'Weight Based'!F:AA,22,FALSE),\"Not Ranked\")","v":0}]
["US-30 & WACONIA AVE/6TH ST SW",385,"Linn","Urban","Unique",34000,12600,1.1000000000000001,{"$f":"_xlfn.IFNA(MATCH(A43,'Weight Based'!F:F,0)-1,\"Not Included in Ranking\")","v":38},{"$f":"COUNTIF('WWD Crashes'!C:C,A43)","v":1},{"$f":"_xlfn.IFNA(VLOOKUP(A43,'Weight Based'!F:AA,22,FALSE),\"Not Ranked\")","v":0.5}]
["US-20 & Bryant St",338,"Dubuque","Urban","Unique",35500,9300,0.4,{"$f":"_xlfn.IFNA(MATCH(A44,'Weight Based'!F:F,0)-1,\"Not Included in Ranking\")","v":26},{"$f":"COUNTIF('WWD Crashes'!C:C,A44)","v":3},{"$f":"_xlfn.IFNA(VLOOKUP(A44,'Weight Based'!F:AA,22,FALSE),\"Not Ranked\")","v":2.25}]
["I 380 N & I 380 N TO RIVER FOREST RD",271,"Black Hawk","Urban","Excluded Unique",42100,8700,0.4,{"$f":"_xlfn.IFNA(MATCH(A45,'Weight Based'!F:F,0)-1,\"Not Included in Ranking\")","v":210},{"$f":"COUNTIF('WWD Crashes'!C:C,A45)","v":0},{"$f":"_xlfn.IFNA(VLOOKUP(A45,'Weight Based'!F:AA,22,FALSE),\"Not Ranked\")","v":0}]
["I-29 & Nebraska St & Gordon Dr",481,"Woodbury","Urban","Excluded Unique",34300,10700,0.2,{"$f":"_xlfn.IFNA(MATCH(A46,'Weight Based'!F:F,0)-1,\"Not Included in Ranking\")","v":243},{"$f":"COUNTIF('WWD Crashes'!C:C,A46)","v":0},{"$f":"_xlfn.IFNA(VLOOKUP(A46,'Weight Based'!F:AA,22,FALSE),\"Not Ranked\")","v":0}]
["I-29 & Nebraska St",151,"Pottawattamie","Urban","n/a",37700,8300,0.2,{"$f":"_xlfn.IFNA(MATCH(A47,'Weight Based'!F:F,0)-1,\"Not Included in Ranking\")","v":"Not Included in Ranking"},{"$f":"COUNTIF('WWD Crashes'!C:C,A47)","v":1},{"$f":"_xlfn.IFNA(VLOOKUP(A47,'Weight Based'!F:AA,22,FALSE),\"Not Ranked\")","v":"Not Ranked"}]
["I-80 & IA-14",295,"Jasper","Urban","Unique",32600,7100,0.4,{"$f":"_xlfn.IFNA(MATCH(A48,'Weight Based'!F:F,0)-1,\"Not Included in Ranking\")","v":61},{"$f":"COUNTIF('WWD Crashes'!C:C,A48)","v":0},{"$f":"_xlfn.IFNA(VLOOKUP(A48,'Weight Based'!F:AA,22,FALSE),\"Not Ranked\")","v":0}]
["US-34 & Gear Ave",231,"Des Moines","Urban","Unique",13200,11900,0.5,{"$f":"_xlfn.IFNA(MATCH(A49,'Weight Based'!F:F,0)-1,\"Not Included in Ranking\")","v":64},{"$f":"COUNTIF('WWD Crashes'!C:C,A49)","v":0},{"$f":"_xlfn.IFNA(VLOOKUP(A49,'Weight Based'!F:AA,22,FALSE),\"Not Ranked\")","v":0}]
["I-235 & University Ave/IA-163",498,"Polk","Urban","Diamond",80300,28900,0.3,{"$f":"_xlfn.IFNA(MATCH(A50,'Weight Based'!F:F,0)-1,\"Not Included in Ranking\")","v":193},{"$f":"COUNTIF('WWD Crashes'!C:C,A50)","v":0},{"$f":"_xlfn.IFNA(VLOOKUP(A50,'Weight Based'!F:AA,22,FALSE),\"Not Ranked\")","v":0}]
["US-30 & IA-930/Lincoln Way",510,"Boone","Rural","Split",17100,5600,2.7,{"$f":"_xlfn.IFNA(MATCH(A51,'Weight Based'!F:F,0)-1,\"Not Included in Ranking\")","v":43},{"$f":"COUNTIF('WWD Crashes'!C:C,A51)","v":0},{"$f":"_xlfn.IFNA(VLOOKUP(A51,'Weight Based'!F:AA,22,FALSE),\"Not Ranked\")","v":0}]
["US-20 & IA-136",332,"Dubuque","Rural","Excluded Unique",12000,8500,0.2,{"$f":"_xlfn.IFNA(MATCH(A52,'Weight Based'!F:F,0)-1,\"Not Included in Ranking\")","v":51},{"$f":"COUNTIF('WWD Crashes'!C:C,A52)","v":2},{"$f":"_xlfn.IFNA(VLOOKUP(A52,'Weight Based'!F:AA,22,FALSE),\"Not Ranked\")","v":1.49}]
["US-218 & Sergeant Rd",339,"Black Hawk","Urban","Unique",25500,7000,0.5,{"$f":"_xlfn.IFNA(MATCH(A53,'Weight Based'!F:F,0)-1,\"Not Included in Ranking\")","v":31},{"$f":"COUNTIF('WWD Crashes'!C:C,A53)","v":1},{"$f":"_xlfn.IFNA(VLOOKUP(A53,'Weight Based'!F:AA,22,FALSE),\"Not Ranked\")","v":0.99}]
["IA-934 & Greenhill Rd",461,"Black Hawk","Urban","Excluded Unique",17000,9000,0.5,{"$f":"_xlfn.IFNA(MATCH(A54,'Weight Based'!F:F,0)-1,\"Not Included in Ranking\")","v":162},{"$f":"COUNTIF('WWD Crashes'!C:C,A54)","v":1},{"$f":"_xlfn.IFNA(VLOOKUP(A54,'Weight Based'!F:AA,22,FALSE),\"Not Ranked\")","v":0.5}]
["I-380 & Glass Rd",460,"Linn","Urban","Split",83100,13900,0.1,{"$f":"_xlfn.IFNA(MATCH(A55,'Weight Based'!F:F,0)-1,\"Not Included in Ranking\")","v":24},{"$f":"COUNTIF('WWD Crashes'!C:C,A55)","v":2},{"$f":"_xlfn.IFNA(VLOOKUP(A55,'Weight Based'!F:AA,22,FALSE),\"Not Ranked\")","v":1.74}]
["US 34 W & US 63 S",294,"Wapello","Urban","Excluded Unique",11800,9800,0.3,{"$f":"_xlfn.IFNA(MATCH(A56,'Weight Based'!F:F,0)-1,\"Not Included in Ranking\")","v":278},{"$f":"COUNTIF('WWD Crashes'!C:C,A56)","v":0},{"$f":"_xlfn.IFNA(VLOOKUP(A56,'Weight Based'!F:AA,22,FALSE),\"Not Ranked\")","v":0}]
["US-59 & US-30 (North Junction)",525,"Crawford","Urban","Excluded Unique",9500,9700,0.3,{"$f":"_xlfn.IFNA(MATCH(A57,'Weight Based'!F:F,0)-1,\"Not Included in Ranking\")","v":288},{"$f":"COUNTIF('WWD Crashes'!C:C,A57)","v":0},{"$f":"_xlfn.IFNA(VLOOKUP(A57,'Weight Based'!F:AA,22,FALSE),\"Not Ranked\")","v":0}]
["I-80 & CR-F60/ELDORADO AVE",139,"Dallas","Rural","Diamond",28900,3170,1.6,{"$f":"_xlfn.IFNA(MATCH(A58,'Weight Based'!F:F,0)-1,\"Not Included in Ranking\")","v":71},{"$f":"COUNTIF('WWD Crashes'!C:C,A58)","v":1},{"$f":"_xlfn.IFNA(VLOOKUP(A58,'Weight Based'!F:AA,22,FALSE),\"Not Ranked\")","v":0.5}]
["IA 376 N & TRANSIT AVE, W TO S LEWIS BLVD, N",124,"Woodbury","Urban","Excluded Unique",18500,6500,0.4,{"$f":"_xlfn.IFNA(MATCH(A59,'Weight Based'!F:F,0)-1,\"Not Included in Ranking\")","v":286},{"$f":"COUNTIF('WWD Crashes'!C:C,A59)","v":0},{"$f":"_xlfn.IFNA(VLOOKUP(A59,'Weight Based'!F:AA,22,FALSE),\"Not Ranked\")","v":0}]
["US-218 & LaPorte Rd","Interchange without ID","Black Hawk","Urban","n/a",31600,3070,0.2,{"$f":"_xlfn.IFNA(MATCH(A60,'Weight Based'!F:F,0)-1,\"Not Included in Ranking\")","v":"Not Included in Ranking"},{"$f":"COUNTIF('WWD Crashes'!C:C,A60)","v":0},{"$f":"_xlfn.IFNA(VLOOKUP(A60,'Weight Based'!F:AA,22,FALSE),\"Not Ranked\")","v":"Not Ranked"}]
["I-235 & E 14th St",499,"Polk","Urban","Split",94000,21300,0.1,{"$f":"_xlfn.IFNA(MATCH(A61,'Weight Based'!F:F,0)-1,\"Not Included in Ranking\")","v":52},{"$f":"COUNTIF('WWD Crashes'!C:C,A61)","v":2},{"$f":"_xlfn.IFNA(VLOOKUP(A61,'Weight Based'!F:AA,22,FALSE),\"Not Ranked\")","v":1.95}]
["IA-22/ROCKINGHAM RD & BUS-61/RIVER DR",436,"Scott","Urban","Excluded Unique",10800,7800,1.1000000000000001,{"$f":"_xlfn.IFNA(MATCH(A62,'Weight Based'!F:F,0)-1,\"Not Included in Ranking\")","v":334},{"$f":"COUNTIF('WWD Crashes'!C:C,A62)","v":0},{"$f":"_xlfn.IFNA(VLOOKUP(A62,'Weight Based'!F:AA,22,FALSE),\"Not Ranked\")","v":0}]
["I-80 & Coral Ridge Ave",415,"Johnson","Urban","Excluded Unique",62500,33200,0.1,{"$f":"_xlfn.IFNA(MATCH(A63,'Weight Based'!F:F,0)-1,\"Not Included in Ranking\")","v":55},{"$f":"COUNTIF('WWD Crashes'!C:C,A63)","v":1},{"$f":"_xlfn.IFNA(VLOOKUP(A63,'Weight Based'!F:AA,22,FALSE),\"Not Ranked\")","v":1}]
["I-80 & IA-173",62,"Cass","Rural","Excluded Unique",22800,1510,6.6,{"$f":"_xlfn.IFNA(MATCH(A64,'Weight Based'!F:F,0)-1,\"Not Included in Ranking\")","v":89},{"$f":"COUNTIF('WWD Crashes'!C:C,A64)","v":1},{"$f":"_xlfn.IFNA(VLOOKUP(A64,'Weight Based'!F:AA,22,FALSE),\"Not Ranked\")","v":0.5}]
["US-20 & 270th Ave",331,"Delaware","Rural","Excluded Unique",8800,1710,3.7,{"$f":"_xlfn.IFNA(MATCH(A65,'Weight Based'!F:F,0)-1,\"Not Included in Ranking\")","v":76},{"$f":"COUNTIF('WWD Crashes'!C:C,A65)","v":2},{"$f":"_xlfn.IFNA(VLOOKUP(A65,'Weight Based'!F:AA,22,FALSE),\"Not Ranked\")","v":1.5}]
["US-34 & Main St",217,"Des Moines","Urban","Unique",14800,3740,0.2,{"$f":"_xlfn.IFNA(MATCH(A66,'Weight Based'!F:F,0)-1,\"Not Included in Ranking\")","v":34},{"$f":"COUNTIF('WWD Crashes'!C:C,A66)","v":1},{"$f":"_xlfn.IFNA(VLOOKUP(A66,'Weight Based'!F:AA,22,FALSE),\"Not Ranked\")","v":1}]
["I-380 & 330th St",248,"Buchanan","Rural","Diamond",17700,1560,6.3,{"$f":"_xlfn.IFNA(MATCH(A67,'Weight Based'!F:F,0)-1,\"Not Included in Ranking\")","v":92},{"$f":"COUNTIF('WWD Crashes'!C:C,A67)","v":1},{"$f":"_xlfn.IFNA(VLOOKUP(A67,'Weight Based'!F:AA,22,FALSE),\"Not Ranked\")","v":0.5}]
["US-65 & US-6",409,"Polk","Urban","Split",30800,10100,0.3,{"$f":"_xlfn.IFNA(MATCH(A68,'Weight Based'!F:F,0)-1,\"Not Included in Ranking\")","v":66},{"$f":"COUNTIF('WWD Crashes'!C:C,A68)","v":0},{"$f":"_xlfn.IFNA(VLOOKUP(A68,'Weight Based'!F:AA,22,FALSE),\"Not Ranked\")","v":0}]
["IA-376 & Floyd Blvd & 46th St",486,"Woodbury","Urban","Split",8200,4730,0.6,{"$f":"_xlfn.IFNA(MATCH(A69,'Weight Based'!F:F,0)-1,\"Not Included in Ranking\")","v":146},{"$f":"COUNTIF('WWD Crashes'!C:C,A69)","v":0},{"$f":"_xlfn.IFNA(VLOOKUP(A69,'Weight Based'!F:AA,22,FALSE),\"Not Ranked\")","v":0}]
["I-380 & Diagonal Dr",464,"Linn","Urban","Split",81100,14700,0.3,{"$f":"_xlfn.IFNA(MATCH(A70,'Weight Based'!F:F,0)-1,\"Not Included in Ranking\")","v":70},{"$f":"COUNTIF('WWD Crashes'!C:C,A70)","v":0},{"$f":"_xlfn.IFNA(VLOOKUP(A70,'Weight Based'!F:AA,22,FALSE),\"Not Ranked\")","v":0}]
["US-169 & 2nd Ave",462,"Webster","Rural","Unique",8200,4390,0.9,{"$f":"_xlfn.IFNA(MATCH(A71,'Weight Based'!F:F,0)-1,\"Not Included in Ranking\")","v":86},{"$f":"COUNTIF('WWD Crashes'!C:C,A71)","v":0},{"$f":"_xlfn.IFNA(VLOOKUP(A71,'Weight Based'!F:AA,22,FALSE),\"Not Ranked\")","v":0}]
["US-61 & HERSHEY AVE",535,"Muscatine","Urban","Excluded Unique",11100,2680,1.1000000000000001,{"$f":"_xlfn.IFNA(MATCH(A72,'Weight Based'!F:F,0)-1,\"Not Included in Ranking\")","v":347},{"$f":"COUNTIF('WWD Crashes'!C:C,A72)","v":0},{"$f":"_xlfn.IFNA(VLOOKUP(A72,'Weight Based'!F:AA,22,FALSE),\"Not Ranked\")","v":0}]
["IA-27 & US-218",522,"Lee","Rural","Excluded Unique",6300,2710,1.7,{"$f":"_xlfn.IFNA(MATCH(A73,'Weight Based'!F:F,0)-1,\"Not Included in Ranking\")","v":83},{"$f":"COUNTIF('WWD Crashes'!C:C,A73)","v":1},{"$f":"_xlfn.IFNA(VLOOKUP(A73,'Weight Based'!F:AA,22,FALSE),\"Not Ranked\")","v":0.5}]
["I-380 & 29th St",527,"Linn","Urban","Split",96900,8600,0.1,{"$f":"_xlfn.IFNA(MATCH(A74,'Weight Based'!F:F,0)-1,\"Not Included in Ranking\")","v":79},{"$f":"COUNTIF('WWD Crashes'!C:C,A74)","v":0},{"$f":"_xlfn.IFNA(VLOOKUP(A74,'Weight Based'!F:AA,22,FALSE),\"Not Ranked\")","v":0}]
["I-380 & 42nd St",452,"Linn","Urban","Split",83100,12000,0.2,{"$f":"_xlfn.IFNA(MATCH(A75,'Weight Based'!F:F,0)-1,\"Not Included in Ranking\")","v":80},{"$f":"COUNTIF('WWD Crashes'!C:C,A75)","v":0},{"$f":"_xlfn.IFNA(VLOOKUP(A75,'Weight Based'!F:AA,22,FALSE),\"Not Ranked\")","v":0}]
["US-75 & 46TH ST",414,"Woodbury","Urban","Split",11400,1500,1,{"$f":"_xlfn.IFNA(MATCH(A76,'Weight Based'!F:F,0)-1,\"Not Included in Ranking\")","v":197},{"$f":"COUNTIF('WWD Crashes'!C:C,A76)","v":0},{"$f":"_xlfn.IFNA(VLOOKUP(A76,'Weight Based'!F:AA,22,FALSE),\"Not Ranked\")","v":0}]
["US-34 & Vine St",285,"Wapello","Urban","Excluded Unique",11200,1170,0.5,{"$f":"_xlfn.IFNA(MATCH(A77,'Weight Based'!F:F,0)-1,\"Not Included in Ranking\")","v":157},{"$f":"COUNTIF('WWD Crashes'!C:C,A77)","v":2},{"$f":"_xlfn.IFNA(VLOOKUP(A77,'Weight Based'!F:AA,22,FALSE),\"Not Ranked\")","v":1.5}]
["I-380 & IA-100",452,"Linn","Urban","Diamond",82000,15400,0.5,{"$f":"_xlfn.IFNA(MATCH(A78,'Weight Based'!F:F,0)-1,\"Not Included in Ranking\")","v":110},{"$f":"COUNTIF('WWD Crashes'!C:C,A78)","v":0},{"$f":"_xlfn.IFNA(VLOOKUP(A78,'Weight Based'!F:AA,22,FALSE),\"Not Ranked\")","v":0}]
["I-29 & Ave G",417,"Pottawattamie","Urban","Excluded Unique",22700,3450,0.2,{"$f":"_xlfn.IFNA(MATCH(A79,'Weight Based'!F:F,0)-1,\"Not Included in Ranking\")","v":285},{"$f":"COUNTIF('WWD Crashes'!C:C,A79)","v":2},{"$f":"_xlfn.IFNA(VLOOKUP(A79,'Weight Based'!F:AA,22,FALSE),\"Not Ranked\")","v":0.02}]
["I-235 & 7th St/5th Ave",470,"Polk","Urban","Split",91800,9100,0.3,{"$f":"_xlfn.IFNA(MATCH(A80,'Weight Based'!F:F,0)-1,\"Not Included in Ranking\")","v":48},{"$f":"COUNTIF('WWD Crashes'!C:C,A80)","v":2},{"$f":"_xlfn.IFNA(VLOOKUP(A80,'Weight Based'!F:AA,22,FALSE),\"Not Ranked\")","v":1.5}]
["I-380 & Blairs Ferry Rd",526,"Linn","Urban","Split",51900,21100,0.1,{"$f":"_xlfn.IFNA(MATCH(A81,'Weight Based'!F:F,0)-1,\"Not Included in Ranking\")","v":53},{"$f":"COUNTIF('WWD Crashes'!C:C,A81)","v":1},{"$f":"_xlfn.IFNA(VLOOKUP(A81,'Weight Based'!F:AA,22,FALSE),\"Not Ranked\")","v":1}]
["US-30 & 16th Ave - No Longer Exists",528,"Linn","Urban","Unique",0,0,2.4,{"$f":"_xlfn.IFNA(MATCH(A82,'Weight Based'!F:F,0)-1,\"Not Included in Ranking\")","v":"Not Included in Ranking"},{"$f":"COUNTIF('WWD Crashes'!C:C,A82)","v":0},{"$f":"_xlfn.IFNA(VLOOKUP(A82,'Weight Based'!F:AA,22,FALSE),\"Not Ranked\")","v":"Not Ranked"}]
["IA-141 & IA-415",397,"Polk","Rural","Unique",20000,8900,2.9,{"$f":"_xlfn.IFNA(MATCH(A83,'Weight Based'!F:F,0)-1,\"Not Included in Ranking\")","v":49},{"$f":"COUNTIF('WWD Crashes'!C:C,A83)","v":1},{"$f":"_xlfn.IFNA(VLOOKUP(A83,'Weight Based'!F:AA,22,FALSE),\"Not Ranked\")","v":1}]
["I-380 & Wright Brothers Blvd",183,"Linn","Rural","See Intersections Tab",59800,6800,0.2,{"$f":"_xlfn.IFNA(MATCH(A84,'Weight Based'!F:F,0)-1,\"Not Included in Ranking\")","v":"Not Included in Ranking"},{"$f":"COUNTIF('WWD Crashes'!C:C,A84)","v":1},{"$f":"_xlfn.IFNA(VLOOKUP(A84,'Weight Based'!F:AA,22,FALSE),\"Not Ranked\")","v":"Not Ranked"}]
["I-35 & University Ave",75,"Polk","Urban","Excluded Unique",121400,33100,0,{"$f":"_xlfn.IFNA(MATCH(A85,'Weight Based'!F:F,0)-1,\"Not Included in Ranking\")","v":133},{"$f":"COUNTIF('WWD Crashes'!C:C,A85)","v":0},{"$f":"_xlfn.IFNA(VLOOKUP(A85,'Weight Based'!F:AA,22,FALSE),\"Not Ranked\")","v":0}]
["US-65 & Vandalia Rd",456,"Polk","Rural","Unique",25000,6300,1.8,{"$f":"_xlfn.IFNA(MATCH(A86,'Weight Based'!F:F,0)-1,\"Not Included in Ranking\")","v":58},{"$f":"COUNTIF('WWD Crashes'!C:C,A86)","v":0},{"$f":"_xlfn.IFNA(VLOOKUP(A86,'Weight Based'!F:AA,22,FALSE),\"Not Ranked\")","v":0}]
["I-235 & 63rd St",223,"Polk","Urban","Diamond",131500,27400,0.8,{"$f":"_xlfn.IFNA(MATCH(A87,'Weight Based'!F:F,0)-1,\"Not Included in Ranking\")","v":226},{"$f":"COUNTIF('WWD Crashes'!C:C,A87)","v":0},{"$f":"_xlfn.IFNA(VLOOKUP(A87,'Weight Based'!F:AA,22,FALSE),\"Not Ranked\")","v":0}]
["I-235 & 50th St",502,"Polk","Urban","Half Diamond",104900,21000,0.1,{"$f":"_xlfn.IFNA(MATCH(A88,'Weight Based'!F:F,0)-1,\"Not Included in Ranking\")","v":134},{"$f":"COUNTIF('WWD Crashes'!C:C,A88)","v":0},{"$f":"_xlfn.IFNA(VLOOKUP(A88,'Weight Based'!F:AA,22,FALSE),\"Not Ranked\")","v":0}]
["US-30 & IA-17",326,"Boone","Rural","Diamond",15200,4900,2.7,{"$f":"_xlfn.IFNA(MATCH(A89,'Weight Based'!F:F,0)-1,\"Not Included in Ranking\")","v":91},{"$f":"COUNTIF('WWD Crashes'!C:C,A89)","v":0},{"$f":"_xlfn.IFNA(VLOOKUP(A89,'Weight Based'!F:AA,22,FALSE),\"Not Ranked\")","v":0}]
["I-80 & Jordan Creek Pkwy",174,"Dallas","Urban","Excluded Unique",84200,37300,0.1,{"$f":"_xlfn.IFNA(MATCH(A90,'Weight Based'!F:F,0)-1,\"Not Included in Ranking\")","v":192},{"$f":"COUNTIF('WWD Crashes'!C:C,A90)","v":0},{"$f":"_xlfn.IFNA(VLOOKUP(A90,'Weight Based'!F:AA,22,FALSE),\"Not Ranked\")","v":0}]
["I-235 & 22nd St",200,"Polk","Urban","Diamond",125600,26200,0.3,{"$f":"_xlfn.IFNA(MATCH(A91,'Weight Based'!F:F,0)-1,\"Not Included in Ranking\")","v":188},{"$f":"COUNTIF('WWD Crashes'!C:C,A91)","v":0},{"$f":"_xlfn.IFNA(VLOOKUP(A91,'Weight Based'!F:AA,22,FALSE),\"Not Ranked\")","v":0}]
["I-74 & KIMBERLY RD/13TH ST/MISSISSIPPI BLVD",513,"Scott","Urban","Half Diamond",59700,6800,0.4,{"$f":"_xlfn.IFNA(MATCH(A92,'Weight Based'!F:F,0)-1,\"Not Included in Ranking\")","v":219},{"$f":"COUNTIF('WWD Crashes'!C:C,A92)","v":1},{"$f":"_xlfn.IFNA(VLOOKUP(A92,'Weight Based'!F:AA,22,FALSE),\"Not Ranked\")","v":0.01}]
["I-80 & IA-21",352,"Poweshiek","Rural","Unique",28700,3430,3.5,{"$f":"_xlfn.IFNA(MATCH(A93,'Weight Based'!F:F,0)-1,\"Not Included in Ranking\")","v":16},{"$f":"COUNTIF('WWD Crashes'!C:C,A93)","v":4},{"$f":"_xlfn.IFNA(VLOOKUP(A93,'Weight Based'!F:AA,22,FALSE),\"Not Ranked\")","v":3.25}]
["US-30 & Dayton Ave",344,"Story","Urban","Diamond",32100,12000,0.2,{"$f":"_xlfn.IFNA(MATCH(A94,'Weight Based'!F:F,0)-1,\"Not Included in Ranking\")","v":59},{"$f":"COUNTIF('WWD Crashes'!C:C,A94)","v":0},{"$f":"_xlfn.IFNA(VLOOKUP(A94,'Weight Based'!F:AA,22,FALSE),\"Not Ranked\")","v":0}]
["US 218 N & IA 116 N/4th St SW",208,"Bremer","Rural","System",20900,13100,1,{"$f":"_xlfn.IFNA(MATCH(A95,'Weight Based'!F:F,0)-1,\"Not Included in Ranking\")","v":"Not Included in Ranking"},{"$f":"COUNTIF('WWD Crashes'!C:C,A95)","v":0},{"$f":"_xlfn.IFNA(VLOOKUP(A95,'Weight Based'!F:AA,22,FALSE),\"Not Ranked\")","v":"Not Ranked"}]
["I-74 & 53rd St",523,"Scott","Urban","Excluded Unique",36600,44900,0.3,{"$f":"_xlfn.IFNA(MATCH(A96,'Weight Based'!F:F,0)-1,\"Not Included in Ranking\")","v":119},{"$f":"COUNTIF('WWD Crashes'!C:C,A96)","v":2},{"$f":"_xlfn.IFNA(VLOOKUP(A96,'Weight Based'!F:AA,22,FALSE),\"Not Ranked\")","v":0.75}]
["I-35 & IA-141",88,"Polk","Urban","Excluded Unique",92300,31100,0.1,{"$f":"_xlfn.IFNA(MATCH(A97,'Weight Based'!F:F,0)-1,\"Not Included in Ranking\")","v":191},{"$f":"COUNTIF('WWD Crashes'!C:C,A97)","v":0},{"$f":"_xlfn.IFNA(VLOOKUP(A97,'Weight Based'!F:AA,22,FALSE),\"Not Ranked\")","v":0}]
["US-61/US-151 & White St/Central Ave",361,"Dubuque","Urban","Half Diamond",35700,10200,0.2,{"$f":"_xlfn.IFNA(MATCH(A98,'Weight Based'!F:F,0)-1,\"Not Included in Ranking\")","v":242},{"$f":"COUNTIF('WWD Crashes'!C:C,A98)","v":0},{"$f":"_xlfn.IFNA(VLOOKUP(A98,'Weight Based'!F:AA,22,FALSE),\"Not Ranked\")","v":0}]
["US-218 & Broadway St/Airport Blvd",277,"Black Hawk","Urban","Excluded Unique",30800,10500,2.4,{"$f":"_xlfn.IFNA(MATCH(A99,'Weight Based'!F:F,0)-1,\"Not Included in Ranking\")","v":322},{"$f":"COUNTIF('WWD Crashes'!C:C,A99)","v":0},{"$f":"_xlfn.IFNA(VLOOKUP(A99,'Weight Based'!F:AA,22,FALSE),\"Not Ranked\")","v":0}]
["US-61/US-151 & Kerper Blvd",358,"Dubuque","Urban","Half Diamond",24600,11700,0.1,{"$f":"_xlfn.IFNA(MATCH(A100,'Weight Based'!F:F,0)-1,\"Not Included in Ranking\")","v":258},{"$f":"COUNTIF('WWD Crashes'!C:C,A100)","v":0},{"$f":"_xlfn.IFNA(VLOOKUP(A100,'Weight Based'!F:AA,22,FALSE),\"Not Ranked\")","v":0}]
["I-235 & 2nd Ave/3rd St",500,"Polk","Urban","Excluded Unique",106400,25200,0.4,{"$f":"_xlfn.IFNA(MATCH(A101,'Weight Based'!F:F,0)-1,\"Not Included in Ranking\")","v":189},{"$f":"COUNTIF('WWD Crashes'!C:C,A101)","v":0},{"$f":"_xlfn.IFNA(VLOOKUP(A101,'Weight Based'!F:AA,22,FALSE),\"Not Ranked\")","v":0}]
["I-80 & Dubuque St",428,"Johnson","Urban","Diamond",64300,24100,1.1000000000000001,{"$f":"_xlfn.IFNA(MATCH(A102,'Weight Based'!F:F,0)-1,\"Not Included in Ranking\")","v":121},{"$f":"COUNTIF('WWD Crashes'!C:C,A102)","v":0},{"$f":"_xlfn.IFNA(VLOOKUP(A102,'Weight Based'!F:AA,22,FALSE),\"Not Ranked\")","v":0}]
["I-35 & US-34",25,"Clarke","Rural","Unique",16900,9700,0.2,{"$f":"_xlfn.IFNA(MATCH(A103,'Weight Based'!F:F,0)-1,\"Not Included in Ranking\")","v":35},{"$f":"COUNTIF('WWD Crashes'!C:C,A103)","v":1},{"$f":"_xlfn.IFNA(VLOOKUP(A103,'Weight Based'!F:AA,22,FALSE),\"Not Ranked\")","v":0.5}]
["I-80 & IA-38",440,"Cedar","Rural","Unique",36200,3540,0.1,{"$f":"_xlfn.IFNA(MATCH(A104,'Weight Based'!F:F,0)-1,\"Not Included in Ranking\")","v":20},{"$f":"COUNTIF('WWD Crashes'!C:C,A104)","v":2},{"$f":"_xlfn.IFNA(VLOOKUP(A104,'Weight Based'!F:AA,22,FALSE),\"Not Ranked\")","v":0.83000000000000007}]
["I 235 W & I 235 W TO 31ST ST S",245,"Polk","Urban","Diamond",134700,15800,0.5,{"$f":"_xlfn.IFNA(MATCH(A105,'Weight Based'!F:F,0)-1,\"Not Included in Ranking\")","v":106},{"$f":"COUNTIF('WWD Crashes'!C:C,A105)","v":1},{"$f":"_xlfn.IFNA(VLOOKUP(A105,'Weight Based'!F:AA,22,FALSE),\"Not Ranked\")","v":1}]
["I- 35 E Ramp & DOUGLAS AVE",82,"Polk","Urban","Excluded Unique",101100,23700,0.4,{"$f":"_xlfn.IFNA(MATCH(A106,'Weight Based'!F:F,0)-1,\"Not Included in Ranking\")","v":190},{"$f":"COUNTIF('WWD Crashes'!C:C,A106)","v":0},{"$f":"_xlfn.IFNA(VLOOKUP(A106,'Weight Based'!F:AA,22,FALSE),\"Not Ranked\")","v":0}]
["I-235 & 42nd St",234,"Polk","Urban","Excluded Unique",134700,14000,0.2,{"$f":"_xlfn.IFNA(MATCH(A107,'Weight Based'!F:F,0)-1,\"Not Included in Ranking\")","v":201},{"$f":"COUNTIF('WWD Crashes'!C:C,A107)","v":0},{"$f":"_xlfn.IFNA(VLOOKUP(A107,'Weight Based'!F:AA,22,FALSE),\"Not Ranked\")","v":0}]
["I-74 & US-6/Spruce Hills Dr",434,"Scott","Urban","Excluded Unique",49800,33700,0.1,{"$f":"_xlfn.IFNA(MATCH(A108,'Weight Based'!F:F,0)-1,\"Not Included in Ranking\")","v":108},{"$f":"COUNTIF('WWD Crashes'!C:C,A108)","v":3},{"$f":"_xlfn.IFNA(VLOOKUP(A108,'Weight Based'!F:AA,22,FALSE),\"Not Ranked\")","v":1.45}]
["US-61 & 9th St/11th St",359,"Dubuque","Urban","Split",24700,3850,0.4,{"$f":"_xlfn.IFNA(MATCH(A109,'Weight Based'!F:F,0)-1,\"Not Included in Ranking\")","v":68},{"$f":"COUNTIF('WWD Crashes'!C:C,A109)","v":2},{"$f":"_xlfn.IFNA(VLOOKUP(A109,'Weight Based'!F:AA,22,FALSE),\"Not Ranked\")","v":2}]
["IA 141 E & IA 17 N",396,"Polk","Rural","Excluded Unique",18000,6500,1.3,{"$f":"_xlfn.IFNA(MATCH(A110,'Weight Based'!F:F,0)-1,\"Not Included in Ranking\")","v":329},{"$f":"COUNTIF('WWD Crashes'!C:C,A110)","v":0},{"$f":"_xlfn.IFNA(VLOOKUP(A110,'Weight Based'!F:AA,22,FALSE),\"Not Ranked\")","v":0}]
["US-151 & IA-1",398,"Jones","Rural","Unique",13800,4280,3.6,{"$f":"_xlfn.IFNA(MATCH(A111,'Weight Based'!F:F,0)-1,\"Not Included in Ranking\")","v":54},{"$f":"COUNTIF('WWD Crashes'!C:C,A111)","v":1},{"$f":"_xlfn.IFNA(VLOOKUP(A111,'Weight Based'!F:AA,22,FALSE),\"Not Ranked\")","v":1}]
["I- 235 E Ramp & E EUCLID AVE / US 6",432,"Polk","Urban","Excluded Unique",77300,23900,0.2,{"$f":"_xlfn.IFNA(MATCH(A112,'Weight Based'!F:F,0)-1,\"Not Included in Ranking\")","v":131},{"$f":"COUNTIF('WWD Crashes'!C:C,A112)","v":0},{"$f":"_xlfn.IFNA(VLOOKUP(A112,'Weight Based'!F:AA,22,FALSE),\"Not Ranked\")","v":0}]
["I-380 & Boyson Rd",233,"Linn","Urban","Diamond",48300,19800,0.1,{"$f":"_xlfn.IFNA(MATCH(A113,'Weight Based'!F:F,0)-1,\"Not Included in Ranking\")","v":81},{"$f":"COUNTIF('WWD Crashes'!C:C,A113)","v":1},{"$f":"_xlfn.IFNA(VLOOKUP(A113,'Weight Based'!F:AA,22,FALSE),\"Not Ranked\")","v":1}]
["US 63 N & IA 163 W",297,"Mahaska","Rural","Split",12500,6700,2.2000000000000002,{"$f":"_xlfn.IFNA(MATCH(A114,'Weight Based'!F:F,0)-1,\"Not Included in Ranking\")","v":183},{"$f":"COUNTIF('WWD Crashes'!C:C,A114)","v":0},{"$f":"_xlfn.IFNA(VLOOKUP(A114,'Weight Based'!F:AA,22,FALSE),\"Not Ranked\")","v":0}]
["US-30 & US-63",375,"Tama","Rural","Unique",9100,7300,0.2,{"$f":"_xlfn.IFNA(MATCH(A115,'Weight Based'!F:F,0)-1,\"Not Included in Ranking\")","v":36},{"$f":"COUNTIF('WWD Crashes'!C:C,A115)","v":1},{"$f":"_xlfn.IFNA(VLOOKUP(A115,'Weight Based'!F:AA,22,FALSE),\"Not Ranked\")","v":1}]
["I-35 & IA-175/330th St",126,"Hamilton","Rural","Diamond",26000,2940,0.5,{"$f":"_xlfn.IFNA(MATCH(A116,'Weight Based'!F:F,0)-1,\"Not Included in Ranking\")","v":247},{"$f":"COUNTIF('WWD Crashes'!C:C,A116)","v":0},{"$f":"_xlfn.IFNA(VLOOKUP(A116,'Weight Based'!F:AA,22,FALSE),\"Not Ranked\")","v":0}]
["US-34 & Mount Pleasant St",235,"Des Moines","Rural","Unique",9600,3760,1.2,{"$f":"_xlfn.IFNA(MATCH(A117,'Weight Based'!F:F,0)-1,\"Not Included in Ranking\")","v":40},{"$f":"COUNTIF('WWD Crashes'!C:C,A117)","v":2},{"$f":"_xlfn.IFNA(VLOOKUP(A117,'Weight Based'!F:AA,22,FALSE),\"Not Ranked\")","v":1.75}]
["I-80 & IA-1",438,"Johnson","Urban","Diamond",55900,20400,1.4,{"$f":"_xlfn.IFNA(MATCH(A118,'Weight Based'!F:F,0)-1,\"Not Included in Ranking\")","v":122},{"$f":"COUNTIF('WWD Crashes'!C:C,A118)","v":0},{"$f":"_xlfn.IFNA(VLOOKUP(A118,'Weight Based'!F:AA,22,FALSE),\"Not Ranked\")","v":0}]
["US-61 & Main St",365,"Jackson","Rural","Unique",8200,4900,0.2,{"$f":"_xlfn.IFNA(MATCH(A119,'Weight Based'!F:F,0)-1,\"Not Included in Ranking\")","v":32},{"$f":"COUNTIF('WWD Crashes'!C:C,A119)","v":3},{"$f":"_xlfn.IFNA(VLOOKUP(A119,'Weight Based'!F:AA,22,FALSE),\"Not Ranked\")","v":2.5}]
["US-20 & Quail Ave/Nelson Ave",226,"Webster","Rural","Unique",9000,7000,2.5,{"$f":"_xlfn.IFNA(MATCH(A120,'Weight Based'!F:F,0)-1,\"Not Included in Ranking\")","v":96},{"$f":"COUNTIF('WWD Crashes'!C:C,A120)","v":0},{"$f":"_xlfn.IFNA(VLOOKUP(A120,'Weight Based'!F:AA,22,FALSE),\"Not Ranked\")","v":0}]
["US-65 & IA-163",404,"Polk","Urban","Diamond",29000,26800,0.3,{"$f":"_xlfn.IFNA(MATCH(A121,'Weight Based'!F:F,0)-1,\"Not Included in Ranking\")","v":177},{"$f":"COUNTIF('WWD Crashes'!C:C,A121)","v":0},{"$f":"_xlfn.IFNA(VLOOKUP(A121,'Weight Based'!F:AA,22,FALSE),\"Not Ranked\")","v":0}]
["US-34 & Grand Ave/Jewel Ave",251,"Henry","Rural","Unique",10400,6100,0.9,{"$f":"_xlfn.IFNA(MATCH(A122,'Weight Based'!F:F,0)-1,\"Not Included in Ranking\")","v":78},{"$f":"COUNTIF('WWD Crashes'!C:C,A122)","v":0},{"$f":"_xlfn.IFNA(VLOOKUP(A122,'Weight Based'!F:AA,22,FALSE),\"Not Ranked\")","v":0}]
["I-235 & Valley West Drive",194,"Polk","Urban","Excluded Unique",116100,15600,0.5,{"$f":"_xlfn.IFNA(MATCH(A123,'Weight Based'!F:F,0)-1,\"Not Included in Ranking\")","v":202},{"$f":"COUNTIF('WWD Crashes'!C:C,A123)","v":0},{"$f":"_xlfn.IFNA(VLOOKUP(A123,'Weight Based'!F:AA,22,FALSE),\"Not Ranked\")","v":0}]
["US 63 NW RAMP A & IOWA 137",289,"Wapello","Rural","Excluded Unique",10800,5600,0.5,{"$f":"_xlfn.IFNA(MATCH(A124,'Weight Based'!F:F,0)-1,\"Not Included in Ranking\")","v":300},{"$f":"COUNTIF('WWD Crashes'!C:C,A124)","v":0},{"$f":"_xlfn.IFNA(VLOOKUP(A124,'Weight Based'!F:AA,22,FALSE),\"Not Ranked\")","v":0}]
["US-59 & US-30 (South Junction)",524,"Crawford","Rural","Excluded Unique",9000,5400,0.7,{"$f":"_xlfn.IFNA(MATCH(A125,'Weight Based'!F:F,0)-1,\"Not Included in Ranking\")","v":309},{"$f":"COUNTIF('WWD Crashes'!C:C,A125)","v":0},{"$f":"_xlfn.IFNA(VLOOKUP(A125,'Weight Based'!F:AA,22,FALSE),\"Not Ranked\")","v":0}]
["US-218 & IA-92",316,"Washington","Rural","Unique",11800,4480,6.7,{"$f":"_xlfn.IFNA(MATCH(A126,'Weight Based'!F:F,0)-1,\"Not Included in Ranking\")","v":44},{"$f":"COUNTIF('WWD Crashes'!C:C,A126)","v":1},{"$f":"_xlfn.IFNA(VLOOKUP(A126,'Weight Based'!F:AA,22,FALSE),\"Not Ranked\")","v":0.99}]
["I-80 & CR-G30/White Pole Rd/Cedar Ave",90,"Adair","Rural","Unique",22600,1630,0.7,{"$f":"_xlfn.IFNA(MATCH(A127,'Weight Based'!F:F,0)-1,\"Not Included in Ranking\")","v":72},{"$f":"COUNTIF('WWD Crashes'!C:C,A127)","v":0},{"$f":"_xlfn.IFNA(VLOOKUP(A127,'Weight Based'!F:AA,22,FALSE),\"Not Ranked\")","v":0}]
["I-29 & Desoto Ave",149,"Pottawattamie","Rural","Unique",22800,1130,3.9,{"$f":"_xlfn.IFNA(MATCH(A128,'Weight Based'!F:F,0)-1,\"Not Included in Ranking\")","v":100},{"$f":"COUNTIF('WWD Crashes'!C:C,A128)","v":0},{"$f":"_xlfn.IFNA(VLOOKUP(A128,'Weight Based'!F:AA,22,FALSE),\"Not Ranked\")","v":0}]
["I 235 W & I 235 W TO 56TH ST",227,"Polk","Urban","Half Diamond",139000,8200,0.8,{"$f":"_xlfn.IFNA(MATCH(A129,'Weight Based'!F:F,0)-1,\"Not Included in Ranking\")","v":244},{"$f":"COUNTIF('WWD Crashes'!C:C,A129)","v":0},{"$f":"_xlfn.IFNA(VLOOKUP(A129,'Weight Based'!F:AA,22,FALSE),\"Not Ranked\")","v":0}]
["US-34 & Locust St",164,"Mills","Rural","Unique",9000,4080,0.6,{"$f":"_xlfn.IFNA(MATCH(A130,'Weight Based'!F:F,0)-1,\"Not Included in Ranking\")","v":39},{"$f":"COUNTIF('WWD Crashes'!C:C,A130)","v":1},{"$f":"_xlfn.IFNA(VLOOKUP(A130,'Weight Based'!F:AA,22,FALSE),\"Not Ranked\")","v":0.99}]
["I-80 & CR-P20/Pinewood Ave",117,"Adair","Rural","Unique",24700,200,4.5,{"$f":"_xlfn.IFNA(MATCH(A131,'Weight Based'!F:F,0)-1,\"Not Included in Ranking\")","v":65},{"$f":"COUNTIF('WWD Crashes'!C:C,A131)","v":1},{"$f":"_xlfn.IFNA(VLOOKUP(A131,'Weight Based'!F:AA,22,FALSE),\"Not Ranked\")","v":0.5}]
["US-20 & Jefferson Rd",328,"Delaware","Rural","Unique",9100,4060,1,{"$f":"_xlfn.IFNA(MATCH(A132,'Weight Based'!F:F,0)-1,\"Not Included in Ranking\")","v":85},{"$f":"COUNTIF('WWD Crashes'!C:C,A132)","v":0},{"$f":"_xlfn.IFNA(VLOOKUP(A132,'Weight Based'!F:AA,22,FALSE),\"Not Ranked\")","v":0}]
["IA-163 & IA-117",320,"Jasper","Rural","Unique",13600,2790,0.3,{"$f":"_xlfn.IFNA(MATCH(A133,'Weight Based'!F:F,0)-1,\"Not Included in Ranking\")","v":73},{"$f":"COUNTIF('WWD Crashes'!C:C,A133)","v":0},{"$f":"_xlfn.IFNA(VLOOKUP(A133,'Weight Based'!F:AA,22,FALSE),\"Not Ranked\")","v":0}]
["US-34 & BUS-34 / Middletown",237,"Des Moines","Rural","Unique",7700,2720,3.5,{"$f":"_xlfn.IFNA(MATCH(A134,'Weight Based'!F:F,0)-1,\"Not Included in Ranking\")","v":69},{"$f":"COUNTIF('WWD Crashes'!C:C,A134)","v":1},{"$f":"_xlfn.IFNA(VLOOKUP(A134,'Weight Based'!F:AA,22,FALSE),\"Not Ranked\")","v":0.5}]
["US-30 & BUS-30/Lincoln Hwy",540,"Tama","Rural","Unique",11800,3160,1.7,{"$f":"_xlfn.IFNA(MATCH(A135,'Weight Based'!F:F,0)-1,\"Not Included in Ranking\")","v":84},{"$f":"COUNTIF('WWD Crashes'!C:C,A135)","v":0},{"$f":"_xlfn.IFNA(VLOOKUP(A135,'Weight Based'!F:AA,22,FALSE),\"Not Ranked\")","v":0}]
["I-35 & Clay St",30,"Clarke","Rural","Unique",16900,800,0.3,{"$f":"_xlfn.IFNA(MATCH(A136,'Weight Based'!F:F,0)-1,\"Not Included in Ranking\")","v":50},{"$f":"COUNTIF('WWD Crashes'!C:C,A136)","v":1},{"$f":"_xlfn.IFNA(VLOOKUP(A136,'Weight Based'!F:AA,22,FALSE),\"Not Ranked\")","v":0.5}]
["US- 20 N Ramp, Loop & 1ST ST/U AVENUE",250,"Grundy","Rural","Excluded Unique",14000,2370,7.1,{"$f":"_xlfn.IFNA(MATCH(A137,'Weight Based'!F:F,0)-1,\"Not Included in Ranking\")","v":395},{"$f":"COUNTIF('WWD Crashes'!C:C,A137)","v":1},{"$f":"_xlfn.IFNA(VLOOKUP(A137,'Weight Based'!F:AA,22,FALSE),\"Not Ranked\")","v":0.33}]
["I-29 & 35th St",417,"Pottawattamie","Urban","Split",22700,2180,0.3,{"$f":"_xlfn.IFNA(MATCH(A138,'Weight Based'!F:F,0)-1,\"Not Included in Ranking\")","v":137},{"$f":"COUNTIF('WWD Crashes'!C:C,A138)","v":0},{"$f":"_xlfn.IFNA(VLOOKUP(A138,'Weight Based'!F:AA,22,FALSE),\"Not Ranked\")","v":0}]
["I-35 & 1st St",148,"Polk","Urban","Diamond",67200,12400,0.3,{"$f":"_xlfn.IFNA(MATCH(A139,'Weight Based'!F:F,0)-1,\"Not Included in Ranking\")","v":98},{"$f":"COUNTIF('WWD Crashes'!C:C,A139)","v":1},{"$f":"_xlfn.IFNA(VLOOKUP(A139,'Weight Based'!F:AA,22,FALSE),\"Not Ranked\")","v":0.5}]
["US-151 SW RAMP/LOOP & IA-136",355,"Dubuque","Rural","Excluded Unique",9400,2780,1.4,{"$f":"_xlfn.IFNA(MATCH(A140,'Weight Based'!F:F,0)-1,\"Not Included in Ranking\")","v":354},{"$f":"COUNTIF('WWD Crashes'!C:C,A140)","v":0},{"$f":"_xlfn.IFNA(VLOOKUP(A140,'Weight Based'!F:AA,22,FALSE),\"Not Ranked\")","v":0}]
["US-218 & IA-14",173,"Floyd","Rural","Unique",8300,2630,1.9,{"$f":"_xlfn.IFNA(MATCH(A141,'Weight Based'!F:F,0)-1,\"Not Included in Ranking\")","v":88},{"$f":"COUNTIF('WWD Crashes'!C:C,A141)","v":0},{"$f":"_xlfn.IFNA(VLOOKUP(A141,'Weight Based'!F:AA,22,FALSE),\"Not Ranked\")","v":0}]
["US-20 & IA-38",329,"Delaware","Rural","Unique",9000,2320,0.2,{"$f":"_xlfn.IFNA(MATCH(A142,'Weight Based'!F:F,0)-1,\"Not Included in Ranking\")","v":77},{"$f":"COUNTIF('WWD Crashes'!C:C,A142)","v":0},{"$f":"_xlfn.IFNA(VLOOKUP(A142,'Weight Based'!F:AA,22,FALSE),\"Not Ranked\")","v":0}]
["I 80 E & I 80 E TO 60TH ST, N",179,"Dallas","Urban","Half Diamond",84200,19900,0.6,{"$f":"_xlfn.IFNA(MATCH(A143,'Weight Based'!F:F,0)-1,\"Not Included in Ranking\")","v":194},{"$f":"COUNTIF('WWD Crashes'!C:C,A143)","v":0},{"$f":"_xlfn.IFNA(VLOOKUP(A143,'Weight Based'!F:AA,22,FALSE),\"Not Ranked\")","v":0}]
["I-74 SE RAMP & MIDDLE RD",427,"Scott","Urban","Diamond",59700,24000,0.1,{"$f":"_xlfn.IFNA(MATCH(A144,'Weight Based'!F:F,0)-1,\"Not Included in Ranking\")","v":118},{"$f":"COUNTIF('WWD Crashes'!C:C,A144)","v":2},{"$f":"_xlfn.IFNA(VLOOKUP(A144,'Weight Based'!F:AA,22,FALSE),\"Not Ranked\")","v":0.54}]
["US-63 & 145th Ave",283,"Wapello","Rural","Unique",8200,1400,3.2,{"$f":"_xlfn.IFNA(MATCH(A145,'Weight Based'!F:F,0)-1,\"Not Included in Ranking\")","v":109},{"$f":"COUNTIF('WWD Crashes'!C:C,A145)","v":0},{"$f":"_xlfn.IFNA(VLOOKUP(A145,'Weight Based'!F:AA,22,FALSE),\"Not Ranked\")","v":0}]
["US-63 & US-18/IA-346",236,"Chickasaw","Rural","Unique",5300,2110,5.7,{"$f":"_xlfn.IFNA(MATCH(A146,'Weight Based'!F:F,0)-1,\"Not Included in Ranking\")","v":63},{"$f":"COUNTIF('WWD Crashes'!C:C,A146)","v":1},{"$f":"_xlfn.IFNA(VLOOKUP(A146,'Weight Based'!F:AA,22,FALSE),\"Not Ranked\")","v":1}]
["US-151 & IA-38",356,"Jones","Rural","Diamond",8400,2690,0.7,{"$f":"_xlfn.IFNA(MATCH(A147,'Weight Based'!F:F,0)-1,\"Not Included in Ranking\")","v":115},{"$f":"COUNTIF('WWD Crashes'!C:C,A147)","v":1},{"$f":"_xlfn.IFNA(VLOOKUP(A147,'Weight Based'!F:AA,22,FALSE),\"Not Ranked\")","v":0.33}]
["I-80 & Hubbell Ave",272,"Polk","Urban","Excluded Unique",42800,13700,0.2,{"$f":"_xlfn.IFNA(MATCH(A148,'Weight Based'!F:F,0)-1,\"Not Included in Ranking\")","v":82},{"$f":"COUNTIF('WWD Crashes'!C:C,A148)","v":3},{"$f":"_xlfn.IFNA(VLOOKUP(A148,'Weight Based'!F:AA,22,FALSE),\"Not Ranked\")","v":1.25}]
["US-34 & US-71",170,"Montgomery","Rural","Unique",2680,2610,3.2,{"$f":"_xlfn.IFNA(MATCH(A149,'Weight Based'!F:F,0)-1,\"Not Included in Ranking\")","v":104},{"$f":"COUNTIF('WWD Crashes'!C:C,A149)","v":0},{"$f":"_xlfn.IFNA(VLOOKUP(A149,'Weight Based'!F:AA,22,FALSE),\"Not Ranked\")","v":0}]
["IA-60 & 170th St/A22",115,"Osceola","Rural","Unique",3440,2280,1.6,{"$f":"_xlfn.IFNA(MATCH(A150,'Weight Based'!F:F,0)-1,\"Not Included in Ranking\")","v":95},{"$f":"COUNTIF('WWD Crashes'!C:C,A150)","v":0},{"$f":"_xlfn.IFNA(VLOOKUP(A150,'Weight Based'!F:AA,22,FALSE),\"Not Ranked\")","v":0}]
["US-30 & Edgewood Rd",384,"Linn","Urban","Excluded Unique",31500,10900,0.1,{"$f":"_xlfn.IFNA(MATCH(A151,'Weight Based'!F:F,0)-1,\"Not Included in Ranking\")","v":47},{"$f":"COUNTIF('WWD Crashes'!C:C,A151)","v":2},{"$f":"_xlfn.IFNA(VLOOKUP(A151,'Weight Based'!F:AA,22,FALSE),\"Not Ranked\")","v":0.75}]
["I-680 & CR-L34",15,"Pottawattamie","Rural","Unique",6600,800,8.1,{"$f":"_xlfn.IFNA(MATCH(A152,'Weight Based'!F:F,0)-1,\"Not Included in Ranking\")","v":87},{"$f":"COUNTIF('WWD Crashes'!C:C,A152)","v":1},{"$f":"_xlfn.IFNA(VLOOKUP(A152,'Weight Based'!F:AA,22,FALSE),\"Not Ranked\")","v":0.25}]
["IA-100 & Edgewood Rd",529,"Linn","Urban","Excluded Unique",23900,33500,0,{"$f":"_xlfn.IFNA(MATCH(A153,'Weight Based'!F:F,0)-1,\"Not Included in Ranking\")","v":60},{"$f":"COUNTIF('WWD Crashes'!C:C,A153)","v":0},{"$f":"_xlfn.IFNA(VLOOKUP(A153,'Weight Based'!F:AA,22,FALSE),\"Not Ranked\")","v":0}]
["IA-60 & 2nd Ave",118,"Osceola","Rural","Unique",4480,1180,1.1000000000000001,{"$f":"_xlfn.IFNA(MATCH(A154,'Weight Based'!F:F,0)-1,\"Not Included in Ranking\")","v":99},{"$f":"COUNTIF('WWD Crashes'!C:C,A154)","v":0},{"$f":"_xlfn.IFNA(VLOOKUP(A154,'Weight Based'!F:AA,22,FALSE),\"Not Ranked\")","v":0}]
["IA-60 & 470th St",121,"Sioux","Rural","Unique",4660,480,2,{"$f":"_xlfn.IFNA(MATCH(A155,'Weight Based'!F:F,0)-1,\"Not Included in Ranking\")","v":102},{"$f":"COUNTIF('WWD Crashes'!C:C,A155)","v":0},{"$f":"_xlfn.IFNA(VLOOKUP(A155,'Weight Based'!F:AA,22,FALSE),\"Not Ranked\")","v":0}]
["I-29 & 25th St",167,"Pottawattamie","Urban","Diamond",19700,8000,0.1,{"$f":"_xlfn.IFNA(MATCH(A156,'Weight Based'!F:F,0)-1,\"Not Included in Ranking\")","v":148},{"$f":"COUNTIF('WWD Crashes'!C:C,A156)","v":1},{"$f":"_xlfn.IFNA(VLOOKUP(A156,'Weight Based'!F:AA,22,FALSE),\"Not Ranked\")","v":0.2}]
["I-235 & E 6th St/Pennsylvania Ave",472,"Polk","Urban","Excluded Unique",106400,10600,0.3,{"$f":"_xlfn.IFNA(MATCH(A157,'Weight Based'!F:F,0)-1,\"Not Included in Ranking\")","v":203},{"$f":"COUNTIF('WWD Crashes'!C:C,A157)","v":0},{"$f":"_xlfn.IFNA(VLOOKUP(A157,'Weight Based'!F:AA,22,FALSE),\"Not Ranked\")","v":0}]
["I-29 & Wesley Pkwy & US-77",479,"Woodbury","Urban","Excluded Unique",36800,28400,0.2,{"$f":"_xlfn.IFNA(MATCH(A158,'Weight Based'!F:F,0)-1,\"Not Included in Ranking\")","v":94},{"$f":"COUNTIF('WWD Crashes'!C:C,A158)","v":3},{"$f":"_xlfn.IFNA(VLOOKUP(A158,'Weight Based'!F:AA,22,FALSE),\"Not Ranked\")","v":3}]
["US-218 & IA-1",291,"Johnson","Urban","Diamond",30400,23700,0.3,{"$f":"_xlfn.IFNA(MATCH(A159,'Weight Based'!F:F,0)-1,\"Not Included in Ranking\")","v":212},{"$f":"COUNTIF('WWD Crashes'!C:C,A159)","v":0},{"$f":"_xlfn.IFNA(VLOOKUP(A159,'Weight Based'!F:AA,22,FALSE),\"Not Ranked\")","v":0}]
["I-29 & 9th Ave",418,"Pottawattamie","Urban","Diamond",39100,8100,0.4,{"$f":"_xlfn.IFNA(MATCH(A160,'Weight Based'!F:F,0)-1,\"Not Included in Ranking\")","v":103},{"$f":"COUNTIF('WWD Crashes'!C:C,A160)","v":2},{"$f":"_xlfn.IFNA(VLOOKUP(A160,'Weight Based'!F:AA,22,FALSE),\"Not Ranked\")","v":1.79}]
["I- 35 E  Ramp & E 13TH ST",131,"Story","Urban","Diamond",34500,13600,0.4,{"$f":"_xlfn.IFNA(MATCH(A161,'Weight Based'!F:F,0)-1,\"Not Included in Ranking\")","v":125},{"$f":"COUNTIF('WWD Crashes'!C:C,A161)","v":0},{"$f":"_xlfn.IFNA(VLOOKUP(A161,'Weight Based'!F:AA,22,FALSE),\"Not Ranked\")","v":0}]
["I-380 NW RAMP & H AVE NE",225,"Linn","Urban","Diamond",97700,9000,0.8,{"$f":"_xlfn.IFNA(MATCH(A162,'Weight Based'!F:F,0)-1,\"Not Included in Ranking\")","v":165},{"$f":"COUNTIF('WWD Crashes'!C:C,A162)","v":1},{"$f":"_xlfn.IFNA(VLOOKUP(A162,'Weight Based'!F:AA,22,FALSE),\"Not Ranked\")","v":0.25}]
["I-280 & Locust St",433,"Scott","Rural","Diamond",24400,8800,0.1,{"$f":"_xlfn.IFNA(MATCH(A163,'Weight Based'!F:F,0)-1,\"Not Included in Ranking\")","v":111},{"$f":"COUNTIF('WWD Crashes'!C:C,A163)","v":1},{"$f":"_xlfn.IFNA(VLOOKUP(A163,'Weight Based'!F:AA,22,FALSE),\"Not Ranked\")","v":0.25}]
["I-80 & 24th St",51,"Pottawattamie","Urban","Diamond",87000,8600,0.1,{"$f":"_xlfn.IFNA(MATCH(A164,'Weight Based'!F:F,0)-1,\"Not Included in Ranking\")","v":107},{"$f":"COUNTIF('WWD Crashes'!C:C,A164)","v":1},{"$f":"_xlfn.IFNA(VLOOKUP(A164,'Weight Based'!F:AA,22,FALSE),\"Not Ranked\")","v":1}]
["US-218 & Cedar Wapsi Rd","Interchange without ID","Black Hawk","Rural","Diamond",23900,3370,3.7,{"$f":"_xlfn.IFNA(MATCH(A165,'Weight Based'!F:F,0)-1,\"Not Included in Ranking\")","v":229},{"$f":"COUNTIF('WWD Crashes'!C:C,A165)","v":3},{"$f":"_xlfn.IFNA(VLOOKUP(A165,'Weight Based'!F:AA,22,FALSE),\"Not Ranked\")","v":1.24}]
["I-74 & Grant St",442,"Scott","Urban","Excluded Unique",67000,15000,0.3,{"$f":"_xlfn.IFNA(MATCH(A166,'Weight Based'!F:F,0)-1,\"Not Included in Ranking\")","v":208},{"$f":"COUNTIF('WWD Crashes'!C:C,A166)","v":0},{"$f":"_xlfn.IFNA(VLOOKUP(A166,'Weight Based'!F:AA,22,FALSE),\"Not Ranked\")","v":0}]
["I-80 & Madison Ave",56,"Pottawattamie","Urban","Diamond",43000,9300,0.1,{"$f":"_xlfn.IFNA(MATCH(A167,'Weight Based'!F:F,0)-1,\"Not Included in Ranking\")","v":75},{"$f":"COUNTIF('WWD Crashes'!C:C,A167)","v":2},{"$f":"_xlfn.IFNA(VLOOKUP(A167,'Weight Based'!F:AA,22,FALSE),\"Not Ranked\")","v":1.5}]
["US-20 & Lakeport St",86,"Woodbury","Urban","Diamond",33200,20000,0.2,{"$f":"_xlfn.IFNA(MATCH(A168,'Weight Based'!F:F,0)-1,\"Not Included in Ranking\")","v":112},{"$f":"COUNTIF('WWD Crashes'!C:C,A168)","v":3},{"$f":"_xlfn.IFNA(VLOOKUP(A168,'Weight Based'!F:AA,22,FALSE),\"Not Ranked\")","v":2.25}]
["I- 235 E Ramp & GUTHRIE AVE",423,"Polk","Urban","Diamond",79300,11200,0.1,{"$f":"_xlfn.IFNA(MATCH(A169,'Weight Based'!F:F,0)-1,\"Not Included in Ranking\")","v":204},{"$f":"COUNTIF('WWD Crashes'!C:C,A169)","v":0},{"$f":"_xlfn.IFNA(VLOOKUP(A169,'Weight Based'!F:AA,22,FALSE),\"Not Ranked\")","v":0}]
["I 80 W & I 80 W TO US 151 S",382,"Iowa","Rural","Diamond",33500,2260,5.4,{"$f":"_xlfn.IFNA(MATCH(A170,'Weight Based'!F:F,0)-1,\"Not Included in Ranking\")","v":357},{"$f":"COUNTIF('WWD Crashes'!C:C,A170)","v":0},{"$f":"_xlfn.IFNA(VLOOKUP(A170,'Weight Based'!F:AA,22,FALSE),\"Not Ranked\")","v":0}]
["I-80 & CR-P57",142,"Dallas","Rural","Diamond",31500,3110,1.3,{"$f":"_xlfn.IFNA(MATCH(A171,'Weight Based'!F:F,0)-1,\"Not Included in Ranking\")","v":129},{"$f":"COUNTIF('WWD Crashes'!C:C,A171)","v":1},{"$f":"_xlfn.IFNA(VLOOKUP(A171,'Weight Based'!F:AA,22,FALSE),\"Not Ranked\")","v":0.25}]
["I-380 SE RAMP & 54 ST TRL",244,"Benton","Rural","Diamond",24100,4490,1.8,{"$f":"_xlfn.IFNA(MATCH(A172,'Weight Based'!F:F,0)-1,\"Not Included in Ranking\")","v":136},{"$f":"COUNTIF('WWD Crashes'!C:C,A172)","v":1},{"$f":"_xlfn.IFNA(VLOOKUP(A172,'Weight Based'!F:AA,22,FALSE),\"Not Ranked\")","v":0.25}]
["US-218 & Greenhill Rd",298,"Black Hawk","Urban","Diamond",27500,6900,1.1000000000000001,{"$f":"_xlfn.IFNA(MATCH(A173,'Weight Based'!F:F,0)-1,\"Not Included in Ranking\")","v":138},{"$f":"COUNTIF('WWD Crashes'!C:C,A173)","v":2},{"$f":"_xlfn.IFNA(VLOOKUP(A173,'Weight Based'!F:AA,22,FALSE),\"Not Ranked\")","v":2}]
["I-380 SE RAMP & IA-150",247,"Benton","Rural","Diamond",21000,4820,0,{"$f":"_xlfn.IFNA(MATCH(A174,'Weight Based'!F:F,0)-1,\"Not Included in Ranking\")","v":116},{"$f":"COUNTIF('WWD Crashes'!C:C,A174)","v":1},{"$f":"_xlfn.IFNA(VLOOKUP(A174,'Weight Based'!F:AA,22,FALSE),\"Not Ranked\")","v":0.25}]
["US-30 & 6th Ave",373,"Clinton","Rural","Diamond",11100,6300,0.9,{"$f":"_xlfn.IFNA(MATCH(A175,'Weight Based'!F:F,0)-1,\"Not Included in Ranking\")","v":113},{"$f":"COUNTIF('WWD Crashes'!C:C,A175)","v":2},{"$f":"_xlfn.IFNA(VLOOKUP(A175,'Weight Based'!F:AA,22,FALSE),\"Not Ranked\")","v":1.25}]
["I 80 & US 71",72,"Cass","Rural","Diamond",22700,2870,6.9,{"$f":"_xlfn.IFNA(MATCH(A176,'Weight Based'!F:F,0)-1,\"Not Included in Ranking\")","v":168},{"$f":"COUNTIF('WWD Crashes'!C:C,A176)","v":1},{"$f":"_xlfn.IFNA(VLOOKUP(A176,'Weight Based'!F:AA,22,FALSE),\"Not Ranked\")","v":0.25}]
["IA 5 N & IA 5 N TO IA 28 N",353,"Polk","Urban","Excluded Unique",30600,19400,1.3,{"$f":"_xlfn.IFNA(MATCH(A177,'Weight Based'!F:F,0)-1,\"Not Included in Ranking\")","v":217},{"$f":"COUNTIF('WWD Crashes'!C:C,A177)","v":0},{"$f":"_xlfn.IFNA(VLOOKUP(A177,'Weight Based'!F:AA,22,FALSE),\"Not Ranked\")","v":0}]
["I 35 N & US 18 W",48,"Cerro Gordo","Urban","Diamond",16000,22100,0.3,{"$f":"_xlfn.IFNA(MATCH(A178,'Weight Based'!F:F,0)-1,\"Not Included in Ranking\")","v":195},{"$f":"COUNTIF('WWD Crashes'!C:C,A178)","v":1},{"$f":"_xlfn.IFNA(VLOOKUP(A178,'Weight Based'!F:AA,22,FALSE),\"Not Ranked\")","v":0.25}]
["I 80W & I 80 W TO ADAIR-MADISON AVE, S",119,"Adair","Rural","Diamond",27100,320,1.8,{"$f":"_xlfn.IFNA(MATCH(A179,'Weight Based'!F:F,0)-1,\"Not Included in Ranking\")","v":152},{"$f":"COUNTIF('WWD Crashes'!C:C,A179)","v":1},{"$f":"_xlfn.IFNA(VLOOKUP(A179,'Weight Based'!F:AA,22,FALSE),\"Not Ranked\")","v":0.25}]
["I-380 NE RAMP & E SAN MARNAN DR",282,"Black Hawk","Urban","Diamond",26600,19500,0.3,{"$f":"_xlfn.IFNA(MATCH(A180,'Weight Based'!F:F,0)-1,\"Not Included in Ranking\")","v":241},{"$f":"COUNTIF('WWD Crashes'!C:C,A180)","v":0},{"$f":"_xlfn.IFNA(VLOOKUP(A180,'Weight Based'!F:AA,22,FALSE),\"Not Ranked\")","v":0}]
["I 80 W & I 80 W TO OLIVE ST, S",65,"Cass","Rural","Diamond",22400,1310,6.2,{"$f":"_xlfn.IFNA(MATCH(A181,'Weight Based'!F:F,0)-1,\"Not Included in Ranking\")","v":178},{"$f":"COUNTIF('WWD Crashes'!C:C,A181)","v":1},{"$f":"_xlfn.IFNA(VLOOKUP(A181,'Weight Based'!F:AA,22,FALSE),\"Not Ranked\")","v":0.25}]
["I-280 & US-61/RIVER DR",431,"Scott","Urban","Diamond",24400,19600,0.9,{"$f":"_xlfn.IFNA(MATCH(A182,'Weight Based'!F:F,0)-1,\"Not Included in Ranking\")","v":289},{"$f":"COUNTIF('WWD Crashes'!C:C,A182)","v":0},{"$f":"_xlfn.IFNA(VLOOKUP(A182,'Weight Based'!F:AA,22,FALSE),\"Not Ranked\")","v":0}]
["US-18 & IA-60",112,"O'Brien","Rural","Diamond",6300,4520,0.3,{"$f":"_xlfn.IFNA(MATCH(A183,'Weight Based'!F:F,0)-1,\"Not Included in Ranking\")","v":117},{"$f":"COUNTIF('WWD Crashes'!C:C,A183)","v":2},{"$f":"_xlfn.IFNA(VLOOKUP(A183,'Weight Based'!F:AA,22,FALSE),\"Not Ranked\")","v":0.75}]
["I-29 & Singing Hills Blvd",133,"Woodbury","Urban","Diamond",42000,13600,0.1,{"$f":"_xlfn.IFNA(MATCH(A184,'Weight Based'!F:F,0)-1,\"Not Included in Ranking\")","v":74},{"$f":"COUNTIF('WWD Crashes'!C:C,A184)","v":2},{"$f":"_xlfn.IFNA(VLOOKUP(A184,'Weight Based'!F:AA,22,FALSE),\"Not Ranked\")","v":1.5}]
["IA- 27 E RAMP & UNIVERSITY AVE",296,"Black Hawk","Urban","Diamond",22200,19400,0.3,{"$f":"_xlfn.IFNA(MATCH(A185,'Weight Based'!F:F,0)-1,\"Not Included in Ranking\")","v":255},{"$f":"COUNTIF('WWD Crashes'!C:C,A185)","v":0},{"$f":"_xlfn.IFNA(VLOOKUP(A185,'Weight Based'!F:AA,22,FALSE),\"Not Ranked\")","v":0}]
["I 80 W & I 80 W TO IA 149 N",381,"Iowa","Urban","Diamond",32400,7600,0.4,{"$f":"_xlfn.IFNA(MATCH(A186,'Weight Based'!F:F,0)-1,\"Not Included in Ranking\")","v":214},{"$f":"COUNTIF('WWD Crashes'!C:C,A186)","v":0},{"$f":"_xlfn.IFNA(VLOOKUP(A186,'Weight Based'!F:AA,22,FALSE),\"Not Ranked\")","v":0}]
["I-80 & NORTHWEST BLVD/IA-130",402,"Scott","Urban","Diamond",44700,13200,0.8,{"$f":"_xlfn.IFNA(MATCH(A187,'Weight Based'!F:F,0)-1,\"Not Included in Ranking\")","v":234},{"$f":"COUNTIF('WWD Crashes'!C:C,A187)","v":0},{"$f":"_xlfn.IFNA(VLOOKUP(A187,'Weight Based'!F:AA,22,FALSE),\"Not Ranked\")","v":0}]
["IA-12/GORDON DR & LEWIS BLVD",416,"Woodbury","Urban","Excluded Unique",22900,18800,0.2,{"$f":"_xlfn.IFNA(MATCH(A188,'Weight Based'!F:F,0)-1,\"Not Included in Ranking\")","v":254},{"$f":"COUNTIF('WWD Crashes'!C:C,A188)","v":0},{"$f":"_xlfn.IFNA(VLOOKUP(A188,'Weight Based'!F:AA,22,FALSE),\"Not Ranked\")","v":0}]
["US- 18 HWY/ N RAMP & MALLARD AVE",157,"Cerro Gordo","Rural","Diamond",9600,3020,2.9,{"$f":"_xlfn.IFNA(MATCH(A189,'Weight Based'!F:F,0)-1,\"Not Included in Ranking\")","v":405},{"$f":"COUNTIF('WWD Crashes'!C:C,A189)","v":0},{"$f":"_xlfn.IFNA(VLOOKUP(A189,'Weight Based'!F:AA,22,FALSE),\"Not Ranked\")","v":0}]
["US 34 N Ramps & US 61",229,"Des Moines","Urban","Excluded Unique",16500,19700,0.3,{"$f":"_xlfn.IFNA(MATCH(A190,'Weight Based'!F:F,0)-1,\"Not Included in Ranking\")","v":259},{"$f":"COUNTIF('WWD Crashes'!C:C,A190)","v":0},{"$f":"_xlfn.IFNA(VLOOKUP(A190,'Weight Based'!F:AA,22,FALSE),\"Not Ranked\")","v":0}]
["IA 141 E & IA 141 E TO 1ST ST W",400,"Polk","Urban","Diamond",30600,16000,0.2,{"$f":"_xlfn.IFNA(MATCH(A191,'Weight Based'!F:F,0)-1,\"Not Included in Ranking\")","v":240},{"$f":"COUNTIF('WWD Crashes'!C:C,A191)","v":0},{"$f":"_xlfn.IFNA(VLOOKUP(A191,'Weight Based'!F:AA,22,FALSE),\"Not Ranked\")","v":0}]
["IA-60 & McKinley Ave",106,"O'Brien","Rural","Diamond",6400,2830,1.6,{"$f":"_xlfn.IFNA(MATCH(A192,'Weight Based'!F:F,0)-1,\"Not Included in Ranking\")","v":144},{"$f":"COUNTIF('WWD Crashes'!C:C,A192)","v":2},{"$f":"_xlfn.IFNA(VLOOKUP(A192,'Weight Based'!F:AA,22,FALSE),\"Not Ranked\")","v":0.5}]
["I 80 E & NE 72ND ST/1ST AVE N",278,"Polk","Urban","Excluded Unique",45100,11000,0.4,{"$f":"_xlfn.IFNA(MATCH(A193,'Weight Based'!F:F,0)-1,\"Not Included in Ranking\")","v":147},{"$f":"COUNTIF('WWD Crashes'!C:C,A193)","v":1},{"$f":"_xlfn.IFNA(VLOOKUP(A193,'Weight Based'!F:AA,22,FALSE),\"Not Ranked\")","v":0.25}]
["US-218 SE RAMP CURV & MELROSE AVE",286,"Johnson","Urban","Diamond",34000,14600,1.1000000000000001,{"$f":"_xlfn.IFNA(MATCH(A194,'Weight Based'!F:F,0)-1,\"Not Included in Ranking\")","v":281},{"$f":"COUNTIF('WWD Crashes'!C:C,A194)","v":0},{"$f":"_xlfn.IFNA(VLOOKUP(A194,'Weight Based'!F:AA,22,FALSE),\"Not Ranked\")","v":0}]
["US-61 NW RAMP & LECLAIRE RD",389,"Scott","Urban","Diamond",33200,14800,0.2,{"$f":"_xlfn.IFNA(MATCH(A195,'Weight Based'!F:F,0)-1,\"Not Included in Ranking\")","v":239},{"$f":"COUNTIF('WWD Crashes'!C:C,A195)","v":0},{"$f":"_xlfn.IFNA(VLOOKUP(A195,'Weight Based'!F:AA,22,FALSE),\"Not Ranked\")","v":0}]
["I-29 & CR-E60",61,"Monona","Rural","Diamond",14700,410,6.6,{"$f":"_xlfn.IFNA(MATCH(A196,'Weight Based'!F:F,0)-1,\"Not Included in Ranking\")","v":207},{"$f":"COUNTIF('WWD Crashes'!C:C,A196)","v":1},{"$f":"_xlfn.IFNA(VLOOKUP(A196,'Weight Based'!F:AA,22,FALSE),\"Not Ranked\")","v":0.25}]
["US 20 E & IA 58 N",188,"Black Hawk","Urban","Diamond",26900,15600,1.2,{"$f":"_xlfn.IFNA(MATCH(A197,'Weight Based'!F:F,0)-1,\"Not Included in Ranking\")","v":290},{"$f":"COUNTIF('WWD Crashes'!C:C,A197)","v":0},{"$f":"_xlfn.IFNA(VLOOKUP(A197,'Weight Based'!F:AA,22,FALSE),\"Not Ranked\")","v":0}]
["US-20 RAMP & GRANDVIEW AVE N",335,"Dubuque","Urban","Excluded Unique",37400,11900,0.5,{"$f":"_xlfn.IFNA(MATCH(A198,'Weight Based'!F:F,0)-1,\"Not Included in Ranking\")","v":211},{"$f":"COUNTIF('WWD Crashes'!C:C,A198)","v":0},{"$f":"_xlfn.IFNA(VLOOKUP(A198,'Weight Based'!F:AA,22,FALSE),\"Not Ranked\")","v":0}]
["US-34 & 235th St",313,"Henry","Rural","Split",7400,2010,4.3,{"$f":"_xlfn.IFNA(MATCH(A199,'Weight Based'!F:F,0)-1,\"Not Included in Ranking\")","v":120},{"$f":"COUNTIF('WWD Crashes'!C:C,A199)","v":2},{"$f":"_xlfn.IFNA(VLOOKUP(A199,'Weight Based'!F:AA,22,FALSE),\"Not Ranked\")","v":1.25}]
["US-30 NE RAMP & WILLIAMS BLVD/US-151",383,"Linn","Urban","Diamond",20400,16200,0.5,{"$f":"_xlfn.IFNA(MATCH(A200,'Weight Based'!F:F,0)-1,\"Not Included in Ranking\")","v":143},{"$f":"COUNTIF('WWD Crashes'!C:C,A200)","v":1},{"$f":"_xlfn.IFNA(VLOOKUP(A200,'Weight Based'!F:AA,22,FALSE),\"Not Ranked\")","v":0.25}]
["IA-5 & Fleur Drive/85th Ave S",379,"Warren","Urban","Excluded Unique",27500,14100,1.6,{"$f":"_xlfn.IFNA(MATCH(A201,'Weight Based'!F:F,0)-1,\"Not Included in Ranking\")","v":291},{"$f":"COUNTIF('WWD Crashes'!C:C,A201)","v":0},{"$f":"_xlfn.IFNA(VLOOKUP(A201,'Weight Based'!F:AA,22,FALSE),\"Not Ranked\")","v":0}]
["IA 60 NW  RAMP & NEST AVE",107,"O'Brien","Rural","Diamond",4010,380,1.3,{"$f":"_xlfn.IFNA(MATCH(A202,'Weight Based'!F:F,0)-1,\"Not Included in Ranking\")","v":156},{"$f":"COUNTIF('WWD Crashes'!C:C,A202)","v":2},{"$f":"_xlfn.IFNA(VLOOKUP(A202,'Weight Based'!F:AA,22,FALSE),\"Not Ranked\")","v":0.5}]
["US 30 W & US 30 W TO DAKOTA AVE N",333,"Story","Urban","Excluded Unique",24400,14200,0.2,{"$f":"_xlfn.IFNA(MATCH(A203,'Weight Based'!F:F,0)-1,\"Not Included in Ranking\")","v":257},{"$f":"COUNTIF('WWD Crashes'!C:C,A203)","v":0},{"$f":"_xlfn.IFNA(VLOOKUP(A203,'Weight Based'!F:AA,22,FALSE),\"Not Ranked\")","v":0}]
["IA-100 & Center Point Rd",452,"Linn","Urban","Half Diamond",25300,13100,0.5,{"$f":"_xlfn.IFNA(MATCH(A204,'Weight Based'!F:F,0)-1,\"Not Included in Ranking\")","v":126},{"$f":"COUNTIF('WWD Crashes'!C:C,A204)","v":1},{"$f":"_xlfn.IFNA(VLOOKUP(A204,'Weight Based'!F:AA,22,FALSE),\"Not Ranked\")","v":0.99}]
["I- 35 E  Ramp & NE 36TH ST",156,"Polk","Urban","Diamond",53700,5600,2.1,{"$f":"_xlfn.IFNA(MATCH(A205,'Weight Based'!F:F,0)-1,\"Not Included in Ranking\")","v":161},{"$f":"COUNTIF('WWD Crashes'!C:C,A205)","v":1},{"$f":"_xlfn.IFNA(VLOOKUP(A205,'Weight Based'!F:AA,22,FALSE),\"Not Ranked\")","v":0.25}]
["IA-100 & Covington Rd",null,"Linn","Urban","Diamond",9300,8400,3.4,{"$f":"_xlfn.IFNA(MATCH(A206,'Weight Based'!F:F,0)-1,\"Not Included in Ranking\")","v":327},{"$f":"COUNTIF('WWD Crashes'!C:C,A206)","v":0},{"$f":"_xlfn.IFNA(VLOOKUP(A206,'Weight Based'!F:AA,22,FALSE),\"Not Ranked\")","v":0}]
["IA-141 & IA-210",394,"Dallas","Rural","Diamond",9900,3810,0.9,{"$f":"_xlfn.IFNA(MATCH(A207,'Weight Based'!F:F,0)-1,\"Not Included in Ranking\")","v":123},{"$f":"COUNTIF('WWD Crashes'!C:C,A207)","v":4},{"$f":"_xlfn.IFNA(VLOOKUP(A207,'Weight Based'!F:AA,22,FALSE),\"Not Ranked\")","v":4}]
["US- 20 N RAMP & HAWKEYE RD/ IA 21",192,"Black Hawk","Urban","Diamond",28400,11900,0.3,{"$f":"_xlfn.IFNA(MATCH(A208,'Weight Based'!F:F,0)-1,\"Not Included in Ranking\")","v":248},{"$f":"COUNTIF('WWD Crashes'!C:C,A208)","v":0},{"$f":"_xlfn.IFNA(VLOOKUP(A208,'Weight Based'!F:AA,22,FALSE),\"Not Ranked\")","v":0}]
["US-61 NE RAMP & E 90TH ST/210 ST",399,"Scott","Urban","Excluded Unique",42200,8200,2.6,{"$f":"_xlfn.IFNA(MATCH(A209,'Weight Based'!F:F,0)-1,\"Not Included in Ranking\")","v":182},{"$f":"COUNTIF('WWD Crashes'!C:C,A209)","v":1},{"$f":"_xlfn.IFNA(VLOOKUP(A209,'Weight Based'!F:AA,22,FALSE),\"Not Ranked\")","v":0.5}]
["I-380  NE Ramp & EVANSDALE DR",193,"Black Hawk","Urban","Diamond",34900,8900,0.8,{"$f":"_xlfn.IFNA(MATCH(A210,'Weight Based'!F:F,0)-1,\"Not Included in Ranking\")","v":282},{"$f":"COUNTIF('WWD Crashes'!C:C,A210)","v":0},{"$f":"_xlfn.IFNA(VLOOKUP(A210,'Weight Based'!F:AA,22,FALSE),\"Not Ranked\")","v":0}]
["US- 20 S RAMP & ANSBOROUGH AVE / CO 7000 RD",190,"Black Hawk","Urban","Diamond",30900,9400,1.1000000000000001,{"$f":"_xlfn.IFNA(MATCH(A211,'Weight Based'!F:F,0)-1,\"Not Included in Ranking\")","v":283},{"$f":"COUNTIF('WWD Crashes'!C:C,A211)","v":0},{"$f":"_xlfn.IFNA(VLOOKUP(A211,'Weight Based'!F:AA,22,FALSE),\"Not Ranked\")","v":0}]
["US-218 SW RAMP & ANSBOROUGH AVE",322,"Black Hawk","Urban","Diamond",29200,9800,0.5,{"$f":"_xlfn.IFNA(MATCH(A212,'Weight Based'!F:F,0)-1,\"Not Included in Ranking\")","v":249},{"$f":"COUNTIF('WWD Crashes'!C:C,A212)","v":0},{"$f":"_xlfn.IFNA(VLOOKUP(A212,'Weight Based'!F:AA,22,FALSE),\"Not Ranked\")","v":0}]
["I-29 & Floyd Blvd",454,"Woodbury","Urban","Diamond",37700,7099,0.3,{"$f":"_xlfn.IFNA(MATCH(A213,'Weight Based'!F:F,0)-1,\"Not Included in Ranking\")","v":218},{"$f":"COUNTIF('WWD Crashes'!C:C,A213)","v":1},{"$f":"_xlfn.IFNA(VLOOKUP(A213,'Weight Based'!F:AA,22,FALSE),\"Not Ranked\")","v":1E-4}]
["IOWA 27 & WATERLOO RD/18TH ST",279,"Black Hawk","Urban","Diamond",21800,11000,0.2,{"$f":"_xlfn.IFNA(MATCH(A214,'Weight Based'!F:F,0)-1,\"Not Included in Ranking\")","v":260},{"$f":"COUNTIF('WWD Crashes'!C:C,A214)","v":0},{"$f":"_xlfn.IFNA(VLOOKUP(A214,'Weight Based'!F:AA,22,FALSE),\"Not Ranked\")","v":0}]
["I 29 N & IA 12 N",197,"Woodbury","Urban","Diamond",33200,7900,0.3,{"$f":"_xlfn.IFNA(MATCH(A215,'Weight Based'!F:F,0)-1,\"Not Included in Ranking\")","v":256},{"$f":"COUNTIF('WWD Crashes'!C:C,A215)","v":0},{"$f":"_xlfn.IFNA(VLOOKUP(A215,'Weight Based'!F:AA,22,FALSE),\"Not Ranked\")","v":0}]
["US 30 N Ramp & REED AVE/ IOWA 14",364,"Marshall","Urban","Diamond",10400,13300,0.3,{"$f":"_xlfn.IFNA(MATCH(A216,'Weight Based'!F:F,0)-1,\"Not Included in Ranking\")","v":172},{"$f":"COUNTIF('WWD Crashes'!C:C,A216)","v":1},{"$f":"_xlfn.IFNA(VLOOKUP(A216,'Weight Based'!F:AA,22,FALSE),\"Not Ranked\")","v":0.5}]
["I-80 SW RAMP/LOOP & MIDDLE RD",425,"Scott","Urban","Excluded Unique",34400,6400,1.7,{"$f":"_xlfn.IFNA(MATCH(A217,'Weight Based'!F:F,0)-1,\"Not Included in Ranking\")","v":139},{"$f":"COUNTIF('WWD Crashes'!C:C,A217)","v":2},{"$f":"_xlfn.IFNA(VLOOKUP(A217,'Weight Based'!F:AA,22,FALSE),\"Not Ranked\")","v":1.5}]
["US 65 & ARMY POST RD/SE 64TH AVE",403,"Polk","Urban","Excluded Unique",25000,8900,1,{"$f":"_xlfn.IFNA(MATCH(A218,'Weight Based'!F:F,0)-1,\"Not Included in Ranking\")","v":292},{"$f":"COUNTIF('WWD Crashes'!C:C,A218)","v":0},{"$f":"_xlfn.IFNA(VLOOKUP(A218,'Weight Based'!F:AA,22,FALSE),\"Not Ranked\")","v":0}]
["US 218 N & US 63 S/COMMERCIAL ST",339,"Black Hawk","Urban","Diamond",28400,7100,0.5,{"$f":"_xlfn.IFNA(MATCH(A219,'Weight Based'!F:F,0)-1,\"Not Included in Ranking\")","v":266},{"$f":"COUNTIF('WWD Crashes'!C:C,A219)","v":0},{"$f":"_xlfn.IFNA(VLOOKUP(A219,'Weight Based'!F:AA,22,FALSE),\"Not Ranked\")","v":0}]
["US-61 & IA-946/LOCUST ST",531,"Dubuque","Urban","Excluded Unique",16100,10100,0.5,{"$f":"_xlfn.IFNA(MATCH(A220,'Weight Based'!F:F,0)-1,\"Not Included in Ranking\")","v":268},{"$f":"COUNTIF('WWD Crashes'!C:C,A220)","v":0},{"$f":"_xlfn.IFNA(VLOOKUP(A220,'Weight Based'!F:AA,22,FALSE),\"Not Ranked\")","v":0}]
["US 20 & IA-58 S/Hudson Rd",255,"Black Hawk","Urban","Diamond",17000,9700,1.5,{"$f":"_xlfn.IFNA(MATCH(A221,'Weight Based'!F:F,0)-1,\"Not Included in Ranking\")","v":301},{"$f":"COUNTIF('WWD Crashes'!C:C,A221)","v":0},{"$f":"_xlfn.IFNA(VLOOKUP(A221,'Weight Based'!F:AA,22,FALSE),\"Not Ranked\")","v":0}]
["I-80 & US-6",160,"Pottawattamie","Rural","Diamond",29500,7900,1.4,{"$f":"_xlfn.IFNA(MATCH(A222,'Weight Based'!F:F,0)-1,\"Not Included in Ranking\")","v":140},{"$f":"COUNTIF('WWD Crashes'!C:C,A222)","v":4},{"$f":"_xlfn.IFNA(VLOOKUP(A222,'Weight Based'!F:AA,22,FALSE),\"Not Ranked\")","v":3.48}]
["I- 29 W & 1ST ST",80,"Woodbury","Urban","Diamond",25600,6800,0.4,{"$f":"_xlfn.IFNA(MATCH(A223,'Weight Based'!F:F,0)-1,\"Not Included in Ranking\")","v":205},{"$f":"COUNTIF('WWD Crashes'!C:C,A223)","v":1},{"$f":"_xlfn.IFNA(VLOOKUP(A223,'Weight Based'!F:AA,22,FALSE),\"Not Ranked\")","v":0.25}]
["US 20 E & MORNINGSIDE AVE E TO US 75 N",138,"Woodbury","Urban","Diamond",27300,6400,1.1000000000000001,{"$f":"_xlfn.IFNA(MATCH(A224,'Weight Based'!F:F,0)-1,\"Not Included in Ranking\")","v":311},{"$f":"COUNTIF('WWD Crashes'!C:C,A224)","v":0},{"$f":"_xlfn.IFNA(VLOOKUP(A224,'Weight Based'!F:AA,22,FALSE),\"Not Ranked\")","v":0}]
["US-151 NW RAMP & IA-64",395,"Jones","Urban","Excluded Unique",15700,9300,0.3,{"$f":"_xlfn.IFNA(MATCH(A225,'Weight Based'!F:F,0)-1,\"Not Included in Ranking\")","v":271},{"$f":"COUNTIF('WWD Crashes'!C:C,A225)","v":0},{"$f":"_xlfn.IFNA(VLOOKUP(A225,'Weight Based'!F:AA,22,FALSE),\"Not Ranked\")","v":0}]
["IOWA 415 E Ramp & NW 66TH AVE",455,"Polk","Urban","Diamond",27700,5500,1.1000000000000001,{"$f":"_xlfn.IFNA(MATCH(A226,'Weight Based'!F:F,0)-1,\"Not Included in Ranking\")","v":312},{"$f":"COUNTIF('WWD Crashes'!C:C,A226)","v":0},{"$f":"_xlfn.IFNA(VLOOKUP(A226,'Weight Based'!F:AA,22,FALSE),\"Not Ranked\")","v":0}]
["US-151 & Grandview Ave",349,"Dubuque","Urban","Diamond",19100,7500,0.7,{"$f":"_xlfn.IFNA(MATCH(A227,'Weight Based'!F:F,0)-1,\"Not Included in Ranking\")","v":149},{"$f":"COUNTIF('WWD Crashes'!C:C,A227)","v":1},{"$f":"_xlfn.IFNA(VLOOKUP(A227,'Weight Based'!F:AA,22,FALSE),\"Not Ranked\")","v":0.99}]
["US 20 E & US 75 N TO SUNNYBROOK DR ,W",135,"Woodbury","Urban","Diamond",29800,4680,0.2,{"$f":"_xlfn.IFNA(MATCH(A228,'Weight Based'!F:F,0)-1,\"Not Included in Ranking\")","v":267},{"$f":"COUNTIF('WWD Crashes'!C:C,A228)","v":0},{"$f":"_xlfn.IFNA(VLOOKUP(A228,'Weight Based'!F:AA,22,FALSE),\"Not Ranked\")","v":0}]
["US-218 NE RAMP & FLETCHER AVE",323,"Black Hawk","Urban","Diamond",28400,4350,0.5,{"$f":"_xlfn.IFNA(MATCH(A229,'Weight Based'!F:F,0)-1,\"Not Included in Ranking\")","v":275},{"$f":"COUNTIF('WWD Crashes'!C:C,A229)","v":0},{"$f":"_xlfn.IFNA(VLOOKUP(A229,'Weight Based'!F:AA,22,FALSE),\"Not Ranked\")","v":0}]
["US 34 COOK AVE & CHURCH ST",288,"Wapello","Urban","Diamond",13900,7200,0.2,{"$f":"_xlfn.IFNA(MATCH(A230,'Weight Based'!F:F,0)-1,\"Not Included in Ranking\")","v":179},{"$f":"COUNTIF('WWD Crashes'!C:C,A230)","v":2},{"$f":"_xlfn.IFNA(VLOOKUP(A230,'Weight Based'!F:AA,22,FALSE),\"Not Ranked\")","v":0.5}]
["CURRAN ST & US 34 SE RAMP",224,"Des Moines","Urban","Diamond",17900,6800,0.2,{"$f":"_xlfn.IFNA(MATCH(A231,'Weight Based'!F:F,0)-1,\"Not Included in Ranking\")","v":277},{"$f":"COUNTIF('WWD Crashes'!C:C,A231)","v":0},{"$f":"_xlfn.IFNA(VLOOKUP(A231,'Weight Based'!F:AA,22,FALSE),\"Not Ranked\")","v":0}]
["IA-149/WAPELLO ST & 2ND ST",515,"Wapello","Urban","Excluded Unique",22500,5400,0.1,{"$f":"_xlfn.IFNA(MATCH(A232,'Weight Based'!F:F,0)-1,\"Not Included in Ranking\")","v":276},{"$f":"COUNTIF('WWD Crashes'!C:C,A232)","v":0},{"$f":"_xlfn.IFNA(VLOOKUP(A232,'Weight Based'!F:AA,22,FALSE),\"Not Ranked\")","v":0}]
["US 218 E RAMP & LONE TREE RD",266,"Black Hawk","Urban","Diamond",26400,3340,1.6,{"$f":"_xlfn.IFNA(MATCH(A233,'Weight Based'!F:F,0)-1,\"Not Included in Ranking\")","v":250},{"$f":"COUNTIF('WWD Crashes'!C:C,A233)","v":1},{"$f":"_xlfn.IFNA(VLOOKUP(A233,'Weight Based'!F:AA,22,FALSE),\"Not Ranked\")","v":0.25}]
["US 34 E & US 34 E TO CENTRAL AVE N",222,"Des Moines","Urban","Diamond",17900,5600,0.4,{"$f":"_xlfn.IFNA(MATCH(A234,'Weight Based'!F:F,0)-1,\"Not Included in Ranking\")","v":287},{"$f":"COUNTIF('WWD Crashes'!C:C,A234)","v":0},{"$f":"_xlfn.IFNA(VLOOKUP(A234,'Weight Based'!F:AA,22,FALSE),\"Not Ranked\")","v":0}]
["US 218 S & IA 438 S/GRAND AVE",519,"Henry","Rural","Split",11900,4710,1.7,{"$f":"_xlfn.IFNA(MATCH(A235,'Weight Based'!F:F,0)-1,\"Not Included in Ranking\")","v":166},{"$f":"COUNTIF('WWD Crashes'!C:C,A235)","v":0},{"$f":"_xlfn.IFNA(VLOOKUP(A235,'Weight Based'!F:AA,22,FALSE),\"Not Ranked\")","v":0}]
["IOWA 5 NE  Ramp & VETERANS PKWY",340,"Polk","Urban","Diamond",31100,1500,3.1,{"$f":"_xlfn.IFNA(MATCH(A236,'Weight Based'!F:F,0)-1,\"Not Included in Ranking\")","v":361},{"$f":"COUNTIF('WWD Crashes'!C:C,A236)","v":0},{"$f":"_xlfn.IFNA(VLOOKUP(A236,'Weight Based'!F:AA,22,FALSE),\"Not Ranked\")","v":0}]
["IOWA AVE W E & IOWA AVE W W",497,"Marshall","Rural","Split",11700,3110,2.8,{"$f":"_xlfn.IFNA(MATCH(A237,'Weight Based'!F:F,0)-1,\"Not Included in Ranking\")","v":176},{"$f":"COUNTIF('WWD Crashes'!C:C,A237)","v":0},{"$f":"_xlfn.IFNA(VLOOKUP(A237,'Weight Based'!F:AA,22,FALSE),\"Not Ranked\")","v":0}]
["US 30 N Ramp & X- Ave",330,"Boone","Rural","Split",15500,1850,2,{"$f":"_xlfn.IFNA(MATCH(A238,'Weight Based'!F:F,0)-1,\"Not Included in Ranking\")","v":174},{"$f":"COUNTIF('WWD Crashes'!C:C,A238)","v":0},{"$f":"_xlfn.IFNA(VLOOKUP(A238,'Weight Based'!F:AA,22,FALSE),\"Not Ranked\")","v":0}]
["I-380 & Penn St",175,"Johnson","Rural","Diamond",51100,19700,0.2,{"$f":"_xlfn.IFNA(MATCH(A239,'Weight Based'!F:F,0)-1,\"Not Included in Ranking\")","v":97},{"$f":"COUNTIF('WWD Crashes'!C:C,A239)","v":1},{"$f":"_xlfn.IFNA(VLOOKUP(A239,'Weight Based'!F:AA,22,FALSE),\"Not Ranked\")","v":0.99}]
["IA-100 & E Ave NW",null,"Linn","Urban","Diamond",8100,1080,2.2000000000000002,{"$f":"_xlfn.IFNA(MATCH(A240,'Weight Based'!F:F,0)-1,\"Not Included in Ranking\")","v":397},{"$f":"COUNTIF('WWD Crashes'!C:C,A240)","v":0},{"$f":"_xlfn.IFNA(VLOOKUP(A240,'Weight Based'!F:AA,22,FALSE),\"Not Ranked\")","v":0}]
["US-30 NE WB RAMP A & 80TH ST SW",380,"Linn","Urban","Diamond",12400,2470,1.8,{"$f":"_xlfn.IFNA(MATCH(A241,'Weight Based'!F:F,0)-1,\"Not Included in Ranking\")","v":346},{"$f":"COUNTIF('WWD Crashes'!C:C,A241)","v":0},{"$f":"_xlfn.IFNA(VLOOKUP(A241,'Weight Based'!F:AA,22,FALSE),\"Not Ranked\")","v":0}]
["US 30 NE RAMP CURV & OAKS AVE",362,"Marshall","Rural","Split",9100,520,2.2999999999999998,{"$f":"_xlfn.IFNA(MATCH(A242,'Weight Based'!F:F,0)-1,\"Not Included in Ranking\")","v":236},{"$f":"COUNTIF('WWD Crashes'!C:C,A242)","v":0},{"$f":"_xlfn.IFNA(VLOOKUP(A242,'Weight Based'!F:AA,22,FALSE),\"Not Ranked\")","v":0}]
["US 34 E & FRANKLIN AVE N TO US 34 E",314,"Henry","Rural","Split",6000,1160,3.2,{"$f":"_xlfn.IFNA(MATCH(A243,'Weight Based'!F:F,0)-1,\"Not Included in Ranking\")","v":237},{"$f":"COUNTIF('WWD Crashes'!C:C,A243)","v":0},{"$f":"_xlfn.IFNA(VLOOKUP(A243,'Weight Based'!F:AA,22,FALSE),\"Not Ranked\")","v":0}]
["I-380 & 120th St",180,"Johnson","Rural","Diamond",57700,7000,0,{"$f":"_xlfn.IFNA(MATCH(A244,'Weight Based'!F:F,0)-1,\"Not Included in Ranking\")","v":154},{"$f":"COUNTIF('WWD Crashes'!C:C,A244)","v":0},{"$f":"_xlfn.IFNA(VLOOKUP(A244,'Weight Based'!F:AA,22,FALSE),\"Not Ranked\")","v":0}]
["US-30 & IA-330",360,"Marshall","Rural","Split",8900,11700,5,{"$f":"_xlfn.IFNA(MATCH(A245,'Weight Based'!F:F,0)-1,\"Not Included in Ranking\")","v":30},{"$f":"COUNTIF('WWD Crashes'!C:C,A245)","v":3},{"$f":"_xlfn.IFNA(VLOOKUP(A245,'Weight Based'!F:AA,22,FALSE),\"Not Ranked\")","v":2.89}]
["IA-163 & IA-92",301,"Mahaska","Rural","Diamond",10600,11000,0.6,{"$f":"_xlfn.IFNA(MATCH(A246,'Weight Based'!F:F,0)-1,\"Not Included in Ranking\")","v":150},{"$f":"COUNTIF('WWD Crashes'!C:C,A246)","v":1},{"$f":"_xlfn.IFNA(VLOOKUP(A246,'Weight Based'!F:AA,22,FALSE),\"Not Ranked\")","v":0.99}]
["I-35 & 126th Ave",153,"Polk","Rural","Diamond",45400,4630,1.8,{"$f":"_xlfn.IFNA(MATCH(A247,'Weight Based'!F:F,0)-1,\"Not Included in Ranking\")","v":142},{"$f":"COUNTIF('WWD Crashes'!C:C,A247)","v":1},{"$f":"_xlfn.IFNA(VLOOKUP(A247,'Weight Based'!F:AA,22,FALSE),\"Not Ranked\")","v":0.25}]
["I-35 & CR-G14",46,"Warren","Rural","Diamond",26700,3290,1.1000000000000001,{"$f":"_xlfn.IFNA(MATCH(A248,'Weight Based'!F:F,0)-1,\"Not Included in Ranking\")","v":127},{"$f":"COUNTIF('WWD Crashes'!C:C,A248)","v":3},{"$f":"_xlfn.IFNA(VLOOKUP(A248,'Weight Based'!F:AA,22,FALSE),\"Not Ranked\")","v":2.2400000000000002}]
["I-80 & IA-146",336,"Poweshiek","Rural","Diamond",29500,9000,0.3,{"$f":"_xlfn.IFNA(MATCH(A249,'Weight Based'!F:F,0)-1,\"Not Included in Ranking\")","v":185},{"$f":"COUNTIF('WWD Crashes'!C:C,A249)","v":0},{"$f":"_xlfn.IFNA(VLOOKUP(A249,'Weight Based'!F:AA,22,FALSE),\"Not Ranked\")","v":0}]
["I-380 & Lewis Access Rd",242,"Linn","Rural","Diamond",28100,9000,0.5,{"$f":"_xlfn.IFNA(MATCH(A250,'Weight Based'!F:F,0)-1,\"Not Included in Ranking\")","v":169},{"$f":"COUNTIF('WWD Crashes'!C:C,A250)","v":0},{"$f":"_xlfn.IFNA(VLOOKUP(A250,'Weight Based'!F:AA,22,FALSE),\"Not Ranked\")","v":0}]
["I-80 & Division St",116,"Adair","Rural","Diamond",27100,4620,0.4,{"$f":"_xlfn.IFNA(MATCH(A251,'Weight Based'!F:F,0)-1,\"Not Included in Ranking\")","v":124},{"$f":"COUNTIF('WWD Crashes'!C:C,A251)","v":2},{"$f":"_xlfn.IFNA(VLOOKUP(A251,'Weight Based'!F:AA,22,FALSE),\"Not Ranked\")","v":2}]
["I-29 & Bunge Ave",41,"Mills","Rural","Diamond",19000,5000,4.3,{"$f":"_xlfn.IFNA(MATCH(A252,'Weight Based'!F:F,0)-1,\"Not Included in Ranking\")","v":128},{"$f":"COUNTIF('WWD Crashes'!C:C,A252)","v":4},{"$f":"_xlfn.IFNA(VLOOKUP(A252,'Weight Based'!F:AA,22,FALSE),\"Not Ranked\")","v":4}]
["US-30 & US-169",324,"Boone","Rural","Excluded Unique",7500,3550,0.1,{"$f":"_xlfn.IFNA(MATCH(A253,'Weight Based'!F:F,0)-1,\"Not Included in Ranking\")","v":114},{"$f":"COUNTIF('WWD Crashes'!C:C,A253)","v":2},{"$f":"_xlfn.IFNA(VLOOKUP(A253,'Weight Based'!F:AA,22,FALSE),\"Not Ranked\")","v":1}]
["I-80 & IA-244",162,"Pottawattamie","Rural","Diamond",22100,2060,0.2,{"$f":"_xlfn.IFNA(MATCH(A254,'Weight Based'!F:F,0)-1,\"Not Included in Ranking\")","v":163},{"$f":"COUNTIF('WWD Crashes'!C:C,A254)","v":2},{"$f":"_xlfn.IFNA(VLOOKUP(A254,'Weight Based'!F:AA,22,FALSE),\"Not Ranked\")","v":1.49}]
["I-380 & County Home Rd",241,"Linn","Rural","Diamond",34400,12800,0.1,{"$f":"_xlfn.IFNA(MATCH(A255,'Weight Based'!F:F,0)-1,\"Not Included in Ranking\")","v":93},{"$f":"COUNTIF('WWD Crashes'!C:C,A255)","v":2},{"$f":"_xlfn.IFNA(VLOOKUP(A255,'Weight Based'!F:AA,22,FALSE),\"Not Ranked\")","v":2}]
["I-29 & IA-141",71,"Woodbury","Rural","Diamond",18400,3560,0.2,{"$f":"_xlfn.IFNA(MATCH(A256,'Weight Based'!F:F,0)-1,\"Not Included in Ranking\")","v":135},{"$f":"COUNTIF('WWD Crashes'!C:C,A256)","v":1},{"$f":"_xlfn.IFNA(VLOOKUP(A256,'Weight Based'!F:AA,22,FALSE),\"Not Ranked\")","v":0.99}]
["I-80 & US-63",341,"Poweshiek","Rural","Diamond",28700,3290,5.6,{"$f":"_xlfn.IFNA(MATCH(A257,'Weight Based'!F:F,0)-1,\"Not Included in Ranking\")","v":186},{"$f":"COUNTIF('WWD Crashes'!C:C,A257)","v":1},{"$f":"_xlfn.IFNA(VLOOKUP(A257,'Weight Based'!F:AA,22,FALSE),\"Not Ranked\")","v":0.5}]
["I-35 & Broad St",128,"Story","Rural","Diamond",28800,9300,0.1,{"$f":"_xlfn.IFNA(MATCH(A258,'Weight Based'!F:F,0)-1,\"Not Included in Ranking\")","v":200},{"$f":"COUNTIF('WWD Crashes'!C:C,A258)","v":0},{"$f":"_xlfn.IFNA(VLOOKUP(A258,'Weight Based'!F:AA,22,FALSE),\"Not Ranked\")","v":0}]
["US-20 & Peosta St",221,"Dubuque","Rural","Diamond",18000,8600,0,{"$f":"_xlfn.IFNA(MATCH(A259,'Weight Based'!F:F,0)-1,\"Not Included in Ranking\")","v":164},{"$f":"COUNTIF('WWD Crashes'!C:C,A259)","v":1},{"$f":"_xlfn.IFNA(VLOOKUP(A259,'Weight Based'!F:AA,22,FALSE),\"Not Ranked\")","v":0.5}]
["I-80 & Tiffin WB Rest Area",null,"Johnson","Rural","Rest Area",34400,0,0.7,{"$f":"_xlfn.IFNA(MATCH(A260,'Weight Based'!F:F,0)-1,\"Not Included in Ranking\")","v":233},{"$f":"COUNTIF('WWD Crashes'!C:C,A260)","v":0},{"$f":"_xlfn.IFNA(VLOOKUP(A260,'Weight Based'!F:AA,22,FALSE),\"Not Ranked\")","v":0}]
["I-80 NE RAMP & 60 AVE",445,"Scott","Rural","Diamond",38400,10400,1.8,{"$f":"_xlfn.IFNA(MATCH(A261,'Weight Based'!F:F,0)-1,\"Not Included in Ranking\")","v":213},{"$f":"COUNTIF('WWD Crashes'!C:C,A261)","v":0},{"$f":"_xlfn.IFNA(VLOOKUP(A261,'Weight Based'!F:AA,22,FALSE),\"Not Ranked\")","v":0}]
["US-75 & 24th St",94,"Plymouth","Rural","Diamond",12900,7700,1.8,{"$f":"_xlfn.IFNA(MATCH(A262,'Weight Based'!F:F,0)-1,\"Not Included in Ranking\")","v":180},{"$f":"COUNTIF('WWD Crashes'!C:C,A262)","v":2},{"$f":"_xlfn.IFNA(VLOOKUP(A262,'Weight Based'!F:AA,22,FALSE),\"Not Ranked\")","v":1}]
["I 80 W & I 80 W TO UTE AVE, N",165,"Dallas","Rural","Diamond",44500,7400,0.3,{"$f":"_xlfn.IFNA(MATCH(A263,'Weight Based'!F:F,0)-1,\"Not Included in Ranking\")","v":220},{"$f":"COUNTIF('WWD Crashes'!C:C,A263)","v":0},{"$f":"_xlfn.IFNA(VLOOKUP(A263,'Weight Based'!F:AA,22,FALSE),\"Not Ranked\")","v":0}]
["IA-5 & 9th St",390,"Warren","Rural","Diamond",27500,8400,1.7,{"$f":"_xlfn.IFNA(MATCH(A264,'Weight Based'!F:F,0)-1,\"Not Included in Ranking\")","v":167},{"$f":"COUNTIF('WWD Crashes'!C:C,A264)","v":1},{"$f":"_xlfn.IFNA(VLOOKUP(A264,'Weight Based'!F:AA,22,FALSE),\"Not Ranked\")","v":0.99}]
["I-35 & IA-210",152,"Story","Rural","Diamond",45300,6200,1.9,{"$f":"_xlfn.IFNA(MATCH(A265,'Weight Based'!F:F,0)-1,\"Not Included in Ranking\")","v":105},{"$f":"COUNTIF('WWD Crashes'!C:C,A265)","v":1},{"$f":"_xlfn.IFNA(VLOOKUP(A265,'Weight Based'!F:AA,22,FALSE),\"Not Ranked\")","v":0.5}]
["IA-35 East RAMP & 100TH ST",85,"Franklin","Rural","Diamond",15900,2680,3.1,{"$f":"_xlfn.IFNA(MATCH(A266,'Weight Based'!F:F,0)-1,\"Not Included in Ranking\")","v":306},{"$f":"COUNTIF('WWD Crashes'!C:C,A266)","v":0},{"$f":"_xlfn.IFNA(VLOOKUP(A266,'Weight Based'!F:AA,22,FALSE),\"Not Ranked\")","v":0}]
["I-80 & Herbert Hoover Highway",441,"Johnson","Rural","Diamond",42400,6500,0.8,{"$f":"_xlfn.IFNA(MATCH(A267,'Weight Based'!F:F,0)-1,\"Not Included in Ranking\")","v":198},{"$f":"COUNTIF('WWD Crashes'!C:C,A267)","v":1},{"$f":"_xlfn.IFNA(VLOOKUP(A267,'Weight Based'!F:AA,22,FALSE),\"Not Ranked\")","v":0.25}]
["I-80 & Downey St",426,"Cedar","Rural","Diamond",40400,5300,0.2,{"$f":"_xlfn.IFNA(MATCH(A268,'Weight Based'!F:F,0)-1,\"Not Included in Ranking\")","v":132},{"$f":"COUNTIF('WWD Crashes'!C:C,A268)","v":1},{"$f":"_xlfn.IFNA(VLOOKUP(A268,'Weight Based'!F:AA,22,FALSE),\"Not Ranked\")","v":0.75}]
["I-380 & IA-297",196,"Black Hawk","Rural","Diamond",31000,4090,1.3,{"$f":"_xlfn.IFNA(MATCH(A269,'Weight Based'!F:F,0)-1,\"Not Included in Ranking\")","v":274},{"$f":"COUNTIF('WWD Crashes'!C:C,A269)","v":0},{"$f":"_xlfn.IFNA(VLOOKUP(A269,'Weight Based'!F:AA,22,FALSE),\"Not Ranked\")","v":0}]
["I-35 & 130th St",129,"Story","Rural","Diamond",29700,4000,1.5,{"$f":"_xlfn.IFNA(MATCH(A270,'Weight Based'!F:F,0)-1,\"Not Included in Ranking\")","v":284},{"$f":"COUNTIF('WWD Crashes'!C:C,A270)","v":0},{"$f":"_xlfn.IFNA(VLOOKUP(A270,'Weight Based'!F:AA,22,FALSE),\"Not Ranked\")","v":0}]
["I- 29 NW LOOP/ US 30 EXIT & I- 29",147,"Harrison","Rural","Excluded Unique",22200,11800,1,{"$f":"_xlfn.IFNA(MATCH(A271,'Weight Based'!F:F,0)-1,\"Not Included in Ranking\")","v":295},{"$f":"COUNTIF('WWD Crashes'!C:C,A271)","v":0},{"$f":"_xlfn.IFNA(VLOOKUP(A271,'Weight Based'!F:AA,22,FALSE),\"Not Ranked\")","v":0}]
["IA-5 & 35th St",334,"Polk","Rural","Diamond",33200,2360,2.7,{"$f":"_xlfn.IFNA(MATCH(A272,'Weight Based'!F:F,0)-1,\"Not Included in Ranking\")","v":184},{"$f":"COUNTIF('WWD Crashes'!C:C,A272)","v":1},{"$f":"_xlfn.IFNA(VLOOKUP(A272,'Weight Based'!F:AA,22,FALSE),\"Not Ranked\")","v":0.99}]
["I 80 W & I 80 W TO US 169 N",155,"Dallas","Rural","Diamond",37600,7300,0,{"$f":"_xlfn.IFNA(MATCH(A273,'Weight Based'!F:F,0)-1,\"Not Included in Ranking\")","v":221},{"$f":"COUNTIF('WWD Crashes'!C:C,A273)","v":0},{"$f":"_xlfn.IFNA(VLOOKUP(A273,'Weight Based'!F:AA,22,FALSE),\"Not Ranked\")","v":0}]
["I-80 & Atalissa Rd",424,"Cedar","Rural","Diamond",35300,1660,1.9,{"$f":"_xlfn.IFNA(MATCH(A274,'Weight Based'!F:F,0)-1,\"Not Included in Ranking\")","v":297},{"$f":"COUNTIF('WWD Crashes'!C:C,A274)","v":0},{"$f":"_xlfn.IFNA(VLOOKUP(A274,'Weight Based'!F:AA,22,FALSE),\"Not Ranked\")","v":0}]
["I-80 & IA-117",287,"Jasper","Rural","Diamond",32100,6900,0.6,{"$f":"_xlfn.IFNA(MATCH(A275,'Weight Based'!F:F,0)-1,\"Not Included in Ranking\")","v":158},{"$f":"COUNTIF('WWD Crashes'!C:C,A275)","v":1},{"$f":"_xlfn.IFNA(VLOOKUP(A275,'Weight Based'!F:AA,22,FALSE),\"Not Ranked\")","v":0.5}]
["US-65 & IA-330",null,"Marshall","Rural","Diamond",9700,1710,7.1,{"$f":"_xlfn.IFNA(MATCH(A276,'Weight Based'!F:F,0)-1,\"Not Included in Ranking\")","v":333},{"$f":"COUNTIF('WWD Crashes'!C:C,A276)","v":0},{"$f":"_xlfn.IFNA(VLOOKUP(A276,'Weight Based'!F:AA,22,FALSE),\"Not Ranked\")","v":0}]
["US-61 & Blackhawk Trail Rd",392,"Scott","Rural","Diamond",36500,3570,2,{"$f":"_xlfn.IFNA(MATCH(A277,'Weight Based'!F:F,0)-1,\"Not Included in Ranking\")","v":141},{"$f":"COUNTIF('WWD Crashes'!C:C,A277)","v":1},{"$f":"_xlfn.IFNA(VLOOKUP(A277,'Weight Based'!F:AA,22,FALSE),\"Not Ranked\")","v":1}]
["US-75 & IA-3",99,"Plymouth","Rural","Diamond",7800,4510,1.4,{"$f":"_xlfn.IFNA(MATCH(A278,'Weight Based'!F:F,0)-1,\"Not Included in Ranking\")","v":181},{"$f":"COUNTIF('WWD Crashes'!C:C,A278)","v":3},{"$f":"_xlfn.IFNA(VLOOKUP(A278,'Weight Based'!F:AA,22,FALSE),\"Not Ranked\")","v":1.5}]
["US 218 N & IA 27 N TO IA 22 W",302,"Washington","Rural","Diamond",20500,9700,0.4,{"$f":"_xlfn.IFNA(MATCH(A279,'Weight Based'!F:F,0)-1,\"Not Included in Ranking\")","v":261},{"$f":"COUNTIF('WWD Crashes'!C:C,A279)","v":0},{"$f":"_xlfn.IFNA(VLOOKUP(A279,'Weight Based'!F:AA,22,FALSE),\"Not Ranked\")","v":0}]
["I 80 W & I 80 W TO NE 112TH ST S",284,"Polk","Rural","Excluded Unique",38000,5100,1.2,{"$f":"_xlfn.IFNA(MATCH(A280,'Weight Based'!F:F,0)-1,\"Not Included in Ranking\")","v":262},{"$f":"COUNTIF('WWD Crashes'!C:C,A280)","v":0},{"$f":"_xlfn.IFNA(VLOOKUP(A280,'Weight Based'!F:AA,22,FALSE),\"Not Ranked\")","v":0}]
["US-218 & Observatory Ave",300,"Johnson","Rural","Diamond",22100,3250,0.1,{"$f":"_xlfn.IFNA(MATCH(A281,'Weight Based'!F:F,0)-1,\"Not Included in Ranking\")","v":264},{"$f":"COUNTIF('WWD Crashes'!C:C,A281)","v":0},{"$f":"_xlfn.IFNA(VLOOKUP(A281,'Weight Based'!F:AA,22,FALSE),\"Not Ranked\")","v":0}]
["I-380 & Poyner Rd",258,"Black Hawk","Rural","Diamond",16700,710,2.6,{"$f":"_xlfn.IFNA(MATCH(A282,'Weight Based'!F:F,0)-1,\"Not Included in Ranking\")","v":225},{"$f":"COUNTIF('WWD Crashes'!C:C,A282)","v":1},{"$f":"_xlfn.IFNA(VLOOKUP(A282,'Weight Based'!F:AA,22,FALSE),\"Not Ranked\")","v":1}]
["I 80 W & I 80 W TO M AVE N",378,"Iowa","Rural","Excluded Unique",29300,4290,0.4,{"$f":"_xlfn.IFNA(MATCH(A283,'Weight Based'!F:F,0)-1,\"Not Included in Ranking\")","v":265},{"$f":"COUNTIF('WWD Crashes'!C:C,A283)","v":0},{"$f":"_xlfn.IFNA(VLOOKUP(A283,'Weight Based'!F:AA,22,FALSE),\"Not Ranked\")","v":0}]
["I-280 NE RAMP B & IA-22",429,"Scott","Rural","Diamond",25900,7800,1.9,{"$f":"_xlfn.IFNA(MATCH(A284,'Weight Based'!F:F,0)-1,\"Not Included in Ranking\")","v":303},{"$f":"COUNTIF('WWD Crashes'!C:C,A284)","v":0},{"$f":"_xlfn.IFNA(VLOOKUP(A284,'Weight Based'!F:AA,22,FALSE),\"Not Ranked\")","v":0}]
["US 75 S & US 75 TO OUTER",91,"Woodbury","Rural","Diamond",20200,9000,2.2000000000000002,{"$f":"_xlfn.IFNA(MATCH(A285,'Weight Based'!F:F,0)-1,\"Not Included in Ranking\")","v":343},{"$f":"COUNTIF('WWD Crashes'!C:C,A285)","v":0},{"$f":"_xlfn.IFNA(VLOOKUP(A285,'Weight Based'!F:AA,22,FALSE),\"Not Ranked\")","v":0}]
["US-63 & US-34",280,"Wapello","Rural","Excluded Unique",10800,10600,3.1,{"$f":"_xlfn.IFNA(MATCH(A286,'Weight Based'!F:F,0)-1,\"Not Included in Ranking\")","v":175},{"$f":"COUNTIF('WWD Crashes'!C:C,A286)","v":2},{"$f":"_xlfn.IFNA(VLOOKUP(A286,'Weight Based'!F:AA,22,FALSE),\"Not Ranked\")","v":1.74}]
["I 80 W & I 80 W TO IOWA SPEEDWAY DR N",307,"Jasper","Rural","Diamond",29800,5800,1.6,{"$f":"_xlfn.IFNA(MATCH(A287,'Weight Based'!F:F,0)-1,\"Not Included in Ranking\")","v":302},{"$f":"COUNTIF('WWD Crashes'!C:C,A287)","v":0},{"$f":"_xlfn.IFNA(VLOOKUP(A287,'Weight Based'!F:AA,22,FALSE),\"Not Ranked\")","v":0}]
["IA-150 & US-20 NE RAMP",214,"Buchanan","Rural","Diamond",10900,10700,0.1,{"$f":"_xlfn.IFNA(MATCH(A288,'Weight Based'!F:F,0)-1,\"Not Included in Ranking\")","v":280},{"$f":"COUNTIF('WWD Crashes'!C:C,A288)","v":0},{"$f":"_xlfn.IFNA(VLOOKUP(A288,'Weight Based'!F:AA,22,FALSE),\"Not Ranked\")","v":0}]
["I 80 W & I 80 W TO IRELAND AVE N",412,"Johnson","Rural","Diamond",37700,3690,0.4,{"$f":"_xlfn.IFNA(MATCH(A289,'Weight Based'!F:F,0)-1,\"Not Included in Ranking\")","v":151},{"$f":"COUNTIF('WWD Crashes'!C:C,A289)","v":0},{"$f":"_xlfn.IFNA(VLOOKUP(A289,'Weight Based'!F:AA,22,FALSE),\"Not Ranked\")","v":0}]
["I 80 W & I 80 W TO R AVE, N",163,"Dallas","Rural","Diamond",40100,3050,1.1000000000000001,{"$f":"_xlfn.IFNA(MATCH(A290,'Weight Based'!F:F,0)-1,\"Not Included in Ranking\")","v":273},{"$f":"COUNTIF('WWD Crashes'!C:C,A290)","v":0},{"$f":"_xlfn.IFNA(VLOOKUP(A290,'Weight Based'!F:AA,22,FALSE),\"Not Ranked\")","v":0}]
["I-80 & US-6/IA-38/ROSE AVE",446,"Cedar","Rural","Diamond",36200,3580,3.3,{"$f":"_xlfn.IFNA(MATCH(A291,'Weight Based'!F:F,0)-1,\"Not Included in Ranking\")","v":269},{"$f":"COUNTIF('WWD Crashes'!C:C,A291)","v":1},{"$f":"_xlfn.IFNA(VLOOKUP(A291,'Weight Based'!F:AA,22,FALSE),\"Not Ranked\")","v":0.125}]
["I-29 & IA-2",27,"Fremont","Rural","Diamond",14100,8000,8.6,{"$f":"_xlfn.IFNA(MATCH(A292,'Weight Based'!F:F,0)-1,\"Not Included in Ranking\")","v":252},{"$f":"COUNTIF('WWD Crashes'!C:C,A292)","v":1},{"$f":"_xlfn.IFNA(VLOOKUP(A292,'Weight Based'!F:AA,22,FALSE),\"Not Ranked\")","v":0.5}]
["I 80 E & I 80 E TO HWY F-48 W E",292,"Jasper","Rural","Diamond",31300,3850,3.7,{"$f":"_xlfn.IFNA(MATCH(A293,'Weight Based'!F:F,0)-1,\"Not Included in Ranking\")","v":238},{"$f":"COUNTIF('WWD Crashes'!C:C,A293)","v":1},{"$f":"_xlfn.IFNA(VLOOKUP(A293,'Weight Based'!F:AA,22,FALSE),\"Not Ranked\")","v":0.5}]
["I 80 W & I 80 W TO US 59 N",43,"Pottawattamie","Rural","Diamond",24900,6500,0.9,{"$f":"_xlfn.IFNA(MATCH(A294,'Weight Based'!F:F,0)-1,\"Not Included in Ranking\")","v":314},{"$f":"COUNTIF('WWD Crashes'!C:C,A294)","v":0},{"$f":"_xlfn.IFNA(VLOOKUP(A294,'Weight Based'!F:AA,22,FALSE),\"Not Ranked\")","v":0}]
["I-35 & 4th Ave",52,"Cerro Gordo","Rural","Diamond",21600,5900,0.2,{"$f":"_xlfn.IFNA(MATCH(A295,'Weight Based'!F:F,0)-1,\"Not Included in Ranking\")","v":173},{"$f":"COUNTIF('WWD Crashes'!C:C,A295)","v":1},{"$f":"_xlfn.IFNA(VLOOKUP(A295,'Weight Based'!F:AA,22,FALSE),\"Not Ranked\")","v":0.75}]
["I-80 & Magnolia Rd",161,"Pottawattamie","Rural","Diamond",23800,3130,5.4,{"$f":"_xlfn.IFNA(MATCH(A296,'Weight Based'!F:F,0)-1,\"Not Included in Ranking\")","v":199},{"$f":"COUNTIF('WWD Crashes'!C:C,A296)","v":2},{"$f":"_xlfn.IFNA(VLOOKUP(A296,'Weight Based'!F:AA,22,FALSE),\"Not Ranked\")","v":1.5}]
["IA-35 HWY East ramp & Co 105",21,"Worth","Rural","Diamond",19400,7500,0.5,{"$f":"_xlfn.IFNA(MATCH(A297,'Weight Based'!F:F,0)-1,\"Not Included in Ranking\")","v":279},{"$f":"COUNTIF('WWD Crashes'!C:C,A297)","v":0},{"$f":"_xlfn.IFNA(VLOOKUP(A297,'Weight Based'!F:AA,22,FALSE),\"Not Ranked\")","v":0}]
["US-34 & Pine St/New London Rd",239,"Henry","Rural","Diamond",8000,2710,0.8,{"$f":"_xlfn.IFNA(MATCH(A298,'Weight Based'!F:F,0)-1,\"Not Included in Ranking\")","v":251},{"$f":"COUNTIF('WWD Crashes'!C:C,A298)","v":1},{"$f":"_xlfn.IFNA(VLOOKUP(A298,'Weight Based'!F:AA,22,FALSE),\"Not Ranked\")","v":0.5}]
["US-61 SE RAMP & 267 ST",388,"Scott","Rural","Diamond",27000,5100,0.8,{"$f":"_xlfn.IFNA(MATCH(A299,'Weight Based'!F:F,0)-1,\"Not Included in Ranking\")","v":313},{"$f":"COUNTIF('WWD Crashes'!C:C,A299)","v":0},{"$f":"_xlfn.IFNA(VLOOKUP(A299,'Weight Based'!F:AA,22,FALSE),\"Not Ranked\")","v":0}]
["IA 163 E & IA 163 E TO S CLARK ST S",304,"Marion","Rural","Diamond",10400,8400,0.8,{"$f":"_xlfn.IFNA(MATCH(A300,'Weight Based'!F:F,0)-1,\"Not Included in Ranking\")","v":227},{"$f":"COUNTIF('WWD Crashes'!C:C,A300)","v":1},{"$f":"_xlfn.IFNA(VLOOKUP(A300,'Weight Based'!F:AA,22,FALSE),\"Not Ranked\")","v":0.5}]
["US 61 NE RAMP & US IOWA 2",204,"Lee","Rural","Diamond",9200,9700,1.2,{"$f":"_xlfn.IFNA(MATCH(A301,'Weight Based'!F:F,0)-1,\"Not Included in Ranking\")","v":330},{"$f":"COUNTIF('WWD Crashes'!C:C,A301)","v":0},{"$f":"_xlfn.IFNA(VLOOKUP(A301,'Weight Based'!F:AA,22,FALSE),\"Not Ranked\")","v":0}]
["US-20 RAMP & CENTER AVE S/PLACID RD",220,"Dubuque","Rural","Diamond",13800,4100,3.8,{"$f":"_xlfn.IFNA(MATCH(A302,'Weight Based'!F:F,0)-1,\"Not Included in Ranking\")","v":304},{"$f":"COUNTIF('WWD Crashes'!C:C,A302)","v":1},{"$f":"_xlfn.IFNA(VLOOKUP(A302,'Weight Based'!F:AA,22,FALSE),\"Not Ranked\")","v":0.25}]
["US-30 & 18th Ave",366,"Marshall","Rural","Diamond",13100,5600,0.2,{"$f":"_xlfn.IFNA(MATCH(A303,'Weight Based'!F:F,0)-1,\"Not Included in Ranking\")","v":159},{"$f":"COUNTIF('WWD Crashes'!C:C,A303)","v":2},{"$f":"_xlfn.IFNA(VLOOKUP(A303,'Weight Based'!F:AA,22,FALSE),\"Not Ranked\")","v":1.25}]
["I-80 NE RAMP & GARFIELD AVE",422,"Cedar","Rural","Diamond",36600,2200,4.9000000000000004,{"$f":"_xlfn.IFNA(MATCH(A304,'Weight Based'!F:F,0)-1,\"Not Included in Ranking\")","v":323},{"$f":"COUNTIF('WWD Crashes'!C:C,A304)","v":0},{"$f":"_xlfn.IFNA(VLOOKUP(A304,'Weight Based'!F:AA,22,FALSE),\"Not Ranked\")","v":0}]
["I- 29 W Ramp & IOWA 2",17,"Fremont","Rural","Diamond",14100,8000,8.8000000000000007,{"$f":"_xlfn.IFNA(MATCH(A305,'Weight Based'!F:F,0)-1,\"Not Included in Ranking\")","v":359},{"$f":"COUNTIF('WWD Crashes'!C:C,A305)","v":0},{"$f":"_xlfn.IFNA(VLOOKUP(A305,'Weight Based'!F:AA,22,FALSE),\"Not Ranked\")","v":0}]
["US-20 & 1st St",219,"Dubuque","Rural","Diamond",14300,1860,0.1,{"$f":"_xlfn.IFNA(MATCH(A306,'Weight Based'!F:F,0)-1,\"Not Included in Ranking\")","v":216},{"$f":"COUNTIF('WWD Crashes'!C:C,A306)","v":2},{"$f":"_xlfn.IFNA(VLOOKUP(A306,'Weight Based'!F:AA,22,FALSE),\"Not Ranked\")","v":0.75}]
["I 80 W & I 80 W TO EAST ST, N",39,"Pottawattamie","Rural","Diamond",25500,4920,0.6,{"$f":"_xlfn.IFNA(MATCH(A307,'Weight Based'!F:F,0)-1,\"Not Included in Ranking\")","v":272},{"$f":"COUNTIF('WWD Crashes'!C:C,A307)","v":0},{"$f":"_xlfn.IFNA(VLOOKUP(A307,'Weight Based'!F:AA,22,FALSE),\"Not Ranked\")","v":0}]
["I-80 NE RAMP & YANKEE AVE",443,"Cedar","Rural","Diamond",34800,2310,2.4,{"$f":"_xlfn.IFNA(MATCH(A308,'Weight Based'!F:F,0)-1,\"Not Included in Ranking\")","v":130},{"$f":"COUNTIF('WWD Crashes'!C:C,A308)","v":1},{"$f":"_xlfn.IFNA(VLOOKUP(A308,'Weight Based'!F:AA,22,FALSE),\"Not Ranked\")","v":0.33}]
["US-20 & IA-17",66,"Hamilton","Rural","Diamond",10000,6000,0.6,{"$f":"_xlfn.IFNA(MATCH(A309,'Weight Based'!F:F,0)-1,\"Not Included in Ranking\")","v":206},{"$f":"COUNTIF('WWD Crashes'!C:C,A309)","v":1},{"$f":"_xlfn.IFNA(VLOOKUP(A309,'Weight Based'!F:AA,22,FALSE),\"Not Ranked\")","v":0.75}]
["US-30 & US-65",348,"Story","Rural","Excluded Unique",8500,2240,0.6,{"$f":"_xlfn.IFNA(MATCH(A310,'Weight Based'!F:F,0)-1,\"Not Included in Ranking\")","v":155},{"$f":"COUNTIF('WWD Crashes'!C:C,A310)","v":0},{"$f":"_xlfn.IFNA(VLOOKUP(A310,'Weight Based'!F:AA,22,FALSE),\"Not Ranked\")","v":0}]
["US-61 & IA-64",363,"Jackson","Rural","Diamond",8200,7600,0.2,{"$f":"_xlfn.IFNA(MATCH(A311,'Weight Based'!F:F,0)-1,\"Not Included in Ranking\")","v":232},{"$f":"COUNTIF('WWD Crashes'!C:C,A311)","v":2},{"$f":"_xlfn.IFNA(VLOOKUP(A311,'Weight Based'!F:AA,22,FALSE),\"Not Ranked\")","v":0.25}]
["I- 35 W  Ramp & 190TH ST",130,"Story","Rural","Diamond",30000,2450,3,{"$f":"_xlfn.IFNA(MATCH(A312,'Weight Based'!F:F,0)-1,\"Not Included in Ranking\")","v":358},{"$f":"COUNTIF('WWD Crashes'!C:C,A312)","v":0},{"$f":"_xlfn.IFNA(VLOOKUP(A312,'Weight Based'!F:AA,22,FALSE),\"Not Ranked\")","v":0}]
["I-80 SE RAMP & 20 AVE",448,"Scott","Rural","Diamond",35200,790,3.4,{"$f":"_xlfn.IFNA(MATCH(A313,'Weight Based'!F:F,0)-1,\"Not Included in Ranking\")","v":145},{"$f":"COUNTIF('WWD Crashes'!C:C,A313)","v":1},{"$f":"_xlfn.IFNA(VLOOKUP(A313,'Weight Based'!F:AA,22,FALSE),\"Not Ranked\")","v":0.33}]
["I-80 & EB Wilton Rest Area",null,"Cedar","Rural","Rest Area",36200,0,3.3,{"$f":"_xlfn.IFNA(MATCH(A314,'Weight Based'!F:F,0)-1,\"Not Included in Ranking\")","v":336},{"$f":"COUNTIF('WWD Crashes'!C:C,A314)","v":1},{"$f":"_xlfn.IFNA(VLOOKUP(A314,'Weight Based'!F:AA,22,FALSE),\"Not Ranked\")","v":0.125}]
["US 63 N & US 63 N TO IA 149 N",276,"Wapello","Rural","Diamond",8200,7700,2.7,{"$f":"_xlfn.IFNA(MATCH(A315,'Weight Based'!F:F,0)-1,\"Not Included in Ranking\")","v":375},{"$f":"COUNTIF('WWD Crashes'!C:C,A315)","v":0},{"$f":"_xlfn.IFNA(VLOOKUP(A315,'Weight Based'!F:AA,22,FALSE),\"Not Ranked\")","v":0}]
["US- 218 EAST RAMPS & IOWA 3",184,"Bremer","Rural","Diamond",10000,7100,2.5,{"$f":"_xlfn.IFNA(MATCH(A316,'Weight Based'!F:F,0)-1,\"Not Included in Ranking\")","v":365},{"$f":"COUNTIF('WWD Crashes'!C:C,A316)","v":0},{"$f":"_xlfn.IFNA(VLOOKUP(A316,'Weight Based'!F:AA,22,FALSE),\"Not Ranked\")","v":0}]
["I 80 W & CR V 18 RD S",345,"Poweshiek","Rural","Diamond",28700,2080,2.2999999999999998,{"$f":"_xlfn.IFNA(MATCH(A317,'Weight Based'!F:F,0)-1,\"Not Included in Ranking\")","v":230},{"$f":"COUNTIF('WWD Crashes'!C:C,A317)","v":1},{"$f":"_xlfn.IFNA(VLOOKUP(A317,'Weight Based'!F:AA,22,FALSE),\"Not Ranked\")","v":0.25}]
["IA-5/IA-92 & IA-14",309,"Marion","Rural","Diamond",6800,7900,0.4,{"$f":"_xlfn.IFNA(MATCH(A318,'Weight Based'!F:F,0)-1,\"Not Included in Ranking\")","v":307},{"$f":"COUNTIF('WWD Crashes'!C:C,A318)","v":0},{"$f":"_xlfn.IFNA(VLOOKUP(A318,'Weight Based'!F:AA,22,FALSE),\"Not Ranked\")","v":0}]
["I 80 W & I 80 W TO L AVE, S",146,"Dallas","Rural","Diamond",31400,1300,3,{"$f":"_xlfn.IFNA(MATCH(A319,'Weight Based'!F:F,0)-1,\"Not Included in Ranking\")","v":362},{"$f":"COUNTIF('WWD Crashes'!C:C,A319)","v":0},{"$f":"_xlfn.IFNA(VLOOKUP(A319,'Weight Based'!F:AA,22,FALSE),\"Not Ranked\")","v":0}]
["I 80 W & I 80 W TO ANTIQUE CITY DR, N",49,"Pottawattamie","Rural","Diamond",23400,3290,0.8,{"$f":"_xlfn.IFNA(MATCH(A320,'Weight Based'!F:F,0)-1,\"Not Included in Ranking\")","v":335},{"$f":"COUNTIF('WWD Crashes'!C:C,A320)","v":0},{"$f":"_xlfn.IFNA(VLOOKUP(A320,'Weight Based'!F:AA,22,FALSE),\"Not Ranked\")","v":0}]
["I 80 W & I 80 W TO IA 224 S",310,"Jasper","Rural","Diamond",29200,1760,2.2000000000000002,{"$f":"_xlfn.IFNA(MATCH(A321,'Weight Based'!F:F,0)-1,\"Not Included in Ranking\")","v":363},{"$f":"COUNTIF('WWD Crashes'!C:C,A321)","v":0},{"$f":"_xlfn.IFNA(VLOOKUP(A321,'Weight Based'!F:AA,22,FALSE),\"Not Ranked\")","v":0}]
["US 169 & US 20 N Ramp",44,"Webster","Rural","Diamond",7700,7200,2.4,{"$f":"_xlfn.IFNA(MATCH(A322,'Weight Based'!F:F,0)-1,\"Not Included in Ranking\")","v":380},{"$f":"COUNTIF('WWD Crashes'!C:C,A322)","v":0},{"$f":"_xlfn.IFNA(VLOOKUP(A322,'Weight Based'!F:AA,22,FALSE),\"Not Ranked\")","v":0}]
["I-29 & IA-333",13,"Fremont","Rural","Diamond",14100,1450,1.1000000000000001,{"$f":"_xlfn.IFNA(MATCH(A323,'Weight Based'!F:F,0)-1,\"Not Included in Ranking\")","v":223},{"$f":"COUNTIF('WWD Crashes'!C:C,A323)","v":1},{"$f":"_xlfn.IFNA(VLOOKUP(A323,'Weight Based'!F:AA,22,FALSE),\"Not Ranked\")","v":0.99}]
["US-20 NE RAMP & IA-13",218,"Delaware","Rural","Diamond",8300,6800,1.3,{"$f":"_xlfn.IFNA(MATCH(A324,'Weight Based'!F:F,0)-1,\"Not Included in Ranking\")","v":341},{"$f":"COUNTIF('WWD Crashes'!C:C,A324)","v":0},{"$f":"_xlfn.IFNA(VLOOKUP(A324,'Weight Based'!F:AA,22,FALSE),\"Not Ranked\")","v":0}]
["US- 20 N RAMP & N AVE/ IA 14",144,"Grundy","Rural","Diamond",13200,4430,7.1,{"$f":"_xlfn.IFNA(MATCH(A325,'Weight Based'!F:F,0)-1,\"Not Included in Ranking\")","v":305},{"$f":"COUNTIF('WWD Crashes'!C:C,A325)","v":1},{"$f":"_xlfn.IFNA(VLOOKUP(A325,'Weight Based'!F:AA,22,FALSE),\"Not Ranked\")","v":0.25}]
["I 80 E & I 80 E TO HWY T-38 S N",318,"Jasper","Rural","Diamond",29500,1160,3.6,{"$f":"_xlfn.IFNA(MATCH(A326,'Weight Based'!F:F,0)-1,\"Not Included in Ranking\")","v":370},{"$f":"COUNTIF('WWD Crashes'!C:C,A326)","v":0},{"$f":"_xlfn.IFNA(VLOOKUP(A326,'Weight Based'!F:AA,22,FALSE),\"Not Ranked\")","v":0}]
["I 80 W & I 80 W TO B AVE N",368,"Iowa","Rural","Diamond",29000,1240,2.8,{"$f":"_xlfn.IFNA(MATCH(A327,'Weight Based'!F:F,0)-1,\"Not Included in Ranking\")","v":371},{"$f":"COUNTIF('WWD Crashes'!C:C,A327)","v":0},{"$f":"_xlfn.IFNA(VLOOKUP(A327,'Weight Based'!F:AA,22,FALSE),\"Not Ranked\")","v":0}]
["US-151 NW RAMP & AMBER RD",393,"Jones","Rural","Diamond",11900,5600,1.8,{"$f":"_xlfn.IFNA(MATCH(A328,'Weight Based'!F:F,0)-1,\"Not Included in Ranking\")","v":340},{"$f":"COUNTIF('WWD Crashes'!C:C,A328)","v":0},{"$f":"_xlfn.IFNA(VLOOKUP(A328,'Weight Based'!F:AA,22,FALSE),\"Not Ranked\")","v":0}]
["IOWA-35 & 300th st",42,"Cerro Gordo","Rural","Diamond",20600,3290,3.7,{"$f":"_xlfn.IFNA(MATCH(A329,'Weight Based'!F:F,0)-1,\"Not Included in Ranking\")","v":364},{"$f":"COUNTIF('WWD Crashes'!C:C,A329)","v":0},{"$f":"_xlfn.IFNA(VLOOKUP(A329,'Weight Based'!F:AA,22,FALSE),\"Not Ranked\")","v":0}]
["US-34 & Beaverdale Rd",232,"Des Moines","Rural","Diamond",9000,3090,0.4,{"$f":"_xlfn.IFNA(MATCH(A330,'Weight Based'!F:F,0)-1,\"Not Included in Ranking\")","v":222},{"$f":"COUNTIF('WWD Crashes'!C:C,A330)","v":2},{"$f":"_xlfn.IFNA(VLOOKUP(A330,'Weight Based'!F:AA,22,FALSE),\"Not Ranked\")","v":0.75}]
["I 80 W & I 80 W TO H AVE S",372,"Iowa","Rural","Diamond",29400,640,4.7,{"$f":"_xlfn.IFNA(MATCH(A331,'Weight Based'!F:F,0)-1,\"Not Included in Ranking\")","v":315},{"$f":"COUNTIF('WWD Crashes'!C:C,A331)","v":0},{"$f":"_xlfn.IFNA(VLOOKUP(A331,'Weight Based'!F:AA,22,FALSE),\"Not Ranked\")","v":0}]
["US-61 NE RAMP & E MAYNE ST",406,"Scott","Rural","Diamond",16400,3960,0.7,{"$f":"_xlfn.IFNA(MATCH(A332,'Weight Based'!F:F,0)-1,\"Not Included in Ranking\")","v":294},{"$f":"COUNTIF('WWD Crashes'!C:C,A332)","v":0},{"$f":"_xlfn.IFNA(VLOOKUP(A332,'Weight Based'!F:AA,22,FALSE),\"Not Ranked\")","v":0}]
["US-34 & Burlington Ave",260,"Jefferson","Rural","Diamond",8000,5200,1.4,{"$f":"_xlfn.IFNA(MATCH(A333,'Weight Based'!F:F,0)-1,\"Not Included in Ranking\")","v":235},{"$f":"COUNTIF('WWD Crashes'!C:C,A333)","v":1},{"$f":"_xlfn.IFNA(VLOOKUP(A333,'Weight Based'!F:AA,22,FALSE),\"Not Ranked\")","v":0.5}]
["I 80 W & I 80 W TO IA 25 S",111,"Adair","Rural","Diamond",22900,2000,3.8,{"$f":"_xlfn.IFNA(MATCH(A334,'Weight Based'!F:F,0)-1,\"Not Included in Ranking\")","v":270},{"$f":"COUNTIF('WWD Crashes'!C:C,A334)","v":1},{"$f":"_xlfn.IFNA(VLOOKUP(A334,'Weight Based'!F:AA,22,FALSE),\"Not Ranked\")","v":0.5}]
["I- 35 W  Ramp & 380TH ST/ D65",127,"Hamilton","Rural","Diamond",27000,1020,3.5,{"$f":"_xlfn.IFNA(MATCH(A335,'Weight Based'!F:F,0)-1,\"Not Included in Ranking\")","v":298},{"$f":"COUNTIF('WWD Crashes'!C:C,A335)","v":0},{"$f":"_xlfn.IFNA(VLOOKUP(A335,'Weight Based'!F:AA,22,FALSE),\"Not Ranked\")","v":0}]
["I 80 W & I 80 W TO 335TH ST,W",29,"Pottawattamie","Rural","Diamond",26400,1130,0.4,{"$f":"_xlfn.IFNA(MATCH(A336,'Weight Based'!F:F,0)-1,\"Not Included in Ranking\")","v":299},{"$f":"COUNTIF('WWD Crashes'!C:C,A336)","v":0},{"$f":"_xlfn.IFNA(VLOOKUP(A336,'Weight Based'!F:AA,22,FALSE),\"Not Ranked\")","v":0}]
["I 35 N & I 35 N TO IA 9 E",37,"Worth","Rural","Diamond",21300,2420,6.9,{"$f":"_xlfn.IFNA(MATCH(A337,'Weight Based'!F:F,0)-1,\"Not Included in Ranking\")","v":372},{"$f":"COUNTIF('WWD Crashes'!C:C,A337)","v":0},{"$f":"_xlfn.IFNA(VLOOKUP(A337,'Weight Based'!F:AA,22,FALSE),\"Not Ranked\")","v":0}]
["I- 35 E Ramp & 220TH ST",109,"Hamilton","Rural","Diamond",17800,3290,10,{"$f":"_xlfn.IFNA(MATCH(A338,'Weight Based'!F:F,0)-1,\"Not Included in Ranking\")","v":373},{"$f":"COUNTIF('WWD Crashes'!C:C,A338)","v":0},{"$f":"_xlfn.IFNA(VLOOKUP(A338,'Weight Based'!F:AA,22,FALSE),\"Not Ranked\")","v":0}]
["US 30 S Ramp & ZELLER AVE/ IOWA 146",370,"Marshall","Rural","Diamond",12100,3800,0.3,{"$f":"_xlfn.IFNA(MATCH(A339,'Weight Based'!F:F,0)-1,\"Not Included in Ranking\")","v":231},{"$f":"COUNTIF('WWD Crashes'!C:C,A339)","v":1},{"$f":"_xlfn.IFNA(VLOOKUP(A339,'Weight Based'!F:AA,22,FALSE),\"Not Ranked\")","v":0.25}]
["US-63 & Dahlonega Rd",274,"Wapello","Rural","Diamond",6800,2810,1.9,{"$f":"_xlfn.IFNA(MATCH(A340,'Weight Based'!F:F,0)-1,\"Not Included in Ranking\")","v":228},{"$f":"COUNTIF('WWD Crashes'!C:C,A340)","v":2},{"$f":"_xlfn.IFNA(VLOOKUP(A340,'Weight Based'!F:AA,22,FALSE),\"Not Ranked\")","v":1.49}]
["US-20  N Ramp & US 65",101,"Hardin","Rural","Diamond",9400,5300,3.9,{"$f":"_xlfn.IFNA(MATCH(A341,'Weight Based'!F:F,0)-1,\"Not Included in Ranking\")","v":326},{"$f":"COUNTIF('WWD Crashes'!C:C,A341)","v":0},{"$f":"_xlfn.IFNA(VLOOKUP(A341,'Weight Based'!F:AA,22,FALSE),\"Not Ranked\")","v":0}]
["US 218 N & US 218 N TO S GRAND AVE,S",176,"Floyd","Rural","Diamond",9700,5000,0.9,{"$f":"_xlfn.IFNA(MATCH(A342,'Weight Based'!F:F,0)-1,\"Not Included in Ranking\")","v":342},{"$f":"COUNTIF('WWD Crashes'!C:C,A342)","v":0},{"$f":"_xlfn.IFNA(VLOOKUP(A342,'Weight Based'!F:AA,22,FALSE),\"Not Ranked\")","v":0}]
["I 35 N & I 35 N TO VIRGINIA ST,E",34,"Warren","Rural","Diamond",17800,2890,4,{"$f":"_xlfn.IFNA(MATCH(A343,'Weight Based'!F:F,0)-1,\"Not Included in Ranking\")","v":374},{"$f":"COUNTIF('WWD Crashes'!C:C,A343)","v":0},{"$f":"_xlfn.IFNA(VLOOKUP(A343,'Weight Based'!F:AA,22,FALSE),\"Not Ranked\")","v":0}]
["IA 163 E & IA 163 E TO IA 14 N",315,"Jasper","Rural","Diamond",9500,5000,0.1,{"$f":"_xlfn.IFNA(MATCH(A344,'Weight Based'!F:F,0)-1,\"Not Included in Ranking\")","v":308},{"$f":"COUNTIF('WWD Crashes'!C:C,A344)","v":0},{"$f":"_xlfn.IFNA(VLOOKUP(A344,'Weight Based'!F:AA,22,FALSE),\"Not Ranked\")","v":0}]
["IA-60 & US-75",103,"Plymouth","Rural","Diamond",6600,4880,1.8,{"$f":"_xlfn.IFNA(MATCH(A345,'Weight Based'!F:F,0)-1,\"Not Included in Ranking\")","v":245},{"$f":"COUNTIF('WWD Crashes'!C:C,A345)","v":1},{"$f":"_xlfn.IFNA(VLOOKUP(A345,'Weight Based'!F:AA,22,FALSE),\"Not Ranked\")","v":0.5}]
["I 35 N & I 35, N TO IA 3 W",83,"Franklin","Rural","Diamond",16200,3140,1.8,{"$f":"_xlfn.IFNA(MATCH(A346,'Weight Based'!F:F,0)-1,\"Not Included in Ranking\")","v":339},{"$f":"COUNTIF('WWD Crashes'!C:C,A346)","v":0},{"$f":"_xlfn.IFNA(VLOOKUP(A346,'Weight Based'!F:AA,22,FALSE),\"Not Ranked\")","v":0}]
["I- 29 E & 260TH ST",76,"Woodbury","Rural","Diamond",20400,1830,5.0999999999999996,{"$f":"_xlfn.IFNA(MATCH(A347,'Weight Based'!F:F,0)-1,\"Not Included in Ranking\")","v":378},{"$f":"COUNTIF('WWD Crashes'!C:C,A347)","v":0},{"$f":"_xlfn.IFNA(VLOOKUP(A347,'Weight Based'!F:AA,22,FALSE),\"Not Ranked\")","v":0}]
["US 61 NE RAMP & 190 st/BUS US 61",209,"Lee","Rural","Diamond",11600,4040,4,{"$f":"_xlfn.IFNA(MATCH(A348,'Weight Based'!F:F,0)-1,\"Not Included in Ranking\")","v":360},{"$f":"COUNTIF('WWD Crashes'!C:C,A348)","v":0},{"$f":"_xlfn.IFNA(VLOOKUP(A348,'Weight Based'!F:AA,22,FALSE),\"Not Ranked\")","v":0}]
["I-35 & IA-2",4,"Decatur","Rural","Diamond",14400,2140,4.3,{"$f":"_xlfn.IFNA(MATCH(A349,'Weight Based'!F:F,0)-1,\"Not Included in Ranking\")","v":246},{"$f":"COUNTIF('WWD Crashes'!C:C,A349)","v":1},{"$f":"_xlfn.IFNA(VLOOKUP(A349,'Weight Based'!F:AA,22,FALSE),\"Not Ranked\")","v":1}]
["I 80 E & US 6 E TO 5TH ST, N",97,"Adair","Rural","Diamond",23700,820,0.3,{"$f":"_xlfn.IFNA(MATCH(A350,'Weight Based'!F:F,0)-1,\"Not Included in Ranking\")","v":316},{"$f":"COUNTIF('WWD Crashes'!C:C,A350)","v":0},{"$f":"_xlfn.IFNA(VLOOKUP(A350,'Weight Based'!F:AA,22,FALSE),\"Not Ranked\")","v":0}]
["US 63 N & US 18 W/Milwaukee St",243,"Chickasaw","Rural","Diamond",4300,5800,0.5,{"$f":"_xlfn.IFNA(MATCH(A351,'Weight Based'!F:F,0)-1,\"Not Included in Ranking\")","v":320},{"$f":"COUNTIF('WWD Crashes'!C:C,A351)","v":0},{"$f":"_xlfn.IFNA(VLOOKUP(A351,'Weight Based'!F:AA,22,FALSE),\"Not Ranked\")","v":0}]
["I 80 E & I 80 E TO ANTIQUE COUNTRY DR,S",102,"Adair","Rural","Diamond",23500,650,0.6,{"$f":"_xlfn.IFNA(MATCH(A352,'Weight Based'!F:F,0)-1,\"Not Included in Ranking\")","v":317},{"$f":"COUNTIF('WWD Crashes'!C:C,A352)","v":0},{"$f":"_xlfn.IFNA(VLOOKUP(A352,'Weight Based'!F:AA,22,FALSE),\"Not Ranked\")","v":0}]
["IA-141 & US-169",391,"Dallas","Rural","Diamond",10300,4000,2.7,{"$f":"_xlfn.IFNA(MATCH(A353,'Weight Based'!F:F,0)-1,\"Not Included in Ranking\")","v":382},{"$f":"COUNTIF('WWD Crashes'!C:C,A353)","v":0},{"$f":"_xlfn.IFNA(VLOOKUP(A353,'Weight Based'!F:AA,22,FALSE),\"Not Ranked\")","v":0}]
["I- 35 E Ramp & 270TH ST",123,"Hamilton","Rural","Diamond",24200,370,6.1,{"$f":"_xlfn.IFNA(MATCH(A354,'Weight Based'!F:F,0)-1,\"Not Included in Ranking\")","v":385},{"$f":"COUNTIF('WWD Crashes'!C:C,A354)","v":0},{"$f":"_xlfn.IFNA(VLOOKUP(A354,'Weight Based'!F:AA,22,FALSE),\"Not Ranked\")","v":0}]
["IOWA 1 & US-34 SE RAMP",256,"Jefferson","Rural","Excluded Unique",4810,5400,0.4,{"$f":"_xlfn.IFNA(MATCH(A355,'Weight Based'!F:F,0)-1,\"Not Included in Ranking\")","v":319},{"$f":"COUNTIF('WWD Crashes'!C:C,A355)","v":0},{"$f":"_xlfn.IFNA(VLOOKUP(A355,'Weight Based'!F:AA,22,FALSE),\"Not Ranked\")","v":0}]
["I 80 E & I 80 E TO IA 148 S",87,"Cass","Rural","Diamond",22600,750,3.7,{"$f":"_xlfn.IFNA(MATCH(A356,'Weight Based'!F:F,0)-1,\"Not Included in Ranking\")","v":386},{"$f":"COUNTIF('WWD Crashes'!C:C,A356)","v":0},{"$f":"_xlfn.IFNA(VLOOKUP(A356,'Weight Based'!F:AA,22,FALSE),\"Not Ranked\")","v":0}]
["US-218 & US-18 E",171,"Floyd","Rural","Diamond",11200,3650,2.2999999999999998,{"$f":"_xlfn.IFNA(MATCH(A357,'Weight Based'!F:F,0)-1,\"Not Included in Ranking\")","v":381},{"$f":"COUNTIF('WWD Crashes'!C:C,A357)","v":0},{"$f":"_xlfn.IFNA(VLOOKUP(A357,'Weight Based'!F:AA,22,FALSE),\"Not Ranked\")","v":0}]
["I-35 SE RAMP CURV & HWY G50",36,"Warren","Rural","Diamond",20700,1120,1.3,{"$f":"_xlfn.IFNA(MATCH(A358,'Weight Based'!F:F,0)-1,\"Not Included in Ranking\")","v":345},{"$f":"COUNTIF('WWD Crashes'!C:C,A358)","v":0},{"$f":"_xlfn.IFNA(VLOOKUP(A358,'Weight Based'!F:AA,22,FALSE),\"Not Ranked\")","v":0}]
["US 218 NE RAMP & 220TH ST",311,"Washington","Rural","Diamond",15000,2440,6.4,{"$f":"_xlfn.IFNA(MATCH(A359,'Weight Based'!F:F,0)-1,\"Not Included in Ranking\")","v":367},{"$f":"COUNTIF('WWD Crashes'!C:C,A359)","v":0},{"$f":"_xlfn.IFNA(VLOOKUP(A359,'Weight Based'!F:AA,22,FALSE),\"Not Ranked\")","v":0}]
["US 20 N Ramp & Co Rd V51/S CANFIELD RD",198,"Black Hawk","Rural","Diamond",13300,2860,3.1,{"$f":"_xlfn.IFNA(MATCH(A360,'Weight Based'!F:F,0)-1,\"Not Included in Ranking\")","v":379},{"$f":"COUNTIF('WWD Crashes'!C:C,A360)","v":0},{"$f":"_xlfn.IFNA(VLOOKUP(A360,'Weight Based'!F:AA,22,FALSE),\"Not Ranked\")","v":0}]
["US-20 & Grundy Rd/University Ave",145,"Grundy","Rural","Diamond",14000,1680,8.4,{"$f":"_xlfn.IFNA(MATCH(A361,'Weight Based'!F:F,0)-1,\"Not Included in Ranking\")","v":324},{"$f":"COUNTIF('WWD Crashes'!C:C,A361)","v":1},{"$f":"_xlfn.IFNA(VLOOKUP(A361,'Weight Based'!F:AA,22,FALSE),\"Not Ranked\")","v":0.25}]
["I- 29 E Ramp & ROSEWOOD RD",89,"Pottawattamie","Rural","Diamond",22800,240,4.5,{"$f":"_xlfn.IFNA(MATCH(A362,'Weight Based'!F:F,0)-1,\"Not Included in Ranking\")","v":387},{"$f":"COUNTIF('WWD Crashes'!C:C,A362)","v":0},{"$f":"_xlfn.IFNA(VLOOKUP(A362,'Weight Based'!F:AA,22,FALSE),\"Not Ranked\")","v":0}]
["I 80 W & I 80 W TO 560TH ST, S",55,"Cass","Rural","Diamond",22800,180,5.8,{"$f":"_xlfn.IFNA(MATCH(A363,'Weight Based'!F:F,0)-1,\"Not Included in Ranking\")","v":388},{"$f":"COUNTIF('WWD Crashes'!C:C,A363)","v":0},{"$f":"_xlfn.IFNA(VLOOKUP(A363,'Weight Based'!F:AA,22,FALSE),\"Not Ranked\")","v":0}]
["US 218 N & US 218 N TO IA 246 E",178,"Chickasaw","Rural","Diamond",10100,3470,0.4,{"$f":"_xlfn.IFNA(MATCH(A364,'Weight Based'!F:F,0)-1,\"Not Included in Ranking\")","v":310},{"$f":"COUNTIF('WWD Crashes'!C:C,A364)","v":0},{"$f":"_xlfn.IFNA(VLOOKUP(A364,'Weight Based'!F:AA,22,FALSE),\"Not Ranked\")","v":0}]
["I 80 W TO 690TH ST, N",79,"Cass","Rural","Diamond",22600,210,6.2,{"$f":"_xlfn.IFNA(MATCH(A365,'Weight Based'!F:F,0)-1,\"Not Included in Ranking\")","v":389},{"$f":"COUNTIF('WWD Crashes'!C:C,A365)","v":0},{"$f":"_xlfn.IFNA(VLOOKUP(A365,'Weight Based'!F:AA,22,FALSE),\"Not Ranked\")","v":0}]
["IA 60 W  RAMP & 450TH ST",105,"Sioux","Rural","Diamond",5800,4390,0.9,{"$f":"_xlfn.IFNA(MATCH(A366,'Weight Based'!F:F,0)-1,\"Not Included in Ranking\")","v":356},{"$f":"COUNTIF('WWD Crashes'!C:C,A366)","v":0},{"$f":"_xlfn.IFNA(VLOOKUP(A366,'Weight Based'!F:AA,22,FALSE),\"Not Ranked\")","v":0}]
["IA-35 HWY East ramp & 410th st",32,"Worth","Rural","Diamond",19200,760,6,{"$f":"_xlfn.IFNA(MATCH(A367,'Weight Based'!F:F,0)-1,\"Not Included in Ranking\")","v":398},{"$f":"COUNTIF('WWD Crashes'!C:C,A367)","v":0},{"$f":"_xlfn.IFNA(VLOOKUP(A367,'Weight Based'!F:AA,22,FALSE),\"Not Ranked\")","v":0}]
["I-29 & Lambert Ave",31,"Mills","Rural","Diamond",14100,270,2.9,{"$f":"_xlfn.IFNA(MATCH(A368,'Weight Based'!F:F,0)-1,\"Not Included in Ranking\")","v":263},{"$f":"COUNTIF('WWD Crashes'!C:C,A368)","v":1},{"$f":"_xlfn.IFNA(VLOOKUP(A368,'Weight Based'!F:AA,22,FALSE),\"Not Ranked\")","v":0.99}]
["IA 92 E & IA 5 S",308,"Marion","Rural","Diamond",6800,3960,1.7,{"$f":"_xlfn.IFNA(MATCH(A369,'Weight Based'!F:F,0)-1,\"Not Included in Ranking\")","v":355},{"$f":"COUNTIF('WWD Crashes'!C:C,A369)","v":0},{"$f":"_xlfn.IFNA(VLOOKUP(A369,'Weight Based'!F:AA,22,FALSE),\"Not Ranked\")","v":0}]
["I- 35 NE RAMP & TRURO PAVEMENT",33,"Clarke","Rural","Diamond",17600,1060,2.2000000000000002,{"$f":"_xlfn.IFNA(MATCH(A370,'Weight Based'!F:F,0)-1,\"Not Included in Ranking\")","v":390},{"$f":"COUNTIF('WWD Crashes'!C:C,A370)","v":0},{"$f":"_xlfn.IFNA(VLOOKUP(A370,'Weight Based'!F:AA,22,FALSE),\"Not Ranked\")","v":0}]
["US-151 NE RAMP & INDUSTRIAL PARK RD",354,"Dubuque","Rural","Excluded Unique",9800,3060,0.4,{"$f":"_xlfn.IFNA(MATCH(A371,'Weight Based'!F:F,0)-1,\"Not Included in Ranking\")","v":318},{"$f":"COUNTIF('WWD Crashes'!C:C,A371)","v":0},{"$f":"_xlfn.IFNA(VLOOKUP(A371,'Weight Based'!F:AA,22,FALSE),\"Not Ranked\")","v":0}]
["US-20 NE RAMP & BENSON-SHADY GROVE AVE",212,"Buchanan","Rural","Diamond",11300,2660,1.3,{"$f":"_xlfn.IFNA(MATCH(A372,'Weight Based'!F:F,0)-1,\"Not Included in Ranking\")","v":349},{"$f":"COUNTIF('WWD Crashes'!C:C,A372)","v":0},{"$f":"_xlfn.IFNA(VLOOKUP(A372,'Weight Based'!F:AA,22,FALSE),\"Not Ranked\")","v":0}]
["I-380 NE RAMP & BLACKHAWK-BUCHANAN AVE",252,"Black Hawk","Rural","Diamond",17300,1080,7,{"$f":"_xlfn.IFNA(MATCH(A373,'Weight Based'!F:F,0)-1,\"Not Included in Ranking\")","v":392},{"$f":"COUNTIF('WWD Crashes'!C:C,A373)","v":0},{"$f":"_xlfn.IFNA(VLOOKUP(A373,'Weight Based'!F:AA,22,FALSE),\"Not Ranked\")","v":0}]
["I- 680 N Ramp & 130TH ST",45,"Pottawattamie","Rural","Diamond",17300,210,4.0999999999999996,{"$f":"_xlfn.IFNA(MATCH(A374,'Weight Based'!F:F,0)-1,\"Not Included in Ranking\")","v":331},{"$f":"COUNTIF('WWD Crashes'!C:C,A374)","v":1},{"$f":"_xlfn.IFNA(VLOOKUP(A374,'Weight Based'!F:AA,22,FALSE),\"Not Ranked\")","v":0.25}]
["US 63 E RAMP & FAYETTE ST",264,"Bremer","Rural","Diamond",5900,3200,0.8,{"$f":"_xlfn.IFNA(MATCH(A375,'Weight Based'!F:F,0)-1,\"Not Included in Ranking\")","v":296},{"$f":"COUNTIF('WWD Crashes'!C:C,A375)","v":1},{"$f":"_xlfn.IFNA(VLOOKUP(A375,'Weight Based'!F:AA,22,FALSE),\"Not Ranked\")","v":0.25}]
["IA-35 East RAMP & 210th st",69,"Cerro Gordo","Rural","Diamond",17600,980,4.2,{"$f":"_xlfn.IFNA(MATCH(A376,'Weight Based'!F:F,0)-1,\"Not Included in Ranking\")","v":391},{"$f":"COUNTIF('WWD Crashes'!C:C,A376)","v":0},{"$f":"_xlfn.IFNA(VLOOKUP(A376,'Weight Based'!F:AA,22,FALSE),\"Not Ranked\")","v":0}]
["I 35 S & I 35 S TO SHAW ST,E",35,"Warren","Rural","Diamond",18600,680,3.5,{"$f":"_xlfn.IFNA(MATCH(A377,'Weight Based'!F:F,0)-1,\"Not Included in Ranking\")","v":399},{"$f":"COUNTIF('WWD Crashes'!C:C,A377)","v":0},{"$f":"_xlfn.IFNA(VLOOKUP(A377,'Weight Based'!F:AA,22,FALSE),\"Not Ranked\")","v":0}]
["US-61 NE RAMP & OAK LN",405,"Scott","Rural","Diamond",11700,2420,0.8,{"$f":"_xlfn.IFNA(MATCH(A378,'Weight Based'!F:F,0)-1,\"Not Included in Ranking\")","v":350},{"$f":"COUNTIF('WWD Crashes'!C:C,A378)","v":0},{"$f":"_xlfn.IFNA(VLOOKUP(A378,'Weight Based'!F:AA,22,FALSE),\"Not Ranked\")","v":0}]
["I- 29 E  Ramp & IA 127/IOWA 127",53,"Harrison","Rural","Diamond",15500,1420,12.9,{"$f":"_xlfn.IFNA(MATCH(A379,'Weight Based'!F:F,0)-1,\"Not Included in Ranking\")","v":403},{"$f":"COUNTIF('WWD Crashes'!C:C,A379)","v":0},{"$f":"_xlfn.IFNA(VLOOKUP(A379,'Weight Based'!F:AA,22,FALSE),\"Not Ranked\")","v":0}]
["IA-35 East RAMP & 250th st",77,"Franklin","Rural","Diamond",16800,1030,7.4,{"$f":"_xlfn.IFNA(MATCH(A380,'Weight Based'!F:F,0)-1,\"Not Included in Ranking\")","v":393},{"$f":"COUNTIF('WWD Crashes'!C:C,A380)","v":0},{"$f":"_xlfn.IFNA(VLOOKUP(A380,'Weight Based'!F:AA,22,FALSE),\"Not Ranked\")","v":0}]
["US-20 NE RAMP & IOWA AVE",213,"Buchanan","Rural","Diamond",10900,2450,1.4,{"$f":"_xlfn.IFNA(MATCH(A381,'Weight Based'!F:F,0)-1,\"Not Included in Ranking\")","v":352},{"$f":"COUNTIF('WWD Crashes'!C:C,A381)","v":0},{"$f":"_xlfn.IFNA(VLOOKUP(A381,'Weight Based'!F:AA,22,FALSE),\"Not Ranked\")","v":0}]
["US-18 & Thrush Ave",166,"Cerro Gordo","Rural","Diamond",11600,2230,3.3,{"$f":"_xlfn.IFNA(MATCH(A382,'Weight Based'!F:F,0)-1,\"Not Included in Ranking\")","v":404},{"$f":"COUNTIF('WWD Crashes'!C:C,A382)","v":1},{"$f":"_xlfn.IFNA(VLOOKUP(A382,'Weight Based'!F:AA,22,FALSE),\"Not Ranked\")","v":0}]
["US-30 & 380th Ave",401,"Clinton","Rural","Diamond",10700,1830,5.4,{"$f":"_xlfn.IFNA(MATCH(A383,'Weight Based'!F:F,0)-1,\"Not Included in Ranking\")","v":332},{"$f":"COUNTIF('WWD Crashes'!C:C,A383)","v":1},{"$f":"_xlfn.IFNA(VLOOKUP(A383,'Weight Based'!F:AA,22,FALSE),\"Not Ranked\")","v":0.25}]
["IA-35 East RAMP & 150TH ST",70,"Cerro Gordo","Rural","Diamond",17300,720,7.6,{"$f":"_xlfn.IFNA(MATCH(A384,'Weight Based'!F:F,0)-1,\"Not Included in Ranking\")","v":400},{"$f":"COUNTIF('WWD Crashes'!C:C,A384)","v":0},{"$f":"_xlfn.IFNA(VLOOKUP(A384,'Weight Based'!F:AA,22,FALSE),\"Not Ranked\")","v":0}]
["IA 163 W & IA 102 E/ADAMS AVE N",303,"Marion","Rural","Diamond",11400,2240,2,{"$f":"_xlfn.IFNA(MATCH(A385,'Weight Based'!F:F,0)-1,\"Not Included in Ranking\")","v":351},{"$f":"COUNTIF('WWD Crashes'!C:C,A385)","v":0},{"$f":"_xlfn.IFNA(VLOOKUP(A385,'Weight Based'!F:AA,22,FALSE),\"Not Ranked\")","v":0}]
["US 34 W & US 34 W TO IA 16 E",265,"Wapello","Rural","Diamond",9800,2640,5.4,{"$f":"_xlfn.IFNA(MATCH(A386,'Weight Based'!F:F,0)-1,\"Not Included in Ranking\")","v":396},{"$f":"COUNTIF('WWD Crashes'!C:C,A386)","v":0},{"$f":"_xlfn.IFNA(VLOOKUP(A386,'Weight Based'!F:AA,22,FALSE),\"Not Ranked\")","v":0}]
["I-29 & IA-300",59,"Harrison","Rural","Diamond",15700,880,6.2,{"$f":"_xlfn.IFNA(MATCH(A387,'Weight Based'!F:F,0)-1,\"Not Included in Ranking\")","v":253},{"$f":"COUNTIF('WWD Crashes'!C:C,A387)","v":1},{"$f":"_xlfn.IFNA(VLOOKUP(A387,'Weight Based'!F:AA,22,FALSE),\"Not Ranked\")","v":1}]
["US 63 S & US 63 S TO IA 3 W",211,"Bremer","Rural","Diamond",7300,3220,3.6,{"$f":"_xlfn.IFNA(MATCH(A388,'Weight Based'!F:F,0)-1,\"Not Included in Ranking\")","v":419},{"$f":"COUNTIF('WWD Crashes'!C:C,A388)","v":0},{"$f":"_xlfn.IFNA(VLOOKUP(A388,'Weight Based'!F:AA,22,FALSE),\"Not Ranked\")","v":0}]
["I- 35 E Ramp & 190TH ST",108,"Hamilton","Rural","Diamond",16200,910,9.5,{"$f":"_xlfn.IFNA(MATCH(A389,'Weight Based'!F:F,0)-1,\"Not Included in Ranking\")","v":394},{"$f":"COUNTIF('WWD Crashes'!C:C,A389)","v":0},{"$f":"_xlfn.IFNA(VLOOKUP(A389,'Weight Based'!F:AA,22,FALSE),\"Not Ranked\")","v":0}]
["US 20 W & US 20 W TO GRANT AVE S",458,"Webster","Rural","Diamond",5500,3510,4.4000000000000004,{"$f":"_xlfn.IFNA(MATCH(A390,'Weight Based'!F:F,0)-1,\"Not Included in Ranking\")","v":409},{"$f":"COUNTIF('WWD Crashes'!C:C,A390)","v":0},{"$f":"_xlfn.IFNA(VLOOKUP(A390,'Weight Based'!F:AA,22,FALSE),\"Not Ranked\")","v":0}]
["US-20 NE RAMP & RACINE AVE",215,"Buchanan","Rural","Diamond",10600,2180,1.3,{"$f":"_xlfn.IFNA(MATCH(A391,'Weight Based'!F:F,0)-1,\"Not Included in Ranking\")","v":353},{"$f":"COUNTIF('WWD Crashes'!C:C,A391)","v":0},{"$f":"_xlfn.IFNA(VLOOKUP(A391,'Weight Based'!F:AA,22,FALSE),\"Not Ranked\")","v":0}]
["IA 163 E & US 63 S TO MERINO AVE S",290,"Mahaska","Rural","Diamond",12500,1670,1.2,{"$f":"_xlfn.IFNA(MATCH(A392,'Weight Based'!F:F,0)-1,\"Not Included in Ranking\")","v":348},{"$f":"COUNTIF('WWD Crashes'!C:C,A392)","v":0},{"$f":"_xlfn.IFNA(VLOOKUP(A392,'Weight Based'!F:AA,22,FALSE),\"Not Ranked\")","v":0}]
["IA-35 East RAMP & 190th St",81,"Franklin","Rural","Diamond",16300,670,2.8,{"$f":"_xlfn.IFNA(MATCH(A393,'Weight Based'!F:F,0)-1,\"Not Included in Ranking\")","v":402},{"$f":"COUNTIF('WWD Crashes'!C:C,A393)","v":0},{"$f":"_xlfn.IFNA(VLOOKUP(A393,'Weight Based'!F:AA,22,FALSE),\"Not Ranked\")","v":0}]
["US 63 NE RAMP & 100TH ST/Pennsylvania Ave",273,"Wapello","Rural","Diamond",8000,2780,1.2,{"$f":"_xlfn.IFNA(MATCH(A394,'Weight Based'!F:F,0)-1,\"Not Included in Ranking\")","v":293},{"$f":"COUNTIF('WWD Crashes'!C:C,A394)","v":1},{"$f":"_xlfn.IFNA(VLOOKUP(A394,'Weight Based'!F:AA,22,FALSE),\"Not Ranked\")","v":0.25}]
["I- 29 E  Ramp & 155 ST",26,"Fremont","Rural","Diamond",13200,620,8.8000000000000007,{"$f":"_xlfn.IFNA(MATCH(A395,'Weight Based'!F:F,0)-1,\"Not Included in Ranking\")","v":337},{"$f":"COUNTIF('WWD Crashes'!C:C,A395)","v":1},{"$f":"_xlfn.IFNA(VLOOKUP(A395,'Weight Based'!F:AA,22,FALSE),\"Not Ranked\")","v":0.25}]
["I- 29 SE Ramp & 160TH ST",68,"Monona","Rural","Diamond",15400,810,7.2,{"$f":"_xlfn.IFNA(MATCH(A396,'Weight Based'!F:F,0)-1,\"Not Included in Ranking\")","v":366},{"$f":"COUNTIF('WWD Crashes'!C:C,A396)","v":0},{"$f":"_xlfn.IFNA(VLOOKUP(A396,'Weight Based'!F:AA,22,FALSE),\"Not Ranked\")","v":0}]
["US- 20  S Ramp & KARR AVE/ US 71",449,"Sac","Rural","Diamond",4730,3450,0.2,{"$f":"_xlfn.IFNA(MATCH(A397,'Weight Based'!F:F,0)-1,\"Not Included in Ranking\")","v":328},{"$f":"COUNTIF('WWD Crashes'!C:C,A397)","v":0},{"$f":"_xlfn.IFNA(VLOOKUP(A397,'Weight Based'!F:AA,22,FALSE),\"Not Ranked\")","v":0}]
["IA-35 East RAMP & 125th st",73,"Cerro Gordo","Rural","Diamond",17100,230,8.1999999999999993,{"$f":"_xlfn.IFNA(MATCH(A398,'Weight Based'!F:F,0)-1,\"Not Included in Ranking\")","v":401},{"$f":"COUNTIF('WWD Crashes'!C:C,A398)","v":0},{"$f":"_xlfn.IFNA(VLOOKUP(A398,'Weight Based'!F:AA,22,FALSE),\"Not Ranked\")","v":0}]
["US 61 SE RAMP & 303rd AVE",207,"Lee","Rural","Diamond",6200,3030,2.7,{"$f":"_xlfn.IFNA(MATCH(A399,'Weight Based'!F:F,0)-1,\"Not Included in Ranking\")","v":383},{"$f":"COUNTIF('WWD Crashes'!C:C,A399)","v":0},{"$f":"_xlfn.IFNA(VLOOKUP(A399,'Weight Based'!F:AA,22,FALSE),\"Not Ranked\")","v":0}]
["IA-35 N RAMP & DOWS WILLIAMS RD",104,"Wright","Rural","Diamond",15800,500,5.9,{"$f":"_xlfn.IFNA(MATCH(A400,'Weight Based'!F:F,0)-1,\"Not Included in Ranking\")","v":410},{"$f":"COUNTIF('WWD Crashes'!C:C,A400)","v":0},{"$f":"_xlfn.IFNA(VLOOKUP(A400,'Weight Based'!F:AA,22,FALSE),\"Not Ranked\")","v":0}]
["IA 17 N & US 20 W",63,"Hamilton","Rural","Diamond",10000,1950,3.6,{"$f":"_xlfn.IFNA(MATCH(A401,'Weight Based'!F:F,0)-1,\"Not Included in Ranking\")","v":408},{"$f":"COUNTIF('WWD Crashes'!C:C,A401)","v":0},{"$f":"_xlfn.IFNA(VLOOKUP(A401,'Weight Based'!F:AA,22,FALSE),\"Not Ranked\")","v":0}]
["US-20  N Ramp & LITTLE WALL LAKE RD/ US 69",92,"Hamilton","Rural","Diamond",9500,1240,9,{"$f":"_xlfn.IFNA(MATCH(A402,'Weight Based'!F:F,0)-1,\"Not Included in Ranking\")","v":171},{"$f":"COUNTIF('WWD Crashes'!C:C,A402)","v":2},{"$f":"_xlfn.IFNA(VLOOKUP(A402,'Weight Based'!F:AA,22,FALSE),\"Not Ranked\")","v":0.5}]
["I- 35 NE RAMP & ELK ST",7,"Clarke","Rural","Diamond",15800,370,3.7,{"$f":"_xlfn.IFNA(MATCH(A403,'Weight Based'!F:F,0)-1,\"Not Included in Ranking\")","v":411},{"$f":"COUNTIF('WWD Crashes'!C:C,A403)","v":0},{"$f":"_xlfn.IFNA(VLOOKUP(A403,'Weight Based'!F:AA,22,FALSE),\"Not Ranked\")","v":0}]
["US- 218 WEST RAMPS & IOWA 188",181,"Bremer","Rural","Diamond",10400,1750,7.3,{"$f":"_xlfn.IFNA(MATCH(A404,'Weight Based'!F:F,0)-1,\"Not Included in Ranking\")","v":406},{"$f":"COUNTIF('WWD Crashes'!C:C,A404)","v":0},{"$f":"_xlfn.IFNA(VLOOKUP(A404,'Weight Based'!F:AA,22,FALSE),\"Not Ranked\")","v":0}]
["I- 29 W Ramp & 200 st",20,"Fremont","Rural","Diamond",12300,460,12.5,{"$f":"_xlfn.IFNA(MATCH(A405,'Weight Based'!F:F,0)-1,\"Not Included in Ranking\")","v":338},{"$f":"COUNTIF('WWD Crashes'!C:C,A405)","v":1},{"$f":"_xlfn.IFNA(VLOOKUP(A405,'Weight Based'!F:AA,22,FALSE),\"Not Ranked\")","v":0.25}]
["IA 163 W & IA 163 W TO QUICKSILVER AVE N",319,"Jasper","Rural","Diamond",10200,1780,2.1,{"$f":"_xlfn.IFNA(MATCH(A406,'Weight Based'!F:F,0)-1,\"Not Included in Ranking\")","v":407},{"$f":"COUNTIF('WWD Crashes'!C:C,A406)","v":0},{"$f":"_xlfn.IFNA(VLOOKUP(A406,'Weight Based'!F:AA,22,FALSE),\"Not Ranked\")","v":0}]
["US- 218 EAST RAMPS & 210TH ST",182,"Bremer","Rural","Diamond",9200,2030,2.7,{"$f":"_xlfn.IFNA(MATCH(A407,'Weight Based'!F:F,0)-1,\"Not Included in Ranking\")","v":418},{"$f":"COUNTIF('WWD Crashes'!C:C,A407)","v":0},{"$f":"_xlfn.IFNA(VLOOKUP(A407,'Weight Based'!F:AA,22,FALSE),\"Not Ranked\")","v":0}]
["I 35 N & I 35 N TO LINE ST,E",11,"Decatur","Rural","Diamond",15300,360,9.3000000000000007,{"$f":"_xlfn.IFNA(MATCH(A408,'Weight Based'!F:F,0)-1,\"Not Included in Ranking\")","v":412},{"$f":"COUNTIF('WWD Crashes'!C:C,A408)","v":0},{"$f":"_xlfn.IFNA(VLOOKUP(A408,'Weight Based'!F:AA,22,FALSE),\"Not Ranked\")","v":0}]
["I- 29 N Ramp & EASTON TRL",60,"Harrison","Rural","Diamond",15000,390,15.5,{"$f":"_xlfn.IFNA(MATCH(A409,'Weight Based'!F:F,0)-1,\"Not Included in Ranking\")","v":413},{"$f":"COUNTIF('WWD Crashes'!C:C,A409)","v":0},{"$f":"_xlfn.IFNA(VLOOKUP(A409,'Weight Based'!F:AA,22,FALSE),\"Not Ranked\")","v":0}]
["I- 29 E  Ramp & WAUBONSIE AVE",28,"Fremont","Rural","Diamond",14100,550,6.7,{"$f":"_xlfn.IFNA(MATCH(A410,'Weight Based'!F:F,0)-1,\"Not Included in Ranking\")","v":415},{"$f":"COUNTIF('WWD Crashes'!C:C,A410)","v":0},{"$f":"_xlfn.IFNA(VLOOKUP(A410,'Weight Based'!F:AA,22,FALSE),\"Not Ranked\")","v":0}]
["US 34 E & US 34 E TO AGENCY HENDRICK RD N",269,"Wapello","Rural","Diamond",10800,1380,5,{"$f":"_xlfn.IFNA(MATCH(A411,'Weight Based'!F:F,0)-1,\"Not Included in Ranking\")","v":417},{"$f":"COUNTIF('WWD Crashes'!C:C,A411)","v":0},{"$f":"_xlfn.IFNA(VLOOKUP(A411,'Weight Based'!F:AA,22,FALSE),\"Not Ranked\")","v":0}]
["I-35 & US-69",2,"Decatur","Rural","Diamond",13200,610,0.5,{"$f":"_xlfn.IFNA(MATCH(A412,'Weight Based'!F:F,0)-1,\"Not Included in Ranking\")","v":196},{"$f":"COUNTIF('WWD Crashes'!C:C,A412)","v":1},{"$f":"_xlfn.IFNA(VLOOKUP(A412,'Weight Based'!F:AA,22,FALSE),\"Not Ranked\")","v":0.99}]
["US-34 & BUS-34/Burlington Ave",253,"Jefferson","Rural","Diamond",6500,2420,2.6,{"$f":"_xlfn.IFNA(MATCH(A413,'Weight Based'!F:F,0)-1,\"Not Included in Ranking\")","v":426},{"$f":"COUNTIF('WWD Crashes'!C:C,A413)","v":0},{"$f":"_xlfn.IFNA(VLOOKUP(A413,'Weight Based'!F:AA,22,FALSE),\"Not Ranked\")","v":0}]
["I- 35 NE RAMP & COUNTY HWY J20",5,"Decatur","Rural","Diamond",14800,260,6.1,{"$f":"_xlfn.IFNA(MATCH(A414,'Weight Based'!F:F,0)-1,\"Not Included in Ranking\")","v":414},{"$f":"COUNTIF('WWD Crashes'!C:C,A414)","v":0},{"$f":"_xlfn.IFNA(VLOOKUP(A414,'Weight Based'!F:AA,22,FALSE),\"Not Ranked\")","v":0}]
["US- 18 HWY/ S RAMP & ZINNIA AVE",169,"Floyd","Rural","Diamond",12600,820,2.1,{"$f":"_xlfn.IFNA(MATCH(A415,'Weight Based'!F:F,0)-1,\"Not Included in Ranking\")","v":416},{"$f":"COUNTIF('WWD Crashes'!C:C,A415)","v":0},{"$f":"_xlfn.IFNA(VLOOKUP(A415,'Weight Based'!F:AA,22,FALSE),\"Not Ranked\")","v":0}]
["US- 20  N  Ramp & IOWA 4 / MARSHALL AVE",451,"Calhoun","Rural","Diamond",5700,2580,3.9,{"$f":"_xlfn.IFNA(MATCH(A416,'Weight Based'!F:F,0)-1,\"Not Included in Ranking\")","v":427},{"$f":"COUNTIF('WWD Crashes'!C:C,A416)","v":0},{"$f":"_xlfn.IFNA(VLOOKUP(A416,'Weight Based'!F:AA,22,FALSE),\"Not Ranked\")","v":0}]
["US- 20 S Ramp, loop/170TH ST & CO HWY S56/",230,"Hardin","Rural","Excluded Unique",9400,1600,6.5,{"$f":"_xlfn.IFNA(MATCH(A417,'Weight Based'!F:F,0)-1,\"Not Included in Ranking\")","v":422},{"$f":"COUNTIF('WWD Crashes'!C:C,A417)","v":0},{"$f":"_xlfn.IFNA(VLOOKUP(A417,'Weight Based'!F:AA,22,FALSE),\"Not Ranked\")","v":0}]
["US-20 NE RAMP & IA-187",216,"Buchanan","Rural","Diamond",8500,1690,4.4000000000000004,{"$f":"_xlfn.IFNA(MATCH(A418,'Weight Based'!F:F,0)-1,\"Not Included in Ranking\")","v":420},{"$f":"COUNTIF('WWD Crashes'!C:C,A418)","v":0},{"$f":"_xlfn.IFNA(VLOOKUP(A418,'Weight Based'!F:AA,22,FALSE),\"Not Ranked\")","v":0}]
["US 34 E & ASH ST S",263,"Jefferson","Rural","Diamond",8300,1650,6.7,{"$f":"_xlfn.IFNA(MATCH(A419,'Weight Based'!F:F,0)-1,\"Not Included in Ranking\")","v":425},{"$f":"COUNTIF('WWD Crashes'!C:C,A419)","v":0},{"$f":"_xlfn.IFNA(VLOOKUP(A419,'Weight Based'!F:AA,22,FALSE),\"Not Ranked\")","v":0}]
["US 61 N & US 61 N TO J 40 S",205,"Lee","Rural","Diamond",6000,2200,2.7,{"$f":"_xlfn.IFNA(MATCH(A420,'Weight Based'!F:F,0)-1,\"Not Included in Ranking\")","v":428},{"$f":"COUNTIF('WWD Crashes'!C:C,A420)","v":0},{"$f":"_xlfn.IFNA(VLOOKUP(A420,'Weight Based'!F:AA,22,FALSE),\"Not Ranked\")","v":0}]
["US-61 SE RAMP & IA-136",367,"Clinton","Rural","Diamond",9500,1280,2.5,{"$f":"_xlfn.IFNA(MATCH(A421,'Weight Based'!F:F,0)-1,\"Not Included in Ranking\")","v":423},{"$f":"COUNTIF('WWD Crashes'!C:C,A421)","v":0},{"$f":"_xlfn.IFNA(VLOOKUP(A421,'Weight Based'!F:AA,22,FALSE),\"Not Ranked\")","v":0}]
["US-20 & County Road S27",98,"Hardin","Rural","Diamond",8900,1370,4.5,{"$f":"_xlfn.IFNA(MATCH(A422,'Weight Based'!F:F,0)-1,\"Not Included in Ranking\")","v":421},{"$f":"COUNTIF('WWD Crashes'!C:C,A422)","v":0},{"$f":"_xlfn.IFNA(VLOOKUP(A422,'Weight Based'!F:AA,22,FALSE),\"Not Ranked\")","v":0}]
["US- 20 S RAMP & CO HWY D35",136,"Hardin","Rural","Diamond",9400,1240,4.7,{"$f":"_xlfn.IFNA(MATCH(A423,'Weight Based'!F:F,0)-1,\"Not Included in Ranking\")","v":424},{"$f":"COUNTIF('WWD Crashes'!C:C,A423)","v":0},{"$f":"_xlfn.IFNA(VLOOKUP(A423,'Weight Based'!F:AA,22,FALSE),\"Not Ranked\")","v":0}]
["US 218 S & US 218 S TO 255TH ST E",240,"Henry","Rural","Diamond",9300,1220,1.8,{"$f":"_xlfn.IFNA(MATCH(A424,'Weight Based'!F:F,0)-1,\"Not Included in Ranking\")","v":368},{"$f":"COUNTIF('WWD Crashes'!C:C,A424)","v":0},{"$f":"_xlfn.IFNA(VLOOKUP(A424,'Weight Based'!F:AA,22,FALSE),\"Not Ranked\")","v":0}]
["IA 191 N & IA 191 S TO I 680 W",23,"Pottawattamie","Rural","Diamond",7400,1620,2.9,{"$f":"_xlfn.IFNA(MATCH(A425,'Weight Based'!F:F,0)-1,\"Not Included in Ranking\")","v":431},{"$f":"COUNTIF('WWD Crashes'!C:C,A425)","v":0},{"$f":"_xlfn.IFNA(VLOOKUP(A425,'Weight Based'!F:AA,22,FALSE),\"Not Ranked\")","v":0}]
["US- 30 NE Ramp & L AVE/BUS-30",377,"Tama","Rural","Diamond",6600,1620,1.6,{"$f":"_xlfn.IFNA(MATCH(A426,'Weight Based'!F:F,0)-1,\"Not Included in Ranking\")","v":377},{"$f":"COUNTIF('WWD Crashes'!C:C,A426)","v":0},{"$f":"_xlfn.IFNA(VLOOKUP(A426,'Weight Based'!F:AA,22,FALSE),\"Not Ranked\")","v":0}]
["IOWA 14 S MAIN ST & US 34 SW RAMP CURV",321,"Lucas","Rural","Diamond",2450,2550,0.8,{"$f":"_xlfn.IFNA(MATCH(A427,'Weight Based'!F:F,0)-1,\"Not Included in Ranking\")","v":369},{"$f":"COUNTIF('WWD Crashes'!C:C,A427)","v":0},{"$f":"_xlfn.IFNA(VLOOKUP(A427,'Weight Based'!F:AA,22,FALSE),\"Not Ranked\")","v":0}]
["US- 20 N RAMP & F AVE",140,"Grundy","Rural","Diamond",9600,520,1.7,{"$f":"_xlfn.IFNA(MATCH(A428,'Weight Based'!F:F,0)-1,\"Not Included in Ranking\")","v":376},{"$f":"COUNTIF('WWD Crashes'!C:C,A428)","v":0},{"$f":"_xlfn.IFNA(VLOOKUP(A428,'Weight Based'!F:AA,22,FALSE),\"Not Ranked\")","v":0}]
["US- 20 S loop & NEELY AVE",228,"Hamilton","Rural","Excluded Unique",9500,390,5,{"$f":"_xlfn.IFNA(MATCH(A429,'Weight Based'!F:F,0)-1,\"Not Included in Ranking\")","v":430},{"$f":"COUNTIF('WWD Crashes'!C:C,A429)","v":0},{"$f":"_xlfn.IFNA(VLOOKUP(A429,'Weight Based'!F:AA,22,FALSE),\"Not Ranked\")","v":0}]
["IOWA 9  E RAMP & IOWA 60",114,"Osceola","Rural","Diamond",3450,1900,2.9,{"$f":"_xlfn.IFNA(MATCH(A430,'Weight Based'!F:F,0)-1,\"Not Included in Ranking\")","v":429},{"$f":"COUNTIF('WWD Crashes'!C:C,A430)","v":0},{"$f":"_xlfn.IFNA(VLOOKUP(A430,'Weight Based'!F:AA,22,FALSE),\"Not Ranked\")","v":0}]
["US-59 N & US-34",485,"Mills","Rural","Excluded Unique",4320,1650,8.9,{"$f":"_xlfn.IFNA(MATCH(A431,'Weight Based'!F:F,0)-1,\"Not Included in Ranking\")","v":432},{"$f":"COUNTIF('WWD Crashes'!C:C,A431)","v":0},{"$f":"_xlfn.IFNA(VLOOKUP(A431,'Weight Based'!F:AA,22,FALSE),\"Not Ranked\")","v":0}]
["US-20  N Ramp & XIRCUS AVE",95,"Hamilton","Rural","Diamond",8900,360,8.5,{"$f":"_xlfn.IFNA(MATCH(A432,'Weight Based'!F:F,0)-1,\"Not Included in Ranking\")","v":62},{"$f":"COUNTIF('WWD Crashes'!C:C,A432)","v":1},{"$f":"_xlfn.IFNA(VLOOKUP(A432,'Weight Based'!F:AA,22,FALSE),\"Not Ranked\")","v":0.75}]
["US- 20  S Ramp & UNION AVE/ IOWA 196",450,"Sac","Rural","Diamond",4750,1110,2.4,{"$f":"_xlfn.IFNA(MATCH(A433,'Weight Based'!F:F,0)-1,\"Not Included in Ranking\")","v":434},{"$f":"COUNTIF('WWD Crashes'!C:C,A433)","v":0},{"$f":"_xlfn.IFNA(VLOOKUP(A433,'Weight Based'!F:AA,22,FALSE),\"Not Ranked\")","v":0}]
["US 63 N RAMP & LA SALLE AVE",246,"Chickasaw","Rural","Excluded Unique",3810,1120,1.4,{"$f":"_xlfn.IFNA(MATCH(A434,'Weight Based'!F:F,0)-1,\"Not Included in Ranking\")","v":101},{"$f":"COUNTIF('WWD Crashes'!C:C,A434)","v":0},{"$f":"_xlfn.IFNA(VLOOKUP(A434,'Weight Based'!F:AA,22,FALSE),\"Not Ranked\")","v":0}]
["US 18 E RAMP & 225TH ST",238,"Chickasaw","Rural","Diamond",5300,690,2,{"$f":"_xlfn.IFNA(MATCH(A435,'Weight Based'!F:F,0)-1,\"Not Included in Ranking\")","v":384},{"$f":"COUNTIF('WWD Crashes'!C:C,A435)","v":0},{"$f":"_xlfn.IFNA(VLOOKUP(A435,'Weight Based'!F:AA,22,FALSE),\"Not Ranked\")","v":0}]
["I-680 & Missouri Valley Eastbound Rest Area",null,"Pottawattamie","Rural","Rest Area",6600,0,4.9000000000000004,{"$f":"_xlfn.IFNA(MATCH(A436,'Weight Based'!F:F,0)-1,\"Not Included in Ranking\")","v":325},{"$f":"COUNTIF('WWD Crashes'!C:C,A436)","v":1},{"$f":"_xlfn.IFNA(VLOOKUP(A436,'Weight Based'!F:AA,22,FALSE),\"Not Ranked\")","v":0.75}]
["US 65 SE Ramp & LINCOLN HWY (North of Colo)",350,"Story","Rural","Excluded Unique",2240,930,0.5,{"$f":"_xlfn.IFNA(MATCH(A437,'Weight Based'!F:F,0)-1,\"Not Included in Ranking\")","v":344},{"$f":"COUNTIF('WWD Crashes'!C:C,A437)","v":0},{"$f":"_xlfn.IFNA(VLOOKUP(A437,'Weight Based'!F:AA,22,FALSE),\"Not Ranked\")","v":0}]
["Nebraska",null,null,"Urban","n/a",null,null,"",{"$f":"_xlfn.IFNA(MATCH(A438,'Weight Based'!F:F,0)-1,\"Not Included in Ranking\")","v":"Not Included in Ranking"},{"$f":"COUNTIF('WWD Crashes'!C:C,A438)","v":4},{"$f":"_xlfn.IFNA(VLOOKUP(A438,'Weight Based'!F:AA,22,FALSE),\"Not Ranked\")","v":"Not Ranked"}]
["US-20 & Charles Ave",null,"Woodbury","Rural","At Grade",11300,400,"",{"$f":"_xlfn.IFNA(MATCH(A439,'Weight Based'!F:F,0)-1,\"Not Included in Ranking\")","v":"Not Included in Ranking"},{"$f":"COUNTIF('WWD Crashes'!C:C,A439)","v":1},{"$f":"_xlfn.IFNA(VLOOKUP(A439,'Weight Based'!F:AA,22,FALSE),\"Not Ranked\")","v":"Not Ranked"}]
["US-30 & Story St",null,"Boone","Rural","At Grade",11700,6700,0.2,{"$f":"_xlfn.IFNA(MATCH(A440,'Weight Based'!F:F,0)-1,\"Not Included in Ranking\")","v":"Not Included in Ranking"},{"$f":"COUNTIF('WWD Crashes'!C:C,A440)","v":1},{"$f":"_xlfn.IFNA(VLOOKUP(A440,'Weight Based'!F:AA,22,FALSE),\"Not Ranked\")","v":"Not Ranked"}]
["U-Turn",null,null,"n/a","n/a",null,null,"",{"$f":"_xlfn.IFNA(MATCH(A441,'Weight Based'!F:F,0)-1,\"Not Included in Ranking\")","v":"Not Included in Ranking"},{"$f":"COUNTIF('WWD Crashes'!C:C,A441)","v":12},{"$f":"_xlfn.IFNA(VLOOKUP(A441,'Weight Based'!F:AA,22,FALSE),\"Not Ranked\")","v":"Not Ranked"}]
["US-169 & Kenyon Rd",null,"Webster","Urban","At Grade",8700,8000,"",{"$f":"_xlfn.IFNA(MATCH(A442,'Weight Based'!F:F,0)-1,\"Not Included in Ranking\")","v":"Not Included in Ranking"},{"$f":"COUNTIF('WWD Crashes'!C:C,A442)","v":3},{"$f":"_xlfn.IFNA(VLOOKUP(A442,'Weight Based'!F:AA,22,FALSE),\"Not Ranked\")","v":"Not Ranked"}]
["US-67 & 2nd St",539,"Scott","Urban","At Grade",33400,11500,0.1,{"$f":"_xlfn.IFNA(MATCH(A443,'Weight Based'!F:F,0)-1,\"Not Included in Ranking\")","v":"Not Included in Ranking"},{"$f":"COUNTIF('WWD Crashes'!C:C,A443)","v":1},{"$f":"_xlfn.IFNA(VLOOKUP(A443,'Weight Based'!F:AA,22,FALSE),\"Not Ranked\")","v":"Not Ranked"}]
["US-30 & IA-287",null,"Benton","Rural","At Grade",10700,1250,"",{"$f":"_xlfn.IFNA(MATCH(A444,'Weight Based'!F:F,0)-1,\"Not Included in Ranking\")","v":"Not Included in Ranking"},{"$f":"COUNTIF('WWD Crashes'!C:C,A444)","v":2},{"$f":"_xlfn.IFNA(VLOOKUP(A444,'Weight Based'!F:AA,22,FALSE),\"Not Ranked\")","v":"Not Ranked"}]
["US-34 & Wintergreen Blvd",null,"Jefferson","Rural","At Grade",6900,760,"",{"$f":"_xlfn.IFNA(MATCH(A445,'Weight Based'!F:F,0)-1,\"Not Included in Ranking\")","v":"Not Included in Ranking"},{"$f":"COUNTIF('WWD Crashes'!C:C,A445)","v":1},{"$f":"_xlfn.IFNA(VLOOKUP(A445,'Weight Based'!F:AA,22,FALSE),\"Not Ranked\")","v":"Not Ranked"}]
["US-63 & Cedar Wapsi Rd",null,"Black Hawk","Rural","At Grade",9300,3370,"",{"$f":"_xlfn.IFNA(MATCH(A446,'Weight Based'!F:F,0)-1,\"Not Included in Ranking\")","v":"Not Included in Ranking"},{"$f":"COUNTIF('WWD Crashes'!C:C,A446)","v":1},{"$f":"_xlfn.IFNA(VLOOKUP(A446,'Weight Based'!F:AA,22,FALSE),\"Not Ranked\")","v":"Not Ranked"}]
["Fork",null,"Linn","n/a","n/a",null,null,"",{"$f":"_xlfn.IFNA(MATCH(A447,'Weight Based'!F:F,0)-1,\"Not Included in Ranking\")","v":"Not Included in Ranking"},{"$f":"COUNTIF('WWD Crashes'!C:C,A447)","v":10},{"$f":"_xlfn.IFNA(VLOOKUP(A447,'Weight Based'!F:AA,22,FALSE),\"Not Ranked\")","v":"Not Ranked"}]
["US-61 & 65th St",null,"Scott","Urban","At Grade",28700,11100,"",{"$f":"_xlfn.IFNA(MATCH(A448,'Weight Based'!F:F,0)-1,\"Not Included in Ranking\")","v":"Not Included in Ranking"},{"$f":"COUNTIF('WWD Crashes'!C:C,A448)","v":1},{"$f":"_xlfn.IFNA(VLOOKUP(A448,'Weight Based'!F:AA,22,FALSE),\"Not Ranked\")","v":"Not Ranked"}]
["US-30 & 580th Ave",null,"Story","Rural","At Grade",17300,1790,2.1,{"$f":"_xlfn.IFNA(MATCH(A449,'Weight Based'!F:F,0)-1,\"Not Included in Ranking\")","v":"Not Included in Ranking"},{"$f":"COUNTIF('WWD Crashes'!C:C,A449)","v":1},{"$f":"_xlfn.IFNA(VLOOKUP(A449,'Weight Based'!F:AA,22,FALSE),\"Not Ranked\")","v":"Not Ranked"}]
["US-34 & Quincy Ave",null,"Wapello","Urban","At Grade",18900,11800,"",{"$f":"_xlfn.IFNA(MATCH(A450,'Weight Based'!F:F,0)-1,\"Not Included in Ranking\")","v":"Not Included in Ranking"},{"$f":"COUNTIF('WWD Crashes'!C:C,A450)","v":1},{"$f":"_xlfn.IFNA(VLOOKUP(A450,'Weight Based'!F:AA,22,FALSE),\"Not Ranked\")","v":"Not Ranked"}]
["US-34 & Roemer Ave",null,"Wapello","Urban","At Grade",10200,2910,"",{"$f":"_xlfn.IFNA(MATCH(A451,'Weight Based'!F:F,0)-1,\"Not Included in Ranking\")","v":"Not Included in Ranking"},{"$f":"COUNTIF('WWD Crashes'!C:C,A451)","v":1},{"$f":"_xlfn.IFNA(VLOOKUP(A451,'Weight Based'!F:AA,22,FALSE),\"Not Ranked\")","v":"Not Ranked"}]
["I-29 & I-680",191,"Pottawattamie","Rural","System",22800,17500,"",{"$f":"_xlfn.IFNA(MATCH(A452,'Weight Based'!F:F,0)-1,\"Not Included in Ranking\")","v":"Not Included in Ranking"},{"$f":"COUNTIF('WWD Crashes'!C:C,A452)","v":2},{"$f":"_xlfn.IFNA(VLOOKUP(A452,'Weight Based'!F:AA,22,FALSE),\"Not Ranked\")","v":"Not Ranked"}]
["US-63 & Almond St",null,"Black Hawk","Urban","At Grade",12100,1390,"",{"$f":"_xlfn.IFNA(MATCH(A453,'Weight Based'!F:F,0)-1,\"Not Included in Ranking\")","v":"Not Included in Ranking"},{"$f":"COUNTIF('WWD Crashes'!C:C,A453)","v":1},{"$f":"_xlfn.IFNA(VLOOKUP(A453,'Weight Based'!F:AA,22,FALSE),\"Not Ranked\")","v":"Not Ranked"}]
["Crossover",null,"Warren","n/a","n/a",22500,0,"",{"$f":"_xlfn.IFNA(MATCH(A454,'Weight Based'!F:F,0)-1,\"Not Included in Ranking\")","v":"Not Included in Ranking"},{"$f":"COUNTIF('WWD Crashes'!C:C,A454)","v":7},{"$f":"_xlfn.IFNA(VLOOKUP(A454,'Weight Based'!F:AA,22,FALSE),\"Not Ranked\")","v":"Not Ranked"}]
["US-20 & Jamesmeier Rd",null,"Dubuque","Rural","At Grade",12600,1560,"",{"$f":"_xlfn.IFNA(MATCH(A455,'Weight Based'!F:F,0)-1,\"Not Included in Ranking\")","v":"Not Included in Ranking"},{"$f":"COUNTIF('WWD Crashes'!C:C,A455)","v":1},{"$f":"_xlfn.IFNA(VLOOKUP(A455,'Weight Based'!F:AA,22,FALSE),\"Not Ranked\")","v":"Not Ranked"}]
["US-34 & US-218",249,"Henry","Rural","System",9800,7900,"",{"$f":"_xlfn.IFNA(MATCH(A456,'Weight Based'!F:F,0)-1,\"Not Included in Ranking\")","v":"Not Included in Ranking"},{"$f":"COUNTIF('WWD Crashes'!C:C,A456)","v":1},{"$f":"_xlfn.IFNA(VLOOKUP(A456,'Weight Based'!F:AA,22,FALSE),\"Not Ranked\")","v":"Not Ranked"}]
["US-61 & US-52",null,"Dubuque","Rural","At Grade",20000,6800,"",{"$f":"_xlfn.IFNA(MATCH(A457,'Weight Based'!F:F,0)-1,\"Not Included in Ranking\")","v":"Not Included in Ranking"},{"$f":"COUNTIF('WWD Crashes'!C:C,A457)","v":2},{"$f":"_xlfn.IFNA(VLOOKUP(A457,'Weight Based'!F:AA,22,FALSE),\"Not Ranked\")","v":"Not Ranked"}]
["US-61 & Hurtsville Rd",null,"Jackson","Rural","At Grade",8100,1460,"",{"$f":"_xlfn.IFNA(MATCH(A458,'Weight Based'!F:F,0)-1,\"Not Included in Ranking\")","v":"Not Included in Ranking"},{"$f":"COUNTIF('WWD Crashes'!C:C,A458)","v":1},{"$f":"_xlfn.IFNA(VLOOKUP(A458,'Weight Based'!F:AA,22,FALSE),\"Not Ranked\")","v":"Not Ranked"}]
["IA-934 & Greenhill Rd",null,"Black Hawk","Urban","At Grade",7000,4620,0.5,{"$f":"_xlfn.IFNA(MATCH(A459,'Weight Based'!F:F,0)-1,\"Not Included in Ranking\")","v":162},{"$f":"COUNTIF('WWD Crashes'!C:C,A459)","v":1},{"$f":"_xlfn.IFNA(VLOOKUP(A459,'Weight Based'!F:AA,22,FALSE),\"Not Ranked\")","v":0.5}]
["US-151 & Skyline Rd",null,"Dubuque","Rural","At Grade",6200,1480,"",{"$f":"_xlfn.IFNA(MATCH(A460,'Weight Based'!F:F,0)-1,\"Not Included in Ranking\")","v":"Not Included in Ranking"},{"$f":"COUNTIF('WWD Crashes'!C:C,A460)","v":1},{"$f":"_xlfn.IFNA(VLOOKUP(A460,'Weight Based'!F:AA,22,FALSE),\"Not Ranked\")","v":"Not Ranked"}]
["I-80 & US-61",421,"Scott","Urban","System",53000,42200,"",{"$f":"_xlfn.IFNA(MATCH(A461,'Weight Based'!F:F,0)-1,\"Not Included in Ranking\")","v":"Not Included in Ranking"},{"$f":"COUNTIF('WWD Crashes'!C:C,A461)","v":1},{"$f":"_xlfn.IFNA(VLOOKUP(A461,'Weight Based'!F:AA,22,FALSE),\"Not Ranked\")","v":"Not Ranked"}]
["I-29 & I-129",195,"Woodbury","Urban","System",42000,33200,"",{"$f":"_xlfn.IFNA(MATCH(A462,'Weight Based'!F:F,0)-1,\"Not Included in Ranking\")","v":"Not Included in Ranking"},{"$f":"COUNTIF('WWD Crashes'!C:C,A462)","v":0},{"$f":"_xlfn.IFNA(VLOOKUP(A462,'Weight Based'!F:AA,22,FALSE),\"Not Ranked\")","v":"Not Ranked"}]
["US-30 & 6th St",null,"Story","Rural","At Grade",14700,3650,"",{"$f":"_xlfn.IFNA(MATCH(A463,'Weight Based'!F:F,0)-1,\"Not Included in Ranking\")","v":"Not Included in Ranking"},{"$f":"COUNTIF('WWD Crashes'!C:C,A463)","v":1},{"$f":"_xlfn.IFNA(VLOOKUP(A463,'Weight Based'!F:AA,22,FALSE),\"Not Ranked\")","v":"Not Ranked"}]
["US-218 & 110th St",null,"Bremer","Rural","At Grade",10200,510,"",{"$f":"_xlfn.IFNA(MATCH(A464,'Weight Based'!F:F,0)-1,\"Not Included in Ranking\")","v":"Not Included in Ranking"},{"$f":"COUNTIF('WWD Crashes'!C:C,A464)","v":1},{"$f":"_xlfn.IFNA(VLOOKUP(A464,'Weight Based'!F:AA,22,FALSE),\"Not Ranked\")","v":"Not Ranked"}]
["US-61 & Vail Ave",null,"Muscatine","Rural","At Grade",12300,1290,"",{"$f":"_xlfn.IFNA(MATCH(A465,'Weight Based'!F:F,0)-1,\"Not Included in Ranking\")","v":"Not Included in Ranking"},{"$f":"COUNTIF('WWD Crashes'!C:C,A465)","v":1},{"$f":"_xlfn.IFNA(VLOOKUP(A465,'Weight Based'!F:AA,22,FALSE),\"Not Ranked\")","v":"Not Ranked"}]
["IA-934 & Cedar Heights Dr",null,"Black Hawk","Urban","At Grade",15500,6800,"",{"$f":"_xlfn.IFNA(MATCH(A466,'Weight Based'!F:F,0)-1,\"Not Included in Ranking\")","v":"Not Included in Ranking"},{"$f":"COUNTIF('WWD Crashes'!C:C,A466)","v":1},{"$f":"_xlfn.IFNA(VLOOKUP(A466,'Weight Based'!F:AA,22,FALSE),\"Not Ranked\")","v":"Not Ranked"}]
["US-34 & Vine St",null,"Wapello","Urban","At Grade",11200,2030,0.5,{"$f":"_xlfn.IFNA(MATCH(A467,'Weight Based'!F:F,0)-1,\"Not Included in Ranking\")","v":157},{"$f":"COUNTIF('WWD Crashes'!C:C,A467)","v":2},{"$f":"_xlfn.IFNA(VLOOKUP(A467,'Weight Based'!F:AA,22,FALSE),\"Not Ranked\")","v":1.5}]
["IA-57 & Main St",null,"Black Hawk","Urban","At Grade",16100,5700,"",{"$f":"_xlfn.IFNA(MATCH(A468,'Weight Based'!F:F,0)-1,\"Not Included in Ranking\")","v":"Not Included in Ranking"},{"$f":"COUNTIF('WWD Crashes'!C:C,A468)","v":1},{"$f":"_xlfn.IFNA(VLOOKUP(A468,'Weight Based'!F:AA,22,FALSE),\"Not Ranked\")","v":"Not Ranked"}]
["US-30 & 32nd Ave",null,"Benton","Rural","At Grade",11300,1790,"",{"$f":"_xlfn.IFNA(MATCH(A469,'Weight Based'!F:F,0)-1,\"Not Included in Ranking\")","v":"Not Included in Ranking"},{"$f":"COUNTIF('WWD Crashes'!C:C,A469)","v":2},{"$f":"_xlfn.IFNA(VLOOKUP(A469,'Weight Based'!F:AA,22,FALSE),\"Not Ranked\")","v":"Not Ranked"}]
["US-218 & Island View Dr",null,"Bremer","Rural","At Grade",21500,210,"",{"$f":"_xlfn.IFNA(MATCH(A470,'Weight Based'!F:F,0)-1,\"Not Included in Ranking\")","v":"Not Included in Ranking"},{"$f":"COUNTIF('WWD Crashes'!C:C,A470)","v":1},{"$f":"_xlfn.IFNA(VLOOKUP(A470,'Weight Based'!F:AA,22,FALSE),\"Not Ranked\")","v":"Not Ranked"}]
["US-75 & US-20",143,"Woodbury","Urban","Excluded Unique",27300,11900,"",{"$f":"_xlfn.IFNA(MATCH(A471,'Weight Based'!F:F,0)-1,\"Not Included in Ranking\")","v":153},{"$f":"COUNTIF('WWD Crashes'!C:C,A471)","v":2},{"$f":"_xlfn.IFNA(VLOOKUP(A471,'Weight Based'!F:AA,22,FALSE),\"Not Ranked\")","v":2}]
["IA-5 & IA-92",null,"Marion","Rural","At Grade",7700,4890,"",{"$f":"_xlfn.IFNA(MATCH(A472,'Weight Based'!F:F,0)-1,\"Not Included in Ranking\")","v":"Not Included in Ranking"},{"$f":"COUNTIF('WWD Crashes'!C:C,A472)","v":0},{"$f":"_xlfn.IFNA(VLOOKUP(A472,'Weight Based'!F:AA,22,FALSE),\"Not Ranked\")","v":"Not Ranked"}]
["IA-12 & Pierce St",null,"Woodbury","Urban","At Grade",14900,8300,"",{"$f":"_xlfn.IFNA(MATCH(A473,'Weight Based'!F:F,0)-1,\"Not Included in Ranking\")","v":"Not Included in Ranking"},{"$f":"COUNTIF('WWD Crashes'!C:C,A473)","v":1},{"$f":"_xlfn.IFNA(VLOOKUP(A473,'Weight Based'!F:AA,22,FALSE),\"Not Ranked\")","v":"Not Ranked"}]
["US-151 & IA-946",null,"Dubuque","Urban","At Grade",35100,21000,"",{"$f":"_xlfn.IFNA(MATCH(A474,'Weight Based'!F:F,0)-1,\"Not Included in Ranking\")","v":"Not Included in Ranking"},{"$f":"COUNTIF('WWD Crashes'!C:C,A474)","v":1},{"$f":"_xlfn.IFNA(VLOOKUP(A474,'Weight Based'!F:AA,22,FALSE),\"Not Ranked\")","v":"Not Ranked"}]
["IA-13 & Maple St",null,"Linn","Urban","At Grade",8100,2940,"",{"$f":"_xlfn.IFNA(MATCH(A475,'Weight Based'!F:F,0)-1,\"Not Included in Ranking\")","v":"Not Included in Ranking"},{"$f":"COUNTIF('WWD Crashes'!C:C,A475)","v":1},{"$f":"_xlfn.IFNA(VLOOKUP(A475,'Weight Based'!F:AA,22,FALSE),\"Not Ranked\")","v":"Not Ranked"}]
["US-30 & 54th St",null,"Clinton","Rural","At Grade",11500,270,"",{"$f":"_xlfn.IFNA(MATCH(A476,'Weight Based'!F:F,0)-1,\"Not Included in Ranking\")","v":"Not Included in Ranking"},{"$f":"COUNTIF('WWD Crashes'!C:C,A476)","v":1},{"$f":"_xlfn.IFNA(VLOOKUP(A476,'Weight Based'!F:AA,22,FALSE),\"Not Ranked\")","v":"Not Ranked"}]
["I-380 & US-30",411,"Linn","Urban","System",59800,24400,"",{"$f":"_xlfn.IFNA(MATCH(A477,'Weight Based'!F:F,0)-1,\"Not Included in Ranking\")","v":"Not Included in Ranking"},{"$f":"COUNTIF('WWD Crashes'!C:C,A477)","v":0},{"$f":"_xlfn.IFNA(VLOOKUP(A477,'Weight Based'!F:AA,22,FALSE),\"Not Ranked\")","v":"Not Ranked"}]
["I-80 & US-65",259,"Polk","Urban","System",65400,15900,"",{"$f":"_xlfn.IFNA(MATCH(A478,'Weight Based'!F:F,0)-1,\"Not Included in Ranking\")","v":"Not Included in Ranking"},{"$f":"COUNTIF('WWD Crashes'!C:C,A478)","v":1},{"$f":"_xlfn.IFNA(VLOOKUP(A478,'Weight Based'!F:AA,22,FALSE),\"Not Ranked\")","v":"Not Ranked"}]
["US-30 & IA-201",null,"Benton","Rural","At Grade",11300,1480,"",{"$f":"_xlfn.IFNA(MATCH(A479,'Weight Based'!F:F,0)-1,\"Not Included in Ranking\")","v":"Not Included in Ranking"},{"$f":"COUNTIF('WWD Crashes'!C:C,A479)","v":0},{"$f":"_xlfn.IFNA(VLOOKUP(A479,'Weight Based'!F:AA,22,FALSE),\"Not Ranked\")","v":"Not Ranked"}]
["IA-141 & Willis Ave",null,"Dallas","Rural","At Grade",10100,1980,"",{"$f":"_xlfn.IFNA(MATCH(A480,'Weight Based'!F:F,0)-1,\"Not Included in Ranking\")","v":"Not Included in Ranking"},{"$f":"COUNTIF('WWD Crashes'!C:C,A480)","v":0},{"$f":"_xlfn.IFNA(VLOOKUP(A480,'Weight Based'!F:AA,22,FALSE),\"Not Ranked\")","v":"Not Ranked"}]
["I-29 & US-34",38,"Mills","Rural","System",20000,11900,"",{"$f":"_xlfn.IFNA(MATCH(A481,'Weight Based'!F:F,0)-1,\"Not Included in Ranking\")","v":"Not Included in Ranking"},{"$f":"COUNTIF('WWD Crashes'!C:C,A481)","v":0},{"$f":"_xlfn.IFNA(VLOOKUP(A481,'Weight Based'!F:AA,22,FALSE),\"Not Ranked\")","v":"Not Ranked"}]
["IA-141 & 28th St",null,"Polk","Urban","At Grade",32300,2120,"",{"$f":"_xlfn.IFNA(MATCH(A482,'Weight Based'!F:F,0)-1,\"Not Included in Ranking\")","v":"Not Included in Ranking"},{"$f":"COUNTIF('WWD Crashes'!C:C,A482)","v":0},{"$f":"_xlfn.IFNA(VLOOKUP(A482,'Weight Based'!F:AA,22,FALSE),\"Not Ranked\")","v":"Not Ranked"}]
["US-30 & Kepler Dr",null,"Linn","Rural","At Grade",13500,100,"",{"$f":"_xlfn.IFNA(MATCH(A483,'Weight Based'!F:F,0)-1,\"Not Included in Ranking\")","v":"Not Included in Ranking"},{"$f":"COUNTIF('WWD Crashes'!C:C,A483)","v":0},{"$f":"_xlfn.IFNA(VLOOKUP(A483,'Weight Based'!F:AA,22,FALSE),\"Not Ranked\")","v":"Not Ranked"}]
["US-30 & Sisley Grove Rd",null,"Linn","Rural","At Grade",14100,50,"",{"$f":"_xlfn.IFNA(MATCH(A484,'Weight Based'!F:F,0)-1,\"Not Included in Ranking\")","v":"Not Included in Ranking"},{"$f":"COUNTIF('WWD Crashes'!C:C,A484)","v":0},{"$f":"_xlfn.IFNA(VLOOKUP(A484,'Weight Based'!F:AA,22,FALSE),\"Not Ranked\")","v":"Not Ranked"}]
["IA-100 & Twixt Town Rd",null,"Linn","Urban","At Grade",21500,5301,"",{"$f":"_xlfn.IFNA(MATCH(A485,'Weight Based'!F:F,0)-1,\"Not Included in Ranking\")","v":"Not Included in Ranking"},{"$f":"COUNTIF('WWD Crashes'!C:C,A485)","v":0},{"$f":"_xlfn.IFNA(VLOOKUP(A485,'Weight Based'!F:AA,22,FALSE),\"Not Ranked\")","v":"Not Ranked"}]
["IA-163 & 70th St",null,"Polk","Urban","At Grade",21500,5200,0.7,{"$f":"_xlfn.IFNA(MATCH(A486,'Weight Based'!F:F,0)-1,\"Not Included in Ranking\")","v":"Not Included in Ranking"},{"$f":"COUNTIF('WWD Crashes'!C:C,A486)","v":0},{"$f":"_xlfn.IFNA(VLOOKUP(A486,'Weight Based'!F:AA,22,FALSE),\"Not Ranked\")","v":"Not Ranked"}]
["IA-163 & 12th Ave",null,"Polk","Urban","At Grade",18000,140,"",{"$f":"_xlfn.IFNA(MATCH(A487,'Weight Based'!F:F,0)-1,\"Not Included in Ranking\")","v":"Not Included in Ranking"},{"$f":"COUNTIF('WWD Crashes'!C:C,A487)","v":0},{"$f":"_xlfn.IFNA(VLOOKUP(A487,'Weight Based'!F:AA,22,FALSE),\"Not Ranked\")","v":"Not Ranked"}]
["IA-163 & 91st St",null,"Polk","Urban","At Grade",15000,220,"",{"$f":"_xlfn.IFNA(MATCH(A488,'Weight Based'!F:F,0)-1,\"Not Included in Ranking\")","v":"Not Included in Ranking"},{"$f":"COUNTIF('WWD Crashes'!C:C,A488)","v":0},{"$f":"_xlfn.IFNA(VLOOKUP(A488,'Weight Based'!F:AA,22,FALSE),\"Not Ranked\")","v":"Not Ranked"}]
["IA-163 & Fareway Access",null,"Polk","Urban","At Grade",21400,0,"",{"$f":"_xlfn.IFNA(MATCH(A489,'Weight Based'!F:F,0)-1,\"Not Included in Ranking\")","v":"Not Included in Ranking"},{"$f":"COUNTIF('WWD Crashes'!C:C,A489)","v":0},{"$f":"_xlfn.IFNA(VLOOKUP(A489,'Weight Based'!F:AA,22,FALSE),\"Not Ranked\")","v":"Not Ranked"}]
["IA-163 & IA-316",null,"Polk","Rural","At Grade",15000,1850,"",{"$f":"_xlfn.IFNA(MATCH(A490,'Weight Based'!F:F,0)-1,\"Not Included in Ranking\")","v":"Not Included in Ranking"},{"$f":"COUNTIF('WWD Crashes'!C:C,A490)","v":0},{"$f":"_xlfn.IFNA(VLOOKUP(A490,'Weight Based'!F:AA,22,FALSE),\"Not Ranked\")","v":"Not Ranked"}]
["I 80 W & I 680 W",24,"Pottawattamie","Rural","System",26400,7400,"",{"$f":"_xlfn.IFNA(MATCH(A491,'Weight Based'!F:F,0)-1,\"Not Included in Ranking\")","v":"Not Included in Ranking"},{"$f":"COUNTIF('WWD Crashes'!C:C,A491)","v":0},{"$f":"_xlfn.IFNA(VLOOKUP(A491,'Weight Based'!F:AA,22,FALSE),\"Not Ranked\")","v":"Not Ranked"}]
["I 35 S & IA 5 S",50,"Polk","Rural","System",53700,33200,"",{"$f":"_xlfn.IFNA(MATCH(A492,'Weight Based'!F:F,0)-1,\"Not Included in Ranking\")","v":"Not Included in Ranking"},{"$f":"COUNTIF('WWD Crashes'!C:C,A492)","v":0},{"$f":"_xlfn.IFNA(VLOOKUP(A492,'Weight Based'!F:AA,22,FALSE),\"Not Ranked\")","v":"Not Ranked"}]
["I 35 N & I 35 N TO IA 27 S",58,"Cerro Gordo","Rural","System",21500,8800,"",{"$f":"_xlfn.IFNA(MATCH(A493,'Weight Based'!F:F,0)-1,\"Not Included in Ranking\")","v":"Not Included in Ranking"},{"$f":"COUNTIF('WWD Crashes'!C:C,A493)","v":0},{"$f":"_xlfn.IFNA(VLOOKUP(A493,'Weight Based'!F:AA,22,FALSE),\"Not Ranked\")","v":"Not Ranked"}]
["I 80 E & I 80 E TO I 35 S (West Mixmaster)",67,"Polk","Urban","System",98900,71300,"",{"$f":"_xlfn.IFNA(MATCH(A494,'Weight Based'!F:F,0)-1,\"Not Included in Ranking\")","v":"Not Included in Ranking"},{"$f":"COUNTIF('WWD Crashes'!C:C,A494)","v":0},{"$f":"_xlfn.IFNA(VLOOKUP(A494,'Weight Based'!F:AA,22,FALSE),\"Not Ranked\")","v":"Not Ranked"}]
["I 35 N & I 35 N TO US 20 E",110,"Hamilton","Rural","System",23700,8800,"",{"$f":"_xlfn.IFNA(MATCH(A495,'Weight Based'!F:F,0)-1,\"Not Included in Ranking\")","v":"Not Included in Ranking"},{"$f":"COUNTIF('WWD Crashes'!C:C,A495)","v":0},{"$f":"_xlfn.IFNA(VLOOKUP(A495,'Weight Based'!F:AA,22,FALSE),\"Not Ranked\")","v":"Not Ranked"}]
["I-235 & I-80 & I-35 (East Mixmaster)",132,"Polk","Urban","System",89800,74000,"",{"$f":"_xlfn.IFNA(MATCH(A496,'Weight Based'!F:F,0)-1,\"Not Included in Ranking\")","v":"Not Included in Ranking"},{"$f":"COUNTIF('WWD Crashes'!C:C,A496)","v":0},{"$f":"_xlfn.IFNA(VLOOKUP(A496,'Weight Based'!F:AA,22,FALSE),\"Not Ranked\")","v":"Not Ranked"}]
["I 35 S & I 35 S TO US 30 W",150,"Story","Urban","System",44300,30900,"",{"$f":"_xlfn.IFNA(MATCH(A497,'Weight Based'!F:F,0)-1,\"Not Included in Ranking\")","v":"Not Included in Ranking"},{"$f":"COUNTIF('WWD Crashes'!C:C,A497)","v":0},{"$f":"_xlfn.IFNA(VLOOKUP(A497,'Weight Based'!F:AA,22,FALSE),\"Not Ranked\")","v":"Not Ranked"}]
["I 80 E & I 80 E TO US 218 S",154,"Johnson","Urban","System",62500,51300,"",{"$f":"_xlfn.IFNA(MATCH(A498,'Weight Based'!F:F,0)-1,\"Not Included in Ranking\")","v":"Not Included in Ranking"},{"$f":"COUNTIF('WWD Crashes'!C:C,A498)","v":0},{"$f":"_xlfn.IFNA(VLOOKUP(A498,'Weight Based'!F:AA,22,FALSE),\"Not Ranked\")","v":"Not Ranked"}]
["I 80 E & I 29 S (East CB Junction)",187,"Pottawattamie","Urban","System",71500,43000,"",{"$f":"_xlfn.IFNA(MATCH(A499,'Weight Based'!F:F,0)-1,\"Not Included in Ranking\")","v":"Not Included in Ranking"},{"$f":"COUNTIF('WWD Crashes'!C:C,A499)","v":0},{"$f":"_xlfn.IFNA(VLOOKUP(A499,'Weight Based'!F:AA,22,FALSE),\"Not Ranked\")","v":"Not Ranked"}]
["I 29 N & I 80 W (West CB Junction)",189,"Pottawattamie","Urban","System",84700,69600,"",{"$f":"_xlfn.IFNA(MATCH(A500,'Weight Based'!F:F,0)-1,\"Not Included in Ranking\")","v":"Not Included in Ranking"},{"$f":"COUNTIF('WWD Crashes'!C:C,A500)","v":0},{"$f":"_xlfn.IFNA(VLOOKUP(A500,'Weight Based'!F:AA,22,FALSE),\"Not Ranked\")","v":"Not Ranked"}]
["I 380 & US 20 E",262,"Black Hawk","Rural","System",29500,13300,"",{"$f":"_xlfn.IFNA(MATCH(A501,'Weight Based'!F:F,0)-1,\"Not Included in Ranking\")","v":"Not Included in Ranking"},{"$f":"COUNTIF('WWD Crashes'!C:C,A501)","v":0},{"$f":"_xlfn.IFNA(VLOOKUP(A501,'Weight Based'!F:AA,22,FALSE),\"Not Ranked\")","v":"Not Ranked"}]
["US 218 N & IA 57 W",275,"Black Hawk","Urban","System",26400,30800,"",{"$f":"_xlfn.IFNA(MATCH(A502,'Weight Based'!F:F,0)-1,\"Not Included in Ranking\")","v":"Not Included in Ranking"},{"$f":"COUNTIF('WWD Crashes'!C:C,A502)","v":0},{"$f":"_xlfn.IFNA(VLOOKUP(A502,'Weight Based'!F:AA,22,FALSE),\"Not Ranked\")","v":"Not Ranked"}]
["I 380 S & US 218 S",325,"Black Hawk","Urban","System",42100,26600,"",{"$f":"_xlfn.IFNA(MATCH(A503,'Weight Based'!F:F,0)-1,\"Not Included in Ranking\")","v":"Not Included in Ranking"},{"$f":"COUNTIF('WWD Crashes'!C:C,A503)","v":0},{"$f":"_xlfn.IFNA(VLOOKUP(A503,'Weight Based'!F:AA,22,FALSE),\"Not Ranked\")","v":"Not Ranked"}]
["US 61 N & US 151 N",346,"Dubuque","Rural","System",15200,9300,"",{"$f":"_xlfn.IFNA(MATCH(A504,'Weight Based'!F:F,0)-1,\"Not Included in Ranking\")","v":"Not Included in Ranking"},{"$f":"COUNTIF('WWD Crashes'!C:C,A504)","v":0},{"$f":"_xlfn.IFNA(VLOOKUP(A504,'Weight Based'!F:AA,22,FALSE),\"Not Ranked\")","v":"Not Ranked"}]
["US-61 & US-30 (North of De Witt)",371,"Clinton","Rural","System",17400,7700,"",{"$f":"_xlfn.IFNA(MATCH(A505,'Weight Based'!F:F,0)-1,\"Not Included in Ranking\")","v":"Not Included in Ranking"},{"$f":"COUNTIF('WWD Crashes'!C:C,A505)","v":1},{"$f":"_xlfn.IFNA(VLOOKUP(A505,'Weight Based'!F:AA,22,FALSE),\"Not Ranked\")","v":"Not Ranked"}]
["US 30 E & US 61 S (South of De Witt)",376,"Clinton","Rural","System",22200,10700,"",{"$f":"_xlfn.IFNA(MATCH(A506,'Weight Based'!F:F,0)-1,\"Not Included in Ranking\")","v":"Not Included in Ranking"},{"$f":"COUNTIF('WWD Crashes'!C:C,A506)","v":0},{"$f":"_xlfn.IFNA(VLOOKUP(A506,'Weight Based'!F:AA,22,FALSE),\"Not Ranked\")","v":"Not Ranked"}]
["I 29 S & I 680 W",387,"Pottawattamie","Rural","System",22800,17100,"",{"$f":"_xlfn.IFNA(MATCH(A507,'Weight Based'!F:F,0)-1,\"Not Included in Ranking\")","v":"Not Included in Ranking"},{"$f":"COUNTIF('WWD Crashes'!C:C,A507)","v":0},{"$f":"_xlfn.IFNA(VLOOKUP(A507,'Weight Based'!F:AA,22,FALSE),\"Not Ranked\")","v":"Not Ranked"}]
["I 74 W & I 74 W TO I 80 E",420,"Scott","Urban","System",53000,29500,"",{"$f":"_xlfn.IFNA(MATCH(A508,'Weight Based'!F:F,0)-1,\"Not Included in Ranking\")","v":"Not Included in Ranking"},{"$f":"COUNTIF('WWD Crashes'!C:C,A508)","v":0},{"$f":"_xlfn.IFNA(VLOOKUP(A508,'Weight Based'!F:AA,22,FALSE),\"Not Ranked\")","v":"Not Ranked"}]
["I-29 & I-480/US-6",430,"Pottawattamie","Urban","System",33600,49900,"",{"$f":"_xlfn.IFNA(MATCH(A509,'Weight Based'!F:F,0)-1,\"Not Included in Ranking\")","v":"Not Included in Ranking"},{"$f":"COUNTIF('WWD Crashes'!C:C,A509)","v":0},{"$f":"_xlfn.IFNA(VLOOKUP(A509,'Weight Based'!F:AA,22,FALSE),\"Not Ranked\")","v":"Not Ranked"}]
["US-30 & US-151/IA-13",457,"Linn","Rural","System",26300,22000,"",{"$f":"_xlfn.IFNA(MATCH(A510,'Weight Based'!F:F,0)-1,\"Not Included in Ranking\")","v":"Not Included in Ranking"},{"$f":"COUNTIF('WWD Crashes'!C:C,A510)","v":0},{"$f":"_xlfn.IFNA(VLOOKUP(A510,'Weight Based'!F:AA,22,FALSE),\"Not Ranked\")","v":"Not Ranked"}]
["IA-5 & US-65/US-69",459,"Warren","Urban","System",23600,20100,"",{"$f":"_xlfn.IFNA(MATCH(A511,'Weight Based'!F:F,0)-1,\"Not Included in Ranking\")","v":"Not Included in Ranking"},{"$f":"COUNTIF('WWD Crashes'!C:C,A511)","v":0},{"$f":"_xlfn.IFNA(VLOOKUP(A511,'Weight Based'!F:AA,22,FALSE),\"Not Ranked\")","v":"Not Ranked"}]
["IA 5 N & IA 5 N TO US 65 N",468,"Polk","Rural","System",21900,16600,"",{"$f":"_xlfn.IFNA(MATCH(A512,'Weight Based'!F:F,0)-1,\"Not Included in Ranking\")","v":"Not Included in Ranking"},{"$f":"COUNTIF('WWD Crashes'!C:C,A512)","v":0},{"$f":"_xlfn.IFNA(VLOOKUP(A512,'Weight Based'!F:AA,22,FALSE),\"Not Ranked\")","v":"Not Ranked"}]
["I 80 E & I 280 E",473,"Scott","Rural","System",39800,22200,"",{"$f":"_xlfn.IFNA(MATCH(A513,'Weight Based'!F:F,0)-1,\"Not Included in Ranking\")","v":"Not Included in Ranking"},{"$f":"COUNTIF('WWD Crashes'!C:C,A513)","v":0},{"$f":"_xlfn.IFNA(VLOOKUP(A513,'Weight Based'!F:AA,22,FALSE),\"Not Ranked\")","v":"Not Ranked"}]
["US-69 & IA-3",474,"Wright","Rural","At Grade",2930,1870,4.5999999999999996,{"$f":"_xlfn.IFNA(MATCH(A514,'Weight Based'!F:F,0)-1,\"Not Included in Ranking\")","v":"Not Included in Ranking"},{"$f":"COUNTIF('WWD Crashes'!C:C,A514)","v":0},{"$f":"_xlfn.IFNA(VLOOKUP(A514,'Weight Based'!F:AA,22,FALSE),\"Not Ranked\")","v":"Not Ranked"}]
["US 34 E & US 34 W TO IA 148 N",476,"Adams","Rural","At Grade",3510,4810,0.9,{"$f":"_xlfn.IFNA(MATCH(A515,'Weight Based'!F:F,0)-1,\"Not Included in Ranking\")","v":"Not Included in Ranking"},{"$f":"COUNTIF('WWD Crashes'!C:C,A515)","v":0},{"$f":"_xlfn.IFNA(VLOOKUP(A515,'Weight Based'!F:AA,22,FALSE),\"Not Ranked\")","v":"Not Ranked"}]
["US 75 N & IA 376 N/BUS-75",478,"Woodbury","Urban","System",19200,8400,"",{"$f":"_xlfn.IFNA(MATCH(A516,'Weight Based'!F:F,0)-1,\"Not Included in Ranking\")","v":"Not Included in Ranking"},{"$f":"COUNTIF('WWD Crashes'!C:C,A516)","v":0},{"$f":"_xlfn.IFNA(VLOOKUP(A516,'Weight Based'!F:AA,22,FALSE),\"Not Ranked\")","v":"Not Ranked"}]
["US 169 N & US 169 N TO IA 175 E",487,"Webster","Rural","At Grade",1910,1560,1.7,{"$f":"_xlfn.IFNA(MATCH(A517,'Weight Based'!F:F,0)-1,\"Not Included in Ranking\")","v":"Not Included in Ranking"},{"$f":"COUNTIF('WWD Crashes'!C:C,A517)","v":0},{"$f":"_xlfn.IFNA(VLOOKUP(A517,'Weight Based'!F:AA,22,FALSE),\"Not Ranked\")","v":"Not Ranked"}]
["IA 5 N & IA 92 E",541,"Marion","Rural","At Grade",7700,1770,2.4,{"$f":"_xlfn.IFNA(MATCH(A518,'Weight Based'!F:F,0)-1,\"Not Included in Ranking\")","v":"Not Included in Ranking"},{"$f":"COUNTIF('WWD Crashes'!C:C,A518)","v":0},{"$f":"_xlfn.IFNA(VLOOKUP(A518,'Weight Based'!F:AA,22,FALSE),\"Not Ranked\")","v":"Not Ranked"}]
["US-30 & 215th Dr/Walnut St/Old Lincoln Highway",null,"Boone","Rural","At Grade",6000,650,"",{"$f":"_xlfn.IFNA(MATCH(A519,'Weight Based'!F:F,0)-1,\"Not Included in Ranking\")","v":"Not Included in Ranking"},{"$f":"COUNTIF('WWD Crashes'!C:C,A519)","v":1},{"$f":"_xlfn.IFNA(VLOOKUP(A519,'Weight Based'!F:AA,22,FALSE),\"Not Ranked\")","v":"Not Ranked"}]
["US-30 & IA-279",null,"Benton","Rural","At Grade",14100,2690,"",{"$f":"_xlfn.IFNA(MATCH(A520,'Weight Based'!F:F,0)-1,\"Not Included in Ranking\")","v":"Not Included in Ranking"},{"$f":"COUNTIF('WWD Crashes'!C:C,A520)","v":0},{"$f":"_xlfn.IFNA(VLOOKUP(A520,'Weight Based'!F:AA,22,FALSE),\"Not Ranked\")","v":"Not Ranked"}]
["US-218 & IA-16",null,"Lee","Rural","At Grade",8900,1150,"",{"$f":"_xlfn.IFNA(MATCH(A521,'Weight Based'!F:F,0)-1,\"Not Included in Ranking\")","v":"Not Included in Ranking"},{"$f":"COUNTIF('WWD Crashes'!C:C,A521)","v":1},{"$f":"_xlfn.IFNA(VLOOKUP(A521,'Weight Based'!F:AA,22,FALSE),\"Not Ranked\")","v":"Not Ranked"}]
["US-63 & State St",null,"Bremer","Rural","At Grade",9000,3120,"",{"$f":"_xlfn.IFNA(MATCH(A522,'Weight Based'!F:F,0)-1,\"Not Included in Ranking\")","v":"Not Included in Ranking"},{"$f":"COUNTIF('WWD Crashes'!C:C,A522)","v":1},{"$f":"_xlfn.IFNA(VLOOKUP(A522,'Weight Based'!F:AA,22,FALSE),\"Not Ranked\")","v":"Not Ranked"}]
["US-30 & SW 4th St/CR-S14",null,"Story","Rural","At Grade",15000,2830,1.1000000000000001,{"$f":"_xlfn.IFNA(MATCH(A523,'Weight Based'!F:F,0)-1,\"Not Included in Ranking\")","v":"Not Included in Ranking"},{"$f":"COUNTIF('WWD Crashes'!C:C,A523)","v":0},{"$f":"_xlfn.IFNA(VLOOKUP(A523,'Weight Based'!F:AA,22,FALSE),\"Not Ranked\")","v":"Not Ranked"}]
["US-218 & 9th St",null,"Black Hawk","Urban","At Grade",34700,7500,"",{"$f":"_xlfn.IFNA(MATCH(A524,'Weight Based'!F:F,0)-1,\"Not Included in Ranking\")","v":"Not Included in Ranking"},{"$f":"COUNTIF('WWD Crashes'!C:C,A524)","v":1},{"$f":"_xlfn.IFNA(VLOOKUP(A524,'Weight Based'!F:AA,22,FALSE),\"Not Ranked\")","v":"Not Ranked"}]
["US-218 & Salem Rd",null,"Henry","Rural","At Grade",9300,880,"",{"$f":"_xlfn.IFNA(MATCH(A525,'Weight Based'!F:F,0)-1,\"Not Included in Ranking\")","v":"Not Included in Ranking"},{"$f":"COUNTIF('WWD Crashes'!C:C,A525)","v":1},{"$f":"_xlfn.IFNA(VLOOKUP(A525,'Weight Based'!F:AA,22,FALSE),\"Not Ranked\")","v":"Not Ranked"}]
["US-61 & 210th St",null,"Clinton","Rural","At Grade",13800,390,"",{"$f":"_xlfn.IFNA(MATCH(A526,'Weight Based'!F:F,0)-1,\"Not Included in Ranking\")","v":"Not Included in Ranking"},{"$f":"COUNTIF('WWD Crashes'!C:C,A526)","v":1},{"$f":"_xlfn.IFNA(VLOOKUP(A526,'Weight Based'!F:AA,22,FALSE),\"Not Ranked\")","v":"Not Ranked"}]
["US-20/Dodge St & Locust St",null,"Dubuque","Urban","At Grade",29000,29300,"",{"$f":"_xlfn.IFNA(MATCH(A527,'Weight Based'!F:F,0)-1,\"Not Included in Ranking\")","v":"Not Included in Ranking"},{"$f":"COUNTIF('WWD Crashes'!C:C,A527)","v":2},{"$f":"_xlfn.IFNA(VLOOKUP(A527,'Weight Based'!F:AA,22,FALSE),\"Not Ranked\")","v":"Not Ranked"}]
["US-151 & BUS-151 (North of Monticello)",null,"Jones","Rural","At Grade",7900,1220,"",{"$f":"_xlfn.IFNA(MATCH(A528,'Weight Based'!F:F,0)-1,\"Not Included in Ranking\")","v":"Not Included in Ranking"},{"$f":"COUNTIF('WWD Crashes'!C:C,A528)","v":1},{"$f":"_xlfn.IFNA(VLOOKUP(A528,'Weight Based'!F:AA,22,FALSE),\"Not Ranked\")","v":"Not Ranked"}]
["US-34 & E Main St/Henry Des Moines Ave",null,"Henry","Rural","At Grade",8800,1280,"",{"$f":"_xlfn.IFNA(MATCH(A529,'Weight Based'!F:F,0)-1,\"Not Included in Ranking\")","v":"Not Included in Ranking"},{"$f":"COUNTIF('WWD Crashes'!C:C,A529)","v":2},{"$f":"_xlfn.IFNA(VLOOKUP(A529,'Weight Based'!F:AA,22,FALSE),\"Not Ranked\")","v":"Not Ranked"}]
["US-61 & Taylor Ave/CR Y14",null,"Muscatine","Rural","At Grade",10500,1110,"",{"$f":"_xlfn.IFNA(MATCH(A530,'Weight Based'!F:F,0)-1,\"Not Included in Ranking\")","v":"Not Included in Ranking"},{"$f":"COUNTIF('WWD Crashes'!C:C,A530)","v":1},{"$f":"_xlfn.IFNA(VLOOKUP(A530,'Weight Based'!F:AA,22,FALSE),\"Not Ranked\")","v":"Not Ranked"}]
["US-61 & IA-38",null,"Muscatine","Urban","At Grade",20100,14700,"",{"$f":"_xlfn.IFNA(MATCH(A531,'Weight Based'!F:F,0)-1,\"Not Included in Ranking\")","v":"Not Included in Ranking"},{"$f":"COUNTIF('WWD Crashes'!C:C,A531)","v":1},{"$f":"_xlfn.IFNA(VLOOKUP(A531,'Weight Based'!F:AA,22,FALSE),\"Not Ranked\")","v":"Not Ranked"}]
["IA-13 & Central City Rd",null,"Linn","Rural","At Grade",8400,880,"",{"$f":"_xlfn.IFNA(MATCH(A532,'Weight Based'!F:F,0)-1,\"Not Included in Ranking\")","v":"Not Included in Ranking"},{"$f":"COUNTIF('WWD Crashes'!C:C,A532)","v":1},{"$f":"_xlfn.IFNA(VLOOKUP(A532,'Weight Based'!F:AA,22,FALSE),\"Not Ranked\")","v":"Not Ranked"}]
["US-20 & Wuchter Rd",null,"Dubuque","Rural","At Grade",13000,1530,"",{"$f":"_xlfn.IFNA(MATCH(A533,'Weight Based'!F:F,0)-1,\"Not Included in Ranking\")","v":"Not Included in Ranking"},{"$f":"COUNTIF('WWD Crashes'!C:C,A533)","v":1},{"$f":"_xlfn.IFNA(VLOOKUP(A533,'Weight Based'!F:AA,22,FALSE),\"Not Ranked\")","v":"Not Ranked"}]
["US-30 & 650th Ave/CR-S27",null,"Story","Rural","At Grade",10300,1040,1.6,{"$f":"_xlfn.IFNA(MATCH(A534,'Weight Based'!F:F,0)-1,\"Not Included in Ranking\")","v":"Not Included in Ranking"},{"$f":"COUNTIF('WWD Crashes'!C:C,A534)","v":0},{"$f":"_xlfn.IFNA(VLOOKUP(A534,'Weight Based'!F:AA,22,FALSE),\"Not Ranked\")","v":"Not Ranked"}]
["US-30 & U Ave",null,"Boone","Rural","At Grade",16400,800,3,{"$f":"_xlfn.IFNA(MATCH(A535,'Weight Based'!F:F,0)-1,\"Not Included in Ranking\")","v":"Not Included in Ranking"},{"$f":"COUNTIF('WWD Crashes'!C:C,A535)","v":0},{"$f":"_xlfn.IFNA(VLOOKUP(A535,'Weight Based'!F:AA,22,FALSE),\"Not Ranked\")","v":"Not Ranked"}]
["US-30 & V Ave",null,"Boone","Rural","At Grade",16400,80,3,{"$f":"_xlfn.IFNA(MATCH(A536,'Weight Based'!F:F,0)-1,\"Not Included in Ranking\")","v":"Not Included in Ranking"},{"$f":"COUNTIF('WWD Crashes'!C:C,A536)","v":0},{"$f":"_xlfn.IFNA(VLOOKUP(A536,'Weight Based'!F:AA,22,FALSE),\"Not Ranked\")","v":"Not Ranked"}]
["US-30 & W Ave",null,"Boone","Rural","At Grade",16400,820,3,{"$f":"_xlfn.IFNA(MATCH(A537,'Weight Based'!F:F,0)-1,\"Not Included in Ranking\")","v":"Not Included in Ranking"},{"$f":"COUNTIF('WWD Crashes'!C:C,A537)","v":0},{"$f":"_xlfn.IFNA(VLOOKUP(A537,'Weight Based'!F:AA,22,FALSE),\"Not Ranked\")","v":"Not Ranked"}]
["US-30 & X Ave",null,"Boone","Rural","At Grade",16400,1550,3,{"$f":"_xlfn.IFNA(MATCH(A538,'Weight Based'!F:F,0)-1,\"Not Included in Ranking\")","v":"Not Included in Ranking"},{"$f":"COUNTIF('WWD Crashes'!C:C,A538)","v":0},{"$f":"_xlfn.IFNA(VLOOKUP(A538,'Weight Based'!F:AA,22,FALSE),\"Not Ranked\")","v":"Not Ranked"}]
["US-30 & S Linn St",null,"Boone","Urban","At Grade",14100,5100,0.1,{"$f":"_xlfn.IFNA(MATCH(A539,'Weight Based'!F:F,0)-1,\"Not Included in Ranking\")","v":"Not Included in Ranking"},{"$f":"COUNTIF('WWD Crashes'!C:C,A539)","v":0},{"$f":"_xlfn.IFNA(VLOOKUP(A539,'Weight Based'!F:AA,22,FALSE),\"Not Ranked\")","v":"Not Ranked"}]
["US-30 & T Ave",null,"Boone","Rural","At Grade",16300,35,"",{"$f":"_xlfn.IFNA(MATCH(A540,'Weight Based'!F:F,0)-1,\"Not Included in Ranking\")","v":"Not Included in Ranking"},{"$f":"COUNTIF('WWD Crashes'!C:C,A540)","v":0},{"$f":"_xlfn.IFNA(VLOOKUP(A540,'Weight Based'!F:AA,22,FALSE),\"Not Ranked\")","v":"Not Ranked"}]
["US-30 & 18th St/610th Ave",null,"Story","Rural","At Grade",15300,2240,1.3,{"$f":"_xlfn.IFNA(MATCH(A541,'Weight Based'!F:F,0)-1,\"Not Included in Ranking\")","v":"Not Included in Ranking"},{"$f":"COUNTIF('WWD Crashes'!C:C,A541)","v":0},{"$f":"_xlfn.IFNA(VLOOKUP(A541,'Weight Based'!F:AA,22,FALSE),\"Not Ranked\")","v":"Not Ranked"}]
["US-30 & Corporal Roger Snedden Dr",null,"Boone","Rural","At Grade",14400,2440,0.7,{"$f":"_xlfn.IFNA(MATCH(A542,'Weight Based'!F:F,0)-1,\"Not Included in Ranking\")","v":"Not Included in Ranking"},{"$f":"COUNTIF('WWD Crashes'!C:C,A542)","v":0},{"$f":"_xlfn.IFNA(VLOOKUP(A542,'Weight Based'!F:AA,22,FALSE),\"Not Ranked\")","v":"Not Ranked"}]
["US-30 & Sand Hill Trail",null,"Story","Rural","At Grade",17300,700,1.4,{"$f":"_xlfn.IFNA(MATCH(A543,'Weight Based'!F:F,0)-1,\"Not Included in Ranking\")","v":"Not Included in Ranking"},{"$f":"COUNTIF('WWD Crashes'!C:C,A543)","v":0},{"$f":"_xlfn.IFNA(VLOOKUP(A543,'Weight Based'!F:AA,22,FALSE),\"Not Ranked\")","v":"Not Ranked"}]
["US-30 & 230th St",null,"Boone","Rural","At Grade",16400,1160,"",{"$f":"_xlfn.IFNA(MATCH(A544,'Weight Based'!F:F,0)-1,\"Not Included in Ranking\")","v":"Not Included in Ranking"},{"$f":"COUNTIF('WWD Crashes'!C:C,A544)","v":0},{"$f":"_xlfn.IFNA(VLOOKUP(A544,'Weight Based'!F:AA,22,FALSE),\"Not Ranked\")","v":"Not Ranked"}]
["US-30 & Marshall St",null,"Boone","Urban","At Grade",14100,1910,0.3,{"$f":"_xlfn.IFNA(MATCH(A545,'Weight Based'!F:F,0)-1,\"Not Included in Ranking\")","v":"Not Included in Ranking"},{"$f":"COUNTIF('WWD Crashes'!C:C,A545)","v":0},{"$f":"_xlfn.IFNA(VLOOKUP(A545,'Weight Based'!F:AA,22,FALSE),\"Not Ranked\")","v":"Not Ranked"}]
["US-30 & 600th Ave",null,"Story","Rural","At Grade",15300,260,2.1,{"$f":"_xlfn.IFNA(MATCH(A546,'Weight Based'!F:F,0)-1,\"Not Included in Ranking\")","v":"Not Included in Ranking"},{"$f":"COUNTIF('WWD Crashes'!C:C,A546)","v":0},{"$f":"_xlfn.IFNA(VLOOKUP(A546,'Weight Based'!F:AA,22,FALSE),\"Not Ranked\")","v":"Not Ranked"}]
["US-30 & L Ave/CR-R18",null,"Boone","Rural","At Grade",8800,1320,"",{"$f":"_xlfn.IFNA(MATCH(A547,'Weight Based'!F:F,0)-1,\"Not Included in Ranking\")","v":"Not Included in Ranking"},{"$f":"COUNTIF('WWD Crashes'!C:C,A547)","v":0},{"$f":"_xlfn.IFNA(VLOOKUP(A547,'Weight Based'!F:AA,22,FALSE),\"Not Ranked\")","v":"Not Ranked"}]
["US-151 & Richland Rd",null,"Jones","Rural","At Grade",8300,590,"",{"$f":"_xlfn.IFNA(MATCH(A548,'Weight Based'!F:F,0)-1,\"Not Included in Ranking\")","v":"Not Included in Ranking"},{"$f":"COUNTIF('WWD Crashes'!C:C,A548)","v":1},{"$f":"_xlfn.IFNA(VLOOKUP(A548,'Weight Based'!F:AA,22,FALSE),\"Not Ranked\")","v":"Not Ranked"}]
["Attempted Suicide",null,null,null,"n/a",null,null,"",{"$f":"_xlfn.IFNA(MATCH(A549,'Weight Based'!F:F,0)-1,\"Not Included in Ranking\")","v":"Not Included in Ranking"},{"$f":"COUNTIF('WWD Crashes'!C:C,A549)","v":2},{"$f":"_xlfn.IFNA(VLOOKUP(A549,'Weight Based'!F:AA,22,FALSE),\"Not Ranked\")","v":"Not Ranked"}]
["US-30 & Dogwood Rd",null,"Linn","Urban","At Grade",24300,101,"",{"$f":"_xlfn.IFNA(MATCH(A550,'Weight Based'!F:F,0)-1,\"Not Included in Ranking\")","v":"Not Included in Ranking"},{"$f":"COUNTIF('WWD Crashes'!C:C,A550)","v":0},{"$f":"_xlfn.IFNA(VLOOKUP(A550,'Weight Based'!F:AA,22,FALSE),\"Not Ranked\")","v":"Not Ranked"}]
["IA-122 & Mason City Airport",null,"Cerro Gordo","Rural","At Grade",13800,0,"",{"$f":"_xlfn.IFNA(MATCH(A551,'Weight Based'!F:F,0)-1,\"Not Included in Ranking\")","v":"Not Included in Ranking"},{"$f":"COUNTIF('WWD Crashes'!C:C,A551)","v":1},{"$f":"_xlfn.IFNA(VLOOKUP(A551,'Weight Based'!F:AA,22,FALSE),\"Not Ranked\")","v":"Not Ranked"}]
["US-65/69 & County Road G24",null,"Warren","Rural","At Grade",21400,1460,"",{"$f":"_xlfn.IFNA(MATCH(A552,'Weight Based'!F:F,0)-1,\"Not Included in Ranking\")","v":"Not Included in Ranking"},{"$f":"COUNTIF('WWD Crashes'!C:C,A552)","v":0},{"$f":"_xlfn.IFNA(VLOOKUP(A552,'Weight Based'!F:AA,22,FALSE),\"Not Ranked\")","v":"Not Ranked"}]
["US-30 & Hart Ave/CR-S62",null,"Marshall","Rural","At Grade",7500,850,"",{"$f":"_xlfn.IFNA(MATCH(A553,'Weight Based'!F:F,0)-1,\"Not Included in Ranking\")","v":"Not Included in Ranking"},{"$f":"COUNTIF('WWD Crashes'!C:C,A553)","v":0},{"$f":"_xlfn.IFNA(VLOOKUP(A553,'Weight Based'!F:AA,22,FALSE),\"Not Ranked\")","v":"Not Ranked"}]
["US-61 & Skyline Rd",null,"Dubuque","Rural","At Grade",8900,1470,"",{"$f":"_xlfn.IFNA(MATCH(A554,'Weight Based'!F:F,0)-1,\"Not Included in Ranking\")","v":"Not Included in Ranking"},{"$f":"COUNTIF('WWD Crashes'!C:C,A554)","v":1},{"$f":"_xlfn.IFNA(VLOOKUP(A554,'Weight Based'!F:AA,22,FALSE),\"Not Ranked\")","v":"Not Ranked"}]
["US-61 & Higginsport Rd",null,"Dubuque","Rural","At Grade",8900,250,"",{"$f":"_xlfn.IFNA(MATCH(A555,'Weight Based'!F:F,0)-1,\"Not Included in Ranking\")","v":"Not Included in Ranking"},{"$f":"COUNTIF('WWD Crashes'!C:C,A555)","v":1},{"$f":"_xlfn.IFNA(VLOOKUP(A555,'Weight Based'!F:AA,22,FALSE),\"Not Ranked\")","v":"Not Ranked"}]
["I-29 & Hamilton Blvd",437,"Woodbury","Urban","Diamond",36100,18400,"",{"$f":"_xlfn.IFNA(MATCH(A556,'Weight Based'!F:F,0)-1,\"Not Included in Ranking\")","v":321},{"$f":"COUNTIF('WWD Crashes'!C:C,A556)","v":0},{"$f":"_xlfn.IFNA(VLOOKUP(A556,'Weight Based'!F:AA,22,FALSE),\"Not Ranked\")","v":0}]
["IA-141 & Iowa St (Perry)",null,"Dallas","Urban","At Grade",8100,1310,"",{"$f":"_xlfn.IFNA(MATCH(A557,'Weight Based'!F:F,0)-1,\"Not Included in Ranking\")","v":"Not Included in Ranking"},{"$f":"COUNTIF('WWD Crashes'!C:C,A557)","v":0},{"$f":"_xlfn.IFNA(VLOOKUP(A557,'Weight Based'!F:AA,22,FALSE),\"Not Ranked\")","v":"Not Ranked"}]
["IA-141 & 16th St (Perry)",null,"Dallas","Urban","At Grade",8200,1360,"",{"$f":"_xlfn.IFNA(MATCH(A558,'Weight Based'!F:F,0)-1,\"Not Included in Ranking\")","v":"Not Included in Ranking"},{"$f":"COUNTIF('WWD Crashes'!C:C,A558)","v":0},{"$f":"_xlfn.IFNA(VLOOKUP(A558,'Weight Based'!F:AA,22,FALSE),\"Not Ranked\")","v":"Not Ranked"}]
["IA-141 & 10th St (Perry)",null,"Dallas","Urban","At Grade",8200,400,"",{"$f":"_xlfn.IFNA(MATCH(A559,'Weight Based'!F:F,0)-1,\"Not Included in Ranking\")","v":"Not Included in Ranking"},{"$f":"COUNTIF('WWD Crashes'!C:C,A559)","v":0},{"$f":"_xlfn.IFNA(VLOOKUP(A559,'Weight Based'!F:AA,22,FALSE),\"Not Ranked\")","v":"Not Ranked"}]
["I-80 & 100th St",null,"Polk","Urban","Diamond",92300,6300,"",{"$f":"_xlfn.IFNA(MATCH(A560,'Weight Based'!F:F,0)-1,\"Not Included in Ranking\")","v":224},{"$f":"COUNTIF('WWD Crashes'!C:C,A560)","v":1},{"$f":"_xlfn.IFNA(VLOOKUP(A560,'Weight Based'!F:AA,22,FALSE),\"Not Ranked\")","v":0.25}]
["I-80 & Tiffin EB Rest Area",null,"Johnson","Rural","Rest Area",34400,0,"",{"$f":"_xlfn.IFNA(MATCH(A561,'Weight Based'!F:F,0)-1,\"Not Included in Ranking\")","v":"Not Included in Ranking"},{"$f":"COUNTIF('WWD Crashes'!C:C,A561)","v":0},{"$f":"_xlfn.IFNA(VLOOKUP(A561,'Weight Based'!F:AA,22,FALSE),\"Not Ranked\")","v":"Not Ranked"}]
["US-30 & IA-234",null,"Marshall","Rural","At Grade",7500,3120,"",{"$f":"_xlfn.IFNA(MATCH(A562,'Weight Based'!F:F,0)-1,\"Not Included in Ranking\")","v":"Not Included in Ranking"},{"$f":"COUNTIF('WWD Crashes'!C:C,A562)","v":1},{"$f":"_xlfn.IFNA(VLOOKUP(A562,'Weight Based'!F:AA,22,FALSE),\"Not Ranked\")","v":"Not Ranked"}]
["US-30 & IA-100",null,"Linn","Rural","System",14100,5300,"",{"$f":"_xlfn.IFNA(MATCH(A563,'Weight Based'!F:F,0)-1,\"Not Included in Ranking\")","v":"Not Included in Ranking"},{"$f":"COUNTIF('WWD Crashes'!C:C,A563)","v":0},{"$f":"_xlfn.IFNA(VLOOKUP(A563,'Weight Based'!F:AA,22,FALSE),\"Not Ranked\")","v":"Not Ranked"}]
["I-380 MM 12 Rest Area",null,"Linn","Urban","Rest Area",57700,0,null,{"$f":"_xlfn.IFNA(MATCH(A564,'Weight Based'!F:F,0)-1,\"Not Included in Ranking\")","v":"Not Included in Ranking"},{"$f":"COUNTIF('WWD Crashes'!C:C,A564)","v":0},{"$f":"_xlfn.IFNA(VLOOKUP(A564,'Weight Based'!F:AA,22,FALSE),\"Not Ranked\")","v":"Not Ranked"}]
["US-30 & 260th Ave",null,"Clinton","Rural","At Grade",5600,770,null,{"$f":"_xlfn.IFNA(MATCH(A565,'Weight Based'!F:F,0)-1,\"Not Included in Ranking\")","v":"Not Included in Ranking"},{"$f":"COUNTIF('WWD Crashes'!C:C,A565)","v":0},{"$f":"_xlfn.IFNA(VLOOKUP(A565,'Weight Based'!F:AA,22,FALSE),\"Not Ranked\")","v":"Not Ranked"}]
["US-61 & IA-16",null,"Lee","Rural","At Grade",14100,1900,null,{"$f":"_xlfn.IFNA(MATCH(A566,'Weight Based'!F:F,0)-1,\"Not Included in Ranking\")","v":"Not Included in Ranking"},{"$f":"COUNTIF('WWD Crashes'!C:C,A566)","v":0},{"$f":"_xlfn.IFNA(VLOOKUP(A566,'Weight Based'!F:AA,22,FALSE),\"Not Ranked\")","v":"Not Ranked"}]
["US-61 & 175th St",null,"Lee","Rural","At Grade",13300,1150,null,{"$f":"_xlfn.IFNA(MATCH(A567,'Weight Based'!F:F,0)-1,\"Not Included in Ranking\")","v":"Not Included in Ranking"},{"$f":"COUNTIF('WWD Crashes'!C:C,A567)","v":0},{"$f":"_xlfn.IFNA(VLOOKUP(A567,'Weight Based'!F:AA,22,FALSE),\"Not Ranked\")","v":"Not Ranked"}]
["US-30 & IA-1",null,"Linn","Urban","Diamond",13100,7100,null,{"$f":"_xlfn.IFNA(MATCH(A568,'Weight Based'!F:F,0)-1,\"Not Included in Ranking\")","v":"Not Included in Ranking"},{"$f":"COUNTIF('WWD Crashes'!C:C,A568)","v":0},{"$f":"_xlfn.IFNA(VLOOKUP(A568,'Weight Based'!F:AA,22,FALSE),\"Not Ranked\")","v":"Not Ranked"}]
["US-30 & Cedar River Rd",null,"Linn","Rural","At Grade",13500,1330,null,{"$f":"_xlfn.IFNA(MATCH(A569,'Weight Based'!F:F,0)-1,\"Not Included in Ranking\")","v":"Not Included in Ranking"},{"$f":"COUNTIF('WWD Crashes'!C:C,A569)","v":0},{"$f":"_xlfn.IFNA(VLOOKUP(A569,'Weight Based'!F:AA,22,FALSE),\"Not Ranked\")","v":"Not Ranked"}]
["US-30 & Old US-30",null,"Linn","Rural","At Grade",13500,13500,null,{"$f":"_xlfn.IFNA(MATCH(A570,'Weight Based'!F:F,0)-1,\"Not Included in Ranking\")","v":"Not Included in Ranking"},{"$f":"COUNTIF('WWD Crashes'!C:C,A570)","v":0},{"$f":"_xlfn.IFNA(VLOOKUP(A570,'Weight Based'!F:AA,22,FALSE),\"Not Ranked\")","v":"Not Ranked"}]
["US-20 & US-63",261,"Black Hawk","Urban","Unique",30900,9200,1,{"$f":"_xlfn.IFNA(MATCH(A571,'Weight Based'!F:F,0)-1,\"Not Included in Ranking\")","v":67},{"$f":"COUNTIF('WWD Crashes'!C:C,A571)","v":0},{"$f":"_xlfn.IFNA(VLOOKUP(A571,'Weight Based'!F:AA,22,FALSE),\"Not Ranked\")","v":0}]
["US-34 & BUS-34 (Danville)",null,"Des Moines","Rural","At Grade",null,null,null,{"$f":"_xlfn.IFNA(MATCH(A572,'Weight Based'!F:F,0)-1,\"Not Included in Ranking\")","v":"Not Included in Ranking"},{"$f":"COUNTIF('WWD Crashes'!C:C,A572)","v":0},{"$f":"_xlfn.IFNA(VLOOKUP(A572,'Weight Based'!F:AA,22,FALSE),\"Not Ranked\")","v":"Not Ranked"}]
["US-34 & Roosevelt Rd",null,"Des Moines","Rural","At Grade",null,null,null,{"$f":"_xlfn.IFNA(MATCH(A573,'Weight Based'!F:F,0)-1,\"Not Included in Ranking\")","v":"Not Included in Ranking"},{"$f":"COUNTIF('WWD Crashes'!C:C,A573)","v":0},{"$f":"_xlfn.IFNA(VLOOKUP(A573,'Weight Based'!F:AA,22,FALSE),\"Not Ranked\")","v":"Not Ranked"}]
["US-30 & Benton Linn Rd",null,"Linn","Rural","At Grade",14200,190,null,{"$f":"_xlfn.IFNA(MATCH(A574,'Weight Based'!F:F,0)-1,\"Not Included in Ranking\")","v":"Not Included in Ranking"},{"$f":"COUNTIF('WWD Crashes'!C:C,A574)","v":0},{"$f":"_xlfn.IFNA(VLOOKUP(A574,'Weight Based'!F:AA,22,FALSE),\"Not Ranked\")","v":"Not Ranked"}]
["US-30 & US-218",null,"Benton","Rural","At Grade",9600,2370,null,{"$f":"_xlfn.IFNA(MATCH(A575,'Weight Based'!F:F,0)-1,\"Not Included in Ranking\")","v":"Not Included in Ranking"},{"$f":"COUNTIF('WWD Crashes'!C:C,A575)","v":0},{"$f":"_xlfn.IFNA(VLOOKUP(A575,'Weight Based'!F:AA,22,FALSE),\"Not Ranked\")","v":"Not Ranked"}]

{"sheet":"Weight Based","index":3,"n_rows":457,"n_cols":37,"rows_kept":457,"cut":false,"hidden":false,"merged":[[3,10,3,12]]}
["Crashes",null,null,null,null,"Interchange","# of Crashes","# of Non-Crash Events","Total Points",null,null,null,null,null,null,null,null,null,null,null,null,null,null,null,null,null,"Crashes","Crash Points","Non-Crash Event Points","Unique Int","ML Traffic","ML Traffic Points","SR Traffic","SR Traffic Points","Bonus Traffic Points","Urban Location","Old Urban/Rural"]
["Criteria","Points",null,null,null,"I-380 & Wilson Ave",{"$f":"COUNTIF('WWD Crashes'!C:C,F2)","v":3},{"$f":"COUNTIFS('Non-Crash Events'!B:B,F2,'Non-Crash Events'!R:R,\">0\")","v":3},{"$f":"SUM(AB2,AC2,AD2,AF2,AH2,AI2,AJ2)","v":201.5},null,null,null,null,null,null,null,null,null,null,null,null,null,null,null,null,null,{"$f":"SUMIFS('WWD Crashes'!G:G,'WWD Crashes'!C:C,F2)","v":1.5},{"$f":"_xlfn.IFS(AA2<0.125,$B$3,AA2<0.25,$B$4,AA2<0.5,$B$5,AA2<0.99,$B$6,AA2<1.5,$B$7,TRUE,$B$8)+$B$9*SUMIFS('WWD Crashes'!G:G,'WWD Crashes'!C:C,F2,'WWD Crashes'!L:L,\">0\")++$B$10*SUMIFS('WWD Crashes'!G:G,'WWD Crashes'!C:C,F2,'WWD Crashes'!M:M,\">0\")","v":137.5},{"$f":"MIN($B$16*SUMIF('Non-Crash Events'!B:B,F2,'Non-Crash Events'!R:R),50)","v":30},{"$f":"IF(VLOOKUP(F2,Intersections!A:E,5,FALSE)=\"Unique\",$B$22,IF(VLOOKUP(F2,Intersections!A:E,5,FALSE)=\"Split\",$B$23,0))","v":0},{"$f":"VLOOKUP(F2,Intersections!A:F,6,FALSE)","v":81100},{"$f":"_xlfn.IFS(AE2<7821,1,AE2<9601,2,AE2<11931,3,AE2<15801,4,AE2<20401,5,AE2<24821,6,AE2<29771,7,AE2<36181,8,AE2<67181,9,TRUE,10)","v":10},{"$f":"VLOOKUP(F2,Intersections!A:G,7,FALSE)","v":15000},{"$f":"_xlfn.IFS(AG2<827,1,AG2<1663,2,AG2<2590,3,AG2<3401,4,AG2<4671,5,AG2<6501,6,AG2<8401,7,AG2<1161,8,AG2<19401,9,TRUE,10)","v":9},{"$f":"IF(AND(AF2>8,AG2>8),5,0)","v":5},{"$f":"_xlfn.IFS(VLOOKUP(F2,Intersections!A:H,8,FALSE)<=0.7,$B$30,VLOOKUP(F2,Intersections!A:H,8,FALSE)<=2,$B$31,TRUE,0)","v":10},{"$f":"_xlfn.IFS(VLOOKUP(F2,Intersections!A:D,4,FALSE)=\"Urban\",$B$30,TRUE,0)","v":10}]
["Zero Crashes",0,null,null,null,"I-380 & 1st St",{"$f":"COUNTIF('WWD Crashes'!C:C,F3)","v":1},{"$f":"COUNTIFS('Non-Crash Events'!B:B,F3,'Non-Crash Events'!R:R,\">0\")","v":6},191.15,null,null,null,null,null,null,null,null,null,null,null,null,null,"Total Points:",null,null,null,{"$f":"SUMIFS('WWD Crashes'!G:G,'WWD Crashes'!C:C,F3)","v":0.75},{"$f":"_xlfn.IFS(AA3<0.125,$B$3,AA3<0.25,$B$4,AA3<0.5,$B$5,AA3<0.99,$B$6,AA3<1.5,$B$7,TRUE,$B$8)+$B$9*SUMIFS('WWD Crashes'!G:G,'WWD Crashes'!C:C,F3,'WWD Crashes'!L:L,\">0\")++$B$10*SUMIFS('WWD Crashes'!G:G,'WWD Crashes'!C:C,F3,'WWD Crashes'!M:M,\">0\")","v":71.25},{"$f":"MIN($B$16*SUMIF('Non-Crash Events'!B:B,F3,'Non-Crash Events'!R:R),50)","v":39.900000000000006},{"$f":"IF(VLOOKUP(F3,Intersections!A:E,5,FALSE)=\"Unique\",$B$22,IF(VLOOKUP(F3,Intersections!A:E,5,FALSE)=\"Split\",$B$23,0))","v":50},{"$f":"VLOOKUP(F3,Intersections!A:F,6,FALSE)","v":79400},{"$f":"_xlfn.IFS(AE3<7821,1,AE3<9601,2,AE3<11931,3,AE3<15801,4,AE3<20401,5,AE3<24821,6,AE3<29771,7,AE3<36181,8,AE3<67181,9,TRUE,10)","v":10},{"$f":"VLOOKUP(F3,Intersections!A:G,7,FALSE)","v":4550},{"$f":"_xlfn.IFS(AG3<827,1,AG3<1663,2,AG3<2590,3,AG3<3401,4,AG3<4671,5,AG3<6501,6,AG3<8401,7,AG3<1161,8,AG3<19401,9,TRUE,10)","v":5},{"$f":"IF(AND(AF3>8,AG3>8),5,0)","v":5},{"$f":"_xlfn.IFS(VLOOKUP(F3,Intersections!A:H,8,FALSE)<=0.7,$B$30,VLOOKUP(F3,Intersections!A:H,8,FALSE)<=2,$B$31,TRUE,0)","v":10},{"$f":"_xlfn.IFS(VLOOKUP(F3,Intersections!A:D,4,FALSE)=\"Urban\",$B$30,TRUE,0)","v":10}]
["[0 .125 - 0.25] Crashes",5,null,null,null,"US-30 & Kirkwood Blvd",{"$f":"COUNTIF('WWD Crashes'!C:C,F4)","v":3},{"$f":"COUNTIFS('Non-Crash Events'!B:B,F4,'Non-Crash Events'!R:R,\">0\")","v":6},186.9,null,"INFORMATION",null,null,null,null,null,null,null,null,null,null,0.25,"Crashes",{"$f":"SUM(AB:AB)","v":5106.7574999999997},{"$f":"X4/X$11","v":0.29232155810724963},null,{"$f":"SUMIFS('WWD Crashes'!G:G,'WWD Crashes'!C:C,F4)","v":1.5},{"$f":"_xlfn.IFS(AA4<0.125,$B$3,AA4<0.25,$B$4,AA4<0.5,$B$5,AA4<0.99,$B$6,AA4<1.5,$B$7,TRUE,$B$8)+$B$9*SUMIFS('WWD Crashes'!G:G,'WWD Crashes'!C:C,F4,'WWD Crashes'!L:L,\">0\")++$B$10*SUMIFS('WWD Crashes'!G:G,'WWD Crashes'!C:C,F4,'WWD Crashes'!M:M,\">0\")","v":62.5},{"$f":"MIN($B$16*SUMIF('Non-Crash Events'!B:B,F4,'Non-Crash Events'!R:R),50)","v":47.400000000000006},{"$f":"IF(VLOOKUP(F4,Intersections!A:E,5,FALSE)=\"Unique\",$B$22,IF(VLOOKUP(F4,Intersections!A:E,5,FALSE)=\"Split\",$B$23,0))","v":50},{"$f":"VLOOKUP(F4,Intersections!A:F,6,FALSE)","v":31700},8,{"$f":"VLOOKUP(F4,Intersections!A:G,7,FALSE)","v":16200},9,0,{"$f":"_xlfn.IFS(VLOOKUP(F4,Intersections!A:H,8,FALSE)<=0.7,$B$30,VLOOKUP(F4,Intersections!A:H,8,FALSE)<=2,$B$31,TRUE,0)","v":10},{"$f":"_xlfn.IFS(VLOOKUP(F4,Intersections!A:D,4,FALSE)=\"Urban\",$B$30,TRUE,0)","v":10}]
["[0.25 - 0.5] Crashes",10,null,null,null,"I-80 & Grand Prairie Pkwy",{"$f":"COUNTIF('WWD Crashes'!C:C,F5)","v":1},{"$f":"COUNTIFS('Non-Crash Events'!B:B,F5,'Non-Crash Events'!R:R,\">0\")","v":1},185,null,"Intersection Facts:",null,null,null,null,null,null,null,null,null,null,0.05,"Non-Crash Events",{"$f":"SUM(AC:AC)","v":1491.9000000000003},{"$f":"X5/X$11","v":8.5399499102944643E-2},null,{"$f":"SUMIFS('WWD Crashes'!G:G,'WWD Crashes'!C:C,F5)","v":1},{"$f":"_xlfn.IFS(AA5<0.125,$B$3,AA5<0.25,$B$4,AA5<0.5,$B$5,AA5<0.99,$B$6,AA5<1.5,$B$7,TRUE,$B$8)+$B$9*SUMIFS('WWD Crashes'!G:G,'WWD Crashes'!C:C,F5,'WWD Crashes'!L:L,\">0\")++$B$10*SUMIFS('WWD Crashes'!G:G,'WWD Crashes'!C:C,F5,'WWD Crashes'!M:M,\">0\")","v":95},{"$f":"MIN($B$16*SUMIF('Non-Crash Events'!B:B,F5,'Non-Crash Events'!R:R),50)","v":10},{"$f":"IF(VLOOKUP(F5,Intersections!A:E,5,FALSE)=\"Unique\",$B$22,IF(VLOOKUP(F5,Intersections!A:E,5,FALSE)=\"Split\",$B$23,0))","v":50},{"$f":"VLOOKUP(F5,Intersections!A:F,6,FALSE)","v":47200},9,{"$f":"VLOOKUP(F5,Intersections!A:G,7,FALSE)","v":5100},6,5,{"$f":"_xlfn.IFS(VLOOKUP(F5,Intersections!A:H,8,FALSE)<=0.7,$B$30,VLOOKUP(F5,Intersections!A:H,8,FALSE)<=2,$B$31,TRUE,0)","v":10},{"$f":"_xlfn.IFS(VLOOKUP(F5,Intersections!A:D,4,FALSE)=\"Urban\",$B$30,TRUE,0)","v":10}]
["[0.5 - .99] Crashes",15,null,null,null,"IA-163 & CR-G28",{"$f":"COUNTIF('WWD Crashes'!C:C,F6)","v":2},{"$f":"COUNTIFS('Non-Crash Events'!B:B,F6,'Non-Crash Events'!R:R,\">0\")","v":0},166.25,null,null,"Interchange:","I-235 & 73rd St",null,null,null,null,null,null,null,null,0.25,"Uniqueness",{"$f":"SUM(AD:AD)","v":3250},0.18603684703034387,null,{"$f":"SUMIFS('WWD Crashes'!G:G,'WWD Crashes'!C:C,F6)","v":1.49},{"$f":"_xlfn.IFS(AA6<0.125,$B$3,AA6<0.25,$B$4,AA6<0.5,$B$5,AA6<0.99,$B$6,AA6<1.5,$B$7,TRUE,$B$8)+$B$9*SUMIFS('WWD Crashes'!G:G,'WWD Crashes'!C:C,F6,'WWD Crashes'!L:L,\">0\")++$B$10*SUMIFS('WWD Crashes'!G:G,'WWD Crashes'!C:C,F6,'WWD Crashes'!M:M,\">0\")","v":94.25},{"$f":"MIN($B$16*SUMIF('Non-Crash Events'!B:B,F6,'Non-Crash Events'!R:R),50)","v":0},{"$f":"IF(VLOOKUP(F6,Intersections!A:E,5,FALSE)=\"Unique\",$B$22,IF(VLOOKUP(F6,Intersections!A:E,5,FALSE)=\"Split\",$B$23,0))","v":50},{"$f":"VLOOKUP(F6,Intersections!A:F,6,FALSE)","v":10200},3,{"$f":"VLOOKUP(F6,Intersections!A:G,7,FALSE)","v":9800},9,0,{"$f":"_xlfn.IFS(VLOOKUP(F6,Intersections!A:H,8,FALSE)<=0.7,$B$30,VLOOKUP(F6,Intersections!A:H,8,FALSE)<=2,$B$31,TRUE,0)","v":10},{"$f":"_xlfn.IFS(VLOOKUP(F6,Intersections!A:D,4,FALSE)=\"Urban\",$B$30,TRUE,0)","v":10}]
["[.99 - 1.5] Crashes",20,null,null,null,"I-80 & 1st Ave",{"$f":"COUNTIF('WWD Crashes'!C:C,F7)","v":2},{"$f":"COUNTIFS('Non-Crash Events'!B:B,F7,'Non-Crash Events'!R:R,\">0\")","v":2},154,null,null,"County:",{"$f":"VLOOKUP(M6,Intersections!A:C,3,FALSE)","v":"Polk"},null,null,null,null,null,null,null,null,null,"ML Traffic",{"$f":"SUM(AF:AF)","v":2385},0.13652242466688314,null,{"$f":"SUMIFS('WWD Crashes'!G:G,'WWD Crashes'!C:C,F7)","v":2},{"$f":"_xlfn.IFS(AA7<0.125,$B$3,AA7<0.25,$B$4,AA7<0.5,$B$5,AA7<0.99,$B$6,AA7<1.5,$B$7,TRUE,$B$8)+$B$9*SUMIFS('WWD Crashes'!G:G,'WWD Crashes'!C:C,F7,'WWD Crashes'!L:L,\">0\")++$B$10*SUMIFS('WWD Crashes'!G:G,'WWD Crashes'!C:C,F7,'WWD Crashes'!M:M,\">0\")","v":100},{"$f":"MIN($B$16*SUMIF('Non-Crash Events'!B:B,F7,'Non-Crash Events'!R:R),50)","v":20},{"$f":"IF(VLOOKUP(F7,Intersections!A:E,5,FALSE)=\"Unique\",$B$22,IF(VLOOKUP(F7,Intersections!A:E,5,FALSE)=\"Split\",$B$23,0))","v":0},{"$f":"VLOOKUP(F7,Intersections!A:F,6,FALSE)","v":64300},9,{"$f":"VLOOKUP(F7,Intersections!A:G,7,FALSE)","v":24200},10,5,{"$f":"_xlfn.IFS(VLOOKUP(F7,Intersections!A:H,8,FALSE)<=0.7,$B$30,VLOOKUP(F7,Intersections!A:H,8,FALSE)<=2,$B$31,TRUE,0)","v":10},{"$f":"_xlfn.IFS(VLOOKUP(F7,Intersections!A:D,4,FALSE)=\"Urban\",$B$30,TRUE,0)","v":10}]
["> = 1.5 Crashes",25,null,null,null,"I-29 & IA-192/16th St",{"$f":"COUNTIF('WWD Crashes'!C:C,F8)","v":1},{"$f":"COUNTIFS('Non-Crash Events'!B:B,F8,'Non-Crash Events'!R:R,\">0\")","v":0},148.25,null,null,"Dist. To Liquor License:",{"$f":"_xlfn.TEXTJOIN(\"\",TRUE,_xlfn.IFS(VLOOKUP(M6,Intersections!A:H,8,FALSE)<=0.7,A30,VLOOKUP(M6,Intersections!A:H,8,FALSE)<=2,A31,TRUE,A32),\" (\",X17,\" points)\")","v":"Within 0.7 miles (10 points)"},null,null,null,null,null,null,null,null,null,"SR Traffic",{"$f":"SUM(AH:AH)","v":2431},0.13915556157869724,null,{"$f":"SUMIFS('WWD Crashes'!G:G,'WWD Crashes'!C:C,F8)","v":0.79},{"$f":"_xlfn.IFS(AA8<0.125,$B$3,AA8<0.25,$B$4,AA8<0.5,$B$5,AA8<0.99,$B$6,AA8<1.5,$B$7,TRUE,$B$8)+$B$9*SUMIFS('WWD Crashes'!G:G,'WWD Crashes'!C:C,F8,'WWD Crashes'!L:L,\">0\")++$B$10*SUMIFS('WWD Crashes'!G:G,'WWD Crashes'!C:C,F8,'WWD Crashes'!M:M,\">0\")","v":74.25},{"$f":"MIN($B$16*SUMIF('Non-Crash Events'!B:B,F8,'Non-Crash Events'!R:R),50)","v":0},{"$f":"IF(VLOOKUP(F8,Intersections!A:E,5,FALSE)=\"Unique\",$B$22,IF(VLOOKUP(F8,Intersections!A:E,5,FALSE)=\"Split\",$B$23,0))","v":50},{"$f":"VLOOKUP(F8,Intersections!A:F,6,FALSE)","v":18200},5,{"$f":"VLOOKUP(F8,Intersections!A:G,7,FALSE)","v":8700},9,0,{"$f":"_xlfn.IFS(VLOOKUP(F8,Intersections!A:H,8,FALSE)<=0.7,$B$30,VLOOKUP(F8,Intersections!A:H,8,FALSE)<=2,$B$31,TRUE,0)","v":10},{"$f":"_xlfn.IFS(VLOOKUP(F8,Intersections!A:D,4,FALSE)=\"Urban\",$B$30,TRUE,0)","v":10}]
["Major Injury Crash",0,null,null,null,"I-280 & US-6",{"$f":"COUNTIF('WWD Crashes'!C:C,F9)","v":1},{"$f":"COUNTIFS('Non-Crash Events'!B:B,F9,'Non-Crash Events'!R:R,\">0\")","v":2},144.25,null,null,"Type:",{"$f":"_xlfn.TEXTJOIN(\"\",TRUE,VLOOKUP(M6,Intersections!A:E,5,FALSE),\" (\",X16,\" points)\")","v":"Unique (50 points)"},null,null,null,null,null,null,null,null,0.25,"Bonus",{"$f":"SUM(AI:AI)","v":430},2.4614105914783961E-2,null,{"$f":"SUMIFS('WWD Crashes'!G:G,'WWD Crashes'!C:C,F9)","v":0.75},{"$f":"_xlfn.IFS(AA9<0.125,$B$3,AA9<0.25,$B$4,AA9<0.5,$B$5,AA9<0.99,$B$6,AA9<1.5,$B$7,TRUE,$B$8)+$B$9*SUMIFS('WWD Crashes'!G:G,'WWD Crashes'!C:C,F9,'WWD Crashes'!L:L,\">0\")++$B$10*SUMIFS('WWD Crashes'!G:G,'WWD Crashes'!C:C,F9,'WWD Crashes'!M:M,\">0\")","v":71.25},{"$f":"MIN($B$16*SUMIF('Non-Crash Events'!B:B,F9,'Non-Crash Events'!R:R),50)","v":10},{"$f":"IF(VLOOKUP(F9,Intersections!A:E,5,FALSE)=\"Unique\",$B$22,IF(VLOOKUP(F9,Intersections!A:E,5,FALSE)=\"Split\",$B$23,0))","v":50},{"$f":"VLOOKUP(F9,Intersections!A:F,6,FALSE)","v":22400},6,{"$f":"VLOOKUP(F9,Intersections!A:G,7,FALSE)","v":6600},7,0,{"$f":"_xlfn.IFS(VLOOKUP(F9,Intersections!A:H,8,FALSE)<=0.7,$B$30,VLOOKUP(F9,Intersections!A:H,8,FALSE)<=2,$B$31,TRUE,0)","v":0},{"$f":"_xlfn.IFS(VLOOKUP(F9,Intersections!A:D,4,FALSE)=\"Urban\",$B$30,TRUE,0)","v":0}]
["Fatal Crash",75,null,null,null,"I-380 & 33rd Ave",{"$f":"COUNTIF('WWD Crashes'!C:C,F10)","v":2},{"$f":"COUNTIFS('Non-Crash Events'!B:B,F10,'Non-Crash Events'!R:R,\">0\")","v":4},141.15,null,null,"Major AADT:",{"$f":"_xlfn.TEXTJOIN(\"\",TRUE,VLOOKUP(M6,Intersections!A:F,6,FALSE),\" (\",VLOOKUP(M6,F:AF,27,FALSE),\" points)\")","v":"128100 (10 points)"},null,null,null,null,null,null,null,null,0.2,"Urban",{"$f":"SUM(AJ:AJ)","v":2375},0.13595000359909745,null,{"$f":"SUMIFS('WWD Crashes'!G:G,'WWD Crashes'!C:C,F10)","v":0.75},{"$f":"_xlfn.IFS(AA10<0.125,$B$3,AA10<0.25,$B$4,AA10<0.5,$B$5,AA10<0.99,$B$6,AA10<1.5,$B$7,TRUE,$B$8)+$B$9*SUMIFS('WWD Crashes'!G:G,'WWD Crashes'!C:C,F10,'WWD Crashes'!L:L,\">0\")++$B$10*SUMIFS('WWD Crashes'!G:G,'WWD Crashes'!C:C,F10,'WWD Crashes'!M:M,\">0\")","v":71.25},{"$f":"MIN($B$16*SUMIF('Non-Crash Events'!B:B,F10,'Non-Crash Events'!R:R),50)","v":34.900000000000006},{"$f":"IF(VLOOKUP(F10,Intersections!A:E,5,FALSE)=\"Unique\",$B$22,IF(VLOOKUP(F10,Intersections!A:E,5,FALSE)=\"Split\",$B$23,0))","v":0},{"$f":"VLOOKUP(F10,Intersections!A:F,6,FALSE)","v":76100},10,{"$f":"VLOOKUP(F10,Intersections!A:G,7,FALSE)","v":20400},10,5,{"$f":"_xlfn.IFS(VLOOKUP(F10,Intersections!A:H,8,FALSE)<=0.7,$B$30,VLOOKUP(F10,Intersections!A:H,8,FALSE)<=2,$B$31,TRUE,0)","v":10},{"$f":"_xlfn.IFS(VLOOKUP(F10,Intersections!A:D,4,FALSE)=\"Urban\",$B$30,TRUE,0)","v":10}]
[null,null,null,null,null,"I-80 & US-69",{"$f":"COUNTIF('WWD Crashes'!C:C,F11)","v":2},{"$f":"COUNTIFS('Non-Crash Events'!B:B,F11,'Non-Crash Events'!R:R,\">0\")","v":0},135,null,null,"Minor AADT:",{"$f":"_xlfn.TEXTJOIN(\"\",TRUE,VLOOKUP(M6,Intersections!A:G,7,FALSE),\" (\",VLOOKUP(M6,F:AH,29,FALSE),\" points)\")","v":"22600 (10 points)"},null,null,null,null,null,null,null,null,null,"Total",{"$f":"SUM(X4:X10)","v":17469.657500000001},null,null,{"$f":"SUMIFS('WWD Crashes'!G:G,'WWD Crashes'!C:C,F11)","v":2},{"$f":"_xlfn.IFS(AA11<0.125,$B$3,AA11<0.25,$B$4,AA11<0.5,$B$5,AA11<0.99,$B$6,AA11<1.5,$B$7,TRUE,$B$8)+$B$9*SUMIFS('WWD Crashes'!G:G,'WWD Crashes'!C:C,F11,'WWD Crashes'!L:L,\">0\")++$B$10*SUMIFS('WWD Crashes'!G:G,'WWD Crashes'!C:C,F11,'WWD Crashes'!M:M,\">0\")","v":100},{"$f":"MIN($B$16*SUMIF('Non-Crash Events'!B:B,F11,'Non-Crash Events'!R:R),50)","v":0},{"$f":"IF(VLOOKUP(F11,Intersections!A:E,5,FALSE)=\"Unique\",$B$22,IF(VLOOKUP(F11,Intersections!A:E,5,FALSE)=\"Split\",$B$23,0))","v":0},{"$f":"VLOOKUP(F11,Intersections!A:F,6,FALSE)","v":87400},10,{"$f":"VLOOKUP(F11,Intersections!A:G,7,FALSE)","v":19600},10,5,{"$f":"_xlfn.IFS(VLOOKUP(F11,Intersections!A:H,8,FALSE)<=0.7,$B$30,VLOOKUP(F11,Intersections!A:H,8,FALSE)<=2,$B$31,TRUE,0)","v":10},{"$f":"_xlfn.IFS(VLOOKUP(F11,Intersections!A:D,4,FALSE)=\"Urban\",$B$30,TRUE,0)","v":10}]
[null,null,null,null,null,"I-35 & Grand Ave",{"$f":"COUNTIF('WWD Crashes'!C:C,F12)","v":2},{"$f":"COUNTIFS('Non-Crash Events'!B:B,F12,'Non-Crash Events'!R:R,\">0\")","v":1},128.25,null,null,"# of Non-Crash Events:",{"$f":"_xlfn.TEXTJOIN(\"\",TRUE,COUNTIFS('Non-Crash Events'!B:B,M6,'Non-Crash Events'!R:R,\">0\"),\" (\",X14,\" points)\")","v":"0 (0 points)"},null,null,null,null,null,null,null,null,null,"Selected Interchange Points",null,null,null,{"$f":"SUMIFS('WWD Crashes'!G:G,'WWD Crashes'!C:C,F12)","v":1.24},{"$f":"_xlfn.IFS(AA12<0.125,$B$3,AA12<0.25,$B$4,AA12<0.5,$B$5,AA12<0.99,$B$6,AA12<1.5,$B$7,TRUE,$B$8)+$B$9*SUMIFS('WWD Crashes'!G:G,'WWD Crashes'!C:C,F12,'WWD Crashes'!L:L,\">0\")++$B$10*SUMIFS('WWD Crashes'!G:G,'WWD Crashes'!C:C,F12,'WWD Crashes'!M:M,\">0\")","v":94.25},{"$f":"MIN($B$16*SUMIF('Non-Crash Events'!B:B,F12,'Non-Crash Events'!R:R),50)","v":10},{"$f":"IF(VLOOKUP(F12,Intersections!A:E,5,FALSE)=\"Unique\",$B$22,IF(VLOOKUP(F12,Intersections!A:E,5,FALSE)=\"Split\",$B$23,0))","v":0},{"$f":"VLOOKUP(F12,Intersections!A:F,6,FALSE)","v":53700},9,{"$f":"VLOOKUP(F12,Intersections!A:G,7,FALSE)","v":4660},5,5,{"$f":"_xlfn.IFS(VLOOKUP(F12,Intersections!A:H,8,FALSE)<=0.7,$B$30,VLOOKUP(F12,Intersections!A:H,8,FALSE)<=2,$B$31,TRUE,0)","v":5},{"$f":"_xlfn.IFS(VLOOKUP(F12,Intersections!A:D,4,FALSE)=\"Urban\",$B$30,TRUE,0)","v":10}]
[null,null,null,null,null,"I-380 & 7th St",{"$f":"COUNTIF('WWD Crashes'!C:C,F13)","v":1},{"$f":"COUNTIFS('Non-Crash Events'!B:B,F13,'Non-Crash Events'!R:R,\">0\")","v":5},132,null,null,"# of Crashes:",{"$f":"_xlfn.TEXTJOIN(\"\",TRUE,COUNTIF('WWD Crashes'!C:C,M6),\" (\",X13,\" points)\")","v":"1 (20 points)"},null,null,null,null,null,null,null,null,null,"Crashes",{"$f":"VLOOKUP(M6,F:AB,23,FALSE)","v":20},null,null,{"$f":"SUMIFS('WWD Crashes'!G:G,'WWD Crashes'!C:C,F13)","v":1},{"$f":"_xlfn.IFS(AA13<0.125,$B$3,AA13<0.25,$B$4,AA13<0.5,$B$5,AA13<0.99,$B$6,AA13<1.5,$B$7,TRUE,$B$8)+$B$9*SUMIFS('WWD Crashes'!G:G,'WWD Crashes'!C:C,F13,'WWD Crashes'!L:L,\">0\")++$B$10*SUMIFS('WWD Crashes'!G:G,'WWD Crashes'!C:C,F13,'WWD Crashes'!M:M,\">0\")","v":20},{"$f":"MIN($B$16*SUMIF('Non-Crash Events'!B:B,F13,'Non-Crash Events'!R:R),50)","v":30},{"$f":"IF(VLOOKUP(F13,Intersections!A:E,5,FALSE)=\"Unique\",$B$22,IF(VLOOKUP(F13,Intersections!A:E,5,FALSE)=\"Split\",$B$23,0))","v":50},{"$f":"VLOOKUP(F13,Intersections!A:F,6,FALSE)","v":90800},10,{"$f":"VLOOKUP(F13,Intersections!A:G,7,FALSE)","v":6900},7,5,{"$f":"_xlfn.IFS(VLOOKUP(F13,Intersections!A:H,8,FALSE)<=0.7,$B$30,VLOOKUP(F13,Intersections!A:H,8,FALSE)<=2,$B$31,TRUE,0)","v":10},{"$f":"_xlfn.IFS(VLOOKUP(F13,Intersections!A:D,4,FALSE)=\"Urban\",$B$30,TRUE,0)","v":10}]
["Non-Crash Events",null,null,null,null,"US-218 & Barrick Rd",{"$f":"COUNTIF('WWD Crashes'!C:C,F14)","v":1},{"$f":"COUNTIFS('Non-Crash Events'!B:B,F14,'Non-Crash Events'!R:R,\">0\")","v":0},130.25,null,null,"# of Major Injuries:",{"$f":"SUMIF('WWD Crashes'!C:C,M6,'WWD Crashes'!L:L)","v":0},null,null,null,null,null,null,null,null,null,"Non-Crash Events",{"$f":"VLOOKUP(M6,F:AC,24,FALSE)","v":0},null,null,{"$f":"SUMIFS('WWD Crashes'!G:G,'WWD Crashes'!C:C,F14)","v":0.75},{"$f":"_xlfn.IFS(AA14<0.125,$B$3,AA14<0.25,$B$4,AA14<0.5,$B$5,AA14<0.99,$B$6,AA14<1.5,$B$7,TRUE,$B$8)+$B$9*SUMIFS('WWD Crashes'!G:G,'WWD Crashes'!C:C,F14,'WWD Crashes'!L:L,\">0\")++$B$10*SUMIFS('WWD Crashes'!G:G,'WWD Crashes'!C:C,F14,'WWD Crashes'!M:M,\">0\")","v":71.25},{"$f":"MIN($B$16*SUMIF('Non-Crash Events'!B:B,F14,'Non-Crash Events'!R:R),50)","v":0},{"$f":"IF(VLOOKUP(F14,Intersections!A:E,5,FALSE)=\"Unique\",$B$22,IF(VLOOKUP(F14,Intersections!A:E,5,FALSE)=\"Split\",$B$23,0))","v":50},{"$f":"VLOOKUP(F14,Intersections!A:F,6,FALSE)","v":19000},5,{"$f":"VLOOKUP(F14,Intersections!A:G,7,FALSE)","v":2900},4,0,{"$f":"_xlfn.IFS(VLOOKUP(F14,Intersections!A:H,8,FALSE)<=0.7,$B$30,VLOOKUP(F14,Intersections!A:H,8,FALSE)<=2,$B$31,TRUE,0)","v":0},{"$f":"_xlfn.IFS(VLOOKUP(F14,Intersections!A:D,4,FALSE)=\"Urban\",$B$30,TRUE,0)","v":0}]
["Criteria","Points",null,null,null,"I-35 & US-6/Hickman Rd",{"$f":"COUNTIF('WWD Crashes'!C:C,F15)","v":1},{"$f":"COUNTIFS('Non-Crash Events'!B:B,F15,'Non-Crash Events'!R:R,\">0\")","v":0},130,null,null,"# of Fatalities:",{"$f":"SUMIF('WWD Crashes'!C:C,M6,'WWD Crashes'!M:M)","v":0},null,null,null,null,null,null,null,null,null,"Traffic",{"$f":"VLOOKUP(M6,F:AF,27,FALSE)+VLOOKUP(M6,F:AH,29,FALSE)+VLOOKUP(M6,F:AI,30,FALSE)","v":25},null,null,{"$f":"SUMIFS('WWD Crashes'!G:G,'WWD Crashes'!C:C,F15)","v":1},{"$f":"_xlfn.IFS(AA15<0.125,$B$3,AA15<0.25,$B$4,AA15<0.5,$B$5,AA15<0.99,$B$6,AA15<1.5,$B$7,TRUE,$B$8)+$B$9*SUMIFS('WWD Crashes'!G:G,'WWD Crashes'!C:C,F15,'WWD Crashes'!L:L,\">0\")++$B$10*SUMIFS('WWD Crashes'!G:G,'WWD Crashes'!C:C,F15,'WWD Crashes'!M:M,\">0\")","v":95},{"$f":"MIN($B$16*SUMIF('Non-Crash Events'!B:B,F15,'Non-Crash Events'!R:R),50)","v":0},{"$f":"IF(VLOOKUP(F15,Intersections!A:E,5,FALSE)=\"Unique\",$B$22,IF(VLOOKUP(F15,Intersections!A:E,5,FALSE)=\"Split\",$B$23,0))","v":0},{"$f":"VLOOKUP(F15,Intersections!A:F,6,FALSE)","v":121400},10,{"$f":"VLOOKUP(F15,Intersections!A:G,7,FALSE)","v":37300},10,5,{"$f":"_xlfn.IFS(VLOOKUP(F15,Intersections!A:H,8,FALSE)<=0.7,$B$30,VLOOKUP(F15,Intersections!A:H,8,FALSE)<=2,$B$31,TRUE,0)","v":10},{"$f":"_xlfn.IFS(VLOOKUP(F15,Intersections!A:D,4,FALSE)=\"Urban\",$B$30,TRUE,0)","v":10}]
["Per event (up to 50)",10,null,null,null,"US-218 & IA-2",{"$f":"COUNTIF('WWD Crashes'!C:C,F16)","v":2},{"$f":"COUNTIFS('Non-Crash Events'!B:B,F16,'Non-Crash Events'!R:R,\">0\")","v":0},128.75,null,null,"Total Points:",{"$f":"VLOOKUP(M6,F:I,4,FALSE)","v":105},null,null,null,null,null,null,null,null,null,"Unique Interchange",{"$f":"VLOOKUP(M6,F:AD,25,FALSE)","v":50},null,null,{"$f":"SUMIFS('WWD Crashes'!G:G,'WWD Crashes'!C:C,F16)","v":1.25},{"$f":"_xlfn.IFS(AA16<0.125,$B$3,AA16<0.25,$B$4,AA16<0.5,$B$5,AA16<0.99,$B$6,AA16<1.5,$B$7,TRUE,$B$8)+$B$9*SUMIFS('WWD Crashes'!G:G,'WWD Crashes'!C:C,F16,'WWD Crashes'!L:L,\">0\")++$B$10*SUMIFS('WWD Crashes'!G:G,'WWD Crashes'!C:C,F16,'WWD Crashes'!M:M,\">0\")","v":113.75},{"$f":"MIN($B$16*SUMIF('Non-Crash Events'!B:B,F16,'Non-Crash Events'!R:R),50)","v":0},{"$f":"IF(VLOOKUP(F16,Intersections!A:E,5,FALSE)=\"Unique\",$B$22,IF(VLOOKUP(F16,Intersections!A:E,5,FALSE)=\"Split\",$B$23,0))","v":0},{"$f":"VLOOKUP(F16,Intersections!A:F,6,FALSE)","v":6500},1,{"$f":"VLOOKUP(F16,Intersections!A:G,7,FALSE)","v":3380},4,0,{"$f":"_xlfn.IFS(VLOOKUP(F16,Intersections!A:H,8,FALSE)<=0.7,$B$30,VLOOKUP(F16,Intersections!A:H,8,FALSE)<=2,$B$31,TRUE,0)","v":10},{"$f":"_xlfn.IFS(VLOOKUP(F16,Intersections!A:D,4,FALSE)=\"Urban\",$B$30,TRUE,0)","v":0}]
[null,null,null,null,null,"I-80 & IA-21",{"$f":"COUNTIF('WWD Crashes'!C:C,F17)","v":4},{"$f":"COUNTIFS('Non-Crash Events'!B:B,F17,'Non-Crash Events'!R:R,\">0\")","v":4},124.4,null,null,"Rank:",{"$f":"MATCH(M6,F:F,0)-1","v":23},null,null,null,null,null,null,null,null,null,"Urban Location",{"$f":"VLOOKUP(M6,F:AJ,31,FALSE)","v":10},null,null,{"$f":"SUMIFS('WWD Crashes'!G:G,'WWD Crashes'!C:C,F17)","v":3.25},{"$f":"_xlfn.IFS(AA17<0.125,$B$3,AA17<0.25,$B$4,AA17<0.5,$B$5,AA17<0.99,$B$6,AA17<1.5,$B$7,TRUE,$B$8)+$B$9*SUMIFS('WWD Crashes'!G:G,'WWD Crashes'!C:C,F17,'WWD Crashes'!L:L,\">0\")++$B$10*SUMIFS('WWD Crashes'!G:G,'WWD Crashes'!C:C,F17,'WWD Crashes'!M:M,\">0\")","v":25},{"$f":"MIN($B$16*SUMIF('Non-Crash Events'!B:B,F17,'Non-Crash Events'!R:R),50)","v":37.400000000000006},{"$f":"IF(VLOOKUP(F17,Intersections!A:E,5,FALSE)=\"Unique\",$B$22,IF(VLOOKUP(F17,Intersections!A:E,5,FALSE)=\"Split\",$B$23,0))","v":50},{"$f":"VLOOKUP(F17,Intersections!A:F,6,FALSE)","v":28700},7,{"$f":"VLOOKUP(F17,Intersections!A:G,7,FALSE)","v":3430},5,0,{"$f":"_xlfn.IFS(VLOOKUP(F17,Intersections!A:H,8,FALSE)<=0.7,$B$30,VLOOKUP(F17,Intersections!A:H,8,FALSE)<=2,$B$31,TRUE,0)","v":0},{"$f":"_xlfn.IFS(VLOOKUP(F17,Intersections!A:D,4,FALSE)=\"Urban\",$B$30,TRUE,0)","v":0}]
[null,null,null,null,null,"I-35 & Mills Civic Pkwy",{"$f":"COUNTIF('WWD Crashes'!C:C,F18)","v":3},{"$f":"COUNTIFS('Non-Crash Events'!B:B,F18,'Non-Crash Events'!R:R,\">0\")","v":1},120,null,null,null,null,null,null,null,null,null,null,null,null,null,null,null,null,null,{"$f":"SUMIFS('WWD Crashes'!G:G,'WWD Crashes'!C:C,F18)","v":2.99},{"$f":"_xlfn.IFS(AA18<0.125,$B$3,AA18<0.25,$B$4,AA18<0.5,$B$5,AA18<0.99,$B$6,AA18<1.5,$B$7,TRUE,$B$8)+$B$9*SUMIFS('WWD Crashes'!G:G,'WWD Crashes'!C:C,F18,'WWD Crashes'!L:L,\">0\")++$B$10*SUMIFS('WWD Crashes'!G:G,'WWD Crashes'!C:C,F18,'WWD Crashes'!M:M,\">0\")","v":25},{"$f":"MIN($B$16*SUMIF('Non-Crash Events'!B:B,F18,'Non-Crash Events'!R:R),50)","v":10},{"$f":"IF(VLOOKUP(F18,Intersections!A:E,5,FALSE)=\"Unique\",$B$22,IF(VLOOKUP(F18,Intersections!A:E,5,FALSE)=\"Split\",$B$23,0))","v":50},{"$f":"VLOOKUP(F18,Intersections!A:F,6,FALSE)","v":73200},10,{"$f":"VLOOKUP(F18,Intersections!A:G,7,FALSE)","v":20500},10,5,{"$f":"_xlfn.IFS(VLOOKUP(F18,Intersections!A:H,8,FALSE)<=0.7,$B$30,VLOOKUP(F18,Intersections!A:H,8,FALSE)<=2,$B$31,TRUE,0)","v":10},{"$f":"_xlfn.IFS(VLOOKUP(F18,Intersections!A:D,4,FALSE)=\"Urban\",$B$30,TRUE,0)","v":10}]
[null,null,null,null,null,"I-235 & Keosauqua Way",{"$f":"COUNTIF('WWD Crashes'!C:C,F19)","v":3},{"$f":"COUNTIFS('Non-Crash Events'!B:B,F19,'Non-Crash Events'!R:R,\">0\")","v":1},119,null,null,{"$f":"HYPERLINK(\"#'Weight Based'!\"&ADDRESS(MATCH(M6,F:F,0),6),\"Back to List\")","v":"Back to List"},"Update Ranking",null,null,null,null,null,null,null,null,null,null,null,null,null,{"$f":"SUMIFS('WWD Crashes'!G:G,'WWD Crashes'!C:C,F19)","v":2.5},{"$f":"_xlfn.IFS(AA19<0.125,$B$3,AA19<0.25,$B$4,AA19<0.5,$B$5,AA19<0.99,$B$6,AA19<1.5,$B$7,TRUE,$B$8)+$B$9*SUMIFS('WWD Crashes'!G:G,'WWD Crashes'!C:C,F19,'WWD Crashes'!L:L,\">0\")++$B$10*SUMIFS('WWD Crashes'!G:G,'WWD Crashes'!C:C,F19,'WWD Crashes'!M:M,\">0\")","v":25},{"$f":"MIN($B$16*SUMIF('Non-Crash Events'!B:B,F19,'Non-Crash Events'!R:R),50)","v":10},{"$f":"IF(VLOOKUP(F19,Intersections!A:E,5,FALSE)=\"Unique\",$B$22,IF(VLOOKUP(F19,Intersections!A:E,5,FALSE)=\"Split\",$B$23,0))","v":50},{"$f":"VLOOKUP(F19,Intersections!A:F,6,FALSE)","v":91300},10,{"$f":"VLOOKUP(F19,Intersections!A:G,7,FALSE)","v":13800},9,5,{"$f":"_xlfn.IFS(VLOOKUP(F19,Intersections!A:H,8,FALSE)<=0.7,$B$30,VLOOKUP(F19,Intersections!A:H,8,FALSE)<=2,$B$31,TRUE,0)","v":10},{"$f":"_xlfn.IFS(VLOOKUP(F19,Intersections!A:D,4,FALSE)=\"Urban\",$B$30,TRUE,0)","v":10}]
["Interchange Style",null,null,null,null,"US-30 & 19th St",{"$f":"COUNTIF('WWD Crashes'!C:C,F20)","v":0},{"$f":"COUNTIFS('Non-Crash Events'!B:B,F20,'Non-Crash Events'!R:R,\">0\")","v":10},119,null,null,null,null,null,null,null,null,null,null,null,null,null,null,null,null,null,{"$f":"SUMIFS('WWD Crashes'!G:G,'WWD Crashes'!C:C,F20)","v":0},{"$f":"_xlfn.IFS(AA20<0.125,$B$3,AA20<0.25,$B$4,AA20<0.5,$B$5,AA20<0.99,$B$6,AA20<1.5,$B$7,TRUE,$B$8)+$B$9*SUMIFS('WWD Crashes'!G:G,'WWD Crashes'!C:C,F20,'WWD Crashes'!L:L,\">0\")++$B$10*SUMIFS('WWD Crashes'!G:G,'WWD Crashes'!C:C,F20,'WWD Crashes'!M:M,\">0\")","v":0},{"$f":"MIN($B$16*SUMIF('Non-Crash Events'!B:B,F20,'Non-Crash Events'!R:R),50)","v":50},{"$f":"IF(VLOOKUP(F20,Intersections!A:E,5,FALSE)=\"Unique\",$B$22,IF(VLOOKUP(F20,Intersections!A:E,5,FALSE)=\"Split\",$B$23,0))","v":50},{"$f":"VLOOKUP(F20,Intersections!A:F,6,FALSE)","v":12200},4,{"$f":"VLOOKUP(F20,Intersections!A:G,7,FALSE)","v":4240},5,0,{"$f":"_xlfn.IFS(VLOOKUP(F20,Intersections!A:H,8,FALSE)<=0.7,$B$30,VLOOKUP(F20,Intersections!A:H,8,FALSE)<=2,$B$31,TRUE,0)","v":10},{"$f":"_xlfn.IFS(VLOOKUP(F20,Intersections!A:D,4,FALSE)=\"Urban\",$B$30,TRUE,0)","v":0}]
["Criteria","Points",null,null,null,"I-80 & IA-38",{"$f":"COUNTIF('WWD Crashes'!C:C,F21)","v":2},{"$f":"COUNTIFS('Non-Crash Events'!B:B,F21,'Non-Crash Events'!R:R,\">0\")","v":0},118.75,null,null,null,null,null,null,null,null,null,null,null,null,null,null,null,null,null,{"$f":"SUMIFS('WWD Crashes'!G:G,'WWD Crashes'!C:C,F21)","v":0.83000000000000007},{"$f":"_xlfn.IFS(AA21<0.125,$B$3,AA21<0.25,$B$4,AA21<0.5,$B$5,AA21<0.99,$B$6,AA21<1.5,$B$7,TRUE,$B$8)+$B$9*SUMIFS('WWD Crashes'!G:G,'WWD Crashes'!C:C,F21,'WWD Crashes'!L:L,\">0\")++$B$10*SUMIFS('WWD Crashes'!G:G,'WWD Crashes'!C:C,F21,'WWD Crashes'!M:M,\">0\")","v":39.75},{"$f":"MIN($B$16*SUMIF('Non-Crash Events'!B:B,F21,'Non-Crash Events'!R:R),50)","v":0},{"$f":"IF(VLOOKUP(F21,Intersections!A:E,5,FALSE)=\"Unique\",$B$22,IF(VLOOKUP(F21,Intersections!A:E,5,FALSE)=\"Split\",$B$23,0))","v":50},{"$f":"VLOOKUP(F21,Intersections!A:F,6,FALSE)","v":36200},9,{"$f":"VLOOKUP(F21,Intersections!A:G,7,FALSE)","v":3540},5,5,{"$f":"_xlfn.IFS(VLOOKUP(F21,Intersections!A:H,8,FALSE)<=0.7,$B$30,VLOOKUP(F21,Intersections!A:H,8,FALSE)<=2,$B$31,TRUE,0)","v":10},{"$f":"_xlfn.IFS(VLOOKUP(F21,Intersections!A:D,4,FALSE)=\"Urban\",$B$30,TRUE,0)","v":0}]
["Unique",50,null,null,null,"I-80 & Black Hawk Ave",{"$f":"COUNTIF('WWD Crashes'!C:C,F22)","v":1},{"$f":"COUNTIFS('Non-Crash Events'!B:B,F22,'Non-Crash Events'!R:R,\">0\")","v":3},109.9,null,null,null,null,null,null,null,null,null,null,null,null,null,null,null,null,null,{"$f":"SUMIFS('WWD Crashes'!G:G,'WWD Crashes'!C:C,F22)","v":1},{"$f":"_xlfn.IFS(AA22<0.125,$B$3,AA22<0.25,$B$4,AA22<0.5,$B$5,AA22<0.99,$B$6,AA22<1.5,$B$7,TRUE,$B$8)+$B$9*SUMIFS('WWD Crashes'!G:G,'WWD Crashes'!C:C,F22,'WWD Crashes'!L:L,\">0\")++$B$10*SUMIFS('WWD Crashes'!G:G,'WWD Crashes'!C:C,F22,'WWD Crashes'!M:M,\">0\")","v":20},{"$f":"MIN($B$16*SUMIF('Non-Crash Events'!B:B,F22,'Non-Crash Events'!R:R),50)","v":29.900000000000002},{"$f":"IF(VLOOKUP(F22,Intersections!A:E,5,FALSE)=\"Unique\",$B$22,IF(VLOOKUP(F22,Intersections!A:E,5,FALSE)=\"Split\",$B$23,0))","v":50},{"$f":"VLOOKUP(F22,Intersections!A:F,6,FALSE)","v":34400},8,{"$f":"VLOOKUP(F22,Intersections!A:G,7,FALSE)","v":1190},2,0,{"$f":"_xlfn.IFS(VLOOKUP(F22,Intersections!A:H,8,FALSE)<=0.7,$B$30,VLOOKUP(F22,Intersections!A:H,8,FALSE)<=2,$B$31,TRUE,0)","v":0},{"$f":"_xlfn.IFS(VLOOKUP(F22,Intersections!A:D,4,FALSE)=\"Urban\",$B$30,TRUE,0)","v":0}]
["Split",25,null,null,null,"I-35 & Oralabor Rd",{"$f":"COUNTIF('WWD Crashes'!C:C,F23)","v":3},{"$f":"COUNTIFS('Non-Crash Events'!B:B,F23,'Non-Crash Events'!R:R,\">0\")","v":1},107.5,null,null,null,null,null,null,null,null,null,null,null,null,null,null,null,null,null,{"$f":"SUMIFS('WWD Crashes'!G:G,'WWD Crashes'!C:C,F23)","v":2},{"$f":"_xlfn.IFS(AA23<0.125,$B$3,AA23<0.25,$B$4,AA23<0.5,$B$5,AA23<0.99,$B$6,AA23<1.5,$B$7,TRUE,$B$8)+$B$9*SUMIFS('WWD Crashes'!G:G,'WWD Crashes'!C:C,F23,'WWD Crashes'!L:L,\">0\")++$B$10*SUMIFS('WWD Crashes'!G:G,'WWD Crashes'!C:C,F23,'WWD Crashes'!M:M,\">0\")","v":62.5},{"$f":"MIN($B$16*SUMIF('Non-Crash Events'!B:B,F23,'Non-Crash Events'!R:R),50)","v":10},{"$f":"IF(VLOOKUP(F23,Intersections!A:E,5,FALSE)=\"Unique\",$B$22,IF(VLOOKUP(F23,Intersections!A:E,5,FALSE)=\"Split\",$B$23,0))","v":0},{"$f":"VLOOKUP(F23,Intersections!A:F,6,FALSE)","v":80700},10,{"$f":"VLOOKUP(F23,Intersections!A:G,7,FALSE)","v":30200},10,5,{"$f":"_xlfn.IFS(VLOOKUP(F23,Intersections!A:H,8,FALSE)<=0.7,$B$30,VLOOKUP(F23,Intersections!A:H,8,FALSE)<=2,$B$31,TRUE,0)","v":10},{"$f":"_xlfn.IFS(VLOOKUP(F23,Intersections!A:D,4,FALSE)=\"Urban\",$B$30,TRUE,0)","v":10}]
["Other",0,null,null,null,"I-235 & 73rd St",{"$f":"COUNTIF('WWD Crashes'!C:C,F24)","v":1},{"$f":"COUNTIFS('Non-Crash Events'!B:B,F24,'Non-Crash Events'!R:R,\">0\")","v":0},105,null,null,null,null,null,null,null,null,null,null,null,null,null,null,null,null,null,{"$f":"SUMIFS('WWD Crashes'!G:G,'WWD Crashes'!C:C,F24)","v":1},{"$f":"_xlfn.IFS(AA24<0.125,$B$3,AA24<0.25,$B$4,AA24<0.5,$B$5,AA24<0.99,$B$6,AA24<1.5,$B$7,TRUE,$B$8)+$B$9*SUMIFS('WWD Crashes'!G:G,'WWD Crashes'!C:C,F24,'WWD Crashes'!L:L,\">0\")++$B$10*SUMIFS('WWD Crashes'!G:G,'WWD Crashes'!C:C,F24,'WWD Crashes'!M:M,\">0\")","v":20},{"$f":"MIN($B$16*SUMIF('Non-Crash Events'!B:B,F24,'Non-Crash Events'!R:R),50)","v":0},{"$f":"IF(VLOOKUP(F24,Intersections!A:E,5,FALSE)=\"Unique\",$B$22,IF(VLOOKUP(F24,Intersections!A:E,5,FALSE)=\"Split\",$B$23,0))","v":50},{"$f":"VLOOKUP(F24,Intersections!A:F,6,FALSE)","v":128100},10,{"$f":"VLOOKUP(F24,Intersections!A:G,7,FALSE)","v":22600},10,5,{"$f":"_xlfn.IFS(VLOOKUP(F24,Intersections!A:H,8,FALSE)<=0.7,$B$30,VLOOKUP(F24,Intersections!A:H,8,FALSE)<=2,$B$31,TRUE,0)","v":10},{"$f":"_xlfn.IFS(VLOOKUP(F24,Intersections!A:D,4,FALSE)=\"Urban\",$B$30,TRUE,0)","v":10}]
[null,null,null,null,null,"I-380 & Glass Rd",{"$f":"COUNTIF('WWD Crashes'!C:C,F25)","v":2},{"$f":"COUNTIFS('Non-Crash Events'!B:B,F25,'Non-Crash Events'!R:R,\">0\")","v":2},103.9,null,null,null,null,null,null,null,null,null,null,null,null,null,null,null,null,null,{"$f":"SUMIFS('WWD Crashes'!G:G,'WWD Crashes'!C:C,F25)","v":1.74},{"$f":"_xlfn.IFS(AA25<0.125,$B$3,AA25<0.25,$B$4,AA25<0.5,$B$5,AA25<0.99,$B$6,AA25<1.5,$B$7,TRUE,$B$8)+$B$9*SUMIFS('WWD Crashes'!G:G,'WWD Crashes'!C:C,F25,'WWD Crashes'!L:L,\">0\")++$B$10*SUMIFS('WWD Crashes'!G:G,'WWD Crashes'!C:C,F25,'WWD Crashes'!M:M,\">0\")","v":25},{"$f":"MIN($B$16*SUMIF('Non-Crash Events'!B:B,F25,'Non-Crash Events'!R:R),50)","v":19.899999999999999},{"$f":"IF(VLOOKUP(F25,Intersections!A:E,5,FALSE)=\"Unique\",$B$22,IF(VLOOKUP(F25,Intersections!A:E,5,FALSE)=\"Split\",$B$23,0))","v":25},{"$f":"VLOOKUP(F25,Intersections!A:F,6,FALSE)","v":83100},10,{"$f":"VLOOKUP(F25,Intersections!A:G,7,FALSE)","v":13900},9,5,{"$f":"_xlfn.IFS(VLOOKUP(F25,Intersections!A:H,8,FALSE)<=0.7,$B$30,VLOOKUP(F25,Intersections!A:H,8,FALSE)<=2,$B$31,TRUE,0)","v":10},{"$f":"_xlfn.IFS(VLOOKUP(F25,Intersections!A:D,4,FALSE)=\"Urban\",$B$30,TRUE,0)","v":10}]
[null,null,null,null,null,"I-380 & 1st Ave",{"$f":"COUNTIF('WWD Crashes'!C:C,F26)","v":1},{"$f":"COUNTIFS('Non-Crash Events'!B:B,F26,'Non-Crash Events'!R:R,\">0\")","v":3},103.65,null,null,null,null,null,null,null,null,null,null,null,null,null,null,null,null,null,{"$f":"SUMIFS('WWD Crashes'!G:G,'WWD Crashes'!C:C,F26)","v":0.25},{"$f":"_xlfn.IFS(AA26<0.125,$B$3,AA26<0.25,$B$4,AA26<0.5,$B$5,AA26<0.99,$B$6,AA26<1.5,$B$7,TRUE,$B$8)+$B$9*SUMIFS('WWD Crashes'!G:G,'WWD Crashes'!C:C,F26,'WWD Crashes'!L:L,\">0\")++$B$10*SUMIFS('WWD Crashes'!G:G,'WWD Crashes'!C:C,F26,'WWD Crashes'!M:M,\">0\")","v":28.75},{"$f":"MIN($B$16*SUMIF('Non-Crash Events'!B:B,F26,'Non-Crash Events'!R:R),50)","v":14.9},{"$f":"IF(VLOOKUP(F26,Intersections!A:E,5,FALSE)=\"Unique\",$B$22,IF(VLOOKUP(F26,Intersections!A:E,5,FALSE)=\"Split\",$B$23,0))","v":25},{"$f":"VLOOKUP(F26,Intersections!A:F,6,FALSE)","v":79400},10,{"$f":"VLOOKUP(F26,Intersections!A:G,7,FALSE)","v":22500},10,5,{"$f":"_xlfn.IFS(VLOOKUP(F26,Intersections!A:H,8,FALSE)<=0.7,$B$30,VLOOKUP(F26,Intersections!A:H,8,FALSE)<=2,$B$31,TRUE,0)","v":10},{"$f":"_xlfn.IFS(VLOOKUP(F26,Intersections!A:D,4,FALSE)=\"Urban\",$B$30,TRUE,0)","v":10}]
[null,null,null,null,null,"US-20 & Bryant St",{"$f":"COUNTIF('WWD Crashes'!C:C,F27)","v":3},{"$f":"COUNTIFS('Non-Crash Events'!B:B,F27,'Non-Crash Events'!R:R,\">0\")","v":0},102,null,null,null,null,null,null,null,null,null,null,null,null,null,null,null,null,null,{"$f":"SUMIFS('WWD Crashes'!G:G,'WWD Crashes'!C:C,F27)","v":2.25},{"$f":"_xlfn.IFS(AA27<0.125,$B$3,AA27<0.25,$B$4,AA27<0.5,$B$5,AA27<0.99,$B$6,AA27<1.5,$B$7,TRUE,$B$8)+$B$9*SUMIFS('WWD Crashes'!G:G,'WWD Crashes'!C:C,F27,'WWD Crashes'!L:L,\">0\")++$B$10*SUMIFS('WWD Crashes'!G:G,'WWD Crashes'!C:C,F27,'WWD Crashes'!M:M,\">0\")","v":25},{"$f":"MIN($B$16*SUMIF('Non-Crash Events'!B:B,F27,'Non-Crash Events'!R:R),50)","v":0},{"$f":"IF(VLOOKUP(F27,Intersections!A:E,5,FALSE)=\"Unique\",$B$22,IF(VLOOKUP(F27,Intersections!A:E,5,FALSE)=\"Split\",$B$23,0))","v":50},{"$f":"VLOOKUP(F27,Intersections!A:F,6,FALSE)","v":35500},8,{"$f":"VLOOKUP(F27,Intersections!A:G,7,FALSE)","v":9300},9,0,{"$f":"_xlfn.IFS(VLOOKUP(F27,Intersections!A:H,8,FALSE)<=0.7,$B$30,VLOOKUP(F27,Intersections!A:H,8,FALSE)<=2,$B$31,TRUE,0)","v":10},{"$f":"_xlfn.IFS(VLOOKUP(F27,Intersections!A:D,4,FALSE)=\"Urban\",$B$30,TRUE,0)","v":10}]
["Proximity to Liquor License",null,null,null,null,"I-29 & 275th St",{"$f":"COUNTIF('WWD Crashes'!C:C,F28)","v":1},{"$f":"COUNTIFS('Non-Crash Events'!B:B,F28,'Non-Crash Events'!R:R,\">0\")","v":0},101.25,null,null,null,null,null,null,null,null,null,null,null,null,null,null,null,null,null,{"$f":"SUMIFS('WWD Crashes'!G:G,'WWD Crashes'!C:C,F28)","v":0.99},{"$f":"_xlfn.IFS(AA28<0.125,$B$3,AA28<0.25,$B$4,AA28<0.5,$B$5,AA28<0.99,$B$6,AA28<1.5,$B$7,TRUE,$B$8)+$B$9*SUMIFS('WWD Crashes'!G:G,'WWD Crashes'!C:C,F28,'WWD Crashes'!L:L,\">0\")++$B$10*SUMIFS('WWD Crashes'!G:G,'WWD Crashes'!C:C,F28,'WWD Crashes'!M:M,\">0\")","v":94.25},{"$f":"MIN($B$16*SUMIF('Non-Crash Events'!B:B,F28,'Non-Crash Events'!R:R),50)","v":0},{"$f":"IF(VLOOKUP(F28,Intersections!A:E,5,FALSE)=\"Unique\",$B$22,IF(VLOOKUP(F28,Intersections!A:E,5,FALSE)=\"Split\",$B$23,0))","v":0},{"$f":"VLOOKUP(F28,Intersections!A:F,6,FALSE)","v":19300},5,{"$f":"VLOOKUP(F28,Intersections!A:G,7,FALSE)","v":1050},2,0,{"$f":"_xlfn.IFS(VLOOKUP(F28,Intersections!A:H,8,FALSE)<=0.7,$B$30,VLOOKUP(F28,Intersections!A:H,8,FALSE)<=2,$B$31,TRUE,0)","v":0},{"$f":"_xlfn.IFS(VLOOKUP(F28,Intersections!A:D,4,FALSE)=\"Urban\",$B$30,TRUE,0)","v":0}]
["Criteria","Points",null,null,null,"I-35 & Merle Hay Rd",{"$f":"COUNTIF('WWD Crashes'!C:C,F29)","v":2},{"$f":"COUNTIFS('Non-Crash Events'!B:B,F29,'Non-Crash Events'!R:R,\">0\")","v":0},97.5,null,null,null,null,null,null,null,null,null,null,null,null,null,null,null,null,null,{"$f":"SUMIFS('WWD Crashes'!G:G,'WWD Crashes'!C:C,F29)","v":1.5},{"$f":"_xlfn.IFS(AA29<0.125,$B$3,AA29<0.25,$B$4,AA29<0.5,$B$5,AA29<0.99,$B$6,AA29<1.5,$B$7,TRUE,$B$8)+$B$9*SUMIFS('WWD Crashes'!G:G,'WWD Crashes'!C:C,F29,'WWD Crashes'!L:L,\">0\")++$B$10*SUMIFS('WWD Crashes'!G:G,'WWD Crashes'!C:C,F29,'WWD Crashes'!M:M,\">0\")","v":62.5},{"$f":"MIN($B$16*SUMIF('Non-Crash Events'!B:B,F29,'Non-Crash Events'!R:R),50)","v":0},{"$f":"IF(VLOOKUP(F29,Intersections!A:E,5,FALSE)=\"Unique\",$B$22,IF(VLOOKUP(F29,Intersections!A:E,5,FALSE)=\"Split\",$B$23,0))","v":0},{"$f":"VLOOKUP(F29,Intersections!A:F,6,FALSE)","v":101100},10,{"$f":"VLOOKUP(F29,Intersections!A:G,7,FALSE)","v":30600},10,5,{"$f":"_xlfn.IFS(VLOOKUP(F29,Intersections!A:H,8,FALSE)<=0.7,$B$30,VLOOKUP(F29,Intersections!A:H,8,FALSE)<=2,$B$31,TRUE,0)","v":10},{"$f":"_xlfn.IFS(VLOOKUP(F29,Intersections!A:D,4,FALSE)=\"Urban\",$B$30,TRUE,0)","v":10}]
["Within 0.7 miles",10,null,{"$f":"HYPERLINK(\"#'Weight Based'!\"&ADDRESS(5,11),\"Jump to Details\")","v":"Jump to Details"},null,"I-80 & 86th St",{"$f":"COUNTIF('WWD Crashes'!C:C,F30)","v":3},{"$f":"COUNTIFS('Non-Crash Events'!B:B,F30,'Non-Crash Events'!R:R,\">0\")","v":0},96.5,null,null,null,null,null,null,null,null,null,null,null,null,null,null,null,null,null,{"$f":"SUMIFS('WWD Crashes'!G:G,'WWD Crashes'!C:C,F30)","v":2.25},{"$f":"_xlfn.IFS(AA30<0.125,$B$3,AA30<0.25,$B$4,AA30<0.5,$B$5,AA30<0.99,$B$6,AA30<1.5,$B$7,TRUE,$B$8)+$B$9*SUMIFS('WWD Crashes'!G:G,'WWD Crashes'!C:C,F30,'WWD Crashes'!L:L,\">0\")++$B$10*SUMIFS('WWD Crashes'!G:G,'WWD Crashes'!C:C,F30,'WWD Crashes'!M:M,\">0\")","v":62.5},{"$f":"MIN($B$16*SUMIF('Non-Crash Events'!B:B,F30,'Non-Crash Events'!R:R),50)","v":0},{"$f":"IF(VLOOKUP(F30,Intersections!A:E,5,FALSE)=\"Unique\",$B$22,IF(VLOOKUP(F30,Intersections!A:E,5,FALSE)=\"Split\",$B$23,0))","v":0},{"$f":"VLOOKUP(F30,Intersections!A:F,6,FALSE)","v":96500},10,{"$f":"VLOOKUP(F30,Intersections!A:G,7,FALSE)","v":17500},9,5,{"$f":"_xlfn.IFS(VLOOKUP(F30,Intersections!A:H,8,FALSE)<=0.7,$B$30,VLOOKUP(F30,Intersections!A:H,8,FALSE)<=2,$B$31,TRUE,0)","v":10},{"$f":"_xlfn.IFS(VLOOKUP(F30,Intersections!A:D,4,FALSE)=\"Urban\",$B$30,TRUE,0)","v":10}]
["Within 2 miles",5,null,null,null,"US-30 & IA-330",{"$f":"COUNTIF('WWD Crashes'!C:C,F31)","v":3},{"$f":"COUNTIFS('Non-Crash Events'!B:B,F31,'Non-Crash Events'!R:R,\">0\")","v":5},99.3,null,null,null,null,null,null,null,null,null,null,null,null,null,null,null,null,null,{"$f":"SUMIFS('WWD Crashes'!G:G,'WWD Crashes'!C:C,F31)","v":2.89},{"$f":"_xlfn.IFS(AA31<0.125,$B$3,AA31<0.25,$B$4,AA31<0.5,$B$5,AA31<0.99,$B$6,AA31<1.5,$B$7,TRUE,$B$8)+$B$9*SUMIFS('WWD Crashes'!G:G,'WWD Crashes'!C:C,F31,'WWD Crashes'!L:L,\">0\")++$B$10*SUMIFS('WWD Crashes'!G:G,'WWD Crashes'!C:C,F31,'WWD Crashes'!M:M,\">0\")","v":25},{"$f":"MIN($B$16*SUMIF('Non-Crash Events'!B:B,F31,'Non-Crash Events'!R:R),50)","v":38.299999999999997},{"$f":"IF(VLOOKUP(F31,Intersections!A:E,5,FALSE)=\"Unique\",$B$22,IF(VLOOKUP(F31,Intersections!A:E,5,FALSE)=\"Split\",$B$23,0))","v":25},{"$f":"VLOOKUP(F31,Intersections!A:F,6,FALSE)","v":8900},2,{"$f":"VLOOKUP(F31,Intersections!A:G,7,FALSE)","v":11700},9,0,{"$f":"_xlfn.IFS(VLOOKUP(F31,Intersections!A:H,8,FALSE)<=0.7,$B$30,VLOOKUP(F31,Intersections!A:H,8,FALSE)<=2,$B$31,TRUE,0)","v":0},{"$f":"_xlfn.IFS(VLOOKUP(F31,Intersections!A:D,4,FALSE)=\"Urban\",$B$30,TRUE,0)","v":0}]
["Further than 2 miles",0,null,null,null,"US-218 & Sergeant Rd",{"$f":"COUNTIF('WWD Crashes'!C:C,F32)","v":1},{"$f":"COUNTIFS('Non-Crash Events'!B:B,F32,'Non-Crash Events'!R:R,\">0\")","v":0},94,null,null,null,null,null,null,null,null,null,null,null,null,null,null,null,null,null,{"$f":"SUMIFS('WWD Crashes'!G:G,'WWD Crashes'!C:C,F32)","v":0.99},{"$f":"_xlfn.IFS(AA32<0.125,$B$3,AA32<0.25,$B$4,AA32<0.5,$B$5,AA32<0.99,$B$6,AA32<1.5,$B$7,TRUE,$B$8)+$B$9*SUMIFS('WWD Crashes'!G:G,'WWD Crashes'!C:C,F32,'WWD Crashes'!L:L,\">0\")++$B$10*SUMIFS('WWD Crashes'!G:G,'WWD Crashes'!C:C,F32,'WWD Crashes'!M:M,\">0\")","v":20},{"$f":"MIN($B$16*SUMIF('Non-Crash Events'!B:B,F32,'Non-Crash Events'!R:R),50)","v":0},{"$f":"IF(VLOOKUP(F32,Intersections!A:E,5,FALSE)=\"Unique\",$B$22,IF(VLOOKUP(F32,Intersections!A:E,5,FALSE)=\"Split\",$B$23,0))","v":50},{"$f":"VLOOKUP(F32,Intersections!A:F,6,FALSE)","v":25500},7,{"$f":"VLOOKUP(F32,Intersections!A:G,7,FALSE)","v":7000},7,0,{"$f":"_xlfn.IFS(VLOOKUP(F32,Intersections!A:H,8,FALSE)<=0.7,$B$30,VLOOKUP(F32,Intersections!A:H,8,FALSE)<=2,$B$31,TRUE,0)","v":10},{"$f":"_xlfn.IFS(VLOOKUP(F32,Intersections!A:D,4,FALSE)=\"Urban\",$B$30,TRUE,0)","v":10}]
[null,null,null,null,null,"US-61 & Main St",{"$f":"COUNTIF('WWD Crashes'!C:C,F33)","v":3},{"$f":"COUNTIFS('Non-Crash Events'!B:B,F33,'Non-Crash Events'!R:R,\">0\")","v":0},93,null,null,null,null,null,null,null,null,null,null,null,null,null,null,null,null,null,{"$f":"SUMIFS('WWD Crashes'!G:G,'WWD Crashes'!C:C,F33)","v":2.5},{"$f":"_xlfn.IFS(AA33<0.125,$B$3,AA33<0.25,$B$4,AA33<0.5,$B$5,AA33<0.99,$B$6,AA33<1.5,$B$7,TRUE,$B$8)+$B$9*SUMIFS('WWD Crashes'!G:G,'WWD Crashes'!C:C,F33,'WWD Crashes'!L:L,\">0\")++$B$10*SUMIFS('WWD Crashes'!G:G,'WWD Crashes'!C:C,F33,'WWD Crashes'!M:M,\">0\")","v":25},{"$f":"MIN($B$16*SUMIF('Non-Crash Events'!B:B,F33,'Non-Crash Events'!R:R),50)","v":0},{"$f":"IF(VLOOKUP(F33,Intersections!A:E,5,FALSE)=\"Unique\",$B$22,IF(VLOOKUP(F33,Intersections!A:E,5,FALSE)=\"Split\",$B$23,0))","v":50},{"$f":"VLOOKUP(F33,Intersections!A:F,6,FALSE)","v":8200},2,{"$f":"VLOOKUP(F33,Intersections!A:G,7,FALSE)","v":4900},6,0,{"$f":"_xlfn.IFS(VLOOKUP(F33,Intersections!A:H,8,FALSE)<=0.7,$B$30,VLOOKUP(F33,Intersections!A:H,8,FALSE)<=2,$B$31,TRUE,0)","v":10},{"$f":"_xlfn.IFS(VLOOKUP(F33,Intersections!A:D,4,FALSE)=\"Urban\",$B$30,TRUE,0)","v":0}]
[null,null,null,null,null,"I-29 & IA-175",{"$f":"COUNTIF('WWD Crashes'!C:C,F34)","v":1},{"$f":"COUNTIFS('Non-Crash Events'!B:B,F34,'Non-Crash Events'!R:R,\">0\")","v":0},91.25,null,null,null,null,null,null,null,null,null,null,null,null,null,null,null,null,null,{"$f":"SUMIFS('WWD Crashes'!G:G,'WWD Crashes'!C:C,F34)","v":0.75},{"$f":"_xlfn.IFS(AA34<0.125,$B$3,AA34<0.25,$B$4,AA34<0.5,$B$5,AA34<0.99,$B$6,AA34<1.5,$B$7,TRUE,$B$8)+$B$9*SUMIFS('WWD Crashes'!G:G,'WWD Crashes'!C:C,F34,'WWD Crashes'!L:L,\">0\")++$B$10*SUMIFS('WWD Crashes'!G:G,'WWD Crashes'!C:C,F34,'WWD Crashes'!M:M,\">0\")","v":71.25},{"$f":"MIN($B$16*SUMIF('Non-Crash Events'!B:B,F34,'Non-Crash Events'!R:R),50)","v":0},{"$f":"IF(VLOOKUP(F34,Intersections!A:E,5,FALSE)=\"Unique\",$B$22,IF(VLOOKUP(F34,Intersections!A:E,5,FALSE)=\"Split\",$B$23,0))","v":0},{"$f":"VLOOKUP(F34,Intersections!A:F,6,FALSE)","v":15300},4,{"$f":"VLOOKUP(F34,Intersections!A:G,7,FALSE)","v":5500},6,0,{"$f":"_xlfn.IFS(VLOOKUP(F34,Intersections!A:H,8,FALSE)<=0.7,$B$30,VLOOKUP(F34,Intersections!A:H,8,FALSE)<=2,$B$31,TRUE,0)","v":10},{"$f":"_xlfn.IFS(VLOOKUP(F34,Intersections!A:D,4,FALSE)=\"Urban\",$B$30,TRUE,0)","v":0}]
[null,null,null,null,null,"US-34 & Main St",{"$f":"COUNTIF('WWD Crashes'!C:C,F35)","v":1},{"$f":"COUNTIFS('Non-Crash Events'!B:B,F35,'Non-Crash Events'!R:R,\">0\")","v":0},89,null,null,null,null,null,null,null,null,null,null,null,null,null,null,null,null,null,{"$f":"SUMIFS('WWD Crashes'!G:G,'WWD Crashes'!C:C,F35)","v":1},{"$f":"_xlfn.IFS(AA35<0.125,$B$3,AA35<0.25,$B$4,AA35<0.5,$B$5,AA35<0.99,$B$6,AA35<1.5,$B$7,TRUE,$B$8)+$B$9*SUMIFS('WWD Crashes'!G:G,'WWD Crashes'!C:C,F35,'WWD Crashes'!L:L,\">0\")++$B$10*SUMIFS('WWD Crashes'!G:G,'WWD Crashes'!C:C,F35,'WWD Crashes'!M:M,\">0\")","v":20},{"$f":"MIN($B$16*SUMIF('Non-Crash Events'!B:B,F35,'Non-Crash Events'!R:R),50)","v":0},{"$f":"IF(VLOOKUP(F35,Intersections!A:E,5,FALSE)=\"Unique\",$B$22,IF(VLOOKUP(F35,Intersections!A:E,5,FALSE)=\"Split\",$B$23,0))","v":50},{"$f":"VLOOKUP(F35,Intersections!A:F,6,FALSE)","v":14800},4,{"$f":"VLOOKUP(F35,Intersections!A:G,7,FALSE)","v":3740},5,0,{"$f":"_xlfn.IFS(VLOOKUP(F35,Intersections!A:H,8,FALSE)<=0.7,$B$30,VLOOKUP(F35,Intersections!A:H,8,FALSE)<=2,$B$31,TRUE,0)","v":10},{"$f":"_xlfn.IFS(VLOOKUP(F35,Intersections!A:D,4,FALSE)=\"Urban\",$B$30,TRUE,0)","v":10}]
["Traffic",null,null,null,null,"I-35 & US-34",{"$f":"COUNTIF('WWD Crashes'!C:C,F36)","v":1},{"$f":"COUNTIFS('Non-Crash Events'!B:B,F36,'Non-Crash Events'!R:R,\">0\")","v":0},89,null,null,null,null,null,null,null,null,null,null,null,null,null,null,null,null,null,{"$f":"SUMIFS('WWD Crashes'!G:G,'WWD Crashes'!C:C,F36)","v":0.5},{"$f":"_xlfn.IFS(AA36<0.125,$B$3,AA36<0.25,$B$4,AA36<0.5,$B$5,AA36<0.99,$B$6,AA36<1.5,$B$7,TRUE,$B$8)+$B$9*SUMIFS('WWD Crashes'!G:G,'WWD Crashes'!C:C,F36,'WWD Crashes'!L:L,\">0\")++$B$10*SUMIFS('WWD Crashes'!G:G,'WWD Crashes'!C:C,F36,'WWD Crashes'!M:M,\">0\")","v":15},{"$f":"MIN($B$16*SUMIF('Non-Crash Events'!B:B,F36,'Non-Crash Events'!R:R),50)","v":0},{"$f":"IF(VLOOKUP(F36,Intersections!A:E,5,FALSE)=\"Unique\",$B$22,IF(VLOOKUP(F36,Intersections!A:E,5,FALSE)=\"Split\",$B$23,0))","v":50},{"$f":"VLOOKUP(F36,Intersections!A:F,6,FALSE)","v":16900},5,{"$f":"VLOOKUP(F36,Intersections!A:G,7,FALSE)","v":9700},9,0,{"$f":"_xlfn.IFS(VLOOKUP(F36,Intersections!A:H,8,FALSE)<=0.7,$B$30,VLOOKUP(F36,Intersections!A:H,8,FALSE)<=2,$B$31,TRUE,0)","v":10},{"$f":"_xlfn.IFS(VLOOKUP(F36,Intersections!A:D,4,FALSE)=\"Urban\",$B$30,TRUE,0)","v":0}]
["Mainline AADT","Points",null,null,null,"US-30 & US-63",{"$f":"COUNTIF('WWD Crashes'!C:C,F37)","v":1},{"$f":"COUNTIFS('Non-Crash Events'!B:B,F37,'Non-Crash Events'!R:R,\">0\")","v":0},89,null,null,null,null,null,null,null,null,null,null,null,null,null,null,null,null,null,{"$f":"SUMIFS('WWD Crashes'!G:G,'WWD Crashes'!C:C,F37)","v":1},{"$f":"_xlfn.IFS(AA37<0.125,$B$3,AA37<0.25,$B$4,AA37<0.5,$B$5,AA37<0.99,$B$6,AA37<1.5,$B$7,TRUE,$B$8)+$B$9*SUMIFS('WWD Crashes'!G:G,'WWD Crashes'!C:C,F37,'WWD Crashes'!L:L,\">0\")++$B$10*SUMIFS('WWD Crashes'!G:G,'WWD Crashes'!C:C,F37,'WWD Crashes'!M:M,\">0\")","v":20},{"$f":"MIN($B$16*SUMIF('Non-Crash Events'!B:B,F37,'Non-Crash Events'!R:R),50)","v":0},{"$f":"IF(VLOOKUP(F37,Intersections!A:E,5,FALSE)=\"Unique\",$B$22,IF(VLOOKUP(F37,Intersections!A:E,5,FALSE)=\"Split\",$B$23,0))","v":50},{"$f":"VLOOKUP(F37,Intersections!A:F,6,FALSE)","v":9100},2,{"$f":"VLOOKUP(F37,Intersections!A:G,7,FALSE)","v":7300},7,0,{"$f":"_xlfn.IFS(VLOOKUP(F37,Intersections!A:H,8,FALSE)<=0.7,$B$30,VLOOKUP(F37,Intersections!A:H,8,FALSE)<=2,$B$31,TRUE,0)","v":10},{"$f":"_xlfn.IFS(VLOOKUP(F37,Intersections!A:D,4,FALSE)=\"Urban\",$B$30,TRUE,0)","v":0}]
["[1 to 7,820]",1,null,null,null,"IA-5 & McKimber St",{"$f":"COUNTIF('WWD Crashes'!C:C,F38)","v":1},{"$f":"COUNTIFS('Non-Crash Events'!B:B,F38,'Non-Crash Events'!R:R,\">0\")","v":0},87.5,null,null,null,null,null,null,null,null,null,null,null,null,null,null,null,null,null,{"$f":"SUMIFS('WWD Crashes'!G:G,'WWD Crashes'!C:C,F38)","v":0.5},{"$f":"_xlfn.IFS(AA38<0.125,$B$3,AA38<0.25,$B$4,AA38<0.5,$B$5,AA38<0.99,$B$6,AA38<1.5,$B$7,TRUE,$B$8)+$B$9*SUMIFS('WWD Crashes'!G:G,'WWD Crashes'!C:C,F38,'WWD Crashes'!L:L,\">0\")++$B$10*SUMIFS('WWD Crashes'!G:G,'WWD Crashes'!C:C,F38,'WWD Crashes'!M:M,\">0\")","v":52.5},{"$f":"MIN($B$16*SUMIF('Non-Crash Events'!B:B,F38,'Non-Crash Events'!R:R),50)","v":0},{"$f":"IF(VLOOKUP(F38,Intersections!A:E,5,FALSE)=\"Unique\",$B$22,IF(VLOOKUP(F38,Intersections!A:E,5,FALSE)=\"Split\",$B$23,0))","v":25},{"$f":"VLOOKUP(F38,Intersections!A:F,6,FALSE)","v":7700},1,{"$f":"VLOOKUP(F38,Intersections!A:G,7,FALSE)","v":3090},4,0,{"$f":"_xlfn.IFS(VLOOKUP(F38,Intersections!A:H,8,FALSE)<=0.7,$B$30,VLOOKUP(F38,Intersections!A:H,8,FALSE)<=2,$B$31,TRUE,0)","v":5},{"$f":"_xlfn.IFS(VLOOKUP(F38,Intersections!A:D,4,FALSE)=\"Urban\",$B$30,TRUE,0)","v":0}]
["[7,821 to 9,600]",2,null,null,null,"US-30 & WACONIA AVE/6TH ST SW",{"$f":"COUNTIF('WWD Crashes'!C:C,F39)","v":1},{"$f":"COUNTIFS('Non-Crash Events'!B:B,F39,'Non-Crash Events'!R:R,\">0\")","v":0},87,null,null,null,null,null,null,null,null,null,null,null,null,null,null,null,null,null,{"$f":"SUMIFS('WWD Crashes'!G:G,'WWD Crashes'!C:C,F39)","v":0.5},{"$f":"_xlfn.IFS(AA39<0.125,$B$3,AA39<0.25,$B$4,AA39<0.5,$B$5,AA39<0.99,$B$6,AA39<1.5,$B$7,TRUE,$B$8)+$B$9*SUMIFS('WWD Crashes'!G:G,'WWD Crashes'!C:C,F39,'WWD Crashes'!L:L,\">0\")++$B$10*SUMIFS('WWD Crashes'!G:G,'WWD Crashes'!C:C,F39,'WWD Crashes'!M:M,\">0\")","v":15},{"$f":"MIN($B$16*SUMIF('Non-Crash Events'!B:B,F39,'Non-Crash Events'!R:R),50)","v":0},{"$f":"IF(VLOOKUP(F39,Intersections!A:E,5,FALSE)=\"Unique\",$B$22,IF(VLOOKUP(F39,Intersections!A:E,5,FALSE)=\"Split\",$B$23,0))","v":50},{"$f":"VLOOKUP(F39,Intersections!A:F,6,FALSE)","v":34000},8,{"$f":"VLOOKUP(F39,Intersections!A:G,7,FALSE)","v":12600},9,0,{"$f":"_xlfn.IFS(VLOOKUP(F39,Intersections!A:H,8,FALSE)<=0.7,$B$30,VLOOKUP(F39,Intersections!A:H,8,FALSE)<=2,$B$31,TRUE,0)","v":5},{"$f":"_xlfn.IFS(VLOOKUP(F39,Intersections!A:D,4,FALSE)=\"Urban\",$B$30,TRUE,0)","v":10}]
["[9,601 to 11,930]",3,null,null,null,"US-34 & Locust St",{"$f":"COUNTIF('WWD Crashes'!C:C,F40)","v":1},{"$f":"COUNTIFS('Non-Crash Events'!B:B,F40,'Non-Crash Events'!R:R,\">0\")","v":0},87,null,null,null,null,null,null,null,null,null,null,null,null,null,null,null,null,null,{"$f":"SUMIFS('WWD Crashes'!G:G,'WWD Crashes'!C:C,F40)","v":0.99},{"$f":"_xlfn.IFS(AA40<0.125,$B$3,AA40<0.25,$B$4,AA40<0.5,$B$5,AA40<0.99,$B$6,AA40<1.5,$B$7,TRUE,$B$8)+$B$9*SUMIFS('WWD Crashes'!G:G,'WWD Crashes'!C:C,F40,'WWD Crashes'!L:L,\">0\")++$B$10*SUMIFS('WWD Crashes'!G:G,'WWD Crashes'!C:C,F40,'WWD Crashes'!M:M,\">0\")","v":20},{"$f":"MIN($B$16*SUMIF('Non-Crash Events'!B:B,F40,'Non-Crash Events'!R:R),50)","v":0},{"$f":"IF(VLOOKUP(F40,Intersections!A:E,5,FALSE)=\"Unique\",$B$22,IF(VLOOKUP(F40,Intersections!A:E,5,FALSE)=\"Split\",$B$23,0))","v":50},{"$f":"VLOOKUP(F40,Intersections!A:F,6,FALSE)","v":9000},2,{"$f":"VLOOKUP(F40,Intersections!A:G,7,FALSE)","v":4080},5,0,{"$f":"_xlfn.IFS(VLOOKUP(F40,Intersections!A:H,8,FALSE)<=0.7,$B$30,VLOOKUP(F40,Intersections!A:H,8,FALSE)<=2,$B$31,TRUE,0)","v":10},{"$f":"_xlfn.IFS(VLOOKUP(F40,Intersections!A:D,4,FALSE)=\"Urban\",$B$30,TRUE,0)","v":0}]
["[11,931 to 15,800]",4,null,null,null,"US-34 & Mount Pleasant St",{"$f":"COUNTIF('WWD Crashes'!C:C,F41)","v":2},{"$f":"COUNTIFS('Non-Crash Events'!B:B,F41,'Non-Crash Events'!R:R,\">0\")","v":0},87,null,null,null,null,null,null,null,null,null,null,null,null,null,null,null,null,null,{"$f":"SUMIFS('WWD Crashes'!G:G,'WWD Crashes'!C:C,F41)","v":1.75},{"$f":"_xlfn.IFS(AA41<0.125,$B$3,AA41<0.25,$B$4,AA41<0.5,$B$5,AA41<0.99,$B$6,AA41<1.5,$B$7,TRUE,$B$8)+$B$9*SUMIFS('WWD Crashes'!G:G,'WWD Crashes'!C:C,F41,'WWD Crashes'!L:L,\">0\")++$B$10*SUMIFS('WWD Crashes'!G:G,'WWD Crashes'!C:C,F41,'WWD Crashes'!M:M,\">0\")","v":25},{"$f":"MIN($B$16*SUMIF('Non-Crash Events'!B:B,F41,'Non-Crash Events'!R:R),50)","v":0},{"$f":"IF(VLOOKUP(F41,Intersections!A:E,5,FALSE)=\"Unique\",$B$22,IF(VLOOKUP(F41,Intersections!A:E,5,FALSE)=\"Split\",$B$23,0))","v":50},{"$f":"VLOOKUP(F41,Intersections!A:F,6,FALSE)","v":9600},2,{"$f":"VLOOKUP(F41,Intersections!A:G,7,FALSE)","v":3760},5,0,{"$f":"_xlfn.IFS(VLOOKUP(F41,Intersections!A:H,8,FALSE)<=0.7,$B$30,VLOOKUP(F41,Intersections!A:H,8,FALSE)<=2,$B$31,TRUE,0)","v":5},{"$f":"_xlfn.IFS(VLOOKUP(F41,Intersections!A:D,4,FALSE)=\"Urban\",$B$30,TRUE,0)","v":0}]
["[15,801 to 20,400]",5,null,null,null,"US-30 & C St",{"$f":"COUNTIF('WWD Crashes'!C:C,F42)","v":0},{"$f":"COUNTIFS('Non-Crash Events'!B:B,F42,'Non-Crash Events'!R:R,\">0\")","v":1},86.9,null,null,null,null,null,null,null,null,null,null,null,null,null,null,null,null,null,{"$f":"SUMIFS('WWD Crashes'!G:G,'WWD Crashes'!C:C,F42)","v":0},{"$f":"_xlfn.IFS(AA42<0.125,$B$3,AA42<0.25,$B$4,AA42<0.5,$B$5,AA42<0.99,$B$6,AA42<1.5,$B$7,TRUE,$B$8)+$B$9*SUMIFS('WWD Crashes'!G:G,'WWD Crashes'!C:C,F42,'WWD Crashes'!L:L,\">0\")++$B$10*SUMIFS('WWD Crashes'!G:G,'WWD Crashes'!C:C,F42,'WWD Crashes'!M:M,\">0\")","v":0},{"$f":"MIN($B$16*SUMIF('Non-Crash Events'!B:B,F42,'Non-Crash Events'!R:R),50)","v":9.9},{"$f":"IF(VLOOKUP(F42,Intersections!A:E,5,FALSE)=\"Unique\",$B$22,IF(VLOOKUP(F42,Intersections!A:E,5,FALSE)=\"Split\",$B$23,0))","v":50},{"$f":"VLOOKUP(F42,Intersections!A:F,6,FALSE)","v":31700},8,{"$f":"VLOOKUP(F42,Intersections!A:G,7,FALSE)","v":16300},9,0,{"$f":"_xlfn.IFS(VLOOKUP(F42,Intersections!A:H,8,FALSE)<=0.7,$B$30,VLOOKUP(F42,Intersections!A:H,8,FALSE)<=2,$B$31,TRUE,0)","v":10},{"$f":"_xlfn.IFS(VLOOKUP(F42,Intersections!A:D,4,FALSE)=\"Urban\",$B$30,TRUE,0)","v":10}]
["[20,401 to 24820]",6,null,null,null,"I-35 & Corporate Woods Dr",{"$f":"COUNTIF('WWD Crashes'!C:C,F43)","v":1},{"$f":"COUNTIFS('Non-Crash Events'!B:B,F43,'Non-Crash Events'!R:R,\">0\")","v":0},81.5,null,null,null,null,null,null,null,null,null,null,null,null,null,null,null,null,null,{"$f":"SUMIFS('WWD Crashes'!G:G,'WWD Crashes'!C:C,F43)","v":0.5},{"$f":"_xlfn.IFS(AA43<0.125,$B$3,AA43<0.25,$B$4,AA43<0.5,$B$5,AA43<0.99,$B$6,AA43<1.5,$B$7,TRUE,$B$8)+$B$9*SUMIFS('WWD Crashes'!G:G,'WWD Crashes'!C:C,F43,'WWD Crashes'!L:L,\">0\")++$B$10*SUMIFS('WWD Crashes'!G:G,'WWD Crashes'!C:C,F43,'WWD Crashes'!M:M,\">0\")","v":52.5},{"$f":"MIN($B$16*SUMIF('Non-Crash Events'!B:B,F43,'Non-Crash Events'!R:R),50)","v":0},{"$f":"IF(VLOOKUP(F43,Intersections!A:E,5,FALSE)=\"Unique\",$B$22,IF(VLOOKUP(F43,Intersections!A:E,5,FALSE)=\"Split\",$B$23,0))","v":0},{"$f":"VLOOKUP(F43,Intersections!A:F,6,FALSE)","v":89800},10,{"$f":"VLOOKUP(F43,Intersections!A:G,7,FALSE)","v":18700},9,5,{"$f":"_xlfn.IFS(VLOOKUP(F43,Intersections!A:H,8,FALSE)<=0.7,$B$30,VLOOKUP(F43,Intersections!A:H,8,FALSE)<=2,$B$31,TRUE,0)","v":5},{"$f":"_xlfn.IFS(VLOOKUP(F43,Intersections!A:D,4,FALSE)=\"Urban\",$B$30,TRUE,0)","v":10}]
["[24,821 to 29,770]",7,null,null,null,"US-30 & IA-930/Lincoln Way",{"$f":"COUNTIF('WWD Crashes'!C:C,F44)","v":0},{"$f":"COUNTIFS('Non-Crash Events'!B:B,F44,'Non-Crash Events'!R:R,\">0\")","v":7},86,null,null,null,null,null,null,null,null,null,null,null,null,null,null,null,null,null,{"$f":"SUMIFS('WWD Crashes'!G:G,'WWD Crashes'!C:C,F44)","v":0},{"$f":"_xlfn.IFS(AA44<0.125,$B$3,AA44<0.25,$B$4,AA44<0.5,$B$5,AA44<0.99,$B$6,AA44<1.5,$B$7,TRUE,$B$8)+$B$9*SUMIFS('WWD Crashes'!G:G,'WWD Crashes'!C:C,F44,'WWD Crashes'!L:L,\">0\")++$B$10*SUMIFS('WWD Crashes'!G:G,'WWD Crashes'!C:C,F44,'WWD Crashes'!M:M,\">0\")","v":0},{"$f":"MIN($B$16*SUMIF('Non-Crash Events'!B:B,F44,'Non-Crash Events'!R:R),50)","v":50},{"$f":"IF(VLOOKUP(F44,Intersections!A:E,5,FALSE)=\"Unique\",$B$22,IF(VLOOKUP(F44,Intersections!A:E,5,FALSE)=\"Split\",$B$23,0))","v":25},{"$f":"VLOOKUP(F44,Intersections!A:F,6,FALSE)","v":17100},5,{"$f":"VLOOKUP(F44,Intersections!A:G,7,FALSE)","v":5600},6,0,{"$f":"_xlfn.IFS(VLOOKUP(F44,Intersections!A:H,8,FALSE)<=0.7,$B$30,VLOOKUP(F44,Intersections!A:H,8,FALSE)<=2,$B$31,TRUE,0)","v":0},{"$f":"_xlfn.IFS(VLOOKUP(F44,Intersections!A:D,4,FALSE)=\"Urban\",$B$30,TRUE,0)","v":0}]
["[29,771 to 36,180]",8,null,null,null,"US-218 & IA-92",{"$f":"COUNTIF('WWD Crashes'!C:C,F45)","v":1},{"$f":"COUNTIFS('Non-Crash Events'!B:B,F45,'Non-Crash Events'!R:R,\">0\")","v":1},85.5,null,null,null,null,null,null,null,null,null,null,null,null,null,null,null,null,null,{"$f":"SUMIFS('WWD Crashes'!G:G,'WWD Crashes'!C:C,F45)","v":0.99},{"$f":"_xlfn.IFS(AA45<0.125,$B$3,AA45<0.25,$B$4,AA45<0.5,$B$5,AA45<0.99,$B$6,AA45<1.5,$B$7,TRUE,$B$8)+$B$9*SUMIFS('WWD Crashes'!G:G,'WWD Crashes'!C:C,F45,'WWD Crashes'!L:L,\">0\")++$B$10*SUMIFS('WWD Crashes'!G:G,'WWD Crashes'!C:C,F45,'WWD Crashes'!M:M,\">0\")","v":20},{"$f":"MIN($B$16*SUMIF('Non-Crash Events'!B:B,F45,'Non-Crash Events'!R:R),50)","v":7.5},{"$f":"IF(VLOOKUP(F45,Intersections!A:E,5,FALSE)=\"Unique\",$B$22,IF(VLOOKUP(F45,Intersections!A:E,5,FALSE)=\"Split\",$B$23,0))","v":50},{"$f":"VLOOKUP(F45,Intersections!A:F,6,FALSE)","v":11800},3,{"$f":"VLOOKUP(F45,Intersections!A:G,7,FALSE)","v":4480},5,0,{"$f":"_xlfn.IFS(VLOOKUP(F45,Intersections!A:H,8,FALSE)<=0.7,$B$30,VLOOKUP(F45,Intersections!A:H,8,FALSE)<=2,$B$31,TRUE,0)","v":0},{"$f":"_xlfn.IFS(VLOOKUP(F45,Intersections!A:D,4,FALSE)=\"Urban\",$B$30,TRUE,0)","v":0}]
["[36,181 to 67,180]",9,null,null,null,"US-20 & 330th Ave/CR-X49",{"$f":"COUNTIF('WWD Crashes'!C:C,F46)","v":2},{"$f":"COUNTIFS('Non-Crash Events'!B:B,F46,'Non-Crash Events'!R:R,\">0\")","v":0},85.25,null,null,null,null,null,null,null,null,null,null,null,null,null,null,null,null,null,{"$f":"SUMIFS('WWD Crashes'!G:G,'WWD Crashes'!C:C,F46)","v":0.75},{"$f":"_xlfn.IFS(AA46<0.125,$B$3,AA46<0.25,$B$4,AA46<0.5,$B$5,AA46<0.99,$B$6,AA46<1.5,$B$7,TRUE,$B$8)+$B$9*SUMIFS('WWD Crashes'!G:G,'WWD Crashes'!C:C,F46,'WWD Crashes'!L:L,\">0\")++$B$10*SUMIFS('WWD Crashes'!G:G,'WWD Crashes'!C:C,F46,'WWD Crashes'!M:M,\">0\")","v":71.25},{"$f":"MIN($B$16*SUMIF('Non-Crash Events'!B:B,F46,'Non-Crash Events'!R:R),50)","v":0},{"$f":"IF(VLOOKUP(F46,Intersections!A:E,5,FALSE)=\"Unique\",$B$22,IF(VLOOKUP(F46,Intersections!A:E,5,FALSE)=\"Split\",$B$23,0))","v":0},{"$f":"VLOOKUP(F46,Intersections!A:F,6,FALSE)","v":12000},4,{"$f":"VLOOKUP(F46,Intersections!A:G,7,FALSE)","v":3960},5,0,{"$f":"_xlfn.IFS(VLOOKUP(F46,Intersections!A:H,8,FALSE)<=0.7,$B$30,VLOOKUP(F46,Intersections!A:H,8,FALSE)<=2,$B$31,TRUE,0)","v":5},{"$f":"_xlfn.IFS(VLOOKUP(F46,Intersections!A:D,4,FALSE)=\"Urban\",$B$30,TRUE,0)","v":0}]
[">= 67,181",10,null,null,null,"IA-5 & 110th Pl",{"$f":"COUNTIF('WWD Crashes'!C:C,F47)","v":1},{"$f":"COUNTIFS('Non-Crash Events'!B:B,F47,'Non-Crash Events'!R:R,\">0\")","v":0},84.5,null,null,null,null,null,null,null,null,null,null,null,null,null,null,null,null,null,{"$f":"SUMIFS('WWD Crashes'!G:G,'WWD Crashes'!C:C,F47)","v":0.5},{"$f":"_xlfn.IFS(AA47<0.125,$B$3,AA47<0.25,$B$4,AA47<0.5,$B$5,AA47<0.99,$B$6,AA47<1.5,$B$7,TRUE,$B$8)+$B$9*SUMIFS('WWD Crashes'!G:G,'WWD Crashes'!C:C,F47,'WWD Crashes'!L:L,\">0\")++$B$10*SUMIFS('WWD Crashes'!G:G,'WWD Crashes'!C:C,F47,'WWD Crashes'!M:M,\">0\")","v":52.5},{"$f":"MIN($B$16*SUMIF('Non-Crash Events'!B:B,F47,'Non-Crash Events'!R:R),50)","v":0},{"$f":"IF(VLOOKUP(F47,Intersections!A:E,5,FALSE)=\"Unique\",$B$22,IF(VLOOKUP(F47,Intersections!A:E,5,FALSE)=\"Split\",$B$23,0))","v":25},{"$f":"VLOOKUP(F47,Intersections!A:F,6,FALSE)","v":4600},1,{"$f":"VLOOKUP(F47,Intersections!A:G,7,FALSE)","v":460},1,0,{"$f":"_xlfn.IFS(VLOOKUP(F47,Intersections!A:H,8,FALSE)<=0.7,$B$30,VLOOKUP(F47,Intersections!A:H,8,FALSE)<=2,$B$31,TRUE,0)","v":5},{"$f":"_xlfn.IFS(VLOOKUP(F47,Intersections!A:D,4,FALSE)=\"Urban\",$B$30,TRUE,0)","v":0}]
["Side Road AADT",null,null,{"$f":"HYPERLINK(\"#'Weight Based'!\"&ADDRESS(5,11),\"Jump to Details\")","v":"Jump to Details"},null,"US-30 & Edgewood Rd",{"$f":"COUNTIF('WWD Crashes'!C:C,F48)","v":2},{"$f":"COUNTIFS('Non-Crash Events'!B:B,F48,'Non-Crash Events'!R:R,\">0\")","v":6},84.199999999999989,null,null,null,null,null,null,null,null,null,null,null,null,null,null,null,null,null,{"$f":"SUMIFS('WWD Crashes'!G:G,'WWD Crashes'!C:C,F48)","v":0.75},{"$f":"_xlfn.IFS(AA48<0.125,$B$3,AA48<0.25,$B$4,AA48<0.5,$B$5,AA48<0.99,$B$6,AA48<1.5,$B$7,TRUE,$B$8)+$B$9*SUMIFS('WWD Crashes'!G:G,'WWD Crashes'!C:C,F48,'WWD Crashes'!L:L,\">0\")++$B$10*SUMIFS('WWD Crashes'!G:G,'WWD Crashes'!C:C,F48,'WWD Crashes'!M:M,\">0\")","v":15},{"$f":"MIN($B$16*SUMIF('Non-Crash Events'!B:B,F48,'Non-Crash Events'!R:R),50)","v":42.199999999999996},{"$f":"IF(VLOOKUP(F48,Intersections!A:E,5,FALSE)=\"Unique\",$B$22,IF(VLOOKUP(F48,Intersections!A:E,5,FALSE)=\"Split\",$B$23,0))","v":0},{"$f":"VLOOKUP(F48,Intersections!A:F,6,FALSE)","v":31500},8,{"$f":"VLOOKUP(F48,Intersections!A:G,7,FALSE)","v":10900},9,0,{"$f":"_xlfn.IFS(VLOOKUP(F48,Intersections!A:H,8,FALSE)<=0.7,$B$30,VLOOKUP(F48,Intersections!A:H,8,FALSE)<=2,$B$31,TRUE,0)","v":10},{"$f":"_xlfn.IFS(VLOOKUP(F48,Intersections!A:D,4,FALSE)=\"Urban\",$B$30,TRUE,0)","v":10}]
["[1 to 826]",1,null,null,null,"I-235 & 7th St/5th Ave",{"$f":"COUNTIF('WWD Crashes'!C:C,F49)","v":2},{"$f":"COUNTIFS('Non-Crash Events'!B:B,F49,'Non-Crash Events'!R:R,\">0\")","v":0},84,null,null,null,null,null,null,null,null,null,null,null,null,null,null,null,null,null,{"$f":"SUMIFS('WWD Crashes'!G:G,'WWD Crashes'!C:C,F49)","v":1.5},{"$f":"_xlfn.IFS(AA49<0.125,$B$3,AA49<0.25,$B$4,AA49<0.5,$B$5,AA49<0.99,$B$6,AA49<1.5,$B$7,TRUE,$B$8)+$B$9*SUMIFS('WWD Crashes'!G:G,'WWD Crashes'!C:C,F49,'WWD Crashes'!L:L,\">0\")++$B$10*SUMIFS('WWD Crashes'!G:G,'WWD Crashes'!C:C,F49,'WWD Crashes'!M:M,\">0\")","v":25},{"$f":"MIN($B$16*SUMIF('Non-Crash Events'!B:B,F49,'Non-Crash Events'!R:R),50)","v":0},{"$f":"IF(VLOOKUP(F49,Intersections!A:E,5,FALSE)=\"Unique\",$B$22,IF(VLOOKUP(F49,Intersections!A:E,5,FALSE)=\"Split\",$B$23,0))","v":25},{"$f":"VLOOKUP(F49,Intersections!A:F,6,FALSE)","v":91800},10,{"$f":"VLOOKUP(F49,Intersections!A:G,7,FALSE)","v":9100},9,5,{"$f":"_xlfn.IFS(VLOOKUP(F49,Intersections!A:H,8,FALSE)<=0.7,$B$30,VLOOKUP(F49,Intersections!A:H,8,FALSE)<=2,$B$31,TRUE,0)","v":10},{"$f":"_xlfn.IFS(VLOOKUP(F49,Intersections!A:D,4,FALSE)=\"Urban\",$B$30,TRUE,0)","v":10}]
["[827 to 1,662]",2,null,null,null,"IA-141 & IA-415",{"$f":"COUNTIF('WWD Crashes'!C:C,F50)","v":1},{"$f":"COUNTIFS('Non-Crash Events'!B:B,F50,'Non-Crash Events'!R:R,\">0\")","v":0},84,null,null,null,null,null,null,null,null,null,null,null,null,null,null,null,null,null,{"$f":"SUMIFS('WWD Crashes'!G:G,'WWD Crashes'!C:C,F50)","v":1},{"$f":"_xlfn.IFS(AA50<0.125,$B$3,AA50<0.25,$B$4,AA50<0.5,$B$5,AA50<0.99,$B$6,AA50<1.5,$B$7,TRUE,$B$8)+$B$9*SUMIFS('WWD Crashes'!G:G,'WWD Crashes'!C:C,F50,'WWD Crashes'!L:L,\">0\")++$B$10*SUMIFS('WWD Crashes'!G:G,'WWD Crashes'!C:C,F50,'WWD Crashes'!M:M,\">0\")","v":20},{"$f":"MIN($B$16*SUMIF('Non-Crash Events'!B:B,F50,'Non-Crash Events'!R:R),50)","v":0},{"$f":"IF(VLOOKUP(F50,Intersections!A:E,5,FALSE)=\"Unique\",$B$22,IF(VLOOKUP(F50,Intersections!A:E,5,FALSE)=\"Split\",$B$23,0))","v":50},{"$f":"VLOOKUP(F50,Intersections!A:F,6,FALSE)","v":20000},5,{"$f":"VLOOKUP(F50,Intersections!A:G,7,FALSE)","v":8900},9,0,{"$f":"_xlfn.IFS(VLOOKUP(F50,Intersections!A:H,8,FALSE)<=0.7,$B$30,VLOOKUP(F50,Intersections!A:H,8,FALSE)<=2,$B$31,TRUE,0)","v":0},{"$f":"_xlfn.IFS(VLOOKUP(F50,Intersections!A:D,4,FALSE)=\"Urban\",$B$30,TRUE,0)","v":0}]
["[1,663 to 2,589]",3,null,null,null,"I-35 & Clay St",{"$f":"COUNTIF('WWD Crashes'!C:C,F51)","v":1},{"$f":"COUNTIFS('Non-Crash Events'!B:B,F51,'Non-Crash Events'!R:R,\">0\")","v":0},81,null,null,null,null,null,null,null,null,null,null,null,null,null,null,null,null,null,{"$f":"SUMIFS('WWD Crashes'!G:G,'WWD Crashes'!C:C,F51)","v":0.5},{"$f":"_xlfn.IFS(AA51<0.125,$B$3,AA51<0.25,$B$4,AA51<0.5,$B$5,AA51<0.99,$B$6,AA51<1.5,$B$7,TRUE,$B$8)+$B$9*SUMIFS('WWD Crashes'!G:G,'WWD Crashes'!C:C,F51,'WWD Crashes'!L:L,\">0\")++$B$10*SUMIFS('WWD Crashes'!G:G,'WWD Crashes'!C:C,F51,'WWD Crashes'!M:M,\">0\")","v":15},{"$f":"MIN($B$16*SUMIF('Non-Crash Events'!B:B,F51,'Non-Crash Events'!R:R),50)","v":0},{"$f":"IF(VLOOKUP(F51,Intersections!A:E,5,FALSE)=\"Unique\",$B$22,IF(VLOOKUP(F51,Intersections!A:E,5,FALSE)=\"Split\",$B$23,0))","v":50},{"$f":"VLOOKUP(F51,Intersections!A:F,6,FALSE)","v":16900},5,{"$f":"VLOOKUP(F51,Intersections!A:G,7,FALSE)","v":800},1,0,{"$f":"_xlfn.IFS(VLOOKUP(F51,Intersections!A:H,8,FALSE)<=0.7,$B$30,VLOOKUP(F51,Intersections!A:H,8,FALSE)<=2,$B$31,TRUE,0)","v":10},{"$f":"_xlfn.IFS(VLOOKUP(F51,Intersections!A:D,4,FALSE)=\"Urban\",$B$30,TRUE,0)","v":0}]
["[2,590 to 3,400]",4,null,null,null,"US-20 & IA-136",{"$f":"COUNTIF('WWD Crashes'!C:C,F52)","v":2},{"$f":"COUNTIFS('Non-Crash Events'!B:B,F52,'Non-Crash Events'!R:R,\">0\")","v":0},80.5,null,null,null,null,null,null,null,null,null,null,null,null,null,null,null,null,null,{"$f":"SUMIFS('WWD Crashes'!G:G,'WWD Crashes'!C:C,F52)","v":1.49},{"$f":"_xlfn.IFS(AA52<0.125,$B$3,AA52<0.25,$B$4,AA52<0.5,$B$5,AA52<0.99,$B$6,AA52<1.5,$B$7,TRUE,$B$8)+$B$9*SUMIFS('WWD Crashes'!G:G,'WWD Crashes'!C:C,F52,'WWD Crashes'!L:L,\">0\")++$B$10*SUMIFS('WWD Crashes'!G:G,'WWD Crashes'!C:C,F52,'WWD Crashes'!M:M,\">0\")","v":57.5},{"$f":"MIN($B$16*SUMIF('Non-Crash Events'!B:B,F52,'Non-Crash Events'!R:R),50)","v":0},{"$f":"IF(VLOOKUP(F52,Intersections!A:E,5,FALSE)=\"Unique\",$B$22,IF(VLOOKUP(F52,Intersections!A:E,5,FALSE)=\"Split\",$B$23,0))","v":0},{"$f":"VLOOKUP(F52,Intersections!A:F,6,FALSE)","v":12000},4,{"$f":"VLOOKUP(F52,Intersections!A:G,7,FALSE)","v":8500},9,0,{"$f":"_xlfn.IFS(VLOOKUP(F52,Intersections!A:H,8,FALSE)<=0.7,$B$30,VLOOKUP(F52,Intersections!A:H,8,FALSE)<=2,$B$31,TRUE,0)","v":10},{"$f":"_xlfn.IFS(VLOOKUP(F52,Intersections!A:D,4,FALSE)=\"Urban\",$B$30,TRUE,0)","v":0}]
["[3,401 to 4,670]",5,null,null,null,"I-235 & E 14th St",{"$f":"COUNTIF('WWD Crashes'!C:C,F53)","v":2},{"$f":"COUNTIFS('Non-Crash Events'!B:B,F53,'Non-Crash Events'!R:R,\">0\")","v":0},85,null,null,null,null,null,null,null,null,null,null,null,null,null,null,null,null,null,{"$f":"SUMIFS('WWD Crashes'!G:G,'WWD Crashes'!C:C,F53)","v":1.95},{"$f":"_xlfn.IFS(AA53<0.125,$B$3,AA53<0.25,$B$4,AA53<0.5,$B$5,AA53<0.99,$B$6,AA53<1.5,$B$7,TRUE,$B$8)+$B$9*SUMIFS('WWD Crashes'!G:G,'WWD Crashes'!C:C,F53,'WWD Crashes'!L:L,\">0\")++$B$10*SUMIFS('WWD Crashes'!G:G,'WWD Crashes'!C:C,F53,'WWD Crashes'!M:M,\">0\")","v":25},{"$f":"MIN($B$16*SUMIF('Non-Crash Events'!B:B,F53,'Non-Crash Events'!R:R),50)","v":0},{"$f":"IF(VLOOKUP(F53,Intersections!A:E,5,FALSE)=\"Unique\",$B$22,IF(VLOOKUP(F53,Intersections!A:E,5,FALSE)=\"Split\",$B$23,0))","v":25},{"$f":"VLOOKUP(F53,Intersections!A:F,6,FALSE)","v":94000},10,{"$f":"VLOOKUP(F53,Intersections!A:G,7,FALSE)","v":21300},10,5,{"$f":"_xlfn.IFS(VLOOKUP(F53,Intersections!A:H,8,FALSE)<=0.7,$B$30,VLOOKUP(F53,Intersections!A:H,8,FALSE)<=2,$B$31,TRUE,0)","v":10},{"$f":"_xlfn.IFS(VLOOKUP(F53,Intersections!A:D,4,FALSE)=\"Urban\",$B$30,TRUE,0)","v":10}]
["[4,671 to 6,500]",6,null,null,null,"I-380 & Blairs Ferry Rd",{"$f":"COUNTIF('WWD Crashes'!C:C,F54)","v":1},{"$f":"COUNTIFS('Non-Crash Events'!B:B,F54,'Non-Crash Events'!R:R,\">0\")","v":0},79,null,null,null,null,null,null,null,null,null,null,null,null,null,null,null,null,null,{"$f":"SUMIFS('WWD Crashes'!G:G,'WWD Crashes'!C:C,F54)","v":1},{"$f":"_xlfn.IFS(AA54<0.125,$B$3,AA54<0.25,$B$4,AA54<0.5,$B$5,AA54<0.99,$B$6,AA54<1.5,$B$7,TRUE,$B$8)+$B$9*SUMIFS('WWD Crashes'!G:G,'WWD Crashes'!C:C,F54,'WWD Crashes'!L:L,\">0\")++$B$10*SUMIFS('WWD Crashes'!G:G,'WWD Crashes'!C:C,F54,'WWD Crashes'!M:M,\">0\")","v":20},{"$f":"MIN($B$16*SUMIF('Non-Crash Events'!B:B,F54,'Non-Crash Events'!R:R),50)","v":0},{"$f":"IF(VLOOKUP(F54,Intersections!A:E,5,FALSE)=\"Unique\",$B$22,IF(VLOOKUP(F54,Intersections!A:E,5,FALSE)=\"Split\",$B$23,0))","v":25},{"$f":"VLOOKUP(F54,Intersections!A:F,6,FALSE)","v":51900},9,{"$f":"VLOOKUP(F54,Intersections!A:G,7,FALSE)","v":21100},10,5,{"$f":"_xlfn.IFS(VLOOKUP(F54,Intersections!A:H,8,FALSE)<=0.7,$B$30,VLOOKUP(F54,Intersections!A:H,8,FALSE)<=2,$B$31,TRUE,0)","v":10},{"$f":"_xlfn.IFS(VLOOKUP(F54,Intersections!A:D,4,FALSE)=\"Urban\",$B$30,TRUE,0)","v":10}]
["[6,501 to 8,400]",7,null,null,null,"US-151 & IA-1",{"$f":"COUNTIF('WWD Crashes'!C:C,F55)","v":1},{"$f":"COUNTIFS('Non-Crash Events'!B:B,F55,'Non-Crash Events'!R:R,\">0\")","v":0},79,null,null,null,null,null,null,null,null,null,null,null,null,null,null,null,null,null,{"$f":"SUMIFS('WWD Crashes'!G:G,'WWD Crashes'!C:C,F55)","v":1},{"$f":"_xlfn.IFS(AA55<0.125,$B$3,AA55<0.25,$B$4,AA55<0.5,$B$5,AA55<0.99,$B$6,AA55<1.5,$B$7,TRUE,$B$8)+$B$9*SUMIFS('WWD Crashes'!G:G,'WWD Crashes'!C:C,F55,'WWD Crashes'!L:L,\">0\")++$B$10*SUMIFS('WWD Crashes'!G:G,'WWD Crashes'!C:C,F55,'WWD Crashes'!M:M,\">0\")","v":20},{"$f":"MIN($B$16*SUMIF('Non-Crash Events'!B:B,F55,'Non-Crash Events'!R:R),50)","v":0},{"$f":"IF(VLOOKUP(F55,Intersections!A:E,5,FALSE)=\"Unique\",$B$22,IF(VLOOKUP(F55,Intersections!A:E,5,FALSE)=\"Split\",$B$23,0))","v":50},{"$f":"VLOOKUP(F55,Intersections!A:F,6,FALSE)","v":13800},4,{"$f":"VLOOKUP(F55,Intersections!A:G,7,FALSE)","v":4280},5,0,{"$f":"_xlfn.IFS(VLOOKUP(F55,Intersections!A:H,8,FALSE)<=0.7,$B$30,VLOOKUP(F55,Intersections!A:H,8,FALSE)<=2,$B$31,TRUE,0)","v":0},{"$f":"_xlfn.IFS(VLOOKUP(F55,Intersections!A:D,4,FALSE)=\"Urban\",$B$30,TRUE,0)","v":0}]
["[8,401 to 11,160]",8,null,null,null,"I-80 & Coral Ridge Ave",{"$f":"COUNTIF('WWD Crashes'!C:C,F56)","v":1},{"$f":"COUNTIFS('Non-Crash Events'!B:B,F56,'Non-Crash Events'!R:R,\">0\")","v":3},78.900000000000006,null,null,null,null,null,null,null,null,null,null,null,null,null,null,null,null,null,{"$f":"SUMIFS('WWD Crashes'!G:G,'WWD Crashes'!C:C,F56)","v":1},{"$f":"_xlfn.IFS(AA56<0.125,$B$3,AA56<0.25,$B$4,AA56<0.5,$B$5,AA56<0.99,$B$6,AA56<1.5,$B$7,TRUE,$B$8)+$B$9*SUMIFS('WWD Crashes'!G:G,'WWD Crashes'!C:C,F56,'WWD Crashes'!L:L,\">0\")++$B$10*SUMIFS('WWD Crashes'!G:G,'WWD Crashes'!C:C,F56,'WWD Crashes'!M:M,\">0\")","v":20},{"$f":"MIN($B$16*SUMIF('Non-Crash Events'!B:B,F56,'Non-Crash Events'!R:R),50)","v":24.900000000000002},{"$f":"IF(VLOOKUP(F56,Intersections!A:E,5,FALSE)=\"Unique\",$B$22,IF(VLOOKUP(F56,Intersections!A:E,5,FALSE)=\"Split\",$B$23,0))","v":0},{"$f":"VLOOKUP(F56,Intersections!A:F,6,FALSE)","v":62500},9,{"$f":"VLOOKUP(F56,Intersections!A:G,7,FALSE)","v":33200},10,5,{"$f":"_xlfn.IFS(VLOOKUP(F56,Intersections!A:H,8,FALSE)<=0.7,$B$30,VLOOKUP(F56,Intersections!A:H,8,FALSE)<=2,$B$31,TRUE,0)","v":10},{"$f":"_xlfn.IFS(VLOOKUP(F56,Intersections!A:D,4,FALSE)=\"Urban\",$B$30,TRUE,0)","v":10}]
["[11,161 to 19,400]",9,null,null,null,"US-30 & Duff Ave/US-69",{"$f":"COUNTIF('WWD Crashes'!C:C,F57)","v":0},{"$f":"COUNTIFS('Non-Crash Events'!B:B,F57,'Non-Crash Events'!R:R,\">0\")","v":6},78,null,null,null,null,null,null,null,null,null,null,null,null,null,null,null,null,null,{"$f":"SUMIFS('WWD Crashes'!G:G,'WWD Crashes'!C:C,F57)","v":0},{"$f":"_xlfn.IFS(AA57<0.125,$B$3,AA57<0.25,$B$4,AA57<0.5,$B$5,AA57<0.99,$B$6,AA57<1.5,$B$7,TRUE,$B$8)+$B$9*SUMIFS('WWD Crashes'!G:G,'WWD Crashes'!C:C,F57,'WWD Crashes'!L:L,\">0\")++$B$10*SUMIFS('WWD Crashes'!G:G,'WWD Crashes'!C:C,F57,'WWD Crashes'!M:M,\">0\")","v":0},{"$f":"MIN($B$16*SUMIF('Non-Crash Events'!B:B,F57,'Non-Crash Events'!R:R),50)","v":50},{"$f":"IF(VLOOKUP(F57,Intersections!A:E,5,FALSE)=\"Unique\",$B$22,IF(VLOOKUP(F57,Intersections!A:E,5,FALSE)=\"Split\",$B$23,0))","v":0},{"$f":"VLOOKUP(F57,Intersections!A:F,6,FALSE)","v":32400},8,{"$f":"VLOOKUP(F57,Intersections!A:G,7,FALSE)","v":25900},10,0,{"$f":"_xlfn.IFS(VLOOKUP(F57,Intersections!A:H,8,FALSE)<=0.7,$B$30,VLOOKUP(F57,Intersections!A:H,8,FALSE)<=2,$B$31,TRUE,0)","v":10},{"$f":"_xlfn.IFS(VLOOKUP(F57,Intersections!A:D,4,FALSE)=\"Urban\",$B$30,TRUE,0)","v":10}]
[">= 19,401",10,null,null,null,"US-218 & Riverside Dr",{"$f":"COUNTIF('WWD Crashes'!C:C,F58)","v":0},{"$f":"COUNTIFS('Non-Crash Events'!B:B,F58,'Non-Crash Events'!R:R,\">0\")","v":1},77.900000000000006,null,null,null,null,null,null,null,null,null,null,null,null,null,null,null,null,null,{"$f":"SUMIFS('WWD Crashes'!G:G,'WWD Crashes'!C:C,F58)","v":0},{"$f":"_xlfn.IFS(AA58<0.125,$B$3,AA58<0.25,$B$4,AA58<0.5,$B$5,AA58<0.99,$B$6,AA58<1.5,$B$7,TRUE,$B$8)+$B$9*SUMIFS('WWD Crashes'!G:G,'WWD Crashes'!C:C,F58,'WWD Crashes'!L:L,\">0\")++$B$10*SUMIFS('WWD Crashes'!G:G,'WWD Crashes'!C:C,F58,'WWD Crashes'!M:M,\">0\")","v":0},{"$f":"MIN($B$16*SUMIF('Non-Crash Events'!B:B,F58,'Non-Crash Events'!R:R),50)","v":9.9},{"$f":"IF(VLOOKUP(F58,Intersections!A:E,5,FALSE)=\"Unique\",$B$22,IF(VLOOKUP(F58,Intersections!A:E,5,FALSE)=\"Split\",$B$23,0))","v":50},{"$f":"VLOOKUP(F58,Intersections!A:F,6,FALSE)","v":22100},6,{"$f":"VLOOKUP(F58,Intersections!A:G,7,FALSE)","v":6900},7,0,{"$f":"_xlfn.IFS(VLOOKUP(F58,Intersections!A:H,8,FALSE)<=0.7,$B$30,VLOOKUP(F58,Intersections!A:H,8,FALSE)<=2,$B$31,TRUE,0)","v":5},{"$f":"_xlfn.IFS(VLOOKUP(F58,Intersections!A:D,4,FALSE)=\"Urban\",$B$30,TRUE,0)","v":10}]
[null,null,null,null,null,"US-65 & Vandalia Rd",{"$f":"COUNTIF('WWD Crashes'!C:C,F59)","v":0},{"$f":"COUNTIFS('Non-Crash Events'!B:B,F59,'Non-Crash Events'!R:R,\">0\")","v":1},77.900000000000006,null,null,null,null,null,null,null,null,null,null,null,null,null,null,null,null,null,{"$f":"SUMIFS('WWD Crashes'!G:G,'WWD Crashes'!C:C,F59)","v":0},{"$f":"_xlfn.IFS(AA59<0.125,$B$3,AA59<0.25,$B$4,AA59<0.5,$B$5,AA59<0.99,$B$6,AA59<1.5,$B$7,TRUE,$B$8)+$B$9*SUMIFS('WWD Crashes'!G:G,'WWD Crashes'!C:C,F59,'WWD Crashes'!L:L,\">0\")++$B$10*SUMIFS('WWD Crashes'!G:G,'WWD Crashes'!C:C,F59,'WWD Crashes'!M:M,\">0\")","v":0},{"$f":"MIN($B$16*SUMIF('Non-Crash Events'!B:B,F59,'Non-Crash Events'!R:R),50)","v":9.9},{"$f":"IF(VLOOKUP(F59,Intersections!A:E,5,FALSE)=\"Unique\",$B$22,IF(VLOOKUP(F59,Intersections!A:E,5,FALSE)=\"Split\",$B$23,0))","v":50},{"$f":"VLOOKUP(F59,Intersections!A:F,6,FALSE)","v":25000},7,{"$f":"VLOOKUP(F59,Intersections!A:G,7,FALSE)","v":6300},6,0,{"$f":"_xlfn.IFS(VLOOKUP(F59,Intersections!A:H,8,FALSE)<=0.7,$B$30,VLOOKUP(F59,Intersections!A:H,8,FALSE)<=2,$B$31,TRUE,0)","v":5},{"$f":"_xlfn.IFS(VLOOKUP(F59,Intersections!A:D,4,FALSE)=\"Urban\",$B$30,TRUE,0)","v":0}]
["Both ML and SR in Top 30%",5,null,null,null,"US-30 & Dayton Ave",{"$f":"COUNTIF('WWD Crashes'!C:C,F60)","v":0},{"$f":"COUNTIFS('Non-Crash Events'!B:B,F60,'Non-Crash Events'!R:R,\">0\")","v":5},77,null,null,null,null,null,null,null,null,null,null,null,null,null,null,null,null,null,{"$f":"SUMIFS('WWD Crashes'!G:G,'WWD Crashes'!C:C,F60)","v":0},{"$f":"_xlfn.IFS(AA60<0.125,$B$3,AA60<0.25,$B$4,AA60<0.5,$B$5,AA60<0.99,$B$6,AA60<1.5,$B$7,TRUE,$B$8)+$B$9*SUMIFS('WWD Crashes'!G:G,'WWD Crashes'!C:C,F60,'WWD Crashes'!L:L,\">0\")++$B$10*SUMIFS('WWD Crashes'!G:G,'WWD Crashes'!C:C,F60,'WWD Crashes'!M:M,\">0\")","v":0},{"$f":"MIN($B$16*SUMIF('Non-Crash Events'!B:B,F60,'Non-Crash Events'!R:R),50)","v":50},{"$f":"IF(VLOOKUP(F60,Intersections!A:E,5,FALSE)=\"Unique\",$B$22,IF(VLOOKUP(F60,Intersections!A:E,5,FALSE)=\"Split\",$B$23,0))","v":0},{"$f":"VLOOKUP(F60,Intersections!A:F,6,FALSE)","v":32100},8,{"$f":"VLOOKUP(F60,Intersections!A:G,7,FALSE)","v":12000},9,0,{"$f":"_xlfn.IFS(VLOOKUP(F60,Intersections!A:H,8,FALSE)<=0.7,$B$30,VLOOKUP(F60,Intersections!A:H,8,FALSE)<=2,$B$31,TRUE,0)","v":10},{"$f":"_xlfn.IFS(VLOOKUP(F60,Intersections!A:D,4,FALSE)=\"Urban\",$B$30,TRUE,0)","v":10}]
[null,null,null,null,null,"IA-100 & Edgewood Rd",{"$f":"COUNTIF('WWD Crashes'!C:C,F61)","v":0},{"$f":"COUNTIFS('Non-Crash Events'!B:B,F61,'Non-Crash Events'!R:R,\">0\")","v":5},75.800000000000011,null,null,null,null,null,null,null,null,null,null,null,null,null,null,null,null,null,{"$f":"SUMIFS('WWD Crashes'!G:G,'WWD Crashes'!C:C,F61)","v":0},{"$f":"_xlfn.IFS(AA61<0.125,$B$3,AA61<0.25,$B$4,AA61<0.5,$B$5,AA61<0.99,$B$6,AA61<1.5,$B$7,TRUE,$B$8)+$B$9*SUMIFS('WWD Crashes'!G:G,'WWD Crashes'!C:C,F61,'WWD Crashes'!L:L,\">0\")++$B$10*SUMIFS('WWD Crashes'!G:G,'WWD Crashes'!C:C,F61,'WWD Crashes'!M:M,\">0\")","v":0},{"$f":"MIN($B$16*SUMIF('Non-Crash Events'!B:B,F61,'Non-Crash Events'!R:R),50)","v":49.800000000000004},{"$f":"IF(VLOOKUP(F61,Intersections!A:E,5,FALSE)=\"Unique\",$B$22,IF(VLOOKUP(F61,Intersections!A:E,5,FALSE)=\"Split\",$B$23,0))","v":0},{"$f":"VLOOKUP(F61,Intersections!A:F,6,FALSE)","v":23900},6,{"$f":"VLOOKUP(F61,Intersections!A:G,7,FALSE)","v":33500},10,0,{"$f":"_xlfn.IFS(VLOOKUP(F61,Intersections!A:H,8,FALSE)<=0.7,$B$30,VLOOKUP(F61,Intersections!A:H,8,FALSE)<=2,$B$31,TRUE,0)","v":10},{"$f":"_xlfn.IFS(VLOOKUP(F61,Intersections!A:D,4,FALSE)=\"Urban\",$B$30,TRUE,0)","v":10}]
[null,null,null,null,null,"I-80 & IA-14",{"$f":"COUNTIF('WWD Crashes'!C:C,F62)","v":0},{"$f":"COUNTIFS('Non-Crash Events'!B:B,F62,'Non-Crash Events'!R:R,\">0\")","v":0},75,null,null,null,null,null,null,null,null,null,null,null,null,null,null,null,null,null,{"$f":"SUMIFS('WWD Crashes'!G:G,'WWD Crashes'!C:C,F62)","v":0},{"$f":"_xlfn.IFS(AA62<0.125,$B$3,AA62<0.25,$B$4,AA62<0.5,$B$5,AA62<0.99,$B$6,AA62<1.5,$B$7,TRUE,$B$8)+$B$9*SUMIFS('WWD Crashes'!G:G,'WWD Crashes'!C:C,F62,'WWD Crashes'!L:L,\">0\")++$B$10*SUMIFS('WWD Crashes'!G:G,'WWD Crashes'!C:C,F62,'WWD Crashes'!M:M,\">0\")","v":0},{"$f":"MIN($B$16*SUMIF('Non-Crash Events'!B:B,F62,'Non-Crash Events'!R:R),50)","v":0},{"$f":"IF(VLOOKUP(F62,Intersections!A:E,5,FALSE)=\"Unique\",$B$22,IF(VLOOKUP(F62,Intersections!A:E,5,FALSE)=\"Split\",$B$23,0))","v":50},{"$f":"VLOOKUP(F62,Intersections!A:F,6,FALSE)","v":32600},8,{"$f":"VLOOKUP(F62,Intersections!A:G,7,FALSE)","v":7100},7,0,{"$f":"_xlfn.IFS(VLOOKUP(F62,Intersections!A:H,8,FALSE)<=0.7,$B$30,VLOOKUP(F62,Intersections!A:H,8,FALSE)<=2,$B$31,TRUE,0)","v":10},{"$f":"_xlfn.IFS(VLOOKUP(F62,Intersections!A:D,4,FALSE)=\"Urban\",$B$30,TRUE,0)","v":10}]
[null,null,null,null,null,"US-20  N Ramp & XIRCUS AVE",{"$f":"COUNTIF('WWD Crashes'!C:C,F63)","v":1},{"$f":"COUNTIFS('Non-Crash Events'!B:B,F63,'Non-Crash Events'!R:R,\">0\")","v":0},74.25,null,null,null,null,null,null,null,null,null,null,null,null,null,null,null,null,null,{"$f":"SUMIFS('WWD Crashes'!G:G,'WWD Crashes'!C:C,F63)","v":0.75},{"$f":"_xlfn.IFS(AA63<0.125,$B$3,AA63<0.25,$B$4,AA63<0.5,$B$5,AA63<0.99,$B$6,AA63<1.5,$B$7,TRUE,$B$8)+$B$9*SUMIFS('WWD Crashes'!G:G,'WWD Crashes'!C:C,F63,'WWD Crashes'!L:L,\">0\")++$B$10*SUMIFS('WWD Crashes'!G:G,'WWD Crashes'!C:C,F63,'WWD Crashes'!M:M,\">0\")","v":71.25},{"$f":"MIN($B$16*SUMIF('Non-Crash Events'!B:B,F63,'Non-Crash Events'!R:R),50)","v":0},{"$f":"IF(VLOOKUP(F63,Intersections!A:E,5,FALSE)=\"Unique\",$B$22,IF(VLOOKUP(F63,Intersections!A:E,5,FALSE)=\"Split\",$B$23,0))","v":0},{"$f":"VLOOKUP(F63,Intersections!A:F,6,FALSE)","v":8900},2,{"$f":"VLOOKUP(F63,Intersections!A:G,7,FALSE)","v":360},1,0,{"$f":"_xlfn.IFS(VLOOKUP(F63,Intersections!A:H,8,FALSE)<=0.7,$B$30,VLOOKUP(F63,Intersections!A:H,8,FALSE)<=2,$B$31,TRUE,0)","v":0},{"$f":"_xlfn.IFS(VLOOKUP(F63,Intersections!A:D,4,FALSE)=\"Urban\",$B$30,TRUE,0)","v":0}]
[null,null,null,null,null,"US-63 & US-18/IA-346",{"$f":"COUNTIF('WWD Crashes'!C:C,F64)","v":1},{"$f":"COUNTIFS('Non-Crash Events'!B:B,F64,'Non-Crash Events'!R:R,\">0\")","v":0},74,null,null,null,null,null,null,null,null,null,null,null,null,null,null,null,null,null,{"$f":"SUMIFS('WWD Crashes'!G:G,'WWD Crashes'!C:C,F64)","v":1},{"$f":"_xlfn.IFS(AA64<0.125,$B$3,AA64<0.25,$B$4,AA64<0.5,$B$5,AA64<0.99,$B$6,AA64<1.5,$B$7,TRUE,$B$8)+$B$9*SUMIFS('WWD Crashes'!G:G,'WWD Crashes'!C:C,F64,'WWD Crashes'!L:L,\">0\")++$B$10*SUMIFS('WWD Crashes'!G:G,'WWD Crashes'!C:C,F64,'WWD Crashes'!M:M,\">0\")","v":20},{"$f":"MIN($B$16*SUMIF('Non-Crash Events'!B:B,F64,'Non-Crash Events'!R:R),50)","v":0},{"$f":"IF(VLOOKUP(F64,Intersections!A:E,5,FALSE)=\"Unique\",$B$22,IF(VLOOKUP(F64,Intersections!A:E,5,FALSE)=\"Split\",$B$23,0))","v":50},{"$f":"VLOOKUP(F64,Intersections!A:F,6,FALSE)","v":5300},1,{"$f":"VLOOKUP(F64,Intersections!A:G,7,FALSE)","v":2110},3,0,{"$f":"_xlfn.IFS(VLOOKUP(F64,Intersections!A:H,8,FALSE)<=0.7,$B$30,VLOOKUP(F64,Intersections!A:H,8,FALSE)<=2,$B$31,TRUE,0)","v":0},{"$f":"_xlfn.IFS(VLOOKUP(F64,Intersections!A:D,4,FALSE)=\"Urban\",$B$30,TRUE,0)","v":0}]
["Interchange w/ documented WWD events",null,null,null,null,"US-34 & Gear Ave",{"$f":"COUNTIF('WWD Crashes'!C:C,F65)","v":0},{"$f":"COUNTIFS('Non-Crash Events'!B:B,F65,'Non-Crash Events'!R:R,\">0\")","v":0},73,null,null,null,null,null,null,null,null,null,null,null,null,null,null,null,null,null,{"$f":"SUMIFS('WWD Crashes'!G:G,'WWD Crashes'!C:C,F65)","v":0},{"$f":"_xlfn.IFS(AA65<0.125,$B$3,AA65<0.25,$B$4,AA65<0.5,$B$5,AA65<0.99,$B$6,AA65<1.5,$B$7,TRUE,$B$8)+$B$9*SUMIFS('WWD Crashes'!G:G,'WWD Crashes'!C:C,F65,'WWD Crashes'!L:L,\">0\")++$B$10*SUMIFS('WWD Crashes'!G:G,'WWD Crashes'!C:C,F65,'WWD Crashes'!M:M,\">0\")","v":0},{"$f":"MIN($B$16*SUMIF('Non-Crash Events'!B:B,F65,'Non-Crash Events'!R:R),50)","v":0},{"$f":"IF(VLOOKUP(F65,Intersections!A:E,5,FALSE)=\"Unique\",$B$22,IF(VLOOKUP(F65,Intersections!A:E,5,FALSE)=\"Split\",$B$23,0))","v":50},{"$f":"VLOOKUP(F65,Intersections!A:F,6,FALSE)","v":13200},4,{"$f":"VLOOKUP(F65,Intersections!A:G,7,FALSE)","v":11900},9,0,{"$f":"_xlfn.IFS(VLOOKUP(F65,Intersections!A:H,8,FALSE)<=0.7,$B$30,VLOOKUP(F65,Intersections!A:H,8,FALSE)<=2,$B$31,TRUE,0)","v":10},{"$f":"_xlfn.IFS(VLOOKUP(F65,Intersections!A:D,4,FALSE)=\"Urban\",$B$30,TRUE,0)","v":10}]
["Interchange w/o documented WWD events",null,null,{"$f":"HYPERLINK(\"#'Weight Based'!\"&ADDRESS(5,11),\"Jump to Details\")","v":"Jump to Details"},null,"I-80 & CR-P20/Pinewood Ave",{"$f":"COUNTIF('WWD Crashes'!C:C,F66)","v":1},{"$f":"COUNTIFS('Non-Crash Events'!B:B,F66,'Non-Crash Events'!R:R,\">0\")","v":0},{"$f":"SUM(AB66,AC66,AD66,AF66,AH66,AI66,AJ66)","v":72},null,null,null,null,null,null,null,null,null,null,null,null,null,null,null,null,null,{"$f":"SUMIFS('WWD Crashes'!G:G,'WWD Crashes'!C:C,F66)","v":0.5},{"$f":"_xlfn.IFS(AA66<0.125,$B$3,AA66<0.25,$B$4,AA66<0.5,$B$5,AA66<0.99,$B$6,AA66<1.5,$B$7,TRUE,$B$8)+$B$9*SUMIFS('WWD Crashes'!G:G,'WWD Crashes'!C:C,F66,'WWD Crashes'!L:L,\">0\")++$B$10*SUMIFS('WWD Crashes'!G:G,'WWD Crashes'!C:C,F66,'WWD Crashes'!M:M,\">0\")","v":15},{"$f":"MIN($B$16*SUMIF('Non-Crash Events'!B:B,F66,'Non-Crash Events'!R:R),50)","v":0},{"$f":"IF(VLOOKUP(F66,Intersections!A:E,5,FALSE)=\"Unique\",$B$22,IF(VLOOKUP(F66,Intersections!A:E,5,FALSE)=\"Split\",$B$23,0))","v":50},{"$f":"VLOOKUP(F66,Intersections!A:F,6,FALSE)","v":24700},6,{"$f":"VLOOKUP(F66,Intersections!A:G,7,FALSE)","v":200},1,0,{"$f":"_xlfn.IFS(VLOOKUP(F66,Intersections!A:H,8,FALSE)<=0.7,$B$30,VLOOKUP(F66,Intersections!A:H,8,FALSE)<=2,$B$31,TRUE,0)","v":0},{"$f":"_xlfn.IFS(VLOOKUP(F66,Intersections!A:D,4,FALSE)=\"Urban\",$B$30,TRUE,0)","v":0}]
[null,null,null,null,null,"US-65 & US-6",{"$f":"COUNTIF('WWD Crashes'!C:C,F67)","v":0},{"$f":"COUNTIFS('Non-Crash Events'!B:B,F67,'Non-Crash Events'!R:R,\">0\")","v":2},72,null,null,null,null,null,null,null,null,null,null,null,null,null,null,null,null,null,{"$f":"SUMIFS('WWD Crashes'!G:G,'WWD Crashes'!C:C,F67)","v":0},{"$f":"_xlfn.IFS(AA67<0.125,$B$3,AA67<0.25,$B$4,AA67<0.5,$B$5,AA67<0.99,$B$6,AA67<1.5,$B$7,TRUE,$B$8)+$B$9*SUMIFS('WWD Crashes'!G:G,'WWD Crashes'!C:C,F67,'WWD Crashes'!L:L,\">0\")++$B$10*SUMIFS('WWD Crashes'!G:G,'WWD Crashes'!C:C,F67,'WWD Crashes'!M:M,\">0\")","v":0},{"$f":"MIN($B$16*SUMIF('Non-Crash Events'!B:B,F67,'Non-Crash Events'!R:R),50)","v":20},{"$f":"IF(VLOOKUP(F67,Intersections!A:E,5,FALSE)=\"Unique\",$B$22,IF(VLOOKUP(F67,Intersections!A:E,5,FALSE)=\"Split\",$B$23,0))","v":25},{"$f":"VLOOKUP(F67,Intersections!A:F,6,FALSE)","v":30800},{"$f":"_xlfn.IFS(AE67<7821,1,AE67<9601,2,AE67<11931,3,AE67<15801,4,AE67<20401,5,AE67<24821,6,AE67<29771,7,AE67<36181,8,AE67<67181,9,TRUE,10)","v":8},{"$f":"VLOOKUP(F67,Intersections!A:G,7,FALSE)","v":10100},{"$f":"_xlfn.IFS(AG67<827,1,AG67<1663,2,AG67<2590,3,AG67<3401,4,AG67<4671,5,AG67<6501,6,AG67<8401,7,AG67<1161,8,AG67<19401,9,TRUE,10)","v":9},{"$f":"IF(AND(AF67>8,AG67>8),5,0)","v":0},{"$f":"_xlfn.IFS(VLOOKUP(F67,Intersections!A:H,8,FALSE)<=0.7,$B$30,VLOOKUP(F67,Intersections!A:H,8,FALSE)<=2,$B$31,TRUE,0)","v":10},{"$f":"_xlfn.IFS(VLOOKUP(F67,Intersections!A:D,4,FALSE)=\"Urban\",$B$30,TRUE,0)","v":10}]
[null,null,null,null,null,"US-20 & US-63",{"$f":"COUNTIF('WWD Crashes'!C:C,F68)","v":0},{"$f":"COUNTIFS('Non-Crash Events'!B:B,F68,'Non-Crash Events'!R:R,\">0\")","v":0},72,null,null,null,null,null,null,null,null,null,null,null,null,null,null,null,null,null,{"$f":"SUMIFS('WWD Crashes'!G:G,'WWD Crashes'!C:C,F68)","v":0},{"$f":"_xlfn.IFS(AA68<0.125,$B$3,AA68<0.25,$B$4,AA68<0.5,$B$5,AA68<0.99,$B$6,AA68<1.5,$B$7,TRUE,$B$8)+$B$9*SUMIFS('WWD Crashes'!G:G,'WWD Crashes'!C:C,F68,'WWD Crashes'!L:L,\">0\")++$B$10*SUMIFS('WWD Crashes'!G:G,'WWD Crashes'!C:C,F68,'WWD Crashes'!M:M,\">0\")","v":0},{"$f":"MIN($B$16*SUMIF('Non-Crash Events'!B:B,F68,'Non-Crash Events'!R:R),50)","v":0},{"$f":"IF(VLOOKUP(F68,Intersections!A:E,5,FALSE)=\"Unique\",$B$22,IF(VLOOKUP(F68,Intersections!A:E,5,FALSE)=\"Split\",$B$23,0))","v":50},{"$f":"VLOOKUP(F68,Intersections!A:F,6,FALSE)","v":30900},8,{"$f":"VLOOKUP(F68,Intersections!A:G,7,FALSE)","v":9200},9,0,{"$f":"_xlfn.IFS(VLOOKUP(F68,Intersections!A:H,8,FALSE)<=0.7,$B$30,VLOOKUP(F68,Intersections!A:H,8,FALSE)<=2,$B$31,TRUE,0)","v":5},{"$f":"_xlfn.IFS(VLOOKUP(F68,Intersections!A:D,4,FALSE)=\"Urban\",$B$30,TRUE,0)","v":10}]
[null,null,null,null,null,"US-61 & 9th St/11th St",{"$f":"COUNTIF('WWD Crashes'!C:C,F69)","v":2},{"$f":"COUNTIFS('Non-Crash Events'!B:B,F69,'Non-Crash Events'!R:R,\">0\")","v":0},71,null,null,null,null,null,null,null,null,null,null,null,null,null,null,null,null,null,{"$f":"SUMIFS('WWD Crashes'!G:G,'WWD Crashes'!C:C,F69)","v":2},{"$f":"_xlfn.IFS(AA69<0.125,$B$3,AA69<0.25,$B$4,AA69<0.5,$B$5,AA69<0.99,$B$6,AA69<1.5,$B$7,TRUE,$B$8)+$B$9*SUMIFS('WWD Crashes'!G:G,'WWD Crashes'!C:C,F69,'WWD Crashes'!L:L,\">0\")++$B$10*SUMIFS('WWD Crashes'!G:G,'WWD Crashes'!C:C,F69,'WWD Crashes'!M:M,\">0\")","v":25},{"$f":"MIN($B$16*SUMIF('Non-Crash Events'!B:B,F69,'Non-Crash Events'!R:R),50)","v":0},{"$f":"IF(VLOOKUP(F69,Intersections!A:E,5,FALSE)=\"Unique\",$B$22,IF(VLOOKUP(F69,Intersections!A:E,5,FALSE)=\"Split\",$B$23,0))","v":25},{"$f":"VLOOKUP(F69,Intersections!A:F,6,FALSE)","v":24700},6,{"$f":"VLOOKUP(F69,Intersections!A:G,7,FALSE)","v":3850},5,0,{"$f":"_xlfn.IFS(VLOOKUP(F69,Intersections!A:H,8,FALSE)<=0.7,$B$30,VLOOKUP(F69,Intersections!A:H,8,FALSE)<=2,$B$31,TRUE,0)","v":10},{"$f":"_xlfn.IFS(VLOOKUP(F69,Intersections!A:D,4,FALSE)=\"Urban\",$B$30,TRUE,0)","v":10}]
[null,null,null,null,null,"US-34 & BUS-34 / Middletown",{"$f":"COUNTIF('WWD Crashes'!C:C,F70)","v":1},{"$f":"COUNTIFS('Non-Crash Events'!B:B,F70,'Non-Crash Events'!R:R,\">0\")","v":0},70,null,null,null,null,null,null,null,null,null,null,null,null,null,null,null,null,null,{"$f":"SUMIFS('WWD Crashes'!G:G,'WWD Crashes'!C:C,F70)","v":0.5},{"$f":"_xlfn.IFS(AA70<0.125,$B$3,AA70<0.25,$B$4,AA70<0.5,$B$5,AA70<0.99,$B$6,AA70<1.5,$B$7,TRUE,$B$8)+$B$9*SUMIFS('WWD Crashes'!G:G,'WWD Crashes'!C:C,F70,'WWD Crashes'!L:L,\">0\")++$B$10*SUMIFS('WWD Crashes'!G:G,'WWD Crashes'!C:C,F70,'WWD Crashes'!M:M,\">0\")","v":15},{"$f":"MIN($B$16*SUMIF('Non-Crash Events'!B:B,F70,'Non-Crash Events'!R:R),50)","v":0},{"$f":"IF(VLOOKUP(F70,Intersections!A:E,5,FALSE)=\"Unique\",$B$22,IF(VLOOKUP(F70,Intersections!A:E,5,FALSE)=\"Split\",$B$23,0))","v":50},{"$f":"VLOOKUP(F70,Intersections!A:F,6,FALSE)","v":7700},1,{"$f":"VLOOKUP(F70,Intersections!A:G,7,FALSE)","v":2720},4,0,{"$f":"_xlfn.IFS(VLOOKUP(F70,Intersections!A:H,8,FALSE)<=0.7,$B$30,VLOOKUP(F70,Intersections!A:H,8,FALSE)<=2,$B$31,TRUE,0)","v":0},{"$f":"_xlfn.IFS(VLOOKUP(F70,Intersections!A:D,4,FALSE)=\"Urban\",$B$30,TRUE,0)","v":0}]
[null,null,null,null,null,"I-380 & Diagonal Dr",{"$f":"COUNTIF('WWD Crashes'!C:C,F71)","v":0},{"$f":"COUNTIFS('Non-Crash Events'!B:B,F71,'Non-Crash Events'!R:R,\">0\")","v":2},69,null,null,null,null,null,null,null,null,null,null,null,null,null,null,null,null,null,{"$f":"SUMIFS('WWD Crashes'!G:G,'WWD Crashes'!C:C,F71)","v":0},{"$f":"_xlfn.IFS(AA71<0.125,$B$3,AA71<0.25,$B$4,AA71<0.5,$B$5,AA71<0.99,$B$6,AA71<1.5,$B$7,TRUE,$B$8)+$B$9*SUMIFS('WWD Crashes'!G:G,'WWD Crashes'!C:C,F71,'WWD Crashes'!L:L,\">0\")++$B$10*SUMIFS('WWD Crashes'!G:G,'WWD Crashes'!C:C,F71,'WWD Crashes'!M:M,\">0\")","v":0},{"$f":"MIN($B$16*SUMIF('Non-Crash Events'!B:B,F71,'Non-Crash Events'!R:R),50)","v":10},{"$f":"IF(VLOOKUP(F71,Intersections!A:E,5,FALSE)=\"Unique\",$B$22,IF(VLOOKUP(F71,Intersections!A:E,5,FALSE)=\"Split\",$B$23,0))","v":25},{"$f":"VLOOKUP(F71,Intersections!A:F,6,FALSE)","v":81100},10,{"$f":"VLOOKUP(F71,Intersections!A:G,7,FALSE)","v":14700},9,5,{"$f":"_xlfn.IFS(VLOOKUP(F71,Intersections!A:H,8,FALSE)<=0.7,$B$30,VLOOKUP(F71,Intersections!A:H,8,FALSE)<=2,$B$31,TRUE,0)","v":10},{"$f":"_xlfn.IFS(VLOOKUP(F71,Intersections!A:D,4,FALSE)=\"Urban\",$B$30,TRUE,0)","v":10}]
[null,null,null,null,null,"I-80 & CR-F60/ELDORADO AVE",{"$f":"COUNTIF('WWD Crashes'!C:C,F72)","v":1},{"$f":"COUNTIFS('Non-Crash Events'!B:B,F72,'Non-Crash Events'!R:R,\">0\")","v":0},68.5,null,null,null,null,null,null,null,null,null,null,null,null,null,null,null,null,null,{"$f":"SUMIFS('WWD Crashes'!G:G,'WWD Crashes'!C:C,F72)","v":0.5},{"$f":"_xlfn.IFS(AA72<0.125,$B$3,AA72<0.25,$B$4,AA72<0.5,$B$5,AA72<0.99,$B$6,AA72<1.5,$B$7,TRUE,$B$8)+$B$9*SUMIFS('WWD Crashes'!G:G,'WWD Crashes'!C:C,F72,'WWD Crashes'!L:L,\">0\")++$B$10*SUMIFS('WWD Crashes'!G:G,'WWD Crashes'!C:C,F72,'WWD Crashes'!M:M,\">0\")","v":52.5},{"$f":"MIN($B$16*SUMIF('Non-Crash Events'!B:B,F72,'Non-Crash Events'!R:R),50)","v":0},{"$f":"IF(VLOOKUP(F72,Intersections!A:E,5,FALSE)=\"Unique\",$B$22,IF(VLOOKUP(F72,Intersections!A:E,5,FALSE)=\"Split\",$B$23,0))","v":0},{"$f":"VLOOKUP(F72,Intersections!A:F,6,FALSE)","v":28900},7,{"$f":"VLOOKUP(F72,Intersections!A:G,7,FALSE)","v":3170},4,0,{"$f":"_xlfn.IFS(VLOOKUP(F72,Intersections!A:H,8,FALSE)<=0.7,$B$30,VLOOKUP(F72,Intersections!A:H,8,FALSE)<=2,$B$31,TRUE,0)","v":5},{"$f":"_xlfn.IFS(VLOOKUP(F72,Intersections!A:D,4,FALSE)=\"Urban\",$B$30,TRUE,0)","v":0}]
[null,null,null,null,null,"I-80 & CR-G30/White Pole Rd/Cedar Ave",{"$f":"COUNTIF('WWD Crashes'!C:C,F73)","v":0},{"$f":"COUNTIFS('Non-Crash Events'!B:B,F73,'Non-Crash Events'!R:R,\">0\")","v":0},68,null,null,null,null,null,null,null,null,null,null,null,null,null,null,null,null,null,{"$f":"SUMIFS('WWD Crashes'!G:G,'WWD Crashes'!C:C,F73)","v":0},{"$f":"_xlfn.IFS(AA73<0.125,$B$3,AA73<0.25,$B$4,AA73<0.5,$B$5,AA73<0.99,$B$6,AA73<1.5,$B$7,TRUE,$B$8)+$B$9*SUMIFS('WWD Crashes'!G:G,'WWD Crashes'!C:C,F73,'WWD Crashes'!L:L,\">0\")++$B$10*SUMIFS('WWD Crashes'!G:G,'WWD Crashes'!C:C,F73,'WWD Crashes'!M:M,\">0\")","v":0},{"$f":"MIN($B$16*SUMIF('Non-Crash Events'!B:B,F73,'Non-Crash Events'!R:R),50)","v":0},{"$f":"IF(VLOOKUP(F73,Intersections!A:E,5,FALSE)=\"Unique\",$B$22,IF(VLOOKUP(F73,Intersections!A:E,5,FALSE)=\"Split\",$B$23,0))","v":50},{"$f":"VLOOKUP(F73,Intersections!A:F,6,FALSE)","v":22600},6,{"$f":"VLOOKUP(F73,Intersections!A:G,7,FALSE)","v":1630},2,0,{"$f":"_xlfn.IFS(VLOOKUP(F73,Intersections!A:H,8,FALSE)<=0.7,$B$30,VLOOKUP(F73,Intersections!A:H,8,FALSE)<=2,$B$31,TRUE,0)","v":10},{"$f":"_xlfn.IFS(VLOOKUP(F73,Intersections!A:D,4,FALSE)=\"Urban\",$B$30,TRUE,0)","v":0}]
[null,null,null,null,null,"IA-163 & IA-117",{"$f":"COUNTIF('WWD Crashes'!C:C,F74)","v":0},{"$f":"COUNTIFS('Non-Crash Events'!B:B,F74,'Non-Crash Events'!R:R,\">0\")","v":0},68,null,null,null,null,null,null,null,null,null,null,null,null,null,null,null,null,null,{"$f":"SUMIFS('WWD Crashes'!G:G,'WWD Crashes'!C:C,F74)","v":0},{"$f":"_xlfn.IFS(AA74<0.125,$B$3,AA74<0.25,$B$4,AA74<0.5,$B$5,AA74<0.99,$B$6,AA74<1.5,$B$7,TRUE,$B$8)+$B$9*SUMIFS('WWD Crashes'!G:G,'WWD Crashes'!C:C,F74,'WWD Crashes'!L:L,\">0\")++$B$10*SUMIFS('WWD Crashes'!G:G,'WWD Crashes'!C:C,F74,'WWD Crashes'!M:M,\">0\")","v":0},{"$f":"MIN($B$16*SUMIF('Non-Crash Events'!B:B,F74,'Non-Crash Events'!R:R),50)","v":0},{"$f":"IF(VLOOKUP(F74,Intersections!A:E,5,FALSE)=\"Unique\",$B$22,IF(VLOOKUP(F74,Intersections!A:E,5,FALSE)=\"Split\",$B$23,0))","v":50},{"$f":"VLOOKUP(F74,Intersections!A:F,6,FALSE)","v":13600},4,{"$f":"VLOOKUP(F74,Intersections!A:G,7,FALSE)","v":2790},4,0,{"$f":"_xlfn.IFS(VLOOKUP(F74,Intersections!A:H,8,FALSE)<=0.7,$B$30,VLOOKUP(F74,Intersections!A:H,8,FALSE)<=2,$B$31,TRUE,0)","v":10},{"$f":"_xlfn.IFS(VLOOKUP(F74,Intersections!A:D,4,FALSE)=\"Urban\",$B$30,TRUE,0)","v":0}]
[null,null,null,null,null,"I-29 & Singing Hills Blvd",{"$f":"COUNTIF('WWD Crashes'!C:C,F75)","v":2},{"$f":"COUNTIFS('Non-Crash Events'!B:B,F75,'Non-Crash Events'!R:R,\">0\")","v":1},68,null,null,null,null,null,null,null,null,null,null,null,null,null,null,null,null,null,{"$f":"SUMIFS('WWD Crashes'!G:G,'WWD Crashes'!C:C,F75)","v":1.5},{"$f":"_xlfn.IFS(AA75<0.125,$B$3,AA75<0.25,$B$4,AA75<0.5,$B$5,AA75<0.99,$B$6,AA75<1.5,$B$7,TRUE,$B$8)+$B$9*SUMIFS('WWD Crashes'!G:G,'WWD Crashes'!C:C,F75,'WWD Crashes'!L:L,\">0\")++$B$10*SUMIFS('WWD Crashes'!G:G,'WWD Crashes'!C:C,F75,'WWD Crashes'!M:M,\">0\")","v":25},{"$f":"MIN($B$16*SUMIF('Non-Crash Events'!B:B,F75,'Non-Crash Events'!R:R),50)","v":10},{"$f":"IF(VLOOKUP(F75,Intersections!A:E,5,FALSE)=\"Unique\",$B$22,IF(VLOOKUP(F75,Intersections!A:E,5,FALSE)=\"Split\",$B$23,0))","v":0},{"$f":"VLOOKUP(F75,Intersections!A:F,6,FALSE)","v":42000},9,{"$f":"VLOOKUP(F75,Intersections!A:G,7,FALSE)","v":13600},9,5,{"$f":"_xlfn.IFS(VLOOKUP(F75,Intersections!A:H,8,FALSE)<=0.7,$B$30,VLOOKUP(F75,Intersections!A:H,8,FALSE)<=2,$B$31,TRUE,0)","v":10},{"$f":"_xlfn.IFS(VLOOKUP(F75,Intersections!A:D,4,FALSE)=\"Urban\",$B$30,TRUE,0)","v":10}]
[null,null,null,null,null,"I-80 & Madison Ave",{"$f":"COUNTIF('WWD Crashes'!C:C,F76)","v":2},{"$f":"COUNTIFS('Non-Crash Events'!B:B,F76,'Non-Crash Events'!R:R,\">0\")","v":1},68,null,null,null,null,null,null,null,null,null,null,null,null,null,null,null,null,null,{"$f":"SUMIFS('WWD Crashes'!G:G,'WWD Crashes'!C:C,F76)","v":1.5},{"$f":"_xlfn.IFS(AA76<0.125,$B$3,AA76<0.25,$B$4,AA76<0.5,$B$5,AA76<0.99,$B$6,AA76<1.5,$B$7,TRUE,$B$8)+$B$9*SUMIFS('WWD Crashes'!G:G,'WWD Crashes'!C:C,F76,'WWD Crashes'!L:L,\">0\")++$B$10*SUMIFS('WWD Crashes'!G:G,'WWD Crashes'!C:C,F76,'WWD Crashes'!M:M,\">0\")","v":25},{"$f":"MIN($B$16*SUMIF('Non-Crash Events'!B:B,F76,'Non-Crash Events'!R:R),50)","v":10},{"$f":"IF(VLOOKUP(F76,Intersections!A:E,5,FALSE)=\"Unique\",$B$22,IF(VLOOKUP(F76,Intersections!A:E,5,FALSE)=\"Split\",$B$23,0))","v":0},{"$f":"VLOOKUP(F76,Intersections!A:F,6,FALSE)","v":43000},9,{"$f":"VLOOKUP(F76,Intersections!A:G,7,FALSE)","v":9300},9,5,{"$f":"_xlfn.IFS(VLOOKUP(F76,Intersections!A:H,8,FALSE)<=0.7,$B$30,VLOOKUP(F76,Intersections!A:H,8,FALSE)<=2,$B$31,TRUE,0)","v":10},{"$f":"_xlfn.IFS(VLOOKUP(F76,Intersections!A:D,4,FALSE)=\"Urban\",$B$30,TRUE,0)","v":10}]
[null,null,null,null,null,"US-20 & 270th Ave",{"$f":"COUNTIF('WWD Crashes'!C:C,F77)","v":2},{"$f":"COUNTIFS('Non-Crash Events'!B:B,F77,'Non-Crash Events'!R:R,\">0\")","v":0},67.5,null,null,null,null,null,null,null,null,null,null,null,null,null,null,null,null,null,{"$f":"SUMIFS('WWD Crashes'!G:G,'WWD Crashes'!C:C,F77)","v":1.5},{"$f":"_xlfn.IFS(AA77<0.125,$B$3,AA77<0.25,$B$4,AA77<0.5,$B$5,AA77<0.99,$B$6,AA77<1.5,$B$7,TRUE,$B$8)+$B$9*SUMIFS('WWD Crashes'!G:G,'WWD Crashes'!C:C,F77,'WWD Crashes'!L:L,\">0\")++$B$10*SUMIFS('WWD Crashes'!G:G,'WWD Crashes'!C:C,F77,'WWD Crashes'!M:M,\">0\")","v":62.5},{"$f":"MIN($B$16*SUMIF('Non-Crash Events'!B:B,F77,'Non-Crash Events'!R:R),50)","v":0},{"$f":"IF(VLOOKUP(F77,Intersections!A:E,5,FALSE)=\"Unique\",$B$22,IF(VLOOKUP(F77,Intersections!A:E,5,FALSE)=\"Split\",$B$23,0))","v":0},{"$f":"VLOOKUP(F77,Intersections!A:F,6,FALSE)","v":8800},2,{"$f":"VLOOKUP(F77,Intersections!A:G,7,FALSE)","v":1710},3,0,{"$f":"_xlfn.IFS(VLOOKUP(F77,Intersections!A:H,8,FALSE)<=0.7,$B$30,VLOOKUP(F77,Intersections!A:H,8,FALSE)<=2,$B$31,TRUE,0)","v":0},{"$f":"_xlfn.IFS(VLOOKUP(F77,Intersections!A:D,4,FALSE)=\"Urban\",$B$30,TRUE,0)","v":0}]
[null,null,null,null,null,"US-20 & IA-38",{"$f":"COUNTIF('WWD Crashes'!C:C,F78)","v":0},{"$f":"COUNTIFS('Non-Crash Events'!B:B,F78,'Non-Crash Events'!R:R,\">0\")","v":0},65,null,null,null,null,null,null,null,null,null,null,null,null,null,null,null,null,null,{"$f":"SUMIFS('WWD Crashes'!G:G,'WWD Crashes'!C:C,F78)","v":0},{"$f":"_xlfn.IFS(AA78<0.125,$B$3,AA78<0.25,$B$4,AA78<0.5,$B$5,AA78<0.99,$B$6,AA78<1.5,$B$7,TRUE,$B$8)+$B$9*SUMIFS('WWD Crashes'!G:G,'WWD Crashes'!C:C,F78,'WWD Crashes'!L:L,\">0\")++$B$10*SUMIFS('WWD Crashes'!G:G,'WWD Crashes'!C:C,F78,'WWD Crashes'!M:M,\">0\")","v":0},{"$f":"MIN($B$16*SUMIF('Non-Crash Events'!B:B,F78,'Non-Crash Events'!R:R),50)","v":0},{"$f":"IF(VLOOKUP(F78,Intersections!A:E,5,FALSE)=\"Unique\",$B$22,IF(VLOOKUP(F78,Intersections!A:E,5,FALSE)=\"Split\",$B$23,0))","v":50},{"$f":"VLOOKUP(F78,Intersections!A:F,6,FALSE)","v":9000},2,{"$f":"VLOOKUP(F78,Intersections!A:G,7,FALSE)","v":2320},3,0,{"$f":"_xlfn.IFS(VLOOKUP(F78,Intersections!A:H,8,FALSE)<=0.7,$B$30,VLOOKUP(F78,Intersections!A:H,8,FALSE)<=2,$B$31,TRUE,0)","v":10},{"$f":"_xlfn.IFS(VLOOKUP(F78,Intersections!A:D,4,FALSE)=\"Urban\",$B$30,TRUE,0)","v":0}]
[null,null,null,null,null,"US-34 & Grand Ave/Jewel Ave",{"$f":"COUNTIF('WWD Crashes'!C:C,F79)","v":0},{"$f":"COUNTIFS('Non-Crash Events'!B:B,F79,'Non-Crash Events'!R:R,\">0\")","v":0},64,null,null,null,null,null,null,null,null,null,null,null,null,null,null,null,null,null,{"$f":"SUMIFS('WWD Crashes'!G:G,'WWD Crashes'!C:C,F79)","v":0},{"$f":"_xlfn.IFS(AA79<0.125,$B$3,AA79<0.25,$B$4,AA79<0.5,$B$5,AA79<0.99,$B$6,AA79<1.5,$B$7,TRUE,$B$8)+$B$9*SUMIFS('WWD Crashes'!G:G,'WWD Crashes'!C:C,F79,'WWD Crashes'!L:L,\">0\")++$B$10*SUMIFS('WWD Crashes'!G:G,'WWD Crashes'!C:C,F79,'WWD Crashes'!M:M,\">0\")","v":0},{"$f":"MIN($B$16*SUMIF('Non-Crash Events'!B:B,F79,'Non-Crash Events'!R:R),50)","v":0},{"$f":"IF(VLOOKUP(F79,Intersections!A:E,5,FALSE)=\"Unique\",$B$22,IF(VLOOKUP(F79,Intersections!A:E,5,FALSE)=\"Split\",$B$23,0))","v":50},{"$f":"VLOOKUP(F79,Intersections!A:F,6,FALSE)","v":10400},3,{"$f":"VLOOKUP(F79,Intersections!A:G,7,FALSE)","v":6100},6,0,{"$f":"_xlfn.IFS(VLOOKUP(F79,Intersections!A:H,8,FALSE)<=0.7,$B$30,VLOOKUP(F79,Intersections!A:H,8,FALSE)<=2,$B$31,TRUE,0)","v":5},{"$f":"_xlfn.IFS(VLOOKUP(F79,Intersections!A:D,4,FALSE)=\"Urban\",$B$30,TRUE,0)","v":0}]
[null,null,null,null,null,"I-380 & 29th St",{"$f":"COUNTIF('WWD Crashes'!C:C,F80)","v":0},{"$f":"COUNTIFS('Non-Crash Events'!B:B,F80,'Non-Crash Events'!R:R,\">0\")","v":1},64,null,null,null,null,null,null,null,null,null,null,null,null,null,null,null,null,null,{"$f":"SUMIFS('WWD Crashes'!G:G,'WWD Crashes'!C:C,F80)","v":0},{"$f":"_xlfn.IFS(AA80<0.125,$B$3,AA80<0.25,$B$4,AA80<0.5,$B$5,AA80<0.99,$B$6,AA80<1.5,$B$7,TRUE,$B$8)+$B$9*SUMIFS('WWD Crashes'!G:G,'WWD Crashes'!C:C,F80,'WWD Crashes'!L:L,\">0\")++$B$10*SUMIFS('WWD Crashes'!G:G,'WWD Crashes'!C:C,F80,'WWD Crashes'!M:M,\">0\")","v":0},{"$f":"MIN($B$16*SUMIF('Non-Crash Events'!B:B,F80,'Non-Crash Events'!R:R),50)","v":5},{"$f":"IF(VLOOKUP(F80,Intersections!A:E,5,FALSE)=\"Unique\",$B$22,IF(VLOOKUP(F80,Intersections!A:E,5,FALSE)=\"Split\",$B$23,0))","v":25},{"$f":"VLOOKUP(F80,Intersections!A:F,6,FALSE)","v":96900},10,{"$f":"VLOOKUP(F80,Intersections!A:G,7,FALSE)","v":8600},9,5,{"$f":"_xlfn.IFS(VLOOKUP(F80,Intersections!A:H,8,FALSE)<=0.7,$B$30,VLOOKUP(F80,Intersections!A:H,8,FALSE)<=2,$B$31,TRUE,0)","v":10},{"$f":"_xlfn.IFS(VLOOKUP(F80,Intersections!A:D,4,FALSE)=\"Urban\",$B$30,TRUE,0)","v":10}]
[null,null,null,null,null,"I-380 & 42nd St",{"$f":"COUNTIF('WWD Crashes'!C:C,F81)","v":0},{"$f":"COUNTIFS('Non-Crash Events'!B:B,F81,'Non-Crash Events'!R:R,\">0\")","v":1},64,null,null,null,null,null,null,null,null,null,null,null,null,null,null,null,null,null,{"$f":"SUMIFS('WWD Crashes'!G:G,'WWD Crashes'!C:C,F81)","v":0},{"$f":"_xlfn.IFS(AA81<0.125,$B$3,AA81<0.25,$B$4,AA81<0.5,$B$5,AA81<0.99,$B$6,AA81<1.5,$B$7,TRUE,$B$8)+$B$9*SUMIFS('WWD Crashes'!G:G,'WWD Crashes'!C:C,F81,'WWD Crashes'!L:L,\">0\")++$B$10*SUMIFS('WWD Crashes'!G:G,'WWD Crashes'!C:C,F81,'WWD Crashes'!M:M,\">0\")","v":0},{"$f":"MIN($B$16*SUMIF('Non-Crash Events'!B:B,F81,'Non-Crash Events'!R:R),50)","v":5},{"$f":"IF(VLOOKUP(F81,Intersections!A:E,5,FALSE)=\"Unique\",$B$22,IF(VLOOKUP(F81,Intersections!A:E,5,FALSE)=\"Split\",$B$23,0))","v":25},{"$f":"VLOOKUP(F81,Intersections!A:F,6,FALSE)","v":83100},10,{"$f":"VLOOKUP(F81,Intersections!A:G,7,FALSE)","v":12000},9,5,{"$f":"_xlfn.IFS(VLOOKUP(F81,Intersections!A:H,8,FALSE)<=0.7,$B$30,VLOOKUP(F81,Intersections!A:H,8,FALSE)<=2,$B$31,TRUE,0)","v":10},{"$f":"_xlfn.IFS(VLOOKUP(F81,Intersections!A:D,4,FALSE)=\"Urban\",$B$30,TRUE,0)","v":10}]
[null,null,null,null,null,"I-380 & Boyson Rd",{"$f":"COUNTIF('WWD Crashes'!C:C,F82)","v":1},{"$f":"COUNTIFS('Non-Crash Events'!B:B,F82,'Non-Crash Events'!R:R,\">0\")","v":1},63.9,null,null,null,null,null,null,null,null,null,null,null,null,null,null,null,null,null,{"$f":"SUMIFS('WWD Crashes'!G:G,'WWD Crashes'!C:C,F82)","v":1},{"$f":"_xlfn.IFS(AA82<0.125,$B$3,AA82<0.25,$B$4,AA82<0.5,$B$5,AA82<0.99,$B$6,AA82<1.5,$B$7,TRUE,$B$8)+$B$9*SUMIFS('WWD Crashes'!G:G,'WWD Crashes'!C:C,F82,'WWD Crashes'!L:L,\">0\")++$B$10*SUMIFS('WWD Crashes'!G:G,'WWD Crashes'!C:C,F82,'WWD Crashes'!M:M,\">0\")","v":20},{"$f":"MIN($B$16*SUMIF('Non-Crash Events'!B:B,F82,'Non-Crash Events'!R:R),50)","v":9.9},{"$f":"IF(VLOOKUP(F82,Intersections!A:E,5,FALSE)=\"Unique\",$B$22,IF(VLOOKUP(F82,Intersections!A:E,5,FALSE)=\"Split\",$B$23,0))","v":0},{"$f":"VLOOKUP(F82,Intersections!A:F,6,FALSE)","v":48300},9,{"$f":"VLOOKUP(F82,Intersections!A:G,7,FALSE)","v":19800},10,5,{"$f":"_xlfn.IFS(VLOOKUP(F82,Intersections!A:H,8,FALSE)<=0.7,$B$30,VLOOKUP(F82,Intersections!A:H,8,FALSE)<=2,$B$31,TRUE,0)","v":10},{"$f":"_xlfn.IFS(VLOOKUP(F82,Intersections!A:D,4,FALSE)=\"Urban\",$B$30,TRUE,0)","v":10}]
[null,null,null,{"$f":"HYPERLINK(\"#'Weight Based'!\"&ADDRESS(5,11),\"Jump to Details\")","v":"Jump to Details"},null,"I-80 & Hubbell Ave",{"$f":"COUNTIF('WWD Crashes'!C:C,F83)","v":3},{"$f":"COUNTIFS('Non-Crash Events'!B:B,F83,'Non-Crash Events'!R:R,\">0\")","v":1},63,null,null,null,null,null,null,null,null,null,null,null,null,null,null,null,null,null,{"$f":"SUMIFS('WWD Crashes'!G:G,'WWD Crashes'!C:C,F83)","v":1.25},{"$f":"_xlfn.IFS(AA83<0.125,$B$3,AA83<0.25,$B$4,AA83<0.5,$B$5,AA83<0.99,$B$6,AA83<1.5,$B$7,TRUE,$B$8)+$B$9*SUMIFS('WWD Crashes'!G:G,'WWD Crashes'!C:C,F83,'WWD Crashes'!L:L,\">0\")++$B$10*SUMIFS('WWD Crashes'!G:G,'WWD Crashes'!C:C,F83,'WWD Crashes'!M:M,\">0\")","v":20},{"$f":"MIN($B$16*SUMIF('Non-Crash Events'!B:B,F83,'Non-Crash Events'!R:R),50)","v":10},{"$f":"IF(VLOOKUP(F83,Intersections!A:E,5,FALSE)=\"Unique\",$B$22,IF(VLOOKUP(F83,Intersections!A:E,5,FALSE)=\"Split\",$B$23,0))","v":0},{"$f":"VLOOKUP(F83,Intersections!A:F,6,FALSE)","v":42800},9,{"$f":"VLOOKUP(F83,Intersections!A:G,7,FALSE)","v":13700},9,5,{"$f":"_xlfn.IFS(VLOOKUP(F83,Intersections!A:H,8,FALSE)<=0.7,$B$30,VLOOKUP(F83,Intersections!A:H,8,FALSE)<=2,$B$31,TRUE,0)","v":10},{"$f":"_xlfn.IFS(VLOOKUP(F83,Intersections!A:D,4,FALSE)=\"Urban\",$B$30,TRUE,0)","v":10}]
[null,null,null,null,null,"IA-27 & US-218",{"$f":"COUNTIF('WWD Crashes'!C:C,F84)","v":1},{"$f":"COUNTIFS('Non-Crash Events'!B:B,F84,'Non-Crash Events'!R:R,\">0\")","v":0},62.5,null,null,null,null,null,null,null,null,null,null,null,null,null,null,null,null,null,{"$f":"SUMIFS('WWD Crashes'!G:G,'WWD Crashes'!C:C,F84)","v":0.5},{"$f":"_xlfn.IFS(AA84<0.125,$B$3,AA84<0.25,$B$4,AA84<0.5,$B$5,AA84<0.99,$B$6,AA84<1.5,$B$7,TRUE,$B$8)+$B$9*SUMIFS('WWD Crashes'!G:G,'WWD Crashes'!C:C,F84,'WWD Crashes'!L:L,\">0\")++$B$10*SUMIFS('WWD Crashes'!G:G,'WWD Crashes'!C:C,F84,'WWD Crashes'!M:M,\">0\")","v":52.5},{"$f":"MIN($B$16*SUMIF('Non-Crash Events'!B:B,F84,'Non-Crash Events'!R:R),50)","v":0},{"$f":"IF(VLOOKUP(F84,Intersections!A:E,5,FALSE)=\"Unique\",$B$22,IF(VLOOKUP(F84,Intersections!A:E,5,FALSE)=\"Split\",$B$23,0))","v":0},{"$f":"VLOOKUP(F84,Intersections!A:F,6,FALSE)","v":6300},1,{"$f":"VLOOKUP(F84,Intersections!A:G,7,FALSE)","v":2710},4,0,{"$f":"_xlfn.IFS(VLOOKUP(F84,Intersections!A:H,8,FALSE)<=0.7,$B$30,VLOOKUP(F84,Intersections!A:H,8,FALSE)<=2,$B$31,TRUE,0)","v":5},{"$f":"_xlfn.IFS(VLOOKUP(F84,Intersections!A:D,4,FALSE)=\"Urban\",$B$30,TRUE,0)","v":0}]
[null,null,null,null,null,"US-30 & BUS-30/Lincoln Hwy",{"$f":"COUNTIF('WWD Crashes'!C:C,F85)","v":0},{"$f":"COUNTIFS('Non-Crash Events'!B:B,F85,'Non-Crash Events'!R:R,\">0\")","v":0},62,null,null,null,null,null,null,null,null,null,null,null,null,null,null,null,null,null,{"$f":"SUMIFS('WWD Crashes'!G:G,'WWD Crashes'!C:C,F85)","v":0},{"$f":"_xlfn.IFS(AA85<0.125,$B$3,AA85<0.25,$B$4,AA85<0.5,$B$5,AA85<0.99,$B$6,AA85<1.5,$B$7,TRUE,$B$8)+$B$9*SUMIFS('WWD Crashes'!G:G,'WWD Crashes'!C:C,F85,'WWD Crashes'!L:L,\">0\")++$B$10*SUMIFS('WWD Crashes'!G:G,'WWD Crashes'!C:C,F85,'WWD Crashes'!M:M,\">0\")","v":0},{"$f":"MIN($B$16*SUMIF('Non-Crash Events'!B:B,F85,'Non-Crash Events'!R:R),50)","v":0},{"$f":"IF(VLOOKUP(F85,Intersections!A:E,5,FALSE)=\"Unique\",$B$22,IF(VLOOKUP(F85,Intersections!A:E,5,FALSE)=\"Split\",$B$23,0))","v":50},{"$f":"VLOOKUP(F85,Intersections!A:F,6,FALSE)","v":11800},3,{"$f":"VLOOKUP(F85,Intersections!A:G,7,FALSE)","v":3160},4,0,{"$f":"_xlfn.IFS(VLOOKUP(F85,Intersections!A:H,8,FALSE)<=0.7,$B$30,VLOOKUP(F85,Intersections!A:H,8,FALSE)<=2,$B$31,TRUE,0)","v":5},{"$f":"_xlfn.IFS(VLOOKUP(F85,Intersections!A:D,4,FALSE)=\"Urban\",$B$30,TRUE,0)","v":0}]
[null,null,null,null,null,"US-20 & Jefferson Rd",{"$f":"COUNTIF('WWD Crashes'!C:C,F86)","v":0},{"$f":"COUNTIFS('Non-Crash Events'!B:B,F86,'Non-Crash Events'!R:R,\">0\")","v":0},62,null,null,null,null,null,null,null,null,null,null,null,null,null,null,null,null,null,{"$f":"SUMIFS('WWD Crashes'!G:G,'WWD Crashes'!C:C,F86)","v":0},{"$f":"_xlfn.IFS(AA86<0.125,$B$3,AA86<0.25,$B$4,AA86<0.5,$B$5,AA86<0.99,$B$6,AA86<1.5,$B$7,TRUE,$B$8)+$B$9*SUMIFS('WWD Crashes'!G:G,'WWD Crashes'!C:C,F86,'WWD Crashes'!L:L,\">0\")++$B$10*SUMIFS('WWD Crashes'!G:G,'WWD Crashes'!C:C,F86,'WWD Crashes'!M:M,\">0\")","v":0},{"$f":"MIN($B$16*SUMIF('Non-Crash Events'!B:B,F86,'Non-Crash Events'!R:R),50)","v":0},{"$f":"IF(VLOOKUP(F86,Intersections!A:E,5,FALSE)=\"Unique\",$B$22,IF(VLOOKUP(F86,Intersections!A:E,5,FALSE)=\"Split\",$B$23,0))","v":50},{"$f":"VLOOKUP(F86,Intersections!A:F,6,FALSE)","v":9100},2,{"$f":"VLOOKUP(F86,Intersections!A:G,7,FALSE)","v":4060},5,0,{"$f":"_xlfn.IFS(VLOOKUP(F86,Intersections!A:H,8,FALSE)<=0.7,$B$30,VLOOKUP(F86,Intersections!A:H,8,FALSE)<=2,$B$31,TRUE,0)","v":5},{"$f":"_xlfn.IFS(VLOOKUP(F86,Intersections!A:D,4,FALSE)=\"Urban\",$B$30,TRUE,0)","v":0}]
[null,null,null,null,null,"US-169 & 2nd Ave",{"$f":"COUNTIF('WWD Crashes'!C:C,F87)","v":0},{"$f":"COUNTIFS('Non-Crash Events'!B:B,F87,'Non-Crash Events'!R:R,\">0\")","v":0},62,null,null,null,null,null,null,null,null,null,null,null,null,null,null,null,null,null,{"$f":"SUMIFS('WWD Crashes'!G:G,'WWD Crashes'!C:C,F87)","v":0},{"$f":"_xlfn.IFS(AA87<0.125,$B$3,AA87<0.25,$B$4,AA87<0.5,$B$5,AA87<0.99,$B$6,AA87<1.5,$B$7,TRUE,$B$8)+$B$9*SUMIFS('WWD Crashes'!G:G,'WWD Crashes'!C:C,F87,'WWD Crashes'!L:L,\">0\")++$B$10*SUMIFS('WWD Crashes'!G:G,'WWD Crashes'!C:C,F87,'WWD Crashes'!M:M,\">0\")","v":0},{"$f":"MIN($B$16*SUMIF('Non-Crash Events'!B:B,F87,'Non-Crash Events'!R:R),50)","v":0},{"$f":"IF(VLOOKUP(F87,Intersections!A:E,5,FALSE)=\"Unique\",$B$22,IF(VLOOKUP(F87,Intersections!A:E,5,FALSE)=\"Split\",$B$23,0))","v":50},{"$f":"VLOOKUP(F87,Intersections!A:F,6,FALSE)","v":8200},2,{"$f":"VLOOKUP(F87,Intersections!A:G,7,FALSE)","v":4390},5,0,{"$f":"_xlfn.IFS(VLOOKUP(F87,Intersections!A:H,8,FALSE)<=0.7,$B$30,VLOOKUP(F87,Intersections!A:H,8,FALSE)<=2,$B$31,TRUE,0)","v":5},{"$f":"_xlfn.IFS(VLOOKUP(F87,Intersections!A:D,4,FALSE)=\"Urban\",$B$30,TRUE,0)","v":0}]
[null,null,null,null,null,"I-680 & CR-L34",{"$f":"COUNTIF('WWD Crashes'!C:C,F88)","v":1},{"$f":"COUNTIFS('Non-Crash Events'!B:B,F88,'Non-Crash Events'!R:R,\">0\")","v":0},62,null,null,null,null,null,null,null,null,null,null,null,null,null,null,null,null,null,{"$f":"SUMIFS('WWD Crashes'!G:G,'WWD Crashes'!C:C,F88)","v":0.25},{"$f":"_xlfn.IFS(AA88<0.125,$B$3,AA88<0.25,$B$4,AA88<0.5,$B$5,AA88<0.99,$B$6,AA88<1.5,$B$7,TRUE,$B$8)+$B$9*SUMIFS('WWD Crashes'!G:G,'WWD Crashes'!C:C,F88,'WWD Crashes'!L:L,\">0\")++$B$10*SUMIFS('WWD Crashes'!G:G,'WWD Crashes'!C:C,F88,'WWD Crashes'!M:M,\">0\")","v":10},{"$f":"MIN($B$16*SUMIF('Non-Crash Events'!B:B,F88,'Non-Crash Events'!R:R),50)","v":0},{"$f":"IF(VLOOKUP(F88,Intersections!A:E,5,FALSE)=\"Unique\",$B$22,IF(VLOOKUP(F88,Intersections!A:E,5,FALSE)=\"Split\",$B$23,0))","v":50},{"$f":"VLOOKUP(F88,Intersections!A:F,6,FALSE)","v":6600},1,{"$f":"VLOOKUP(F88,Intersections!A:G,7,FALSE)","v":800},1,0,{"$f":"_xlfn.IFS(VLOOKUP(F88,Intersections!A:H,8,FALSE)<=0.7,$B$30,VLOOKUP(F88,Intersections!A:H,8,FALSE)<=2,$B$31,TRUE,0)","v":0},{"$f":"_xlfn.IFS(VLOOKUP(F88,Intersections!A:D,4,FALSE)=\"Urban\",$B$30,TRUE,0)","v":0}]
[null,null,null,null,null,"US-218 & IA-14",{"$f":"COUNTIF('WWD Crashes'!C:C,F89)","v":0},{"$f":"COUNTIFS('Non-Crash Events'!B:B,F89,'Non-Crash Events'!R:R,\">0\")","v":0},61,null,null,null,null,null,null,null,null,null,null,null,null,null,null,null,null,null,{"$f":"SUMIFS('WWD Crashes'!G:G,'WWD Crashes'!C:C,F89)","v":0},{"$f":"_xlfn.IFS(AA89<0.125,$B$3,AA89<0.25,$B$4,AA89<0.5,$B$5,AA89<0.99,$B$6,AA89<1.5,$B$7,TRUE,$B$8)+$B$9*SUMIFS('WWD Crashes'!G:G,'WWD Crashes'!C:C,F89,'WWD Crashes'!L:L,\">0\")++$B$10*SUMIFS('WWD Crashes'!G:G,'WWD Crashes'!C:C,F89,'WWD Crashes'!M:M,\">0\")","v":0},{"$f":"MIN($B$16*SUMIF('Non-Crash Events'!B:B,F89,'Non-Crash Events'!R:R),50)","v":0},{"$f":"IF(VLOOKUP(F89,Intersections!A:E,5,FALSE)=\"Unique\",$B$22,IF(VLOOKUP(F89,Intersections!A:E,5,FALSE)=\"Split\",$B$23,0))","v":50},{"$f":"VLOOKUP(F89,Intersections!A:F,6,FALSE)","v":8300},2,{"$f":"VLOOKUP(F89,Intersections!A:G,7,FALSE)","v":2630},4,0,{"$f":"_xlfn.IFS(VLOOKUP(F89,Intersections!A:H,8,FALSE)<=0.7,$B$30,VLOOKUP(F89,Intersections!A:H,8,FALSE)<=2,$B$31,TRUE,0)","v":5},{"$f":"_xlfn.IFS(VLOOKUP(F89,Intersections!A:D,4,FALSE)=\"Urban\",$B$30,TRUE,0)","v":0}]
[null,null,null,null,null,"I-80 & IA-173",{"$f":"COUNTIF('WWD Crashes'!C:C,F90)","v":1},{"$f":"COUNTIFS('Non-Crash Events'!B:B,F90,'Non-Crash Events'!R:R,\">0\")","v":0},60.5,null,null,null,null,null,null,null,null,null,null,null,null,null,null,null,null,null,{"$f":"SUMIFS('WWD Crashes'!G:G,'WWD Crashes'!C:C,F90)","v":0.5},{"$f":"_xlfn.IFS(AA90<0.125,$B$3,AA90<0.25,$B$4,AA90<0.5,$B$5,AA90<0.99,$B$6,AA90<1.5,$B$7,TRUE,$B$8)+$B$9*SUMIFS('WWD Crashes'!G:G,'WWD Crashes'!C:C,F90,'WWD Crashes'!L:L,\">0\")++$B$10*SUMIFS('WWD Crashes'!G:G,'WWD Crashes'!C:C,F90,'WWD Crashes'!M:M,\">0\")","v":52.5},{"$f":"MIN($B$16*SUMIF('Non-Crash Events'!B:B,F90,'Non-Crash Events'!R:R),50)","v":0},{"$f":"IF(VLOOKUP(F90,Intersections!A:E,5,FALSE)=\"Unique\",$B$22,IF(VLOOKUP(F90,Intersections!A:E,5,FALSE)=\"Split\",$B$23,0))","v":0},{"$f":"VLOOKUP(F90,Intersections!A:F,6,FALSE)","v":22800},6,{"$f":"VLOOKUP(F90,Intersections!A:G,7,FALSE)","v":1510},2,0,{"$f":"_xlfn.IFS(VLOOKUP(F90,Intersections!A:H,8,FALSE)<=0.7,$B$30,VLOOKUP(F90,Intersections!A:H,8,FALSE)<=2,$B$31,TRUE,0)","v":0},{"$f":"_xlfn.IFS(VLOOKUP(F90,Intersections!A:D,4,FALSE)=\"Urban\",$B$30,TRUE,0)","v":0}]
[null,null,null,null,null,"I-80 & IA-415/2nd St",{"$f":"COUNTIF('WWD Crashes'!C:C,F91)","v":2},{"$f":"COUNTIFS('Non-Crash Events'!B:B,F91,'Non-Crash Events'!R:R,\">0\")","v":0},60,null,null,null,null,null,null,null,null,null,null,null,null,null,null,null,null,null,{"$f":"SUMIFS('WWD Crashes'!G:G,'WWD Crashes'!C:C,F91)","v":2},{"$f":"_xlfn.IFS(AA91<0.125,$B$3,AA91<0.25,$B$4,AA91<0.5,$B$5,AA91<0.99,$B$6,AA91<1.5,$B$7,TRUE,$B$8)+$B$9*SUMIFS('WWD Crashes'!G:G,'WWD Crashes'!C:C,F91,'WWD Crashes'!L:L,\">0\")++$B$10*SUMIFS('WWD Crashes'!G:G,'WWD Crashes'!C:C,F91,'WWD Crashes'!M:M,\">0\")","v":25},{"$f":"MIN($B$16*SUMIF('Non-Crash Events'!B:B,F91,'Non-Crash Events'!R:R),50)","v":0},{"$f":"IF(VLOOKUP(F91,Intersections!A:E,5,FALSE)=\"Unique\",$B$22,IF(VLOOKUP(F91,Intersections!A:E,5,FALSE)=\"Split\",$B$23,0))","v":0},{"$f":"VLOOKUP(F91,Intersections!A:F,6,FALSE)","v":101100},10,{"$f":"VLOOKUP(F91,Intersections!A:G,7,FALSE)","v":35800},10,5,{"$f":"_xlfn.IFS(VLOOKUP(F91,Intersections!A:H,8,FALSE)<=0.7,$B$30,VLOOKUP(F91,Intersections!A:H,8,FALSE)<=2,$B$31,TRUE,0)","v":10},{"$f":"_xlfn.IFS(VLOOKUP(F91,Intersections!A:D,4,FALSE)=\"Urban\",$B$30,TRUE,0)","v":10}]
[null,null,null,null,null,"US-30 & IA-17",{"$f":"COUNTIF('WWD Crashes'!C:C,F92)","v":0},{"$f":"COUNTIFS('Non-Crash Events'!B:B,F92,'Non-Crash Events'!R:R,\">0\")","v":7},60,null,null,null,null,null,null,null,null,null,null,null,null,null,null,null,null,null,{"$f":"SUMIFS('WWD Crashes'!G:G,'WWD Crashes'!C:C,F92)","v":0},{"$f":"_xlfn.IFS(AA92<0.125,$B$3,AA92<0.25,$B$4,AA92<0.5,$B$5,AA92<0.99,$B$6,AA92<1.5,$B$7,TRUE,$B$8)+$B$9*SUMIFS('WWD Crashes'!G:G,'WWD Crashes'!C:C,F92,'WWD Crashes'!L:L,\">0\")++$B$10*SUMIFS('WWD Crashes'!G:G,'WWD Crashes'!C:C,F92,'WWD Crashes'!M:M,\">0\")","v":0},{"$f":"MIN($B$16*SUMIF('Non-Crash Events'!B:B,F92,'Non-Crash Events'!R:R),50)","v":50},{"$f":"IF(VLOOKUP(F92,Intersections!A:E,5,FALSE)=\"Unique\",$B$22,IF(VLOOKUP(F92,Intersections!A:E,5,FALSE)=\"Split\",$B$23,0))","v":0},{"$f":"VLOOKUP(F92,Intersections!A:F,6,FALSE)","v":15200},4,{"$f":"VLOOKUP(F92,Intersections!A:G,7,FALSE)","v":4900},6,0,{"$f":"_xlfn.IFS(VLOOKUP(F92,Intersections!A:H,8,FALSE)<=0.7,$B$30,VLOOKUP(F92,Intersections!A:H,8,FALSE)<=2,$B$31,TRUE,0)","v":0},{"$f":"_xlfn.IFS(VLOOKUP(F92,Intersections!A:D,4,FALSE)=\"Urban\",$B$30,TRUE,0)","v":0}]
[null,null,null,null,null,"I-380 & 330th St",{"$f":"COUNTIF('WWD Crashes'!C:C,F93)","v":1},{"$f":"COUNTIFS('Non-Crash Events'!B:B,F93,'Non-Crash Events'!R:R,\">0\")","v":0},59.5,null,null,null,null,null,null,null,null,null,null,null,null,null,null,null,null,null,{"$f":"SUMIFS('WWD Crashes'!G:G,'WWD Crashes'!C:C,F93)","v":0.5},{"$f":"_xlfn.IFS(AA93<0.125,$B$3,AA93<0.25,$B$4,AA93<0.5,$B$5,AA93<0.99,$B$6,AA93<1.5,$B$7,TRUE,$B$8)+$B$9*SUMIFS('WWD Crashes'!G:G,'WWD Crashes'!C:C,F93,'WWD Crashes'!L:L,\">0\")++$B$10*SUMIFS('WWD Crashes'!G:G,'WWD Crashes'!C:C,F93,'WWD Crashes'!M:M,\">0\")","v":52.5},{"$f":"MIN($B$16*SUMIF('Non-Crash Events'!B:B,F93,'Non-Crash Events'!R:R),50)","v":0},{"$f":"IF(VLOOKUP(F93,Intersections!A:E,5,FALSE)=\"Unique\",$B$22,IF(VLOOKUP(F93,Intersections!A:E,5,FALSE)=\"Split\",$B$23,0))","v":0},{"$f":"VLOOKUP(F93,Intersections!A:F,6,FALSE)","v":17700},5,{"$f":"VLOOKUP(F93,Intersections!A:G,7,FALSE)","v":1560},2,0,{"$f":"_xlfn.IFS(VLOOKUP(F93,Intersections!A:H,8,FALSE)<=0.7,$B$30,VLOOKUP(F93,Intersections!A:H,8,FALSE)<=2,$B$31,TRUE,0)","v":0},{"$f":"_xlfn.IFS(VLOOKUP(F93,Intersections!A:D,4,FALSE)=\"Urban\",$B$30,TRUE,0)","v":0}]
[null,null,null,null,null,"I-380 & County Home Rd",{"$f":"COUNTIF('WWD Crashes'!C:C,F94)","v":2},{"$f":"COUNTIFS('Non-Crash Events'!B:B,F94,'Non-Crash Events'!R:R,\">0\")","v":1},59.5,null,null,null,null,null,null,null,null,null,null,null,null,null,null,null,null,null,{"$f":"SUMIFS('WWD Crashes'!G:G,'WWD Crashes'!C:C,F94)","v":2},{"$f":"_xlfn.IFS(AA94<0.125,$B$3,AA94<0.25,$B$4,AA94<0.5,$B$5,AA94<0.99,$B$6,AA94<1.5,$B$7,TRUE,$B$8)+$B$9*SUMIFS('WWD Crashes'!G:G,'WWD Crashes'!C:C,F94,'WWD Crashes'!L:L,\">0\")++$B$10*SUMIFS('WWD Crashes'!G:G,'WWD Crashes'!C:C,F94,'WWD Crashes'!M:M,\">0\")","v":25},{"$f":"MIN($B$16*SUMIF('Non-Crash Events'!B:B,F94,'Non-Crash Events'!R:R),50)","v":7.5},{"$f":"IF(VLOOKUP(F94,Intersections!A:E,5,FALSE)=\"Unique\",$B$22,IF(VLOOKUP(F94,Intersections!A:E,5,FALSE)=\"Split\",$B$23,0))","v":0},{"$f":"VLOOKUP(F94,Intersections!A:F,6,FALSE)","v":34400},8,{"$f":"VLOOKUP(F94,Intersections!A:G,7,FALSE)","v":12800},9,0,{"$f":"_xlfn.IFS(VLOOKUP(F94,Intersections!A:H,8,FALSE)<=0.7,$B$30,VLOOKUP(F94,Intersections!A:H,8,FALSE)<=2,$B$31,TRUE,0)","v":10},{"$f":"_xlfn.IFS(VLOOKUP(F94,Intersections!A:D,4,FALSE)=\"Urban\",$B$30,TRUE,0)","v":0}]
[null,null,null,null,null,"I-29 & Wesley Pkwy & US-77",{"$f":"COUNTIF('WWD Crashes'!C:C,F95)","v":3},{"$f":"COUNTIFS('Non-Crash Events'!B:B,F95,'Non-Crash Events'!R:R,\">0\")","v":0},59,null,null,null,null,null,null,null,null,null,null,null,null,null,null,null,null,null,{"$f":"SUMIFS('WWD Crashes'!G:G,'WWD Crashes'!C:C,F95)","v":3},{"$f":"_xlfn.IFS(AA95<0.125,$B$3,AA95<0.25,$B$4,AA95<0.5,$B$5,AA95<0.99,$B$6,AA95<1.5,$B$7,TRUE,$B$8)+$B$9*SUMIFS('WWD Crashes'!G:G,'WWD Crashes'!C:C,F95,'WWD Crashes'!L:L,\">0\")++$B$10*SUMIFS('WWD Crashes'!G:G,'WWD Crashes'!C:C,F95,'WWD Crashes'!M:M,\">0\")","v":25},{"$f":"MIN($B$16*SUMIF('Non-Crash Events'!B:B,F95,'Non-Crash Events'!R:R),50)","v":0},{"$f":"IF(VLOOKUP(F95,Intersections!A:E,5,FALSE)=\"Unique\",$B$22,IF(VLOOKUP(F95,Intersections!A:E,5,FALSE)=\"Split\",$B$23,0))","v":0},{"$f":"VLOOKUP(F95,Intersections!A:F,6,FALSE)","v":36800},9,{"$f":"VLOOKUP(F95,Intersections!A:G,7,FALSE)","v":28400},10,5,{"$f":"_xlfn.IFS(VLOOKUP(F95,Intersections!A:H,8,FALSE)<=0.7,$B$30,VLOOKUP(F95,Intersections!A:H,8,FALSE)<=2,$B$31,TRUE,0)","v":10},{"$f":"_xlfn.IFS(VLOOKUP(F95,Intersections!A:D,4,FALSE)=\"Urban\",$B$30,TRUE,0)","v":10}]
[null,null,null,null,null,"IA-60 & 170th St/A22",{"$f":"COUNTIF('WWD Crashes'!C:C,F96)","v":0},{"$f":"COUNTIFS('Non-Crash Events'!B:B,F96,'Non-Crash Events'!R:R,\">0\")","v":0},59,null,null,null,null,null,null,null,null,null,null,null,null,null,null,null,null,null,{"$f":"SUMIFS('WWD Crashes'!G:G,'WWD Crashes'!C:C,F96)","v":0},{"$f":"_xlfn.IFS(AA96<0.125,$B$3,AA96<0.25,$B$4,AA96<0.5,$B$5,AA96<0.99,$B$6,AA96<1.5,$B$7,TRUE,$B$8)+$B$9*SUMIFS('WWD Crashes'!G:G,'WWD Crashes'!C:C,F96,'WWD Crashes'!L:L,\">0\")++$B$10*SUMIFS('WWD Crashes'!G:G,'WWD Crashes'!C:C,F96,'WWD Crashes'!M:M,\">0\")","v":0},{"$f":"MIN($B$16*SUMIF('Non-Crash Events'!B:B,F96,'Non-Crash Events'!R:R),50)","v":0},{"$f":"IF(VLOOKUP(F96,Intersections!A:E,5,FALSE)=\"Unique\",$B$22,IF(VLOOKUP(F96,Intersections!A:E,5,FALSE)=\"Split\",$B$23,0))","v":50},{"$f":"VLOOKUP(F96,Intersections!A:F,6,FALSE)","v":3440},1,{"$f":"VLOOKUP(F96,Intersections!A:G,7,FALSE)","v":2280},3,0,{"$f":"_xlfn.IFS(VLOOKUP(F96,Intersections!A:H,8,FALSE)<=0.7,$B$30,VLOOKUP(F96,Intersections!A:H,8,FALSE)<=2,$B$31,TRUE,0)","v":5},{"$f":"_xlfn.IFS(VLOOKUP(F96,Intersections!A:D,4,FALSE)=\"Urban\",$B$30,TRUE,0)","v":0}]
[null,null,null,null,null,"US-20 & Quail Ave/Nelson Ave",{"$f":"COUNTIF('WWD Crashes'!C:C,F97)","v":0},{"$f":"COUNTIFS('Non-Crash Events'!B:B,F97,'Non-Crash Events'!R:R,\">0\")","v":0},59,null,null,null,null,null,null,null,null,null,null,null,null,null,null,null,null,null,{"$f":"SUMIFS('WWD Crashes'!G:G,'WWD Crashes'!C:C,F97)","v":0},{"$f":"_xlfn.IFS(AA97<0.125,$B$3,AA97<0.25,$B$4,AA97<0.5,$B$5,AA97<0.99,$B$6,AA97<1.5,$B$7,TRUE,$B$8)+$B$9*SUMIFS('WWD Crashes'!G:G,'WWD Crashes'!C:C,F97,'WWD Crashes'!L:L,\">0\")++$B$10*SUMIFS('WWD Crashes'!G:G,'WWD Crashes'!C:C,F97,'WWD Crashes'!M:M,\">0\")","v":0},{"$f":"MIN($B$16*SUMIF('Non-Crash Events'!B:B,F97,'Non-Crash Events'!R:R),50)","v":0},{"$f":"IF(VLOOKUP(F97,Intersections!A:E,5,FALSE)=\"Unique\",$B$22,IF(VLOOKUP(F97,Intersections!A:E,5,FALSE)=\"Split\",$B$23,0))","v":50},{"$f":"VLOOKUP(F97,Intersections!A:F,6,FALSE)","v":9000},2,{"$f":"VLOOKUP(F97,Intersections!A:G,7,FALSE)","v":7000},7,0,{"$f":"_xlfn.IFS(VLOOKUP(F97,Intersections!A:H,8,FALSE)<=0.7,$B$30,VLOOKUP(F97,Intersections!A:H,8,FALSE)<=2,$B$31,TRUE,0)","v":0},{"$f":"_xlfn.IFS(VLOOKUP(F97,Intersections!A:D,4,FALSE)=\"Urban\",$B$30,TRUE,0)","v":0}]
[null,null,null,null,null,"I-380 & Penn St",{"$f":"COUNTIF('WWD Crashes'!C:C,F98)","v":1},{"$f":"COUNTIFS('Non-Crash Events'!B:B,F98,'Non-Crash Events'!R:R,\">0\")","v":2},68.900000000000006,null,null,null,null,null,null,null,null,null,null,null,null,null,null,null,null,null,{"$f":"SUMIFS('WWD Crashes'!G:G,'WWD Crashes'!C:C,F98)","v":0.99},{"$f":"_xlfn.IFS(AA98<0.125,$B$3,AA98<0.25,$B$4,AA98<0.5,$B$5,AA98<0.99,$B$6,AA98<1.5,$B$7,TRUE,$B$8)+$B$9*SUMIFS('WWD Crashes'!G:G,'WWD Crashes'!C:C,F98,'WWD Crashes'!L:L,\">0\")++$B$10*SUMIFS('WWD Crashes'!G:G,'WWD Crashes'!C:C,F98,'WWD Crashes'!M:M,\">0\")","v":20},{"$f":"MIN($B$16*SUMIF('Non-Crash Events'!B:B,F98,'Non-Crash Events'!R:R),50)","v":14.9},{"$f":"IF(VLOOKUP(F98,Intersections!A:E,5,FALSE)=\"Unique\",$B$22,IF(VLOOKUP(F98,Intersections!A:E,5,FALSE)=\"Split\",$B$23,0))","v":0},{"$f":"VLOOKUP(F98,Intersections!A:F,6,FALSE)","v":51100},9,{"$f":"VLOOKUP(F98,Intersections!A:G,7,FALSE)","v":19700},10,5,{"$f":"_xlfn.IFS(VLOOKUP(F98,Intersections!A:H,8,FALSE)<=0.7,$B$30,VLOOKUP(F98,Intersections!A:H,8,FALSE)<=2,$B$31,TRUE,0)","v":10},{"$f":"_xlfn.IFS(VLOOKUP(F98,Intersections!A:D,4,FALSE)=\"Urban\",$B$30,TRUE,0)","v":0}]
[null,null,null,null,null,"I-35 & 1st St",{"$f":"COUNTIF('WWD Crashes'!C:C,F99)","v":1},{"$f":"COUNTIFS('Non-Crash Events'!B:B,F99,'Non-Crash Events'!R:R,\">0\")","v":1},58.9,null,null,null,null,null,null,null,null,null,null,null,null,null,null,null,null,null,{"$f":"SUMIFS('WWD Crashes'!G:G,'WWD Crashes'!C:C,F99)","v":0.5},{"$f":"_xlfn.IFS(AA99<0.125,$B$3,AA99<0.25,$B$4,AA99<0.5,$B$5,AA99<0.99,$B$6,AA99<1.5,$B$7,TRUE,$B$8)+$B$9*SUMIFS('WWD Crashes'!G:G,'WWD Crashes'!C:C,F99,'WWD Crashes'!L:L,\">0\")++$B$10*SUMIFS('WWD Crashes'!G:G,'WWD Crashes'!C:C,F99,'WWD Crashes'!M:M,\">0\")","v":15},{"$f":"MIN($B$16*SUMIF('Non-Crash Events'!B:B,F99,'Non-Crash Events'!R:R),50)","v":9.9},{"$f":"IF(VLOOKUP(F99,Intersections!A:E,5,FALSE)=\"Unique\",$B$22,IF(VLOOKUP(F99,Intersections!A:E,5,FALSE)=\"Split\",$B$23,0))","v":0},{"$f":"VLOOKUP(F99,Intersections!A:F,6,FALSE)","v":67200},10,{"$f":"VLOOKUP(F99,Intersections!A:G,7,FALSE)","v":12400},9,5,{"$f":"_xlfn.IFS(VLOOKUP(F99,Intersections!A:H,8,FALSE)<=0.7,$B$30,VLOOKUP(F99,Intersections!A:H,8,FALSE)<=2,$B$31,TRUE,0)","v":10},{"$f":"_xlfn.IFS(VLOOKUP(F99,Intersections!A:D,4,FALSE)=\"Urban\",$B$30,TRUE,0)","v":10}]
[null,null,null,null,null,"IA-60 & 2nd Ave",{"$f":"COUNTIF('WWD Crashes'!C:C,F100)","v":0},{"$f":"COUNTIFS('Non-Crash Events'!B:B,F100,'Non-Crash Events'!R:R,\">0\")","v":0},58,null,null,null,null,null,null,null,null,null,null,null,null,null,null,null,null,null,{"$f":"SUMIFS('WWD Crashes'!G:G,'WWD Crashes'!C:C,F100)","v":0},{"$f":"_xlfn.IFS(AA100<0.125,$B$3,AA100<0.25,$B$4,AA100<0.5,$B$5,AA100<0.99,$B$6,AA100<1.5,$B$7,TRUE,$B$8)+$B$9*SUMIFS('WWD Crashes'!G:G,'WWD Crashes'!C:C,F100,'WWD Crashes'!L:L,\">0\")++$B$10*SUMIFS('WWD Crashes'!G:G,'WWD Crashes'!C:C,F100,'WWD Crashes'!M:M,\">0\")","v":0},{"$f":"MIN($B$16*SUMIF('Non-Crash Events'!B:B,F100,'Non-Crash Events'!R:R),50)","v":0},{"$f":"IF(VLOOKUP(F100,Intersections!A:E,5,FALSE)=\"Unique\",$B$22,IF(VLOOKUP(F100,Intersections!A:E,5,FALSE)=\"Split\",$B$23,0))","v":50},{"$f":"VLOOKUP(F100,Intersections!A:F,6,FALSE)","v":4480},1,{"$f":"VLOOKUP(F100,Intersections!A:G,7,FALSE)","v":1180},2,0,{"$f":"_xlfn.IFS(VLOOKUP(F100,Intersections!A:H,8,FALSE)<=0.7,$B$30,VLOOKUP(F100,Intersections!A:H,8,FALSE)<=2,$B$31,TRUE,0)","v":5},{"$f":"_xlfn.IFS(VLOOKUP(F100,Intersections!A:D,4,FALSE)=\"Urban\",$B$30,TRUE,0)","v":0}]
[null,null,null,null,null,"I-29 & Desoto Ave",{"$f":"COUNTIF('WWD Crashes'!C:C,F101)","v":0},{"$f":"COUNTIFS('Non-Crash Events'!B:B,F101,'Non-Crash Events'!R:R,\">0\")","v":0},58,null,null,null,null,null,null,null,null,null,null,null,null,null,null,null,null,null,{"$f":"SUMIFS('WWD Crashes'!G:G,'WWD Crashes'!C:C,F101)","v":0},{"$f":"_xlfn.IFS(AA101<0.125,$B$3,AA101<0.25,$B$4,AA101<0.5,$B$5,AA101<0.99,$B$6,AA101<1.5,$B$7,TRUE,$B$8)+$B$9*SUMIFS('WWD Crashes'!G:G,'WWD Crashes'!C:C,F101,'WWD Crashes'!L:L,\">0\")++$B$10*SUMIFS('WWD Crashes'!G:G,'WWD Crashes'!C:C,F101,'WWD Crashes'!M:M,\">0\")","v":0},{"$f":"MIN($B$16*SUMIF('Non-Crash Events'!B:B,F101,'Non-Crash Events'!R:R),50)","v":0},{"$f":"IF(VLOOKUP(F101,Intersections!A:E,5,FALSE)=\"Unique\",$B$22,IF(VLOOKUP(F101,Intersections!A:E,5,FALSE)=\"Split\",$B$23,0))","v":50},{"$f":"VLOOKUP(F101,Intersections!A:F,6,FALSE)","v":22800},6,{"$f":"VLOOKUP(F101,Intersections!A:G,7,FALSE)","v":1130},2,0,{"$f":"_xlfn.IFS(VLOOKUP(F101,Intersections!A:H,8,FALSE)<=0.7,$B$30,VLOOKUP(F101,Intersections!A:H,8,FALSE)<=2,$B$31,TRUE,0)","v":0},{"$f":"_xlfn.IFS(VLOOKUP(F101,Intersections!A:D,4,FALSE)=\"Urban\",$B$30,TRUE,0)","v":0}]
[null,null,null,{"$f":"HYPERLINK(\"#'Weight Based'!\"&ADDRESS(5,11),\"Jump to Details\")","v":"Jump to Details"},null,"US 63 N RAMP & LA SALLE AVE",{"$f":"COUNTIF('WWD Crashes'!C:C,F102)","v":0},{"$f":"COUNTIFS('Non-Crash Events'!B:B,F102,'Non-Crash Events'!R:R,\">0\")","v":1},58,null,null,null,null,null,null,null,null,null,null,null,null,null,null,null,null,null,{"$f":"SUMIFS('WWD Crashes'!G:G,'WWD Crashes'!C:C,F102)","v":0},{"$f":"_xlfn.IFS(AA102<0.125,$B$3,AA102<0.25,$B$4,AA102<0.5,$B$5,AA102<0.99,$B$6,AA102<1.5,$B$7,TRUE,$B$8)+$B$9*SUMIFS('WWD Crashes'!G:G,'WWD Crashes'!C:C,F102,'WWD Crashes'!L:L,\">0\")++$B$10*SUMIFS('WWD Crashes'!G:G,'WWD Crashes'!C:C,F102,'WWD Crashes'!M:M,\">0\")","v":0},{"$f":"MIN($B$16*SUMIF('Non-Crash Events'!B:B,F102,'Non-Crash Events'!R:R),50)","v":50},{"$f":"IF(VLOOKUP(F102,Intersections!A:E,5,FALSE)=\"Unique\",$B$22,IF(VLOOKUP(F102,Intersections!A:E,5,FALSE)=\"Split\",$B$23,0))","v":0},{"$f":"VLOOKUP(F102,Intersections!A:F,6,FALSE)","v":3810},1,{"$f":"VLOOKUP(F102,Intersections!A:G,7,FALSE)","v":1120},2,0,{"$f":"_xlfn.IFS(VLOOKUP(F102,Intersections!A:H,8,FALSE)<=0.7,$B$30,VLOOKUP(F102,Intersections!A:H,8,FALSE)<=2,$B$31,TRUE,0)","v":5},{"$f":"_xlfn.IFS(VLOOKUP(F102,Intersections!A:D,4,FALSE)=\"Urban\",$B$30,TRUE,0)","v":0}]
[null,null,null,null,null,"IA-60 & 470th St",{"$f":"COUNTIF('WWD Crashes'!C:C,F103)","v":0},{"$f":"COUNTIFS('Non-Crash Events'!B:B,F103,'Non-Crash Events'!R:R,\">0\")","v":0},57,null,null,null,null,null,null,null,null,null,null,null,null,null,null,null,null,null,{"$f":"SUMIFS('WWD Crashes'!G:G,'WWD Crashes'!C:C,F103)","v":0},{"$f":"_xlfn.IFS(AA103<0.125,$B$3,AA103<0.25,$B$4,AA103<0.5,$B$5,AA103<0.99,$B$6,AA103<1.5,$B$7,TRUE,$B$8)+$B$9*SUMIFS('WWD Crashes'!G:G,'WWD Crashes'!C:C,F103,'WWD Crashes'!L:L,\">0\")++$B$10*SUMIFS('WWD Crashes'!G:G,'WWD Crashes'!C:C,F103,'WWD Crashes'!M:M,\">0\")","v":0},{"$f":"MIN($B$16*SUMIF('Non-Crash Events'!B:B,F103,'Non-Crash Events'!R:R),50)","v":0},{"$f":"IF(VLOOKUP(F103,Intersections!A:E,5,FALSE)=\"Unique\",$B$22,IF(VLOOKUP(F103,Intersections!A:E,5,FALSE)=\"Split\",$B$23,0))","v":50},{"$f":"VLOOKUP(F103,Intersections!A:F,6,FALSE)","v":4660},1,{"$f":"VLOOKUP(F103,Intersections!A:G,7,FALSE)","v":480},1,0,{"$f":"_xlfn.IFS(VLOOKUP(F103,Intersections!A:H,8,FALSE)<=0.7,$B$30,VLOOKUP(F103,Intersections!A:H,8,FALSE)<=2,$B$31,TRUE,0)","v":5},{"$f":"_xlfn.IFS(VLOOKUP(F103,Intersections!A:D,4,FALSE)=\"Urban\",$B$30,TRUE,0)","v":0}]
[null,null,null,null,null,"I-29 & 9th Ave",{"$f":"COUNTIF('WWD Crashes'!C:C,F104)","v":2},{"$f":"COUNTIFS('Non-Crash Events'!B:B,F104,'Non-Crash Events'!R:R,\">0\")","v":0},56,null,null,null,null,null,null,null,null,null,null,null,null,null,null,null,null,null,{"$f":"SUMIFS('WWD Crashes'!G:G,'WWD Crashes'!C:C,F104)","v":1.79},{"$f":"_xlfn.IFS(AA104<0.125,$B$3,AA104<0.25,$B$4,AA104<0.5,$B$5,AA104<0.99,$B$6,AA104<1.5,$B$7,TRUE,$B$8)+$B$9*SUMIFS('WWD Crashes'!G:G,'WWD Crashes'!C:C,F104,'WWD Crashes'!L:L,\">0\")++$B$10*SUMIFS('WWD Crashes'!G:G,'WWD Crashes'!C:C,F104,'WWD Crashes'!M:M,\">0\")","v":25},{"$f":"MIN($B$16*SUMIF('Non-Crash Events'!B:B,F104,'Non-Crash Events'!R:R),50)","v":0},{"$f":"IF(VLOOKUP(F104,Intersections!A:E,5,FALSE)=\"Unique\",$B$22,IF(VLOOKUP(F104,Intersections!A:E,5,FALSE)=\"Split\",$B$23,0))","v":0},{"$f":"VLOOKUP(F104,Intersections!A:F,6,FALSE)","v":39100},9,{"$f":"VLOOKUP(F104,Intersections!A:G,7,FALSE)","v":8100},7,5,{"$f":"_xlfn.IFS(VLOOKUP(F104,Intersections!A:H,8,FALSE)<=0.7,$B$30,VLOOKUP(F104,Intersections!A:H,8,FALSE)<=2,$B$31,TRUE,0)","v":10},{"$f":"_xlfn.IFS(VLOOKUP(F104,Intersections!A:D,4,FALSE)=\"Urban\",$B$30,TRUE,0)","v":10}]
[null,null,null,null,null,"US-34 & US-71",{"$f":"COUNTIF('WWD Crashes'!C:C,F105)","v":0},{"$f":"COUNTIFS('Non-Crash Events'!B:B,F105,'Non-Crash Events'!R:R,\">0\")","v":0},55,null,null,null,null,null,null,null,null,null,null,null,null,null,null,null,null,null,{"$f":"SUMIFS('WWD Crashes'!G:G,'WWD Crashes'!C:C,F105)","v":0},{"$f":"_xlfn.IFS(AA105<0.125,$B$3,AA105<0.25,$B$4,AA105<0.5,$B$5,AA105<0.99,$B$6,AA105<1.5,$B$7,TRUE,$B$8)+$B$9*SUMIFS('WWD Crashes'!G:G,'WWD Crashes'!C:C,F105,'WWD Crashes'!L:L,\">0\")++$B$10*SUMIFS('WWD Crashes'!G:G,'WWD Crashes'!C:C,F105,'WWD Crashes'!M:M,\">0\")","v":0},{"$f":"MIN($B$16*SUMIF('Non-Crash Events'!B:B,F105,'Non-Crash Events'!R:R),50)","v":0},{"$f":"IF(VLOOKUP(F105,Intersections!A:E,5,FALSE)=\"Unique\",$B$22,IF(VLOOKUP(F105,Intersections!A:E,5,FALSE)=\"Split\",$B$23,0))","v":50},{"$f":"VLOOKUP(F105,Intersections!A:F,6,FALSE)","v":2680},1,{"$f":"VLOOKUP(F105,Intersections!A:G,7,FALSE)","v":2610},4,0,{"$f":"_xlfn.IFS(VLOOKUP(F105,Intersections!A:H,8,FALSE)<=0.7,$B$30,VLOOKUP(F105,Intersections!A:H,8,FALSE)<=2,$B$31,TRUE,0)","v":0},{"$f":"_xlfn.IFS(VLOOKUP(F105,Intersections!A:D,4,FALSE)=\"Urban\",$B$30,TRUE,0)","v":0}]
[null,null,null,null,null,"I-35 & IA-210",{"$f":"COUNTIF('WWD Crashes'!C:C,F106)","v":1},{"$f":"COUNTIFS('Non-Crash Events'!B:B,F106,'Non-Crash Events'!R:R,\">0\")","v":2},55,null,null,null,null,null,null,null,null,null,null,null,null,null,null,null,null,null,{"$f":"SUMIFS('WWD Crashes'!G:G,'WWD Crashes'!C:C,F106)","v":0.5},{"$f":"_xlfn.IFS(AA106<0.125,$B$3,AA106<0.25,$B$4,AA106<0.5,$B$5,AA106<0.99,$B$6,AA106<1.5,$B$7,TRUE,$B$8)+$B$9*SUMIFS('WWD Crashes'!G:G,'WWD Crashes'!C:C,F106,'WWD Crashes'!L:L,\">0\")++$B$10*SUMIFS('WWD Crashes'!G:G,'WWD Crashes'!C:C,F106,'WWD Crashes'!M:M,\">0\")","v":15},{"$f":"MIN($B$16*SUMIF('Non-Crash Events'!B:B,F106,'Non-Crash Events'!R:R),50)","v":15},{"$f":"IF(VLOOKUP(F106,Intersections!A:E,5,FALSE)=\"Unique\",$B$22,IF(VLOOKUP(F106,Intersections!A:E,5,FALSE)=\"Split\",$B$23,0))","v":0},{"$f":"VLOOKUP(F106,Intersections!A:F,6,FALSE)","v":45300},9,{"$f":"VLOOKUP(F106,Intersections!A:G,7,FALSE)","v":6200},6,5,{"$f":"_xlfn.IFS(VLOOKUP(F106,Intersections!A:H,8,FALSE)<=0.7,$B$30,VLOOKUP(F106,Intersections!A:H,8,FALSE)<=2,$B$31,TRUE,0)","v":5},{"$f":"_xlfn.IFS(VLOOKUP(F106,Intersections!A:D,4,FALSE)=\"Urban\",$B$30,TRUE,0)","v":0}]
[null,null,null,null,null,"I 235 W & I 235 W TO 31ST ST S",{"$f":"COUNTIF('WWD Crashes'!C:C,F107)","v":1},{"$f":"COUNTIFS('Non-Crash Events'!B:B,F107,'Non-Crash Events'!R:R,\">0\")","v":0},54,null,null,null,null,null,null,null,null,null,null,null,null,null,null,null,null,null,{"$f":"SUMIFS('WWD Crashes'!G:G,'WWD Crashes'!C:C,F107)","v":1},{"$f":"_xlfn.IFS(AA107<0.125,$B$3,AA107<0.25,$B$4,AA107<0.5,$B$5,AA107<0.99,$B$6,AA107<1.5,$B$7,TRUE,$B$8)+$B$9*SUMIFS('WWD Crashes'!G:G,'WWD Crashes'!C:C,F107,'WWD Crashes'!L:L,\">0\")++$B$10*SUMIFS('WWD Crashes'!G:G,'WWD Crashes'!C:C,F107,'WWD Crashes'!M:M,\">0\")","v":20},{"$f":"MIN($B$16*SUMIF('Non-Crash Events'!B:B,F107,'Non-Crash Events'!R:R),50)","v":0},{"$f":"IF(VLOOKUP(F107,Intersections!A:E,5,FALSE)=\"Unique\",$B$22,IF(VLOOKUP(F107,Intersections!A:E,5,FALSE)=\"Split\",$B$23,0))","v":0},{"$f":"VLOOKUP(F107,Intersections!A:F,6,FALSE)","v":134700},10,{"$f":"VLOOKUP(F107,Intersections!A:G,7,FALSE)","v":15800},9,5,{"$f":"_xlfn.IFS(VLOOKUP(F107,Intersections!A:H,8,FALSE)<=0.7,$B$30,VLOOKUP(F107,Intersections!A:H,8,FALSE)<=2,$B$31,TRUE,0)","v":10},{"$f":"_xlfn.IFS(VLOOKUP(F107,Intersections!A:D,4,FALSE)=\"Urban\",$B$30,TRUE,0)","v":10}]
[null,null,null,null,null,"I-80 & 24th St",{"$f":"COUNTIF('WWD Crashes'!C:C,F108)","v":1},{"$f":"COUNTIFS('Non-Crash Events'!B:B,F108,'Non-Crash Events'!R:R,\">0\")","v":0},54,null,null,null,null,null,null,null,null,null,null,null,null,null,null,null,null,null,{"$f":"SUMIFS('WWD Crashes'!G:G,'WWD Crashes'!C:C,F108)","v":1},{"$f":"_xlfn.IFS(AA108<0.125,$B$3,AA108<0.25,$B$4,AA108<0.5,$B$5,AA108<0.99,$B$6,AA108<1.5,$B$7,TRUE,$B$8)+$B$9*SUMIFS('WWD Crashes'!G:G,'WWD Crashes'!C:C,F108,'WWD Crashes'!L:L,\">0\")++$B$10*SUMIFS('WWD Crashes'!G:G,'WWD Crashes'!C:C,F108,'WWD Crashes'!M:M,\">0\")","v":20},{"$f":"MIN($B$16*SUMIF('Non-Crash Events'!B:B,F108,'Non-Crash Events'!R:R),50)","v":0},{"$f":"IF(VLOOKUP(F108,Intersections!A:E,5,FALSE)=\"Unique\",$B$22,IF(VLOOKUP(F108,Intersections!A:E,5,FALSE)=\"Split\",$B$23,0))","v":0},{"$f":"VLOOKUP(F108,Intersections!A:F,6,FALSE)","v":87000},10,{"$f":"VLOOKUP(F108,Intersections!A:G,7,FALSE)","v":8600},9,5,{"$f":"_xlfn.IFS(VLOOKUP(F108,Intersections!A:H,8,FALSE)<=0.7,$B$30,VLOOKUP(F108,Intersections!A:H,8,FALSE)<=2,$B$31,TRUE,0)","v":10},{"$f":"_xlfn.IFS(VLOOKUP(F108,Intersections!A:D,4,FALSE)=\"Urban\",$B$30,TRUE,0)","v":10}]
[null,null,null,null,null,"I-74 & US-6/Spruce Hills Dr",{"$f":"COUNTIF('WWD Crashes'!C:C,F109)","v":3},{"$f":"COUNTIFS('Non-Crash Events'!B:B,F109,'Non-Crash Events'!R:R,\">0\")","v":0},54,null,null,null,null,null,null,null,null,null,null,null,null,null,null,null,null,null,{"$f":"SUMIFS('WWD Crashes'!G:G,'WWD Crashes'!C:C,F109)","v":1.45},{"$f":"_xlfn.IFS(AA109<0.125,$B$3,AA109<0.25,$B$4,AA109<0.5,$B$5,AA109<0.99,$B$6,AA109<1.5,$B$7,TRUE,$B$8)+$B$9*SUMIFS('WWD Crashes'!G:G,'WWD Crashes'!C:C,F109,'WWD Crashes'!L:L,\">0\")++$B$10*SUMIFS('WWD Crashes'!G:G,'WWD Crashes'!C:C,F109,'WWD Crashes'!M:M,\">0\")","v":20},{"$f":"MIN($B$16*SUMIF('Non-Crash Events'!B:B,F109,'Non-Crash Events'!R:R),50)","v":0},{"$f":"IF(VLOOKUP(F109,Intersections!A:E,5,FALSE)=\"Unique\",$B$22,IF(VLOOKUP(F109,Intersections!A:E,5,FALSE)=\"Split\",$B$23,0))","v":0},{"$f":"VLOOKUP(F109,Intersections!A:F,6,FALSE)","v":49800},9,{"$f":"VLOOKUP(F109,Intersections!A:G,7,FALSE)","v":33700},10,5,{"$f":"_xlfn.IFS(VLOOKUP(F109,Intersections!A:H,8,FALSE)<=0.7,$B$30,VLOOKUP(F109,Intersections!A:H,8,FALSE)<=2,$B$31,TRUE,0)","v":10},{"$f":"_xlfn.IFS(VLOOKUP(F109,Intersections!A:D,4,FALSE)=\"Urban\",$B$30,TRUE,0)","v":10}]
[null,null,null,null,null,"US-63 & 145th Ave",{"$f":"COUNTIF('WWD Crashes'!C:C,F110)","v":0},{"$f":"COUNTIFS('Non-Crash Events'!B:B,F110,'Non-Crash Events'!R:R,\">0\")","v":0},54,null,null,null,null,null,null,null,null,null,null,null,null,null,null,null,null,null,{"$f":"SUMIFS('WWD Crashes'!G:G,'WWD Crashes'!C:C,F110)","v":0},{"$f":"_xlfn.IFS(AA110<0.125,$B$3,AA110<0.25,$B$4,AA110<0.5,$B$5,AA110<0.99,$B$6,AA110<1.5,$B$7,TRUE,$B$8)+$B$9*SUMIFS('WWD Crashes'!G:G,'WWD Crashes'!C:C,F110,'WWD Crashes'!L:L,\">0\")++$B$10*SUMIFS('WWD Crashes'!G:G,'WWD Crashes'!C:C,F110,'WWD Crashes'!M:M,\">0\")","v":0},{"$f":"MIN($B$16*SUMIF('Non-Crash Events'!B:B,F110,'Non-Crash Events'!R:R),50)","v":0},{"$f":"IF(VLOOKUP(F110,Intersections!A:E,5,FALSE)=\"Unique\",$B$22,IF(VLOOKUP(F110,Intersections!A:E,5,FALSE)=\"Split\",$B$23,0))","v":50},{"$f":"VLOOKUP(F110,Intersections!A:F,6,FALSE)","v":8200},2,{"$f":"VLOOKUP(F110,Intersections!A:G,7,FALSE)","v":1400},2,0,{"$f":"_xlfn.IFS(VLOOKUP(F110,Intersections!A:H,8,FALSE)<=0.7,$B$30,VLOOKUP(F110,Intersections!A:H,8,FALSE)<=2,$B$31,TRUE,0)","v":0},{"$f":"_xlfn.IFS(VLOOKUP(F110,Intersections!A:D,4,FALSE)=\"Urban\",$B$30,TRUE,0)","v":0}]
[null,null,null,null,null,"I-380 & IA-100",{"$f":"COUNTIF('WWD Crashes'!C:C,F111)","v":0},{"$f":"COUNTIFS('Non-Crash Events'!B:B,F111,'Non-Crash Events'!R:R,\">0\")","v":2},53.9,null,null,null,null,null,null,null,null,null,null,null,null,null,null,null,null,null,{"$f":"SUMIFS('WWD Crashes'!G:G,'WWD Crashes'!C:C,F111)","v":0},{"$f":"_xlfn.IFS(AA111<0.125,$B$3,AA111<0.25,$B$4,AA111<0.5,$B$5,AA111<0.99,$B$6,AA111<1.5,$B$7,TRUE,$B$8)+$B$9*SUMIFS('WWD Crashes'!G:G,'WWD Crashes'!C:C,F111,'WWD Crashes'!L:L,\">0\")++$B$10*SUMIFS('WWD Crashes'!G:G,'WWD Crashes'!C:C,F111,'WWD Crashes'!M:M,\">0\")","v":0},{"$f":"MIN($B$16*SUMIF('Non-Crash Events'!B:B,F111,'Non-Crash Events'!R:R),50)","v":19.899999999999999},{"$f":"IF(VLOOKUP(F111,Intersections!A:E,5,FALSE)=\"Unique\",$B$22,IF(VLOOKUP(F111,Intersections!A:E,5,FALSE)=\"Split\",$B$23,0))","v":0},{"$f":"VLOOKUP(F111,Intersections!A:F,6,FALSE)","v":82000},10,{"$f":"VLOOKUP(F111,Intersections!A:G,7,FALSE)","v":15400},9,5,{"$f":"_xlfn.IFS(VLOOKUP(F111,Intersections!A:H,8,FALSE)<=0.7,$B$30,VLOOKUP(F111,Intersections!A:H,8,FALSE)<=2,$B$31,TRUE,0)","v":10},{"$f":"_xlfn.IFS(VLOOKUP(F111,Intersections!A:D,4,FALSE)=\"Urban\",$B$30,TRUE,0)","v":10}]
[null,null,null,null,null,"I-280 & Locust St",{"$f":"COUNTIF('WWD Crashes'!C:C,F112)","v":1},{"$f":"COUNTIFS('Non-Crash Events'!B:B,F112,'Non-Crash Events'!R:R,\">0\")","v":0},53.75,null,null,null,null,null,null,null,null,null,null,null,null,null,null,null,null,null,{"$f":"SUMIFS('WWD Crashes'!G:G,'WWD Crashes'!C:C,F112)","v":0.25},{"$f":"_xlfn.IFS(AA112<0.125,$B$3,AA112<0.25,$B$4,AA112<0.5,$B$5,AA112<0.99,$B$6,AA112<1.5,$B$7,TRUE,$B$8)+$B$9*SUMIFS('WWD Crashes'!G:G,'WWD Crashes'!C:C,F112,'WWD Crashes'!L:L,\">0\")++$B$10*SUMIFS('WWD Crashes'!G:G,'WWD Crashes'!C:C,F112,'WWD Crashes'!M:M,\">0\")","v":28.75},{"$f":"MIN($B$16*SUMIF('Non-Crash Events'!B:B,F112,'Non-Crash Events'!R:R),50)","v":0},{"$f":"IF(VLOOKUP(F112,Intersections!A:E,5,FALSE)=\"Unique\",$B$22,IF(VLOOKUP(F112,Intersections!A:E,5,FALSE)=\"Split\",$B$23,0))","v":0},{"$f":"VLOOKUP(F112,Intersections!A:F,6,FALSE)","v":24400},6,{"$f":"VLOOKUP(F112,Intersections!A:G,7,FALSE)","v":8800},9,0,{"$f":"_xlfn.IFS(VLOOKUP(F112,Intersections!A:H,8,FALSE)<=0.7,$B$30,VLOOKUP(F112,Intersections!A:H,8,FALSE)<=2,$B$31,TRUE,0)","v":10},{"$f":"_xlfn.IFS(VLOOKUP(F112,Intersections!A:D,4,FALSE)=\"Urban\",$B$30,TRUE,0)","v":0}]
[null,null,null,null,null,"US-20 & Lakeport St",{"$f":"COUNTIF('WWD Crashes'!C:C,F113)","v":3},{"$f":"COUNTIFS('Non-Crash Events'!B:B,F113,'Non-Crash Events'!R:R,\">0\")","v":0},53,null,null,null,null,null,null,null,null,null,null,null,null,null,null,null,null,null,{"$f":"SUMIFS('WWD Crashes'!G:G,'WWD Crashes'!C:C,F113)","v":2.25},{"$f":"_xlfn.IFS(AA113<0.125,$B$3,AA113<0.25,$B$4,AA113<0.5,$B$5,AA113<0.99,$B$6,AA113<1.5,$B$7,TRUE,$B$8)+$B$9*SUMIFS('WWD Crashes'!G:G,'WWD Crashes'!C:C,F113,'WWD Crashes'!L:L,\">0\")++$B$10*SUMIFS('WWD Crashes'!G:G,'WWD Crashes'!C:C,F113,'WWD Crashes'!M:M,\">0\")","v":25},{"$f":"MIN($B$16*SUMIF('Non-Crash Events'!B:B,F113,'Non-Crash Events'!R:R),50)","v":0},{"$f":"IF(VLOOKUP(F113,Intersections!A:E,5,FALSE)=\"Unique\",$B$22,IF(VLOOKUP(F113,Intersections!A:E,5,FALSE)=\"Split\",$B$23,0))","v":0},{"$f":"VLOOKUP(F113,Intersections!A:F,6,FALSE)","v":33200},8,{"$f":"VLOOKUP(F113,Intersections!A:G,7,FALSE)","v":20000},10,0,{"$f":"_xlfn.IFS(VLOOKUP(F113,Intersections!A:H,8,FALSE)<=0.7,$B$30,VLOOKUP(F113,Intersections!A:H,8,FALSE)<=2,$B$31,TRUE,0)","v":10},{"$f":"_xlfn.IFS(VLOOKUP(F113,Intersections!A:D,4,FALSE)=\"Urban\",$B$30,TRUE,0)","v":10}]
[null,null,null,null,null,"US-30 & 6th Ave",{"$f":"COUNTIF('WWD Crashes'!C:C,F114)","v":2},{"$f":"COUNTIFS('Non-Crash Events'!B:B,F114,'Non-Crash Events'!R:R,\">0\")","v":0},52.75,null,null,null,null,null,null,null,null,null,null,null,null,null,null,null,null,null,{"$f":"SUMIFS('WWD Crashes'!G:G,'WWD Crashes'!C:C,F114)","v":1.25},{"$f":"_xlfn.IFS(AA114<0.125,$B$3,AA114<0.25,$B$4,AA114<0.5,$B$5,AA114<0.99,$B$6,AA114<1.5,$B$7,TRUE,$B$8)+$B$9*SUMIFS('WWD Crashes'!G:G,'WWD Crashes'!C:C,F114,'WWD Crashes'!L:L,\">0\")++$B$10*SUMIFS('WWD Crashes'!G:G,'WWD Crashes'!C:C,F114,'WWD Crashes'!M:M,\">0\")","v":38.75},{"$f":"MIN($B$16*SUMIF('Non-Crash Events'!B:B,F114,'Non-Crash Events'!R:R),50)","v":0},{"$f":"IF(VLOOKUP(F114,Intersections!A:E,5,FALSE)=\"Unique\",$B$22,IF(VLOOKUP(F114,Intersections!A:E,5,FALSE)=\"Split\",$B$23,0))","v":0},{"$f":"VLOOKUP(F114,Intersections!A:F,6,FALSE)","v":11100},3,{"$f":"VLOOKUP(F114,Intersections!A:G,7,FALSE)","v":6300},6,0,{"$f":"_xlfn.IFS(VLOOKUP(F114,Intersections!A:H,8,FALSE)<=0.7,$B$30,VLOOKUP(F114,Intersections!A:H,8,FALSE)<=2,$B$31,TRUE,0)","v":5},{"$f":"_xlfn.IFS(VLOOKUP(F114,Intersections!A:D,4,FALSE)=\"Urban\",$B$30,TRUE,0)","v":0}]
[null,null,null,null,null,"US-30 & US-169",{"$f":"COUNTIF('WWD Crashes'!C:C,F115)","v":2},{"$f":"COUNTIFS('Non-Crash Events'!B:B,F115,'Non-Crash Events'!R:R,\">0\")","v":2},51,null,null,null,null,null,null,null,null,null,null,null,null,null,null,null,null,null,{"$f":"SUMIFS('WWD Crashes'!G:G,'WWD Crashes'!C:C,F115)","v":1},{"$f":"_xlfn.IFS(AA115<0.125,$B$3,AA115<0.25,$B$4,AA115<0.5,$B$5,AA115<0.99,$B$6,AA115<1.5,$B$7,TRUE,$B$8)+$B$9*SUMIFS('WWD Crashes'!G:G,'WWD Crashes'!C:C,F115,'WWD Crashes'!L:L,\">0\")++$B$10*SUMIFS('WWD Crashes'!G:G,'WWD Crashes'!C:C,F115,'WWD Crashes'!M:M,\">0\")","v":20},{"$f":"MIN($B$16*SUMIF('Non-Crash Events'!B:B,F115,'Non-Crash Events'!R:R),50)","v":15},{"$f":"IF(VLOOKUP(F115,Intersections!A:E,5,FALSE)=\"Unique\",$B$22,IF(VLOOKUP(F115,Intersections!A:E,5,FALSE)=\"Split\",$B$23,0))","v":0},{"$f":"VLOOKUP(F115,Intersections!A:F,6,FALSE)","v":7500},1,{"$f":"VLOOKUP(F115,Intersections!A:G,7,FALSE)","v":3550},5,0,{"$f":"_xlfn.IFS(VLOOKUP(F115,Intersections!A:H,8,FALSE)<=0.7,$B$30,VLOOKUP(F115,Intersections!A:H,8,FALSE)<=2,$B$31,TRUE,0)","v":10},{"$f":"_xlfn.IFS(VLOOKUP(F115,Intersections!A:D,4,FALSE)=\"Urban\",$B$30,TRUE,0)","v":0}]
[null,null,null,null,null,"US-151 & IA-38",{"$f":"COUNTIF('WWD Crashes'!C:C,F116)","v":1},{"$f":"COUNTIFS('Non-Crash Events'!B:B,F116,'Non-Crash Events'!R:R,\">0\")","v":0},50.75,null,null,null,null,null,null,null,null,null,null,null,null,null,null,null,null,null,{"$f":"SUMIFS('WWD Crashes'!G:G,'WWD Crashes'!C:C,F116)","v":0.33},{"$f":"_xlfn.IFS(AA116<0.125,$B$3,AA116<0.25,$B$4,AA116<0.5,$B$5,AA116<0.99,$B$6,AA116<1.5,$B$7,TRUE,$B$8)+$B$9*SUMIFS('WWD Crashes'!G:G,'WWD Crashes'!C:C,F116,'WWD Crashes'!L:L,\">0\")++$B$10*SUMIFS('WWD Crashes'!G:G,'WWD Crashes'!C:C,F116,'WWD Crashes'!M:M,\">0\")","v":34.75},{"$f":"MIN($B$16*SUMIF('Non-Crash Events'!B:B,F116,'Non-Crash Events'!R:R),50)","v":0},{"$f":"IF(VLOOKUP(F116,Intersections!A:E,5,FALSE)=\"Unique\",$B$22,IF(VLOOKUP(F116,Intersections!A:E,5,FALSE)=\"Split\",$B$23,0))","v":0},{"$f":"VLOOKUP(F116,Intersections!A:F,6,FALSE)","v":8400},2,{"$f":"VLOOKUP(F116,Intersections!A:G,7,FALSE)","v":2690},4,0,{"$f":"_xlfn.IFS(VLOOKUP(F116,Intersections!A:H,8,FALSE)<=0.7,$B$30,VLOOKUP(F116,Intersections!A:H,8,FALSE)<=2,$B$31,TRUE,0)","v":10},{"$f":"_xlfn.IFS(VLOOKUP(F116,Intersections!A:D,4,FALSE)=\"Urban\",$B$30,TRUE,0)","v":0}]
[null,null,null,null,null,"I-380 SE RAMP & IA-150",{"$f":"COUNTIF('WWD Crashes'!C:C,F117)","v":1},{"$f":"COUNTIFS('Non-Crash Events'!B:B,F117,'Non-Crash Events'!R:R,\">0\")","v":0},50.75,null,null,null,null,null,null,null,null,null,null,null,null,null,null,null,null,null,{"$f":"SUMIFS('WWD Crashes'!G:G,'WWD Crashes'!C:C,F117)","v":0.25},{"$f":"_xlfn.IFS(AA117<0.125,$B$3,AA117<0.25,$B$4,AA117<0.5,$B$5,AA117<0.99,$B$6,AA117<1.5,$B$7,TRUE,$B$8)+$B$9*SUMIFS('WWD Crashes'!G:G,'WWD Crashes'!C:C,F117,'WWD Crashes'!L:L,\">0\")++$B$10*SUMIFS('WWD Crashes'!G:G,'WWD Crashes'!C:C,F117,'WWD Crashes'!M:M,\">0\")","v":28.75},{"$f":"MIN($B$16*SUMIF('Non-Crash Events'!B:B,F117,'Non-Crash Events'!R:R),50)","v":0},{"$f":"IF(VLOOKUP(F117,Intersections!A:E,5,FALSE)=\"Unique\",$B$22,IF(VLOOKUP(F117,Intersections!A:E,5,FALSE)=\"Split\",$B$23,0))","v":0},{"$f":"VLOOKUP(F117,Intersections!A:F,6,FALSE)","v":21000},6,{"$f":"VLOOKUP(F117,Intersections!A:G,7,FALSE)","v":4820},6,0,{"$f":"_xlfn.IFS(VLOOKUP(F117,Intersections!A:H,8,FALSE)<=0.7,$B$30,VLOOKUP(F117,Intersections!A:H,8,FALSE)<=2,$B$31,TRUE,0)","v":10},{"$f":"_xlfn.IFS(VLOOKUP(F117,Intersections!A:D,4,FALSE)=\"Urban\",$B$30,TRUE,0)","v":0}]
[null,null,null,null,null,"US-18 & IA-60",{"$f":"COUNTIF('WWD Crashes'!C:C,F118)","v":2},{"$f":"COUNTIFS('Non-Crash Events'!B:B,F118,'Non-Crash Events'!R:R,\">0\")","v":0},49.75,null,null,null,null,null,null,null,null,null,null,null,null,null,null,null,null,null,{"$f":"SUMIFS('WWD Crashes'!G:G,'WWD Crashes'!C:C,F118)","v":0.75},{"$f":"_xlfn.IFS(AA118<0.125,$B$3,AA118<0.25,$B$4,AA118<0.5,$B$5,AA118<0.99,$B$6,AA118<1.5,$B$7,TRUE,$B$8)+$B$9*SUMIFS('WWD Crashes'!G:G,'WWD Crashes'!C:C,F118,'WWD Crashes'!L:L,\">0\")++$B$10*SUMIFS('WWD Crashes'!G:G,'WWD Crashes'!C:C,F118,'WWD Crashes'!M:M,\">0\")","v":33.75},{"$f":"MIN($B$16*SUMIF('Non-Crash Events'!B:B,F118,'Non-Crash Events'!R:R),50)","v":0},{"$f":"IF(VLOOKUP(F118,Intersections!A:E,5,FALSE)=\"Unique\",$B$22,IF(VLOOKUP(F118,Intersections!A:E,5,FALSE)=\"Split\",$B$23,0))","v":0},{"$f":"VLOOKUP(F118,Intersections!A:F,6,FALSE)","v":6300},1,{"$f":"VLOOKUP(F118,Intersections!A:G,7,FALSE)","v":4520},5,0,{"$f":"_xlfn.IFS(VLOOKUP(F118,Intersections!A:H,8,FALSE)<=0.7,$B$30,VLOOKUP(F118,Intersections!A:H,8,FALSE)<=2,$B$31,TRUE,0)","v":10},{"$f":"_xlfn.IFS(VLOOKUP(F118,Intersections!A:D,4,FALSE)=\"Urban\",$B$30,TRUE,0)","v":0}]
[null,null,null,null,null,"I-74 SE RAMP & MIDDLE RD",{"$f":"COUNTIF('WWD Crashes'!C:C,F119)","v":2},{"$f":"COUNTIFS('Non-Crash Events'!B:B,F119,'Non-Crash Events'!R:R,\">0\")","v":0},49,null,null,null,null,null,null,null,null,null,null,null,null,null,null,null,null,null,{"$f":"SUMIFS('WWD Crashes'!G:G,'WWD Crashes'!C:C,F119)","v":0.54},{"$f":"_xlfn.IFS(AA119<0.125,$B$3,AA119<0.25,$B$4,AA119<0.5,$B$5,AA119<0.99,$B$6,AA119<1.5,$B$7,TRUE,$B$8)+$B$9*SUMIFS('WWD Crashes'!G:G,'WWD Crashes'!C:C,F119,'WWD Crashes'!L:L,\">0\")++$B$10*SUMIFS('WWD Crashes'!G:G,'WWD Crashes'!C:C,F119,'WWD Crashes'!M:M,\">0\")","v":15},{"$f":"MIN($B$16*SUMIF('Non-Crash Events'!B:B,F119,'Non-Crash Events'!R:R),50)","v":0},{"$f":"IF(VLOOKUP(F119,Intersections!A:E,5,FALSE)=\"Unique\",$B$22,IF(VLOOKUP(F119,Intersections!A:E,5,FALSE)=\"Split\",$B$23,0))","v":0},{"$f":"VLOOKUP(F119,Intersections!A:F,6,FALSE)","v":59700},9,{"$f":"VLOOKUP(F119,Intersections!A:G,7,FALSE)","v":24000},10,5,{"$f":"_xlfn.IFS(VLOOKUP(F119,Intersections!A:H,8,FALSE)<=0.7,$B$30,VLOOKUP(F119,Intersections!A:H,8,FALSE)<=2,$B$31,TRUE,0)","v":10},{"$f":"_xlfn.IFS(VLOOKUP(F119,Intersections!A:D,4,FALSE)=\"Urban\",$B$30,TRUE,0)","v":10}]
[null,null,null,null,null,"I-74 & 53rd St",{"$f":"COUNTIF('WWD Crashes'!C:C,F120)","v":2},{"$f":"COUNTIFS('Non-Crash Events'!B:B,F120,'Non-Crash Events'!R:R,\">0\")","v":0},49,null,null,null,null,null,null,null,null,null,null,null,null,null,null,null,null,null,{"$f":"SUMIFS('WWD Crashes'!G:G,'WWD Crashes'!C:C,F120)","v":0.75},{"$f":"_xlfn.IFS(AA120<0.125,$B$3,AA120<0.25,$B$4,AA120<0.5,$B$5,AA120<0.99,$B$6,AA120<1.5,$B$7,TRUE,$B$8)+$B$9*SUMIFS('WWD Crashes'!G:G,'WWD Crashes'!C:C,F120,'WWD Crashes'!L:L,\">0\")++$B$10*SUMIFS('WWD Crashes'!G:G,'WWD Crashes'!C:C,F120,'WWD Crashes'!M:M,\">0\")","v":15},{"$f":"MIN($B$16*SUMIF('Non-Crash Events'!B:B,F120,'Non-Crash Events'!R:R),50)","v":0},{"$f":"IF(VLOOKUP(F120,Intersections!A:E,5,FALSE)=\"Unique\",$B$22,IF(VLOOKUP(F120,Intersections!A:E,5,FALSE)=\"Split\",$B$23,0))","v":0},{"$f":"VLOOKUP(F120,Intersections!A:F,6,FALSE)","v":36600},9,{"$f":"VLOOKUP(F120,Intersections!A:G,7,FALSE)","v":44900},10,5,{"$f":"_xlfn.IFS(VLOOKUP(F120,Intersections!A:H,8,FALSE)<=0.7,$B$30,VLOOKUP(F120,Intersections!A:H,8,FALSE)<=2,$B$31,TRUE,0)","v":10},{"$f":"_xlfn.IFS(VLOOKUP(F120,Intersections!A:D,4,FALSE)=\"Urban\",$B$30,TRUE,0)","v":10}]
[null,null,null,null,null,"US-34 & 235th St",{"$f":"COUNTIF('WWD Crashes'!C:C,F121)","v":2},{"$f":"COUNTIFS('Non-Crash Events'!B:B,F121,'Non-Crash Events'!R:R,\">0\")","v":0},49,null,null,null,null,null,null,null,null,null,null,null,null,null,null,null,null,null,{"$f":"SUMIFS('WWD Crashes'!G:G,'WWD Crashes'!C:C,F121)","v":1.25},{"$f":"_xlfn.IFS(AA121<0.125,$B$3,AA121<0.25,$B$4,AA121<0.5,$B$5,AA121<0.99,$B$6,AA121<1.5,$B$7,TRUE,$B$8)+$B$9*SUMIFS('WWD Crashes'!G:G,'WWD Crashes'!C:C,F121,'WWD Crashes'!L:L,\">0\")++$B$10*SUMIFS('WWD Crashes'!G:G,'WWD Crashes'!C:C,F121,'WWD Crashes'!M:M,\">0\")","v":20},{"$f":"MIN($B$16*SUMIF('Non-Crash Events'!B:B,F121,'Non-Crash Events'!R:R),50)","v":0},{"$f":"IF(VLOOKUP(F121,Intersections!A:E,5,FALSE)=\"Unique\",$B$22,IF(VLOOKUP(F121,Intersections!A:E,5,FALSE)=\"Split\",$B$23,0))","v":25},{"$f":"VLOOKUP(F121,Intersections!A:F,6,FALSE)","v":7400},1,{"$f":"VLOOKUP(F121,Intersections!A:G,7,FALSE)","v":2010},3,0,{"$f":"_xlfn.IFS(VLOOKUP(F121,Intersections!A:H,8,FALSE)<=0.7,$B$30,VLOOKUP(F121,Intersections!A:H,8,FALSE)<=2,$B$31,TRUE,0)","v":0},{"$f":"_xlfn.IFS(VLOOKUP(F121,Intersections!A:D,4,FALSE)=\"Urban\",$B$30,TRUE,0)","v":0}]
[null,null,null,{"$f":"HYPERLINK(\"#'Weight Based'!\"&ADDRESS(5,11),\"Jump to Details\")","v":"Jump to Details"},null,"I-80 & Dubuque St",{"$f":"COUNTIF('WWD Crashes'!C:C,F122)","v":0},{"$f":"COUNTIFS('Non-Crash Events'!B:B,F122,'Non-Crash Events'!R:R,\">0\")","v":2},48.9,null,null,null,null,null,null,null,null,null,null,null,null,null,null,null,null,null,{"$f":"SUMIFS('WWD Crashes'!G:G,'WWD Crashes'!C:C,F122)","v":0},{"$f":"_xlfn.IFS(AA122<0.125,$B$3,AA122<0.25,$B$4,AA122<0.5,$B$5,AA122<0.99,$B$6,AA122<1.5,$B$7,TRUE,$B$8)+$B$9*SUMIFS('WWD Crashes'!G:G,'WWD Crashes'!C:C,F122,'WWD Crashes'!L:L,\">0\")++$B$10*SUMIFS('WWD Crashes'!G:G,'WWD Crashes'!C:C,F122,'WWD Crashes'!M:M,\">0\")","v":0},{"$f":"MIN($B$16*SUMIF('Non-Crash Events'!B:B,F122,'Non-Crash Events'!R:R),50)","v":19.899999999999999},{"$f":"IF(VLOOKUP(F122,Intersections!A:E,5,FALSE)=\"Unique\",$B$22,IF(VLOOKUP(F122,Intersections!A:E,5,FALSE)=\"Split\",$B$23,0))","v":0},{"$f":"VLOOKUP(F122,Intersections!A:F,6,FALSE)","v":64300},9,{"$f":"VLOOKUP(F122,Intersections!A:G,7,FALSE)","v":24100},10,5,{"$f":"_xlfn.IFS(VLOOKUP(F122,Intersections!A:H,8,FALSE)<=0.7,$B$30,VLOOKUP(F122,Intersections!A:H,8,FALSE)<=2,$B$31,TRUE,0)","v":5},{"$f":"_xlfn.IFS(VLOOKUP(F122,Intersections!A:D,4,FALSE)=\"Urban\",$B$30,TRUE,0)","v":10}]
[null,null,null,null,null,"I-80 & IA-1",{"$f":"COUNTIF('WWD Crashes'!C:C,F123)","v":0},{"$f":"COUNTIFS('Non-Crash Events'!B:B,F123,'Non-Crash Events'!R:R,\">0\")","v":2},48.9,null,null,null,null,null,null,null,null,null,null,null,null,null,null,null,null,null,{"$f":"SUMIFS('WWD Crashes'!G:G,'WWD Crashes'!C:C,F123)","v":0},{"$f":"_xlfn.IFS(AA123<0.125,$B$3,AA123<0.25,$B$4,AA123<0.5,$B$5,AA123<0.99,$B$6,AA123<1.5,$B$7,TRUE,$B$8)+$B$9*SUMIFS('WWD Crashes'!G:G,'WWD Crashes'!C:C,F123,'WWD Crashes'!L:L,\">0\")++$B$10*SUMIFS('WWD Crashes'!G:G,'WWD Crashes'!C:C,F123,'WWD Crashes'!M:M,\">0\")","v":0},{"$f":"MIN($B$16*SUMIF('Non-Crash Events'!B:B,F123,'Non-Crash Events'!R:R),50)","v":19.899999999999999},{"$f":"IF(VLOOKUP(F123,Intersections!A:E,5,FALSE)=\"Unique\",$B$22,IF(VLOOKUP(F123,Intersections!A:E,5,FALSE)=\"Split\",$B$23,0))","v":0},{"$f":"VLOOKUP(F123,Intersections!A:F,6,FALSE)","v":55900},9,{"$f":"VLOOKUP(F123,Intersections!A:G,7,FALSE)","v":20400},10,5,{"$f":"_xlfn.IFS(VLOOKUP(F123,Intersections!A:H,8,FALSE)<=0.7,$B$30,VLOOKUP(F123,Intersections!A:H,8,FALSE)<=2,$B$31,TRUE,0)","v":5},{"$f":"_xlfn.IFS(VLOOKUP(F123,Intersections!A:D,4,FALSE)=\"Urban\",$B$30,TRUE,0)","v":10}]
[null,null,null,null,null,"IA-141 & IA-210",{"$f":"COUNTIF('WWD Crashes'!C:C,F124)","v":4},{"$f":"COUNTIFS('Non-Crash Events'!B:B,F124,'Non-Crash Events'!R:R,\">0\")","v":1},47.9,null,null,null,null,null,null,null,null,null,null,null,null,null,null,null,null,null,{"$f":"SUMIFS('WWD Crashes'!G:G,'WWD Crashes'!C:C,F124)","v":4},{"$f":"_xlfn.IFS(AA124<0.125,$B$3,AA124<0.25,$B$4,AA124<0.5,$B$5,AA124<0.99,$B$6,AA124<1.5,$B$7,TRUE,$B$8)+$B$9*SUMIFS('WWD Crashes'!G:G,'WWD Crashes'!C:C,F124,'WWD Crashes'!L:L,\">0\")++$B$10*SUMIFS('WWD Crashes'!G:G,'WWD Crashes'!C:C,F124,'WWD Crashes'!M:M,\">0\")","v":25},{"$f":"MIN($B$16*SUMIF('Non-Crash Events'!B:B,F124,'Non-Crash Events'!R:R),50)","v":9.9},{"$f":"IF(VLOOKUP(F124,Intersections!A:E,5,FALSE)=\"Unique\",$B$22,IF(VLOOKUP(F124,Intersections!A:E,5,FALSE)=\"Split\",$B$23,0))","v":0},{"$f":"VLOOKUP(F124,Intersections!A:F,6,FALSE)","v":9900},3,{"$f":"VLOOKUP(F124,Intersections!A:G,7,FALSE)","v":3810},5,0,{"$f":"_xlfn.IFS(VLOOKUP(F124,Intersections!A:H,8,FALSE)<=0.7,$B$30,VLOOKUP(F124,Intersections!A:H,8,FALSE)<=2,$B$31,TRUE,0)","v":5},{"$f":"_xlfn.IFS(VLOOKUP(F124,Intersections!A:D,4,FALSE)=\"Urban\",$B$30,TRUE,0)","v":0}]
[null,null,null,null,null,"I-80 & Division St",{"$f":"COUNTIF('WWD Crashes'!C:C,F125)","v":2},{"$f":"COUNTIFS('Non-Crash Events'!B:B,F125,'Non-Crash Events'!R:R,\">0\")","v":0},47,null,null,null,null,null,null,null,null,null,null,null,null,null,null,null,null,null,{"$f":"SUMIFS('WWD Crashes'!G:G,'WWD Crashes'!C:C,F125)","v":2},{"$f":"_xlfn.IFS(AA125<0.125,$B$3,AA125<0.25,$B$4,AA125<0.5,$B$5,AA125<0.99,$B$6,AA125<1.5,$B$7,TRUE,$B$8)+$B$9*SUMIFS('WWD Crashes'!G:G,'WWD Crashes'!C:C,F125,'WWD Crashes'!L:L,\">0\")++$B$10*SUMIFS('WWD Crashes'!G:G,'WWD Crashes'!C:C,F125,'WWD Crashes'!M:M,\">0\")","v":25},{"$f":"MIN($B$16*SUMIF('Non-Crash Events'!B:B,F125,'Non-Crash Events'!R:R),50)","v":0},{"$f":"IF(VLOOKUP(F125,Intersections!A:E,5,FALSE)=\"Unique\",$B$22,IF(VLOOKUP(F125,Intersections!A:E,5,FALSE)=\"Split\",$B$23,0))","v":0},{"$f":"VLOOKUP(F125,Intersections!A:F,6,FALSE)","v":27100},7,{"$f":"VLOOKUP(F125,Intersections!A:G,7,FALSE)","v":4620},5,0,{"$f":"_xlfn.IFS(VLOOKUP(F125,Intersections!A:H,8,FALSE)<=0.7,$B$30,VLOOKUP(F125,Intersections!A:H,8,FALSE)<=2,$B$31,TRUE,0)","v":10},{"$f":"_xlfn.IFS(VLOOKUP(F125,Intersections!A:D,4,FALSE)=\"Urban\",$B$30,TRUE,0)","v":0}]
[null,null,null,null,null,"I- 35 E  Ramp & E 13TH ST",{"$f":"COUNTIF('WWD Crashes'!C:C,F126)","v":0},{"$f":"COUNTIFS('Non-Crash Events'!B:B,F126,'Non-Crash Events'!R:R,\">0\")","v":2},47,null,null,null,null,null,null,null,null,null,null,null,null,null,null,null,null,null,{"$f":"SUMIFS('WWD Crashes'!G:G,'WWD Crashes'!C:C,F126)","v":0},{"$f":"_xlfn.IFS(AA126<0.125,$B$3,AA126<0.25,$B$4,AA126<0.5,$B$5,AA126<0.99,$B$6,AA126<1.5,$B$7,TRUE,$B$8)+$B$9*SUMIFS('WWD Crashes'!G:G,'WWD Crashes'!C:C,F126,'WWD Crashes'!L:L,\">0\")++$B$10*SUMIFS('WWD Crashes'!G:G,'WWD Crashes'!C:C,F126,'WWD Crashes'!M:M,\">0\")","v":0},{"$f":"MIN($B$16*SUMIF('Non-Crash Events'!B:B,F126,'Non-Crash Events'!R:R),50)","v":20},{"$f":"IF(VLOOKUP(F126,Intersections!A:E,5,FALSE)=\"Unique\",$B$22,IF(VLOOKUP(F126,Intersections!A:E,5,FALSE)=\"Split\",$B$23,0))","v":0},{"$f":"VLOOKUP(F126,Intersections!A:F,6,FALSE)","v":34500},8,{"$f":"VLOOKUP(F126,Intersections!A:G,7,FALSE)","v":13600},9,0,{"$f":"_xlfn.IFS(VLOOKUP(F126,Intersections!A:H,8,FALSE)<=0.7,$B$30,VLOOKUP(F126,Intersections!A:H,8,FALSE)<=2,$B$31,TRUE,0)","v":10},{"$f":"_xlfn.IFS(VLOOKUP(F126,Intersections!A:D,4,FALSE)=\"Urban\",$B$30,TRUE,0)","v":10}]
[null,null,null,null,null,"IA-100 & Center Point Rd",{"$f":"COUNTIF('WWD Crashes'!C:C,F127)","v":1},{"$f":"COUNTIFS('Non-Crash Events'!B:B,F127,'Non-Crash Events'!R:R,\">0\")","v":0},46,null,null,null,null,null,null,null,null,null,null,null,null,null,null,null,null,null,{"$f":"SUMIFS('WWD Crashes'!G:G,'WWD Crashes'!C:C,F127)","v":0.99},{"$f":"_xlfn.IFS(AA127<0.125,$B$3,AA127<0.25,$B$4,AA127<0.5,$B$5,AA127<0.99,$B$6,AA127<1.5,$B$7,TRUE,$B$8)+$B$9*SUMIFS('WWD Crashes'!G:G,'WWD Crashes'!C:C,F127,'WWD Crashes'!L:L,\">0\")++$B$10*SUMIFS('WWD Crashes'!G:G,'WWD Crashes'!C:C,F127,'WWD Crashes'!M:M,\">0\")","v":20},{"$f":"MIN($B$16*SUMIF('Non-Crash Events'!B:B,F127,'Non-Crash Events'!R:R),50)","v":0},{"$f":"IF(VLOOKUP(F127,Intersections!A:E,5,FALSE)=\"Unique\",$B$22,IF(VLOOKUP(F127,Intersections!A:E,5,FALSE)=\"Split\",$B$23,0))","v":0},{"$f":"VLOOKUP(F127,Intersections!A:F,6,FALSE)","v":25300},7,{"$f":"VLOOKUP(F127,Intersections!A:G,7,FALSE)","v":13100},9,0,{"$f":"_xlfn.IFS(VLOOKUP(F127,Intersections!A:H,8,FALSE)<=0.7,$B$30,VLOOKUP(F127,Intersections!A:H,8,FALSE)<=2,$B$31,TRUE,0)","v":10},{"$f":"_xlfn.IFS(VLOOKUP(F127,Intersections!A:D,4,FALSE)=\"Urban\",$B$30,TRUE,0)","v":10}]
[null,null,null,null,null,"I-35 & CR-G14",{"$f":"COUNTIF('WWD Crashes'!C:C,F128)","v":3},{"$f":"COUNTIFS('Non-Crash Events'!B:B,F128,'Non-Crash Events'!R:R,\">0\")","v":1},46,null,null,null,null,null,null,null,null,null,null,null,null,null,null,null,null,null,{"$f":"SUMIFS('WWD Crashes'!G:G,'WWD Crashes'!C:C,F128)","v":2.2400000000000002},{"$f":"_xlfn.IFS(AA128<0.125,$B$3,AA128<0.25,$B$4,AA128<0.5,$B$5,AA128<0.99,$B$6,AA128<1.5,$B$7,TRUE,$B$8)+$B$9*SUMIFS('WWD Crashes'!G:G,'WWD Crashes'!C:C,F128,'WWD Crashes'!L:L,\">0\")++$B$10*SUMIFS('WWD Crashes'!G:G,'WWD Crashes'!C:C,F128,'WWD Crashes'!M:M,\">0\")","v":25},{"$f":"MIN($B$16*SUMIF('Non-Crash Events'!B:B,F128,'Non-Crash Events'!R:R),50)","v":5},{"$f":"IF(VLOOKUP(F128,Intersections!A:E,5,FALSE)=\"Unique\",$B$22,IF(VLOOKUP(F128,Intersections!A:E,5,FALSE)=\"Split\",$B$23,0))","v":0},{"$f":"VLOOKUP(F128,Intersections!A:F,6,FALSE)","v":26700},7,{"$f":"VLOOKUP(F128,Intersections!A:G,7,FALSE)","v":3290},4,0,{"$f":"_xlfn.IFS(VLOOKUP(F128,Intersections!A:H,8,FALSE)<=0.7,$B$30,VLOOKUP(F128,Intersections!A:H,8,FALSE)<=2,$B$31,TRUE,0)","v":5},{"$f":"_xlfn.IFS(VLOOKUP(F128,Intersections!A:D,4,FALSE)=\"Urban\",$B$30,TRUE,0)","v":0}]
[null,null,null,null,null,"I-29 & Bunge Ave",{"$f":"COUNTIF('WWD Crashes'!C:C,F129)","v":4},{"$f":"COUNTIFS('Non-Crash Events'!B:B,F129,'Non-Crash Events'!R:R,\">0\")","v":1},46,null,null,null,null,null,null,null,null,null,null,null,null,null,null,null,null,null,{"$f":"SUMIFS('WWD Crashes'!G:G,'WWD Crashes'!C:C,F129)","v":4},{"$f":"_xlfn.IFS(AA129<0.125,$B$3,AA129<0.25,$B$4,AA129<0.5,$B$5,AA129<0.99,$B$6,AA129<1.5,$B$7,TRUE,$B$8)+$B$9*SUMIFS('WWD Crashes'!G:G,'WWD Crashes'!C:C,F129,'WWD Crashes'!L:L,\">0\")++$B$10*SUMIFS('WWD Crashes'!G:G,'WWD Crashes'!C:C,F129,'WWD Crashes'!M:M,\">0\")","v":25},{"$f":"MIN($B$16*SUMIF('Non-Crash Events'!B:B,F129,'Non-Crash Events'!R:R),50)","v":10},{"$f":"IF(VLOOKUP(F129,Intersections!A:E,5,FALSE)=\"Unique\",$B$22,IF(VLOOKUP(F129,Intersections!A:E,5,FALSE)=\"Split\",$B$23,0))","v":0},{"$f":"VLOOKUP(F129,Intersections!A:F,6,FALSE)","v":19000},5,{"$f":"VLOOKUP(F129,Intersections!A:G,7,FALSE)","v":5000},6,0,{"$f":"_xlfn.IFS(VLOOKUP(F129,Intersections!A:H,8,FALSE)<=0.7,$B$30,VLOOKUP(F129,Intersections!A:H,8,FALSE)<=2,$B$31,TRUE,0)","v":0},{"$f":"_xlfn.IFS(VLOOKUP(F129,Intersections!A:D,4,FALSE)=\"Urban\",$B$30,TRUE,0)","v":0}]
[null,null,null,null,null,"I-80 & CR-P57",{"$f":"COUNTIF('WWD Crashes'!C:C,F130)","v":1},{"$f":"COUNTIFS('Non-Crash Events'!B:B,F130,'Non-Crash Events'!R:R,\">0\")","v":0},{"$f":"SUM(AB130,AC130,AD130,AF130,AH130,AI130,AJ130)","v":45.75},null,null,null,null,null,null,null,null,null,null,null,null,null,null,null,null,null,{"$f":"SUMIFS('WWD Crashes'!G:G,'WWD Crashes'!C:C,F130)","v":0.25},{"$f":"_xlfn.IFS(AA130<0.125,$B$3,AA130<0.25,$B$4,AA130<0.5,$B$5,AA130<0.99,$B$6,AA130<1.5,$B$7,TRUE,$B$8)+$B$9*SUMIFS('WWD Crashes'!G:G,'WWD Crashes'!C:C,F130,'WWD Crashes'!L:L,\">0\")++$B$10*SUMIFS('WWD Crashes'!G:G,'WWD Crashes'!C:C,F130,'WWD Crashes'!M:M,\">0\")","v":28.75},{"$f":"MIN($B$16*SUMIF('Non-Crash Events'!B:B,F130,'Non-Crash Events'!R:R),50)","v":0},{"$f":"IF(VLOOKUP(F130,Intersections!A:E,5,FALSE)=\"Unique\",$B$22,IF(VLOOKUP(F130,Intersections!A:E,5,FALSE)=\"Split\",$B$23,0))","v":0},{"$f":"VLOOKUP(F130,Intersections!A:F,6,FALSE)","v":31500},8,{"$f":"VLOOKUP(F130,Intersections!A:G,7,FALSE)","v":3110},4,0,{"$f":"_xlfn.IFS(VLOOKUP(F130,Intersections!A:H,8,FALSE)<=0.7,$B$30,VLOOKUP(F130,Intersections!A:H,8,FALSE)<=2,$B$31,TRUE,0)","v":5},{"$f":"_xlfn.IFS(VLOOKUP(F130,Intersections!A:D,4,FALSE)=\"Urban\",$B$30,TRUE,0)","v":0}]
[null,null,null,null,null,"I-80 NE RAMP & YANKEE AVE",{"$f":"COUNTIF('WWD Crashes'!C:C,F131)","v":1},{"$f":"COUNTIFS('Non-Crash Events'!B:B,F131,'Non-Crash Events'!R:R,\">0\")","v":0},45.75,null,null,null,null,null,null,null,null,null,null,null,null,null,null,null,null,null,{"$f":"SUMIFS('WWD Crashes'!G:G,'WWD Crashes'!C:C,F131)","v":0.33},{"$f":"_xlfn.IFS(AA131<0.125,$B$3,AA131<0.25,$B$4,AA131<0.5,$B$5,AA131<0.99,$B$6,AA131<1.5,$B$7,TRUE,$B$8)+$B$9*SUMIFS('WWD Crashes'!G:G,'WWD Crashes'!C:C,F131,'WWD Crashes'!L:L,\">0\")++$B$10*SUMIFS('WWD Crashes'!G:G,'WWD Crashes'!C:C,F131,'WWD Crashes'!M:M,\">0\")","v":34.75},{"$f":"MIN($B$16*SUMIF('Non-Crash Events'!B:B,F131,'Non-Crash Events'!R:R),50)","v":0},{"$f":"IF(VLOOKUP(F131,Intersections!A:E,5,FALSE)=\"Unique\",$B$22,IF(VLOOKUP(F131,Intersections!A:E,5,FALSE)=\"Split\",$B$23,0))","v":0},{"$f":"VLOOKUP(F131,Intersections!A:F,6,FALSE)","v":34800},{"$f":"_xlfn.IFS(AE131<7821,1,AE131<9601,2,AE131<11931,3,AE131<15801,4,AE131<20401,5,AE131<24821,6,AE131<29771,7,AE131<36181,8,AE131<67181,9,TRUE,10)","v":8},{"$f":"VLOOKUP(F131,Intersections!A:G,7,FALSE)","v":2310},{"$f":"_xlfn.IFS(AG131<827,1,AG131<1663,2,AG131<2590,3,AG131<3401,4,AG131<4671,5,AG131<6501,6,AG131<8401,7,AG131<1161,8,AG131<19401,9,TRUE,10)","v":3},{"$f":"IF(AND(AF131>8,AG131>8),5,0)","v":0},{"$f":"_xlfn.IFS(VLOOKUP(F131,Intersections!A:H,8,FALSE)<=0.7,$B$30,VLOOKUP(F131,Intersections!A:H,8,FALSE)<=2,$B$31,TRUE,0)","v":0},{"$f":"_xlfn.IFS(VLOOKUP(F131,Intersections!A:D,4,FALSE)=\"Urban\",$B$30,TRUE,0)","v":0}]
[null,null,null,null,null,"I- 235 E Ramp & E EUCLID AVE / US 6",{"$f":"COUNTIF('WWD Crashes'!C:C,F132)","v":0},{"$f":"COUNTIFS('Non-Crash Events'!B:B,F132,'Non-Crash Events'!R:R,\">0\")","v":0},35,null,null,null,null,null,null,null,null,null,null,null,null,null,null,null,null,null,{"$f":"SUMIFS('WWD Crashes'!G:G,'WWD Crashes'!C:C,F132)","v":0},{"$f":"_xlfn.IFS(AA132<0.125,$B$3,AA132<0.25,$B$4,AA132<0.5,$B$5,AA132<0.99,$B$6,AA132<1.5,$B$7,TRUE,$B$8)+$B$9*SUMIFS('WWD Crashes'!G:G,'WWD Crashes'!C:C,F132,'WWD Crashes'!L:L,\">0\")++$B$10*SUMIFS('WWD Crashes'!G:G,'WWD Crashes'!C:C,F132,'WWD Crashes'!M:M,\">0\")","v":0},{"$f":"MIN($B$16*SUMIF('Non-Crash Events'!B:B,F132,'Non-Crash Events'!R:R),50)","v":0},{"$f":"IF(VLOOKUP(F132,Intersections!A:E,5,FALSE)=\"Unique\",$B$22,IF(VLOOKUP(F132,Intersections!A:E,5,FALSE)=\"Split\",$B$23,0))","v":0},{"$f":"VLOOKUP(F132,Intersections!A:F,6,FALSE)","v":77300},10,{"$f":"VLOOKUP(F132,Intersections!A:G,7,FALSE)","v":23900},10,5,{"$f":"_xlfn.IFS(VLOOKUP(F132,Intersections!A:H,8,FALSE)<=0.7,$B$30,VLOOKUP(F132,Intersections!A:H,8,FALSE)<=2,$B$31,TRUE,0)","v":10},{"$f":"_xlfn.IFS(VLOOKUP(F132,Intersections!A:D,4,FALSE)=\"Urban\",$B$30,TRUE,0)","v":10}]
[null,null,null,null,null,"I-80 & Downey St",{"$f":"COUNTIF('WWD Crashes'!C:C,F133)","v":1},{"$f":"COUNTIFS('Non-Crash Events'!B:B,F133,'Non-Crash Events'!R:R,\">0\")","v":0},45,null,null,null,null,null,null,null,null,null,null,null,null,null,null,null,null,null,{"$f":"SUMIFS('WWD Crashes'!G:G,'WWD Crashes'!C:C,F133)","v":0.75},{"$f":"_xlfn.IFS(AA133<0.125,$B$3,AA133<0.25,$B$4,AA133<0.5,$B$5,AA133<0.99,$B$6,AA133<1.5,$B$7,TRUE,$B$8)+$B$9*SUMIFS('WWD Crashes'!G:G,'WWD Crashes'!C:C,F133,'WWD Crashes'!L:L,\">0\")++$B$10*SUMIFS('WWD Crashes'!G:G,'WWD Crashes'!C:C,F133,'WWD Crashes'!M:M,\">0\")","v":15},{"$f":"MIN($B$16*SUMIF('Non-Crash Events'!B:B,F133,'Non-Crash Events'!R:R),50)","v":0},{"$f":"IF(VLOOKUP(F133,Intersections!A:E,5,FALSE)=\"Unique\",$B$22,IF(VLOOKUP(F133,Intersections!A:E,5,FALSE)=\"Split\",$B$23,0))","v":0},{"$f":"VLOOKUP(F133,Intersections!A:F,6,FALSE)","v":40400},9,{"$f":"VLOOKUP(F133,Intersections!A:G,7,FALSE)","v":5300},6,5,{"$f":"_xlfn.IFS(VLOOKUP(F133,Intersections!A:H,8,FALSE)<=0.7,$B$30,VLOOKUP(F133,Intersections!A:H,8,FALSE)<=2,$B$31,TRUE,0)","v":10},{"$f":"_xlfn.IFS(VLOOKUP(F133,Intersections!A:D,4,FALSE)=\"Urban\",$B$30,TRUE,0)","v":0}]
[null,null,null,null,null,"I-35 & University Ave",{"$f":"COUNTIF('WWD Crashes'!C:C,F134)","v":0},{"$f":"COUNTIFS('Non-Crash Events'!B:B,F134,'Non-Crash Events'!R:R,\">0\")","v":1},45,null,null,null,null,null,null,null,null,null,null,null,null,null,null,null,null,null,{"$f":"SUMIFS('WWD Crashes'!G:G,'WWD Crashes'!C:C,F134)","v":0},{"$f":"_xlfn.IFS(AA134<0.125,$B$3,AA134<0.25,$B$4,AA134<0.5,$B$5,AA134<0.99,$B$6,AA134<1.5,$B$7,TRUE,$B$8)+$B$9*SUMIFS('WWD Crashes'!G:G,'WWD Crashes'!C:C,F134,'WWD Crashes'!L:L,\">0\")++$B$10*SUMIFS('WWD Crashes'!G:G,'WWD Crashes'!C:C,F134,'WWD Crashes'!M:M,\">0\")","v":0},{"$f":"MIN($B$16*SUMIF('Non-Crash Events'!B:B,F134,'Non-Crash Events'!R:R),50)","v":10},{"$f":"IF(VLOOKUP(F134,Intersections!A:E,5,FALSE)=\"Unique\",$B$22,IF(VLOOKUP(F134,Intersections!A:E,5,FALSE)=\"Split\",$B$23,0))","v":0},{"$f":"VLOOKUP(F134,Intersections!A:F,6,FALSE)","v":121400},10,{"$f":"VLOOKUP(F134,Intersections!A:G,7,FALSE)","v":33100},10,5,{"$f":"_xlfn.IFS(VLOOKUP(F134,Intersections!A:H,8,FALSE)<=0.7,$B$30,VLOOKUP(F134,Intersections!A:H,8,FALSE)<=2,$B$31,TRUE,0)","v":10},{"$f":"_xlfn.IFS(VLOOKUP(F134,Intersections!A:D,4,FALSE)=\"Urban\",$B$30,TRUE,0)","v":10}]
[null,null,null,null,null,"I-235 & 50th St",{"$f":"COUNTIF('WWD Crashes'!C:C,F135)","v":0},{"$f":"COUNTIFS('Non-Crash Events'!B:B,F135,'Non-Crash Events'!R:R,\">0\")","v":1},45,null,null,null,null,null,null,null,null,null,null,null,null,null,null,null,null,null,{"$f":"SUMIFS('WWD Crashes'!G:G,'WWD Crashes'!C:C,F135)","v":0},{"$f":"_xlfn.IFS(AA135<0.125,$B$3,AA135<0.25,$B$4,AA135<0.5,$B$5,AA135<0.99,$B$6,AA135<1.5,$B$7,TRUE,$B$8)+$B$9*SUMIFS('WWD Crashes'!G:G,'WWD Crashes'!C:C,F135,'WWD Crashes'!L:L,\">0\")++$B$10*SUMIFS('WWD Crashes'!G:G,'WWD Crashes'!C:C,F135,'WWD Crashes'!M:M,\">0\")","v":0},{"$f":"MIN($B$16*SUMIF('Non-Crash Events'!B:B,F135,'Non-Crash Events'!R:R),50)","v":10},{"$f":"IF(VLOOKUP(F135,Intersections!A:E,5,FALSE)=\"Unique\",$B$22,IF(VLOOKUP(F135,Intersections!A:E,5,FALSE)=\"Split\",$B$23,0))","v":0},{"$f":"VLOOKUP(F135,Intersections!A:F,6,FALSE)","v":104900},10,{"$f":"VLOOKUP(F135,Intersections!A:G,7,FALSE)","v":21000},10,5,{"$f":"_xlfn.IFS(VLOOKUP(F135,Intersections!A:H,8,FALSE)<=0.7,$B$30,VLOOKUP(F135,Intersections!A:H,8,FALSE)<=2,$B$31,TRUE,0)","v":10},{"$f":"_xlfn.IFS(VLOOKUP(F135,Intersections!A:D,4,FALSE)=\"Urban\",$B$30,TRUE,0)","v":10}]
[null,null,null,null,null,"I-29 & IA-141",{"$f":"COUNTIF('WWD Crashes'!C:C,F136)","v":1},{"$f":"COUNTIFS('Non-Crash Events'!B:B,F136,'Non-Crash Events'!R:R,\">0\")","v":1},45,null,null,null,null,null,null,null,null,null,null,null,null,null,null,null,null,null,{"$f":"SUMIFS('WWD Crashes'!G:G,'WWD Crashes'!C:C,F136)","v":0.99},{"$f":"_xlfn.IFS(AA136<0.125,$B$3,AA136<0.25,$B$4,AA136<0.5,$B$5,AA136<0.99,$B$6,AA136<1.5,$B$7,TRUE,$B$8)+$B$9*SUMIFS('WWD Crashes'!G:G,'WWD Crashes'!C:C,F136,'WWD Crashes'!L:L,\">0\")++$B$10*SUMIFS('WWD Crashes'!G:G,'WWD Crashes'!C:C,F136,'WWD Crashes'!M:M,\">0\")","v":20},{"$f":"MIN($B$16*SUMIF('Non-Crash Events'!B:B,F136,'Non-Crash Events'!R:R),50)","v":5},{"$f":"IF(VLOOKUP(F136,Intersections!A:E,5,FALSE)=\"Unique\",$B$22,IF(VLOOKUP(F136,Intersections!A:E,5,FALSE)=\"Split\",$B$23,0))","v":0},{"$f":"VLOOKUP(F136,Intersections!A:F,6,FALSE)","v":18400},5,{"$f":"VLOOKUP(F136,Intersections!A:G,7,FALSE)","v":3560},5,0,{"$f":"_xlfn.IFS(VLOOKUP(F136,Intersections!A:H,8,FALSE)<=0.7,$B$30,VLOOKUP(F136,Intersections!A:H,8,FALSE)<=2,$B$31,TRUE,0)","v":10},{"$f":"_xlfn.IFS(VLOOKUP(F136,Intersections!A:D,4,FALSE)=\"Urban\",$B$30,TRUE,0)","v":0}]
[null,null,null,null,null,"I-380 SE RAMP & 54 ST TRL",{"$f":"COUNTIF('WWD Crashes'!C:C,F137)","v":1},{"$f":"COUNTIFS('Non-Crash Events'!B:B,F137,'Non-Crash Events'!R:R,\">0\")","v":0},44.75,null,null,null,null,null,null,null,null,null,null,null,null,null,null,null,null,null,{"$f":"SUMIFS('WWD Crashes'!G:G,'WWD Crashes'!C:C,F137)","v":0.25},{"$f":"_xlfn.IFS(AA137<0.125,$B$3,AA137<0.25,$B$4,AA137<0.5,$B$5,AA137<0.99,$B$6,AA137<1.5,$B$7,TRUE,$B$8)+$B$9*SUMIFS('WWD Crashes'!G:G,'WWD Crashes'!C:C,F137,'WWD Crashes'!L:L,\">0\")++$B$10*SUMIFS('WWD Crashes'!G:G,'WWD Crashes'!C:C,F137,'WWD Crashes'!M:M,\">0\")","v":28.75},{"$f":"MIN($B$16*SUMIF('Non-Crash Events'!B:B,F137,'Non-Crash Events'!R:R),50)","v":0},{"$f":"IF(VLOOKUP(F137,Intersections!A:E,5,FALSE)=\"Unique\",$B$22,IF(VLOOKUP(F137,Intersections!A:E,5,FALSE)=\"Split\",$B$23,0))","v":0},{"$f":"VLOOKUP(F137,Intersections!A:F,6,FALSE)","v":24100},6,{"$f":"VLOOKUP(F137,Intersections!A:G,7,FALSE)","v":4490},5,0,{"$f":"_xlfn.IFS(VLOOKUP(F137,Intersections!A:H,8,FALSE)<=0.7,$B$30,VLOOKUP(F137,Intersections!A:H,8,FALSE)<=2,$B$31,TRUE,0)","v":5},{"$f":"_xlfn.IFS(VLOOKUP(F137,Intersections!A:D,4,FALSE)=\"Urban\",$B$30,TRUE,0)","v":0}]
[null,null,null,null,null,"I-29 & 35th St",{"$f":"COUNTIF('WWD Crashes'!C:C,F138)","v":0},{"$f":"COUNTIFS('Non-Crash Events'!B:B,F138,'Non-Crash Events'!R:R,\">0\")","v":0},44,null,null,null,null,null,null,null,null,null,null,null,null,null,null,null,null,null,{"$f":"SUMIFS('WWD Crashes'!G:G,'WWD Crashes'!C:C,F138)","v":0},{"$f":"_xlfn.IFS(AA138<0.125,$B$3,AA138<0.25,$B$4,AA138<0.5,$B$5,AA138<0.99,$B$6,AA138<1.5,$B$7,TRUE,$B$8)+$B$9*SUMIFS('WWD Crashes'!G:G,'WWD Crashes'!C:C,F138,'WWD Crashes'!L:L,\">0\")++$B$10*SUMIFS('WWD Crashes'!G:G,'WWD Crashes'!C:C,F138,'WWD Crashes'!M:M,\">0\")","v":0},{"$f":"MIN($B$16*SUMIF('Non-Crash Events'!B:B,F138,'Non-Crash Events'!R:R),50)","v":0},{"$f":"IF(VLOOKUP(F138,Intersections!A:E,5,FALSE)=\"Unique\",$B$22,IF(VLOOKUP(F138,Intersections!A:E,5,FALSE)=\"Split\",$B$23,0))","v":25},{"$f":"VLOOKUP(F138,Intersections!A:F,6,FALSE)","v":22700},6,{"$f":"VLOOKUP(F138,Intersections!A:G,7,FALSE)","v":2180},3,0,{"$f":"_xlfn.IFS(VLOOKUP(F138,Intersections!A:H,8,FALSE)<=0.7,$B$30,VLOOKUP(F138,Intersections!A:H,8,FALSE)<=2,$B$31,TRUE,0)","v":10},{"$f":"_xlfn.IFS(VLOOKUP(F138,Intersections!A:D,4,FALSE)=\"Urban\",$B$30,TRUE,0)","v":10}]
[null,null,null,null,null,"US-218 & Greenhill Rd",{"$f":"COUNTIF('WWD Crashes'!C:C,F139)","v":2},{"$f":"COUNTIFS('Non-Crash Events'!B:B,F139,'Non-Crash Events'!R:R,\">0\")","v":0},44,null,null,null,null,null,null,null,null,null,null,null,null,null,null,null,null,null,{"$f":"SUMIFS('WWD Crashes'!G:G,'WWD Crashes'!C:C,F139)","v":2},{"$f":"_xlfn.IFS(AA139<0.125,$B$3,AA139<0.25,$B$4,AA139<0.5,$B$5,AA139<0.99,$B$6,AA139<1.5,$B$7,TRUE,$B$8)+$B$9*SUMIFS('WWD Crashes'!G:G,'WWD Crashes'!C:C,F139,'WWD Crashes'!L:L,\">0\")++$B$10*SUMIFS('WWD Crashes'!G:G,'WWD Crashes'!C:C,F139,'WWD Crashes'!M:M,\">0\")","v":25},{"$f":"MIN($B$16*SUMIF('Non-Crash Events'!B:B,F139,'Non-Crash Events'!R:R),50)","v":0},{"$f":"IF(VLOOKUP(F139,Intersections!A:E,5,FALSE)=\"Unique\",$B$22,IF(VLOOKUP(F139,Intersections!A:E,5,FALSE)=\"Split\",$B$23,0))","v":0},{"$f":"VLOOKUP(F139,Intersections!A:F,6,FALSE)","v":27500},7,{"$f":"VLOOKUP(F139,Intersections!A:G,7,FALSE)","v":6900},7,0,{"$f":"_xlfn.IFS(VLOOKUP(F139,Intersections!A:H,8,FALSE)<=0.7,$B$30,VLOOKUP(F139,Intersections!A:H,8,FALSE)<=2,$B$31,TRUE,0)","v":5},{"$f":"_xlfn.IFS(VLOOKUP(F139,Intersections!A:D,4,FALSE)=\"Urban\",$B$30,TRUE,0)","v":10}]
[null,null,null,null,null,"I-80 SW RAMP/LOOP & MIDDLE RD",{"$f":"COUNTIF('WWD Crashes'!C:C,F140)","v":2},{"$f":"COUNTIFS('Non-Crash Events'!B:B,F140,'Non-Crash Events'!R:R,\">0\")","v":0},44,null,null,null,null,null,null,null,null,null,null,null,null,null,null,null,null,null,{"$f":"SUMIFS('WWD Crashes'!G:G,'WWD Crashes'!C:C,F140)","v":1.5},{"$f":"_xlfn.IFS(AA140<0.125,$B$3,AA140<0.25,$B$4,AA140<0.5,$B$5,AA140<0.99,$B$6,AA140<1.5,$B$7,TRUE,$B$8)+$B$9*SUMIFS('WWD Crashes'!G:G,'WWD Crashes'!C:C,F140,'WWD Crashes'!L:L,\">0\")++$B$10*SUMIFS('WWD Crashes'!G:G,'WWD Crashes'!C:C,F140,'WWD Crashes'!M:M,\">0\")","v":25},{"$f":"MIN($B$16*SUMIF('Non-Crash Events'!B:B,F140,'Non-Crash Events'!R:R),50)","v":0},{"$f":"IF(VLOOKUP(F140,Intersections!A:E,5,FALSE)=\"Unique\",$B$22,IF(VLOOKUP(F140,Intersections!A:E,5,FALSE)=\"Split\",$B$23,0))","v":0},{"$f":"VLOOKUP(F140,Intersections!A:F,6,FALSE)","v":34400},8,{"$f":"VLOOKUP(F140,Intersections!A:G,7,FALSE)","v":6400},6,0,{"$f":"_xlfn.IFS(VLOOKUP(F140,Intersections!A:H,8,FALSE)<=0.7,$B$30,VLOOKUP(F140,Intersections!A:H,8,FALSE)<=2,$B$31,TRUE,0)","v":5},{"$f":"_xlfn.IFS(VLOOKUP(F140,Intersections!A:D,4,FALSE)=\"Urban\",$B$30,TRUE,0)","v":10}]
[null,null,null,null,null,"I-80 & US-6",{"$f":"COUNTIF('WWD Crashes'!C:C,F141)","v":4},{"$f":"COUNTIFS('Non-Crash Events'!B:B,F141,'Non-Crash Events'!R:R,\">0\")","v":0},44,null,null,null,null,null,null,null,null,null,null,null,null,null,null,null,null,null,{"$f":"SUMIFS('WWD Crashes'!G:G,'WWD Crashes'!C:C,F141)","v":3.48},{"$f":"_xlfn.IFS(AA141<0.125,$B$3,AA141<0.25,$B$4,AA141<0.5,$B$5,AA141<0.99,$B$6,AA141<1.5,$B$7,TRUE,$B$8)+$B$9*SUMIFS('WWD Crashes'!G:G,'WWD Crashes'!C:C,F141,'WWD Crashes'!L:L,\">0\")++$B$10*SUMIFS('WWD Crashes'!G:G,'WWD Crashes'!C:C,F141,'WWD Crashes'!M:M,\">0\")","v":25},{"$f":"MIN($B$16*SUMIF('Non-Crash Events'!B:B,F141,'Non-Crash Events'!R:R),50)","v":0},{"$f":"IF(VLOOKUP(F141,Intersections!A:E,5,FALSE)=\"Unique\",$B$22,IF(VLOOKUP(F141,Intersections!A:E,5,FALSE)=\"Split\",$B$23,0))","v":0},{"$f":"VLOOKUP(F141,Intersections!A:F,6,FALSE)","v":29500},7,{"$f":"VLOOKUP(F141,Intersections!A:G,7,FALSE)","v":7900},7,0,{"$f":"_xlfn.IFS(VLOOKUP(F141,Intersections!A:H,8,FALSE)<=0.7,$B$30,VLOOKUP(F141,Intersections!A:H,8,FALSE)<=2,$B$31,TRUE,0)","v":5},{"$f":"_xlfn.IFS(VLOOKUP(F141,Intersections!A:D,4,FALSE)=\"Urban\",$B$30,TRUE,0)","v":0}]
[null,null,null,{"$f":"HYPERLINK(\"#'Weight Based'!\"&ADDRESS(5,11),\"Jump to Details\")","v":"Jump to Details"},null,"US-61 & Blackhawk Trail Rd",{"$f":"COUNTIF('WWD Crashes'!C:C,F142)","v":1},{"$f":"COUNTIFS('Non-Crash Events'!B:B,F142,'Non-Crash Events'!R:R,\">0\")","v":0},44,null,null,null,null,null,null,null,null,null,null,null,null,null,null,null,null,null,{"$f":"SUMIFS('WWD Crashes'!G:G,'WWD Crashes'!C:C,F142)","v":1},{"$f":"_xlfn.IFS(AA142<0.125,$B$3,AA142<0.25,$B$4,AA142<0.5,$B$5,AA142<0.99,$B$6,AA142<1.5,$B$7,TRUE,$B$8)+$B$9*SUMIFS('WWD Crashes'!G:G,'WWD Crashes'!C:C,F142,'WWD Crashes'!L:L,\">0\")++$B$10*SUMIFS('WWD Crashes'!G:G,'WWD Crashes'!C:C,F142,'WWD Crashes'!M:M,\">0\")","v":20},{"$f":"MIN($B$16*SUMIF('Non-Crash Events'!B:B,F142,'Non-Crash Events'!R:R),50)","v":0},{"$f":"IF(VLOOKUP(F142,Intersections!A:E,5,FALSE)=\"Unique\",$B$22,IF(VLOOKUP(F142,Intersections!A:E,5,FALSE)=\"Split\",$B$23,0))","v":0},{"$f":"VLOOKUP(F142,Intersections!A:F,6,FALSE)","v":36500},9,{"$f":"VLOOKUP(F142,Intersections!A:G,7,FALSE)","v":3570},5,5,{"$f":"_xlfn.IFS(VLOOKUP(F142,Intersections!A:H,8,FALSE)<=0.7,$B$30,VLOOKUP(F142,Intersections!A:H,8,FALSE)<=2,$B$31,TRUE,0)","v":5},{"$f":"_xlfn.IFS(VLOOKUP(F142,Intersections!A:D,4,FALSE)=\"Urban\",$B$30,TRUE,0)","v":0}]
[null,null,null,null,null,"I-35 & 126th Ave",{"$f":"COUNTIF('WWD Crashes'!C:C,F143)","v":1},{"$f":"COUNTIFS('Non-Crash Events'!B:B,F143,'Non-Crash Events'!R:R,\">0\")","v":1},44,null,null,null,null,null,null,null,null,null,null,null,null,null,null,null,null,null,{"$f":"SUMIFS('WWD Crashes'!G:G,'WWD Crashes'!C:C,F143)","v":0.25},{"$f":"_xlfn.IFS(AA143<0.125,$B$3,AA143<0.25,$B$4,AA143<0.5,$B$5,AA143<0.99,$B$6,AA143<1.5,$B$7,TRUE,$B$8)+$B$9*SUMIFS('WWD Crashes'!G:G,'WWD Crashes'!C:C,F143,'WWD Crashes'!L:L,\">0\")++$B$10*SUMIFS('WWD Crashes'!G:G,'WWD Crashes'!C:C,F143,'WWD Crashes'!M:M,\">0\")","v":10},{"$f":"MIN($B$16*SUMIF('Non-Crash Events'!B:B,F143,'Non-Crash Events'!R:R),50)","v":10},{"$f":"IF(VLOOKUP(F143,Intersections!A:E,5,FALSE)=\"Unique\",$B$22,IF(VLOOKUP(F143,Intersections!A:E,5,FALSE)=\"Split\",$B$23,0))","v":0},{"$f":"VLOOKUP(F143,Intersections!A:F,6,FALSE)","v":45400},9,{"$f":"VLOOKUP(F143,Intersections!A:G,7,FALSE)","v":4630},5,5,{"$f":"_xlfn.IFS(VLOOKUP(F143,Intersections!A:H,8,FALSE)<=0.7,$B$30,VLOOKUP(F143,Intersections!A:H,8,FALSE)<=2,$B$31,TRUE,0)","v":5},{"$f":"_xlfn.IFS(VLOOKUP(F143,Intersections!A:D,4,FALSE)=\"Urban\",$B$30,TRUE,0)","v":0}]
[null,null,null,null,null,"US-30 NE RAMP & WILLIAMS BLVD/US-151",{"$f":"COUNTIF('WWD Crashes'!C:C,F144)","v":1},{"$f":"COUNTIFS('Non-Crash Events'!B:B,F144,'Non-Crash Events'!R:R,\">0\")","v":2},44,null,null,null,null,null,null,null,null,null,null,null,null,null,null,null,null,null,{"$f":"SUMIFS('WWD Crashes'!G:G,'WWD Crashes'!C:C,F144)","v":0.25},{"$f":"_xlfn.IFS(AA144<0.125,$B$3,AA144<0.25,$B$4,AA144<0.5,$B$5,AA144<0.99,$B$6,AA144<1.5,$B$7,TRUE,$B$8)+$B$9*SUMIFS('WWD Crashes'!G:G,'WWD Crashes'!C:C,F144,'WWD Crashes'!L:L,\">0\")++$B$10*SUMIFS('WWD Crashes'!G:G,'WWD Crashes'!C:C,F144,'WWD Crashes'!M:M,\">0\")","v":10},{"$f":"MIN($B$16*SUMIF('Non-Crash Events'!B:B,F144,'Non-Crash Events'!R:R),50)","v":10},{"$f":"IF(VLOOKUP(F144,Intersections!A:E,5,FALSE)=\"Unique\",$B$22,IF(VLOOKUP(F144,Intersections!A:E,5,FALSE)=\"Split\",$B$23,0))","v":0},{"$f":"VLOOKUP(F144,Intersections!A:F,6,FALSE)","v":20400},5,{"$f":"VLOOKUP(F144,Intersections!A:G,7,FALSE)","v":16200},9,0,{"$f":"_xlfn.IFS(VLOOKUP(F144,Intersections!A:H,8,FALSE)<=0.7,$B$30,VLOOKUP(F144,Intersections!A:H,8,FALSE)<=2,$B$31,TRUE,0)","v":10},{"$f":"_xlfn.IFS(VLOOKUP(F144,Intersections!A:D,4,FALSE)=\"Urban\",$B$30,TRUE,0)","v":10}]
[null,null,null,null,null,"IA-60 & McKinley Ave",{"$f":"COUNTIF('WWD Crashes'!C:C,F145)","v":2},{"$f":"COUNTIFS('Non-Crash Events'!B:B,F145,'Non-Crash Events'!R:R,\">0\")","v":0},43.75,null,null,null,null,null,null,null,null,null,null,null,null,null,null,null,null,null,{"$f":"SUMIFS('WWD Crashes'!G:G,'WWD Crashes'!C:C,F145)","v":0.5},{"$f":"_xlfn.IFS(AA145<0.125,$B$3,AA145<0.25,$B$4,AA145<0.5,$B$5,AA145<0.99,$B$6,AA145<1.5,$B$7,TRUE,$B$8)+$B$9*SUMIFS('WWD Crashes'!G:G,'WWD Crashes'!C:C,F145,'WWD Crashes'!L:L,\">0\")++$B$10*SUMIFS('WWD Crashes'!G:G,'WWD Crashes'!C:C,F145,'WWD Crashes'!M:M,\">0\")","v":33.75},{"$f":"MIN($B$16*SUMIF('Non-Crash Events'!B:B,F145,'Non-Crash Events'!R:R),50)","v":0},{"$f":"IF(VLOOKUP(F145,Intersections!A:E,5,FALSE)=\"Unique\",$B$22,IF(VLOOKUP(F145,Intersections!A:E,5,FALSE)=\"Split\",$B$23,0))","v":0},{"$f":"VLOOKUP(F145,Intersections!A:F,6,FALSE)","v":6400},1,{"$f":"VLOOKUP(F145,Intersections!A:G,7,FALSE)","v":2830},4,0,{"$f":"_xlfn.IFS(VLOOKUP(F145,Intersections!A:H,8,FALSE)<=0.7,$B$30,VLOOKUP(F145,Intersections!A:H,8,FALSE)<=2,$B$31,TRUE,0)","v":5},{"$f":"_xlfn.IFS(VLOOKUP(F145,Intersections!A:D,4,FALSE)=\"Urban\",$B$30,TRUE,0)","v":0}]
[null,null,null,null,null,"I-80 SE RAMP & 20 AVE",{"$f":"COUNTIF('WWD Crashes'!C:C,F146)","v":1},{"$f":"COUNTIFS('Non-Crash Events'!B:B,F146,'Non-Crash Events'!R:R,\">0\")","v":0},43.75,null,null,null,null,null,null,null,null,null,null,null,null,null,null,null,null,null,{"$f":"SUMIFS('WWD Crashes'!G:G,'WWD Crashes'!C:C,F146)","v":0.33},{"$f":"_xlfn.IFS(AA146<0.125,$B$3,AA146<0.25,$B$4,AA146<0.5,$B$5,AA146<0.99,$B$6,AA146<1.5,$B$7,TRUE,$B$8)+$B$9*SUMIFS('WWD Crashes'!G:G,'WWD Crashes'!C:C,F146,'WWD Crashes'!L:L,\">0\")++$B$10*SUMIFS('WWD Crashes'!G:G,'WWD Crashes'!C:C,F146,'WWD Crashes'!M:M,\">0\")","v":34.75},{"$f":"MIN($B$16*SUMIF('Non-Crash Events'!B:B,F146,'Non-Crash Events'!R:R),50)","v":0},{"$f":"IF(VLOOKUP(F146,Intersections!A:E,5,FALSE)=\"Unique\",$B$22,IF(VLOOKUP(F146,Intersections!A:E,5,FALSE)=\"Split\",$B$23,0))","v":0},{"$f":"VLOOKUP(F146,Intersections!A:F,6,FALSE)","v":35200},8,{"$f":"VLOOKUP(F146,Intersections!A:G,7,FALSE)","v":790},1,0,{"$f":"_xlfn.IFS(VLOOKUP(F146,Intersections!A:H,8,FALSE)<=0.7,$B$30,VLOOKUP(F146,Intersections!A:H,8,FALSE)<=2,$B$31,TRUE,0)","v":0},{"$f":"_xlfn.IFS(VLOOKUP(F146,Intersections!A:D,4,FALSE)=\"Urban\",$B$30,TRUE,0)","v":0}]
[null,null,null,null,null,"IA-376 & Floyd Blvd & 46th St",{"$f":"COUNTIF('WWD Crashes'!C:C,F147)","v":0},{"$f":"COUNTIFS('Non-Crash Events'!B:B,F147,'Non-Crash Events'!R:R,\">0\")","v":0},43,null,null,null,null,null,null,null,null,null,null,null,null,null,null,null,null,null,{"$f":"SUMIFS('WWD Crashes'!G:G,'WWD Crashes'!C:C,F147)","v":0},{"$f":"_xlfn.IFS(AA147<0.125,$B$3,AA147<0.25,$B$4,AA147<0.5,$B$5,AA147<0.99,$B$6,AA147<1.5,$B$7,TRUE,$B$8)+$B$9*SUMIFS('WWD Crashes'!G:G,'WWD Crashes'!C:C,F147,'WWD Crashes'!L:L,\">0\")++$B$10*SUMIFS('WWD Crashes'!G:G,'WWD Crashes'!C:C,F147,'WWD Crashes'!M:M,\">0\")","v":0},{"$f":"MIN($B$16*SUMIF('Non-Crash Events'!B:B,F147,'Non-Crash Events'!R:R),50)","v":0},{"$f":"IF(VLOOKUP(F147,Intersections!A:E,5,FALSE)=\"Unique\",$B$22,IF(VLOOKUP(F147,Intersections!A:E,5,FALSE)=\"Split\",$B$23,0))","v":25},{"$f":"VLOOKUP(F147,Intersections!A:F,6,FALSE)","v":8200},2,{"$f":"VLOOKUP(F147,Intersections!A:G,7,FALSE)","v":4730},6,0,{"$f":"_xlfn.IFS(VLOOKUP(F147,Intersections!A:H,8,FALSE)<=0.7,$B$30,VLOOKUP(F147,Intersections!A:H,8,FALSE)<=2,$B$31,TRUE,0)","v":10},{"$f":"_xlfn.IFS(VLOOKUP(F147,Intersections!A:D,4,FALSE)=\"Urban\",$B$30,TRUE,0)","v":10}]
[null,null,null,null,null,"I 80 E & NE 72ND ST/1ST AVE N",{"$f":"COUNTIF('WWD Crashes'!C:C,F148)","v":1},{"$f":"COUNTIFS('Non-Crash Events'!B:B,F148,'Non-Crash Events'!R:R,\">0\")","v":0},43,null,null,null,null,null,null,null,null,null,null,null,null,null,null,null,null,null,{"$f":"SUMIFS('WWD Crashes'!G:G,'WWD Crashes'!C:C,F148)","v":0.25},{"$f":"_xlfn.IFS(AA148<0.125,$B$3,AA148<0.25,$B$4,AA148<0.5,$B$5,AA148<0.99,$B$6,AA148<1.5,$B$7,TRUE,$B$8)+$B$9*SUMIFS('WWD Crashes'!G:G,'WWD Crashes'!C:C,F148,'WWD Crashes'!L:L,\">0\")++$B$10*SUMIFS('WWD Crashes'!G:G,'WWD Crashes'!C:C,F148,'WWD Crashes'!M:M,\">0\")","v":10},{"$f":"MIN($B$16*SUMIF('Non-Crash Events'!B:B,F148,'Non-Crash Events'!R:R),50)","v":0},{"$f":"IF(VLOOKUP(F148,Intersections!A:E,5,FALSE)=\"Unique\",$B$22,IF(VLOOKUP(F148,Intersections!A:E,5,FALSE)=\"Split\",$B$23,0))","v":0},{"$f":"VLOOKUP(F148,Intersections!A:F,6,FALSE)","v":45100},9,{"$f":"VLOOKUP(F148,Intersections!A:G,7,FALSE)","v":11000},9,5,{"$f":"_xlfn.IFS(VLOOKUP(F148,Intersections!A:H,8,FALSE)<=0.7,$B$30,VLOOKUP(F148,Intersections!A:H,8,FALSE)<=2,$B$31,TRUE,0)","v":10},{"$f":"_xlfn.IFS(VLOOKUP(F148,Intersections!A:D,4,FALSE)=\"Urban\",$B$30,TRUE,0)","v":10}]
[null,null,null,null,null,"I-29 & 25th St",{"$f":"COUNTIF('WWD Crashes'!C:C,F149)","v":1},{"$f":"COUNTIFS('Non-Crash Events'!B:B,F149,'Non-Crash Events'!R:R,\">0\")","v":0},42,null,null,null,null,null,null,null,null,null,null,null,null,null,null,null,null,null,{"$f":"SUMIFS('WWD Crashes'!G:G,'WWD Crashes'!C:C,F149)","v":0.2},{"$f":"_xlfn.IFS(AA149<0.125,$B$3,AA149<0.25,$B$4,AA149<0.5,$B$5,AA149<0.99,$B$6,AA149<1.5,$B$7,TRUE,$B$8)+$B$9*SUMIFS('WWD Crashes'!G:G,'WWD Crashes'!C:C,F149,'WWD Crashes'!L:L,\">0\")++$B$10*SUMIFS('WWD Crashes'!G:G,'WWD Crashes'!C:C,F149,'WWD Crashes'!M:M,\">0\")","v":20},{"$f":"MIN($B$16*SUMIF('Non-Crash Events'!B:B,F149,'Non-Crash Events'!R:R),50)","v":0},{"$f":"IF(VLOOKUP(F149,Intersections!A:E,5,FALSE)=\"Unique\",$B$22,IF(VLOOKUP(F149,Intersections!A:E,5,FALSE)=\"Split\",$B$23,0))","v":0},{"$f":"VLOOKUP(F149,Intersections!A:F,6,FALSE)","v":19700},5,{"$f":"VLOOKUP(F149,Intersections!A:G,7,FALSE)","v":8000},7,0,{"$f":"_xlfn.IFS(VLOOKUP(F149,Intersections!A:H,8,FALSE)<=0.7,$B$30,VLOOKUP(F149,Intersections!A:H,8,FALSE)<=2,$B$31,TRUE,0)","v":10},{"$f":"_xlfn.IFS(VLOOKUP(F149,Intersections!A:D,4,FALSE)=\"Urban\",$B$30,TRUE,0)","v":10}]
[null,null,null,null,null,"US-151 & Grandview Ave",{"$f":"COUNTIF('WWD Crashes'!C:C,F150)","v":1},{"$f":"COUNTIFS('Non-Crash Events'!B:B,F150,'Non-Crash Events'!R:R,\">0\")","v":0},42,null,null,null,null,null,null,null,null,null,null,null,null,null,null,null,null,null,{"$f":"SUMIFS('WWD Crashes'!G:G,'WWD Crashes'!C:C,F150)","v":0.99},{"$f":"_xlfn.IFS(AA150<0.125,$B$3,AA150<0.25,$B$4,AA150<0.5,$B$5,AA150<0.99,$B$6,AA150<1.5,$B$7,TRUE,$B$8)+$B$9*SUMIFS('WWD Crashes'!G:G,'WWD Crashes'!C:C,F150,'WWD Crashes'!L:L,\">0\")++$B$10*SUMIFS('WWD Crashes'!G:G,'WWD Crashes'!C:C,F150,'WWD Crashes'!M:M,\">0\")","v":20},{"$f":"MIN($B$16*SUMIF('Non-Crash Events'!B:B,F150,'Non-Crash Events'!R:R),50)","v":0},{"$f":"IF(VLOOKUP(F150,Intersections!A:E,5,FALSE)=\"Unique\",$B$22,IF(VLOOKUP(F150,Intersections!A:E,5,FALSE)=\"Split\",$B$23,0))","v":0},{"$f":"VLOOKUP(F150,Intersections!A:F,6,FALSE)","v":19100},5,{"$f":"VLOOKUP(F150,Intersections!A:G,7,FALSE)","v":7500},7,0,{"$f":"_xlfn.IFS(VLOOKUP(F150,Intersections!A:H,8,FALSE)<=0.7,$B$30,VLOOKUP(F150,Intersections!A:H,8,FALSE)<=2,$B$31,TRUE,0)","v":10},{"$f":"_xlfn.IFS(VLOOKUP(F150,Intersections!A:D,4,FALSE)=\"Urban\",$B$30,TRUE,0)","v":10}]
[null,null,null,null,null,"IA-163 & IA-92",{"$f":"COUNTIF('WWD Crashes'!C:C,F151)","v":1},{"$f":"COUNTIFS('Non-Crash Events'!B:B,F151,'Non-Crash Events'!R:R,\">0\")","v":0},42,null,null,null,null,null,null,null,null,null,null,null,null,null,null,null,null,null,{"$f":"SUMIFS('WWD Crashes'!G:G,'WWD Crashes'!C:C,F151)","v":0.99},{"$f":"_xlfn.IFS(AA151<0.125,$B$3,AA151<0.25,$B$4,AA151<0.5,$B$5,AA151<0.99,$B$6,AA151<1.5,$B$7,TRUE,$B$8)+$B$9*SUMIFS('WWD Crashes'!G:G,'WWD Crashes'!C:C,F151,'WWD Crashes'!L:L,\">0\")++$B$10*SUMIFS('WWD Crashes'!G:G,'WWD Crashes'!C:C,F151,'WWD Crashes'!M:M,\">0\")","v":20},{"$f":"MIN($B$16*SUMIF('Non-Crash Events'!B:B,F151,'Non-Crash Events'!R:R),50)","v":0},{"$f":"IF(VLOOKUP(F151,Intersections!A:E,5,FALSE)=\"Unique\",$B$22,IF(VLOOKUP(F151,Intersections!A:E,5,FALSE)=\"Split\",$B$23,0))","v":0},{"$f":"VLOOKUP(F151,Intersections!A:F,6,FALSE)","v":10600},3,{"$f":"VLOOKUP(F151,Intersections!A:G,7,FALSE)","v":11000},9,0,{"$f":"_xlfn.IFS(VLOOKUP(F151,Intersections!A:H,8,FALSE)<=0.7,$B$30,VLOOKUP(F151,Intersections!A:H,8,FALSE)<=2,$B$31,TRUE,0)","v":10},{"$f":"_xlfn.IFS(VLOOKUP(F151,Intersections!A:D,4,FALSE)=\"Urban\",$B$30,TRUE,0)","v":0}]
[null,null,null,null,null,"I 80 W & I 80 W TO IRELAND AVE N",{"$f":"COUNTIF('WWD Crashes'!C:C,F152)","v":0},{"$f":"COUNTIFS('Non-Crash Events'!B:B,F152,'Non-Crash Events'!R:R,\">0\")","v":2},42,null,null,null,null,null,null,null,null,null,null,null,null,null,null,null,null,null,{"$f":"SUMIFS('WWD Crashes'!G:G,'WWD Crashes'!C:C,F152)","v":0},{"$f":"_xlfn.IFS(AA152<0.125,$B$3,AA152<0.25,$B$4,AA152<0.5,$B$5,AA152<0.99,$B$6,AA152<1.5,$B$7,TRUE,$B$8)+$B$9*SUMIFS('WWD Crashes'!G:G,'WWD Crashes'!C:C,F152,'WWD Crashes'!L:L,\">0\")++$B$10*SUMIFS('WWD Crashes'!G:G,'WWD Crashes'!C:C,F152,'WWD Crashes'!M:M,\">0\")","v":0},{"$f":"MIN($B$16*SUMIF('Non-Crash Events'!B:B,F152,'Non-Crash Events'!R:R),50)","v":13},{"$f":"IF(VLOOKUP(F152,Intersections!A:E,5,FALSE)=\"Unique\",$B$22,IF(VLOOKUP(F152,Intersections!A:E,5,FALSE)=\"Split\",$B$23,0))","v":0},{"$f":"VLOOKUP(F152,Intersections!A:F,6,FALSE)","v":37700},9,{"$f":"VLOOKUP(F152,Intersections!A:G,7,FALSE)","v":3690},5,5,{"$f":"_xlfn.IFS(VLOOKUP(F152,Intersections!A:H,8,FALSE)<=0.7,$B$30,VLOOKUP(F152,Intersections!A:H,8,FALSE)<=2,$B$31,TRUE,0)","v":10},{"$f":"_xlfn.IFS(VLOOKUP(F152,Intersections!A:D,4,FALSE)=\"Urban\",$B$30,TRUE,0)","v":0}]
[null,null,null,null,null,"I 80W & I 80 W TO ADAIR-MADISON AVE, S",{"$f":"COUNTIF('WWD Crashes'!C:C,F153)","v":1},{"$f":"COUNTIFS('Non-Crash Events'!B:B,F153,'Non-Crash Events'!R:R,\">0\")","v":0},41.75,null,null,null,null,null,null,null,null,null,null,null,null,null,null,null,null,null,{"$f":"SUMIFS('WWD Crashes'!G:G,'WWD Crashes'!C:C,F153)","v":0.25},{"$f":"_xlfn.IFS(AA153<0.125,$B$3,AA153<0.25,$B$4,AA153<0.5,$B$5,AA153<0.99,$B$6,AA153<1.5,$B$7,TRUE,$B$8)+$B$9*SUMIFS('WWD Crashes'!G:G,'WWD Crashes'!C:C,F153,'WWD Crashes'!L:L,\">0\")++$B$10*SUMIFS('WWD Crashes'!G:G,'WWD Crashes'!C:C,F153,'WWD Crashes'!M:M,\">0\")","v":28.75},{"$f":"MIN($B$16*SUMIF('Non-Crash Events'!B:B,F153,'Non-Crash Events'!R:R),50)","v":0},{"$f":"IF(VLOOKUP(F153,Intersections!A:E,5,FALSE)=\"Unique\",$B$22,IF(VLOOKUP(F153,Intersections!A:E,5,FALSE)=\"Split\",$B$23,0))","v":0},{"$f":"VLOOKUP(F153,Intersections!A:F,6,FALSE)","v":27100},7,{"$f":"VLOOKUP(F153,Intersections!A:G,7,FALSE)","v":320},1,0,{"$f":"_xlfn.IFS(VLOOKUP(F153,Intersections!A:H,8,FALSE)<=0.7,$B$30,VLOOKUP(F153,Intersections!A:H,8,FALSE)<=2,$B$31,TRUE,0)","v":5},{"$f":"_xlfn.IFS(VLOOKUP(F153,Intersections!A:D,4,FALSE)=\"Urban\",$B$30,TRUE,0)","v":0}]
[null,null,null,null,null,"US-75 & US-20",{"$f":"COUNTIF('WWD Crashes'!C:C,F154)","v":2},{"$f":"COUNTIFS('Non-Crash Events'!B:B,F154,'Non-Crash Events'!R:R,\">0\")","v":0},41,null,null,null,null,null,null,null,null,null,null,null,null,null,null,null,null,null,{"$f":"SUMIFS('WWD Crashes'!G:G,'WWD Crashes'!C:C,F154)","v":2},{"$f":"_xlfn.IFS(AA154<0.125,$B$3,AA154<0.25,$B$4,AA154<0.5,$B$5,AA154<0.99,$B$6,AA154<1.5,$B$7,TRUE,$B$8)+$B$9*SUMIFS('WWD Crashes'!G:G,'WWD Crashes'!C:C,F154,'WWD Crashes'!L:L,\">0\")++$B$10*SUMIFS('WWD Crashes'!G:G,'WWD Crashes'!C:C,F154,'WWD Crashes'!M:M,\">0\")","v":25},{"$f":"MIN($B$16*SUMIF('Non-Crash Events'!B:B,F154,'Non-Crash Events'!R:R),50)","v":0},{"$f":"IF(VLOOKUP(F154,Intersections!A:E,5,FALSE)=\"Unique\",$B$22,IF(VLOOKUP(F154,Intersections!A:E,5,FALSE)=\"Split\",$B$23,0))","v":0},{"$f":"VLOOKUP(F154,Intersections!A:F,6,FALSE)","v":27300},7,{"$f":"VLOOKUP(F154,Intersections!A:G,7,FALSE)","v":11900},9,0,{"$f":"_xlfn.IFS(VLOOKUP(F154,Intersections!A:H,8,FALSE)<=0.7,$B$30,VLOOKUP(F154,Intersections!A:H,8,FALSE)<=2,$B$31,TRUE,0)","v":0},{"$f":"_xlfn.IFS(VLOOKUP(F154,Intersections!A:D,4,FALSE)=\"Urban\",$B$30,TRUE,0)","v":10}]
[null,null,null,null,null,"I-380 & 120th St",{"$f":"COUNTIF('WWD Crashes'!C:C,F155)","v":0},{"$f":"COUNTIFS('Non-Crash Events'!B:B,F155,'Non-Crash Events'!R:R,\">0\")","v":1},40.9,null,null,null,null,null,null,null,null,null,null,null,null,null,null,null,null,null,{"$f":"SUMIFS('WWD Crashes'!G:G,'WWD Crashes'!C:C,F155)","v":0},{"$f":"_xlfn.IFS(AA155<0.125,$B$3,AA155<0.25,$B$4,AA155<0.5,$B$5,AA155<0.99,$B$6,AA155<1.5,$B$7,TRUE,$B$8)+$B$9*SUMIFS('WWD Crashes'!G:G,'WWD Crashes'!C:C,F155,'WWD Crashes'!L:L,\">0\")++$B$10*SUMIFS('WWD Crashes'!G:G,'WWD Crashes'!C:C,F155,'WWD Crashes'!M:M,\">0\")","v":0},{"$f":"MIN($B$16*SUMIF('Non-Crash Events'!B:B,F155,'Non-Crash Events'!R:R),50)","v":9.9},{"$f":"IF(VLOOKUP(F155,Intersections!A:E,5,FALSE)=\"Unique\",$B$22,IF(VLOOKUP(F155,Intersections!A:E,5,FALSE)=\"Split\",$B$23,0))","v":0},{"$f":"VLOOKUP(F155,Intersections!A:F,6,FALSE)","v":57700},9,{"$f":"VLOOKUP(F155,Intersections!A:G,7,FALSE)","v":7000},7,5,{"$f":"_xlfn.IFS(VLOOKUP(F155,Intersections!A:H,8,FALSE)<=0.7,$B$30,VLOOKUP(F155,Intersections!A:H,8,FALSE)<=2,$B$31,TRUE,0)","v":10},{"$f":"_xlfn.IFS(VLOOKUP(F155,Intersections!A:D,4,FALSE)=\"Urban\",$B$30,TRUE,0)","v":0}]
[null,null,null,null,null,"US-30 & US-65",{"$f":"COUNTIF('WWD Crashes'!C:C,F156)","v":0},{"$f":"COUNTIFS('Non-Crash Events'!B:B,F156,'Non-Crash Events'!R:R,\">0\")","v":5},44.1,null,null,null,null,null,null,null,null,null,null,null,null,null,null,null,null,null,{"$f":"SUMIFS('WWD Crashes'!G:G,'WWD Crashes'!C:C,F156)","v":0},{"$f":"_xlfn.IFS(AA156<0.125,$B$3,AA156<0.25,$B$4,AA156<0.5,$B$5,AA156<0.99,$B$6,AA156<1.5,$B$7,TRUE,$B$8)+$B$9*SUMIFS('WWD Crashes'!G:G,'WWD Crashes'!C:C,F156,'WWD Crashes'!L:L,\">0\")++$B$10*SUMIFS('WWD Crashes'!G:G,'WWD Crashes'!C:C,F156,'WWD Crashes'!M:M,\">0\")","v":0},{"$f":"MIN($B$16*SUMIF('Non-Crash Events'!B:B,F156,'Non-Crash Events'!R:R),50)","v":29.1},{"$f":"IF(VLOOKUP(F156,Intersections!A:E,5,FALSE)=\"Unique\",$B$22,IF(VLOOKUP(F156,Intersections!A:E,5,FALSE)=\"Split\",$B$23,0))","v":0},{"$f":"VLOOKUP(F156,Intersections!A:F,6,FALSE)","v":8500},2,{"$f":"VLOOKUP(F156,Intersections!A:G,7,FALSE)","v":2240},3,0,{"$f":"_xlfn.IFS(VLOOKUP(F156,Intersections!A:H,8,FALSE)<=0.7,$B$30,VLOOKUP(F156,Intersections!A:H,8,FALSE)<=2,$B$31,TRUE,0)","v":10},{"$f":"_xlfn.IFS(VLOOKUP(F156,Intersections!A:D,4,FALSE)=\"Urban\",$B$30,TRUE,0)","v":0}]
[null,null,null,null,null,"IA 60 NW  RAMP & NEST AVE",{"$f":"COUNTIF('WWD Crashes'!C:C,F157)","v":2},{"$f":"COUNTIFS('Non-Crash Events'!B:B,F157,'Non-Crash Events'!R:R,\">0\")","v":0},40.75,null,null,null,null,null,null,null,null,null,null,null,null,null,null,null,null,null,{"$f":"SUMIFS('WWD Crashes'!G:G,'WWD Crashes'!C:C,F157)","v":0.5},{"$f":"_xlfn.IFS(AA157<0.125,$B$3,AA157<0.25,$B$4,AA157<0.5,$B$5,AA157<0.99,$B$6,AA157<1.5,$B$7,TRUE,$B$8)+$B$9*SUMIFS('WWD Crashes'!G:G,'WWD Crashes'!C:C,F157,'WWD Crashes'!L:L,\">0\")++$B$10*SUMIFS('WWD Crashes'!G:G,'WWD Crashes'!C:C,F157,'WWD Crashes'!M:M,\">0\")","v":33.75},{"$f":"MIN($B$16*SUMIF('Non-Crash Events'!B:B,F157,'Non-Crash Events'!R:R),50)","v":0},{"$f":"IF(VLOOKUP(F157,Intersections!A:E,5,FALSE)=\"Unique\",$B$22,IF(VLOOKUP(F157,Intersections!A:E,5,FALSE)=\"Split\",$B$23,0))","v":0},{"$f":"VLOOKUP(F157,Intersections!A:F,6,FALSE)","v":4010},1,{"$f":"VLOOKUP(F157,Intersections!A:G,7,FALSE)","v":380},1,0,{"$f":"_xlfn.IFS(VLOOKUP(F157,Intersections!A:H,8,FALSE)<=0.7,$B$30,VLOOKUP(F157,Intersections!A:H,8,FALSE)<=2,$B$31,TRUE,0)","v":5},{"$f":"_xlfn.IFS(VLOOKUP(F157,Intersections!A:D,4,FALSE)=\"Urban\",$B$30,TRUE,0)","v":0}]
[null,null,null,null,null,"US-34 & Vine St",{"$f":"COUNTIF('WWD Crashes'!C:C,F158)","v":2},{"$f":"COUNTIFS('Non-Crash Events'!B:B,F158,'Non-Crash Events'!R:R,\">0\")","v":0},40,null,null,null,null,null,null,null,null,null,null,null,null,null,null,null,null,null,{"$f":"SUMIFS('WWD Crashes'!G:G,'WWD Crashes'!C:C,F158)","v":1.5},{"$f":"_xlfn.IFS(AA158<0.125,$B$3,AA158<0.25,$B$4,AA158<0.5,$B$5,AA158<0.99,$B$6,AA158<1.5,$B$7,TRUE,$B$8)+$B$9*SUMIFS('WWD Crashes'!G:G,'WWD Crashes'!C:C,F158,'WWD Crashes'!L:L,\">0\")++$B$10*SUMIFS('WWD Crashes'!G:G,'WWD Crashes'!C:C,F158,'WWD Crashes'!M:M,\">0\")","v":25},{"$f":"MIN($B$16*SUMIF('Non-Crash Events'!B:B,F158,'Non-Crash Events'!R:R),50)","v":0},{"$f":"IF(VLOOKUP(F158,Intersections!A:E,5,FALSE)=\"Unique\",$B$22,IF(VLOOKUP(F158,Intersections!A:E,5,FALSE)=\"Split\",$B$23,0))","v":0},{"$f":"VLOOKUP(F158,Intersections!A:F,6,FALSE)","v":11200},3,{"$f":"VLOOKUP(F158,Intersections!A:G,7,FALSE)","v":1170},2,0,{"$f":"_xlfn.IFS(VLOOKUP(F158,Intersections!A:H,8,FALSE)<=0.7,$B$30,VLOOKUP(F158,Intersections!A:H,8,FALSE)<=2,$B$31,TRUE,0)","v":10},{"$f":"_xlfn.IFS(VLOOKUP(F158,Intersections!A:D,4,FALSE)=\"Urban\",$B$30,TRUE,0)","v":10}]
[null,null,null,null,null,"I-80 & IA-117",{"$f":"COUNTIF('WWD Crashes'!C:C,F159)","v":1},{"$f":"COUNTIFS('Non-Crash Events'!B:B,F159,'Non-Crash Events'!R:R,\">0\")","v":0},40,null,null,null,null,null,null,null,null,null,null,null,null,null,null,null,null,null,{"$f":"SUMIFS('WWD Crashes'!G:G,'WWD Crashes'!C:C,F159)","v":0.5},{"$f":"_xlfn.IFS(AA159<0.125,$B$3,AA159<0.25,$B$4,AA159<0.5,$B$5,AA159<0.99,$B$6,AA159<1.5,$B$7,TRUE,$B$8)+$B$9*SUMIFS('WWD Crashes'!G:G,'WWD Crashes'!C:C,F159,'WWD Crashes'!L:L,\">0\")++$B$10*SUMIFS('WWD Crashes'!G:G,'WWD Crashes'!C:C,F159,'WWD Crashes'!M:M,\">0\")","v":15},{"$f":"MIN($B$16*SUMIF('Non-Crash Events'!B:B,F159,'Non-Crash Events'!R:R),50)","v":0},{"$f":"IF(VLOOKUP(F159,Intersections!A:E,5,FALSE)=\"Unique\",$B$22,IF(VLOOKUP(F159,Intersections!A:E,5,FALSE)=\"Split\",$B$23,0))","v":0},{"$f":"VLOOKUP(F159,Intersections!A:F,6,FALSE)","v":32100},8,{"$f":"VLOOKUP(F159,Intersections!A:G,7,FALSE)","v":6900},7,0,{"$f":"_xlfn.IFS(VLOOKUP(F159,Intersections!A:H,8,FALSE)<=0.7,$B$30,VLOOKUP(F159,Intersections!A:H,8,FALSE)<=2,$B$31,TRUE,0)","v":10},{"$f":"_xlfn.IFS(VLOOKUP(F159,Intersections!A:D,4,FALSE)=\"Urban\",$B$30,TRUE,0)","v":0}]
[null,null,null,null,null,"US-30 & 18th Ave",{"$f":"COUNTIF('WWD Crashes'!C:C,F160)","v":2},{"$f":"COUNTIFS('Non-Crash Events'!B:B,F160,'Non-Crash Events'!R:R,\">0\")","v":0},40,null,null,null,null,null,null,null,null,null,null,null,null,null,null,null,null,null,{"$f":"SUMIFS('WWD Crashes'!G:G,'WWD Crashes'!C:C,F160)","v":1.25},{"$f":"_xlfn.IFS(AA160<0.125,$B$3,AA160<0.25,$B$4,AA160<0.5,$B$5,AA160<0.99,$B$6,AA160<1.5,$B$7,TRUE,$B$8)+$B$9*SUMIFS('WWD Crashes'!G:G,'WWD Crashes'!C:C,F160,'WWD Crashes'!L:L,\">0\")++$B$10*SUMIFS('WWD Crashes'!G:G,'WWD Crashes'!C:C,F160,'WWD Crashes'!M:M,\">0\")","v":20},{"$f":"MIN($B$16*SUMIF('Non-Crash Events'!B:B,F160,'Non-Crash Events'!R:R),50)","v":0},{"$f":"IF(VLOOKUP(F160,Intersections!A:E,5,FALSE)=\"Unique\",$B$22,IF(VLOOKUP(F160,Intersections!A:E,5,FALSE)=\"Split\",$B$23,0))","v":0},{"$f":"VLOOKUP(F160,Intersections!A:F,6,FALSE)","v":13100},4,{"$f":"VLOOKUP(F160,Intersections!A:G,7,FALSE)","v":5600},6,0,{"$f":"_xlfn.IFS(VLOOKUP(F160,Intersections!A:H,8,FALSE)<=0.7,$B$30,VLOOKUP(F160,Intersections!A:H,8,FALSE)<=2,$B$31,TRUE,0)","v":10},{"$f":"_xlfn.IFS(VLOOKUP(F160,Intersections!A:D,4,FALSE)=\"Urban\",$B$30,TRUE,0)","v":0}]
[null,null,null,null,null,"US-18 & US-65",{"$f":"COUNTIF('WWD Crashes'!C:C,F161)","v":2},{"$f":"COUNTIFS('Non-Crash Events'!B:B,F161,'Non-Crash Events'!R:R,\">0\")","v":0},40,null,null,null,null,null,null,null,null,null,null,null,null,null,null,null,null,null,{"$f":"SUMIFS('WWD Crashes'!G:G,'WWD Crashes'!C:C,F161)","v":1.99},{"$f":"_xlfn.IFS(AA161<0.125,$B$3,AA161<0.25,$B$4,AA161<0.5,$B$5,AA161<0.99,$B$6,AA161<1.5,$B$7,TRUE,$B$8)+$B$9*SUMIFS('WWD Crashes'!G:G,'WWD Crashes'!C:C,F161,'WWD Crashes'!L:L,\">0\")++$B$10*SUMIFS('WWD Crashes'!G:G,'WWD Crashes'!C:C,F161,'WWD Crashes'!M:M,\">0\")","v":25},{"$f":"MIN($B$16*SUMIF('Non-Crash Events'!B:B,F161,'Non-Crash Events'!R:R),50)","v":0},{"$f":"IF(VLOOKUP(F161,Intersections!A:E,5,FALSE)=\"Unique\",$B$22,IF(VLOOKUP(F161,Intersections!A:E,5,FALSE)=\"Split\",$B$23,0))","v":0},{"$f":"VLOOKUP(F161,Intersections!A:F,6,FALSE)","v":11100},3,{"$f":"VLOOKUP(F161,Intersections!A:G,7,FALSE)","v":6900},7,0,{"$f":"_xlfn.IFS(VLOOKUP(F161,Intersections!A:H,8,FALSE)<=0.7,$B$30,VLOOKUP(F161,Intersections!A:H,8,FALSE)<=2,$B$31,TRUE,0)","v":5},{"$f":"_xlfn.IFS(VLOOKUP(F161,Intersections!A:D,4,FALSE)=\"Urban\",$B$30,TRUE,0)","v":0}]
[null,null,null,{"$f":"HYPERLINK(\"#'Weight Based'!\"&ADDRESS(5,11),\"Jump to Details\")","v":"Jump to Details"},null,"I- 35 E  Ramp & NE 36TH ST",{"$f":"COUNTIF('WWD Crashes'!C:C,F162)","v":1},{"$f":"COUNTIFS('Non-Crash Events'!B:B,F162,'Non-Crash Events'!R:R,\">0\")","v":1},40,null,null,null,null,null,null,null,null,null,null,null,null,null,null,null,null,null,{"$f":"SUMIFS('WWD Crashes'!G:G,'WWD Crashes'!C:C,F162)","v":0.25},{"$f":"_xlfn.IFS(AA162<0.125,$B$3,AA162<0.25,$B$4,AA162<0.5,$B$5,AA162<0.99,$B$6,AA162<1.5,$B$7,TRUE,$B$8)+$B$9*SUMIFS('WWD Crashes'!G:G,'WWD Crashes'!C:C,F162,'WWD Crashes'!L:L,\">0\")++$B$10*SUMIFS('WWD Crashes'!G:G,'WWD Crashes'!C:C,F162,'WWD Crashes'!M:M,\">0\")","v":10},{"$f":"MIN($B$16*SUMIF('Non-Crash Events'!B:B,F162,'Non-Crash Events'!R:R),50)","v":10},{"$f":"IF(VLOOKUP(F162,Intersections!A:E,5,FALSE)=\"Unique\",$B$22,IF(VLOOKUP(F162,Intersections!A:E,5,FALSE)=\"Split\",$B$23,0))","v":0},{"$f":"VLOOKUP(F162,Intersections!A:F,6,FALSE)","v":53700},9,{"$f":"VLOOKUP(F162,Intersections!A:G,7,FALSE)","v":5600},6,5,{"$f":"_xlfn.IFS(VLOOKUP(F162,Intersections!A:H,8,FALSE)<=0.7,$B$30,VLOOKUP(F162,Intersections!A:H,8,FALSE)<=2,$B$31,TRUE,0)","v":0},{"$f":"_xlfn.IFS(VLOOKUP(F162,Intersections!A:D,4,FALSE)=\"Urban\",$B$30,TRUE,0)","v":10}]
[null,null,null,null,null,"IA-934 & Greenhill Rd",{"$f":"COUNTIF('WWD Crashes'!C:C,F163)","v":1},{"$f":"COUNTIFS('Non-Crash Events'!B:B,F163,'Non-Crash Events'!R:R,\">0\")","v":0},39,null,null,null,null,null,null,null,null,null,null,null,null,null,null,null,null,null,{"$f":"SUMIFS('WWD Crashes'!G:G,'WWD Crashes'!C:C,F163)","v":0.5},{"$f":"_xlfn.IFS(AA163<0.125,$B$3,AA163<0.25,$B$4,AA163<0.5,$B$5,AA163<0.99,$B$6,AA163<1.5,$B$7,TRUE,$B$8)+$B$9*SUMIFS('WWD Crashes'!G:G,'WWD Crashes'!C:C,F163,'WWD Crashes'!L:L,\">0\")++$B$10*SUMIFS('WWD Crashes'!G:G,'WWD Crashes'!C:C,F163,'WWD Crashes'!M:M,\">0\")","v":15},{"$f":"MIN($B$16*SUMIF('Non-Crash Events'!B:B,F163,'Non-Crash Events'!R:R),50)","v":0},{"$f":"IF(VLOOKUP(F163,Intersections!A:E,5,FALSE)=\"Unique\",$B$22,IF(VLOOKUP(F163,Intersections!A:E,5,FALSE)=\"Split\",$B$23,0))","v":0},{"$f":"VLOOKUP(F163,Intersections!A:F,6,FALSE)","v":17000},5,{"$f":"VLOOKUP(F163,Intersections!A:G,7,FALSE)","v":9000},9,0,{"$f":"_xlfn.IFS(VLOOKUP(F163,Intersections!A:H,8,FALSE)<=0.7,$B$30,VLOOKUP(F163,Intersections!A:H,8,FALSE)<=2,$B$31,TRUE,0)","v":10},{"$f":"_xlfn.IFS(VLOOKUP(F163,Intersections!A:D,4,FALSE)=\"Urban\",$B$30,TRUE,0)","v":10}]
[null,null,null,null,null,"I-80 & IA-244",{"$f":"COUNTIF('WWD Crashes'!C:C,F164)","v":2},{"$f":"COUNTIFS('Non-Crash Events'!B:B,F164,'Non-Crash Events'!R:R,\">0\")","v":0},39,null,null,null,null,null,null,null,null,null,null,null,null,null,null,null,null,null,{"$f":"SUMIFS('WWD Crashes'!G:G,'WWD Crashes'!C:C,F164)","v":1.49},{"$f":"_xlfn.IFS(AA164<0.125,$B$3,AA164<0.25,$B$4,AA164<0.5,$B$5,AA164<0.99,$B$6,AA164<1.5,$B$7,TRUE,$B$8)+$B$9*SUMIFS('WWD Crashes'!G:G,'WWD Crashes'!C:C,F164,'WWD Crashes'!L:L,\">0\")++$B$10*SUMIFS('WWD Crashes'!G:G,'WWD Crashes'!C:C,F164,'WWD Crashes'!M:M,\">0\")","v":20},{"$f":"MIN($B$16*SUMIF('Non-Crash Events'!B:B,F164,'Non-Crash Events'!R:R),50)","v":0},{"$f":"IF(VLOOKUP(F164,Intersections!A:E,5,FALSE)=\"Unique\",$B$22,IF(VLOOKUP(F164,Intersections!A:E,5,FALSE)=\"Split\",$B$23,0))","v":0},{"$f":"VLOOKUP(F164,Intersections!A:F,6,FALSE)","v":22100},6,{"$f":"VLOOKUP(F164,Intersections!A:G,7,FALSE)","v":2060},3,0,{"$f":"_xlfn.IFS(VLOOKUP(F164,Intersections!A:H,8,FALSE)<=0.7,$B$30,VLOOKUP(F164,Intersections!A:H,8,FALSE)<=2,$B$31,TRUE,0)","v":10},{"$f":"_xlfn.IFS(VLOOKUP(F164,Intersections!A:D,4,FALSE)=\"Urban\",$B$30,TRUE,0)","v":0}]
[null,null,null,null,null,"US-20 & Peosta St",{"$f":"COUNTIF('WWD Crashes'!C:C,F165)","v":1},{"$f":"COUNTIFS('Non-Crash Events'!B:B,F165,'Non-Crash Events'!R:R,\">0\")","v":0},39,null,null,null,null,null,null,null,null,null,null,null,null,null,null,null,null,null,{"$f":"SUMIFS('WWD Crashes'!G:G,'WWD Crashes'!C:C,F165)","v":0.5},{"$f":"_xlfn.IFS(AA165<0.125,$B$3,AA165<0.25,$B$4,AA165<0.5,$B$5,AA165<0.99,$B$6,AA165<1.5,$B$7,TRUE,$B$8)+$B$9*SUMIFS('WWD Crashes'!G:G,'WWD Crashes'!C:C,F165,'WWD Crashes'!L:L,\">0\")++$B$10*SUMIFS('WWD Crashes'!G:G,'WWD Crashes'!C:C,F165,'WWD Crashes'!M:M,\">0\")","v":15},{"$f":"MIN($B$16*SUMIF('Non-Crash Events'!B:B,F165,'Non-Crash Events'!R:R),50)","v":0},{"$f":"IF(VLOOKUP(F165,Intersections!A:E,5,FALSE)=\"Unique\",$B$22,IF(VLOOKUP(F165,Intersections!A:E,5,FALSE)=\"Split\",$B$23,0))","v":0},{"$f":"VLOOKUP(F165,Intersections!A:F,6,FALSE)","v":18000},5,{"$f":"VLOOKUP(F165,Intersections!A:G,7,FALSE)","v":8600},9,0,{"$f":"_xlfn.IFS(VLOOKUP(F165,Intersections!A:H,8,FALSE)<=0.7,$B$30,VLOOKUP(F165,Intersections!A:H,8,FALSE)<=2,$B$31,TRUE,0)","v":10},{"$f":"_xlfn.IFS(VLOOKUP(F165,Intersections!A:D,4,FALSE)=\"Urban\",$B$30,TRUE,0)","v":0}]
[null,null,null,null,null,"I-380 NW RAMP & H AVE NE",{"$f":"COUNTIF('WWD Crashes'!C:C,F166)","v":1},{"$f":"COUNTIFS('Non-Crash Events'!B:B,F166,'Non-Crash Events'!R:R,\">0\")","v":0},39,null,null,null,null,null,null,null,null,null,null,null,null,null,null,null,null,null,{"$f":"SUMIFS('WWD Crashes'!G:G,'WWD Crashes'!C:C,F166)","v":0.25},{"$f":"_xlfn.IFS(AA166<0.125,$B$3,AA166<0.25,$B$4,AA166<0.5,$B$5,AA166<0.99,$B$6,AA166<1.5,$B$7,TRUE,$B$8)+$B$9*SUMIFS('WWD Crashes'!G:G,'WWD Crashes'!C:C,F166,'WWD Crashes'!L:L,\">0\")++$B$10*SUMIFS('WWD Crashes'!G:G,'WWD Crashes'!C:C,F166,'WWD Crashes'!M:M,\">0\")","v":10},{"$f":"MIN($B$16*SUMIF('Non-Crash Events'!B:B,F166,'Non-Crash Events'!R:R),50)","v":0},{"$f":"IF(VLOOKUP(F166,Intersections!A:E,5,FALSE)=\"Unique\",$B$22,IF(VLOOKUP(F166,Intersections!A:E,5,FALSE)=\"Split\",$B$23,0))","v":0},{"$f":"VLOOKUP(F166,Intersections!A:F,6,FALSE)","v":97700},10,{"$f":"VLOOKUP(F166,Intersections!A:G,7,FALSE)","v":9000},9,5,{"$f":"_xlfn.IFS(VLOOKUP(F166,Intersections!A:H,8,FALSE)<=0.7,$B$30,VLOOKUP(F166,Intersections!A:H,8,FALSE)<=2,$B$31,TRUE,0)","v":5},{"$f":"_xlfn.IFS(VLOOKUP(F166,Intersections!A:D,4,FALSE)=\"Urban\",$B$30,TRUE,0)","v":10}]
[null,null,null,null,null,"US 218 S & IA 438 S/GRAND AVE",{"$f":"COUNTIF('WWD Crashes'!C:C,F167)","v":0},{"$f":"COUNTIFS('Non-Crash Events'!B:B,F167,'Non-Crash Events'!R:R,\">0\")","v":0},39,null,null,null,null,null,null,null,null,null,null,null,null,null,null,null,null,null,{"$f":"SUMIFS('WWD Crashes'!G:G,'WWD Crashes'!C:C,F167)","v":0},{"$f":"_xlfn.IFS(AA167<0.125,$B$3,AA167<0.25,$B$4,AA167<0.5,$B$5,AA167<0.99,$B$6,AA167<1.5,$B$7,TRUE,$B$8)+$B$9*SUMIFS('WWD Crashes'!G:G,'WWD Crashes'!C:C,F167,'WWD Crashes'!L:L,\">0\")++$B$10*SUMIFS('WWD Crashes'!G:G,'WWD Crashes'!C:C,F167,'WWD Crashes'!M:M,\">0\")","v":0},{"$f":"MIN($B$16*SUMIF('Non-Crash Events'!B:B,F167,'Non-Crash Events'!R:R),50)","v":0},{"$f":"IF(VLOOKUP(F167,Intersections!A:E,5,FALSE)=\"Unique\",$B$22,IF(VLOOKUP(F167,Intersections!A:E,5,FALSE)=\"Split\",$B$23,0))","v":25},{"$f":"VLOOKUP(F167,Intersections!A:F,6,FALSE)","v":11900},3,{"$f":"VLOOKUP(F167,Intersections!A:G,7,FALSE)","v":4710},6,0,{"$f":"_xlfn.IFS(VLOOKUP(F167,Intersections!A:H,8,FALSE)<=0.7,$B$30,VLOOKUP(F167,Intersections!A:H,8,FALSE)<=2,$B$31,TRUE,0)","v":5},{"$f":"_xlfn.IFS(VLOOKUP(F167,Intersections!A:D,4,FALSE)=\"Urban\",$B$30,TRUE,0)","v":0}]
[null,null,null,null,null,"IA-5 & 9th St",{"$f":"COUNTIF('WWD Crashes'!C:C,F168)","v":1},{"$f":"COUNTIFS('Non-Crash Events'!B:B,F168,'Non-Crash Events'!R:R,\">0\")","v":0},39,null,null,null,null,null,null,null,null,null,null,null,null,null,null,null,null,null,{"$f":"SUMIFS('WWD Crashes'!G:G,'WWD Crashes'!C:C,F168)","v":0.99},{"$f":"_xlfn.IFS(AA168<0.125,$B$3,AA168<0.25,$B$4,AA168<0.5,$B$5,AA168<0.99,$B$6,AA168<1.5,$B$7,TRUE,$B$8)+$B$9*SUMIFS('WWD Crashes'!G:G,'WWD Crashes'!C:C,F168,'WWD Crashes'!L:L,\">0\")++$B$10*SUMIFS('WWD Crashes'!G:G,'WWD Crashes'!C:C,F168,'WWD Crashes'!M:M,\">0\")","v":20},{"$f":"MIN($B$16*SUMIF('Non-Crash Events'!B:B,F168,'Non-Crash Events'!R:R),50)","v":0},{"$f":"IF(VLOOKUP(F168,Intersections!A:E,5,FALSE)=\"Unique\",$B$22,IF(VLOOKUP(F168,Intersections!A:E,5,FALSE)=\"Split\",$B$23,0))","v":0},{"$f":"VLOOKUP(F168,Intersections!A:F,6,FALSE)","v":27500},7,{"$f":"VLOOKUP(F168,Intersections!A:G,7,FALSE)","v":8400},7,0,{"$f":"_xlfn.IFS(VLOOKUP(F168,Intersections!A:H,8,FALSE)<=0.7,$B$30,VLOOKUP(F168,Intersections!A:H,8,FALSE)<=2,$B$31,TRUE,0)","v":5},{"$f":"_xlfn.IFS(VLOOKUP(F168,Intersections!A:D,4,FALSE)=\"Urban\",$B$30,TRUE,0)","v":0}]
[null,null,null,null,null,"I 80 & US 71",{"$f":"COUNTIF('WWD Crashes'!C:C,F169)","v":1},{"$f":"COUNTIFS('Non-Crash Events'!B:B,F169,'Non-Crash Events'!R:R,\">0\")","v":0},38.75,null,null,null,null,null,null,null,null,null,null,null,null,null,null,null,null,null,{"$f":"SUMIFS('WWD Crashes'!G:G,'WWD Crashes'!C:C,F169)","v":0.25},{"$f":"_xlfn.IFS(AA169<0.125,$B$3,AA169<0.25,$B$4,AA169<0.5,$B$5,AA169<0.99,$B$6,AA169<1.5,$B$7,TRUE,$B$8)+$B$9*SUMIFS('WWD Crashes'!G:G,'WWD Crashes'!C:C,F169,'WWD Crashes'!L:L,\">0\")++$B$10*SUMIFS('WWD Crashes'!G:G,'WWD Crashes'!C:C,F169,'WWD Crashes'!M:M,\">0\")","v":28.75},{"$f":"MIN($B$16*SUMIF('Non-Crash Events'!B:B,F169,'Non-Crash Events'!R:R),50)","v":0},{"$f":"IF(VLOOKUP(F169,Intersections!A:E,5,FALSE)=\"Unique\",$B$22,IF(VLOOKUP(F169,Intersections!A:E,5,FALSE)=\"Split\",$B$23,0))","v":0},{"$f":"VLOOKUP(F169,Intersections!A:F,6,FALSE)","v":22700},6,{"$f":"VLOOKUP(F169,Intersections!A:G,7,FALSE)","v":2870},4,0,{"$f":"_xlfn.IFS(VLOOKUP(F169,Intersections!A:H,8,FALSE)<=0.7,$B$30,VLOOKUP(F169,Intersections!A:H,8,FALSE)<=2,$B$31,TRUE,0)","v":0},{"$f":"_xlfn.IFS(VLOOKUP(F169,Intersections!A:D,4,FALSE)=\"Urban\",$B$30,TRUE,0)","v":0}]
[null,null,null,null,null,"I-380 & Lewis Access Rd",{"$f":"COUNTIF('WWD Crashes'!C:C,F170)","v":0},{"$f":"COUNTIFS('Non-Crash Events'!B:B,F170,'Non-Crash Events'!R:R,\">0\")","v":3},45.4,null,null,null,null,null,null,null,null,null,null,null,null,null,null,null,null,null,{"$f":"SUMIFS('WWD Crashes'!G:G,'WWD Crashes'!C:C,F170)","v":0},{"$f":"_xlfn.IFS(AA170<0.125,$B$3,AA170<0.25,$B$4,AA170<0.5,$B$5,AA170<0.99,$B$6,AA170<1.5,$B$7,TRUE,$B$8)+$B$9*SUMIFS('WWD Crashes'!G:G,'WWD Crashes'!C:C,F170,'WWD Crashes'!L:L,\">0\")++$B$10*SUMIFS('WWD Crashes'!G:G,'WWD Crashes'!C:C,F170,'WWD Crashes'!M:M,\">0\")","v":0},{"$f":"MIN($B$16*SUMIF('Non-Crash Events'!B:B,F170,'Non-Crash Events'!R:R),50)","v":19.399999999999999},{"$f":"IF(VLOOKUP(F170,Intersections!A:E,5,FALSE)=\"Unique\",$B$22,IF(VLOOKUP(F170,Intersections!A:E,5,FALSE)=\"Split\",$B$23,0))","v":0},{"$f":"VLOOKUP(F170,Intersections!A:F,6,FALSE)","v":28100},7,{"$f":"VLOOKUP(F170,Intersections!A:G,7,FALSE)","v":9000},9,0,{"$f":"_xlfn.IFS(VLOOKUP(F170,Intersections!A:H,8,FALSE)<=0.7,$B$30,VLOOKUP(F170,Intersections!A:H,8,FALSE)<=2,$B$31,TRUE,0)","v":10},{"$f":"_xlfn.IFS(VLOOKUP(F170,Intersections!A:D,4,FALSE)=\"Urban\",$B$30,TRUE,0)","v":0}]
[null,null,null,null,null,"I-29 & IA-92",{"$f":"COUNTIF('WWD Crashes'!C:C,F171)","v":0},{"$f":"COUNTIFS('Non-Crash Events'!B:B,F171,'Non-Crash Events'!R:R,\">0\")","v":1},38,null,null,null,null,null,null,null,null,null,null,null,null,null,null,null,null,null,{"$f":"SUMIFS('WWD Crashes'!G:G,'WWD Crashes'!C:C,F171)","v":0},{"$f":"_xlfn.IFS(AA171<0.125,$B$3,AA171<0.25,$B$4,AA171<0.5,$B$5,AA171<0.99,$B$6,AA171<1.5,$B$7,TRUE,$B$8)+$B$9*SUMIFS('WWD Crashes'!G:G,'WWD Crashes'!C:C,F171,'WWD Crashes'!L:L,\">0\")++$B$10*SUMIFS('WWD Crashes'!G:G,'WWD Crashes'!C:C,F171,'WWD Crashes'!M:M,\">0\")","v":0},{"$f":"MIN($B$16*SUMIF('Non-Crash Events'!B:B,F171,'Non-Crash Events'!R:R),50)","v":10},{"$f":"IF(VLOOKUP(F171,Intersections!A:E,5,FALSE)=\"Unique\",$B$22,IF(VLOOKUP(F171,Intersections!A:E,5,FALSE)=\"Split\",$B$23,0))","v":0},{"$f":"VLOOKUP(F171,Intersections!A:F,6,FALSE)","v":33300},8,{"$f":"VLOOKUP(F171,Intersections!A:G,7,FALSE)","v":20000},10,0,{"$f":"_xlfn.IFS(VLOOKUP(F171,Intersections!A:H,8,FALSE)<=0.7,$B$30,VLOOKUP(F171,Intersections!A:H,8,FALSE)<=2,$B$31,TRUE,0)","v":10},{"$f":"_xlfn.IFS(VLOOKUP(F171,Intersections!A:D,4,FALSE)=\"Urban\",$B$30,TRUE,0)","v":10}]
[null,null,null,null,null,"US-20  N Ramp & LITTLE WALL LAKE RD/ US 69",{"$f":"COUNTIF('WWD Crashes'!C:C,F172)","v":2},{"$f":"COUNTIFS('Non-Crash Events'!B:B,F172,'Non-Crash Events'!R:R,\">0\")","v":0},37.75,null,null,null,null,null,null,null,null,null,null,null,null,null,null,null,null,null,{"$f":"SUMIFS('WWD Crashes'!G:G,'WWD Crashes'!C:C,F172)","v":0.5},{"$f":"_xlfn.IFS(AA172<0.125,$B$3,AA172<0.25,$B$4,AA172<0.5,$B$5,AA172<0.99,$B$6,AA172<1.5,$B$7,TRUE,$B$8)+$B$9*SUMIFS('WWD Crashes'!G:G,'WWD Crashes'!C:C,F172,'WWD Crashes'!L:L,\">0\")++$B$10*SUMIFS('WWD Crashes'!G:G,'WWD Crashes'!C:C,F172,'WWD Crashes'!M:M,\">0\")","v":33.75},{"$f":"MIN($B$16*SUMIF('Non-Crash Events'!B:B,F172,'Non-Crash Events'!R:R),50)","v":0},{"$f":"IF(VLOOKUP(F172,Intersections!A:E,5,FALSE)=\"Unique\",$B$22,IF(VLOOKUP(F172,Intersections!A:E,5,FALSE)=\"Split\",$B$23,0))","v":0},{"$f":"VLOOKUP(F172,Intersections!A:F,6,FALSE)","v":9500},2,{"$f":"VLOOKUP(F172,Intersections!A:G,7,FALSE)","v":1240},2,0,{"$f":"_xlfn.IFS(VLOOKUP(F172,Intersections!A:H,8,FALSE)<=0.7,$B$30,VLOOKUP(F172,Intersections!A:H,8,FALSE)<=2,$B$31,TRUE,0)","v":0},{"$f":"_xlfn.IFS(VLOOKUP(F172,Intersections!A:D,4,FALSE)=\"Urban\",$B$30,TRUE,0)","v":0}]
[null,null,null,null,null,"US 30 N Ramp & REED AVE/ IOWA 14",{"$f":"COUNTIF('WWD Crashes'!C:C,F173)","v":1},{"$f":"COUNTIFS('Non-Crash Events'!B:B,F173,'Non-Crash Events'!R:R,\">0\")","v":0},37,null,null,null,null,null,null,null,null,null,null,null,null,null,null,null,null,null,{"$f":"SUMIFS('WWD Crashes'!G:G,'WWD Crashes'!C:C,F173)","v":0.5},{"$f":"_xlfn.IFS(AA173<0.125,$B$3,AA173<0.25,$B$4,AA173<0.5,$B$5,AA173<0.99,$B$6,AA173<1.5,$B$7,TRUE,$B$8)+$B$9*SUMIFS('WWD Crashes'!G:G,'WWD Crashes'!C:C,F173,'WWD Crashes'!L:L,\">0\")++$B$10*SUMIFS('WWD Crashes'!G:G,'WWD Crashes'!C:C,F173,'WWD Crashes'!M:M,\">0\")","v":15},{"$f":"MIN($B$16*SUMIF('Non-Crash Events'!B:B,F173,'Non-Crash Events'!R:R),50)","v":0},{"$f":"IF(VLOOKUP(F173,Intersections!A:E,5,FALSE)=\"Unique\",$B$22,IF(VLOOKUP(F173,Intersections!A:E,5,FALSE)=\"Split\",$B$23,0))","v":0},{"$f":"VLOOKUP(F173,Intersections!A:F,6,FALSE)","v":10400},3,{"$f":"VLOOKUP(F173,Intersections!A:G,7,FALSE)","v":13300},9,0,{"$f":"_xlfn.IFS(VLOOKUP(F173,Intersections!A:H,8,FALSE)<=0.7,$B$30,VLOOKUP(F173,Intersections!A:H,8,FALSE)<=2,$B$31,TRUE,0)","v":10},{"$f":"_xlfn.IFS(VLOOKUP(F173,Intersections!A:D,4,FALSE)=\"Urban\",$B$30,TRUE,0)","v":10}]
[null,null,null,null,null,"I-35 & 4th Ave",{"$f":"COUNTIF('WWD Crashes'!C:C,F174)","v":1},{"$f":"COUNTIFS('Non-Crash Events'!B:B,F174,'Non-Crash Events'!R:R,\">0\")","v":0},37,null,null,null,null,null,null,null,null,null,null,null,null,null,null,null,null,null,{"$f":"SUMIFS('WWD Crashes'!G:G,'WWD Crashes'!C:C,F174)","v":0.75},{"$f":"_xlfn.IFS(AA174<0.125,$B$3,AA174<0.25,$B$4,AA174<0.5,$B$5,AA174<0.99,$B$6,AA174<1.5,$B$7,TRUE,$B$8)+$B$9*SUMIFS('WWD Crashes'!G:G,'WWD Crashes'!C:C,F174,'WWD Crashes'!L:L,\">0\")++$B$10*SUMIFS('WWD Crashes'!G:G,'WWD Crashes'!C:C,F174,'WWD Crashes'!M:M,\">0\")","v":15},{"$f":"MIN($B$16*SUMIF('Non-Crash Events'!B:B,F174,'Non-Crash Events'!R:R),50)","v":0},{"$f":"IF(VLOOKUP(F174,Intersections!A:E,5,FALSE)=\"Unique\",$B$22,IF(VLOOKUP(F174,Intersections!A:E,5,FALSE)=\"Split\",$B$23,0))","v":0},{"$f":"VLOOKUP(F174,Intersections!A:F,6,FALSE)","v":21600},6,{"$f":"VLOOKUP(F174,Intersections!A:G,7,FALSE)","v":5900},6,0,{"$f":"_xlfn.IFS(VLOOKUP(F174,Intersections!A:H,8,FALSE)<=0.7,$B$30,VLOOKUP(F174,Intersections!A:H,8,FALSE)<=2,$B$31,TRUE,0)","v":10},{"$f":"_xlfn.IFS(VLOOKUP(F174,Intersections!A:D,4,FALSE)=\"Urban\",$B$30,TRUE,0)","v":0}]
[null,null,null,null,null,"US 30 N Ramp & X- Ave",{"$f":"COUNTIF('WWD Crashes'!C:C,F175)","v":0},{"$f":"COUNTIFS('Non-Crash Events'!B:B,F175,'Non-Crash Events'!R:R,\">0\")","v":0},37,null,null,null,null,null,null,null,null,null,null,null,null,null,null,null,null,null,{"$f":"SUMIFS('WWD Crashes'!G:G,'WWD Crashes'!C:C,F175)","v":0},{"$f":"_xlfn.IFS(AA175<0.125,$B$3,AA175<0.25,$B$4,AA175<0.5,$B$5,AA175<0.99,$B$6,AA175<1.5,$B$7,TRUE,$B$8)+$B$9*SUMIFS('WWD Crashes'!G:G,'WWD Crashes'!C:C,F175,'WWD Crashes'!L:L,\">0\")++$B$10*SUMIFS('WWD Crashes'!G:G,'WWD Crashes'!C:C,F175,'WWD Crashes'!M:M,\">0\")","v":0},{"$f":"MIN($B$16*SUMIF('Non-Crash Events'!B:B,F175,'Non-Crash Events'!R:R),50)","v":0},{"$f":"IF(VLOOKUP(F175,Intersections!A:E,5,FALSE)=\"Unique\",$B$22,IF(VLOOKUP(F175,Intersections!A:E,5,FALSE)=\"Split\",$B$23,0))","v":25},{"$f":"VLOOKUP(F175,Intersections!A:F,6,FALSE)","v":15500},4,{"$f":"VLOOKUP(F175,Intersections!A:G,7,FALSE)","v":1850},3,0,{"$f":"_xlfn.IFS(VLOOKUP(F175,Intersections!A:H,8,FALSE)<=0.7,$B$30,VLOOKUP(F175,Intersections!A:H,8,FALSE)<=2,$B$31,TRUE,0)","v":5},{"$f":"_xlfn.IFS(VLOOKUP(F175,Intersections!A:D,4,FALSE)=\"Urban\",$B$30,TRUE,0)","v":0}]
[null,null,null,null,null,"US-63 & US-34",{"$f":"COUNTIF('WWD Crashes'!C:C,F176)","v":2},{"$f":"COUNTIFS('Non-Crash Events'!B:B,F176,'Non-Crash Events'!R:R,\">0\")","v":0},37,null,null,null,null,null,null,null,null,null,null,null,null,null,null,null,null,null,{"$f":"SUMIFS('WWD Crashes'!G:G,'WWD Crashes'!C:C,F176)","v":1.74},{"$f":"_xlfn.IFS(AA176<0.125,$B$3,AA176<0.25,$B$4,AA176<0.5,$B$5,AA176<0.99,$B$6,AA176<1.5,$B$7,TRUE,$B$8)+$B$9*SUMIFS('WWD Crashes'!G:G,'WWD Crashes'!C:C,F176,'WWD Crashes'!L:L,\">0\")++$B$10*SUMIFS('WWD Crashes'!G:G,'WWD Crashes'!C:C,F176,'WWD Crashes'!M:M,\">0\")","v":25},{"$f":"MIN($B$16*SUMIF('Non-Crash Events'!B:B,F176,'Non-Crash Events'!R:R),50)","v":0},{"$f":"IF(VLOOKUP(F176,Intersections!A:E,5,FALSE)=\"Unique\",$B$22,IF(VLOOKUP(F176,Intersections!A:E,5,FALSE)=\"Split\",$B$23,0))","v":0},{"$f":"VLOOKUP(F176,Intersections!A:F,6,FALSE)","v":10800},3,{"$f":"VLOOKUP(F176,Intersections!A:G,7,FALSE)","v":10600},9,0,{"$f":"_xlfn.IFS(VLOOKUP(F176,Intersections!A:H,8,FALSE)<=0.7,$B$30,VLOOKUP(F176,Intersections!A:H,8,FALSE)<=2,$B$31,TRUE,0)","v":0},{"$f":"_xlfn.IFS(VLOOKUP(F176,Intersections!A:D,4,FALSE)=\"Urban\",$B$30,TRUE,0)","v":0}]
[null,null,null,null,null,"IOWA AVE W E & IOWA AVE W W",{"$f":"COUNTIF('WWD Crashes'!C:C,F177)","v":0},{"$f":"COUNTIFS('Non-Crash Events'!B:B,F177,'Non-Crash Events'!R:R,\">0\")","v":1},37,null,null,null,null,null,null,null,null,null,null,null,null,null,null,null,null,null,{"$f":"SUMIFS('WWD Crashes'!G:G,'WWD Crashes'!C:C,F177)","v":0},{"$f":"_xlfn.IFS(AA177<0.125,$B$3,AA177<0.25,$B$4,AA177<0.5,$B$5,AA177<0.99,$B$6,AA177<1.5,$B$7,TRUE,$B$8)+$B$9*SUMIFS('WWD Crashes'!G:G,'WWD Crashes'!C:C,F177,'WWD Crashes'!L:L,\">0\")++$B$10*SUMIFS('WWD Crashes'!G:G,'WWD Crashes'!C:C,F177,'WWD Crashes'!M:M,\">0\")","v":0},{"$f":"MIN($B$16*SUMIF('Non-Crash Events'!B:B,F177,'Non-Crash Events'!R:R),50)","v":5},{"$f":"IF(VLOOKUP(F177,Intersections!A:E,5,FALSE)=\"Unique\",$B$22,IF(VLOOKUP(F177,Intersections!A:E,5,FALSE)=\"Split\",$B$23,0))","v":25},{"$f":"VLOOKUP(F177,Intersections!A:F,6,FALSE)","v":11700},3,{"$f":"VLOOKUP(F177,Intersections!A:G,7,FALSE)","v":3110},4,0,{"$f":"_xlfn.IFS(VLOOKUP(F177,Intersections!A:H,8,FALSE)<=0.7,$B$30,VLOOKUP(F177,Intersections!A:H,8,FALSE)<=2,$B$31,TRUE,0)","v":0},{"$f":"_xlfn.IFS(VLOOKUP(F177,Intersections!A:D,4,FALSE)=\"Urban\",$B$30,TRUE,0)","v":0}]
[null,null,null,null,null,"US-65 & IA-163",{"$f":"COUNTIF('WWD Crashes'!C:C,F178)","v":0},{"$f":"COUNTIFS('Non-Crash Events'!B:B,F178,'Non-Crash Events'!R:R,\">0\")","v":1},36.9,null,null,null,null,null,null,null,null,null,null,null,null,null,null,null,null,null,{"$f":"SUMIFS('WWD Crashes'!G:G,'WWD Crashes'!C:C,F178)","v":0},{"$f":"_xlfn.IFS(AA178<0.125,$B$3,AA178<0.25,$B$4,AA178<0.5,$B$5,AA178<0.99,$B$6,AA178<1.5,$B$7,TRUE,$B$8)+$B$9*SUMIFS('WWD Crashes'!G:G,'WWD Crashes'!C:C,F178,'WWD Crashes'!L:L,\">0\")++$B$10*SUMIFS('WWD Crashes'!G:G,'WWD Crashes'!C:C,F178,'WWD Crashes'!M:M,\">0\")","v":0},{"$f":"MIN($B$16*SUMIF('Non-Crash Events'!B:B,F178,'Non-Crash Events'!R:R),50)","v":9.9},{"$f":"IF(VLOOKUP(F178,Intersections!A:E,5,FALSE)=\"Unique\",$B$22,IF(VLOOKUP(F178,Intersections!A:E,5,FALSE)=\"Split\",$B$23,0))","v":0},{"$f":"VLOOKUP(F178,Intersections!A:F,6,FALSE)","v":29000},7,{"$f":"VLOOKUP(F178,Intersections!A:G,7,FALSE)","v":26800},10,0,{"$f":"_xlfn.IFS(VLOOKUP(F178,Intersections!A:H,8,FALSE)<=0.7,$B$30,VLOOKUP(F178,Intersections!A:H,8,FALSE)<=2,$B$31,TRUE,0)","v":10},{"$f":"_xlfn.IFS(VLOOKUP(F178,Intersections!A:D,4,FALSE)=\"Urban\",$B$30,TRUE,0)","v":10}]
[null,null,null,null,null,"I 80 W & I 80 W TO OLIVE ST, S",{"$f":"COUNTIF('WWD Crashes'!C:C,F179)","v":1},{"$f":"COUNTIFS('Non-Crash Events'!B:B,F179,'Non-Crash Events'!R:R,\">0\")","v":0},36.75,null,null,null,null,null,null,null,null,null,null,null,null,null,null,null,null,null,{"$f":"SUMIFS('WWD Crashes'!G:G,'WWD Crashes'!C:C,F179)","v":0.25},{"$f":"_xlfn.IFS(AA179<0.125,$B$3,AA179<0.25,$B$4,AA179<0.5,$B$5,AA179<0.99,$B$6,AA179<1.5,$B$7,TRUE,$B$8)+$B$9*SUMIFS('WWD Crashes'!G:G,'WWD Crashes'!C:C,F179,'WWD Crashes'!L:L,\">0\")++$B$10*SUMIFS('WWD Crashes'!G:G,'WWD Crashes'!C:C,F179,'WWD Crashes'!M:M,\">0\")","v":28.75},{"$f":"MIN($B$16*SUMIF('Non-Crash Events'!B:B,F179,'Non-Crash Events'!R:R),50)","v":0},{"$f":"IF(VLOOKUP(F179,Intersections!A:E,5,FALSE)=\"Unique\",$B$22,IF(VLOOKUP(F179,Intersections!A:E,5,FALSE)=\"Split\",$B$23,0))","v":0},{"$f":"VLOOKUP(F179,Intersections!A:F,6,FALSE)","v":22400},6,{"$f":"VLOOKUP(F179,Intersections!A:G,7,FALSE)","v":1310},2,0,{"$f":"_xlfn.IFS(VLOOKUP(F179,Intersections!A:H,8,FALSE)<=0.7,$B$30,VLOOKUP(F179,Intersections!A:H,8,FALSE)<=2,$B$31,TRUE,0)","v":0},{"$f":"_xlfn.IFS(VLOOKUP(F179,Intersections!A:D,4,FALSE)=\"Urban\",$B$30,TRUE,0)","v":0}]
[null,null,null,null,null,"US 34 COOK AVE & CHURCH ST",{"$f":"COUNTIF('WWD Crashes'!C:C,F180)","v":2},{"$f":"COUNTIFS('Non-Crash Events'!B:B,F180,'Non-Crash Events'!R:R,\">0\")","v":0},36,null,null,null,null,null,null,null,null,null,null,null,null,null,null,null,null,null,{"$f":"SUMIFS('WWD Crashes'!G:G,'WWD Crashes'!C:C,F180)","v":0.5},{"$f":"_xlfn.IFS(AA180<0.125,$B$3,AA180<0.25,$B$4,AA180<0.5,$B$5,AA180<0.99,$B$6,AA180<1.5,$B$7,TRUE,$B$8)+$B$9*SUMIFS('WWD Crashes'!G:G,'WWD Crashes'!C:C,F180,'WWD Crashes'!L:L,\">0\")++$B$10*SUMIFS('WWD Crashes'!G:G,'WWD Crashes'!C:C,F180,'WWD Crashes'!M:M,\">0\")","v":15},{"$f":"MIN($B$16*SUMIF('Non-Crash Events'!B:B,F180,'Non-Crash Events'!R:R),50)","v":0},{"$f":"IF(VLOOKUP(F180,Intersections!A:E,5,FALSE)=\"Unique\",$B$22,IF(VLOOKUP(F180,Intersections!A:E,5,FALSE)=\"Split\",$B$23,0))","v":0},{"$f":"VLOOKUP(F180,Intersections!A:F,6,FALSE)","v":13900},4,{"$f":"VLOOKUP(F180,Intersections!A:G,7,FALSE)","v":7200},7,0,{"$f":"_xlfn.IFS(VLOOKUP(F180,Intersections!A:H,8,FALSE)<=0.7,$B$30,VLOOKUP(F180,Intersections!A:H,8,FALSE)<=2,$B$31,TRUE,0)","v":10},{"$f":"_xlfn.IFS(VLOOKUP(F180,Intersections!A:D,4,FALSE)=\"Urban\",$B$30,TRUE,0)","v":10}]
[null,null,null,{"$f":"HYPERLINK(\"#'Weight Based'!\"&ADDRESS(5,11),\"Jump to Details\")","v":"Jump to Details"},null,"US-75 & 24th St",{"$f":"COUNTIF('WWD Crashes'!C:C,F181)","v":2},{"$f":"COUNTIFS('Non-Crash Events'!B:B,F181,'Non-Crash Events'!R:R,\">0\")","v":0},36,null,null,null,null,null,null,null,null,null,null,null,null,null,null,null,null,null,{"$f":"SUMIFS('WWD Crashes'!G:G,'WWD Crashes'!C:C,F181)","v":1},{"$f":"_xlfn.IFS(AA181<0.125,$B$3,AA181<0.25,$B$4,AA181<0.5,$B$5,AA181<0.99,$B$6,AA181<1.5,$B$7,TRUE,$B$8)+$B$9*SUMIFS('WWD Crashes'!G:G,'WWD Crashes'!C:C,F181,'WWD Crashes'!L:L,\">0\")++$B$10*SUMIFS('WWD Crashes'!G:G,'WWD Crashes'!C:C,F181,'WWD Crashes'!M:M,\">0\")","v":20},{"$f":"MIN($B$16*SUMIF('Non-Crash Events'!B:B,F181,'Non-Crash Events'!R:R),50)","v":0},{"$f":"IF(VLOOKUP(F181,Intersections!A:E,5,FALSE)=\"Unique\",$B$22,IF(VLOOKUP(F181,Intersections!A:E,5,FALSE)=\"Split\",$B$23,0))","v":0},{"$f":"VLOOKUP(F181,Intersections!A:F,6,FALSE)","v":12900},4,{"$f":"VLOOKUP(F181,Intersections!A:G,7,FALSE)","v":7700},7,0,{"$f":"_xlfn.IFS(VLOOKUP(F181,Intersections!A:H,8,FALSE)<=0.7,$B$30,VLOOKUP(F181,Intersections!A:H,8,FALSE)<=2,$B$31,TRUE,0)","v":5},{"$f":"_xlfn.IFS(VLOOKUP(F181,Intersections!A:D,4,FALSE)=\"Urban\",$B$30,TRUE,0)","v":0}]
[null,null,null,null,null,"US-75 & IA-3",{"$f":"COUNTIF('WWD Crashes'!C:C,F182)","v":3},{"$f":"COUNTIFS('Non-Crash Events'!B:B,F182,'Non-Crash Events'!R:R,\">0\")","v":0},36,null,null,null,null,null,null,null,null,null,null,null,null,null,null,null,null,null,{"$f":"SUMIFS('WWD Crashes'!G:G,'WWD Crashes'!C:C,F182)","v":1.5},{"$f":"_xlfn.IFS(AA182<0.125,$B$3,AA182<0.25,$B$4,AA182<0.5,$B$5,AA182<0.99,$B$6,AA182<1.5,$B$7,TRUE,$B$8)+$B$9*SUMIFS('WWD Crashes'!G:G,'WWD Crashes'!C:C,F182,'WWD Crashes'!L:L,\">0\")++$B$10*SUMIFS('WWD Crashes'!G:G,'WWD Crashes'!C:C,F182,'WWD Crashes'!M:M,\">0\")","v":25},{"$f":"MIN($B$16*SUMIF('Non-Crash Events'!B:B,F182,'Non-Crash Events'!R:R),50)","v":0},{"$f":"IF(VLOOKUP(F182,Intersections!A:E,5,FALSE)=\"Unique\",$B$22,IF(VLOOKUP(F182,Intersections!A:E,5,FALSE)=\"Split\",$B$23,0))","v":0},{"$f":"VLOOKUP(F182,Intersections!A:F,6,FALSE)","v":7800},1,{"$f":"VLOOKUP(F182,Intersections!A:G,7,FALSE)","v":4510},5,0,{"$f":"_xlfn.IFS(VLOOKUP(F182,Intersections!A:H,8,FALSE)<=0.7,$B$30,VLOOKUP(F182,Intersections!A:H,8,FALSE)<=2,$B$31,TRUE,0)","v":5},{"$f":"_xlfn.IFS(VLOOKUP(F182,Intersections!A:D,4,FALSE)=\"Urban\",$B$30,TRUE,0)","v":0}]
[null,null,null,null,null,"US-61 NE RAMP & E 90TH ST/210 ST",{"$f":"COUNTIF('WWD Crashes'!C:C,F183)","v":1},{"$f":"COUNTIFS('Non-Crash Events'!B:B,F183,'Non-Crash Events'!R:R,\">0\")","v":0},36,null,null,null,null,null,null,null,null,null,null,null,null,null,null,null,null,null,{"$f":"SUMIFS('WWD Crashes'!G:G,'WWD Crashes'!C:C,F183)","v":0.5},{"$f":"_xlfn.IFS(AA183<0.125,$B$3,AA183<0.25,$B$4,AA183<0.5,$B$5,AA183<0.99,$B$6,AA183<1.5,$B$7,TRUE,$B$8)+$B$9*SUMIFS('WWD Crashes'!G:G,'WWD Crashes'!C:C,F183,'WWD Crashes'!L:L,\">0\")++$B$10*SUMIFS('WWD Crashes'!G:G,'WWD Crashes'!C:C,F183,'WWD Crashes'!M:M,\">0\")","v":15},{"$f":"MIN($B$16*SUMIF('Non-Crash Events'!B:B,F183,'Non-Crash Events'!R:R),50)","v":0},{"$f":"IF(VLOOKUP(F183,Intersections!A:E,5,FALSE)=\"Unique\",$B$22,IF(VLOOKUP(F183,Intersections!A:E,5,FALSE)=\"Split\",$B$23,0))","v":0},{"$f":"VLOOKUP(F183,Intersections!A:F,6,FALSE)","v":42200},9,{"$f":"VLOOKUP(F183,Intersections!A:G,7,FALSE)","v":8200},7,5,{"$f":"_xlfn.IFS(VLOOKUP(F183,Intersections!A:H,8,FALSE)<=0.7,$B$30,VLOOKUP(F183,Intersections!A:H,8,FALSE)<=2,$B$31,TRUE,0)","v":0},{"$f":"_xlfn.IFS(VLOOKUP(F183,Intersections!A:D,4,FALSE)=\"Urban\",$B$30,TRUE,0)","v":10}]
[null,null,null,null,null,"US 63 N & IA 163 W",{"$f":"COUNTIF('WWD Crashes'!C:C,F184)","v":0},{"$f":"COUNTIFS('Non-Crash Events'!B:B,F184,'Non-Crash Events'!R:R,\">0\")","v":0},36,null,null,null,null,null,null,null,null,null,null,null,null,null,null,null,null,null,{"$f":"SUMIFS('WWD Crashes'!G:G,'WWD Crashes'!C:C,F184)","v":0},{"$f":"_xlfn.IFS(AA184<0.125,$B$3,AA184<0.25,$B$4,AA184<0.5,$B$5,AA184<0.99,$B$6,AA184<1.5,$B$7,TRUE,$B$8)+$B$9*SUMIFS('WWD Crashes'!G:G,'WWD Crashes'!C:C,F184,'WWD Crashes'!L:L,\">0\")++$B$10*SUMIFS('WWD Crashes'!G:G,'WWD Crashes'!C:C,F184,'WWD Crashes'!M:M,\">0\")","v":0},{"$f":"MIN($B$16*SUMIF('Non-Crash Events'!B:B,F184,'Non-Crash Events'!R:R),50)","v":0},{"$f":"IF(VLOOKUP(F184,Intersections!A:E,5,FALSE)=\"Unique\",$B$22,IF(VLOOKUP(F184,Intersections!A:E,5,FALSE)=\"Split\",$B$23,0))","v":25},{"$f":"VLOOKUP(F184,Intersections!A:F,6,FALSE)","v":12500},4,{"$f":"VLOOKUP(F184,Intersections!A:G,7,FALSE)","v":6700},7,0,{"$f":"_xlfn.IFS(VLOOKUP(F184,Intersections!A:H,8,FALSE)<=0.7,$B$30,VLOOKUP(F184,Intersections!A:H,8,FALSE)<=2,$B$31,TRUE,0)","v":0},{"$f":"_xlfn.IFS(VLOOKUP(F184,Intersections!A:D,4,FALSE)=\"Urban\",$B$30,TRUE,0)","v":0}]
[null,null,null,null,null,"IA-5 & 35th St",{"$f":"COUNTIF('WWD Crashes'!C:C,F185)","v":1},{"$f":"COUNTIFS('Non-Crash Events'!B:B,F185,'Non-Crash Events'!R:R,\">0\")","v":1},36,null,null,null,null,null,null,null,null,null,null,null,null,null,null,null,null,null,{"$f":"SUMIFS('WWD Crashes'!G:G,'WWD Crashes'!C:C,F185)","v":0.99},{"$f":"_xlfn.IFS(AA185<0.125,$B$3,AA185<0.25,$B$4,AA185<0.5,$B$5,AA185<0.99,$B$6,AA185<1.5,$B$7,TRUE,$B$8)+$B$9*SUMIFS('WWD Crashes'!G:G,'WWD Crashes'!C:C,F185,'WWD Crashes'!L:L,\">0\")++$B$10*SUMIFS('WWD Crashes'!G:G,'WWD Crashes'!C:C,F185,'WWD Crashes'!M:M,\">0\")","v":20},{"$f":"MIN($B$16*SUMIF('Non-Crash Events'!B:B,F185,'Non-Crash Events'!R:R),50)","v":5},{"$f":"IF(VLOOKUP(F185,Intersections!A:E,5,FALSE)=\"Unique\",$B$22,IF(VLOOKUP(F185,Intersections!A:E,5,FALSE)=\"Split\",$B$23,0))","v":0},{"$f":"VLOOKUP(F185,Intersections!A:F,6,FALSE)","v":33200},8,{"$f":"VLOOKUP(F185,Intersections!A:G,7,FALSE)","v":2360},3,0,{"$f":"_xlfn.IFS(VLOOKUP(F185,Intersections!A:H,8,FALSE)<=0.7,$B$30,VLOOKUP(F185,Intersections!A:H,8,FALSE)<=2,$B$31,TRUE,0)","v":0},{"$f":"_xlfn.IFS(VLOOKUP(F185,Intersections!A:D,4,FALSE)=\"Urban\",$B$30,TRUE,0)","v":0}]
[null,null,null,null,null,"I-80 & IA-146",{"$f":"COUNTIF('WWD Crashes'!C:C,F186)","v":0},{"$f":"COUNTIFS('Non-Crash Events'!B:B,F186,'Non-Crash Events'!R:R,\">0\")","v":2},36,null,null,null,null,null,null,null,null,null,null,null,null,null,null,null,null,null,{"$f":"SUMIFS('WWD Crashes'!G:G,'WWD Crashes'!C:C,F186)","v":0},{"$f":"_xlfn.IFS(AA186<0.125,$B$3,AA186<0.25,$B$4,AA186<0.5,$B$5,AA186<0.99,$B$6,AA186<1.5,$B$7,TRUE,$B$8)+$B$9*SUMIFS('WWD Crashes'!G:G,'WWD Crashes'!C:C,F186,'WWD Crashes'!L:L,\">0\")++$B$10*SUMIFS('WWD Crashes'!G:G,'WWD Crashes'!C:C,F186,'WWD Crashes'!M:M,\">0\")","v":0},{"$f":"MIN($B$16*SUMIF('Non-Crash Events'!B:B,F186,'Non-Crash Events'!R:R),50)","v":10},{"$f":"IF(VLOOKUP(F186,Intersections!A:E,5,FALSE)=\"Unique\",$B$22,IF(VLOOKUP(F186,Intersections!A:E,5,FALSE)=\"Split\",$B$23,0))","v":0},{"$f":"VLOOKUP(F186,Intersections!A:F,6,FALSE)","v":29500},7,{"$f":"VLOOKUP(F186,Intersections!A:G,7,FALSE)","v":9000},9,0,{"$f":"_xlfn.IFS(VLOOKUP(F186,Intersections!A:H,8,FALSE)<=0.7,$B$30,VLOOKUP(F186,Intersections!A:H,8,FALSE)<=2,$B$31,TRUE,0)","v":10},{"$f":"_xlfn.IFS(VLOOKUP(F186,Intersections!A:D,4,FALSE)=\"Urban\",$B$30,TRUE,0)","v":0}]
[null,null,null,null,null,"I-80 & US-63",{"$f":"COUNTIF('WWD Crashes'!C:C,F187)","v":1},{"$f":"COUNTIFS('Non-Crash Events'!B:B,F187,'Non-Crash Events'!R:R,\">0\")","v":1},36,null,null,null,null,null,null,null,null,null,null,null,null,null,null,null,null,null,{"$f":"SUMIFS('WWD Crashes'!G:G,'WWD Crashes'!C:C,F187)","v":0.5},{"$f":"_xlfn.IFS(AA187<0.125,$B$3,AA187<0.25,$B$4,AA187<0.5,$B$5,AA187<0.99,$B$6,AA187<1.5,$B$7,TRUE,$B$8)+$B$9*SUMIFS('WWD Crashes'!G:G,'WWD Crashes'!C:C,F187,'WWD Crashes'!L:L,\">0\")++$B$10*SUMIFS('WWD Crashes'!G:G,'WWD Crashes'!C:C,F187,'WWD Crashes'!M:M,\">0\")","v":15},{"$f":"MIN($B$16*SUMIF('Non-Crash Events'!B:B,F187,'Non-Crash Events'!R:R),50)","v":10},{"$f":"IF(VLOOKUP(F187,Intersections!A:E,5,FALSE)=\"Unique\",$B$22,IF(VLOOKUP(F187,Intersections!A:E,5,FALSE)=\"Split\",$B$23,0))","v":0},{"$f":"VLOOKUP(F187,Intersections!A:F,6,FALSE)","v":28700},7,{"$f":"VLOOKUP(F187,Intersections!A:G,7,FALSE)","v":3290},4,0,{"$f":"_xlfn.IFS(VLOOKUP(F187,Intersections!A:H,8,FALSE)<=0.7,$B$30,VLOOKUP(F187,Intersections!A:H,8,FALSE)<=2,$B$31,TRUE,0)","v":0},{"$f":"_xlfn.IFS(VLOOKUP(F187,Intersections!A:D,4,FALSE)=\"Urban\",$B$30,TRUE,0)","v":0}]
[null,null,null,null,null,"I-235 & 19th St/MLK Pkwy",{"$f":"COUNTIF('WWD Crashes'!C:C,F188)","v":0},{"$f":"COUNTIFS('Non-Crash Events'!B:B,F188,'Non-Crash Events'!R:R,\">0\")","v":0},35,null,null,null,null,null,null,null,null,null,null,null,null,null,null,null,null,null,{"$f":"SUMIFS('WWD Crashes'!G:G,'WWD Crashes'!C:C,F188)","v":0},{"$f":"_xlfn.IFS(AA188<0.125,$B$3,AA188<0.25,$B$4,AA188<0.5,$B$5,AA188<0.99,$B$6,AA188<1.5,$B$7,TRUE,$B$8)+$B$9*SUMIFS('WWD Crashes'!G:G,'WWD Crashes'!C:C,F188,'WWD Crashes'!L:L,\">0\")++$B$10*SUMIFS('WWD Crashes'!G:G,'WWD Crashes'!C:C,F188,'WWD Crashes'!M:M,\">0\")","v":0},{"$f":"MIN($B$16*SUMIF('Non-Crash Events'!B:B,F188,'Non-Crash Events'!R:R),50)","v":0},{"$f":"IF(VLOOKUP(F188,Intersections!A:E,5,FALSE)=\"Unique\",$B$22,IF(VLOOKUP(F188,Intersections!A:E,5,FALSE)=\"Split\",$B$23,0))","v":0},{"$f":"VLOOKUP(F188,Intersections!A:F,6,FALSE)","v":136000},10,{"$f":"VLOOKUP(F188,Intersections!A:G,7,FALSE)","v":23800},10,5,{"$f":"_xlfn.IFS(VLOOKUP(F188,Intersections!A:H,8,FALSE)<=0.7,$B$30,VLOOKUP(F188,Intersections!A:H,8,FALSE)<=2,$B$31,TRUE,0)","v":10},{"$f":"_xlfn.IFS(VLOOKUP(F188,Intersections!A:D,4,FALSE)=\"Urban\",$B$30,TRUE,0)","v":10}]
[null,null,null,null,null,"I-235 & 22nd St",{"$f":"COUNTIF('WWD Crashes'!C:C,F189)","v":0},{"$f":"COUNTIFS('Non-Crash Events'!B:B,F189,'Non-Crash Events'!R:R,\">0\")","v":0},35,null,null,null,null,null,null,null,null,null,null,null,null,null,null,null,null,null,{"$f":"SUMIFS('WWD Crashes'!G:G,'WWD Crashes'!C:C,F189)","v":0},{"$f":"_xlfn.IFS(AA189<0.125,$B$3,AA189<0.25,$B$4,AA189<0.5,$B$5,AA189<0.99,$B$6,AA189<1.5,$B$7,TRUE,$B$8)+$B$9*SUMIFS('WWD Crashes'!G:G,'WWD Crashes'!C:C,F189,'WWD Crashes'!L:L,\">0\")++$B$10*SUMIFS('WWD Crashes'!G:G,'WWD Crashes'!C:C,F189,'WWD Crashes'!M:M,\">0\")","v":0},{"$f":"MIN($B$16*SUMIF('Non-Crash Events'!B:B,F189,'Non-Crash Events'!R:R),50)","v":0},{"$f":"IF(VLOOKUP(F189,Intersections!A:E,5,FALSE)=\"Unique\",$B$22,IF(VLOOKUP(F189,Intersections!A:E,5,FALSE)=\"Split\",$B$23,0))","v":0},{"$f":"VLOOKUP(F189,Intersections!A:F,6,FALSE)","v":125600},10,{"$f":"VLOOKUP(F189,Intersections!A:G,7,FALSE)","v":26200},10,5,{"$f":"_xlfn.IFS(VLOOKUP(F189,Intersections!A:H,8,FALSE)<=0.7,$B$30,VLOOKUP(F189,Intersections!A:H,8,FALSE)<=2,$B$31,TRUE,0)","v":10},{"$f":"_xlfn.IFS(VLOOKUP(F189,Intersections!A:D,4,FALSE)=\"Urban\",$B$30,TRUE,0)","v":10}]
[null,null,null,null,null,"I-235 & 2nd Ave/3rd St",{"$f":"COUNTIF('WWD Crashes'!C:C,F190)","v":0},{"$f":"COUNTIFS('Non-Crash Events'!B:B,F190,'Non-Crash Events'!R:R,\">0\")","v":0},35,null,null,null,null,null,null,null,null,null,null,null,null,null,null,null,null,null,{"$f":"SUMIFS('WWD Crashes'!G:G,'WWD Crashes'!C:C,F190)","v":0},{"$f":"_xlfn.IFS(AA190<0.125,$B$3,AA190<0.25,$B$4,AA190<0.5,$B$5,AA190<0.99,$B$6,AA190<1.5,$B$7,TRUE,$B$8)+$B$9*SUMIFS('WWD Crashes'!G:G,'WWD Crashes'!C:C,F190,'WWD Crashes'!L:L,\">0\")++$B$10*SUMIFS('WWD Crashes'!G:G,'WWD Crashes'!C:C,F190,'WWD Crashes'!M:M,\">0\")","v":0},{"$f":"MIN($B$16*SUMIF('Non-Crash Events'!B:B,F190,'Non-Crash Events'!R:R),50)","v":0},{"$f":"IF(VLOOKUP(F190,Intersections!A:E,5,FALSE)=\"Unique\",$B$22,IF(VLOOKUP(F190,Intersections!A:E,5,FALSE)=\"Split\",$B$23,0))","v":0},{"$f":"VLOOKUP(F190,Intersections!A:F,6,FALSE)","v":106400},10,{"$f":"VLOOKUP(F190,Intersections!A:G,7,FALSE)","v":25200},10,5,{"$f":"_xlfn.IFS(VLOOKUP(F190,Intersections!A:H,8,FALSE)<=0.7,$B$30,VLOOKUP(F190,Intersections!A:H,8,FALSE)<=2,$B$31,TRUE,0)","v":10},{"$f":"_xlfn.IFS(VLOOKUP(F190,Intersections!A:D,4,FALSE)=\"Urban\",$B$30,TRUE,0)","v":10}]
[null,null,null,null,null,"I- 35 E Ramp & DOUGLAS AVE",{"$f":"COUNTIF('WWD Crashes'!C:C,F191)","v":0},{"$f":"COUNTIFS('Non-Crash Events'!B:B,F191,'Non-Crash Events'!R:R,\">0\")","v":0},35,null,null,null,null,null,null,null,null,null,null,null,null,null,null,null,null,null,{"$f":"SUMIFS('WWD Crashes'!G:G,'WWD Crashes'!C:C,F191)","v":0},{"$f":"_xlfn.IFS(AA191<0.125,$B$3,AA191<0.25,$B$4,AA191<0.5,$B$5,AA191<0.99,$B$6,AA191<1.5,$B$7,TRUE,$B$8)+$B$9*SUMIFS('WWD Crashes'!G:G,'WWD Crashes'!C:C,F191,'WWD Crashes'!L:L,\">0\")++$B$10*SUMIFS('WWD Crashes'!G:G,'WWD Crashes'!C:C,F191,'WWD Crashes'!M:M,\">0\")","v":0},{"$f":"MIN($B$16*SUMIF('Non-Crash Events'!B:B,F191,'Non-Crash Events'!R:R),50)","v":0},{"$f":"IF(VLOOKUP(F191,Intersections!A:E,5,FALSE)=\"Unique\",$B$22,IF(VLOOKUP(F191,Intersections!A:E,5,FALSE)=\"Split\",$B$23,0))","v":0},{"$f":"VLOOKUP(F191,Intersections!A:F,6,FALSE)","v":101100},10,{"$f":"VLOOKUP(F191,Intersections!A:G,7,FALSE)","v":23700},10,5,{"$f":"_xlfn.IFS(VLOOKUP(F191,Intersections!A:H,8,FALSE)<=0.7,$B$30,VLOOKUP(F191,Intersections!A:H,8,FALSE)<=2,$B$31,TRUE,0)","v":10},{"$f":"_xlfn.IFS(VLOOKUP(F191,Intersections!A:D,4,FALSE)=\"Urban\",$B$30,TRUE,0)","v":10}]
[null,null,null,null,null,"I-35 & IA-141",{"$f":"COUNTIF('WWD Crashes'!C:C,F192)","v":0},{"$f":"COUNTIFS('Non-Crash Events'!B:B,F192,'Non-Crash Events'!R:R,\">0\")","v":0},35,null,null,null,null,null,null,null,null,null,null,null,null,null,null,null,null,null,{"$f":"SUMIFS('WWD Crashes'!G:G,'WWD Crashes'!C:C,F192)","v":0},{"$f":"_xlfn.IFS(AA192<0.125,$B$3,AA192<0.25,$B$4,AA192<0.5,$B$5,AA192<0.99,$B$6,AA192<1.5,$B$7,TRUE,$B$8)+$B$9*SUMIFS('WWD Crashes'!G:G,'WWD Crashes'!C:C,F192,'WWD Crashes'!L:L,\">0\")++$B$10*SUMIFS('WWD Crashes'!G:G,'WWD Crashes'!C:C,F192,'WWD Crashes'!M:M,\">0\")","v":0},{"$f":"MIN($B$16*SUMIF('Non-Crash Events'!B:B,F192,'Non-Crash Events'!R:R),50)","v":0},{"$f":"IF(VLOOKUP(F192,Intersections!A:E,5,FALSE)=\"Unique\",$B$22,IF(VLOOKUP(F192,Intersections!A:E,5,FALSE)=\"Split\",$B$23,0))","v":0},{"$f":"VLOOKUP(F192,Intersections!A:F,6,FALSE)","v":92300},10,{"$f":"VLOOKUP(F192,Intersections!A:G,7,FALSE)","v":31100},10,5,{"$f":"_xlfn.IFS(VLOOKUP(F192,Intersections!A:H,8,FALSE)<=0.7,$B$30,VLOOKUP(F192,Intersections!A:H,8,FALSE)<=2,$B$31,TRUE,0)","v":10},{"$f":"_xlfn.IFS(VLOOKUP(F192,Intersections!A:D,4,FALSE)=\"Urban\",$B$30,TRUE,0)","v":10}]
[null,null,null,null,null,"I-80 & Jordan Creek Pkwy",{"$f":"COUNTIF('WWD Crashes'!C:C,F193)","v":0},{"$f":"COUNTIFS('Non-Crash Events'!B:B,F193,'Non-Crash Events'!R:R,\">0\")","v":0},35,null,null,null,null,null,null,null,null,null,null,null,null,null,null,null,null,null,{"$f":"SUMIFS('WWD Crashes'!G:G,'WWD Crashes'!C:C,F193)","v":0},{"$f":"_xlfn.IFS(AA193<0.125,$B$3,AA193<0.25,$B$4,AA193<0.5,$B$5,AA193<0.99,$B$6,AA193<1.5,$B$7,TRUE,$B$8)+$B$9*SUMIFS('WWD Crashes'!G:G,'WWD Crashes'!C:C,F193,'WWD Crashes'!L:L,\">0\")++$B$10*SUMIFS('WWD Crashes'!G:G,'WWD Crashes'!C:C,F193,'WWD Crashes'!M:M,\">0\")","v":0},{"$f":"MIN($B$16*SUMIF('Non-Crash Events'!B:B,F193,'Non-Crash Events'!R:R),50)","v":0},{"$f":"IF(VLOOKUP(F193,Intersections!A:E,5,FALSE)=\"Unique\",$B$22,IF(VLOOKUP(F193,Intersections!A:E,5,FALSE)=\"Split\",$B$23,0))","v":0},{"$f":"VLOOKUP(F193,Intersections!A:F,6,FALSE)","v":84200},10,{"$f":"VLOOKUP(F193,Intersections!A:G,7,FALSE)","v":37300},10,5,{"$f":"_xlfn.IFS(VLOOKUP(F193,Intersections!A:H,8,FALSE)<=0.7,$B$30,VLOOKUP(F193,Intersections!A:H,8,FALSE)<=2,$B$31,TRUE,0)","v":10},{"$f":"_xlfn.IFS(VLOOKUP(F193,Intersections!A:D,4,FALSE)=\"Urban\",$B$30,TRUE,0)","v":10}]
[null,null,null,null,null,"I-235 & University Ave/IA-163",{"$f":"COUNTIF('WWD Crashes'!C:C,F194)","v":0},{"$f":"COUNTIFS('Non-Crash Events'!B:B,F194,'Non-Crash Events'!R:R,\">0\")","v":0},{"$f":"SUM(AB194,AC194,AD194,AF194,AH194,AI194,AJ194)","v":35},null,null,null,null,null,null,null,null,null,null,null,null,null,null,null,null,null,{"$f":"SUMIFS('WWD Crashes'!G:G,'WWD Crashes'!C:C,F194)","v":0},{"$f":"_xlfn.IFS(AA194<0.125,$B$3,AA194<0.25,$B$4,AA194<0.5,$B$5,AA194<0.99,$B$6,AA194<1.5,$B$7,TRUE,$B$8)+$B$9*SUMIFS('WWD Crashes'!G:G,'WWD Crashes'!C:C,F194,'WWD Crashes'!L:L,\">0\")++$B$10*SUMIFS('WWD Crashes'!G:G,'WWD Crashes'!C:C,F194,'WWD Crashes'!M:M,\">0\")","v":0},{"$f":"MIN($B$16*SUMIF('Non-Crash Events'!B:B,F194,'Non-Crash Events'!R:R),50)","v":0},{"$f":"IF(VLOOKUP(F194,Intersections!A:E,5,FALSE)=\"Unique\",$B$22,IF(VLOOKUP(F194,Intersections!A:E,5,FALSE)=\"Split\",$B$23,0))","v":0},{"$f":"VLOOKUP(F194,Intersections!A:F,6,FALSE)","v":80300},10,{"$f":"VLOOKUP(F194,Intersections!A:G,7,FALSE)","v":28900},10,5,{"$f":"_xlfn.IFS(VLOOKUP(F194,Intersections!A:H,8,FALSE)<=0.7,$B$30,VLOOKUP(F194,Intersections!A:H,8,FALSE)<=2,$B$31,TRUE,0)","v":10},{"$f":"_xlfn.IFS(VLOOKUP(F194,Intersections!A:D,4,FALSE)=\"Urban\",$B$30,TRUE,0)","v":10}]
[null,null,null,null,null,"I 80 E & I 80 E TO 60TH ST, N",{"$f":"COUNTIF('WWD Crashes'!C:C,F195)","v":0},{"$f":"COUNTIFS('Non-Crash Events'!B:B,F195,'Non-Crash Events'!R:R,\">0\")","v":0},35,null,null,null,null,null,null,null,null,null,null,null,null,null,null,null,null,null,{"$f":"SUMIFS('WWD Crashes'!G:G,'WWD Crashes'!C:C,F195)","v":0},{"$f":"_xlfn.IFS(AA195<0.125,$B$3,AA195<0.25,$B$4,AA195<0.5,$B$5,AA195<0.99,$B$6,AA195<1.5,$B$7,TRUE,$B$8)+$B$9*SUMIFS('WWD Crashes'!G:G,'WWD Crashes'!C:C,F195,'WWD Crashes'!L:L,\">0\")++$B$10*SUMIFS('WWD Crashes'!G:G,'WWD Crashes'!C:C,F195,'WWD Crashes'!M:M,\">0\")","v":0},{"$f":"MIN($B$16*SUMIF('Non-Crash Events'!B:B,F195,'Non-Crash Events'!R:R),50)","v":0},{"$f":"IF(VLOOKUP(F195,Intersections!A:E,5,FALSE)=\"Unique\",$B$22,IF(VLOOKUP(F195,Intersections!A:E,5,FALSE)=\"Split\",$B$23,0))","v":0},{"$f":"VLOOKUP(F195,Intersections!A:F,6,FALSE)","v":84200},{"$f":"_xlfn.IFS(AE195<7821,1,AE195<9601,2,AE195<11931,3,AE195<15801,4,AE195<20401,5,AE195<24821,6,AE195<29771,7,AE195<36181,8,AE195<67181,9,TRUE,10)","v":10},{"$f":"VLOOKUP(F195,Intersections!A:G,7,FALSE)","v":19900},{"$f":"_xlfn.IFS(AG195<827,1,AG195<1663,2,AG195<2590,3,AG195<3401,4,AG195<4671,5,AG195<6501,6,AG195<8401,7,AG195<1161,8,AG195<19401,9,TRUE,10)","v":10},{"$f":"IF(AND(AF195>8,AG195>8),5,0)","v":5},{"$f":"_xlfn.IFS(VLOOKUP(F195,Intersections!A:H,8,FALSE)<=0.7,$B$30,VLOOKUP(F195,Intersections!A:H,8,FALSE)<=2,$B$31,TRUE,0)","v":10},{"$f":"_xlfn.IFS(VLOOKUP(F195,Intersections!A:D,4,FALSE)=\"Urban\",$B$30,TRUE,0)","v":10}]
[null,null,null,null,null,"I 35 N & US 18 W",{"$f":"COUNTIF('WWD Crashes'!C:C,F196)","v":1},{"$f":"COUNTIFS('Non-Crash Events'!B:B,F196,'Non-Crash Events'!R:R,\">0\")","v":0},35,null,null,null,null,null,null,null,null,null,null,null,null,null,null,null,null,null,{"$f":"SUMIFS('WWD Crashes'!G:G,'WWD Crashes'!C:C,F196)","v":0.25},{"$f":"_xlfn.IFS(AA196<0.125,$B$3,AA196<0.25,$B$4,AA196<0.5,$B$5,AA196<0.99,$B$6,AA196<1.5,$B$7,TRUE,$B$8)+$B$9*SUMIFS('WWD Crashes'!G:G,'WWD Crashes'!C:C,F196,'WWD Crashes'!L:L,\">0\")++$B$10*SUMIFS('WWD Crashes'!G:G,'WWD Crashes'!C:C,F196,'WWD Crashes'!M:M,\">0\")","v":10},{"$f":"MIN($B$16*SUMIF('Non-Crash Events'!B:B,F196,'Non-Crash Events'!R:R),50)","v":0},{"$f":"IF(VLOOKUP(F196,Intersections!A:E,5,FALSE)=\"Unique\",$B$22,IF(VLOOKUP(F196,Intersections!A:E,5,FALSE)=\"Split\",$B$23,0))","v":0},{"$f":"VLOOKUP(F196,Intersections!A:F,6,FALSE)","v":16000},5,{"$f":"VLOOKUP(F196,Intersections!A:G,7,FALSE)","v":22100},10,0,{"$f":"_xlfn.IFS(VLOOKUP(F196,Intersections!A:H,8,FALSE)<=0.7,$B$30,VLOOKUP(F196,Intersections!A:H,8,FALSE)<=2,$B$31,TRUE,0)","v":10},{"$f":"_xlfn.IFS(VLOOKUP(F196,Intersections!A:D,4,FALSE)=\"Urban\",$B$30,TRUE,0)","v":10}]
[null,null,null,null,null,"I-35 & US-69",{"$f":"COUNTIF('WWD Crashes'!C:C,F197)","v":1},{"$f":"COUNTIFS('Non-Crash Events'!B:B,F197,'Non-Crash Events'!R:R,\">0\")","v":0},35,null,null,null,null,null,null,null,null,null,null,null,null,null,null,null,null,null,{"$f":"SUMIFS('WWD Crashes'!G:G,'WWD Crashes'!C:C,F197)","v":0.99},{"$f":"_xlfn.IFS(AA197<0.125,$B$3,AA197<0.25,$B$4,AA197<0.5,$B$5,AA197<0.99,$B$6,AA197<1.5,$B$7,TRUE,$B$8)+$B$9*SUMIFS('WWD Crashes'!G:G,'WWD Crashes'!C:C,F197,'WWD Crashes'!L:L,\">0\")++$B$10*SUMIFS('WWD Crashes'!G:G,'WWD Crashes'!C:C,F197,'WWD Crashes'!M:M,\">0\")","v":20},{"$f":"MIN($B$16*SUMIF('Non-Crash Events'!B:B,F197,'Non-Crash Events'!R:R),50)","v":0},{"$f":"IF(VLOOKUP(F197,Intersections!A:E,5,FALSE)=\"Unique\",$B$22,IF(VLOOKUP(F197,Intersections!A:E,5,FALSE)=\"Split\",$B$23,0))","v":0},{"$f":"VLOOKUP(F197,Intersections!A:F,6,FALSE)","v":13200},4,{"$f":"VLOOKUP(F197,Intersections!A:G,7,FALSE)","v":610},1,0,{"$f":"_xlfn.IFS(VLOOKUP(F197,Intersections!A:H,8,FALSE)<=0.7,$B$30,VLOOKUP(F197,Intersections!A:H,8,FALSE)<=2,$B$31,TRUE,0)","v":10},{"$f":"_xlfn.IFS(VLOOKUP(F197,Intersections!A:D,4,FALSE)=\"Urban\",$B$30,TRUE,0)","v":0}]
[null,null,null,null,null,"US-75 & 46TH ST",{"$f":"COUNTIF('WWD Crashes'!C:C,F198)","v":0},{"$f":"COUNTIFS('Non-Crash Events'!B:B,F198,'Non-Crash Events'!R:R,\">0\")","v":0},35,null,null,null,null,null,null,null,null,null,null,null,null,null,null,null,null,null,{"$f":"SUMIFS('WWD Crashes'!G:G,'WWD Crashes'!C:C,F198)","v":0},{"$f":"_xlfn.IFS(AA198<0.125,$B$3,AA198<0.25,$B$4,AA198<0.5,$B$5,AA198<0.99,$B$6,AA198<1.5,$B$7,TRUE,$B$8)+$B$9*SUMIFS('WWD Crashes'!G:G,'WWD Crashes'!C:C,F198,'WWD Crashes'!L:L,\">0\")++$B$10*SUMIFS('WWD Crashes'!G:G,'WWD Crashes'!C:C,F198,'WWD Crashes'!M:M,\">0\")","v":0},{"$f":"MIN($B$16*SUMIF('Non-Crash Events'!B:B,F198,'Non-Crash Events'!R:R),50)","v":0},{"$f":"IF(VLOOKUP(F198,Intersections!A:E,5,FALSE)=\"Unique\",$B$22,IF(VLOOKUP(F198,Intersections!A:E,5,FALSE)=\"Split\",$B$23,0))","v":25},{"$f":"VLOOKUP(F198,Intersections!A:F,6,FALSE)","v":11400},3,{"$f":"VLOOKUP(F198,Intersections!A:G,7,FALSE)","v":1500},2,0,{"$f":"_xlfn.IFS(VLOOKUP(F198,Intersections!A:H,8,FALSE)<=0.7,$B$30,VLOOKUP(F198,Intersections!A:H,8,FALSE)<=2,$B$31,TRUE,0)","v":5},{"$f":"_xlfn.IFS(VLOOKUP(F198,Intersections!A:D,4,FALSE)=\"Urban\",$B$30,TRUE,0)","v":10}]
[null,null,null,{"$f":"HYPERLINK(\"#'Weight Based'!\"&ADDRESS(5,11),\"Jump to Details\")","v":"Jump to Details"},null,"I-80 & Herbert Hoover Highway",{"$f":"COUNTIF('WWD Crashes'!C:C,F199)","v":1},{"$f":"COUNTIFS('Non-Crash Events'!B:B,F199,'Non-Crash Events'!R:R,\">0\")","v":0},35,null,null,null,null,null,null,null,null,null,null,null,null,null,null,null,null,null,{"$f":"SUMIFS('WWD Crashes'!G:G,'WWD Crashes'!C:C,F199)","v":0.25},{"$f":"_xlfn.IFS(AA199<0.125,$B$3,AA199<0.25,$B$4,AA199<0.5,$B$5,AA199<0.99,$B$6,AA199<1.5,$B$7,TRUE,$B$8)+$B$9*SUMIFS('WWD Crashes'!G:G,'WWD Crashes'!C:C,F199,'WWD Crashes'!L:L,\">0\")++$B$10*SUMIFS('WWD Crashes'!G:G,'WWD Crashes'!C:C,F199,'WWD Crashes'!M:M,\">0\")","v":10},{"$f":"MIN($B$16*SUMIF('Non-Crash Events'!B:B,F199,'Non-Crash Events'!R:R),50)","v":0},{"$f":"IF(VLOOKUP(F199,Intersections!A:E,5,FALSE)=\"Unique\",$B$22,IF(VLOOKUP(F199,Intersections!A:E,5,FALSE)=\"Split\",$B$23,0))","v":0},{"$f":"VLOOKUP(F199,Intersections!A:F,6,FALSE)","v":42400},9,{"$f":"VLOOKUP(F199,Intersections!A:G,7,FALSE)","v":6500},6,5,{"$f":"_xlfn.IFS(VLOOKUP(F199,Intersections!A:H,8,FALSE)<=0.7,$B$30,VLOOKUP(F199,Intersections!A:H,8,FALSE)<=2,$B$31,TRUE,0)","v":5},{"$f":"_xlfn.IFS(VLOOKUP(F199,Intersections!A:D,4,FALSE)=\"Urban\",$B$30,TRUE,0)","v":0}]
[null,null,null,null,null,"I-80 & Magnolia Rd",{"$f":"COUNTIF('WWD Crashes'!C:C,F200)","v":2},{"$f":"COUNTIFS('Non-Crash Events'!B:B,F200,'Non-Crash Events'!R:R,\">0\")","v":0},35,null,null,null,null,null,null,null,null,null,null,null,null,null,null,null,null,null,{"$f":"SUMIFS('WWD Crashes'!G:G,'WWD Crashes'!C:C,F200)","v":1.5},{"$f":"_xlfn.IFS(AA200<0.125,$B$3,AA200<0.25,$B$4,AA200<0.5,$B$5,AA200<0.99,$B$6,AA200<1.5,$B$7,TRUE,$B$8)+$B$9*SUMIFS('WWD Crashes'!G:G,'WWD Crashes'!C:C,F200,'WWD Crashes'!L:L,\">0\")++$B$10*SUMIFS('WWD Crashes'!G:G,'WWD Crashes'!C:C,F200,'WWD Crashes'!M:M,\">0\")","v":25},{"$f":"MIN($B$16*SUMIF('Non-Crash Events'!B:B,F200,'Non-Crash Events'!R:R),50)","v":0},{"$f":"IF(VLOOKUP(F200,Intersections!A:E,5,FALSE)=\"Unique\",$B$22,IF(VLOOKUP(F200,Intersections!A:E,5,FALSE)=\"Split\",$B$23,0))","v":0},{"$f":"VLOOKUP(F200,Intersections!A:F,6,FALSE)","v":23800},6,{"$f":"VLOOKUP(F200,Intersections!A:G,7,FALSE)","v":3130},4,0,{"$f":"_xlfn.IFS(VLOOKUP(F200,Intersections!A:H,8,FALSE)<=0.7,$B$30,VLOOKUP(F200,Intersections!A:H,8,FALSE)<=2,$B$31,TRUE,0)","v":0},{"$f":"_xlfn.IFS(VLOOKUP(F200,Intersections!A:D,4,FALSE)=\"Urban\",$B$30,TRUE,0)","v":0}]
[null,null,null,null,null,"I-35 & Broad St",{"$f":"COUNTIF('WWD Crashes'!C:C,F201)","v":0},{"$f":"COUNTIFS('Non-Crash Events'!B:B,F201,'Non-Crash Events'!R:R,\">0\")","v":2},34.299999999999997,null,null,null,null,null,null,null,null,null,null,null,null,null,null,null,null,null,{"$f":"SUMIFS('WWD Crashes'!G:G,'WWD Crashes'!C:C,F201)","v":0},{"$f":"_xlfn.IFS(AA201<0.125,$B$3,AA201<0.25,$B$4,AA201<0.5,$B$5,AA201<0.99,$B$6,AA201<1.5,$B$7,TRUE,$B$8)+$B$9*SUMIFS('WWD Crashes'!G:G,'WWD Crashes'!C:C,F201,'WWD Crashes'!L:L,\">0\")++$B$10*SUMIFS('WWD Crashes'!G:G,'WWD Crashes'!C:C,F201,'WWD Crashes'!M:M,\">0\")","v":0},{"$f":"MIN($B$16*SUMIF('Non-Crash Events'!B:B,F201,'Non-Crash Events'!R:R),50)","v":8.3000000000000007},{"$f":"IF(VLOOKUP(F201,Intersections!A:E,5,FALSE)=\"Unique\",$B$22,IF(VLOOKUP(F201,Intersections!A:E,5,FALSE)=\"Split\",$B$23,0))","v":0},{"$f":"VLOOKUP(F201,Intersections!A:F,6,FALSE)","v":28800},7,{"$f":"VLOOKUP(F201,Intersections!A:G,7,FALSE)","v":9300},9,0,{"$f":"_xlfn.IFS(VLOOKUP(F201,Intersections!A:H,8,FALSE)<=0.7,$B$30,VLOOKUP(F201,Intersections!A:H,8,FALSE)<=2,$B$31,TRUE,0)","v":10},{"$f":"_xlfn.IFS(VLOOKUP(F201,Intersections!A:D,4,FALSE)=\"Urban\",$B$30,TRUE,0)","v":0}]
[null,null,null,null,null,"I-235 & 42nd St",{"$f":"COUNTIF('WWD Crashes'!C:C,F202)","v":0},{"$f":"COUNTIFS('Non-Crash Events'!B:B,F202,'Non-Crash Events'!R:R,\">0\")","v":0},34,null,null,null,null,null,null,null,null,null,null,null,null,null,null,null,null,null,{"$f":"SUMIFS('WWD Crashes'!G:G,'WWD Crashes'!C:C,F202)","v":0},{"$f":"_xlfn.IFS(AA202<0.125,$B$3,AA202<0.25,$B$4,AA202<0.5,$B$5,AA202<0.99,$B$6,AA202<1.5,$B$7,TRUE,$B$8)+$B$9*SUMIFS('WWD Crashes'!G:G,'WWD Crashes'!C:C,F202,'WWD Crashes'!L:L,\">0\")++$B$10*SUMIFS('WWD Crashes'!G:G,'WWD Crashes'!C:C,F202,'WWD Crashes'!M:M,\">0\")","v":0},{"$f":"MIN($B$16*SUMIF('Non-Crash Events'!B:B,F202,'Non-Crash Events'!R:R),50)","v":0},{"$f":"IF(VLOOKUP(F202,Intersections!A:E,5,FALSE)=\"Unique\",$B$22,IF(VLOOKUP(F202,Intersections!A:E,5,FALSE)=\"Split\",$B$23,0))","v":0},{"$f":"VLOOKUP(F202,Intersections!A:F,6,FALSE)","v":134700},10,{"$f":"VLOOKUP(F202,Intersections!A:G,7,FALSE)","v":14000},9,5,{"$f":"_xlfn.IFS(VLOOKUP(F202,Intersections!A:H,8,FALSE)<=0.7,$B$30,VLOOKUP(F202,Intersections!A:H,8,FALSE)<=2,$B$31,TRUE,0)","v":10},{"$f":"_xlfn.IFS(VLOOKUP(F202,Intersections!A:D,4,FALSE)=\"Urban\",$B$30,TRUE,0)","v":10}]
[null,null,null,null,null,"I-235 & Valley West Drive",{"$f":"COUNTIF('WWD Crashes'!C:C,F203)","v":0},{"$f":"COUNTIFS('Non-Crash Events'!B:B,F203,'Non-Crash Events'!R:R,\">0\")","v":0},34,null,null,null,null,null,null,null,null,null,null,null,null,null,null,null,null,null,{"$f":"SUMIFS('WWD Crashes'!G:G,'WWD Crashes'!C:C,F203)","v":0},{"$f":"_xlfn.IFS(AA203<0.125,$B$3,AA203<0.25,$B$4,AA203<0.5,$B$5,AA203<0.99,$B$6,AA203<1.5,$B$7,TRUE,$B$8)+$B$9*SUMIFS('WWD Crashes'!G:G,'WWD Crashes'!C:C,F203,'WWD Crashes'!L:L,\">0\")++$B$10*SUMIFS('WWD Crashes'!G:G,'WWD Crashes'!C:C,F203,'WWD Crashes'!M:M,\">0\")","v":0},{"$f":"MIN($B$16*SUMIF('Non-Crash Events'!B:B,F203,'Non-Crash Events'!R:R),50)","v":0},{"$f":"IF(VLOOKUP(F203,Intersections!A:E,5,FALSE)=\"Unique\",$B$22,IF(VLOOKUP(F203,Intersections!A:E,5,FALSE)=\"Split\",$B$23,0))","v":0},{"$f":"VLOOKUP(F203,Intersections!A:F,6,FALSE)","v":116100},10,{"$f":"VLOOKUP(F203,Intersections!A:G,7,FALSE)","v":15600},9,5,{"$f":"_xlfn.IFS(VLOOKUP(F203,Intersections!A:H,8,FALSE)<=0.7,$B$30,VLOOKUP(F203,Intersections!A:H,8,FALSE)<=2,$B$31,TRUE,0)","v":10},{"$f":"_xlfn.IFS(VLOOKUP(F203,Intersections!A:D,4,FALSE)=\"Urban\",$B$30,TRUE,0)","v":10}]
[null,null,null,null,null,"I-235 & E 6th St/Pennsylvania Ave",{"$f":"COUNTIF('WWD Crashes'!C:C,F204)","v":0},{"$f":"COUNTIFS('Non-Crash Events'!B:B,F204,'Non-Crash Events'!R:R,\">0\")","v":0},34,null,null,null,null,null,null,null,null,null,null,null,null,null,null,null,null,null,{"$f":"SUMIFS('WWD Crashes'!G:G,'WWD Crashes'!C:C,F204)","v":0},{"$f":"_xlfn.IFS(AA204<0.125,$B$3,AA204<0.25,$B$4,AA204<0.5,$B$5,AA204<0.99,$B$6,AA204<1.5,$B$7,TRUE,$B$8)+$B$9*SUMIFS('WWD Crashes'!G:G,'WWD Crashes'!C:C,F204,'WWD Crashes'!L:L,\">0\")++$B$10*SUMIFS('WWD Crashes'!G:G,'WWD Crashes'!C:C,F204,'WWD Crashes'!M:M,\">0\")","v":0},{"$f":"MIN($B$16*SUMIF('Non-Crash Events'!B:B,F204,'Non-Crash Events'!R:R),50)","v":0},{"$f":"IF(VLOOKUP(F204,Intersections!A:E,5,FALSE)=\"Unique\",$B$22,IF(VLOOKUP(F204,Intersections!A:E,5,FALSE)=\"Split\",$B$23,0))","v":0},{"$f":"VLOOKUP(F204,Intersections!A:F,6,FALSE)","v":106400},10,{"$f":"VLOOKUP(F204,Intersections!A:G,7,FALSE)","v":10600},9,5,{"$f":"_xlfn.IFS(VLOOKUP(F204,Intersections!A:H,8,FALSE)<=0.7,$B$30,VLOOKUP(F204,Intersections!A:H,8,FALSE)<=2,$B$31,TRUE,0)","v":10},{"$f":"_xlfn.IFS(VLOOKUP(F204,Intersections!A:D,4,FALSE)=\"Urban\",$B$30,TRUE,0)","v":10}]
[null,null,null,null,null,"I- 235 E Ramp & GUTHRIE AVE",{"$f":"COUNTIF('WWD Crashes'!C:C,F205)","v":0},{"$f":"COUNTIFS('Non-Crash Events'!B:B,F205,'Non-Crash Events'!R:R,\">0\")","v":0},34,null,null,null,null,null,null,null,null,null,null,null,null,null,null,null,null,null,{"$f":"SUMIFS('WWD Crashes'!G:G,'WWD Crashes'!C:C,F205)","v":0},{"$f":"_xlfn.IFS(AA205<0.125,$B$3,AA205<0.25,$B$4,AA205<0.5,$B$5,AA205<0.99,$B$6,AA205<1.5,$B$7,TRUE,$B$8)+$B$9*SUMIFS('WWD Crashes'!G:G,'WWD Crashes'!C:C,F205,'WWD Crashes'!L:L,\">0\")++$B$10*SUMIFS('WWD Crashes'!G:G,'WWD Crashes'!C:C,F205,'WWD Crashes'!M:M,\">0\")","v":0},{"$f":"MIN($B$16*SUMIF('Non-Crash Events'!B:B,F205,'Non-Crash Events'!R:R),50)","v":0},{"$f":"IF(VLOOKUP(F205,Intersections!A:E,5,FALSE)=\"Unique\",$B$22,IF(VLOOKUP(F205,Intersections!A:E,5,FALSE)=\"Split\",$B$23,0))","v":0},{"$f":"VLOOKUP(F205,Intersections!A:F,6,FALSE)","v":79300},10,{"$f":"VLOOKUP(F205,Intersections!A:G,7,FALSE)","v":11200},9,5,{"$f":"_xlfn.IFS(VLOOKUP(F205,Intersections!A:H,8,FALSE)<=0.7,$B$30,VLOOKUP(F205,Intersections!A:H,8,FALSE)<=2,$B$31,TRUE,0)","v":10},{"$f":"_xlfn.IFS(VLOOKUP(F205,Intersections!A:D,4,FALSE)=\"Urban\",$B$30,TRUE,0)","v":10}]
[null,null,null,null,null,"I- 29 W & 1ST ST",{"$f":"COUNTIF('WWD Crashes'!C:C,F206)","v":1},{"$f":"COUNTIFS('Non-Crash Events'!B:B,F206,'Non-Crash Events'!R:R,\">0\")","v":0},34,null,null,null,null,null,null,null,null,null,null,null,null,null,null,null,null,null,{"$f":"SUMIFS('WWD Crashes'!G:G,'WWD Crashes'!C:C,F206)","v":0.25},{"$f":"_xlfn.IFS(AA206<0.125,$B$3,AA206<0.25,$B$4,AA206<0.5,$B$5,AA206<0.99,$B$6,AA206<1.5,$B$7,TRUE,$B$8)+$B$9*SUMIFS('WWD Crashes'!G:G,'WWD Crashes'!C:C,F206,'WWD Crashes'!L:L,\">0\")++$B$10*SUMIFS('WWD Crashes'!G:G,'WWD Crashes'!C:C,F206,'WWD Crashes'!M:M,\">0\")","v":10},{"$f":"MIN($B$16*SUMIF('Non-Crash Events'!B:B,F206,'Non-Crash Events'!R:R),50)","v":0},{"$f":"IF(VLOOKUP(F206,Intersections!A:E,5,FALSE)=\"Unique\",$B$22,IF(VLOOKUP(F206,Intersections!A:E,5,FALSE)=\"Split\",$B$23,0))","v":0},{"$f":"VLOOKUP(F206,Intersections!A:F,6,FALSE)","v":25600},7,{"$f":"VLOOKUP(F206,Intersections!A:G,7,FALSE)","v":6800},7,0,{"$f":"_xlfn.IFS(VLOOKUP(F206,Intersections!A:H,8,FALSE)<=0.7,$B$30,VLOOKUP(F206,Intersections!A:H,8,FALSE)<=2,$B$31,TRUE,0)","v":10},{"$f":"_xlfn.IFS(VLOOKUP(F206,Intersections!A:D,4,FALSE)=\"Urban\",$B$30,TRUE,0)","v":10}]
[null,null,null,null,null,"US-20 & IA-17",{"$f":"COUNTIF('WWD Crashes'!C:C,F207)","v":1},{"$f":"COUNTIFS('Non-Crash Events'!B:B,F207,'Non-Crash Events'!R:R,\">0\")","v":0},34,null,null,null,null,null,null,null,null,null,null,null,null,null,null,null,null,null,{"$f":"SUMIFS('WWD Crashes'!G:G,'WWD Crashes'!C:C,F207)","v":0.75},{"$f":"_xlfn.IFS(AA207<0.125,$B$3,AA207<0.25,$B$4,AA207<0.5,$B$5,AA207<0.99,$B$6,AA207<1.5,$B$7,TRUE,$B$8)+$B$9*SUMIFS('WWD Crashes'!G:G,'WWD Crashes'!C:C,F207,'WWD Crashes'!L:L,\">0\")++$B$10*SUMIFS('WWD Crashes'!G:G,'WWD Crashes'!C:C,F207,'WWD Crashes'!M:M,\">0\")","v":15},{"$f":"MIN($B$16*SUMIF('Non-Crash Events'!B:B,F207,'Non-Crash Events'!R:R),50)","v":0},{"$f":"IF(VLOOKUP(F207,Intersections!A:E,5,FALSE)=\"Unique\",$B$22,IF(VLOOKUP(F207,Intersections!A:E,5,FALSE)=\"Split\",$B$23,0))","v":0},{"$f":"VLOOKUP(F207,Intersections!A:F,6,FALSE)","v":10000},3,{"$f":"VLOOKUP(F207,Intersections!A:G,7,FALSE)","v":6000},6,0,{"$f":"_xlfn.IFS(VLOOKUP(F207,Intersections!A:H,8,FALSE)<=0.7,$B$30,VLOOKUP(F207,Intersections!A:H,8,FALSE)<=2,$B$31,TRUE,0)","v":10},{"$f":"_xlfn.IFS(VLOOKUP(F207,Intersections!A:D,4,FALSE)=\"Urban\",$B$30,TRUE,0)","v":0}]
[null,null,null,null,null,"I-29 & CR-E60",{"$f":"COUNTIF('WWD Crashes'!C:C,F208)","v":1},{"$f":"COUNTIFS('Non-Crash Events'!B:B,F208,'Non-Crash Events'!R:R,\">0\")","v":0},33.75,null,null,null,null,null,null,null,null,null,null,null,null,null,null,null,null,null,{"$f":"SUMIFS('WWD Crashes'!G:G,'WWD Crashes'!C:C,F208)","v":0.25},{"$f":"_xlfn.IFS(AA208<0.125,$B$3,AA208<0.25,$B$4,AA208<0.5,$B$5,AA208<0.99,$B$6,AA208<1.5,$B$7,TRUE,$B$8)+$B$9*SUMIFS('WWD Crashes'!G:G,'WWD Crashes'!C:C,F208,'WWD Crashes'!L:L,\">0\")++$B$10*SUMIFS('WWD Crashes'!G:G,'WWD Crashes'!C:C,F208,'WWD Crashes'!M:M,\">0\")","v":28.75},{"$f":"MIN($B$16*SUMIF('Non-Crash Events'!B:B,F208,'Non-Crash Events'!R:R),50)","v":0},{"$f":"IF(VLOOKUP(F208,Intersections!A:E,5,FALSE)=\"Unique\",$B$22,IF(VLOOKUP(F208,Intersections!A:E,5,FALSE)=\"Split\",$B$23,0))","v":0},{"$f":"VLOOKUP(F208,Intersections!A:F,6,FALSE)","v":14700},4,{"$f":"VLOOKUP(F208,Intersections!A:G,7,FALSE)","v":410},1,0,{"$f":"_xlfn.IFS(VLOOKUP(F208,Intersections!A:H,8,FALSE)<=0.7,$B$30,VLOOKUP(F208,Intersections!A:H,8,FALSE)<=2,$B$31,TRUE,0)","v":0},{"$f":"_xlfn.IFS(VLOOKUP(F208,Intersections!A:D,4,FALSE)=\"Urban\",$B$30,TRUE,0)","v":0}]
[null,null,null,null,null,"I-74 & Grant St",{"$f":"COUNTIF('WWD Crashes'!C:C,F209)","v":0},{"$f":"COUNTIFS('Non-Crash Events'!B:B,F209,'Non-Crash Events'!R:R,\">0\")","v":0},33,null,null,null,null,null,null,null,null,null,null,null,null,null,null,null,null,null,{"$f":"SUMIFS('WWD Crashes'!G:G,'WWD Crashes'!C:C,F209)","v":0},{"$f":"_xlfn.IFS(AA209<0.125,$B$3,AA209<0.25,$B$4,AA209<0.5,$B$5,AA209<0.99,$B$6,AA209<1.5,$B$7,TRUE,$B$8)+$B$9*SUMIFS('WWD Crashes'!G:G,'WWD Crashes'!C:C,F209,'WWD Crashes'!L:L,\">0\")++$B$10*SUMIFS('WWD Crashes'!G:G,'WWD Crashes'!C:C,F209,'WWD Crashes'!M:M,\">0\")","v":0},{"$f":"MIN($B$16*SUMIF('Non-Crash Events'!B:B,F209,'Non-Crash Events'!R:R),50)","v":0},{"$f":"IF(VLOOKUP(F209,Intersections!A:E,5,FALSE)=\"Unique\",$B$22,IF(VLOOKUP(F209,Intersections!A:E,5,FALSE)=\"Split\",$B$23,0))","v":0},{"$f":"VLOOKUP(F209,Intersections!A:F,6,FALSE)","v":67000},9,{"$f":"VLOOKUP(F209,Intersections!A:G,7,FALSE)","v":15000},9,5,{"$f":"_xlfn.IFS(VLOOKUP(F209,Intersections!A:H,8,FALSE)<=0.7,$B$30,VLOOKUP(F209,Intersections!A:H,8,FALSE)<=2,$B$31,TRUE,0)","v":10},{"$f":"_xlfn.IFS(VLOOKUP(F209,Intersections!A:D,4,FALSE)=\"Urban\",$B$30,TRUE,0)","v":10}]
[null,null,null,null,null,"I-80 & US-67",{"$f":"COUNTIF('WWD Crashes'!C:C,F210)","v":0},{"$f":"COUNTIFS('Non-Crash Events'!B:B,F210,'Non-Crash Events'!R:R,\">0\")","v":0},33,null,null,null,null,null,null,null,null,null,null,null,null,null,null,null,null,null,{"$f":"SUMIFS('WWD Crashes'!G:G,'WWD Crashes'!C:C,F210)","v":0},{"$f":"_xlfn.IFS(AA210<0.125,$B$3,AA210<0.25,$B$4,AA210<0.5,$B$5,AA210<0.99,$B$6,AA210<1.5,$B$7,TRUE,$B$8)+$B$9*SUMIFS('WWD Crashes'!G:G,'WWD Crashes'!C:C,F210,'WWD Crashes'!L:L,\">0\")++$B$10*SUMIFS('WWD Crashes'!G:G,'WWD Crashes'!C:C,F210,'WWD Crashes'!M:M,\">0\")","v":0},{"$f":"MIN($B$16*SUMIF('Non-Crash Events'!B:B,F210,'Non-Crash Events'!R:R),50)","v":0},{"$f":"IF(VLOOKUP(F210,Intersections!A:E,5,FALSE)=\"Unique\",$B$22,IF(VLOOKUP(F210,Intersections!A:E,5,FALSE)=\"Split\",$B$23,0))","v":0},{"$f":"VLOOKUP(F210,Intersections!A:F,6,FALSE)","v":38600},9,{"$f":"VLOOKUP(F210,Intersections!A:G,7,FALSE)","v":13100},9,5,{"$f":"_xlfn.IFS(VLOOKUP(F210,Intersections!A:H,8,FALSE)<=0.7,$B$30,VLOOKUP(F210,Intersections!A:H,8,FALSE)<=2,$B$31,TRUE,0)","v":10},{"$f":"_xlfn.IFS(VLOOKUP(F210,Intersections!A:D,4,FALSE)=\"Urban\",$B$30,TRUE,0)","v":10}]
[null,null,null,null,null,"I 380 N & I 380 N TO RIVER FOREST RD",{"$f":"COUNTIF('WWD Crashes'!C:C,F211)","v":0},{"$f":"COUNTIFS('Non-Crash Events'!B:B,F211,'Non-Crash Events'!R:R,\">0\")","v":0},33,null,null,null,null,null,null,null,null,null,null,null,null,null,null,null,null,null,{"$f":"SUMIFS('WWD Crashes'!G:G,'WWD Crashes'!C:C,F211)","v":0},{"$f":"_xlfn.IFS(AA211<0.125,$B$3,AA211<0.25,$B$4,AA211<0.5,$B$5,AA211<0.99,$B$6,AA211<1.5,$B$7,TRUE,$B$8)+$B$9*SUMIFS('WWD Crashes'!G:G,'WWD Crashes'!C:C,F211,'WWD Crashes'!L:L,\">0\")++$B$10*SUMIFS('WWD Crashes'!G:G,'WWD Crashes'!C:C,F211,'WWD Crashes'!M:M,\">0\")","v":0},{"$f":"MIN($B$16*SUMIF('Non-Crash Events'!B:B,F211,'Non-Crash Events'!R:R),50)","v":0},{"$f":"IF(VLOOKUP(F211,Intersections!A:E,5,FALSE)=\"Unique\",$B$22,IF(VLOOKUP(F211,Intersections!A:E,5,FALSE)=\"Split\",$B$23,0))","v":0},{"$f":"VLOOKUP(F211,Intersections!A:F,6,FALSE)","v":42100},9,{"$f":"VLOOKUP(F211,Intersections!A:G,7,FALSE)","v":8700},9,5,{"$f":"_xlfn.IFS(VLOOKUP(F211,Intersections!A:H,8,FALSE)<=0.7,$B$30,VLOOKUP(F211,Intersections!A:H,8,FALSE)<=2,$B$31,TRUE,0)","v":10},{"$f":"_xlfn.IFS(VLOOKUP(F211,Intersections!A:D,4,FALSE)=\"Urban\",$B$30,TRUE,0)","v":10}]
[null,null,null,null,null,"US-20 RAMP & GRANDVIEW AVE N",{"$f":"COUNTIF('WWD Crashes'!C:C,F212)","v":0},{"$f":"COUNTIFS('Non-Crash Events'!B:B,F212,'Non-Crash Events'!R:R,\">0\")","v":0},33,null,null,null,null,null,null,null,null,null,null,null,null,null,null,null,null,null,{"$f":"SUMIFS('WWD Crashes'!G:G,'WWD Crashes'!C:C,F212)","v":0},{"$f":"_xlfn.IFS(AA212<0.125,$B$3,AA212<0.25,$B$4,AA212<0.5,$B$5,AA212<0.99,$B$6,AA212<1.5,$B$7,TRUE,$B$8)+$B$9*SUMIFS('WWD Crashes'!G:G,'WWD Crashes'!C:C,F212,'WWD Crashes'!L:L,\">0\")++$B$10*SUMIFS('WWD Crashes'!G:G,'WWD Crashes'!C:C,F212,'WWD Crashes'!M:M,\">0\")","v":0},{"$f":"MIN($B$16*SUMIF('Non-Crash Events'!B:B,F212,'Non-Crash Events'!R:R),50)","v":0},{"$f":"IF(VLOOKUP(F212,Intersections!A:E,5,FALSE)=\"Unique\",$B$22,IF(VLOOKUP(F212,Intersections!A:E,5,FALSE)=\"Split\",$B$23,0))","v":0},{"$f":"VLOOKUP(F212,Intersections!A:F,6,FALSE)","v":37400},9,{"$f":"VLOOKUP(F212,Intersections!A:G,7,FALSE)","v":11900},9,5,{"$f":"_xlfn.IFS(VLOOKUP(F212,Intersections!A:H,8,FALSE)<=0.7,$B$30,VLOOKUP(F212,Intersections!A:H,8,FALSE)<=2,$B$31,TRUE,0)","v":10},{"$f":"_xlfn.IFS(VLOOKUP(F212,Intersections!A:D,4,FALSE)=\"Urban\",$B$30,TRUE,0)","v":10}]
[null,null,null,null,null,"US-218 & IA-1",{"$f":"COUNTIF('WWD Crashes'!C:C,F213)","v":0},{"$f":"COUNTIFS('Non-Crash Events'!B:B,F213,'Non-Crash Events'!R:R,\">0\")","v":1},33,null,null,null,null,null,null,null,null,null,null,null,null,null,null,null,null,null,{"$f":"SUMIFS('WWD Crashes'!G:G,'WWD Crashes'!C:C,F213)","v":0},{"$f":"_xlfn.IFS(AA213<0.125,$B$3,AA213<0.25,$B$4,AA213<0.5,$B$5,AA213<0.99,$B$6,AA213<1.5,$B$7,TRUE,$B$8)+$B$9*SUMIFS('WWD Crashes'!G:G,'WWD Crashes'!C:C,F213,'WWD Crashes'!L:L,\">0\")++$B$10*SUMIFS('WWD Crashes'!G:G,'WWD Crashes'!C:C,F213,'WWD Crashes'!M:M,\">0\")","v":0},{"$f":"MIN($B$16*SUMIF('Non-Crash Events'!B:B,F213,'Non-Crash Events'!R:R),50)","v":5},{"$f":"IF(VLOOKUP(F213,Intersections!A:E,5,FALSE)=\"Unique\",$B$22,IF(VLOOKUP(F213,Intersections!A:E,5,FALSE)=\"Split\",$B$23,0))","v":0},{"$f":"VLOOKUP(F213,Intersections!A:F,6,FALSE)","v":30400},8,{"$f":"VLOOKUP(F213,Intersections!A:G,7,FALSE)","v":23700},10,0,{"$f":"_xlfn.IFS(VLOOKUP(F213,Intersections!A:H,8,FALSE)<=0.7,$B$30,VLOOKUP(F213,Intersections!A:H,8,FALSE)<=2,$B$31,TRUE,0)","v":10},{"$f":"_xlfn.IFS(VLOOKUP(F213,Intersections!A:D,4,FALSE)=\"Urban\",$B$30,TRUE,0)","v":10}]
[null,null,null,null,null,"I-80 NE RAMP & 60 AVE",{"$f":"COUNTIF('WWD Crashes'!C:C,F214)","v":0},{"$f":"COUNTIFS('Non-Crash Events'!B:B,F214,'Non-Crash Events'!R:R,\">0\")","v":1},33,null,null,null,null,null,null,null,null,null,null,null,null,null,null,null,null,null,{"$f":"SUMIFS('WWD Crashes'!G:G,'WWD Crashes'!C:C,F214)","v":0},{"$f":"_xlfn.IFS(AA214<0.125,$B$3,AA214<0.25,$B$4,AA214<0.5,$B$5,AA214<0.99,$B$6,AA214<1.5,$B$7,TRUE,$B$8)+$B$9*SUMIFS('WWD Crashes'!G:G,'WWD Crashes'!C:C,F214,'WWD Crashes'!L:L,\">0\")++$B$10*SUMIFS('WWD Crashes'!G:G,'WWD Crashes'!C:C,F214,'WWD Crashes'!M:M,\">0\")","v":0},{"$f":"MIN($B$16*SUMIF('Non-Crash Events'!B:B,F214,'Non-Crash Events'!R:R),50)","v":5},{"$f":"IF(VLOOKUP(F214,Intersections!A:E,5,FALSE)=\"Unique\",$B$22,IF(VLOOKUP(F214,Intersections!A:E,5,FALSE)=\"Split\",$B$23,0))","v":0},{"$f":"VLOOKUP(F214,Intersections!A:F,6,FALSE)","v":38400},9,{"$f":"VLOOKUP(F214,Intersections!A:G,7,FALSE)","v":10400},9,5,{"$f":"_xlfn.IFS(VLOOKUP(F214,Intersections!A:H,8,FALSE)<=0.7,$B$30,VLOOKUP(F214,Intersections!A:H,8,FALSE)<=2,$B$31,TRUE,0)","v":5},{"$f":"_xlfn.IFS(VLOOKUP(F214,Intersections!A:D,4,FALSE)=\"Urban\",$B$30,TRUE,0)","v":0}]
[null,null,null,null,null,"I 80 W & I 80 W TO IA 149 N",{"$f":"COUNTIF('WWD Crashes'!C:C,F215)","v":0},{"$f":"COUNTIFS('Non-Crash Events'!B:B,F215,'Non-Crash Events'!R:R,\">0\")","v":1},32.5,null,null,null,null,null,null,null,null,null,null,null,null,null,null,null,null,null,{"$f":"SUMIFS('WWD Crashes'!G:G,'WWD Crashes'!C:C,F215)","v":0},{"$f":"_xlfn.IFS(AA215<0.125,$B$3,AA215<0.25,$B$4,AA215<0.5,$B$5,AA215<0.99,$B$6,AA215<1.5,$B$7,TRUE,$B$8)+$B$9*SUMIFS('WWD Crashes'!G:G,'WWD Crashes'!C:C,F215,'WWD Crashes'!L:L,\">0\")++$B$10*SUMIFS('WWD Crashes'!G:G,'WWD Crashes'!C:C,F215,'WWD Crashes'!M:M,\">0\")","v":0},{"$f":"MIN($B$16*SUMIF('Non-Crash Events'!B:B,F215,'Non-Crash Events'!R:R),50)","v":7.5},{"$f":"IF(VLOOKUP(F215,Intersections!A:E,5,FALSE)=\"Unique\",$B$22,IF(VLOOKUP(F215,Intersections!A:E,5,FALSE)=\"Split\",$B$23,0))","v":0},{"$f":"VLOOKUP(F215,Intersections!A:F,6,FALSE)","v":32400},8,{"$f":"VLOOKUP(F215,Intersections!A:G,7,FALSE)","v":7600},7,0,{"$f":"_xlfn.IFS(VLOOKUP(F215,Intersections!A:H,8,FALSE)<=0.7,$B$30,VLOOKUP(F215,Intersections!A:H,8,FALSE)<=2,$B$31,TRUE,0)","v":10},{"$f":"_xlfn.IFS(VLOOKUP(F215,Intersections!A:D,4,FALSE)=\"Urban\",$B$30,TRUE,0)","v":10}]
[null,null,null,null,null,"I-35 & IA-92",{"$f":"COUNTIF('WWD Crashes'!C:C,F216)","v":0},{"$f":"COUNTIFS('Non-Crash Events'!B:B,F216,'Non-Crash Events'!R:R,\">0\")","v":0},22,null,null,null,null,null,null,null,null,null,null,null,null,null,null,null,null,null,{"$f":"SUMIFS('WWD Crashes'!G:G,'WWD Crashes'!C:C,F216)","v":0},{"$f":"_xlfn.IFS(AA216<0.125,$B$3,AA216<0.25,$B$4,AA216<0.5,$B$5,AA216<0.99,$B$6,AA216<1.5,$B$7,TRUE,$B$8)+$B$9*SUMIFS('WWD Crashes'!G:G,'WWD Crashes'!C:C,F216,'WWD Crashes'!L:L,\">0\")++$B$10*SUMIFS('WWD Crashes'!G:G,'WWD Crashes'!C:C,F216,'WWD Crashes'!M:M,\">0\")","v":0},{"$f":"MIN($B$16*SUMIF('Non-Crash Events'!B:B,F216,'Non-Crash Events'!R:R),50)","v":0},{"$f":"IF(VLOOKUP(F216,Intersections!A:E,5,FALSE)=\"Unique\",$B$22,IF(VLOOKUP(F216,Intersections!A:E,5,FALSE)=\"Split\",$B$23,0))","v":0},{"$f":"VLOOKUP(F216,Intersections!A:F,6,FALSE)","v":22500},6,{"$f":"VLOOKUP(F216,Intersections!A:G,7,FALSE)","v":4970},6,0,{"$f":"_xlfn.IFS(VLOOKUP(F216,Intersections!A:H,8,FALSE)<=0.7,$B$30,VLOOKUP(F216,Intersections!A:H,8,FALSE)<=2,$B$31,TRUE,0)","v":10},{"$f":"_xlfn.IFS(VLOOKUP(F216,Intersections!A:D,4,FALSE)=\"Urban\",$B$30,TRUE,0)","v":0}]
[null,null,null,null,null,"US-20 & 1st St",{"$f":"COUNTIF('WWD Crashes'!C:C,F217)","v":2},{"$f":"COUNTIFS('Non-Crash Events'!B:B,F217,'Non-Crash Events'!R:R,\">0\")","v":0},32,null,null,null,null,null,null,null,null,null,null,null,null,null,null,null,null,null,{"$f":"SUMIFS('WWD Crashes'!G:G,'WWD Crashes'!C:C,F217)","v":0.75},{"$f":"_xlfn.IFS(AA217<0.125,$B$3,AA217<0.25,$B$4,AA217<0.5,$B$5,AA217<0.99,$B$6,AA217<1.5,$B$7,TRUE,$B$8)+$B$9*SUMIFS('WWD Crashes'!G:G,'WWD Crashes'!C:C,F217,'WWD Crashes'!L:L,\">0\")++$B$10*SUMIFS('WWD Crashes'!G:G,'WWD Crashes'!C:C,F217,'WWD Crashes'!M:M,\">0\")","v":15},{"$f":"MIN($B$16*SUMIF('Non-Crash Events'!B:B,F217,'Non-Crash Events'!R:R),50)","v":0},{"$f":"IF(VLOOKUP(F217,Intersections!A:E,5,FALSE)=\"Unique\",$B$22,IF(VLOOKUP(F217,Intersections!A:E,5,FALSE)=\"Split\",$B$23,0))","v":0},{"$f":"VLOOKUP(F217,Intersections!A:F,6,FALSE)","v":14300},4,{"$f":"VLOOKUP(F217,Intersections!A:G,7,FALSE)","v":1860},3,0,{"$f":"_xlfn.IFS(VLOOKUP(F217,Intersections!A:H,8,FALSE)<=0.7,$B$30,VLOOKUP(F217,Intersections!A:H,8,FALSE)<=2,$B$31,TRUE,0)","v":10},{"$f":"_xlfn.IFS(VLOOKUP(F217,Intersections!A:D,4,FALSE)=\"Urban\",$B$30,TRUE,0)","v":0}]
[null,null,null,{"$f":"HYPERLINK(\"#'Weight Based'!\"&ADDRESS(5,11),\"Jump to Details\")","v":"Jump to Details"},null,"IA 5 N & IA 5 N TO IA 28 N",{"$f":"COUNTIF('WWD Crashes'!C:C,F218)","v":0},{"$f":"COUNTIFS('Non-Crash Events'!B:B,F218,'Non-Crash Events'!R:R,\">0\")","v":1},32,null,null,null,null,null,null,null,null,null,null,null,null,null,null,null,null,null,{"$f":"SUMIFS('WWD Crashes'!G:G,'WWD Crashes'!C:C,F218)","v":0},{"$f":"_xlfn.IFS(AA218<0.125,$B$3,AA218<0.25,$B$4,AA218<0.5,$B$5,AA218<0.99,$B$6,AA218<1.5,$B$7,TRUE,$B$8)+$B$9*SUMIFS('WWD Crashes'!G:G,'WWD Crashes'!C:C,F218,'WWD Crashes'!L:L,\">0\")++$B$10*SUMIFS('WWD Crashes'!G:G,'WWD Crashes'!C:C,F218,'WWD Crashes'!M:M,\">0\")","v":0},{"$f":"MIN($B$16*SUMIF('Non-Crash Events'!B:B,F218,'Non-Crash Events'!R:R),50)","v":10},{"$f":"IF(VLOOKUP(F218,Intersections!A:E,5,FALSE)=\"Unique\",$B$22,IF(VLOOKUP(F218,Intersections!A:E,5,FALSE)=\"Split\",$B$23,0))","v":0},{"$f":"VLOOKUP(F218,Intersections!A:F,6,FALSE)","v":30600},8,{"$f":"VLOOKUP(F218,Intersections!A:G,7,FALSE)","v":19400},9,0,{"$f":"_xlfn.IFS(VLOOKUP(F218,Intersections!A:H,8,FALSE)<=0.7,$B$30,VLOOKUP(F218,Intersections!A:H,8,FALSE)<=2,$B$31,TRUE,0)","v":5},{"$f":"_xlfn.IFS(VLOOKUP(F218,Intersections!A:D,4,FALSE)=\"Urban\",$B$30,TRUE,0)","v":10}]
[null,null,null,null,null,"I-29 & Floyd Blvd",{"$f":"COUNTIF('WWD Crashes'!C:C,F219)","v":1},{"$f":"COUNTIFS('Non-Crash Events'!B:B,F219,'Non-Crash Events'!R:R,\">0\")","v":0},31.0075,null,null,null,null,null,null,null,null,null,null,null,null,null,null,null,null,null,{"$f":"SUMIFS('WWD Crashes'!G:G,'WWD Crashes'!C:C,F219)","v":1E-4},{"$f":"_xlfn.IFS(AA219<0.125,$B$3,AA219<0.25,$B$4,AA219<0.5,$B$5,AA219<0.99,$B$6,AA219<1.5,$B$7,TRUE,$B$8)+$B$9*SUMIFS('WWD Crashes'!G:G,'WWD Crashes'!C:C,F219,'WWD Crashes'!L:L,\">0\")++$B$10*SUMIFS('WWD Crashes'!G:G,'WWD Crashes'!C:C,F219,'WWD Crashes'!M:M,\">0\")","v":7.5000000000000006E-3},{"$f":"MIN($B$16*SUMIF('Non-Crash Events'!B:B,F219,'Non-Crash Events'!R:R),50)","v":0},{"$f":"IF(VLOOKUP(F219,Intersections!A:E,5,FALSE)=\"Unique\",$B$22,IF(VLOOKUP(F219,Intersections!A:E,5,FALSE)=\"Split\",$B$23,0))","v":0},{"$f":"VLOOKUP(F219,Intersections!A:F,6,FALSE)","v":37700},9,{"$f":"VLOOKUP(F219,Intersections!A:G,7,FALSE)","v":7099},7,5,{"$f":"_xlfn.IFS(VLOOKUP(F219,Intersections!A:H,8,FALSE)<=0.7,$B$30,VLOOKUP(F219,Intersections!A:H,8,FALSE)<=2,$B$31,TRUE,0)","v":10},{"$f":"_xlfn.IFS(VLOOKUP(F219,Intersections!A:D,4,FALSE)=\"Urban\",$B$30,TRUE,0)","v":10}]
[null,null,null,null,null,"I-74 & KIMBERLY RD/13TH ST/MISSISSIPPI BLVD",{"$f":"COUNTIF('WWD Crashes'!C:C,F220)","v":1},{"$f":"COUNTIFS('Non-Crash Events'!B:B,F220,'Non-Crash Events'!R:R,\">0\")","v":0},31,null,null,null,null,null,null,null,null,null,null,null,null,null,null,null,null,null,{"$f":"SUMIFS('WWD Crashes'!G:G,'WWD Crashes'!C:C,F220)","v":0.01},{"$f":"_xlfn.IFS(AA220<0.125,$B$3,AA220<0.25,$B$4,AA220<0.5,$B$5,AA220<0.99,$B$6,AA220<1.5,$B$7,TRUE,$B$8)+$B$9*SUMIFS('WWD Crashes'!G:G,'WWD Crashes'!C:C,F220,'WWD Crashes'!L:L,\">0\")++$B$10*SUMIFS('WWD Crashes'!G:G,'WWD Crashes'!C:C,F220,'WWD Crashes'!M:M,\">0\")","v":0},{"$f":"MIN($B$16*SUMIF('Non-Crash Events'!B:B,F220,'Non-Crash Events'!R:R),50)","v":0},{"$f":"IF(VLOOKUP(F220,Intersections!A:E,5,FALSE)=\"Unique\",$B$22,IF(VLOOKUP(F220,Intersections!A:E,5,FALSE)=\"Split\",$B$23,0))","v":0},{"$f":"VLOOKUP(F220,Intersections!A:F,6,FALSE)","v":59700},9,{"$f":"VLOOKUP(F220,Intersections!A:G,7,FALSE)","v":6800},7,5,{"$f":"_xlfn.IFS(VLOOKUP(F220,Intersections!A:H,8,FALSE)<=0.7,$B$30,VLOOKUP(F220,Intersections!A:H,8,FALSE)<=2,$B$31,TRUE,0)","v":10},{"$f":"_xlfn.IFS(VLOOKUP(F220,Intersections!A:D,4,FALSE)=\"Urban\",$B$30,TRUE,0)","v":10}]
[null,null,null,null,null,"I 80 W & I 80 W TO UTE AVE, N",{"$f":"COUNTIF('WWD Crashes'!C:C,F221)","v":0},{"$f":"COUNTIFS('Non-Crash Events'!B:B,F221,'Non-Crash Events'!R:R,\">0\")","v":0},31,null,null,null,null,null,null,null,null,null,null,null,null,null,null,null,null,null,{"$f":"SUMIFS('WWD Crashes'!G:G,'WWD Crashes'!C:C,F221)","v":0},{"$f":"_xlfn.IFS(AA221<0.125,$B$3,AA221<0.25,$B$4,AA221<0.5,$B$5,AA221<0.99,$B$6,AA221<1.5,$B$7,TRUE,$B$8)+$B$9*SUMIFS('WWD Crashes'!G:G,'WWD Crashes'!C:C,F221,'WWD Crashes'!L:L,\">0\")++$B$10*SUMIFS('WWD Crashes'!G:G,'WWD Crashes'!C:C,F221,'WWD Crashes'!M:M,\">0\")","v":0},{"$f":"MIN($B$16*SUMIF('Non-Crash Events'!B:B,F221,'Non-Crash Events'!R:R),50)","v":0},{"$f":"IF(VLOOKUP(F221,Intersections!A:E,5,FALSE)=\"Unique\",$B$22,IF(VLOOKUP(F221,Intersections!A:E,5,FALSE)=\"Split\",$B$23,0))","v":0},{"$f":"VLOOKUP(F221,Intersections!A:F,6,FALSE)","v":44500},9,{"$f":"VLOOKUP(F221,Intersections!A:G,7,FALSE)","v":7400},7,5,{"$f":"_xlfn.IFS(VLOOKUP(F221,Intersections!A:H,8,FALSE)<=0.7,$B$30,VLOOKUP(F221,Intersections!A:H,8,FALSE)<=2,$B$31,TRUE,0)","v":10},{"$f":"_xlfn.IFS(VLOOKUP(F221,Intersections!A:D,4,FALSE)=\"Urban\",$B$30,TRUE,0)","v":0}]
[null,null,null,null,null,"I 80 W & I 80 W TO US 169 N",{"$f":"COUNTIF('WWD Crashes'!C:C,F222)","v":0},{"$f":"COUNTIFS('Non-Crash Events'!B:B,F222,'Non-Crash Events'!R:R,\">0\")","v":0},31,null,null,null,null,null,null,null,null,null,null,null,null,null,null,null,null,null,{"$f":"SUMIFS('WWD Crashes'!G:G,'WWD Crashes'!C:C,F222)","v":0},{"$f":"_xlfn.IFS(AA222<0.125,$B$3,AA222<0.25,$B$4,AA222<0.5,$B$5,AA222<0.99,$B$6,AA222<1.5,$B$7,TRUE,$B$8)+$B$9*SUMIFS('WWD Crashes'!G:G,'WWD Crashes'!C:C,F222,'WWD Crashes'!L:L,\">0\")++$B$10*SUMIFS('WWD Crashes'!G:G,'WWD Crashes'!C:C,F222,'WWD Crashes'!M:M,\">0\")","v":0},{"$f":"MIN($B$16*SUMIF('Non-Crash Events'!B:B,F222,'Non-Crash Events'!R:R),50)","v":0},{"$f":"IF(VLOOKUP(F222,Intersections!A:E,5,FALSE)=\"Unique\",$B$22,IF(VLOOKUP(F222,Intersections!A:E,5,FALSE)=\"Split\",$B$23,0))","v":0},{"$f":"VLOOKUP(F222,Intersections!A:F,6,FALSE)","v":37600},9,{"$f":"VLOOKUP(F222,Intersections!A:G,7,FALSE)","v":7300},7,5,{"$f":"_xlfn.IFS(VLOOKUP(F222,Intersections!A:H,8,FALSE)<=0.7,$B$30,VLOOKUP(F222,Intersections!A:H,8,FALSE)<=2,$B$31,TRUE,0)","v":10},{"$f":"_xlfn.IFS(VLOOKUP(F222,Intersections!A:D,4,FALSE)=\"Urban\",$B$30,TRUE,0)","v":0}]
[null,null,null,null,null,"US-34 & Beaverdale Rd",{"$f":"COUNTIF('WWD Crashes'!C:C,F223)","v":2},{"$f":"COUNTIFS('Non-Crash Events'!B:B,F223,'Non-Crash Events'!R:R,\">0\")","v":0},31,null,null,null,null,null,null,null,null,null,null,null,null,null,null,null,null,null,{"$f":"SUMIFS('WWD Crashes'!G:G,'WWD Crashes'!C:C,F223)","v":0.75},{"$f":"_xlfn.IFS(AA223<0.125,$B$3,AA223<0.25,$B$4,AA223<0.5,$B$5,AA223<0.99,$B$6,AA223<1.5,$B$7,TRUE,$B$8)+$B$9*SUMIFS('WWD Crashes'!G:G,'WWD Crashes'!C:C,F223,'WWD Crashes'!L:L,\">0\")++$B$10*SUMIFS('WWD Crashes'!G:G,'WWD Crashes'!C:C,F223,'WWD Crashes'!M:M,\">0\")","v":15},{"$f":"MIN($B$16*SUMIF('Non-Crash Events'!B:B,F223,'Non-Crash Events'!R:R),50)","v":0},{"$f":"IF(VLOOKUP(F223,Intersections!A:E,5,FALSE)=\"Unique\",$B$22,IF(VLOOKUP(F223,Intersections!A:E,5,FALSE)=\"Split\",$B$23,0))","v":0},{"$f":"VLOOKUP(F223,Intersections!A:F,6,FALSE)","v":9000},2,{"$f":"VLOOKUP(F223,Intersections!A:G,7,FALSE)","v":3090},4,0,{"$f":"_xlfn.IFS(VLOOKUP(F223,Intersections!A:H,8,FALSE)<=0.7,$B$30,VLOOKUP(F223,Intersections!A:H,8,FALSE)<=2,$B$31,TRUE,0)","v":10},{"$f":"_xlfn.IFS(VLOOKUP(F223,Intersections!A:D,4,FALSE)=\"Urban\",$B$30,TRUE,0)","v":0}]
[null,null,null,null,null,"I-29 & IA-333",{"$f":"COUNTIF('WWD Crashes'!C:C,F224)","v":1},{"$f":"COUNTIFS('Non-Crash Events'!B:B,F224,'Non-Crash Events'!R:R,\">0\")","v":0},31,null,null,null,null,null,null,null,null,null,null,null,null,null,null,null,null,null,{"$f":"SUMIFS('WWD Crashes'!G:G,'WWD Crashes'!C:C,F224)","v":0.99},{"$f":"_xlfn.IFS(AA224<0.125,$B$3,AA224<0.25,$B$4,AA224<0.5,$B$5,AA224<0.99,$B$6,AA224<1.5,$B$7,TRUE,$B$8)+$B$9*SUMIFS('WWD Crashes'!G:G,'WWD Crashes'!C:C,F224,'WWD Crashes'!L:L,\">0\")++$B$10*SUMIFS('WWD Crashes'!G:G,'WWD Crashes'!C:C,F224,'WWD Crashes'!M:M,\">0\")","v":20},{"$f":"MIN($B$16*SUMIF('Non-Crash Events'!B:B,F224,'Non-Crash Events'!R:R),50)","v":0},{"$f":"IF(VLOOKUP(F224,Intersections!A:E,5,FALSE)=\"Unique\",$B$22,IF(VLOOKUP(F224,Intersections!A:E,5,FALSE)=\"Split\",$B$23,0))","v":0},{"$f":"VLOOKUP(F224,Intersections!A:F,6,FALSE)","v":14100},4,{"$f":"VLOOKUP(F224,Intersections!A:G,7,FALSE)","v":1450},2,0,{"$f":"_xlfn.IFS(VLOOKUP(F224,Intersections!A:H,8,FALSE)<=0.7,$B$30,VLOOKUP(F224,Intersections!A:H,8,FALSE)<=2,$B$31,TRUE,0)","v":5},{"$f":"_xlfn.IFS(VLOOKUP(F224,Intersections!A:D,4,FALSE)=\"Urban\",$B$30,TRUE,0)","v":0}]
[null,null,null,null,null,"I-80 & 100th St",{"$f":"COUNTIF('WWD Crashes'!C:C,F225)","v":1},{"$f":"COUNTIFS('Non-Crash Events'!B:B,F225,'Non-Crash Events'!R:R,\">0\")","v":0},31,null,null,null,null,null,null,null,null,null,null,null,null,null,null,null,null,null,{"$f":"SUMIFS('WWD Crashes'!G:G,'WWD Crashes'!C:C,F225)","v":0.25},{"$f":"_xlfn.IFS(AA225<0.125,$B$3,AA225<0.25,$B$4,AA225<0.5,$B$5,AA225<0.99,$B$6,AA225<1.5,$B$7,TRUE,$B$8)+$B$9*SUMIFS('WWD Crashes'!G:G,'WWD Crashes'!C:C,F225,'WWD Crashes'!L:L,\">0\")++$B$10*SUMIFS('WWD Crashes'!G:G,'WWD Crashes'!C:C,F225,'WWD Crashes'!M:M,\">0\")","v":10},{"$f":"MIN($B$16*SUMIF('Non-Crash Events'!B:B,F225,'Non-Crash Events'!R:R),50)","v":0},{"$f":"IF(VLOOKUP(F225,Intersections!A:E,5,FALSE)=\"Unique\",$B$22,IF(VLOOKUP(F225,Intersections!A:E,5,FALSE)=\"Split\",$B$23,0))","v":0},{"$f":"VLOOKUP(F225,Intersections!A:F,6,FALSE)","v":92300},10,{"$f":"VLOOKUP(F225,Intersections!A:G,7,FALSE)","v":6300},6,5,{"$f":"_xlfn.IFS(VLOOKUP(F225,Intersections!A:H,8,FALSE)<=0.7,$B$30,VLOOKUP(F225,Intersections!A:H,8,FALSE)<=2,$B$31,TRUE,0)","v":0},{"$f":"_xlfn.IFS(VLOOKUP(F225,Intersections!A:D,4,FALSE)=\"Urban\",$B$30,TRUE,0)","v":10}]
[null,null,null,null,null,"I-380 & Poyner Rd",{"$f":"COUNTIF('WWD Crashes'!C:C,F226)","v":1},{"$f":"COUNTIFS('Non-Crash Events'!B:B,F226,'Non-Crash Events'!R:R,\">0\")","v":1},31,null,null,null,null,null,null,null,null,null,null,null,null,null,null,null,null,null,{"$f":"SUMIFS('WWD Crashes'!G:G,'WWD Crashes'!C:C,F226)","v":1},{"$f":"_xlfn.IFS(AA226<0.125,$B$3,AA226<0.25,$B$4,AA226<0.5,$B$5,AA226<0.99,$B$6,AA226<1.5,$B$7,TRUE,$B$8)+$B$9*SUMIFS('WWD Crashes'!G:G,'WWD Crashes'!C:C,F226,'WWD Crashes'!L:L,\">0\")++$B$10*SUMIFS('WWD Crashes'!G:G,'WWD Crashes'!C:C,F226,'WWD Crashes'!M:M,\">0\")","v":20},{"$f":"MIN($B$16*SUMIF('Non-Crash Events'!B:B,F226,'Non-Crash Events'!R:R),50)","v":5},{"$f":"IF(VLOOKUP(F226,Intersections!A:E,5,FALSE)=\"Unique\",$B$22,IF(VLOOKUP(F226,Intersections!A:E,5,FALSE)=\"Split\",$B$23,0))","v":0},{"$f":"VLOOKUP(F226,Intersections!A:F,6,FALSE)","v":16700},5,{"$f":"VLOOKUP(F226,Intersections!A:G,7,FALSE)","v":710},1,0,{"$f":"_xlfn.IFS(VLOOKUP(F226,Intersections!A:H,8,FALSE)<=0.7,$B$30,VLOOKUP(F226,Intersections!A:H,8,FALSE)<=2,$B$31,TRUE,0)","v":0},{"$f":"_xlfn.IFS(VLOOKUP(F226,Intersections!A:D,4,FALSE)=\"Urban\",$B$30,TRUE,0)","v":0}]
[null,null,null,null,null,"I-235 & 63rd St",{"$f":"COUNTIF('WWD Crashes'!C:C,F227)","v":0},{"$f":"COUNTIFS('Non-Crash Events'!B:B,F227,'Non-Crash Events'!R:R,\">0\")","v":0},30,null,null,null,null,null,null,null,null,null,null,null,null,null,null,null,null,null,{"$f":"SUMIFS('WWD Crashes'!G:G,'WWD Crashes'!C:C,F227)","v":0},{"$f":"_xlfn.IFS(AA227<0.125,$B$3,AA227<0.25,$B$4,AA227<0.5,$B$5,AA227<0.99,$B$6,AA227<1.5,$B$7,TRUE,$B$8)+$B$9*SUMIFS('WWD Crashes'!G:G,'WWD Crashes'!C:C,F227,'WWD Crashes'!L:L,\">0\")++$B$10*SUMIFS('WWD Crashes'!G:G,'WWD Crashes'!C:C,F227,'WWD Crashes'!M:M,\">0\")","v":0},{"$f":"MIN($B$16*SUMIF('Non-Crash Events'!B:B,F227,'Non-Crash Events'!R:R),50)","v":0},{"$f":"IF(VLOOKUP(F227,Intersections!A:E,5,FALSE)=\"Unique\",$B$22,IF(VLOOKUP(F227,Intersections!A:E,5,FALSE)=\"Split\",$B$23,0))","v":0},{"$f":"VLOOKUP(F227,Intersections!A:F,6,FALSE)","v":131500},10,{"$f":"VLOOKUP(F227,Intersections!A:G,7,FALSE)","v":27400},10,5,{"$f":"_xlfn.IFS(VLOOKUP(F227,Intersections!A:H,8,FALSE)<=0.7,$B$30,VLOOKUP(F227,Intersections!A:H,8,FALSE)<=2,$B$31,TRUE,0)","v":5},{"$f":"_xlfn.IFS(VLOOKUP(F227,Intersections!A:D,4,FALSE)=\"Urban\",$B$30,TRUE,0)","v":10}]
[null,null,null,null,null,"IA 163 E & IA 163 E TO S CLARK ST S",{"$f":"COUNTIF('WWD Crashes'!C:C,F228)","v":1},{"$f":"COUNTIFS('Non-Crash Events'!B:B,F228,'Non-Crash Events'!R:R,\">0\")","v":0},30,null,null,null,null,null,null,null,null,null,null,null,null,null,null,null,null,null,{"$f":"SUMIFS('WWD Crashes'!G:G,'WWD Crashes'!C:C,F228)","v":0.5},{"$f":"_xlfn.IFS(AA228<0.125,$B$3,AA228<0.25,$B$4,AA228<0.5,$B$5,AA228<0.99,$B$6,AA228<1.5,$B$7,TRUE,$B$8)+$B$9*SUMIFS('WWD Crashes'!G:G,'WWD Crashes'!C:C,F228,'WWD Crashes'!L:L,\">0\")++$B$10*SUMIFS('WWD Crashes'!G:G,'WWD Crashes'!C:C,F228,'WWD Crashes'!M:M,\">0\")","v":15},{"$f":"MIN($B$16*SUMIF('Non-Crash Events'!B:B,F228,'Non-Crash Events'!R:R),50)","v":0},{"$f":"IF(VLOOKUP(F228,Intersections!A:E,5,FALSE)=\"Unique\",$B$22,IF(VLOOKUP(F228,Intersections!A:E,5,FALSE)=\"Split\",$B$23,0))","v":0},{"$f":"VLOOKUP(F228,Intersections!A:F,6,FALSE)","v":10400},3,{"$f":"VLOOKUP(F228,Intersections!A:G,7,FALSE)","v":8400},7,0,{"$f":"_xlfn.IFS(VLOOKUP(F228,Intersections!A:H,8,FALSE)<=0.7,$B$30,VLOOKUP(F228,Intersections!A:H,8,FALSE)<=2,$B$31,TRUE,0)","v":5},{"$f":"_xlfn.IFS(VLOOKUP(F228,Intersections!A:D,4,FALSE)=\"Urban\",$B$30,TRUE,0)","v":0}]
[null,null,null,null,null,"US-63 & Dahlonega Rd",{"$f":"COUNTIF('WWD Crashes'!C:C,F229)","v":2},{"$f":"COUNTIFS('Non-Crash Events'!B:B,F229,'Non-Crash Events'!R:R,\">0\")","v":0},30,null,null,null,null,null,null,null,null,null,null,null,null,null,null,null,null,null,{"$f":"SUMIFS('WWD Crashes'!G:G,'WWD Crashes'!C:C,F229)","v":1.49},{"$f":"_xlfn.IFS(AA229<0.125,$B$3,AA229<0.25,$B$4,AA229<0.5,$B$5,AA229<0.99,$B$6,AA229<1.5,$B$7,TRUE,$B$8)+$B$9*SUMIFS('WWD Crashes'!G:G,'WWD Crashes'!C:C,F229,'WWD Crashes'!L:L,\">0\")++$B$10*SUMIFS('WWD Crashes'!G:G,'WWD Crashes'!C:C,F229,'WWD Crashes'!M:M,\">0\")","v":20},{"$f":"MIN($B$16*SUMIF('Non-Crash Events'!B:B,F229,'Non-Crash Events'!R:R),50)","v":0},{"$f":"IF(VLOOKUP(F229,Intersections!A:E,5,FALSE)=\"Unique\",$B$22,IF(VLOOKUP(F229,Intersections!A:E,5,FALSE)=\"Split\",$B$23,0))","v":0},{"$f":"VLOOKUP(F229,Intersections!A:F,6,FALSE)","v":6800},1,{"$f":"VLOOKUP(F229,Intersections!A:G,7,FALSE)","v":2810},4,0,{"$f":"_xlfn.IFS(VLOOKUP(F229,Intersections!A:H,8,FALSE)<=0.7,$B$30,VLOOKUP(F229,Intersections!A:H,8,FALSE)<=2,$B$31,TRUE,0)","v":5},{"$f":"_xlfn.IFS(VLOOKUP(F229,Intersections!A:D,4,FALSE)=\"Urban\",$B$30,TRUE,0)","v":0}]
[null,null,null,null,null,"US-218 & Cedar Wapsi Rd",{"$f":"COUNTIF('WWD Crashes'!C:C,F230)","v":3},{"$f":"COUNTIFS('Non-Crash Events'!B:B,F230,'Non-Crash Events'!R:R,\">0\")","v":0},30,null,null,null,null,null,null,null,null,null,null,null,null,null,null,null,null,null,{"$f":"SUMIFS('WWD Crashes'!G:G,'WWD Crashes'!C:C,F230)","v":1.24},{"$f":"_xlfn.IFS(AA230<0.125,$B$3,AA230<0.25,$B$4,AA230<0.5,$B$5,AA230<0.99,$B$6,AA230<1.5,$B$7,TRUE,$B$8)+$B$9*SUMIFS('WWD Crashes'!G:G,'WWD Crashes'!C:C,F230,'WWD Crashes'!L:L,\">0\")++$B$10*SUMIFS('WWD Crashes'!G:G,'WWD Crashes'!C:C,F230,'WWD Crashes'!M:M,\">0\")","v":20},{"$f":"MIN($B$16*SUMIF('Non-Crash Events'!B:B,F230,'Non-Crash Events'!R:R),50)","v":0},{"$f":"IF(VLOOKUP(F230,Intersections!A:E,5,FALSE)=\"Unique\",$B$22,IF(VLOOKUP(F230,Intersections!A:E,5,FALSE)=\"Split\",$B$23,0))","v":0},{"$f":"VLOOKUP(F230,Intersections!A:F,6,FALSE)","v":23900},6,{"$f":"VLOOKUP(F230,Intersections!A:G,7,FALSE)","v":3370},4,0,{"$f":"_xlfn.IFS(VLOOKUP(F230,Intersections!A:H,8,FALSE)<=0.7,$B$30,VLOOKUP(F230,Intersections!A:H,8,FALSE)<=2,$B$31,TRUE,0)","v":0},{"$f":"_xlfn.IFS(VLOOKUP(F230,Intersections!A:D,4,FALSE)=\"Urban\",$B$30,TRUE,0)","v":0}]
[null,null,null,null,null,"I 80 W & CR V 18 RD S",{"$f":"COUNTIF('WWD Crashes'!C:C,F231)","v":1},{"$f":"COUNTIFS('Non-Crash Events'!B:B,F231,'Non-Crash Events'!R:R,\">0\")","v":1},29.9,null,null,null,null,null,null,null,null,null,null,null,null,null,null,null,null,null,{"$f":"SUMIFS('WWD Crashes'!G:G,'WWD Crashes'!C:C,F231)","v":0.25},{"$f":"_xlfn.IFS(AA231<0.125,$B$3,AA231<0.25,$B$4,AA231<0.5,$B$5,AA231<0.99,$B$6,AA231<1.5,$B$7,TRUE,$B$8)+$B$9*SUMIFS('WWD Crashes'!G:G,'WWD Crashes'!C:C,F231,'WWD Crashes'!L:L,\">0\")++$B$10*SUMIFS('WWD Crashes'!G:G,'WWD Crashes'!C:C,F231,'WWD Crashes'!M:M,\">0\")","v":10},{"$f":"MIN($B$16*SUMIF('Non-Crash Events'!B:B,F231,'Non-Crash Events'!R:R),50)","v":9.9},{"$f":"IF(VLOOKUP(F231,Intersections!A:E,5,FALSE)=\"Unique\",$B$22,IF(VLOOKUP(F231,Intersections!A:E,5,FALSE)=\"Split\",$B$23,0))","v":0},{"$f":"VLOOKUP(F231,Intersections!A:F,6,FALSE)","v":28700},7,{"$f":"VLOOKUP(F231,Intersections!A:G,7,FALSE)","v":2080},3,0,{"$f":"_xlfn.IFS(VLOOKUP(F231,Intersections!A:H,8,FALSE)<=0.7,$B$30,VLOOKUP(F231,Intersections!A:H,8,FALSE)<=2,$B$31,TRUE,0)","v":0},{"$f":"_xlfn.IFS(VLOOKUP(F231,Intersections!A:D,4,FALSE)=\"Urban\",$B$30,TRUE,0)","v":0}]
[null,null,null,null,null,"US 30 S Ramp & ZELLER AVE/ IOWA 146",{"$f":"COUNTIF('WWD Crashes'!C:C,F232)","v":1},{"$f":"COUNTIFS('Non-Crash Events'!B:B,F232,'Non-Crash Events'!R:R,\">0\")","v":0},29,null,null,null,null,null,null,null,null,null,null,null,null,null,null,null,null,null,{"$f":"SUMIFS('WWD Crashes'!G:G,'WWD Crashes'!C:C,F232)","v":0.25},{"$f":"_xlfn.IFS(AA232<0.125,$B$3,AA232<0.25,$B$4,AA232<0.5,$B$5,AA232<0.99,$B$6,AA232<1.5,$B$7,TRUE,$B$8)+$B$9*SUMIFS('WWD Crashes'!G:G,'WWD Crashes'!C:C,F232,'WWD Crashes'!L:L,\">0\")++$B$10*SUMIFS('WWD Crashes'!G:G,'WWD Crashes'!C:C,F232,'WWD Crashes'!M:M,\">0\")","v":10},{"$f":"MIN($B$16*SUMIF('Non-Crash Events'!B:B,F232,'Non-Crash Events'!R:R),50)","v":0},{"$f":"IF(VLOOKUP(F232,Intersections!A:E,5,FALSE)=\"Unique\",$B$22,IF(VLOOKUP(F232,Intersections!A:E,5,FALSE)=\"Split\",$B$23,0))","v":0},{"$f":"VLOOKUP(F232,Intersections!A:F,6,FALSE)","v":12100},4,{"$f":"VLOOKUP(F232,Intersections!A:G,7,FALSE)","v":3800},5,0,{"$f":"_xlfn.IFS(VLOOKUP(F232,Intersections!A:H,8,FALSE)<=0.7,$B$30,VLOOKUP(F232,Intersections!A:H,8,FALSE)<=2,$B$31,TRUE,0)","v":10},{"$f":"_xlfn.IFS(VLOOKUP(F232,Intersections!A:D,4,FALSE)=\"Urban\",$B$30,TRUE,0)","v":0}]
[null,null,null,null,null,"US-61 & IA-64",{"$f":"COUNTIF('WWD Crashes'!C:C,F233)","v":2},{"$f":"COUNTIFS('Non-Crash Events'!B:B,F233,'Non-Crash Events'!R:R,\">0\")","v":0},29,null,null,null,null,null,null,null,null,null,null,null,null,null,null,null,null,null,{"$f":"SUMIFS('WWD Crashes'!G:G,'WWD Crashes'!C:C,F233)","v":0.25},{"$f":"_xlfn.IFS(AA233<0.125,$B$3,AA233<0.25,$B$4,AA233<0.5,$B$5,AA233<0.99,$B$6,AA233<1.5,$B$7,TRUE,$B$8)+$B$9*SUMIFS('WWD Crashes'!G:G,'WWD Crashes'!C:C,F233,'WWD Crashes'!L:L,\">0\")++$B$10*SUMIFS('WWD Crashes'!G:G,'WWD Crashes'!C:C,F233,'WWD Crashes'!M:M,\">0\")","v":10},{"$f":"MIN($B$16*SUMIF('Non-Crash Events'!B:B,F233,'Non-Crash Events'!R:R),50)","v":0},{"$f":"IF(VLOOKUP(F233,Intersections!A:E,5,FALSE)=\"Unique\",$B$22,IF(VLOOKUP(F233,Intersections!A:E,5,FALSE)=\"Split\",$B$23,0))","v":0},{"$f":"VLOOKUP(F233,Intersections!A:F,6,FALSE)","v":8200},2,{"$f":"VLOOKUP(F233,Intersections!A:G,7,FALSE)","v":7600},7,0,{"$f":"_xlfn.IFS(VLOOKUP(F233,Intersections!A:H,8,FALSE)<=0.7,$B$30,VLOOKUP(F233,Intersections!A:H,8,FALSE)<=2,$B$31,TRUE,0)","v":10},{"$f":"_xlfn.IFS(VLOOKUP(F233,Intersections!A:D,4,FALSE)=\"Urban\",$B$30,TRUE,0)","v":0}]
[null,null,null,null,null,"I-80 & Tiffin WB Rest Area",{"$f":"COUNTIF('WWD Crashes'!C:C,F234)","v":0},{"$f":"COUNTIFS('Non-Crash Events'!B:B,F234,'Non-Crash Events'!R:R,\">0\")","v":1},28.9,null,null,null,null,null,null,null,null,null,null,null,null,null,null,null,null,null,{"$f":"SUMIFS('WWD Crashes'!G:G,'WWD Crashes'!C:C,F234)","v":0},{"$f":"_xlfn.IFS(AA234<0.125,$B$3,AA234<0.25,$B$4,AA234<0.5,$B$5,AA234<0.99,$B$6,AA234<1.5,$B$7,TRUE,$B$8)+$B$9*SUMIFS('WWD Crashes'!G:G,'WWD Crashes'!C:C,F234,'WWD Crashes'!L:L,\">0\")++$B$10*SUMIFS('WWD Crashes'!G:G,'WWD Crashes'!C:C,F234,'WWD Crashes'!M:M,\">0\")","v":0},{"$f":"MIN($B$16*SUMIF('Non-Crash Events'!B:B,F234,'Non-Crash Events'!R:R),50)","v":9.9},{"$f":"IF(VLOOKUP(F234,Intersections!A:E,5,FALSE)=\"Unique\",$B$22,IF(VLOOKUP(F234,Intersections!A:E,5,FALSE)=\"Split\",$B$23,0))","v":0},{"$f":"VLOOKUP(F234,Intersections!A:F,6,FALSE)","v":34400},8,{"$f":"VLOOKUP(F234,Intersections!A:G,7,FALSE)","v":0},1,0,{"$f":"_xlfn.IFS(VLOOKUP(F234,Intersections!A:H,8,FALSE)<=0.7,$B$30,VLOOKUP(F234,Intersections!A:H,8,FALSE)<=2,$B$31,TRUE,0)","v":10},{"$f":"_xlfn.IFS(VLOOKUP(F234,Intersections!A:D,4,FALSE)=\"Urban\",$B$30,TRUE,0)","v":0}]
[null,null,null,null,null,"I-80 & NORTHWEST BLVD/IA-130",{"$f":"COUNTIF('WWD Crashes'!C:C,F235)","v":0},{"$f":"COUNTIFS('Non-Crash Events'!B:B,F235,'Non-Crash Events'!R:R,\">0\")","v":0},28,null,null,null,null,null,null,null,null,null,null,null,null,null,null,null,null,null,{"$f":"SUMIFS('WWD Crashes'!G:G,'WWD Crashes'!C:C,F235)","v":0},{"$f":"_xlfn.IFS(AA235<0.125,$B$3,AA235<0.25,$B$4,AA235<0.5,$B$5,AA235<0.99,$B$6,AA235<1.5,$B$7,TRUE,$B$8)+$B$9*SUMIFS('WWD Crashes'!G:G,'WWD Crashes'!C:C,F235,'WWD Crashes'!L:L,\">0\")++$B$10*SUMIFS('WWD Crashes'!G:G,'WWD Crashes'!C:C,F235,'WWD Crashes'!M:M,\">0\")","v":0},{"$f":"MIN($B$16*SUMIF('Non-Crash Events'!B:B,F235,'Non-Crash Events'!R:R),50)","v":0},{"$f":"IF(VLOOKUP(F235,Intersections!A:E,5,FALSE)=\"Unique\",$B$22,IF(VLOOKUP(F235,Intersections!A:E,5,FALSE)=\"Split\",$B$23,0))","v":0},{"$f":"VLOOKUP(F235,Intersections!A:F,6,FALSE)","v":44700},9,{"$f":"VLOOKUP(F235,Intersections!A:G,7,FALSE)","v":13200},9,5,{"$f":"_xlfn.IFS(VLOOKUP(F235,Intersections!A:H,8,FALSE)<=0.7,$B$30,VLOOKUP(F235,Intersections!A:H,8,FALSE)<=2,$B$31,TRUE,0)","v":5},{"$f":"_xlfn.IFS(VLOOKUP(F235,Intersections!A:D,4,FALSE)=\"Urban\",$B$30,TRUE,0)","v":10}]
[null,null,null,null,null,"US-34 & Burlington Ave",{"$f":"COUNTIF('WWD Crashes'!C:C,F236)","v":1},{"$f":"COUNTIFS('Non-Crash Events'!B:B,F236,'Non-Crash Events'!R:R,\">0\")","v":0},28,null,null,null,null,null,null,null,null,null,null,null,null,null,null,null,null,null,{"$f":"SUMIFS('WWD Crashes'!G:G,'WWD Crashes'!C:C,F236)","v":0.5},{"$f":"_xlfn.IFS(AA236<0.125,$B$3,AA236<0.25,$B$4,AA236<0.5,$B$5,AA236<0.99,$B$6,AA236<1.5,$B$7,TRUE,$B$8)+$B$9*SUMIFS('WWD Crashes'!G:G,'WWD Crashes'!C:C,F236,'WWD Crashes'!L:L,\">0\")++$B$10*SUMIFS('WWD Crashes'!G:G,'WWD Crashes'!C:C,F236,'WWD Crashes'!M:M,\">0\")","v":15},{"$f":"MIN($B$16*SUMIF('Non-Crash Events'!B:B,F236,'Non-Crash Events'!R:R),50)","v":0},{"$f":"IF(VLOOKUP(F236,Intersections!A:E,5,FALSE)=\"Unique\",$B$22,IF(VLOOKUP(F236,Intersections!A:E,5,FALSE)=\"Split\",$B$23,0))","v":0},{"$f":"VLOOKUP(F236,Intersections!A:F,6,FALSE)","v":8000},2,{"$f":"VLOOKUP(F236,Intersections!A:G,7,FALSE)","v":5200},6,0,{"$f":"_xlfn.IFS(VLOOKUP(F236,Intersections!A:H,8,FALSE)<=0.7,$B$30,VLOOKUP(F236,Intersections!A:H,8,FALSE)<=2,$B$31,TRUE,0)","v":5},{"$f":"_xlfn.IFS(VLOOKUP(F236,Intersections!A:D,4,FALSE)=\"Urban\",$B$30,TRUE,0)","v":0}]
[null,null,null,null,null,"US 30 NE RAMP CURV & OAKS AVE",{"$f":"COUNTIF('WWD Crashes'!C:C,F237)","v":0},{"$f":"COUNTIFS('Non-Crash Events'!B:B,F237,'Non-Crash Events'!R:R,\">0\")","v":0},28,null,null,null,null,null,null,null,null,null,null,null,null,null,null,null,null,null,{"$f":"SUMIFS('WWD Crashes'!G:G,'WWD Crashes'!C:C,F237)","v":0},{"$f":"_xlfn.IFS(AA237<0.125,$B$3,AA237<0.25,$B$4,AA237<0.5,$B$5,AA237<0.99,$B$6,AA237<1.5,$B$7,TRUE,$B$8)+$B$9*SUMIFS('WWD Crashes'!G:G,'WWD Crashes'!C:C,F237,'WWD Crashes'!L:L,\">0\")++$B$10*SUMIFS('WWD Crashes'!G:G,'WWD Crashes'!C:C,F237,'WWD Crashes'!M:M,\">0\")","v":0},{"$f":"MIN($B$16*SUMIF('Non-Crash Events'!B:B,F237,'Non-Crash Events'!R:R),50)","v":0},{"$f":"IF(VLOOKUP(F237,Intersections!A:E,5,FALSE)=\"Unique\",$B$22,IF(VLOOKUP(F237,Intersections!A:E,5,FALSE)=\"Split\",$B$23,0))","v":25},{"$f":"VLOOKUP(F237,Intersections!A:F,6,FALSE)","v":9100},2,{"$f":"VLOOKUP(F237,Intersections!A:G,7,FALSE)","v":520},1,0,{"$f":"_xlfn.IFS(VLOOKUP(F237,Intersections!A:H,8,FALSE)<=0.7,$B$30,VLOOKUP(F237,Intersections!A:H,8,FALSE)<=2,$B$31,TRUE,0)","v":0},{"$f":"_xlfn.IFS(VLOOKUP(F237,Intersections!A:D,4,FALSE)=\"Urban\",$B$30,TRUE,0)","v":0}]
[null,null,null,{"$f":"HYPERLINK(\"#'Weight Based'!\"&ADDRESS(5,11),\"Jump to Details\")","v":"Jump to Details"},null,"US 34 E & FRANKLIN AVE N TO US 34 E",{"$f":"COUNTIF('WWD Crashes'!C:C,F238)","v":0},{"$f":"COUNTIFS('Non-Crash Events'!B:B,F238,'Non-Crash Events'!R:R,\">0\")","v":0},28,null,null,null,null,null,null,null,null,null,null,null,null,null,null,null,null,null,{"$f":"SUMIFS('WWD Crashes'!G:G,'WWD Crashes'!C:C,F238)","v":0},{"$f":"_xlfn.IFS(AA238<0.125,$B$3,AA238<0.25,$B$4,AA238<0.5,$B$5,AA238<0.99,$B$6,AA238<1.5,$B$7,TRUE,$B$8)+$B$9*SUMIFS('WWD Crashes'!G:G,'WWD Crashes'!C:C,F238,'WWD Crashes'!L:L,\">0\")++$B$10*SUMIFS('WWD Crashes'!G:G,'WWD Crashes'!C:C,F238,'WWD Crashes'!M:M,\">0\")","v":0},{"$f":"MIN($B$16*SUMIF('Non-Crash Events'!B:B,F238,'Non-Crash Events'!R:R),50)","v":0},{"$f":"IF(VLOOKUP(F238,Intersections!A:E,5,FALSE)=\"Unique\",$B$22,IF(VLOOKUP(F238,Intersections!A:E,5,FALSE)=\"Split\",$B$23,0))","v":25},{"$f":"VLOOKUP(F238,Intersections!A:F,6,FALSE)","v":6000},1,{"$f":"VLOOKUP(F238,Intersections!A:G,7,FALSE)","v":1160},2,0,{"$f":"_xlfn.IFS(VLOOKUP(F238,Intersections!A:H,8,FALSE)<=0.7,$B$30,VLOOKUP(F238,Intersections!A:H,8,FALSE)<=2,$B$31,TRUE,0)","v":0},{"$f":"_xlfn.IFS(VLOOKUP(F238,Intersections!A:D,4,FALSE)=\"Urban\",$B$30,TRUE,0)","v":0}]
[null,null,null,null,null,"I 80 E & I 80 E TO HWY F-48 W E",{"$f":"COUNTIF('WWD Crashes'!C:C,F239)","v":1},{"$f":"COUNTIFS('Non-Crash Events'!B:B,F239,'Non-Crash Events'!R:R,\">0\")","v":0},28,null,null,null,null,null,null,null,null,null,null,null,null,null,null,null,null,null,{"$f":"SUMIFS('WWD Crashes'!G:G,'WWD Crashes'!C:C,F239)","v":0.5},{"$f":"_xlfn.IFS(AA239<0.125,$B$3,AA239<0.25,$B$4,AA239<0.5,$B$5,AA239<0.99,$B$6,AA239<1.5,$B$7,TRUE,$B$8)+$B$9*SUMIFS('WWD Crashes'!G:G,'WWD Crashes'!C:C,F239,'WWD Crashes'!L:L,\">0\")++$B$10*SUMIFS('WWD Crashes'!G:G,'WWD Crashes'!C:C,F239,'WWD Crashes'!M:M,\">0\")","v":15},{"$f":"MIN($B$16*SUMIF('Non-Crash Events'!B:B,F239,'Non-Crash Events'!R:R),50)","v":0},{"$f":"IF(VLOOKUP(F239,Intersections!A:E,5,FALSE)=\"Unique\",$B$22,IF(VLOOKUP(F239,Intersections!A:E,5,FALSE)=\"Split\",$B$23,0))","v":0},{"$f":"VLOOKUP(F239,Intersections!A:F,6,FALSE)","v":31300},8,{"$f":"VLOOKUP(F239,Intersections!A:G,7,FALSE)","v":3850},5,0,{"$f":"_xlfn.IFS(VLOOKUP(F239,Intersections!A:H,8,FALSE)<=0.7,$B$30,VLOOKUP(F239,Intersections!A:H,8,FALSE)<=2,$B$31,TRUE,0)","v":0},{"$f":"_xlfn.IFS(VLOOKUP(F239,Intersections!A:D,4,FALSE)=\"Urban\",$B$30,TRUE,0)","v":0}]
[null,null,null,null,null,"US-61 NW RAMP & LECLAIRE RD",{"$f":"COUNTIF('WWD Crashes'!C:C,F240)","v":0},{"$f":"COUNTIFS('Non-Crash Events'!B:B,F240,'Non-Crash Events'!R:R,\">0\")","v":0},27,null,null,null,null,null,null,null,null,null,null,null,null,null,null,null,null,null,{"$f":"SUMIFS('WWD Crashes'!G:G,'WWD Crashes'!C:C,F240)","v":0},{"$f":"_xlfn.IFS(AA240<0.125,$B$3,AA240<0.25,$B$4,AA240<0.5,$B$5,AA240<0.99,$B$6,AA240<1.5,$B$7,TRUE,$B$8)+$B$9*SUMIFS('WWD Crashes'!G:G,'WWD Crashes'!C:C,F240,'WWD Crashes'!L:L,\">0\")++$B$10*SUMIFS('WWD Crashes'!G:G,'WWD Crashes'!C:C,F240,'WWD Crashes'!M:M,\">0\")","v":0},{"$f":"MIN($B$16*SUMIF('Non-Crash Events'!B:B,F240,'Non-Crash Events'!R:R),50)","v":0},{"$f":"IF(VLOOKUP(F240,Intersections!A:E,5,FALSE)=\"Unique\",$B$22,IF(VLOOKUP(F240,Intersections!A:E,5,FALSE)=\"Split\",$B$23,0))","v":0},{"$f":"VLOOKUP(F240,Intersections!A:F,6,FALSE)","v":33200},8,{"$f":"VLOOKUP(F240,Intersections!A:G,7,FALSE)","v":14800},9,0,{"$f":"_xlfn.IFS(VLOOKUP(F240,Intersections!A:H,8,FALSE)<=0.7,$B$30,VLOOKUP(F240,Intersections!A:H,8,FALSE)<=2,$B$31,TRUE,0)","v":10},{"$f":"_xlfn.IFS(VLOOKUP(F240,Intersections!A:D,4,FALSE)=\"Urban\",$B$30,TRUE,0)","v":10}]
[null,null,null,null,null,"IA 141 E & IA 141 E TO 1ST ST W",{"$f":"COUNTIF('WWD Crashes'!C:C,F241)","v":0},{"$f":"COUNTIFS('Non-Crash Events'!B:B,F241,'Non-Crash Events'!R:R,\">0\")","v":0},27,null,null,null,null,null,null,null,null,null,null,null,null,null,null,null,null,null,{"$f":"SUMIFS('WWD Crashes'!G:G,'WWD Crashes'!C:C,F241)","v":0},{"$f":"_xlfn.IFS(AA241<0.125,$B$3,AA241<0.25,$B$4,AA241<0.5,$B$5,AA241<0.99,$B$6,AA241<1.5,$B$7,TRUE,$B$8)+$B$9*SUMIFS('WWD Crashes'!G:G,'WWD Crashes'!C:C,F241,'WWD Crashes'!L:L,\">0\")++$B$10*SUMIFS('WWD Crashes'!G:G,'WWD Crashes'!C:C,F241,'WWD Crashes'!M:M,\">0\")","v":0},{"$f":"MIN($B$16*SUMIF('Non-Crash Events'!B:B,F241,'Non-Crash Events'!R:R),50)","v":0},{"$f":"IF(VLOOKUP(F241,Intersections!A:E,5,FALSE)=\"Unique\",$B$22,IF(VLOOKUP(F241,Intersections!A:E,5,FALSE)=\"Split\",$B$23,0))","v":0},{"$f":"VLOOKUP(F241,Intersections!A:F,6,FALSE)","v":30600},8,{"$f":"VLOOKUP(F241,Intersections!A:G,7,FALSE)","v":16000},9,0,{"$f":"_xlfn.IFS(VLOOKUP(F241,Intersections!A:H,8,FALSE)<=0.7,$B$30,VLOOKUP(F241,Intersections!A:H,8,FALSE)<=2,$B$31,TRUE,0)","v":10},{"$f":"_xlfn.IFS(VLOOKUP(F241,Intersections!A:D,4,FALSE)=\"Urban\",$B$30,TRUE,0)","v":10}]
[null,null,null,null,null,"I-380 NE RAMP & E SAN MARNAN DR",{"$f":"COUNTIF('WWD Crashes'!C:C,F242)","v":0},{"$f":"COUNTIFS('Non-Crash Events'!B:B,F242,'Non-Crash Events'!R:R,\">0\")","v":0},27,null,null,null,null,null,null,null,null,null,null,null,null,null,null,null,null,null,{"$f":"SUMIFS('WWD Crashes'!G:G,'WWD Crashes'!C:C,F242)","v":0},{"$f":"_xlfn.IFS(AA242<0.125,$B$3,AA242<0.25,$B$4,AA242<0.5,$B$5,AA242<0.99,$B$6,AA242<1.5,$B$7,TRUE,$B$8)+$B$9*SUMIFS('WWD Crashes'!G:G,'WWD Crashes'!C:C,F242,'WWD Crashes'!L:L,\">0\")++$B$10*SUMIFS('WWD Crashes'!G:G,'WWD Crashes'!C:C,F242,'WWD Crashes'!M:M,\">0\")","v":0},{"$f":"MIN($B$16*SUMIF('Non-Crash Events'!B:B,F242,'Non-Crash Events'!R:R),50)","v":0},{"$f":"IF(VLOOKUP(F242,Intersections!A:E,5,FALSE)=\"Unique\",$B$22,IF(VLOOKUP(F242,Intersections!A:E,5,FALSE)=\"Split\",$B$23,0))","v":0},{"$f":"VLOOKUP(F242,Intersections!A:F,6,FALSE)","v":26600},7,{"$f":"VLOOKUP(F242,Intersections!A:G,7,FALSE)","v":19500},10,0,{"$f":"_xlfn.IFS(VLOOKUP(F242,Intersections!A:H,8,FALSE)<=0.7,$B$30,VLOOKUP(F242,Intersections!A:H,8,FALSE)<=2,$B$31,TRUE,0)","v":10},{"$f":"_xlfn.IFS(VLOOKUP(F242,Intersections!A:D,4,FALSE)=\"Urban\",$B$30,TRUE,0)","v":10}]
[null,null,null,null,null,"US-61/US-151 & White St/Central Ave",{"$f":"COUNTIF('WWD Crashes'!C:C,F243)","v":0},{"$f":"COUNTIFS('Non-Crash Events'!B:B,F243,'Non-Crash Events'!R:R,\">0\")","v":0},27,null,null,null,null,null,null,null,null,null,null,null,null,null,null,null,null,null,{"$f":"SUMIFS('WWD Crashes'!G:G,'WWD Crashes'!C:C,F243)","v":0},{"$f":"_xlfn.IFS(AA243<0.125,$B$3,AA243<0.25,$B$4,AA243<0.5,$B$5,AA243<0.99,$B$6,AA243<1.5,$B$7,TRUE,$B$8)+$B$9*SUMIFS('WWD Crashes'!G:G,'WWD Crashes'!C:C,F243,'WWD Crashes'!L:L,\">0\")++$B$10*SUMIFS('WWD Crashes'!G:G,'WWD Crashes'!C:C,F243,'WWD Crashes'!M:M,\">0\")","v":0},{"$f":"MIN($B$16*SUMIF('Non-Crash Events'!B:B,F243,'Non-Crash Events'!R:R),50)","v":0},{"$f":"IF(VLOOKUP(F243,Intersections!A:E,5,FALSE)=\"Unique\",$B$22,IF(VLOOKUP(F243,Intersections!A:E,5,FALSE)=\"Split\",$B$23,0))","v":0},{"$f":"VLOOKUP(F243,Intersections!A:F,6,FALSE)","v":35700},8,{"$f":"VLOOKUP(F243,Intersections!A:G,7,FALSE)","v":10200},9,0,{"$f":"_xlfn.IFS(VLOOKUP(F243,Intersections!A:H,8,FALSE)<=0.7,$B$30,VLOOKUP(F243,Intersections!A:H,8,FALSE)<=2,$B$31,TRUE,0)","v":10},{"$f":"_xlfn.IFS(VLOOKUP(F243,Intersections!A:D,4,FALSE)=\"Urban\",$B$30,TRUE,0)","v":10}]
[null,null,null,null,null,"I-29 & Nebraska St & Gordon Dr",{"$f":"COUNTIF('WWD Crashes'!C:C,F244)","v":0},{"$f":"COUNTIFS('Non-Crash Events'!B:B,F244,'Non-Crash Events'!R:R,\">0\")","v":0},27,null,null,null,null,null,null,null,null,null,null,null,null,null,null,null,null,null,{"$f":"SUMIFS('WWD Crashes'!G:G,'WWD Crashes'!C:C,F244)","v":0},{"$f":"_xlfn.IFS(AA244<0.125,$B$3,AA244<0.25,$B$4,AA244<0.5,$B$5,AA244<0.99,$B$6,AA244<1.5,$B$7,TRUE,$B$8)+$B$9*SUMIFS('WWD Crashes'!G:G,'WWD Crashes'!C:C,F244,'WWD Crashes'!L:L,\">0\")++$B$10*SUMIFS('WWD Crashes'!G:G,'WWD Crashes'!C:C,F244,'WWD Crashes'!M:M,\">0\")","v":0},{"$f":"MIN($B$16*SUMIF('Non-Crash Events'!B:B,F244,'Non-Crash Events'!R:R),50)","v":0},{"$f":"IF(VLOOKUP(F244,Intersections!A:E,5,FALSE)=\"Unique\",$B$22,IF(VLOOKUP(F244,Intersections!A:E,5,FALSE)=\"Split\",$B$23,0))","v":0},{"$f":"VLOOKUP(F244,Intersections!A:F,6,FALSE)","v":34300},8,{"$f":"VLOOKUP(F244,Intersections!A:G,7,FALSE)","v":10700},9,0,{"$f":"_xlfn.IFS(VLOOKUP(F244,Intersections!A:H,8,FALSE)<=0.7,$B$30,VLOOKUP(F244,Intersections!A:H,8,FALSE)<=2,$B$31,TRUE,0)","v":10},{"$f":"_xlfn.IFS(VLOOKUP(F244,Intersections!A:D,4,FALSE)=\"Urban\",$B$30,TRUE,0)","v":10}]
[null,null,null,null,null,"I 235 W & I 235 W TO 56TH ST",{"$f":"COUNTIF('WWD Crashes'!C:C,F245)","v":0},{"$f":"COUNTIFS('Non-Crash Events'!B:B,F245,'Non-Crash Events'!R:R,\">0\")","v":0},27,null,null,null,null,null,null,null,null,null,null,null,null,null,null,null,null,null,{"$f":"SUMIFS('WWD Crashes'!G:G,'WWD Crashes'!C:C,F245)","v":0},{"$f":"_xlfn.IFS(AA245<0.125,$B$3,AA245<0.25,$B$4,AA245<0.5,$B$5,AA245<0.99,$B$6,AA245<1.5,$B$7,TRUE,$B$8)+$B$9*SUMIFS('WWD Crashes'!G:G,'WWD Crashes'!C:C,F245,'WWD Crashes'!L:L,\">0\")++$B$10*SUMIFS('WWD Crashes'!G:G,'WWD Crashes'!C:C,F245,'WWD Crashes'!M:M,\">0\")","v":0},{"$f":"MIN($B$16*SUMIF('Non-Crash Events'!B:B,F245,'Non-Crash Events'!R:R),50)","v":0},{"$f":"IF(VLOOKUP(F245,Intersections!A:E,5,FALSE)=\"Unique\",$B$22,IF(VLOOKUP(F245,Intersections!A:E,5,FALSE)=\"Split\",$B$23,0))","v":0},{"$f":"VLOOKUP(F245,Intersections!A:F,6,FALSE)","v":139000},10,{"$f":"VLOOKUP(F245,Intersections!A:G,7,FALSE)","v":8200},7,5,{"$f":"_xlfn.IFS(VLOOKUP(F245,Intersections!A:H,8,FALSE)<=0.7,$B$30,VLOOKUP(F245,Intersections!A:H,8,FALSE)<=2,$B$31,TRUE,0)","v":5},{"$f":"_xlfn.IFS(VLOOKUP(F245,Intersections!A:D,4,FALSE)=\"Urban\",$B$30,TRUE,0)","v":10}]
[null,null,null,null,null,"IA-60 & US-75",{"$f":"COUNTIF('WWD Crashes'!C:C,F246)","v":1},{"$f":"COUNTIFS('Non-Crash Events'!B:B,F246,'Non-Crash Events'!R:R,\">0\")","v":0},27,null,null,null,null,null,null,null,null,null,null,null,null,null,null,null,null,null,{"$f":"SUMIFS('WWD Crashes'!G:G,'WWD Crashes'!C:C,F246)","v":0.5},{"$f":"_xlfn.IFS(AA246<0.125,$B$3,AA246<0.25,$B$4,AA246<0.5,$B$5,AA246<0.99,$B$6,AA246<1.5,$B$7,TRUE,$B$8)+$B$9*SUMIFS('WWD Crashes'!G:G,'WWD Crashes'!C:C,F246,'WWD Crashes'!L:L,\">0\")++$B$10*SUMIFS('WWD Crashes'!G:G,'WWD Crashes'!C:C,F246,'WWD Crashes'!M:M,\">0\")","v":15},{"$f":"MIN($B$16*SUMIF('Non-Crash Events'!B:B,F246,'Non-Crash Events'!R:R),50)","v":0},{"$f":"IF(VLOOKUP(F246,Intersections!A:E,5,FALSE)=\"Unique\",$B$22,IF(VLOOKUP(F246,Intersections!A:E,5,FALSE)=\"Split\",$B$23,0))","v":0},{"$f":"VLOOKUP(F246,Intersections!A:F,6,FALSE)","v":6600},1,{"$f":"VLOOKUP(F246,Intersections!A:G,7,FALSE)","v":4880},6,0,{"$f":"_xlfn.IFS(VLOOKUP(F246,Intersections!A:H,8,FALSE)<=0.7,$B$30,VLOOKUP(F246,Intersections!A:H,8,FALSE)<=2,$B$31,TRUE,0)","v":5},{"$f":"_xlfn.IFS(VLOOKUP(F246,Intersections!A:D,4,FALSE)=\"Urban\",$B$30,TRUE,0)","v":0}]
[null,null,null,null,null,"I-35 & IA-2",{"$f":"COUNTIF('WWD Crashes'!C:C,F247)","v":1},{"$f":"COUNTIFS('Non-Crash Events'!B:B,F247,'Non-Crash Events'!R:R,\">0\")","v":0},27,null,null,null,null,null,null,null,null,null,null,null,null,null,null,null,null,null,{"$f":"SUMIFS('WWD Crashes'!G:G,'WWD Crashes'!C:C,F247)","v":1},{"$f":"_xlfn.IFS(AA247<0.125,$B$3,AA247<0.25,$B$4,AA247<0.5,$B$5,AA247<0.99,$B$6,AA247<1.5,$B$7,TRUE,$B$8)+$B$9*SUMIFS('WWD Crashes'!G:G,'WWD Crashes'!C:C,F247,'WWD Crashes'!L:L,\">0\")++$B$10*SUMIFS('WWD Crashes'!G:G,'WWD Crashes'!C:C,F247,'WWD Crashes'!M:M,\">0\")","v":20},{"$f":"MIN($B$16*SUMIF('Non-Crash Events'!B:B,F247,'Non-Crash Events'!R:R),50)","v":0},{"$f":"IF(VLOOKUP(F247,Intersections!A:E,5,FALSE)=\"Unique\",$B$22,IF(VLOOKUP(F247,Intersections!A:E,5,FALSE)=\"Split\",$B$23,0))","v":0},{"$f":"VLOOKUP(F247,Intersections!A:F,6,FALSE)","v":14400},4,{"$f":"VLOOKUP(F247,Intersections!A:G,7,FALSE)","v":2140},3,0,{"$f":"_xlfn.IFS(VLOOKUP(F247,Intersections!A:H,8,FALSE)<=0.7,$B$30,VLOOKUP(F247,Intersections!A:H,8,FALSE)<=2,$B$31,TRUE,0)","v":0},{"$f":"_xlfn.IFS(VLOOKUP(F247,Intersections!A:D,4,FALSE)=\"Urban\",$B$30,TRUE,0)","v":0}]
[null,null,null,null,null,"I-35 & IA-175/330th St",{"$f":"COUNTIF('WWD Crashes'!C:C,F248)","v":0},{"$f":"COUNTIFS('Non-Crash Events'!B:B,F248,'Non-Crash Events'!R:R,\">0\")","v":2},26.8,null,null,null,null,null,null,null,null,null,null,null,null,null,null,null,null,null,{"$f":"SUMIFS('WWD Crashes'!G:G,'WWD Crashes'!C:C,F248)","v":0},{"$f":"_xlfn.IFS(AA248<0.125,$B$3,AA248<0.25,$B$4,AA248<0.5,$B$5,AA248<0.99,$B$6,AA248<1.5,$B$7,TRUE,$B$8)+$B$9*SUMIFS('WWD Crashes'!G:G,'WWD Crashes'!C:C,F248,'WWD Crashes'!L:L,\">0\")++$B$10*SUMIFS('WWD Crashes'!G:G,'WWD Crashes'!C:C,F248,'WWD Crashes'!M:M,\">0\")","v":0},{"$f":"MIN($B$16*SUMIF('Non-Crash Events'!B:B,F248,'Non-Crash Events'!R:R),50)","v":5.8000000000000007},{"$f":"IF(VLOOKUP(F248,Intersections!A:E,5,FALSE)=\"Unique\",$B$22,IF(VLOOKUP(F248,Intersections!A:E,5,FALSE)=\"Split\",$B$23,0))","v":0},{"$f":"VLOOKUP(F248,Intersections!A:F,6,FALSE)","v":26000},7,{"$f":"VLOOKUP(F248,Intersections!A:G,7,FALSE)","v":2940},4,0,{"$f":"_xlfn.IFS(VLOOKUP(F248,Intersections!A:H,8,FALSE)<=0.7,$B$30,VLOOKUP(F248,Intersections!A:H,8,FALSE)<=2,$B$31,TRUE,0)","v":10},{"$f":"_xlfn.IFS(VLOOKUP(F248,Intersections!A:D,4,FALSE)=\"Urban\",$B$30,TRUE,0)","v":0}]
[null,null,null,null,null,"US- 20 N RAMP & HAWKEYE RD/ IA 21",{"$f":"COUNTIF('WWD Crashes'!C:C,F249)","v":0},{"$f":"COUNTIFS('Non-Crash Events'!B:B,F249,'Non-Crash Events'!R:R,\">0\")","v":0},26,null,null,null,null,null,null,null,null,null,null,null,null,null,null,null,null,null,{"$f":"SUMIFS('WWD Crashes'!G:G,'WWD Crashes'!C:C,F249)","v":0},{"$f":"_xlfn.IFS(AA249<0.125,$B$3,AA249<0.25,$B$4,AA249<0.5,$B$5,AA249<0.99,$B$6,AA249<1.5,$B$7,TRUE,$B$8)+$B$9*SUMIFS('WWD Crashes'!G:G,'WWD Crashes'!C:C,F249,'WWD Crashes'!L:L,\">0\")++$B$10*SUMIFS('WWD Crashes'!G:G,'WWD Crashes'!C:C,F249,'WWD Crashes'!M:M,\">0\")","v":0},{"$f":"MIN($B$16*SUMIF('Non-Crash Events'!B:B,F249,'Non-Crash Events'!R:R),50)","v":0},{"$f":"IF(VLOOKUP(F249,Intersections!A:E,5,FALSE)=\"Unique\",$B$22,IF(VLOOKUP(F249,Intersections!A:E,5,FALSE)=\"Split\",$B$23,0))","v":0},{"$f":"VLOOKUP(F249,Intersections!A:F,6,FALSE)","v":28400},7,{"$f":"VLOOKUP(F249,Intersections!A:G,7,FALSE)","v":11900},9,0,{"$f":"_xlfn.IFS(VLOOKUP(F249,Intersections!A:H,8,FALSE)<=0.7,$B$30,VLOOKUP(F249,Intersections!A:H,8,FALSE)<=2,$B$31,TRUE,0)","v":10},{"$f":"_xlfn.IFS(VLOOKUP(F249,Intersections!A:D,4,FALSE)=\"Urban\",$B$30,TRUE,0)","v":10}]
[null,null,null,null,null,"US-218 SW RAMP & ANSBOROUGH AVE",{"$f":"COUNTIF('WWD Crashes'!C:C,F250)","v":0},{"$f":"COUNTIFS('Non-Crash Events'!B:B,F250,'Non-Crash Events'!R:R,\">0\")","v":0},26,null,null,null,null,null,null,null,null,null,null,null,null,null,null,null,null,null,{"$f":"SUMIFS('WWD Crashes'!G:G,'WWD Crashes'!C:C,F250)","v":0},{"$f":"_xlfn.IFS(AA250<0.125,$B$3,AA250<0.25,$B$4,AA250<0.5,$B$5,AA250<0.99,$B$6,AA250<1.5,$B$7,TRUE,$B$8)+$B$9*SUMIFS('WWD Crashes'!G:G,'WWD Crashes'!C:C,F250,'WWD Crashes'!L:L,\">0\")++$B$10*SUMIFS('WWD Crashes'!G:G,'WWD Crashes'!C:C,F250,'WWD Crashes'!M:M,\">0\")","v":0},{"$f":"MIN($B$16*SUMIF('Non-Crash Events'!B:B,F250,'Non-Crash Events'!R:R),50)","v":0},{"$f":"IF(VLOOKUP(F250,Intersections!A:E,5,FALSE)=\"Unique\",$B$22,IF(VLOOKUP(F250,Intersections!A:E,5,FALSE)=\"Split\",$B$23,0))","v":0},{"$f":"VLOOKUP(F250,Intersections!A:F,6,FALSE)","v":29200},7,{"$f":"VLOOKUP(F250,Intersections!A:G,7,FALSE)","v":9800},9,0,{"$f":"_xlfn.IFS(VLOOKUP(F250,Intersections!A:H,8,FALSE)<=0.7,$B$30,VLOOKUP(F250,Intersections!A:H,8,FALSE)<=2,$B$31,TRUE,0)","v":10},{"$f":"_xlfn.IFS(VLOOKUP(F250,Intersections!A:D,4,FALSE)=\"Urban\",$B$30,TRUE,0)","v":10}]
[null,null,null,null,null,"US 218 E RAMP & LONE TREE RD",{"$f":"COUNTIF('WWD Crashes'!C:C,F251)","v":1},{"$f":"COUNTIFS('Non-Crash Events'!B:B,F251,'Non-Crash Events'!R:R,\">0\")","v":0},26,null,null,null,null,null,null,null,null,null,null,null,null,null,null,null,null,null,{"$f":"SUMIFS('WWD Crashes'!G:G,'WWD Crashes'!C:C,F251)","v":0.25},{"$f":"_xlfn.IFS(AA251<0.125,$B$3,AA251<0.25,$B$4,AA251<0.5,$B$5,AA251<0.99,$B$6,AA251<1.5,$B$7,TRUE,$B$8)+$B$9*SUMIFS('WWD Crashes'!G:G,'WWD Crashes'!C:C,F251,'WWD Crashes'!L:L,\">0\")++$B$10*SUMIFS('WWD Crashes'!G:G,'WWD Crashes'!C:C,F251,'WWD Crashes'!M:M,\">0\")","v":10},{"$f":"MIN($B$16*SUMIF('Non-Crash Events'!B:B,F251,'Non-Crash Events'!R:R),50)","v":0},{"$f":"IF(VLOOKUP(F251,Intersections!A:E,5,FALSE)=\"Unique\",$B$22,IF(VLOOKUP(F251,Intersections!A:E,5,FALSE)=\"Split\",$B$23,0))","v":0},{"$f":"VLOOKUP(F251,Intersections!A:F,6,FALSE)","v":26400},7,{"$f":"VLOOKUP(F251,Intersections!A:G,7,FALSE)","v":3340},4,0,{"$f":"_xlfn.IFS(VLOOKUP(F251,Intersections!A:H,8,FALSE)<=0.7,$B$30,VLOOKUP(F251,Intersections!A:H,8,FALSE)<=2,$B$31,TRUE,0)","v":5},{"$f":"_xlfn.IFS(VLOOKUP(F251,Intersections!A:D,4,FALSE)=\"Urban\",$B$30,TRUE,0)","v":10}]
[null,null,null,null,null,"US-34 & Pine St/New London Rd",{"$f":"COUNTIF('WWD Crashes'!C:C,F252)","v":1},{"$f":"COUNTIFS('Non-Crash Events'!B:B,F252,'Non-Crash Events'!R:R,\">0\")","v":0},26,null,null,null,null,null,null,null,null,null,null,null,null,null,null,null,null,null,{"$f":"SUMIFS('WWD Crashes'!G:G,'WWD Crashes'!C:C,F252)","v":0.5},{"$f":"_xlfn.IFS(AA252<0.125,$B$3,AA252<0.25,$B$4,AA252<0.5,$B$5,AA252<0.99,$B$6,AA252<1.5,$B$7,TRUE,$B$8)+$B$9*SUMIFS('WWD Crashes'!G:G,'WWD Crashes'!C:C,F252,'WWD Crashes'!L:L,\">0\")++$B$10*SUMIFS('WWD Crashes'!G:G,'WWD Crashes'!C:C,F252,'WWD Crashes'!M:M,\">0\")","v":15},{"$f":"MIN($B$16*SUMIF('Non-Crash Events'!B:B,F252,'Non-Crash Events'!R:R),50)","v":0},{"$f":"IF(VLOOKUP(F252,Intersections!A:E,5,FALSE)=\"Unique\",$B$22,IF(VLOOKUP(F252,Intersections!A:E,5,FALSE)=\"Split\",$B$23,0))","v":0},{"$f":"VLOOKUP(F252,Intersections!A:F,6,FALSE)","v":8000},2,{"$f":"VLOOKUP(F252,Intersections!A:G,7,FALSE)","v":2710},4,0,{"$f":"_xlfn.IFS(VLOOKUP(F252,Intersections!A:H,8,FALSE)<=0.7,$B$30,VLOOKUP(F252,Intersections!A:H,8,FALSE)<=2,$B$31,TRUE,0)","v":5},{"$f":"_xlfn.IFS(VLOOKUP(F252,Intersections!A:D,4,FALSE)=\"Urban\",$B$30,TRUE,0)","v":0}]
[null,null,null,null,null,"I-29 & IA-2",{"$f":"COUNTIF('WWD Crashes'!C:C,F253)","v":1},{"$f":"COUNTIFS('Non-Crash Events'!B:B,F253,'Non-Crash Events'!R:R,\">0\")","v":0},26,null,null,null,null,null,null,null,null,null,null,null,null,null,null,null,null,null,{"$f":"SUMIFS('WWD Crashes'!G:G,'WWD Crashes'!C:C,F253)","v":0.5},{"$f":"_xlfn.IFS(AA253<0.125,$B$3,AA253<0.25,$B$4,AA253<0.5,$B$5,AA253<0.99,$B$6,AA253<1.5,$B$7,TRUE,$B$8)+$B$9*SUMIFS('WWD Crashes'!G:G,'WWD Crashes'!C:C,F253,'WWD Crashes'!L:L,\">0\")++$B$10*SUMIFS('WWD Crashes'!G:G,'WWD Crashes'!C:C,F253,'WWD Crashes'!M:M,\">0\")","v":15},{"$f":"MIN($B$16*SUMIF('Non-Crash Events'!B:B,F253,'Non-Crash Events'!R:R),50)","v":0},{"$f":"IF(VLOOKUP(F253,Intersections!A:E,5,FALSE)=\"Unique\",$B$22,IF(VLOOKUP(F253,Intersections!A:E,5,FALSE)=\"Split\",$B$23,0))","v":0},{"$f":"VLOOKUP(F253,Intersections!A:F,6,FALSE)","v":14100},4,{"$f":"VLOOKUP(F253,Intersections!A:G,7,FALSE)","v":8000},7,0,{"$f":"_xlfn.IFS(VLOOKUP(F253,Intersections!A:H,8,FALSE)<=0.7,$B$30,VLOOKUP(F253,Intersections!A:H,8,FALSE)<=2,$B$31,TRUE,0)","v":0},{"$f":"_xlfn.IFS(VLOOKUP(F253,Intersections!A:D,4,FALSE)=\"Urban\",$B$30,TRUE,0)","v":0}]
[null,null,null,null,null,"I-29 & IA-300",{"$f":"COUNTIF('WWD Crashes'!C:C,F254)","v":1},{"$f":"COUNTIFS('Non-Crash Events'!B:B,F254,'Non-Crash Events'!R:R,\">0\")","v":0},26,null,null,null,null,null,null,null,null,null,null,null,null,null,null,null,null,null,{"$f":"SUMIFS('WWD Crashes'!G:G,'WWD Crashes'!C:C,F254)","v":1},{"$f":"_xlfn.IFS(AA254<0.125,$B$3,AA254<0.25,$B$4,AA254<0.5,$B$5,AA254<0.99,$B$6,AA254<1.5,$B$7,TRUE,$B$8)+$B$9*SUMIFS('WWD Crashes'!G:G,'WWD Crashes'!C:C,F254,'WWD Crashes'!L:L,\">0\")++$B$10*SUMIFS('WWD Crashes'!G:G,'WWD Crashes'!C:C,F254,'WWD Crashes'!M:M,\">0\")","v":20},{"$f":"MIN($B$16*SUMIF('Non-Crash Events'!B:B,F254,'Non-Crash Events'!R:R),50)","v":0},{"$f":"IF(VLOOKUP(F254,Intersections!A:E,5,FALSE)=\"Unique\",$B$22,IF(VLOOKUP(F254,Intersections!A:E,5,FALSE)=\"Split\",$B$23,0))","v":0},{"$f":"VLOOKUP(F254,Intersections!A:F,6,FALSE)","v":15700},4,{"$f":"VLOOKUP(F254,Intersections!A:G,7,FALSE)","v":880},2,0,{"$f":"_xlfn.IFS(VLOOKUP(F254,Intersections!A:H,8,FALSE)<=0.7,$B$30,VLOOKUP(F254,Intersections!A:H,8,FALSE)<=2,$B$31,TRUE,0)","v":0},{"$f":"_xlfn.IFS(VLOOKUP(F254,Intersections!A:D,4,FALSE)=\"Urban\",$B$30,TRUE,0)","v":0}]
[null,null,null,null,null,"IA-12/GORDON DR & LEWIS BLVD",{"$f":"COUNTIF('WWD Crashes'!C:C,F255)","v":0},{"$f":"COUNTIFS('Non-Crash Events'!B:B,F255,'Non-Crash Events'!R:R,\">0\")","v":0},25,null,null,null,null,null,null,null,null,null,null,null,null,null,null,null,null,null,{"$f":"SUMIFS('WWD Crashes'!G:G,'WWD Crashes'!C:C,F255)","v":0},{"$f":"_xlfn.IFS(AA255<0.125,$B$3,AA255<0.25,$B$4,AA255<0.5,$B$5,AA255<0.99,$B$6,AA255<1.5,$B$7,TRUE,$B$8)+$B$9*SUMIFS('WWD Crashes'!G:G,'WWD Crashes'!C:C,F255,'WWD Crashes'!L:L,\">0\")++$B$10*SUMIFS('WWD Crashes'!G:G,'WWD Crashes'!C:C,F255,'WWD Crashes'!M:M,\">0\")","v":0},{"$f":"MIN($B$16*SUMIF('Non-Crash Events'!B:B,F255,'Non-Crash Events'!R:R),50)","v":0},{"$f":"IF(VLOOKUP(F255,Intersections!A:E,5,FALSE)=\"Unique\",$B$22,IF(VLOOKUP(F255,Intersections!A:E,5,FALSE)=\"Split\",$B$23,0))","v":0},{"$f":"VLOOKUP(F255,Intersections!A:F,6,FALSE)","v":22900},6,{"$f":"VLOOKUP(F255,Intersections!A:G,7,FALSE)","v":18800},9,0,{"$f":"_xlfn.IFS(VLOOKUP(F255,Intersections!A:H,8,FALSE)<=0.7,$B$30,VLOOKUP(F255,Intersections!A:H,8,FALSE)<=2,$B$31,TRUE,0)","v":10},{"$f":"_xlfn.IFS(VLOOKUP(F255,Intersections!A:D,4,FALSE)=\"Urban\",$B$30,TRUE,0)","v":10}]
[null,null,null,null,null,"IA- 27 E RAMP & UNIVERSITY AVE",{"$f":"COUNTIF('WWD Crashes'!C:C,F256)","v":0},{"$f":"COUNTIFS('Non-Crash Events'!B:B,F256,'Non-Crash Events'!R:R,\">0\")","v":0},25,null,null,null,null,null,null,null,null,null,null,null,null,null,null,null,null,null,{"$f":"SUMIFS('WWD Crashes'!G:G,'WWD Crashes'!C:C,F256)","v":0},{"$f":"_xlfn.IFS(AA256<0.125,$B$3,AA256<0.25,$B$4,AA256<0.5,$B$5,AA256<0.99,$B$6,AA256<1.5,$B$7,TRUE,$B$8)+$B$9*SUMIFS('WWD Crashes'!G:G,'WWD Crashes'!C:C,F256,'WWD Crashes'!L:L,\">0\")++$B$10*SUMIFS('WWD Crashes'!G:G,'WWD Crashes'!C:C,F256,'WWD Crashes'!M:M,\">0\")","v":0},{"$f":"MIN($B$16*SUMIF('Non-Crash Events'!B:B,F256,'Non-Crash Events'!R:R),50)","v":0},{"$f":"IF(VLOOKUP(F256,Intersections!A:E,5,FALSE)=\"Unique\",$B$22,IF(VLOOKUP(F256,Intersections!A:E,5,FALSE)=\"Split\",$B$23,0))","v":0},{"$f":"VLOOKUP(F256,Intersections!A:F,6,FALSE)","v":22200},6,{"$f":"VLOOKUP(F256,Intersections!A:G,7,FALSE)","v":19400},9,0,{"$f":"_xlfn.IFS(VLOOKUP(F256,Intersections!A:H,8,FALSE)<=0.7,$B$30,VLOOKUP(F256,Intersections!A:H,8,FALSE)<=2,$B$31,TRUE,0)","v":10},{"$f":"_xlfn.IFS(VLOOKUP(F256,Intersections!A:D,4,FALSE)=\"Urban\",$B$30,TRUE,0)","v":10}]
[null,null,null,{"$f":"HYPERLINK(\"#'Weight Based'!\"&ADDRESS(5,11),\"Jump to Details\")","v":"Jump to Details"},null,"I 29 N & IA 12 N",{"$f":"COUNTIF('WWD Crashes'!C:C,F257)","v":0},{"$f":"COUNTIFS('Non-Crash Events'!B:B,F257,'Non-Crash Events'!R:R,\">0\")","v":0},25,null,null,null,null,null,null,null,null,null,null,null,null,null,null,null,null,null,{"$f":"SUMIFS('WWD Crashes'!G:G,'WWD Crashes'!C:C,F257)","v":0},{"$f":"_xlfn.IFS(AA257<0.125,$B$3,AA257<0.25,$B$4,AA257<0.5,$B$5,AA257<0.99,$B$6,AA257<1.5,$B$7,TRUE,$B$8)+$B$9*SUMIFS('WWD Crashes'!G:G,'WWD Crashes'!C:C,F257,'WWD Crashes'!L:L,\">0\")++$B$10*SUMIFS('WWD Crashes'!G:G,'WWD Crashes'!C:C,F257,'WWD Crashes'!M:M,\">0\")","v":0},{"$f":"MIN($B$16*SUMIF('Non-Crash Events'!B:B,F257,'Non-Crash Events'!R:R),50)","v":0},{"$f":"IF(VLOOKUP(F257,Intersections!A:E,5,FALSE)=\"Unique\",$B$22,IF(VLOOKUP(F257,Intersections!A:E,5,FALSE)=\"Split\",$B$23,0))","v":0},{"$f":"VLOOKUP(F257,Intersections!A:F,6,FALSE)","v":33200},8,{"$f":"VLOOKUP(F257,Intersections!A:G,7,FALSE)","v":7900},7,0,{"$f":"_xlfn.IFS(VLOOKUP(F257,Intersections!A:H,8,FALSE)<=0.7,$B$30,VLOOKUP(F257,Intersections!A:H,8,FALSE)<=2,$B$31,TRUE,0)","v":10},{"$f":"_xlfn.IFS(VLOOKUP(F257,Intersections!A:D,4,FALSE)=\"Urban\",$B$30,TRUE,0)","v":10}]
[null,null,null,null,null,"US 30 W & US 30 W TO DAKOTA AVE N",{"$f":"COUNTIF('WWD Crashes'!C:C,F258)","v":0},{"$f":"COUNTIFS('Non-Crash Events'!B:B,F258,'Non-Crash Events'!R:R,\">0\")","v":0},{"$f":"SUM(AB258,AC258,AD258,AF258,AH258,AI258,AJ258)","v":25},null,null,null,null,null,null,null,null,null,null,null,null,null,null,null,null,null,{"$f":"SUMIFS('WWD Crashes'!G:G,'WWD Crashes'!C:C,F258)","v":0},{"$f":"_xlfn.IFS(AA258<0.125,$B$3,AA258<0.25,$B$4,AA258<0.5,$B$5,AA258<0.99,$B$6,AA258<1.5,$B$7,TRUE,$B$8)+$B$9*SUMIFS('WWD Crashes'!G:G,'WWD Crashes'!C:C,F258,'WWD Crashes'!L:L,\">0\")++$B$10*SUMIFS('WWD Crashes'!G:G,'WWD Crashes'!C:C,F258,'WWD Crashes'!M:M,\">0\")","v":0},{"$f":"MIN($B$16*SUMIF('Non-Crash Events'!B:B,F258,'Non-Crash Events'!R:R),50)","v":0},{"$f":"IF(VLOOKUP(F258,Intersections!A:E,5,FALSE)=\"Unique\",$B$22,IF(VLOOKUP(F258,Intersections!A:E,5,FALSE)=\"Split\",$B$23,0))","v":0},{"$f":"VLOOKUP(F258,Intersections!A:F,6,FALSE)","v":24400},6,{"$f":"VLOOKUP(F258,Intersections!A:G,7,FALSE)","v":14200},9,0,{"$f":"_xlfn.IFS(VLOOKUP(F258,Intersections!A:H,8,FALSE)<=0.7,$B$30,VLOOKUP(F258,Intersections!A:H,8,FALSE)<=2,$B$31,TRUE,0)","v":10},{"$f":"_xlfn.IFS(VLOOKUP(F258,Intersections!A:D,4,FALSE)=\"Urban\",$B$30,TRUE,0)","v":10}]
[null,null,null,null,null,"US-61/US-151 & Kerper Blvd",{"$f":"COUNTIF('WWD Crashes'!C:C,F259)","v":0},{"$f":"COUNTIFS('Non-Crash Events'!B:B,F259,'Non-Crash Events'!R:R,\">0\")","v":0},25,null,null,null,null,null,null,null,null,null,null,null,null,null,null,null,null,null,{"$f":"SUMIFS('WWD Crashes'!G:G,'WWD Crashes'!C:C,F259)","v":0},{"$f":"_xlfn.IFS(AA259<0.125,$B$3,AA259<0.25,$B$4,AA259<0.5,$B$5,AA259<0.99,$B$6,AA259<1.5,$B$7,TRUE,$B$8)+$B$9*SUMIFS('WWD Crashes'!G:G,'WWD Crashes'!C:C,F259,'WWD Crashes'!L:L,\">0\")++$B$10*SUMIFS('WWD Crashes'!G:G,'WWD Crashes'!C:C,F259,'WWD Crashes'!M:M,\">0\")","v":0},{"$f":"MIN($B$16*SUMIF('Non-Crash Events'!B:B,F259,'Non-Crash Events'!R:R),50)","v":0},{"$f":"IF(VLOOKUP(F259,Intersections!A:E,5,FALSE)=\"Unique\",$B$22,IF(VLOOKUP(F259,Intersections!A:E,5,FALSE)=\"Split\",$B$23,0))","v":0},{"$f":"VLOOKUP(F259,Intersections!A:F,6,FALSE)","v":24600},{"$f":"_xlfn.IFS(AE259<7821,1,AE259<9601,2,AE259<11931,3,AE259<15801,4,AE259<20401,5,AE259<24821,6,AE259<29771,7,AE259<36181,8,AE259<67181,9,TRUE,10)","v":6},{"$f":"VLOOKUP(F259,Intersections!A:G,7,FALSE)","v":11700},{"$f":"_xlfn.IFS(AG259<827,1,AG259<1663,2,AG259<2590,3,AG259<3401,4,AG259<4671,5,AG259<6501,6,AG259<8401,7,AG259<1161,8,AG259<19401,9,TRUE,10)","v":9},{"$f":"IF(AND(AF259>8,AG259>8),5,0)","v":0},{"$f":"_xlfn.IFS(VLOOKUP(F259,Intersections!A:H,8,FALSE)<=0.7,$B$30,VLOOKUP(F259,Intersections!A:H,8,FALSE)<=2,$B$31,TRUE,0)","v":10},{"$f":"_xlfn.IFS(VLOOKUP(F259,Intersections!A:D,4,FALSE)=\"Urban\",$B$30,TRUE,0)","v":10}]
[null,null,null,null,null,"US 34 N Ramps & US 61",{"$f":"COUNTIF('WWD Crashes'!C:C,F260)","v":0},{"$f":"COUNTIFS('Non-Crash Events'!B:B,F260,'Non-Crash Events'!R:R,\">0\")","v":0},25,null,null,null,null,null,null,null,null,null,null,null,null,null,null,null,null,null,{"$f":"SUMIFS('WWD Crashes'!G:G,'WWD Crashes'!C:C,F260)","v":0},{"$f":"_xlfn.IFS(AA260<0.125,$B$3,AA260<0.25,$B$4,AA260<0.5,$B$5,AA260<0.99,$B$6,AA260<1.5,$B$7,TRUE,$B$8)+$B$9*SUMIFS('WWD Crashes'!G:G,'WWD Crashes'!C:C,F260,'WWD Crashes'!L:L,\">0\")++$B$10*SUMIFS('WWD Crashes'!G:G,'WWD Crashes'!C:C,F260,'WWD Crashes'!M:M,\">0\")","v":0},{"$f":"MIN($B$16*SUMIF('Non-Crash Events'!B:B,F260,'Non-Crash Events'!R:R),50)","v":0},{"$f":"IF(VLOOKUP(F260,Intersections!A:E,5,FALSE)=\"Unique\",$B$22,IF(VLOOKUP(F260,Intersections!A:E,5,FALSE)=\"Split\",$B$23,0))","v":0},{"$f":"VLOOKUP(F260,Intersections!A:F,6,FALSE)","v":16500},5,{"$f":"VLOOKUP(F260,Intersections!A:G,7,FALSE)","v":19700},10,0,{"$f":"_xlfn.IFS(VLOOKUP(F260,Intersections!A:H,8,FALSE)<=0.7,$B$30,VLOOKUP(F260,Intersections!A:H,8,FALSE)<=2,$B$31,TRUE,0)","v":10},{"$f":"_xlfn.IFS(VLOOKUP(F260,Intersections!A:D,4,FALSE)=\"Urban\",$B$30,TRUE,0)","v":10}]
[null,null,null,null,null,"IOWA 27 & WATERLOO RD/18TH ST",{"$f":"COUNTIF('WWD Crashes'!C:C,F261)","v":0},{"$f":"COUNTIFS('Non-Crash Events'!B:B,F261,'Non-Crash Events'!R:R,\">0\")","v":0},25,null,null,null,null,null,null,null,null,null,null,null,null,null,null,null,null,null,{"$f":"SUMIFS('WWD Crashes'!G:G,'WWD Crashes'!C:C,F261)","v":0},{"$f":"_xlfn.IFS(AA261<0.125,$B$3,AA261<0.25,$B$4,AA261<0.5,$B$5,AA261<0.99,$B$6,AA261<1.5,$B$7,TRUE,$B$8)+$B$9*SUMIFS('WWD Crashes'!G:G,'WWD Crashes'!C:C,F261,'WWD Crashes'!L:L,\">0\")++$B$10*SUMIFS('WWD Crashes'!G:G,'WWD Crashes'!C:C,F261,'WWD Crashes'!M:M,\">0\")","v":0},{"$f":"MIN($B$16*SUMIF('Non-Crash Events'!B:B,F261,'Non-Crash Events'!R:R),50)","v":0},{"$f":"IF(VLOOKUP(F261,Intersections!A:E,5,FALSE)=\"Unique\",$B$22,IF(VLOOKUP(F261,Intersections!A:E,5,FALSE)=\"Split\",$B$23,0))","v":0},{"$f":"VLOOKUP(F261,Intersections!A:F,6,FALSE)","v":21800},6,{"$f":"VLOOKUP(F261,Intersections!A:G,7,FALSE)","v":11000},9,0,{"$f":"_xlfn.IFS(VLOOKUP(F261,Intersections!A:H,8,FALSE)<=0.7,$B$30,VLOOKUP(F261,Intersections!A:H,8,FALSE)<=2,$B$31,TRUE,0)","v":10},{"$f":"_xlfn.IFS(VLOOKUP(F261,Intersections!A:D,4,FALSE)=\"Urban\",$B$30,TRUE,0)","v":10}]
[null,null,null,null,null,"US 218 N & IA 27 N TO IA 22 W",{"$f":"COUNTIF('WWD Crashes'!C:C,F262)","v":0},{"$f":"COUNTIFS('Non-Crash Events'!B:B,F262,'Non-Crash Events'!R:R,\">0\")","v":0},25,null,null,null,null,null,null,null,null,null,null,null,null,null,null,null,null,null,{"$f":"SUMIFS('WWD Crashes'!G:G,'WWD Crashes'!C:C,F262)","v":0},{"$f":"_xlfn.IFS(AA262<0.125,$B$3,AA262<0.25,$B$4,AA262<0.5,$B$5,AA262<0.99,$B$6,AA262<1.5,$B$7,TRUE,$B$8)+$B$9*SUMIFS('WWD Crashes'!G:G,'WWD Crashes'!C:C,F262,'WWD Crashes'!L:L,\">0\")++$B$10*SUMIFS('WWD Crashes'!G:G,'WWD Crashes'!C:C,F262,'WWD Crashes'!M:M,\">0\")","v":0},{"$f":"MIN($B$16*SUMIF('Non-Crash Events'!B:B,F262,'Non-Crash Events'!R:R),50)","v":0},{"$f":"IF(VLOOKUP(F262,Intersections!A:E,5,FALSE)=\"Unique\",$B$22,IF(VLOOKUP(F262,Intersections!A:E,5,FALSE)=\"Split\",$B$23,0))","v":0},{"$f":"VLOOKUP(F262,Intersections!A:F,6,FALSE)","v":20500},6,{"$f":"VLOOKUP(F262,Intersections!A:G,7,FALSE)","v":9700},9,0,{"$f":"_xlfn.IFS(VLOOKUP(F262,Intersections!A:H,8,FALSE)<=0.7,$B$30,VLOOKUP(F262,Intersections!A:H,8,FALSE)<=2,$B$31,TRUE,0)","v":10},{"$f":"_xlfn.IFS(VLOOKUP(F262,Intersections!A:D,4,FALSE)=\"Urban\",$B$30,TRUE,0)","v":0}]
[null,null,null,null,null,"I 80 W & I 80 W TO NE 112TH ST S",{"$f":"COUNTIF('WWD Crashes'!C:C,F263)","v":0},{"$f":"COUNTIFS('Non-Crash Events'!B:B,F263,'Non-Crash Events'!R:R,\">0\")","v":0},25,null,null,null,null,null,null,null,null,null,null,null,null,null,null,null,null,null,{"$f":"SUMIFS('WWD Crashes'!G:G,'WWD Crashes'!C:C,F263)","v":0},{"$f":"_xlfn.IFS(AA263<0.125,$B$3,AA263<0.25,$B$4,AA263<0.5,$B$5,AA263<0.99,$B$6,AA263<1.5,$B$7,TRUE,$B$8)+$B$9*SUMIFS('WWD Crashes'!G:G,'WWD Crashes'!C:C,F263,'WWD Crashes'!L:L,\">0\")++$B$10*SUMIFS('WWD Crashes'!G:G,'WWD Crashes'!C:C,F263,'WWD Crashes'!M:M,\">0\")","v":0},{"$f":"MIN($B$16*SUMIF('Non-Crash Events'!B:B,F263,'Non-Crash Events'!R:R),50)","v":0},{"$f":"IF(VLOOKUP(F263,Intersections!A:E,5,FALSE)=\"Unique\",$B$22,IF(VLOOKUP(F263,Intersections!A:E,5,FALSE)=\"Split\",$B$23,0))","v":0},{"$f":"VLOOKUP(F263,Intersections!A:F,6,FALSE)","v":38000},9,{"$f":"VLOOKUP(F263,Intersections!A:G,7,FALSE)","v":5100},6,5,{"$f":"_xlfn.IFS(VLOOKUP(F263,Intersections!A:H,8,FALSE)<=0.7,$B$30,VLOOKUP(F263,Intersections!A:H,8,FALSE)<=2,$B$31,TRUE,0)","v":5},{"$f":"_xlfn.IFS(VLOOKUP(F263,Intersections!A:D,4,FALSE)=\"Urban\",$B$30,TRUE,0)","v":0}]
[null,null,null,null,null,"I-29 & Lambert Ave",{"$f":"COUNTIF('WWD Crashes'!C:C,F264)","v":1},{"$f":"COUNTIFS('Non-Crash Events'!B:B,F264,'Non-Crash Events'!R:R,\">0\")","v":0},25,null,null,null,null,null,null,null,null,null,null,null,null,null,null,null,null,null,{"$f":"SUMIFS('WWD Crashes'!G:G,'WWD Crashes'!C:C,F264)","v":0.99},{"$f":"_xlfn.IFS(AA264<0.125,$B$3,AA264<0.25,$B$4,AA264<0.5,$B$5,AA264<0.99,$B$6,AA264<1.5,$B$7,TRUE,$B$8)+$B$9*SUMIFS('WWD Crashes'!G:G,'WWD Crashes'!C:C,F264,'WWD Crashes'!L:L,\">0\")++$B$10*SUMIFS('WWD Crashes'!G:G,'WWD Crashes'!C:C,F264,'WWD Crashes'!M:M,\">0\")","v":20},{"$f":"MIN($B$16*SUMIF('Non-Crash Events'!B:B,F264,'Non-Crash Events'!R:R),50)","v":0},{"$f":"IF(VLOOKUP(F264,Intersections!A:E,5,FALSE)=\"Unique\",$B$22,IF(VLOOKUP(F264,Intersections!A:E,5,FALSE)=\"Split\",$B$23,0))","v":0},{"$f":"VLOOKUP(F264,Intersections!A:F,6,FALSE)","v":14100},4,{"$f":"VLOOKUP(F264,Intersections!A:G,7,FALSE)","v":270},1,0,{"$f":"_xlfn.IFS(VLOOKUP(F264,Intersections!A:H,8,FALSE)<=0.7,$B$30,VLOOKUP(F264,Intersections!A:H,8,FALSE)<=2,$B$31,TRUE,0)","v":0},{"$f":"_xlfn.IFS(VLOOKUP(F264,Intersections!A:D,4,FALSE)=\"Urban\",$B$30,TRUE,0)","v":0}]
[null,null,null,null,null,"US-218 & Observatory Ave",{"$f":"COUNTIF('WWD Crashes'!C:C,F265)","v":0},{"$f":"COUNTIFS('Non-Crash Events'!B:B,F265,'Non-Crash Events'!R:R,\">0\")","v":1},25,null,null,null,null,null,null,null,null,null,null,null,null,null,null,null,null,null,{"$f":"SUMIFS('WWD Crashes'!G:G,'WWD Crashes'!C:C,F265)","v":0},{"$f":"_xlfn.IFS(AA265<0.125,$B$3,AA265<0.25,$B$4,AA265<0.5,$B$5,AA265<0.99,$B$6,AA265<1.5,$B$7,TRUE,$B$8)+$B$9*SUMIFS('WWD Crashes'!G:G,'WWD Crashes'!C:C,F265,'WWD Crashes'!L:L,\">0\")++$B$10*SUMIFS('WWD Crashes'!G:G,'WWD Crashes'!C:C,F265,'WWD Crashes'!M:M,\">0\")","v":0},{"$f":"MIN($B$16*SUMIF('Non-Crash Events'!B:B,F265,'Non-Crash Events'!R:R),50)","v":5},{"$f":"IF(VLOOKUP(F265,Intersections!A:E,5,FALSE)=\"Unique\",$B$22,IF(VLOOKUP(F265,Intersections!A:E,5,FALSE)=\"Split\",$B$23,0))","v":0},{"$f":"VLOOKUP(F265,Intersections!A:F,6,FALSE)","v":22100},6,{"$f":"VLOOKUP(F265,Intersections!A:G,7,FALSE)","v":3250},4,0,{"$f":"_xlfn.IFS(VLOOKUP(F265,Intersections!A:H,8,FALSE)<=0.7,$B$30,VLOOKUP(F265,Intersections!A:H,8,FALSE)<=2,$B$31,TRUE,0)","v":10},{"$f":"_xlfn.IFS(VLOOKUP(F265,Intersections!A:D,4,FALSE)=\"Urban\",$B$30,TRUE,0)","v":0}]
[null,null,null,null,null,"I 80 W & I 80 W TO M AVE N",{"$f":"COUNTIF('WWD Crashes'!C:C,F266)","v":0},{"$f":"COUNTIFS('Non-Crash Events'!B:B,F266,'Non-Crash Events'!R:R,\">0\")","v":1},24.5,null,null,null,null,null,null,null,null,null,null,null,null,null,null,null,null,null,{"$f":"SUMIFS('WWD Crashes'!G:G,'WWD Crashes'!C:C,F266)","v":0},{"$f":"_xlfn.IFS(AA266<0.125,$B$3,AA266<0.25,$B$4,AA266<0.5,$B$5,AA266<0.99,$B$6,AA266<1.5,$B$7,TRUE,$B$8)+$B$9*SUMIFS('WWD Crashes'!G:G,'WWD Crashes'!C:C,F266,'WWD Crashes'!L:L,\">0\")++$B$10*SUMIFS('WWD Crashes'!G:G,'WWD Crashes'!C:C,F266,'WWD Crashes'!M:M,\">0\")","v":0},{"$f":"MIN($B$16*SUMIF('Non-Crash Events'!B:B,F266,'Non-Crash Events'!R:R),50)","v":2.5},{"$f":"IF(VLOOKUP(F266,Intersections!A:E,5,FALSE)=\"Unique\",$B$22,IF(VLOOKUP(F266,Intersections!A:E,5,FALSE)=\"Split\",$B$23,0))","v":0},{"$f":"VLOOKUP(F266,Intersections!A:F,6,FALSE)","v":29300},7,{"$f":"VLOOKUP(F266,Intersections!A:G,7,FALSE)","v":4290},5,0,{"$f":"_xlfn.IFS(VLOOKUP(F266,Intersections!A:H,8,FALSE)<=0.7,$B$30,VLOOKUP(F266,Intersections!A:H,8,FALSE)<=2,$B$31,TRUE,0)","v":10},{"$f":"_xlfn.IFS(VLOOKUP(F266,Intersections!A:D,4,FALSE)=\"Urban\",$B$30,TRUE,0)","v":0}]
[null,null,null,null,null,"US 218 N & US 63 S/COMMERCIAL ST",{"$f":"COUNTIF('WWD Crashes'!C:C,F267)","v":0},{"$f":"COUNTIFS('Non-Crash Events'!B:B,F267,'Non-Crash Events'!R:R,\">0\")","v":0},24,null,null,null,null,null,null,null,null,null,null,null,null,null,null,null,null,null,{"$f":"SUMIFS('WWD Crashes'!G:G,'WWD Crashes'!C:C,F267)","v":0},{"$f":"_xlfn.IFS(AA267<0.125,$B$3,AA267<0.25,$B$4,AA267<0.5,$B$5,AA267<0.99,$B$6,AA267<1.5,$B$7,TRUE,$B$8)+$B$9*SUMIFS('WWD Crashes'!G:G,'WWD Crashes'!C:C,F267,'WWD Crashes'!L:L,\">0\")++$B$10*SUMIFS('WWD Crashes'!G:G,'WWD Crashes'!C:C,F267,'WWD Crashes'!M:M,\">0\")","v":0},{"$f":"MIN($B$16*SUMIF('Non-Crash Events'!B:B,F267,'Non-Crash Events'!R:R),50)","v":0},{"$f":"IF(VLOOKUP(F267,Intersections!A:E,5,FALSE)=\"Unique\",$B$22,IF(VLOOKUP(F267,Intersections!A:E,5,FALSE)=\"Split\",$B$23,0))","v":0},{"$f":"VLOOKUP(F267,Intersections!A:F,6,FALSE)","v":28400},7,{"$f":"VLOOKUP(F267,Intersections!A:G,7,FALSE)","v":7100},7,0,{"$f":"_xlfn.IFS(VLOOKUP(F267,Intersections!A:H,8,FALSE)<=0.7,$B$30,VLOOKUP(F267,Intersections!A:H,8,FALSE)<=2,$B$31,TRUE,0)","v":10},{"$f":"_xlfn.IFS(VLOOKUP(F267,Intersections!A:D,4,FALSE)=\"Urban\",$B$30,TRUE,0)","v":10}]
[null,null,null,null,null,"US 20 E & US 75 N TO SUNNYBROOK DR ,W",{"$f":"COUNTIF('WWD Crashes'!C:C,F268)","v":0},{"$f":"COUNTIFS('Non-Crash Events'!B:B,F268,'Non-Crash Events'!R:R,\">0\")","v":0},24,null,null,null,null,null,null,null,null,null,null,null,null,null,null,null,null,null,{"$f":"SUMIFS('WWD Crashes'!G:G,'WWD Crashes'!C:C,F268)","v":0},{"$f":"_xlfn.IFS(AA268<0.125,$B$3,AA268<0.25,$B$4,AA268<0.5,$B$5,AA268<0.99,$B$6,AA268<1.5,$B$7,TRUE,$B$8)+$B$9*SUMIFS('WWD Crashes'!G:G,'WWD Crashes'!C:C,F268,'WWD Crashes'!L:L,\">0\")++$B$10*SUMIFS('WWD Crashes'!G:G,'WWD Crashes'!C:C,F268,'WWD Crashes'!M:M,\">0\")","v":0},{"$f":"MIN($B$16*SUMIF('Non-Crash Events'!B:B,F268,'Non-Crash Events'!R:R),50)","v":0},{"$f":"IF(VLOOKUP(F268,Intersections!A:E,5,FALSE)=\"Unique\",$B$22,IF(VLOOKUP(F268,Intersections!A:E,5,FALSE)=\"Split\",$B$23,0))","v":0},{"$f":"VLOOKUP(F268,Intersections!A:F,6,FALSE)","v":29800},8,{"$f":"VLOOKUP(F268,Intersections!A:G,7,FALSE)","v":4680},6,0,{"$f":"_xlfn.IFS(VLOOKUP(F268,Intersections!A:H,8,FALSE)<=0.7,$B$30,VLOOKUP(F268,Intersections!A:H,8,FALSE)<=2,$B$31,TRUE,0)","v":10},{"$f":"_xlfn.IFS(VLOOKUP(F268,Intersections!A:D,4,FALSE)=\"Urban\",$B$30,TRUE,0)","v":10}]
[null,null,null,null,null,"US-61 & IA-946/LOCUST ST",{"$f":"COUNTIF('WWD Crashes'!C:C,F269)","v":0},{"$f":"COUNTIFS('Non-Crash Events'!B:B,F269,'Non-Crash Events'!R:R,\">0\")","v":0},24,null,null,null,null,null,null,null,null,null,null,null,null,null,null,null,null,null,{"$f":"SUMIFS('WWD Crashes'!G:G,'WWD Crashes'!C:C,F269)","v":0},{"$f":"_xlfn.IFS(AA269<0.125,$B$3,AA269<0.25,$B$4,AA269<0.5,$B$5,AA269<0.99,$B$6,AA269<1.5,$B$7,TRUE,$B$8)+$B$9*SUMIFS('WWD Crashes'!G:G,'WWD Crashes'!C:C,F269,'WWD Crashes'!L:L,\">0\")++$B$10*SUMIFS('WWD Crashes'!G:G,'WWD Crashes'!C:C,F269,'WWD Crashes'!M:M,\">0\")","v":0},{"$f":"MIN($B$16*SUMIF('Non-Crash Events'!B:B,F269,'Non-Crash Events'!R:R),50)","v":0},{"$f":"IF(VLOOKUP(F269,Intersections!A:E,5,FALSE)=\"Unique\",$B$22,IF(VLOOKUP(F269,Intersections!A:E,5,FALSE)=\"Split\",$B$23,0))","v":0},{"$f":"VLOOKUP(F269,Intersections!A:F,6,FALSE)","v":16100},5,{"$f":"VLOOKUP(F269,Intersections!A:G,7,FALSE)","v":10100},9,0,{"$f":"_xlfn.IFS(VLOOKUP(F269,Intersections!A:H,8,FALSE)<=0.7,$B$30,VLOOKUP(F269,Intersections!A:H,8,FALSE)<=2,$B$31,TRUE,0)","v":10},{"$f":"_xlfn.IFS(VLOOKUP(F269,Intersections!A:D,4,FALSE)=\"Urban\",$B$30,TRUE,0)","v":10}]
[null,null,null,null,null,"I-80 & US-6/IA-38/ROSE AVE",{"$f":"COUNTIF('WWD Crashes'!C:C,F270)","v":1},{"$f":"COUNTIFS('Non-Crash Events'!B:B,F270,'Non-Crash Events'!R:R,\">0\")","v":0},24,null,null,null,null,null,null,null,null,null,null,null,null,null,null,null,null,null,{"$f":"SUMIFS('WWD Crashes'!G:G,'WWD Crashes'!C:C,F270)","v":0.125},{"$f":"_xlfn.IFS(AA270<0.125,$B$3,AA270<0.25,$B$4,AA270<0.5,$B$5,AA270<0.99,$B$6,AA270<1.5,$B$7,TRUE,$B$8)+$B$9*SUMIFS('WWD Crashes'!G:G,'WWD Crashes'!C:C,F270,'WWD Crashes'!L:L,\">0\")++$B$10*SUMIFS('WWD Crashes'!G:G,'WWD Crashes'!C:C,F270,'WWD Crashes'!M:M,\">0\")","v":5},{"$f":"MIN($B$16*SUMIF('Non-Crash Events'!B:B,F270,'Non-Crash Events'!R:R),50)","v":0},{"$f":"IF(VLOOKUP(F270,Intersections!A:E,5,FALSE)=\"Unique\",$B$22,IF(VLOOKUP(F270,Intersections!A:E,5,FALSE)=\"Split\",$B$23,0))","v":0},{"$f":"VLOOKUP(F270,Intersections!A:F,6,FALSE)","v":36200},9,{"$f":"VLOOKUP(F270,Intersections!A:G,7,FALSE)","v":3580},5,5,{"$f":"_xlfn.IFS(VLOOKUP(F270,Intersections!A:H,8,FALSE)<=0.7,$B$30,VLOOKUP(F270,Intersections!A:H,8,FALSE)<=2,$B$31,TRUE,0)","v":0},{"$f":"_xlfn.IFS(VLOOKUP(F270,Intersections!A:D,4,FALSE)=\"Urban\",$B$30,TRUE,0)","v":0}]
[null,null,null,null,null,"I 80 W & I 80 W TO IA 25 S",{"$f":"COUNTIF('WWD Crashes'!C:C,F271)","v":1},{"$f":"COUNTIFS('Non-Crash Events'!B:B,F271,'Non-Crash Events'!R:R,\">0\")","v":0},24,null,null,null,null,null,null,null,null,null,null,null,null,null,null,null,null,null,{"$f":"SUMIFS('WWD Crashes'!G:G,'WWD Crashes'!C:C,F271)","v":0.5},{"$f":"_xlfn.IFS(AA271<0.125,$B$3,AA271<0.25,$B$4,AA271<0.5,$B$5,AA271<0.99,$B$6,AA271<1.5,$B$7,TRUE,$B$8)+$B$9*SUMIFS('WWD Crashes'!G:G,'WWD Crashes'!C:C,F271,'WWD Crashes'!L:L,\">0\")++$B$10*SUMIFS('WWD Crashes'!G:G,'WWD Crashes'!C:C,F271,'WWD Crashes'!M:M,\">0\")","v":15},{"$f":"MIN($B$16*SUMIF('Non-Crash Events'!B:B,F271,'Non-Crash Events'!R:R),50)","v":0},{"$f":"IF(VLOOKUP(F271,Intersections!A:E,5,FALSE)=\"Unique\",$B$22,IF(VLOOKUP(F271,Intersections!A:E,5,FALSE)=\"Split\",$B$23,0))","v":0},{"$f":"VLOOKUP(F271,Intersections!A:F,6,FALSE)","v":22900},6,{"$f":"VLOOKUP(F271,Intersections!A:G,7,FALSE)","v":2000},3,0,{"$f":"_xlfn.IFS(VLOOKUP(F271,Intersections!A:H,8,FALSE)<=0.7,$B$30,VLOOKUP(F271,Intersections!A:H,8,FALSE)<=2,$B$31,TRUE,0)","v":0},{"$f":"_xlfn.IFS(VLOOKUP(F271,Intersections!A:D,4,FALSE)=\"Urban\",$B$30,TRUE,0)","v":0}]
[null,null,null,null,null,"US-151 NW RAMP & IA-64",{"$f":"COUNTIF('WWD Crashes'!C:C,F272)","v":0},{"$f":"COUNTIFS('Non-Crash Events'!B:B,F272,'Non-Crash Events'!R:R,\">0\")","v":0},23,null,null,null,null,null,null,null,null,null,null,null,null,null,null,null,null,null,{"$f":"SUMIFS('WWD Crashes'!G:G,'WWD Crashes'!C:C,F272)","v":0},{"$f":"_xlfn.IFS(AA272<0.125,$B$3,AA272<0.25,$B$4,AA272<0.5,$B$5,AA272<0.99,$B$6,AA272<1.5,$B$7,TRUE,$B$8)+$B$9*SUMIFS('WWD Crashes'!G:G,'WWD Crashes'!C:C,F272,'WWD Crashes'!L:L,\">0\")++$B$10*SUMIFS('WWD Crashes'!G:G,'WWD Crashes'!C:C,F272,'WWD Crashes'!M:M,\">0\")","v":0},{"$f":"MIN($B$16*SUMIF('Non-Crash Events'!B:B,F272,'Non-Crash Events'!R:R),50)","v":0},{"$f":"IF(VLOOKUP(F272,Intersections!A:E,5,FALSE)=\"Unique\",$B$22,IF(VLOOKUP(F272,Intersections!A:E,5,FALSE)=\"Split\",$B$23,0))","v":0},{"$f":"VLOOKUP(F272,Intersections!A:F,6,FALSE)","v":15700},4,{"$f":"VLOOKUP(F272,Intersections!A:G,7,FALSE)","v":9300},9,0,{"$f":"_xlfn.IFS(VLOOKUP(F272,Intersections!A:H,8,FALSE)<=0.7,$B$30,VLOOKUP(F272,Intersections!A:H,8,FALSE)<=2,$B$31,TRUE,0)","v":10},{"$f":"_xlfn.IFS(VLOOKUP(F272,Intersections!A:D,4,FALSE)=\"Urban\",$B$30,TRUE,0)","v":10}]
[null,null,null,null,null,"I 80 W & I 80 W TO EAST ST, N",{"$f":"COUNTIF('WWD Crashes'!C:C,F273)","v":0},{"$f":"COUNTIFS('Non-Crash Events'!B:B,F273,'Non-Crash Events'!R:R,\">0\")","v":0},23,null,null,null,null,null,null,null,null,null,null,null,null,null,null,null,null,null,{"$f":"SUMIFS('WWD Crashes'!G:G,'WWD Crashes'!C:C,F273)","v":0},{"$f":"_xlfn.IFS(AA273<0.125,$B$3,AA273<0.25,$B$4,AA273<0.5,$B$5,AA273<0.99,$B$6,AA273<1.5,$B$7,TRUE,$B$8)+$B$9*SUMIFS('WWD Crashes'!G:G,'WWD Crashes'!C:C,F273,'WWD Crashes'!L:L,\">0\")++$B$10*SUMIFS('WWD Crashes'!G:G,'WWD Crashes'!C:C,F273,'WWD Crashes'!M:M,\">0\")","v":0},{"$f":"MIN($B$16*SUMIF('Non-Crash Events'!B:B,F273,'Non-Crash Events'!R:R),50)","v":0},{"$f":"IF(VLOOKUP(F273,Intersections!A:E,5,FALSE)=\"Unique\",$B$22,IF(VLOOKUP(F273,Intersections!A:E,5,FALSE)=\"Split\",$B$23,0))","v":0},{"$f":"VLOOKUP(F273,Intersections!A:F,6,FALSE)","v":25500},7,{"$f":"VLOOKUP(F273,Intersections!A:G,7,FALSE)","v":4920},6,0,{"$f":"_xlfn.IFS(VLOOKUP(F273,Intersections!A:H,8,FALSE)<=0.7,$B$30,VLOOKUP(F273,Intersections!A:H,8,FALSE)<=2,$B$31,TRUE,0)","v":10},{"$f":"_xlfn.IFS(VLOOKUP(F273,Intersections!A:D,4,FALSE)=\"Urban\",$B$30,TRUE,0)","v":0}]
[null,null,null,null,null,"I 80 W & I 80 W TO R AVE, N",{"$f":"COUNTIF('WWD Crashes'!C:C,F274)","v":0},{"$f":"COUNTIFS('Non-Crash Events'!B:B,F274,'Non-Crash Events'!R:R,\">0\")","v":0},23,null,null,null,null,null,null,null,null,null,null,null,null,null,null,null,null,null,{"$f":"SUMIFS('WWD Crashes'!G:G,'WWD Crashes'!C:C,F274)","v":0},{"$f":"_xlfn.IFS(AA274<0.125,$B$3,AA274<0.25,$B$4,AA274<0.5,$B$5,AA274<0.99,$B$6,AA274<1.5,$B$7,TRUE,$B$8)+$B$9*SUMIFS('WWD Crashes'!G:G,'WWD Crashes'!C:C,F274,'WWD Crashes'!L:L,\">0\")++$B$10*SUMIFS('WWD Crashes'!G:G,'WWD Crashes'!C:C,F274,'WWD Crashes'!M:M,\">0\")","v":0},{"$f":"MIN($B$16*SUMIF('Non-Crash Events'!B:B,F274,'Non-Crash Events'!R:R),50)","v":0},{"$f":"IF(VLOOKUP(F274,Intersections!A:E,5,FALSE)=\"Unique\",$B$22,IF(VLOOKUP(F274,Intersections!A:E,5,FALSE)=\"Split\",$B$23,0))","v":0},{"$f":"VLOOKUP(F274,Intersections!A:F,6,FALSE)","v":40100},9,{"$f":"VLOOKUP(F274,Intersections!A:G,7,FALSE)","v":3050},4,5,{"$f":"_xlfn.IFS(VLOOKUP(F274,Intersections!A:H,8,FALSE)<=0.7,$B$30,VLOOKUP(F274,Intersections!A:H,8,FALSE)<=2,$B$31,TRUE,0)","v":5},{"$f":"_xlfn.IFS(VLOOKUP(F274,Intersections!A:D,4,FALSE)=\"Urban\",$B$30,TRUE,0)","v":0}]
[null,null,null,null,null,"I-380 & IA-297",{"$f":"COUNTIF('WWD Crashes'!C:C,F275)","v":0},{"$f":"COUNTIFS('Non-Crash Events'!B:B,F275,'Non-Crash Events'!R:R,\">0\")","v":1},23,null,null,null,null,null,null,null,null,null,null,null,null,null,null,null,null,null,{"$f":"SUMIFS('WWD Crashes'!G:G,'WWD Crashes'!C:C,F275)","v":0},{"$f":"_xlfn.IFS(AA275<0.125,$B$3,AA275<0.25,$B$4,AA275<0.5,$B$5,AA275<0.99,$B$6,AA275<1.5,$B$7,TRUE,$B$8)+$B$9*SUMIFS('WWD Crashes'!G:G,'WWD Crashes'!C:C,F275,'WWD Crashes'!L:L,\">0\")++$B$10*SUMIFS('WWD Crashes'!G:G,'WWD Crashes'!C:C,F275,'WWD Crashes'!M:M,\">0\")","v":0},{"$f":"MIN($B$16*SUMIF('Non-Crash Events'!B:B,F275,'Non-Crash Events'!R:R),50)","v":5},{"$f":"IF(VLOOKUP(F275,Intersections!A:E,5,FALSE)=\"Unique\",$B$22,IF(VLOOKUP(F275,Intersections!A:E,5,FALSE)=\"Split\",$B$23,0))","v":0},{"$f":"VLOOKUP(F275,Intersections!A:F,6,FALSE)","v":31000},8,{"$f":"VLOOKUP(F275,Intersections!A:G,7,FALSE)","v":4090},5,0,{"$f":"_xlfn.IFS(VLOOKUP(F275,Intersections!A:H,8,FALSE)<=0.7,$B$30,VLOOKUP(F275,Intersections!A:H,8,FALSE)<=2,$B$31,TRUE,0)","v":5},{"$f":"_xlfn.IFS(VLOOKUP(F275,Intersections!A:D,4,FALSE)=\"Urban\",$B$30,TRUE,0)","v":0}]
[null,null,null,null,null,"US-218 NE RAMP & FLETCHER AVE",{"$f":"COUNTIF('WWD Crashes'!C:C,F276)","v":0},{"$f":"COUNTIFS('Non-Crash Events'!B:B,F276,'Non-Crash Events'!R:R,\">0\")","v":0},22,null,null,null,null,null,null,null,null,null,null,null,null,null,null,null,null,null,{"$f":"SUMIFS('WWD Crashes'!G:G,'WWD Crashes'!C:C,F276)","v":0},{"$f":"_xlfn.IFS(AA276<0.125,$B$3,AA276<0.25,$B$4,AA276<0.5,$B$5,AA276<0.99,$B$6,AA276<1.5,$B$7,TRUE,$B$8)+$B$9*SUMIFS('WWD Crashes'!G:G,'WWD Crashes'!C:C,F276,'WWD Crashes'!L:L,\">0\")++$B$10*SUMIFS('WWD Crashes'!G:G,'WWD Crashes'!C:C,F276,'WWD Crashes'!M:M,\">0\")","v":0},{"$f":"MIN($B$16*SUMIF('Non-Crash Events'!B:B,F276,'Non-Crash Events'!R:R),50)","v":0},{"$f":"IF(VLOOKUP(F276,Intersections!A:E,5,FALSE)=\"Unique\",$B$22,IF(VLOOKUP(F276,Intersections!A:E,5,FALSE)=\"Split\",$B$23,0))","v":0},{"$f":"VLOOKUP(F276,Intersections!A:F,6,FALSE)","v":28400},7,{"$f":"VLOOKUP(F276,Intersections!A:G,7,FALSE)","v":4350},5,0,{"$f":"_xlfn.IFS(VLOOKUP(F276,Intersections!A:H,8,FALSE)<=0.7,$B$30,VLOOKUP(F276,Intersections!A:H,8,FALSE)<=2,$B$31,TRUE,0)","v":10},{"$f":"_xlfn.IFS(VLOOKUP(F276,Intersections!A:D,4,FALSE)=\"Urban\",$B$30,TRUE,0)","v":10}]
[null,null,null,{"$f":"HYPERLINK(\"#'Weight Based'!\"&ADDRESS(5,11),\"Jump to Details\")","v":"Jump to Details"},null,"IA-149/WAPELLO ST & 2ND ST",{"$f":"COUNTIF('WWD Crashes'!C:C,F277)","v":0},{"$f":"COUNTIFS('Non-Crash Events'!B:B,F277,'Non-Crash Events'!R:R,\">0\")","v":0},22,null,null,null,null,null,null,null,null,null,null,null,null,null,null,null,null,null,{"$f":"SUMIFS('WWD Crashes'!G:G,'WWD Crashes'!C:C,F277)","v":0},{"$f":"_xlfn.IFS(AA277<0.125,$B$3,AA277<0.25,$B$4,AA277<0.5,$B$5,AA277<0.99,$B$6,AA277<1.5,$B$7,TRUE,$B$8)+$B$9*SUMIFS('WWD Crashes'!G:G,'WWD Crashes'!C:C,F277,'WWD Crashes'!L:L,\">0\")++$B$10*SUMIFS('WWD Crashes'!G:G,'WWD Crashes'!C:C,F277,'WWD Crashes'!M:M,\">0\")","v":0},{"$f":"MIN($B$16*SUMIF('Non-Crash Events'!B:B,F277,'Non-Crash Events'!R:R),50)","v":0},{"$f":"IF(VLOOKUP(F277,Intersections!A:E,5,FALSE)=\"Unique\",$B$22,IF(VLOOKUP(F277,Intersections!A:E,5,FALSE)=\"Split\",$B$23,0))","v":0},{"$f":"VLOOKUP(F277,Intersections!A:F,6,FALSE)","v":22500},6,{"$f":"VLOOKUP(F277,Intersections!A:G,7,FALSE)","v":5400},6,0,{"$f":"_xlfn.IFS(VLOOKUP(F277,Intersections!A:H,8,FALSE)<=0.7,$B$30,VLOOKUP(F277,Intersections!A:H,8,FALSE)<=2,$B$31,TRUE,0)","v":10},{"$f":"_xlfn.IFS(VLOOKUP(F277,Intersections!A:D,4,FALSE)=\"Urban\",$B$30,TRUE,0)","v":10}]
[null,null,null,null,null,"CURRAN ST & US 34 SE RAMP",{"$f":"COUNTIF('WWD Crashes'!C:C,F278)","v":0},{"$f":"COUNTIFS('Non-Crash Events'!B:B,F278,'Non-Crash Events'!R:R,\">0\")","v":0},22,null,null,null,null,null,null,null,null,null,null,null,null,null,null,null,null,null,{"$f":"SUMIFS('WWD Crashes'!G:G,'WWD Crashes'!C:C,F278)","v":0},{"$f":"_xlfn.IFS(AA278<0.125,$B$3,AA278<0.25,$B$4,AA278<0.5,$B$5,AA278<0.99,$B$6,AA278<1.5,$B$7,TRUE,$B$8)+$B$9*SUMIFS('WWD Crashes'!G:G,'WWD Crashes'!C:C,F278,'WWD Crashes'!L:L,\">0\")++$B$10*SUMIFS('WWD Crashes'!G:G,'WWD Crashes'!C:C,F278,'WWD Crashes'!M:M,\">0\")","v":0},{"$f":"MIN($B$16*SUMIF('Non-Crash Events'!B:B,F278,'Non-Crash Events'!R:R),50)","v":0},{"$f":"IF(VLOOKUP(F278,Intersections!A:E,5,FALSE)=\"Unique\",$B$22,IF(VLOOKUP(F278,Intersections!A:E,5,FALSE)=\"Split\",$B$23,0))","v":0},{"$f":"VLOOKUP(F278,Intersections!A:F,6,FALSE)","v":17900},5,{"$f":"VLOOKUP(F278,Intersections!A:G,7,FALSE)","v":6800},7,0,{"$f":"_xlfn.IFS(VLOOKUP(F278,Intersections!A:H,8,FALSE)<=0.7,$B$30,VLOOKUP(F278,Intersections!A:H,8,FALSE)<=2,$B$31,TRUE,0)","v":10},{"$f":"_xlfn.IFS(VLOOKUP(F278,Intersections!A:D,4,FALSE)=\"Urban\",$B$30,TRUE,0)","v":10}]
[null,null,null,null,null,"US 34 W & US 63 S",{"$f":"COUNTIF('WWD Crashes'!C:C,F279)","v":0},{"$f":"COUNTIFS('Non-Crash Events'!B:B,F279,'Non-Crash Events'!R:R,\">0\")","v":0},22,null,null,null,null,null,null,null,null,null,null,null,null,null,null,null,null,null,{"$f":"SUMIFS('WWD Crashes'!G:G,'WWD Crashes'!C:C,F279)","v":0},{"$f":"_xlfn.IFS(AA279<0.125,$B$3,AA279<0.25,$B$4,AA279<0.5,$B$5,AA279<0.99,$B$6,AA279<1.5,$B$7,TRUE,$B$8)+$B$9*SUMIFS('WWD Crashes'!G:G,'WWD Crashes'!C:C,F279,'WWD Crashes'!L:L,\">0\")++$B$10*SUMIFS('WWD Crashes'!G:G,'WWD Crashes'!C:C,F279,'WWD Crashes'!M:M,\">0\")","v":0},{"$f":"MIN($B$16*SUMIF('Non-Crash Events'!B:B,F279,'Non-Crash Events'!R:R),50)","v":0},{"$f":"IF(VLOOKUP(F279,Intersections!A:E,5,FALSE)=\"Unique\",$B$22,IF(VLOOKUP(F279,Intersections!A:E,5,FALSE)=\"Split\",$B$23,0))","v":0},{"$f":"VLOOKUP(F279,Intersections!A:F,6,FALSE)","v":11800},3,{"$f":"VLOOKUP(F279,Intersections!A:G,7,FALSE)","v":9800},9,0,{"$f":"_xlfn.IFS(VLOOKUP(F279,Intersections!A:H,8,FALSE)<=0.7,$B$30,VLOOKUP(F279,Intersections!A:H,8,FALSE)<=2,$B$31,TRUE,0)","v":10},{"$f":"_xlfn.IFS(VLOOKUP(F279,Intersections!A:D,4,FALSE)=\"Urban\",$B$30,TRUE,0)","v":10}]
[null,null,null,null,null,"IA-35 HWY East ramp & Co 105",{"$f":"COUNTIF('WWD Crashes'!C:C,F280)","v":0},{"$f":"COUNTIFS('Non-Crash Events'!B:B,F280,'Non-Crash Events'!R:R,\">0\")","v":0},22,null,null,null,null,null,null,null,null,null,null,null,null,null,null,null,null,null,{"$f":"SUMIFS('WWD Crashes'!G:G,'WWD Crashes'!C:C,F280)","v":0},{"$f":"_xlfn.IFS(AA280<0.125,$B$3,AA280<0.25,$B$4,AA280<0.5,$B$5,AA280<0.99,$B$6,AA280<1.5,$B$7,TRUE,$B$8)+$B$9*SUMIFS('WWD Crashes'!G:G,'WWD Crashes'!C:C,F280,'WWD Crashes'!L:L,\">0\")++$B$10*SUMIFS('WWD Crashes'!G:G,'WWD Crashes'!C:C,F280,'WWD Crashes'!M:M,\">0\")","v":0},{"$f":"MIN($B$16*SUMIF('Non-Crash Events'!B:B,F280,'Non-Crash Events'!R:R),50)","v":0},{"$f":"IF(VLOOKUP(F280,Intersections!A:E,5,FALSE)=\"Unique\",$B$22,IF(VLOOKUP(F280,Intersections!A:E,5,FALSE)=\"Split\",$B$23,0))","v":0},{"$f":"VLOOKUP(F280,Intersections!A:F,6,FALSE)","v":19400},5,{"$f":"VLOOKUP(F280,Intersections!A:G,7,FALSE)","v":7500},7,0,{"$f":"_xlfn.IFS(VLOOKUP(F280,Intersections!A:H,8,FALSE)<=0.7,$B$30,VLOOKUP(F280,Intersections!A:H,8,FALSE)<=2,$B$31,TRUE,0)","v":10},{"$f":"_xlfn.IFS(VLOOKUP(F280,Intersections!A:D,4,FALSE)=\"Urban\",$B$30,TRUE,0)","v":0}]
[null,null,null,null,null,"IA-150 & US-20 NE RAMP",{"$f":"COUNTIF('WWD Crashes'!C:C,F281)","v":0},{"$f":"COUNTIFS('Non-Crash Events'!B:B,F281,'Non-Crash Events'!R:R,\">0\")","v":0},22,null,null,null,null,null,null,null,null,null,null,null,null,null,null,null,null,null,{"$f":"SUMIFS('WWD Crashes'!G:G,'WWD Crashes'!C:C,F281)","v":0},{"$f":"_xlfn.IFS(AA281<0.125,$B$3,AA281<0.25,$B$4,AA281<0.5,$B$5,AA281<0.99,$B$6,AA281<1.5,$B$7,TRUE,$B$8)+$B$9*SUMIFS('WWD Crashes'!G:G,'WWD Crashes'!C:C,F281,'WWD Crashes'!L:L,\">0\")++$B$10*SUMIFS('WWD Crashes'!G:G,'WWD Crashes'!C:C,F281,'WWD Crashes'!M:M,\">0\")","v":0},{"$f":"MIN($B$16*SUMIF('Non-Crash Events'!B:B,F281,'Non-Crash Events'!R:R),50)","v":0},{"$f":"IF(VLOOKUP(F281,Intersections!A:E,5,FALSE)=\"Unique\",$B$22,IF(VLOOKUP(F281,Intersections!A:E,5,FALSE)=\"Split\",$B$23,0))","v":0},{"$f":"VLOOKUP(F281,Intersections!A:F,6,FALSE)","v":10900},3,{"$f":"VLOOKUP(F281,Intersections!A:G,7,FALSE)","v":10700},9,0,{"$f":"_xlfn.IFS(VLOOKUP(F281,Intersections!A:H,8,FALSE)<=0.7,$B$30,VLOOKUP(F281,Intersections!A:H,8,FALSE)<=2,$B$31,TRUE,0)","v":10},{"$f":"_xlfn.IFS(VLOOKUP(F281,Intersections!A:D,4,FALSE)=\"Urban\",$B$30,TRUE,0)","v":0}]
[null,null,null,null,null,"US-218 SE RAMP CURV & MELROSE AVE",{"$f":"COUNTIF('WWD Crashes'!C:C,F282)","v":0},{"$f":"COUNTIFS('Non-Crash Events'!B:B,F282,'Non-Crash Events'!R:R,\">0\")","v":0},22,null,null,null,null,null,null,null,null,null,null,null,null,null,null,null,null,null,{"$f":"SUMIFS('WWD Crashes'!G:G,'WWD Crashes'!C:C,F282)","v":0},{"$f":"_xlfn.IFS(AA282<0.125,$B$3,AA282<0.25,$B$4,AA282<0.5,$B$5,AA282<0.99,$B$6,AA282<1.5,$B$7,TRUE,$B$8)+$B$9*SUMIFS('WWD Crashes'!G:G,'WWD Crashes'!C:C,F282,'WWD Crashes'!L:L,\">0\")++$B$10*SUMIFS('WWD Crashes'!G:G,'WWD Crashes'!C:C,F282,'WWD Crashes'!M:M,\">0\")","v":0},{"$f":"MIN($B$16*SUMIF('Non-Crash Events'!B:B,F282,'Non-Crash Events'!R:R),50)","v":0},{"$f":"IF(VLOOKUP(F282,Intersections!A:E,5,FALSE)=\"Unique\",$B$22,IF(VLOOKUP(F282,Intersections!A:E,5,FALSE)=\"Split\",$B$23,0))","v":0},{"$f":"VLOOKUP(F282,Intersections!A:F,6,FALSE)","v":34000},8,{"$f":"VLOOKUP(F282,Intersections!A:G,7,FALSE)","v":14600},9,0,{"$f":"_xlfn.IFS(VLOOKUP(F282,Intersections!A:H,8,FALSE)<=0.7,$B$30,VLOOKUP(F282,Intersections!A:H,8,FALSE)<=2,$B$31,TRUE,0)","v":5},{"$f":"_xlfn.IFS(VLOOKUP(F282,Intersections!A:D,4,FALSE)=\"Urban\",$B$30,TRUE,0)","v":10}]
[null,null,null,null,null,"I-380  NE Ramp & EVANSDALE DR",{"$f":"COUNTIF('WWD Crashes'!C:C,F283)","v":0},{"$f":"COUNTIFS('Non-Crash Events'!B:B,F283,'Non-Crash Events'!R:R,\">0\")","v":0},22,null,null,null,null,null,null,null,null,null,null,null,null,null,null,null,null,null,{"$f":"SUMIFS('WWD Crashes'!G:G,'WWD Crashes'!C:C,F283)","v":0},{"$f":"_xlfn.IFS(AA283<0.125,$B$3,AA283<0.25,$B$4,AA283<0.5,$B$5,AA283<0.99,$B$6,AA283<1.5,$B$7,TRUE,$B$8)+$B$9*SUMIFS('WWD Crashes'!G:G,'WWD Crashes'!C:C,F283,'WWD Crashes'!L:L,\">0\")++$B$10*SUMIFS('WWD Crashes'!G:G,'WWD Crashes'!C:C,F283,'WWD Crashes'!M:M,\">0\")","v":0},{"$f":"MIN($B$16*SUMIF('Non-Crash Events'!B:B,F283,'Non-Crash Events'!R:R),50)","v":0},{"$f":"IF(VLOOKUP(F283,Intersections!A:E,5,FALSE)=\"Unique\",$B$22,IF(VLOOKUP(F283,Intersections!A:E,5,FALSE)=\"Split\",$B$23,0))","v":0},{"$f":"VLOOKUP(F283,Intersections!A:F,6,FALSE)","v":34900},8,{"$f":"VLOOKUP(F283,Intersections!A:G,7,FALSE)","v":8900},9,0,{"$f":"_xlfn.IFS(VLOOKUP(F283,Intersections!A:H,8,FALSE)<=0.7,$B$30,VLOOKUP(F283,Intersections!A:H,8,FALSE)<=2,$B$31,TRUE,0)","v":5},{"$f":"_xlfn.IFS(VLOOKUP(F283,Intersections!A:D,4,FALSE)=\"Urban\",$B$30,TRUE,0)","v":10}]
[null,null,null,null,null,"US- 20 S RAMP & ANSBOROUGH AVE / CO 7000 RD",{"$f":"COUNTIF('WWD Crashes'!C:C,F284)","v":0},{"$f":"COUNTIFS('Non-Crash Events'!B:B,F284,'Non-Crash Events'!R:R,\">0\")","v":0},22,null,null,null,null,null,null,null,null,null,null,null,null,null,null,null,null,null,{"$f":"SUMIFS('WWD Crashes'!G:G,'WWD Crashes'!C:C,F284)","v":0},{"$f":"_xlfn.IFS(AA284<0.125,$B$3,AA284<0.25,$B$4,AA284<0.5,$B$5,AA284<0.99,$B$6,AA284<1.5,$B$7,TRUE,$B$8)+$B$9*SUMIFS('WWD Crashes'!G:G,'WWD Crashes'!C:C,F284,'WWD Crashes'!L:L,\">0\")++$B$10*SUMIFS('WWD Crashes'!G:G,'WWD Crashes'!C:C,F284,'WWD Crashes'!M:M,\">0\")","v":0},{"$f":"MIN($B$16*SUMIF('Non-Crash Events'!B:B,F284,'Non-Crash Events'!R:R),50)","v":0},{"$f":"IF(VLOOKUP(F284,Intersections!A:E,5,FALSE)=\"Unique\",$B$22,IF(VLOOKUP(F284,Intersections!A:E,5,FALSE)=\"Split\",$B$23,0))","v":0},{"$f":"VLOOKUP(F284,Intersections!A:F,6,FALSE)","v":30900},8,{"$f":"VLOOKUP(F284,Intersections!A:G,7,FALSE)","v":9400},9,0,{"$f":"_xlfn.IFS(VLOOKUP(F284,Intersections!A:H,8,FALSE)<=0.7,$B$30,VLOOKUP(F284,Intersections!A:H,8,FALSE)<=2,$B$31,TRUE,0)","v":5},{"$f":"_xlfn.IFS(VLOOKUP(F284,Intersections!A:D,4,FALSE)=\"Urban\",$B$30,TRUE,0)","v":10}]
[null,null,null,null,null,"I-35 & 130th St",{"$f":"COUNTIF('WWD Crashes'!C:C,F285)","v":0},{"$f":"COUNTIFS('Non-Crash Events'!B:B,F285,'Non-Crash Events'!R:R,\">0\")","v":1},22,null,null,null,null,null,null,null,null,null,null,null,null,null,null,null,null,null,{"$f":"SUMIFS('WWD Crashes'!G:G,'WWD Crashes'!C:C,F285)","v":0},{"$f":"_xlfn.IFS(AA285<0.125,$B$3,AA285<0.25,$B$4,AA285<0.5,$B$5,AA285<0.99,$B$6,AA285<1.5,$B$7,TRUE,$B$8)+$B$9*SUMIFS('WWD Crashes'!G:G,'WWD Crashes'!C:C,F285,'WWD Crashes'!L:L,\">0\")++$B$10*SUMIFS('WWD Crashes'!G:G,'WWD Crashes'!C:C,F285,'WWD Crashes'!M:M,\">0\")","v":0},{"$f":"MIN($B$16*SUMIF('Non-Crash Events'!B:B,F285,'Non-Crash Events'!R:R),50)","v":5},{"$f":"IF(VLOOKUP(F285,Intersections!A:E,5,FALSE)=\"Unique\",$B$22,IF(VLOOKUP(F285,Intersections!A:E,5,FALSE)=\"Split\",$B$23,0))","v":0},{"$f":"VLOOKUP(F285,Intersections!A:F,6,FALSE)","v":29700},7,{"$f":"VLOOKUP(F285,Intersections!A:G,7,FALSE)","v":4000},5,0,{"$f":"_xlfn.IFS(VLOOKUP(F285,Intersections!A:H,8,FALSE)<=0.7,$B$30,VLOOKUP(F285,Intersections!A:H,8,FALSE)<=2,$B$31,TRUE,0)","v":5},{"$f":"_xlfn.IFS(VLOOKUP(F285,Intersections!A:D,4,FALSE)=\"Urban\",$B$30,TRUE,0)","v":0}]
[null,null,null,null,null,"I-29 & Ave G",{"$f":"COUNTIF('WWD Crashes'!C:C,F286)","v":2},{"$f":"COUNTIFS('Non-Crash Events'!B:B,F286,'Non-Crash Events'!R:R,\">0\")","v":0},21.75,null,null,null,null,null,null,null,null,null,null,null,null,null,null,null,null,null,{"$f":"SUMIFS('WWD Crashes'!G:G,'WWD Crashes'!C:C,F286)","v":0.02},{"$f":"_xlfn.IFS(AA286<0.125,$B$3,AA286<0.25,$B$4,AA286<0.5,$B$5,AA286<0.99,$B$6,AA286<1.5,$B$7,TRUE,$B$8)+$B$9*SUMIFS('WWD Crashes'!G:G,'WWD Crashes'!C:C,F286,'WWD Crashes'!L:L,\">0\")++$B$10*SUMIFS('WWD Crashes'!G:G,'WWD Crashes'!C:C,F286,'WWD Crashes'!M:M,\">0\")","v":0.75},{"$f":"MIN($B$16*SUMIF('Non-Crash Events'!B:B,F286,'Non-Crash Events'!R:R),50)","v":0},{"$f":"IF(VLOOKUP(F286,Intersections!A:E,5,FALSE)=\"Unique\",$B$22,IF(VLOOKUP(F286,Intersections!A:E,5,FALSE)=\"Split\",$B$23,0))","v":0},{"$f":"VLOOKUP(F286,Intersections!A:F,6,FALSE)","v":22700},6,{"$f":"VLOOKUP(F286,Intersections!A:G,7,FALSE)","v":3450},5,0,{"$f":"_xlfn.IFS(VLOOKUP(F286,Intersections!A:H,8,FALSE)<=0.7,$B$30,VLOOKUP(F286,Intersections!A:H,8,FALSE)<=2,$B$31,TRUE,0)","v":10},{"$f":"_xlfn.IFS(VLOOKUP(F286,Intersections!A:D,4,FALSE)=\"Urban\",$B$30,TRUE,0)","v":10}]
[null,null,null,null,null,"IA 376 N & TRANSIT AVE, W TO S LEWIS BLVD, N",{"$f":"COUNTIF('WWD Crashes'!C:C,F287)","v":0},{"$f":"COUNTIFS('Non-Crash Events'!B:B,F287,'Non-Crash Events'!R:R,\">0\")","v":0},21,null,null,null,null,null,null,null,null,null,null,null,null,null,null,null,null,null,{"$f":"SUMIFS('WWD Crashes'!G:G,'WWD Crashes'!C:C,F287)","v":0},{"$f":"_xlfn.IFS(AA287<0.125,$B$3,AA287<0.25,$B$4,AA287<0.5,$B$5,AA287<0.99,$B$6,AA287<1.5,$B$7,TRUE,$B$8)+$B$9*SUMIFS('WWD Crashes'!G:G,'WWD Crashes'!C:C,F287,'WWD Crashes'!L:L,\">0\")++$B$10*SUMIFS('WWD Crashes'!G:G,'WWD Crashes'!C:C,F287,'WWD Crashes'!M:M,\">0\")","v":0},{"$f":"MIN($B$16*SUMIF('Non-Crash Events'!B:B,F287,'Non-Crash Events'!R:R),50)","v":0},{"$f":"IF(VLOOKUP(F287,Intersections!A:E,5,FALSE)=\"Unique\",$B$22,IF(VLOOKUP(F287,Intersections!A:E,5,FALSE)=\"Split\",$B$23,0))","v":0},{"$f":"VLOOKUP(F287,Intersections!A:F,6,FALSE)","v":18500},5,{"$f":"VLOOKUP(F287,Intersections!A:G,7,FALSE)","v":6500},6,0,{"$f":"_xlfn.IFS(VLOOKUP(F287,Intersections!A:H,8,FALSE)<=0.7,$B$30,VLOOKUP(F287,Intersections!A:H,8,FALSE)<=2,$B$31,TRUE,0)","v":10},{"$f":"_xlfn.IFS(VLOOKUP(F287,Intersections!A:D,4,FALSE)=\"Urban\",$B$30,TRUE,0)","v":10}]
[null,null,null,null,null,"US 34 E & US 34 E TO CENTRAL AVE N",{"$f":"COUNTIF('WWD Crashes'!C:C,F288)","v":0},{"$f":"COUNTIFS('Non-Crash Events'!B:B,F288,'Non-Crash Events'!R:R,\">0\")","v":0},21,null,null,null,null,null,null,null,null,null,null,null,null,null,null,null,null,null,{"$f":"SUMIFS('WWD Crashes'!G:G,'WWD Crashes'!C:C,F288)","v":0},{"$f":"_xlfn.IFS(AA288<0.125,$B$3,AA288<0.25,$B$4,AA288<0.5,$B$5,AA288<0.99,$B$6,AA288<1.5,$B$7,TRUE,$B$8)+$B$9*SUMIFS('WWD Crashes'!G:G,'WWD Crashes'!C:C,F288,'WWD Crashes'!L:L,\">0\")++$B$10*SUMIFS('WWD Crashes'!G:G,'WWD Crashes'!C:C,F288,'WWD Crashes'!M:M,\">0\")","v":0},{"$f":"MIN($B$16*SUMIF('Non-Crash Events'!B:B,F288,'Non-Crash Events'!R:R),50)","v":0},{"$f":"IF(VLOOKUP(F288,Intersections!A:E,5,FALSE)=\"Unique\",$B$22,IF(VLOOKUP(F288,Intersections!A:E,5,FALSE)=\"Split\",$B$23,0))","v":0},{"$f":"VLOOKUP(F288,Intersections!A:F,6,FALSE)","v":17900},5,{"$f":"VLOOKUP(F288,Intersections!A:G,7,FALSE)","v":5600},6,0,{"$f":"_xlfn.IFS(VLOOKUP(F288,Intersections!A:H,8,FALSE)<=0.7,$B$30,VLOOKUP(F288,Intersections!A:H,8,FALSE)<=2,$B$31,TRUE,0)","v":10},{"$f":"_xlfn.IFS(VLOOKUP(F288,Intersections!A:D,4,FALSE)=\"Urban\",$B$30,TRUE,0)","v":10}]
[null,null,null,null,null,"US-59 & US-30 (North Junction)",{"$f":"COUNTIF('WWD Crashes'!C:C,F289)","v":0},{"$f":"COUNTIFS('Non-Crash Events'!B:B,F289,'Non-Crash Events'!R:R,\">0\")","v":0},21,null,null,null,null,null,null,null,null,null,null,null,null,null,null,null,null,null,{"$f":"SUMIFS('WWD Crashes'!G:G,'WWD Crashes'!C:C,F289)","v":0},{"$f":"_xlfn.IFS(AA289<0.125,$B$3,AA289<0.25,$B$4,AA289<0.5,$B$5,AA289<0.99,$B$6,AA289<1.5,$B$7,TRUE,$B$8)+$B$9*SUMIFS('WWD Crashes'!G:G,'WWD Crashes'!C:C,F289,'WWD Crashes'!L:L,\">0\")++$B$10*SUMIFS('WWD Crashes'!G:G,'WWD Crashes'!C:C,F289,'WWD Crashes'!M:M,\">0\")","v":0},{"$f":"MIN($B$16*SUMIF('Non-Crash Events'!B:B,F289,'Non-Crash Events'!R:R),50)","v":0},{"$f":"IF(VLOOKUP(F289,Intersections!A:E,5,FALSE)=\"Unique\",$B$22,IF(VLOOKUP(F289,Intersections!A:E,5,FALSE)=\"Split\",$B$23,0))","v":0},{"$f":"VLOOKUP(F289,Intersections!A:F,6,FALSE)","v":9500},2,{"$f":"VLOOKUP(F289,Intersections!A:G,7,FALSE)","v":9700},9,0,{"$f":"_xlfn.IFS(VLOOKUP(F289,Intersections!A:H,8,FALSE)<=0.7,$B$30,VLOOKUP(F289,Intersections!A:H,8,FALSE)<=2,$B$31,TRUE,0)","v":10},{"$f":"_xlfn.IFS(VLOOKUP(F289,Intersections!A:D,4,FALSE)=\"Urban\",$B$30,TRUE,0)","v":10}]
[null,null,null,null,null,"I-280 & US-61/RIVER DR",{"$f":"COUNTIF('WWD Crashes'!C:C,F290)","v":0},{"$f":"COUNTIFS('Non-Crash Events'!B:B,F290,'Non-Crash Events'!R:R,\">0\")","v":0},21,null,null,null,null,null,null,null,null,null,null,null,null,null,null,null,null,null,{"$f":"SUMIFS('WWD Crashes'!G:G,'WWD Crashes'!C:C,F290)","v":0},{"$f":"_xlfn.IFS(AA290<0.125,$B$3,AA290<0.25,$B$4,AA290<0.5,$B$5,AA290<0.99,$B$6,AA290<1.5,$B$7,TRUE,$B$8)+$B$9*SUMIFS('WWD Crashes'!G:G,'WWD Crashes'!C:C,F290,'WWD Crashes'!L:L,\">0\")++$B$10*SUMIFS('WWD Crashes'!G:G,'WWD Crashes'!C:C,F290,'WWD Crashes'!M:M,\">0\")","v":0},{"$f":"MIN($B$16*SUMIF('Non-Crash Events'!B:B,F290,'Non-Crash Events'!R:R),50)","v":0},{"$f":"IF(VLOOKUP(F290,Intersections!A:E,5,FALSE)=\"Unique\",$B$22,IF(VLOOKUP(F290,Intersections!A:E,5,FALSE)=\"Split\",$B$23,0))","v":0},{"$f":"VLOOKUP(F290,Intersections!A:F,6,FALSE)","v":24400},6,{"$f":"VLOOKUP(F290,Intersections!A:G,7,FALSE)","v":19600},10,0,{"$f":"_xlfn.IFS(VLOOKUP(F290,Intersections!A:H,8,FALSE)<=0.7,$B$30,VLOOKUP(F290,Intersections!A:H,8,FALSE)<=2,$B$31,TRUE,0)","v":5},{"$f":"_xlfn.IFS(VLOOKUP(F290,Intersections!A:D,4,FALSE)=\"Urban\",$B$30,TRUE,0)","v":10}]
[null,null,null,null,null,"US 20 E & IA 58 N",{"$f":"COUNTIF('WWD Crashes'!C:C,F291)","v":0},{"$f":"COUNTIFS('Non-Crash Events'!B:B,F291,'Non-Crash Events'!R:R,\">0\")","v":0},21,null,null,null,null,null,null,null,null,null,null,null,null,null,null,null,null,null,{"$f":"SUMIFS('WWD Crashes'!G:G,'WWD Crashes'!C:C,F291)","v":0},{"$f":"_xlfn.IFS(AA291<0.125,$B$3,AA291<0.25,$B$4,AA291<0.5,$B$5,AA291<0.99,$B$6,AA291<1.5,$B$7,TRUE,$B$8)+$B$9*SUMIFS('WWD Crashes'!G:G,'WWD Crashes'!C:C,F291,'WWD Crashes'!L:L,\">0\")++$B$10*SUMIFS('WWD Crashes'!G:G,'WWD Crashes'!C:C,F291,'WWD Crashes'!M:M,\">0\")","v":0},{"$f":"MIN($B$16*SUMIF('Non-Crash Events'!B:B,F291,'Non-Crash Events'!R:R),50)","v":0},{"$f":"IF(VLOOKUP(F291,Intersections!A:E,5,FALSE)=\"Unique\",$B$22,IF(VLOOKUP(F291,Intersections!A:E,5,FALSE)=\"Split\",$B$23,0))","v":0},{"$f":"VLOOKUP(F291,Intersections!A:F,6,FALSE)","v":26900},7,{"$f":"VLOOKUP(F291,Intersections!A:G,7,FALSE)","v":15600},9,0,{"$f":"_xlfn.IFS(VLOOKUP(F291,Intersections!A:H,8,FALSE)<=0.7,$B$30,VLOOKUP(F291,Intersections!A:H,8,FALSE)<=2,$B$31,TRUE,0)","v":5},{"$f":"_xlfn.IFS(VLOOKUP(F291,Intersections!A:D,4,FALSE)=\"Urban\",$B$30,TRUE,0)","v":10}]
[null,null,null,null,null,"IA-5 & Fleur Drive/85th Ave S",{"$f":"COUNTIF('WWD Crashes'!C:C,F292)","v":0},{"$f":"COUNTIFS('Non-Crash Events'!B:B,F292,'Non-Crash Events'!R:R,\">0\")","v":0},21,null,null,null,null,null,null,null,null,null,null,null,null,null,null,null,null,null,{"$f":"SUMIFS('WWD Crashes'!G:G,'WWD Crashes'!C:C,F292)","v":0},{"$f":"_xlfn.IFS(AA292<0.125,$B$3,AA292<0.25,$B$4,AA292<0.5,$B$5,AA292<0.99,$B$6,AA292<1.5,$B$7,TRUE,$B$8)+$B$9*SUMIFS('WWD Crashes'!G:G,'WWD Crashes'!C:C,F292,'WWD Crashes'!L:L,\">0\")++$B$10*SUMIFS('WWD Crashes'!G:G,'WWD Crashes'!C:C,F292,'WWD Crashes'!M:M,\">0\")","v":0},{"$f":"MIN($B$16*SUMIF('Non-Crash Events'!B:B,F292,'Non-Crash Events'!R:R),50)","v":0},{"$f":"IF(VLOOKUP(F292,Intersections!A:E,5,FALSE)=\"Unique\",$B$22,IF(VLOOKUP(F292,Intersections!A:E,5,FALSE)=\"Split\",$B$23,0))","v":0},{"$f":"VLOOKUP(F292,Intersections!A:F,6,FALSE)","v":27500},7,{"$f":"VLOOKUP(F292,Intersections!A:G,7,FALSE)","v":14100},9,0,{"$f":"_xlfn.IFS(VLOOKUP(F292,Intersections!A:H,8,FALSE)<=0.7,$B$30,VLOOKUP(F292,Intersections!A:H,8,FALSE)<=2,$B$31,TRUE,0)","v":5},{"$f":"_xlfn.IFS(VLOOKUP(F292,Intersections!A:D,4,FALSE)=\"Urban\",$B$30,TRUE,0)","v":10}]
[null,null,null,null,null,"US 65 & ARMY POST RD/SE 64TH AVE",{"$f":"COUNTIF('WWD Crashes'!C:C,F293)","v":0},{"$f":"COUNTIFS('Non-Crash Events'!B:B,F293,'Non-Crash Events'!R:R,\">0\")","v":0},21,null,null,null,null,null,null,null,null,null,null,null,null,null,null,null,null,null,{"$f":"SUMIFS('WWD Crashes'!G:G,'WWD Crashes'!C:C,F293)","v":0},{"$f":"_xlfn.IFS(AA293<0.125,$B$3,AA293<0.25,$B$4,AA293<0.5,$B$5,AA293<0.99,$B$6,AA293<1.5,$B$7,TRUE,$B$8)+$B$9*SUMIFS('WWD Crashes'!G:G,'WWD Crashes'!C:C,F293,'WWD Crashes'!L:L,\">0\")++$B$10*SUMIFS('WWD Crashes'!G:G,'WWD Crashes'!C:C,F293,'WWD Crashes'!M:M,\">0\")","v":0},{"$f":"MIN($B$16*SUMIF('Non-Crash Events'!B:B,F293,'Non-Crash Events'!R:R),50)","v":0},{"$f":"IF(VLOOKUP(F293,Intersections!A:E,5,FALSE)=\"Unique\",$B$22,IF(VLOOKUP(F293,Intersections!A:E,5,FALSE)=\"Split\",$B$23,0))","v":0},{"$f":"VLOOKUP(F293,Intersections!A:F,6,FALSE)","v":25000},7,{"$f":"VLOOKUP(F293,Intersections!A:G,7,FALSE)","v":8900},9,0,{"$f":"_xlfn.IFS(VLOOKUP(F293,Intersections!A:H,8,FALSE)<=0.7,$B$30,VLOOKUP(F293,Intersections!A:H,8,FALSE)<=2,$B$31,TRUE,0)","v":5},{"$f":"_xlfn.IFS(VLOOKUP(F293,Intersections!A:D,4,FALSE)=\"Urban\",$B$30,TRUE,0)","v":10}]
[null,null,null,null,null,"US 63 NE RAMP & 100TH ST/Pennsylvania Ave",{"$f":"COUNTIF('WWD Crashes'!C:C,F294)","v":1},{"$f":"COUNTIFS('Non-Crash Events'!B:B,F294,'Non-Crash Events'!R:R,\">0\")","v":0},21,null,null,null,null,null,null,null,null,null,null,null,null,null,null,null,null,null,{"$f":"SUMIFS('WWD Crashes'!G:G,'WWD Crashes'!C:C,F294)","v":0.25},{"$f":"_xlfn.IFS(AA294<0.125,$B$3,AA294<0.25,$B$4,AA294<0.5,$B$5,AA294<0.99,$B$6,AA294<1.5,$B$7,TRUE,$B$8)+$B$9*SUMIFS('WWD Crashes'!G:G,'WWD Crashes'!C:C,F294,'WWD Crashes'!L:L,\">0\")++$B$10*SUMIFS('WWD Crashes'!G:G,'WWD Crashes'!C:C,F294,'WWD Crashes'!M:M,\">0\")","v":10},{"$f":"MIN($B$16*SUMIF('Non-Crash Events'!B:B,F294,'Non-Crash Events'!R:R),50)","v":0},{"$f":"IF(VLOOKUP(F294,Intersections!A:E,5,FALSE)=\"Unique\",$B$22,IF(VLOOKUP(F294,Intersections!A:E,5,FALSE)=\"Split\",$B$23,0))","v":0},{"$f":"VLOOKUP(F294,Intersections!A:F,6,FALSE)","v":8000},2,{"$f":"VLOOKUP(F294,Intersections!A:G,7,FALSE)","v":2780},4,0,{"$f":"_xlfn.IFS(VLOOKUP(F294,Intersections!A:H,8,FALSE)<=0.7,$B$30,VLOOKUP(F294,Intersections!A:H,8,FALSE)<=2,$B$31,TRUE,0)","v":5},{"$f":"_xlfn.IFS(VLOOKUP(F294,Intersections!A:D,4,FALSE)=\"Urban\",$B$30,TRUE,0)","v":0}]
[null,null,null,null,null,"US-61 NE RAMP & E MAYNE ST",{"$f":"COUNTIF('WWD Crashes'!C:C,F295)","v":0},{"$f":"COUNTIFS('Non-Crash Events'!B:B,F295,'Non-Crash Events'!R:R,\">0\")","v":0},20,null,null,null,null,null,null,null,null,null,null,null,null,null,null,null,null,null,{"$f":"SUMIFS('WWD Crashes'!G:G,'WWD Crashes'!C:C,F295)","v":0},{"$f":"_xlfn.IFS(AA295<0.125,$B$3,AA295<0.25,$B$4,AA295<0.5,$B$5,AA295<0.99,$B$6,AA295<1.5,$B$7,TRUE,$B$8)+$B$9*SUMIFS('WWD Crashes'!G:G,'WWD Crashes'!C:C,F295,'WWD Crashes'!L:L,\">0\")++$B$10*SUMIFS('WWD Crashes'!G:G,'WWD Crashes'!C:C,F295,'WWD Crashes'!M:M,\">0\")","v":0},{"$f":"MIN($B$16*SUMIF('Non-Crash Events'!B:B,F295,'Non-Crash Events'!R:R),50)","v":0},{"$f":"IF(VLOOKUP(F295,Intersections!A:E,5,FALSE)=\"Unique\",$B$22,IF(VLOOKUP(F295,Intersections!A:E,5,FALSE)=\"Split\",$B$23,0))","v":0},{"$f":"VLOOKUP(F295,Intersections!A:F,6,FALSE)","v":16400},5,{"$f":"VLOOKUP(F295,Intersections!A:G,7,FALSE)","v":3960},5,0,{"$f":"_xlfn.IFS(VLOOKUP(F295,Intersections!A:H,8,FALSE)<=0.7,$B$30,VLOOKUP(F295,Intersections!A:H,8,FALSE)<=2,$B$31,TRUE,0)","v":10},{"$f":"_xlfn.IFS(VLOOKUP(F295,Intersections!A:D,4,FALSE)=\"Urban\",$B$30,TRUE,0)","v":0}]
[null,null,null,null,null,"I- 29 NW LOOP/ US 30 EXIT & I- 29",{"$f":"COUNTIF('WWD Crashes'!C:C,F296)","v":0},{"$f":"COUNTIFS('Non-Crash Events'!B:B,F296,'Non-Crash Events'!R:R,\">0\")","v":0},20,null,null,null,null,null,null,null,null,null,null,null,null,null,null,null,null,null,{"$f":"SUMIFS('WWD Crashes'!G:G,'WWD Crashes'!C:C,F296)","v":0},{"$f":"_xlfn.IFS(AA296<0.125,$B$3,AA296<0.25,$B$4,AA296<0.5,$B$5,AA296<0.99,$B$6,AA296<1.5,$B$7,TRUE,$B$8)+$B$9*SUMIFS('WWD Crashes'!G:G,'WWD Crashes'!C:C,F296,'WWD Crashes'!L:L,\">0\")++$B$10*SUMIFS('WWD Crashes'!G:G,'WWD Crashes'!C:C,F296,'WWD Crashes'!M:M,\">0\")","v":0},{"$f":"MIN($B$16*SUMIF('Non-Crash Events'!B:B,F296,'Non-Crash Events'!R:R),50)","v":0},{"$f":"IF(VLOOKUP(F296,Intersections!A:E,5,FALSE)=\"Unique\",$B$22,IF(VLOOKUP(F296,Intersections!A:E,5,FALSE)=\"Split\",$B$23,0))","v":0},{"$f":"VLOOKUP(F296,Intersections!A:F,6,FALSE)","v":22200},6,{"$f":"VLOOKUP(F296,Intersections!A:G,7,FALSE)","v":11800},9,0,{"$f":"_xlfn.IFS(VLOOKUP(F296,Intersections!A:H,8,FALSE)<=0.7,$B$30,VLOOKUP(F296,Intersections!A:H,8,FALSE)<=2,$B$31,TRUE,0)","v":5},{"$f":"_xlfn.IFS(VLOOKUP(F296,Intersections!A:D,4,FALSE)=\"Urban\",$B$30,TRUE,0)","v":0}]
[null,null,null,{"$f":"HYPERLINK(\"#'Weight Based'!\"&ADDRESS(5,11),\"Jump to Details\")","v":"Jump to Details"},null,"US 63 E RAMP & FAYETTE ST",{"$f":"COUNTIF('WWD Crashes'!C:C,F297)","v":1},{"$f":"COUNTIFS('Non-Crash Events'!B:B,F297,'Non-Crash Events'!R:R,\">0\")","v":0},20,null,null,null,null,null,null,null,null,null,null,null,null,null,null,null,null,null,{"$f":"SUMIFS('WWD Crashes'!G:G,'WWD Crashes'!C:C,F297)","v":0.25},{"$f":"_xlfn.IFS(AA297<0.125,$B$3,AA297<0.25,$B$4,AA297<0.5,$B$5,AA297<0.99,$B$6,AA297<1.5,$B$7,TRUE,$B$8)+$B$9*SUMIFS('WWD Crashes'!G:G,'WWD Crashes'!C:C,F297,'WWD Crashes'!L:L,\">0\")++$B$10*SUMIFS('WWD Crashes'!G:G,'WWD Crashes'!C:C,F297,'WWD Crashes'!M:M,\">0\")","v":10},{"$f":"MIN($B$16*SUMIF('Non-Crash Events'!B:B,F297,'Non-Crash Events'!R:R),50)","v":0},{"$f":"IF(VLOOKUP(F297,Intersections!A:E,5,FALSE)=\"Unique\",$B$22,IF(VLOOKUP(F297,Intersections!A:E,5,FALSE)=\"Split\",$B$23,0))","v":0},{"$f":"VLOOKUP(F297,Intersections!A:F,6,FALSE)","v":5900},1,{"$f":"VLOOKUP(F297,Intersections!A:G,7,FALSE)","v":3200},4,0,{"$f":"_xlfn.IFS(VLOOKUP(F297,Intersections!A:H,8,FALSE)<=0.7,$B$30,VLOOKUP(F297,Intersections!A:H,8,FALSE)<=2,$B$31,TRUE,0)","v":5},{"$f":"_xlfn.IFS(VLOOKUP(F297,Intersections!A:D,4,FALSE)=\"Urban\",$B$30,TRUE,0)","v":0}]
[null,null,null,null,null,"I-80 & Atalissa Rd",{"$f":"COUNTIF('WWD Crashes'!C:C,F298)","v":0},{"$f":"COUNTIFS('Non-Crash Events'!B:B,F298,'Non-Crash Events'!R:R,\">0\")","v":1},20,null,null,null,null,null,null,null,null,null,null,null,null,null,null,null,null,null,{"$f":"SUMIFS('WWD Crashes'!G:G,'WWD Crashes'!C:C,F298)","v":0},{"$f":"_xlfn.IFS(AA298<0.125,$B$3,AA298<0.25,$B$4,AA298<0.5,$B$5,AA298<0.99,$B$6,AA298<1.5,$B$7,TRUE,$B$8)+$B$9*SUMIFS('WWD Crashes'!G:G,'WWD Crashes'!C:C,F298,'WWD Crashes'!L:L,\">0\")++$B$10*SUMIFS('WWD Crashes'!G:G,'WWD Crashes'!C:C,F298,'WWD Crashes'!M:M,\">0\")","v":0},{"$f":"MIN($B$16*SUMIF('Non-Crash Events'!B:B,F298,'Non-Crash Events'!R:R),50)","v":5},{"$f":"IF(VLOOKUP(F298,Intersections!A:E,5,FALSE)=\"Unique\",$B$22,IF(VLOOKUP(F298,Intersections!A:E,5,FALSE)=\"Split\",$B$23,0))","v":0},{"$f":"VLOOKUP(F298,Intersections!A:F,6,FALSE)","v":35300},8,{"$f":"VLOOKUP(F298,Intersections!A:G,7,FALSE)","v":1660},2,0,{"$f":"_xlfn.IFS(VLOOKUP(F298,Intersections!A:H,8,FALSE)<=0.7,$B$30,VLOOKUP(F298,Intersections!A:H,8,FALSE)<=2,$B$31,TRUE,0)","v":5},{"$f":"_xlfn.IFS(VLOOKUP(F298,Intersections!A:D,4,FALSE)=\"Urban\",$B$30,TRUE,0)","v":0}]
[null,null,null,null,null,"I- 35 W  Ramp & 380TH ST/ D65",{"$f":"COUNTIF('WWD Crashes'!C:C,F299)","v":0},{"$f":"COUNTIFS('Non-Crash Events'!B:B,F299,'Non-Crash Events'!R:R,\">0\")","v":2},19.8,null,null,null,null,null,null,null,null,null,null,null,null,null,null,null,null,null,{"$f":"SUMIFS('WWD Crashes'!G:G,'WWD Crashes'!C:C,F299)","v":0},{"$f":"_xlfn.IFS(AA299<0.125,$B$3,AA299<0.25,$B$4,AA299<0.5,$B$5,AA299<0.99,$B$6,AA299<1.5,$B$7,TRUE,$B$8)+$B$9*SUMIFS('WWD Crashes'!G:G,'WWD Crashes'!C:C,F299,'WWD Crashes'!L:L,\">0\")++$B$10*SUMIFS('WWD Crashes'!G:G,'WWD Crashes'!C:C,F299,'WWD Crashes'!M:M,\">0\")","v":0},{"$f":"MIN($B$16*SUMIF('Non-Crash Events'!B:B,F299,'Non-Crash Events'!R:R),50)","v":10.8},{"$f":"IF(VLOOKUP(F299,Intersections!A:E,5,FALSE)=\"Unique\",$B$22,IF(VLOOKUP(F299,Intersections!A:E,5,FALSE)=\"Split\",$B$23,0))","v":0},{"$f":"VLOOKUP(F299,Intersections!A:F,6,FALSE)","v":27000},7,{"$f":"VLOOKUP(F299,Intersections!A:G,7,FALSE)","v":1020},2,0,{"$f":"_xlfn.IFS(VLOOKUP(F299,Intersections!A:H,8,FALSE)<=0.7,$B$30,VLOOKUP(F299,Intersections!A:H,8,FALSE)<=2,$B$31,TRUE,0)","v":0},{"$f":"_xlfn.IFS(VLOOKUP(F299,Intersections!A:D,4,FALSE)=\"Urban\",$B$30,TRUE,0)","v":0}]
[null,null,null,null,null,"I 80 W & I 80 W TO 335TH ST,W",{"$f":"COUNTIF('WWD Crashes'!C:C,F300)","v":0},{"$f":"COUNTIFS('Non-Crash Events'!B:B,F300,'Non-Crash Events'!R:R,\">0\")","v":0},19,null,null,null,null,null,null,null,null,null,null,null,null,null,null,null,null,null,{"$f":"SUMIFS('WWD Crashes'!G:G,'WWD Crashes'!C:C,F300)","v":0},{"$f":"_xlfn.IFS(AA300<0.125,$B$3,AA300<0.25,$B$4,AA300<0.5,$B$5,AA300<0.99,$B$6,AA300<1.5,$B$7,TRUE,$B$8)+$B$9*SUMIFS('WWD Crashes'!G:G,'WWD Crashes'!C:C,F300,'WWD Crashes'!L:L,\">0\")++$B$10*SUMIFS('WWD Crashes'!G:G,'WWD Crashes'!C:C,F300,'WWD Crashes'!M:M,\">0\")","v":0},{"$f":"MIN($B$16*SUMIF('Non-Crash Events'!B:B,F300,'Non-Crash Events'!R:R),50)","v":0},{"$f":"IF(VLOOKUP(F300,Intersections!A:E,5,FALSE)=\"Unique\",$B$22,IF(VLOOKUP(F300,Intersections!A:E,5,FALSE)=\"Split\",$B$23,0))","v":0},{"$f":"VLOOKUP(F300,Intersections!A:F,6,FALSE)","v":26400},7,{"$f":"VLOOKUP(F300,Intersections!A:G,7,FALSE)","v":1130},2,0,{"$f":"_xlfn.IFS(VLOOKUP(F300,Intersections!A:H,8,FALSE)<=0.7,$B$30,VLOOKUP(F300,Intersections!A:H,8,FALSE)<=2,$B$31,TRUE,0)","v":10},{"$f":"_xlfn.IFS(VLOOKUP(F300,Intersections!A:D,4,FALSE)=\"Urban\",$B$30,TRUE,0)","v":0}]
[null,null,null,null,null,"US 63 NW RAMP A & IOWA 137",{"$f":"COUNTIF('WWD Crashes'!C:C,F301)","v":0},{"$f":"COUNTIFS('Non-Crash Events'!B:B,F301,'Non-Crash Events'!R:R,\">0\")","v":0},19,null,null,null,null,null,null,null,null,null,null,null,null,null,null,null,null,null,{"$f":"SUMIFS('WWD Crashes'!G:G,'WWD Crashes'!C:C,F301)","v":0},{"$f":"_xlfn.IFS(AA301<0.125,$B$3,AA301<0.25,$B$4,AA301<0.5,$B$5,AA301<0.99,$B$6,AA301<1.5,$B$7,TRUE,$B$8)+$B$9*SUMIFS('WWD Crashes'!G:G,'WWD Crashes'!C:C,F301,'WWD Crashes'!L:L,\">0\")++$B$10*SUMIFS('WWD Crashes'!G:G,'WWD Crashes'!C:C,F301,'WWD Crashes'!M:M,\">0\")","v":0},{"$f":"MIN($B$16*SUMIF('Non-Crash Events'!B:B,F301,'Non-Crash Events'!R:R),50)","v":0},{"$f":"IF(VLOOKUP(F301,Intersections!A:E,5,FALSE)=\"Unique\",$B$22,IF(VLOOKUP(F301,Intersections!A:E,5,FALSE)=\"Split\",$B$23,0))","v":0},{"$f":"VLOOKUP(F301,Intersections!A:F,6,FALSE)","v":10800},3,{"$f":"VLOOKUP(F301,Intersections!A:G,7,FALSE)","v":5600},6,0,{"$f":"_xlfn.IFS(VLOOKUP(F301,Intersections!A:H,8,FALSE)<=0.7,$B$30,VLOOKUP(F301,Intersections!A:H,8,FALSE)<=2,$B$31,TRUE,0)","v":10},{"$f":"_xlfn.IFS(VLOOKUP(F301,Intersections!A:D,4,FALSE)=\"Urban\",$B$30,TRUE,0)","v":0}]
[null,null,null,null,null,"US 20 & IA-58 S/Hudson Rd",{"$f":"COUNTIF('WWD Crashes'!C:C,F302)","v":0},{"$f":"COUNTIFS('Non-Crash Events'!B:B,F302,'Non-Crash Events'!R:R,\">0\")","v":0},19,null,null,null,null,null,null,null,null,null,null,null,null,null,null,null,null,null,{"$f":"SUMIFS('WWD Crashes'!G:G,'WWD Crashes'!C:C,F302)","v":0},{"$f":"_xlfn.IFS(AA302<0.125,$B$3,AA302<0.25,$B$4,AA302<0.5,$B$5,AA302<0.99,$B$6,AA302<1.5,$B$7,TRUE,$B$8)+$B$9*SUMIFS('WWD Crashes'!G:G,'WWD Crashes'!C:C,F302,'WWD Crashes'!L:L,\">0\")++$B$10*SUMIFS('WWD Crashes'!G:G,'WWD Crashes'!C:C,F302,'WWD Crashes'!M:M,\">0\")","v":0},{"$f":"MIN($B$16*SUMIF('Non-Crash Events'!B:B,F302,'Non-Crash Events'!R:R),50)","v":0},{"$f":"IF(VLOOKUP(F302,Intersections!A:E,5,FALSE)=\"Unique\",$B$22,IF(VLOOKUP(F302,Intersections!A:E,5,FALSE)=\"Split\",$B$23,0))","v":0},{"$f":"VLOOKUP(F302,Intersections!A:F,6,FALSE)","v":17000},5,{"$f":"VLOOKUP(F302,Intersections!A:G,7,FALSE)","v":9700},9,0,{"$f":"_xlfn.IFS(VLOOKUP(F302,Intersections!A:H,8,FALSE)<=0.7,$B$30,VLOOKUP(F302,Intersections!A:H,8,FALSE)<=2,$B$31,TRUE,0)","v":5},{"$f":"_xlfn.IFS(VLOOKUP(F302,Intersections!A:D,4,FALSE)=\"Urban\",$B$30,TRUE,0)","v":10}]
[null,null,null,null,null,"I 80 W & I 80 W TO IOWA SPEEDWAY DR N",{"$f":"COUNTIF('WWD Crashes'!C:C,F303)","v":0},{"$f":"COUNTIFS('Non-Crash Events'!B:B,F303,'Non-Crash Events'!R:R,\">0\")","v":0},19,null,null,null,null,null,null,null,null,null,null,null,null,null,null,null,null,null,{"$f":"SUMIFS('WWD Crashes'!G:G,'WWD Crashes'!C:C,F303)","v":0},{"$f":"_xlfn.IFS(AA303<0.125,$B$3,AA303<0.25,$B$4,AA303<0.5,$B$5,AA303<0.99,$B$6,AA303<1.5,$B$7,TRUE,$B$8)+$B$9*SUMIFS('WWD Crashes'!G:G,'WWD Crashes'!C:C,F303,'WWD Crashes'!L:L,\">0\")++$B$10*SUMIFS('WWD Crashes'!G:G,'WWD Crashes'!C:C,F303,'WWD Crashes'!M:M,\">0\")","v":0},{"$f":"MIN($B$16*SUMIF('Non-Crash Events'!B:B,F303,'Non-Crash Events'!R:R),50)","v":0},{"$f":"IF(VLOOKUP(F303,Intersections!A:E,5,FALSE)=\"Unique\",$B$22,IF(VLOOKUP(F303,Intersections!A:E,5,FALSE)=\"Split\",$B$23,0))","v":0},{"$f":"VLOOKUP(F303,Intersections!A:F,6,FALSE)","v":29800},8,{"$f":"VLOOKUP(F303,Intersections!A:G,7,FALSE)","v":5800},6,0,{"$f":"_xlfn.IFS(VLOOKUP(F303,Intersections!A:H,8,FALSE)<=0.7,$B$30,VLOOKUP(F303,Intersections!A:H,8,FALSE)<=2,$B$31,TRUE,0)","v":5},{"$f":"_xlfn.IFS(VLOOKUP(F303,Intersections!A:D,4,FALSE)=\"Urban\",$B$30,TRUE,0)","v":0}]
[null,null,null,null,null,"I-280 NE RAMP B & IA-22",{"$f":"COUNTIF('WWD Crashes'!C:C,F304)","v":0},{"$f":"COUNTIFS('Non-Crash Events'!B:B,F304,'Non-Crash Events'!R:R,\">0\")","v":0},19,null,null,null,null,null,null,null,null,null,null,null,null,null,null,null,null,null,{"$f":"SUMIFS('WWD Crashes'!G:G,'WWD Crashes'!C:C,F304)","v":0},{"$f":"_xlfn.IFS(AA304<0.125,$B$3,AA304<0.25,$B$4,AA304<0.5,$B$5,AA304<0.99,$B$6,AA304<1.5,$B$7,TRUE,$B$8)+$B$9*SUMIFS('WWD Crashes'!G:G,'WWD Crashes'!C:C,F304,'WWD Crashes'!L:L,\">0\")++$B$10*SUMIFS('WWD Crashes'!G:G,'WWD Crashes'!C:C,F304,'WWD Crashes'!M:M,\">0\")","v":0},{"$f":"MIN($B$16*SUMIF('Non-Crash Events'!B:B,F304,'Non-Crash Events'!R:R),50)","v":0},{"$f":"IF(VLOOKUP(F304,Intersections!A:E,5,FALSE)=\"Unique\",$B$22,IF(VLOOKUP(F304,Intersections!A:E,5,FALSE)=\"Split\",$B$23,0))","v":0},{"$f":"VLOOKUP(F304,Intersections!A:F,6,FALSE)","v":25900},7,{"$f":"VLOOKUP(F304,Intersections!A:G,7,FALSE)","v":7800},7,0,{"$f":"_xlfn.IFS(VLOOKUP(F304,Intersections!A:H,8,FALSE)<=0.7,$B$30,VLOOKUP(F304,Intersections!A:H,8,FALSE)<=2,$B$31,TRUE,0)","v":5},{"$f":"_xlfn.IFS(VLOOKUP(F304,Intersections!A:D,4,FALSE)=\"Urban\",$B$30,TRUE,0)","v":0}]
[null,null,null,null,null,"US-20 RAMP & CENTER AVE S/PLACID RD",{"$f":"COUNTIF('WWD Crashes'!C:C,F305)","v":1},{"$f":"COUNTIFS('Non-Crash Events'!B:B,F305,'Non-Crash Events'!R:R,\">0\")","v":0},19,null,null,null,null,null,null,null,null,null,null,null,null,null,null,null,null,null,{"$f":"SUMIFS('WWD Crashes'!G:G,'WWD Crashes'!C:C,F305)","v":0.25},{"$f":"_xlfn.IFS(AA305<0.125,$B$3,AA305<0.25,$B$4,AA305<0.5,$B$5,AA305<0.99,$B$6,AA305<1.5,$B$7,TRUE,$B$8)+$B$9*SUMIFS('WWD Crashes'!G:G,'WWD Crashes'!C:C,F305,'WWD Crashes'!L:L,\">0\")++$B$10*SUMIFS('WWD Crashes'!G:G,'WWD Crashes'!C:C,F305,'WWD Crashes'!M:M,\">0\")","v":10},{"$f":"MIN($B$16*SUMIF('Non-Crash Events'!B:B,F305,'Non-Crash Events'!R:R),50)","v":0},{"$f":"IF(VLOOKUP(F305,Intersections!A:E,5,FALSE)=\"Unique\",$B$22,IF(VLOOKUP(F305,Intersections!A:E,5,FALSE)=\"Split\",$B$23,0))","v":0},{"$f":"VLOOKUP(F305,Intersections!A:F,6,FALSE)","v":13800},4,{"$f":"VLOOKUP(F305,Intersections!A:G,7,FALSE)","v":4100},5,0,{"$f":"_xlfn.IFS(VLOOKUP(F305,Intersections!A:H,8,FALSE)<=0.7,$B$30,VLOOKUP(F305,Intersections!A:H,8,FALSE)<=2,$B$31,TRUE,0)","v":0},{"$f":"_xlfn.IFS(VLOOKUP(F305,Intersections!A:D,4,FALSE)=\"Urban\",$B$30,TRUE,0)","v":0}]
[null,null,null,null,null,"US- 20 N RAMP & N AVE/ IA 14",{"$f":"COUNTIF('WWD Crashes'!C:C,F306)","v":1},{"$f":"COUNTIFS('Non-Crash Events'!B:B,F306,'Non-Crash Events'!R:R,\">0\")","v":0},19,null,null,null,null,null,null,null,null,null,null,null,null,null,null,null,null,null,{"$f":"SUMIFS('WWD Crashes'!G:G,'WWD Crashes'!C:C,F306)","v":0.25},{"$f":"_xlfn.IFS(AA306<0.125,$B$3,AA306<0.25,$B$4,AA306<0.5,$B$5,AA306<0.99,$B$6,AA306<1.5,$B$7,TRUE,$B$8)+$B$9*SUMIFS('WWD Crashes'!G:G,'WWD Crashes'!C:C,F306,'WWD Crashes'!L:L,\">0\")++$B$10*SUMIFS('WWD Crashes'!G:G,'WWD Crashes'!C:C,F306,'WWD Crashes'!M:M,\">0\")","v":10},{"$f":"MIN($B$16*SUMIF('Non-Crash Events'!B:B,F306,'Non-Crash Events'!R:R),50)","v":0},{"$f":"IF(VLOOKUP(F306,Intersections!A:E,5,FALSE)=\"Unique\",$B$22,IF(VLOOKUP(F306,Intersections!A:E,5,FALSE)=\"Split\",$B$23,0))","v":0},{"$f":"VLOOKUP(F306,Intersections!A:F,6,FALSE)","v":13200},4,{"$f":"VLOOKUP(F306,Intersections!A:G,7,FALSE)","v":4430},5,0,{"$f":"_xlfn.IFS(VLOOKUP(F306,Intersections!A:H,8,FALSE)<=0.7,$B$30,VLOOKUP(F306,Intersections!A:H,8,FALSE)<=2,$B$31,TRUE,0)","v":0},{"$f":"_xlfn.IFS(VLOOKUP(F306,Intersections!A:D,4,FALSE)=\"Urban\",$B$30,TRUE,0)","v":0}]
[null,null,null,null,null,"IA-35 East RAMP & 100TH ST",{"$f":"COUNTIF('WWD Crashes'!C:C,F307)","v":0},{"$f":"COUNTIFS('Non-Crash Events'!B:B,F307,'Non-Crash Events'!R:R,\">0\")","v":1},19,null,null,null,null,null,null,null,null,null,null,null,null,null,null,null,null,null,{"$f":"SUMIFS('WWD Crashes'!G:G,'WWD Crashes'!C:C,F307)","v":0},{"$f":"_xlfn.IFS(AA307<0.125,$B$3,AA307<0.25,$B$4,AA307<0.5,$B$5,AA307<0.99,$B$6,AA307<1.5,$B$7,TRUE,$B$8)+$B$9*SUMIFS('WWD Crashes'!G:G,'WWD Crashes'!C:C,F307,'WWD Crashes'!L:L,\">0\")++$B$10*SUMIFS('WWD Crashes'!G:G,'WWD Crashes'!C:C,F307,'WWD Crashes'!M:M,\">0\")","v":0},{"$f":"MIN($B$16*SUMIF('Non-Crash Events'!B:B,F307,'Non-Crash Events'!R:R),50)","v":10},{"$f":"IF(VLOOKUP(F307,Intersections!A:E,5,FALSE)=\"Unique\",$B$22,IF(VLOOKUP(F307,Intersections!A:E,5,FALSE)=\"Split\",$B$23,0))","v":0},{"$f":"VLOOKUP(F307,Intersections!A:F,6,FALSE)","v":15900},5,{"$f":"VLOOKUP(F307,Intersections!A:G,7,FALSE)","v":2680},4,0,{"$f":"_xlfn.IFS(VLOOKUP(F307,Intersections!A:H,8,FALSE)<=0.7,$B$30,VLOOKUP(F307,Intersections!A:H,8,FALSE)<=2,$B$31,TRUE,0)","v":0},{"$f":"_xlfn.IFS(VLOOKUP(F307,Intersections!A:D,4,FALSE)=\"Urban\",$B$30,TRUE,0)","v":0}]
[null,null,null,null,null,"IA-5/IA-92 & IA-14",{"$f":"COUNTIF('WWD Crashes'!C:C,F308)","v":0},{"$f":"COUNTIFS('Non-Crash Events'!B:B,F308,'Non-Crash Events'!R:R,\">0\")","v":0},18,null,null,null,null,null,null,null,null,null,null,null,null,null,null,null,null,null,{"$f":"SUMIFS('WWD Crashes'!G:G,'WWD Crashes'!C:C,F308)","v":0},{"$f":"_xlfn.IFS(AA308<0.125,$B$3,AA308<0.25,$B$4,AA308<0.5,$B$5,AA308<0.99,$B$6,AA308<1.5,$B$7,TRUE,$B$8)+$B$9*SUMIFS('WWD Crashes'!G:G,'WWD Crashes'!C:C,F308,'WWD Crashes'!L:L,\">0\")++$B$10*SUMIFS('WWD Crashes'!G:G,'WWD Crashes'!C:C,F308,'WWD Crashes'!M:M,\">0\")","v":0},{"$f":"MIN($B$16*SUMIF('Non-Crash Events'!B:B,F308,'Non-Crash Events'!R:R),50)","v":0},{"$f":"IF(VLOOKUP(F308,Intersections!A:E,5,FALSE)=\"Unique\",$B$22,IF(VLOOKUP(F308,Intersections!A:E,5,FALSE)=\"Split\",$B$23,0))","v":0},{"$f":"VLOOKUP(F308,Intersections!A:F,6,FALSE)","v":6800},1,{"$f":"VLOOKUP(F308,Intersections!A:G,7,FALSE)","v":7900},7,0,{"$f":"_xlfn.IFS(VLOOKUP(F308,Intersections!A:H,8,FALSE)<=0.7,$B$30,VLOOKUP(F308,Intersections!A:H,8,FALSE)<=2,$B$31,TRUE,0)","v":10},{"$f":"_xlfn.IFS(VLOOKUP(F308,Intersections!A:D,4,FALSE)=\"Urban\",$B$30,TRUE,0)","v":0}]
[null,null,null,null,null,"IA 163 E & IA 163 E TO IA 14 N",{"$f":"COUNTIF('WWD Crashes'!C:C,F309)","v":0},{"$f":"COUNTIFS('Non-Crash Events'!B:B,F309,'Non-Crash Events'!R:R,\">0\")","v":0},18,null,null,null,null,null,null,null,null,null,null,null,null,null,null,null,null,null,{"$f":"SUMIFS('WWD Crashes'!G:G,'WWD Crashes'!C:C,F309)","v":0},{"$f":"_xlfn.IFS(AA309<0.125,$B$3,AA309<0.25,$B$4,AA309<0.5,$B$5,AA309<0.99,$B$6,AA309<1.5,$B$7,TRUE,$B$8)+$B$9*SUMIFS('WWD Crashes'!G:G,'WWD Crashes'!C:C,F309,'WWD Crashes'!L:L,\">0\")++$B$10*SUMIFS('WWD Crashes'!G:G,'WWD Crashes'!C:C,F309,'WWD Crashes'!M:M,\">0\")","v":0},{"$f":"MIN($B$16*SUMIF('Non-Crash Events'!B:B,F309,'Non-Crash Events'!R:R),50)","v":0},{"$f":"IF(VLOOKUP(F309,Intersections!A:E,5,FALSE)=\"Unique\",$B$22,IF(VLOOKUP(F309,Intersections!A:E,5,FALSE)=\"Split\",$B$23,0))","v":0},{"$f":"VLOOKUP(F309,Intersections!A:F,6,FALSE)","v":9500},2,{"$f":"VLOOKUP(F309,Intersections!A:G,7,FALSE)","v":5000},6,0,{"$f":"_xlfn.IFS(VLOOKUP(F309,Intersections!A:H,8,FALSE)<=0.7,$B$30,VLOOKUP(F309,Intersections!A:H,8,FALSE)<=2,$B$31,TRUE,0)","v":10},{"$f":"_xlfn.IFS(VLOOKUP(F309,Intersections!A:D,4,FALSE)=\"Urban\",$B$30,TRUE,0)","v":0}]
[null,null,null,null,null,"US-59 & US-30 (South Junction)",{"$f":"COUNTIF('WWD Crashes'!C:C,F310)","v":0},{"$f":"COUNTIFS('Non-Crash Events'!B:B,F310,'Non-Crash Events'!R:R,\">0\")","v":0},18,null,null,null,null,null,null,null,null,null,null,null,null,null,null,null,null,null,{"$f":"SUMIFS('WWD Crashes'!G:G,'WWD Crashes'!C:C,F310)","v":0},{"$f":"_xlfn.IFS(AA310<0.125,$B$3,AA310<0.25,$B$4,AA310<0.5,$B$5,AA310<0.99,$B$6,AA310<1.5,$B$7,TRUE,$B$8)+$B$9*SUMIFS('WWD Crashes'!G:G,'WWD Crashes'!C:C,F310,'WWD Crashes'!L:L,\">0\")++$B$10*SUMIFS('WWD Crashes'!G:G,'WWD Crashes'!C:C,F310,'WWD Crashes'!M:M,\">0\")","v":0},{"$f":"MIN($B$16*SUMIF('Non-Crash Events'!B:B,F310,'Non-Crash Events'!R:R),50)","v":0},{"$f":"IF(VLOOKUP(F310,Intersections!A:E,5,FALSE)=\"Unique\",$B$22,IF(VLOOKUP(F310,Intersections!A:E,5,FALSE)=\"Split\",$B$23,0))","v":0},{"$f":"VLOOKUP(F310,Intersections!A:F,6,FALSE)","v":9000},2,{"$f":"VLOOKUP(F310,Intersections!A:G,7,FALSE)","v":5400},6,0,{"$f":"_xlfn.IFS(VLOOKUP(F310,Intersections!A:H,8,FALSE)<=0.7,$B$30,VLOOKUP(F310,Intersections!A:H,8,FALSE)<=2,$B$31,TRUE,0)","v":10},{"$f":"_xlfn.IFS(VLOOKUP(F310,Intersections!A:D,4,FALSE)=\"Urban\",$B$30,TRUE,0)","v":0}]
[null,null,null,null,null,"US 218 N & US 218 N TO IA 246 E",{"$f":"COUNTIF('WWD Crashes'!C:C,F311)","v":0},{"$f":"COUNTIFS('Non-Crash Events'!B:B,F311,'Non-Crash Events'!R:R,\">0\")","v":0},18,null,null,null,null,null,null,null,null,null,null,null,null,null,null,null,null,null,{"$f":"SUMIFS('WWD Crashes'!G:G,'WWD Crashes'!C:C,F311)","v":0},{"$f":"_xlfn.IFS(AA311<0.125,$B$3,AA311<0.25,$B$4,AA311<0.5,$B$5,AA311<0.99,$B$6,AA311<1.5,$B$7,TRUE,$B$8)+$B$9*SUMIFS('WWD Crashes'!G:G,'WWD Crashes'!C:C,F311,'WWD Crashes'!L:L,\">0\")++$B$10*SUMIFS('WWD Crashes'!G:G,'WWD Crashes'!C:C,F311,'WWD Crashes'!M:M,\">0\")","v":0},{"$f":"MIN($B$16*SUMIF('Non-Crash Events'!B:B,F311,'Non-Crash Events'!R:R),50)","v":0},{"$f":"IF(VLOOKUP(F311,Intersections!A:E,5,FALSE)=\"Unique\",$B$22,IF(VLOOKUP(F311,Intersections!A:E,5,FALSE)=\"Split\",$B$23,0))","v":0},{"$f":"VLOOKUP(F311,Intersections!A:F,6,FALSE)","v":10100},3,{"$f":"VLOOKUP(F311,Intersections!A:G,7,FALSE)","v":3470},5,0,{"$f":"_xlfn.IFS(VLOOKUP(F311,Intersections!A:H,8,FALSE)<=0.7,$B$30,VLOOKUP(F311,Intersections!A:H,8,FALSE)<=2,$B$31,TRUE,0)","v":10},{"$f":"_xlfn.IFS(VLOOKUP(F311,Intersections!A:D,4,FALSE)=\"Urban\",$B$30,TRUE,0)","v":0}]
[null,null,null,null,null,"US 20 E & MORNINGSIDE AVE E TO US 75 N",{"$f":"COUNTIF('WWD Crashes'!C:C,F312)","v":0},{"$f":"COUNTIFS('Non-Crash Events'!B:B,F312,'Non-Crash Events'!R:R,\">0\")","v":0},18,null,null,null,null,null,null,null,null,null,null,null,null,null,null,null,null,null,{"$f":"SUMIFS('WWD Crashes'!G:G,'WWD Crashes'!C:C,F312)","v":0},{"$f":"_xlfn.IFS(AA312<0.125,$B$3,AA312<0.25,$B$4,AA312<0.5,$B$5,AA312<0.99,$B$6,AA312<1.5,$B$7,TRUE,$B$8)+$B$9*SUMIFS('WWD Crashes'!G:G,'WWD Crashes'!C:C,F312,'WWD Crashes'!L:L,\">0\")++$B$10*SUMIFS('WWD Crashes'!G:G,'WWD Crashes'!C:C,F312,'WWD Crashes'!M:M,\">0\")","v":0},{"$f":"MIN($B$16*SUMIF('Non-Crash Events'!B:B,F312,'Non-Crash Events'!R:R),50)","v":0},{"$f":"IF(VLOOKUP(F312,Intersections!A:E,5,FALSE)=\"Unique\",$B$22,IF(VLOOKUP(F312,Intersections!A:E,5,FALSE)=\"Split\",$B$23,0))","v":0},{"$f":"VLOOKUP(F312,Intersections!A:F,6,FALSE)","v":27300},7,{"$f":"VLOOKUP(F312,Intersections!A:G,7,FALSE)","v":6400},6,0,{"$f":"_xlfn.IFS(VLOOKUP(F312,Intersections!A:H,8,FALSE)<=0.7,$B$30,VLOOKUP(F312,Intersections!A:H,8,FALSE)<=2,$B$31,TRUE,0)","v":5},{"$f":"_xlfn.IFS(VLOOKUP(F312,Intersections!A:D,4,FALSE)=\"Urban\",$B$30,TRUE,0)","v":10}]
[null,null,null,null,null,"IOWA 415 E Ramp & NW 66TH AVE",{"$f":"COUNTIF('WWD Crashes'!C:C,F313)","v":0},{"$f":"COUNTIFS('Non-Crash Events'!B:B,F313,'Non-Crash Events'!R:R,\">0\")","v":0},18,null,null,null,null,null,null,null,null,null,null,null,null,null,null,null,null,null,{"$f":"SUMIFS('WWD Crashes'!G:G,'WWD Crashes'!C:C,F313)","v":0},{"$f":"_xlfn.IFS(AA313<0.125,$B$3,AA313<0.25,$B$4,AA313<0.5,$B$5,AA313<0.99,$B$6,AA313<1.5,$B$7,TRUE,$B$8)+$B$9*SUMIFS('WWD Crashes'!G:G,'WWD Crashes'!C:C,F313,'WWD Crashes'!L:L,\">0\")++$B$10*SUMIFS('WWD Crashes'!G:G,'WWD Crashes'!C:C,F313,'WWD Crashes'!M:M,\">0\")","v":0},{"$f":"MIN($B$16*SUMIF('Non-Crash Events'!B:B,F313,'Non-Crash Events'!R:R),50)","v":0},{"$f":"IF(VLOOKUP(F313,Intersections!A:E,5,FALSE)=\"Unique\",$B$22,IF(VLOOKUP(F313,Intersections!A:E,5,FALSE)=\"Split\",$B$23,0))","v":0},{"$f":"VLOOKUP(F313,Intersections!A:F,6,FALSE)","v":27700},7,{"$f":"VLOOKUP(F313,Intersections!A:G,7,FALSE)","v":5500},6,0,{"$f":"_xlfn.IFS(VLOOKUP(F313,Intersections!A:H,8,FALSE)<=0.7,$B$30,VLOOKUP(F313,Intersections!A:H,8,FALSE)<=2,$B$31,TRUE,0)","v":5},{"$f":"_xlfn.IFS(VLOOKUP(F313,Intersections!A:D,4,FALSE)=\"Urban\",$B$30,TRUE,0)","v":10}]
[null,null,null,null,null,"US-61 SE RAMP & 267 ST",{"$f":"COUNTIF('WWD Crashes'!C:C,F314)","v":0},{"$f":"COUNTIFS('Non-Crash Events'!B:B,F314,'Non-Crash Events'!R:R,\">0\")","v":0},18,null,null,null,null,null,null,null,null,null,null,null,null,null,null,null,null,null,{"$f":"SUMIFS('WWD Crashes'!G:G,'WWD Crashes'!C:C,F314)","v":0},{"$f":"_xlfn.IFS(AA314<0.125,$B$3,AA314<0.25,$B$4,AA314<0.5,$B$5,AA314<0.99,$B$6,AA314<1.5,$B$7,TRUE,$B$8)+$B$9*SUMIFS('WWD Crashes'!G:G,'WWD Crashes'!C:C,F314,'WWD Crashes'!L:L,\">0\")++$B$10*SUMIFS('WWD Crashes'!G:G,'WWD Crashes'!C:C,F314,'WWD Crashes'!M:M,\">0\")","v":0},{"$f":"MIN($B$16*SUMIF('Non-Crash Events'!B:B,F314,'Non-Crash Events'!R:R),50)","v":0},{"$f":"IF(VLOOKUP(F314,Intersections!A:E,5,FALSE)=\"Unique\",$B$22,IF(VLOOKUP(F314,Intersections!A:E,5,FALSE)=\"Split\",$B$23,0))","v":0},{"$f":"VLOOKUP(F314,Intersections!A:F,6,FALSE)","v":27000},7,{"$f":"VLOOKUP(F314,Intersections!A:G,7,FALSE)","v":5100},6,0,{"$f":"_xlfn.IFS(VLOOKUP(F314,Intersections!A:H,8,FALSE)<=0.7,$B$30,VLOOKUP(F314,Intersections!A:H,8,FALSE)<=2,$B$31,TRUE,0)","v":5},{"$f":"_xlfn.IFS(VLOOKUP(F314,Intersections!A:D,4,FALSE)=\"Urban\",$B$30,TRUE,0)","v":0}]
[null,null,null,null,null,"I 80 W & I 80 W TO US 59 N",{"$f":"COUNTIF('WWD Crashes'!C:C,F315)","v":0},{"$f":"COUNTIFS('Non-Crash Events'!B:B,F315,'Non-Crash Events'!R:R,\">0\")","v":0},18,null,null,null,null,null,null,null,null,null,null,null,null,null,null,null,null,null,{"$f":"SUMIFS('WWD Crashes'!G:G,'WWD Crashes'!C:C,F315)","v":0},{"$f":"_xlfn.IFS(AA315<0.125,$B$3,AA315<0.25,$B$4,AA315<0.5,$B$5,AA315<0.99,$B$6,AA315<1.5,$B$7,TRUE,$B$8)+$B$9*SUMIFS('WWD Crashes'!G:G,'WWD Crashes'!C:C,F315,'WWD Crashes'!L:L,\">0\")++$B$10*SUMIFS('WWD Crashes'!G:G,'WWD Crashes'!C:C,F315,'WWD Crashes'!M:M,\">0\")","v":0},{"$f":"MIN($B$16*SUMIF('Non-Crash Events'!B:B,F315,'Non-Crash Events'!R:R),50)","v":0},{"$f":"IF(VLOOKUP(F315,Intersections!A:E,5,FALSE)=\"Unique\",$B$22,IF(VLOOKUP(F315,Intersections!A:E,5,FALSE)=\"Split\",$B$23,0))","v":0},{"$f":"VLOOKUP(F315,Intersections!A:F,6,FALSE)","v":24900},7,{"$f":"VLOOKUP(F315,Intersections!A:G,7,FALSE)","v":6500},6,0,{"$f":"_xlfn.IFS(VLOOKUP(F315,Intersections!A:H,8,FALSE)<=0.7,$B$30,VLOOKUP(F315,Intersections!A:H,8,FALSE)<=2,$B$31,TRUE,0)","v":5},{"$f":"_xlfn.IFS(VLOOKUP(F315,Intersections!A:D,4,FALSE)=\"Urban\",$B$30,TRUE,0)","v":0}]
[null,null,null,null,null,"I 80 W & I 80 W TO H AVE S",{"$f":"COUNTIF('WWD Crashes'!C:C,F316)","v":0},{"$f":"COUNTIFS('Non-Crash Events'!B:B,F316,'Non-Crash Events'!R:R,\">0\")","v":1},18,null,null,null,null,null,null,null,null,null,null,null,null,null,null,null,null,null,{"$f":"SUMIFS('WWD Crashes'!G:G,'WWD Crashes'!C:C,F316)","v":0},{"$f":"_xlfn.IFS(AA316<0.125,$B$3,AA316<0.25,$B$4,AA316<0.5,$B$5,AA316<0.99,$B$6,AA316<1.5,$B$7,TRUE,$B$8)+$B$9*SUMIFS('WWD Crashes'!G:G,'WWD Crashes'!C:C,F316,'WWD Crashes'!L:L,\">0\")++$B$10*SUMIFS('WWD Crashes'!G:G,'WWD Crashes'!C:C,F316,'WWD Crashes'!M:M,\">0\")","v":0},{"$f":"MIN($B$16*SUMIF('Non-Crash Events'!B:B,F316,'Non-Crash Events'!R:R),50)","v":10},{"$f":"IF(VLOOKUP(F316,Intersections!A:E,5,FALSE)=\"Unique\",$B$22,IF(VLOOKUP(F316,Intersections!A:E,5,FALSE)=\"Split\",$B$23,0))","v":0},{"$f":"VLOOKUP(F316,Intersections!A:F,6,FALSE)","v":29400},7,{"$f":"VLOOKUP(F316,Intersections!A:G,7,FALSE)","v":640},1,0,{"$f":"_xlfn.IFS(VLOOKUP(F316,Intersections!A:H,8,FALSE)<=0.7,$B$30,VLOOKUP(F316,Intersections!A:H,8,FALSE)<=2,$B$31,TRUE,0)","v":0},{"$f":"_xlfn.IFS(VLOOKUP(F316,Intersections!A:D,4,FALSE)=\"Urban\",$B$30,TRUE,0)","v":0}]
[null,null,null,{"$f":"HYPERLINK(\"#'Weight Based'!\"&ADDRESS(5,11),\"Jump to Details\")","v":"Jump to Details"},null,"I 80 E & US 6 E TO 5TH ST, N",{"$f":"COUNTIF('WWD Crashes'!C:C,F317)","v":0},{"$f":"COUNTIFS('Non-Crash Events'!B:B,F317,'Non-Crash Events'!R:R,\">0\")","v":0},17,null,null,null,null,null,null,null,null,null,null,null,null,null,null,null,null,null,{"$f":"SUMIFS('WWD Crashes'!G:G,'WWD Crashes'!C:C,F317)","v":0},{"$f":"_xlfn.IFS(AA317<0.125,$B$3,AA317<0.25,$B$4,AA317<0.5,$B$5,AA317<0.99,$B$6,AA317<1.5,$B$7,TRUE,$B$8)+$B$9*SUMIFS('WWD Crashes'!G:G,'WWD Crashes'!C:C,F317,'WWD Crashes'!L:L,\">0\")++$B$10*SUMIFS('WWD Crashes'!G:G,'WWD Crashes'!C:C,F317,'WWD Crashes'!M:M,\">0\")","v":0},{"$f":"MIN($B$16*SUMIF('Non-Crash Events'!B:B,F317,'Non-Crash Events'!R:R),50)","v":0},{"$f":"IF(VLOOKUP(F317,Intersections!A:E,5,FALSE)=\"Unique\",$B$22,IF(VLOOKUP(F317,Intersections!A:E,5,FALSE)=\"Split\",$B$23,0))","v":0},{"$f":"VLOOKUP(F317,Intersections!A:F,6,FALSE)","v":23700},6,{"$f":"VLOOKUP(F317,Intersections!A:G,7,FALSE)","v":820},1,0,{"$f":"_xlfn.IFS(VLOOKUP(F317,Intersections!A:H,8,FALSE)<=0.7,$B$30,VLOOKUP(F317,Intersections!A:H,8,FALSE)<=2,$B$31,TRUE,0)","v":10},{"$f":"_xlfn.IFS(VLOOKUP(F317,Intersections!A:D,4,FALSE)=\"Urban\",$B$30,TRUE,0)","v":0}]
[null,null,null,null,null,"I 80 E & I 80 E TO ANTIQUE COUNTRY DR,S",{"$f":"COUNTIF('WWD Crashes'!C:C,F318)","v":0},{"$f":"COUNTIFS('Non-Crash Events'!B:B,F318,'Non-Crash Events'!R:R,\">0\")","v":0},17,null,null,null,null,null,null,null,null,null,null,null,null,null,null,null,null,null,{"$f":"SUMIFS('WWD Crashes'!G:G,'WWD Crashes'!C:C,F318)","v":0},{"$f":"_xlfn.IFS(AA318<0.125,$B$3,AA318<0.25,$B$4,AA318<0.5,$B$5,AA318<0.99,$B$6,AA318<1.5,$B$7,TRUE,$B$8)+$B$9*SUMIFS('WWD Crashes'!G:G,'WWD Crashes'!C:C,F318,'WWD Crashes'!L:L,\">0\")++$B$10*SUMIFS('WWD Crashes'!G:G,'WWD Crashes'!C:C,F318,'WWD Crashes'!M:M,\">0\")","v":0},{"$f":"MIN($B$16*SUMIF('Non-Crash Events'!B:B,F318,'Non-Crash Events'!R:R),50)","v":0},{"$f":"IF(VLOOKUP(F318,Intersections!A:E,5,FALSE)=\"Unique\",$B$22,IF(VLOOKUP(F318,Intersections!A:E,5,FALSE)=\"Split\",$B$23,0))","v":0},{"$f":"VLOOKUP(F318,Intersections!A:F,6,FALSE)","v":23500},6,{"$f":"VLOOKUP(F318,Intersections!A:G,7,FALSE)","v":650},1,0,{"$f":"_xlfn.IFS(VLOOKUP(F318,Intersections!A:H,8,FALSE)<=0.7,$B$30,VLOOKUP(F318,Intersections!A:H,8,FALSE)<=2,$B$31,TRUE,0)","v":10},{"$f":"_xlfn.IFS(VLOOKUP(F318,Intersections!A:D,4,FALSE)=\"Urban\",$B$30,TRUE,0)","v":0}]
[null,null,null,null,null,"US-151 NE RAMP & INDUSTRIAL PARK RD",{"$f":"COUNTIF('WWD Crashes'!C:C,F319)","v":0},{"$f":"COUNTIFS('Non-Crash Events'!B:B,F319,'Non-Crash Events'!R:R,\">0\")","v":0},17,null,null,null,null,null,null,null,null,null,null,null,null,null,null,null,null,null,{"$f":"SUMIFS('WWD Crashes'!G:G,'WWD Crashes'!C:C,F319)","v":0},{"$f":"_xlfn.IFS(AA319<0.125,$B$3,AA319<0.25,$B$4,AA319<0.5,$B$5,AA319<0.99,$B$6,AA319<1.5,$B$7,TRUE,$B$8)+$B$9*SUMIFS('WWD Crashes'!G:G,'WWD Crashes'!C:C,F319,'WWD Crashes'!L:L,\">0\")++$B$10*SUMIFS('WWD Crashes'!G:G,'WWD Crashes'!C:C,F319,'WWD Crashes'!M:M,\">0\")","v":0},{"$f":"MIN($B$16*SUMIF('Non-Crash Events'!B:B,F319,'Non-Crash Events'!R:R),50)","v":0},{"$f":"IF(VLOOKUP(F319,Intersections!A:E,5,FALSE)=\"Unique\",$B$22,IF(VLOOKUP(F319,Intersections!A:E,5,FALSE)=\"Split\",$B$23,0))","v":0},{"$f":"VLOOKUP(F319,Intersections!A:F,6,FALSE)","v":9800},3,{"$f":"VLOOKUP(F319,Intersections!A:G,7,FALSE)","v":3060},4,0,{"$f":"_xlfn.IFS(VLOOKUP(F319,Intersections!A:H,8,FALSE)<=0.7,$B$30,VLOOKUP(F319,Intersections!A:H,8,FALSE)<=2,$B$31,TRUE,0)","v":10},{"$f":"_xlfn.IFS(VLOOKUP(F319,Intersections!A:D,4,FALSE)=\"Urban\",$B$30,TRUE,0)","v":0}]
[null,null,null,null,null,"IOWA 1 & US-34 SE RAMP",{"$f":"COUNTIF('WWD Crashes'!C:C,F320)","v":0},{"$f":"COUNTIFS('Non-Crash Events'!B:B,F320,'Non-Crash Events'!R:R,\">0\")","v":0},17,null,null,null,null,null,null,null,null,null,null,null,null,null,null,null,null,null,{"$f":"SUMIFS('WWD Crashes'!G:G,'WWD Crashes'!C:C,F320)","v":0},{"$f":"_xlfn.IFS(AA320<0.125,$B$3,AA320<0.25,$B$4,AA320<0.5,$B$5,AA320<0.99,$B$6,AA320<1.5,$B$7,TRUE,$B$8)+$B$9*SUMIFS('WWD Crashes'!G:G,'WWD Crashes'!C:C,F320,'WWD Crashes'!L:L,\">0\")++$B$10*SUMIFS('WWD Crashes'!G:G,'WWD Crashes'!C:C,F320,'WWD Crashes'!M:M,\">0\")","v":0},{"$f":"MIN($B$16*SUMIF('Non-Crash Events'!B:B,F320,'Non-Crash Events'!R:R),50)","v":0},{"$f":"IF(VLOOKUP(F320,Intersections!A:E,5,FALSE)=\"Unique\",$B$22,IF(VLOOKUP(F320,Intersections!A:E,5,FALSE)=\"Split\",$B$23,0))","v":0},{"$f":"VLOOKUP(F320,Intersections!A:F,6,FALSE)","v":4810},1,{"$f":"VLOOKUP(F320,Intersections!A:G,7,FALSE)","v":5400},6,0,{"$f":"_xlfn.IFS(VLOOKUP(F320,Intersections!A:H,8,FALSE)<=0.7,$B$30,VLOOKUP(F320,Intersections!A:H,8,FALSE)<=2,$B$31,TRUE,0)","v":10},{"$f":"_xlfn.IFS(VLOOKUP(F320,Intersections!A:D,4,FALSE)=\"Urban\",$B$30,TRUE,0)","v":0}]
[null,null,null,null,null,"US 63 N & US 18 W/Milwaukee St",{"$f":"COUNTIF('WWD Crashes'!C:C,F321)","v":0},{"$f":"COUNTIFS('Non-Crash Events'!B:B,F321,'Non-Crash Events'!R:R,\">0\")","v":0},17,null,null,null,null,null,null,null,null,null,null,null,null,null,null,null,null,null,{"$f":"SUMIFS('WWD Crashes'!G:G,'WWD Crashes'!C:C,F321)","v":0},{"$f":"_xlfn.IFS(AA321<0.125,$B$3,AA321<0.25,$B$4,AA321<0.5,$B$5,AA321<0.99,$B$6,AA321<1.5,$B$7,TRUE,$B$8)+$B$9*SUMIFS('WWD Crashes'!G:G,'WWD Crashes'!C:C,F321,'WWD Crashes'!L:L,\">0\")++$B$10*SUMIFS('WWD Crashes'!G:G,'WWD Crashes'!C:C,F321,'WWD Crashes'!M:M,\">0\")","v":0},{"$f":"MIN($B$16*SUMIF('Non-Crash Events'!B:B,F321,'Non-Crash Events'!R:R),50)","v":0},{"$f":"IF(VLOOKUP(F321,Intersections!A:E,5,FALSE)=\"Unique\",$B$22,IF(VLOOKUP(F321,Intersections!A:E,5,FALSE)=\"Split\",$B$23,0))","v":0},{"$f":"VLOOKUP(F321,Intersections!A:F,6,FALSE)","v":4300},1,{"$f":"VLOOKUP(F321,Intersections!A:G,7,FALSE)","v":5800},6,0,{"$f":"_xlfn.IFS(VLOOKUP(F321,Intersections!A:H,8,FALSE)<=0.7,$B$30,VLOOKUP(F321,Intersections!A:H,8,FALSE)<=2,$B$31,TRUE,0)","v":10},{"$f":"_xlfn.IFS(VLOOKUP(F321,Intersections!A:D,4,FALSE)=\"Urban\",$B$30,TRUE,0)","v":0}]
[null,null,null,null,null,"I-29 & Hamilton Blvd",{"$f":"COUNTIF('WWD Crashes'!C:C,F322)","v":0},{"$f":"COUNTIFS('Non-Crash Events'!B:B,F322,'Non-Crash Events'!R:R,\">0\")","v":0},{"$f":"SUM(AB322,AC322,AD322,AF322,AH322,AI322,AJ322)","v":17},null,null,null,null,null,null,null,null,null,null,null,null,null,null,null,null,null,{"$f":"SUMIFS('WWD Crashes'!G:G,'WWD Crashes'!C:C,F322)","v":0},{"$f":"_xlfn.IFS(AA322<0.125,$B$3,AA322<0.25,$B$4,AA322<0.5,$B$5,AA322<0.99,$B$6,AA322<1.5,$B$7,TRUE,$B$8)+$B$9*SUMIFS('WWD Crashes'!G:G,'WWD Crashes'!C:C,F322,'WWD Crashes'!L:L,\">0\")++$B$10*SUMIFS('WWD Crashes'!G:G,'WWD Crashes'!C:C,F322,'WWD Crashes'!M:M,\">0\")","v":0},{"$f":"MIN($B$16*SUMIF('Non-Crash Events'!B:B,F322,'Non-Crash Events'!R:R),50)","v":0},{"$f":"IF(VLOOKUP(F322,Intersections!A:E,5,FALSE)=\"Unique\",$B$22,IF(VLOOKUP(F322,Intersections!A:E,5,FALSE)=\"Split\",$B$23,0))","v":0},{"$f":"VLOOKUP(F322,Intersections!A:F,6,FALSE)","v":36100},8,{"$f":"VLOOKUP(F322,Intersections!A:G,7,FALSE)","v":18400},9,0,{"$f":"_xlfn.IFS(VLOOKUP(F322,Intersections!A:H,8,FALSE)<=0.7,$B$30,VLOOKUP(F322,Intersections!A:H,8,FALSE)<=2,$B$31,TRUE,0)","v":0},{"$f":"_xlfn.IFS(VLOOKUP(F322,Intersections!A:D,4,FALSE)=\"Urban\",$B$30,TRUE,0)","v":10}]
[null,null,null,null,null,"US-218 & Broadway St/Airport Blvd",{"$f":"COUNTIF('WWD Crashes'!C:C,F323)","v":0},{"$f":"COUNTIFS('Non-Crash Events'!B:B,F323,'Non-Crash Events'!R:R,\">0\")","v":0},17,null,null,null,null,null,null,null,null,null,null,null,null,null,null,null,null,null,{"$f":"SUMIFS('WWD Crashes'!G:G,'WWD Crashes'!C:C,F323)","v":0},{"$f":"_xlfn.IFS(AA323<0.125,$B$3,AA323<0.25,$B$4,AA323<0.5,$B$5,AA323<0.99,$B$6,AA323<1.5,$B$7,TRUE,$B$8)+$B$9*SUMIFS('WWD Crashes'!G:G,'WWD Crashes'!C:C,F323,'WWD Crashes'!L:L,\">0\")++$B$10*SUMIFS('WWD Crashes'!G:G,'WWD Crashes'!C:C,F323,'WWD Crashes'!M:M,\">0\")","v":0},{"$f":"MIN($B$16*SUMIF('Non-Crash Events'!B:B,F323,'Non-Crash Events'!R:R),50)","v":0},{"$f":"IF(VLOOKUP(F323,Intersections!A:E,5,FALSE)=\"Unique\",$B$22,IF(VLOOKUP(F323,Intersections!A:E,5,FALSE)=\"Split\",$B$23,0))","v":0},{"$f":"VLOOKUP(F323,Intersections!A:F,6,FALSE)","v":30800},{"$f":"_xlfn.IFS(AE323<7821,1,AE323<9601,2,AE323<11931,3,AE323<15801,4,AE323<20401,5,AE323<24821,6,AE323<29771,7,AE323<36181,8,AE323<67181,9,TRUE,10)","v":8},{"$f":"VLOOKUP(F323,Intersections!A:G,7,FALSE)","v":10500},{"$f":"_xlfn.IFS(AG323<827,1,AG323<1663,2,AG323<2590,3,AG323<3401,4,AG323<4671,5,AG323<6501,6,AG323<8401,7,AG323<1161,8,AG323<19401,9,TRUE,10)","v":9},{"$f":"IF(AND(AF323>8,AG323>8),5,0)","v":0},{"$f":"_xlfn.IFS(VLOOKUP(F323,Intersections!A:H,8,FALSE)<=0.7,$B$30,VLOOKUP(F323,Intersections!A:H,8,FALSE)<=2,$B$31,TRUE,0)","v":0},{"$f":"_xlfn.IFS(VLOOKUP(F323,Intersections!A:D,4,FALSE)=\"Urban\",$B$30,TRUE,0)","v":10}]
[null,null,null,null,null,"I-80 NE RAMP & GARFIELD AVE",{"$f":"COUNTIF('WWD Crashes'!C:C,F324)","v":0},{"$f":"COUNTIFS('Non-Crash Events'!B:B,F324,'Non-Crash Events'!R:R,\">0\")","v":0},17,null,null,null,null,null,null,null,null,null,null,null,null,null,null,null,null,null,{"$f":"SUMIFS('WWD Crashes'!G:G,'WWD Crashes'!C:C,F324)","v":0},{"$f":"_xlfn.IFS(AA324<0.125,$B$3,AA324<0.25,$B$4,AA324<0.5,$B$5,AA324<0.99,$B$6,AA324<1.5,$B$7,TRUE,$B$8)+$B$9*SUMIFS('WWD Crashes'!G:G,'WWD Crashes'!C:C,F324,'WWD Crashes'!L:L,\">0\")++$B$10*SUMIFS('WWD Crashes'!G:G,'WWD Crashes'!C:C,F324,'WWD Crashes'!M:M,\">0\")","v":0},{"$f":"MIN($B$16*SUMIF('Non-Crash Events'!B:B,F324,'Non-Crash Events'!R:R),50)","v":0},{"$f":"IF(VLOOKUP(F324,Intersections!A:E,5,FALSE)=\"Unique\",$B$22,IF(VLOOKUP(F324,Intersections!A:E,5,FALSE)=\"Split\",$B$23,0))","v":0},{"$f":"VLOOKUP(F324,Intersections!A:F,6,FALSE)","v":36600},9,{"$f":"VLOOKUP(F324,Intersections!A:G,7,FALSE)","v":2200},3,5,{"$f":"_xlfn.IFS(VLOOKUP(F324,Intersections!A:H,8,FALSE)<=0.7,$B$30,VLOOKUP(F324,Intersections!A:H,8,FALSE)<=2,$B$31,TRUE,0)","v":0},{"$f":"_xlfn.IFS(VLOOKUP(F324,Intersections!A:D,4,FALSE)=\"Urban\",$B$30,TRUE,0)","v":0}]
[null,null,null,null,null,"US-20 & Grundy Rd/University Ave",{"$f":"COUNTIF('WWD Crashes'!C:C,F325)","v":1},{"$f":"COUNTIFS('Non-Crash Events'!B:B,F325,'Non-Crash Events'!R:R,\">0\")","v":0},17,null,null,null,null,null,null,null,null,null,null,null,null,null,null,null,null,null,{"$f":"SUMIFS('WWD Crashes'!G:G,'WWD Crashes'!C:C,F325)","v":0.25},{"$f":"_xlfn.IFS(AA325<0.125,$B$3,AA325<0.25,$B$4,AA325<0.5,$B$5,AA325<0.99,$B$6,AA325<1.5,$B$7,TRUE,$B$8)+$B$9*SUMIFS('WWD Crashes'!G:G,'WWD Crashes'!C:C,F325,'WWD Crashes'!L:L,\">0\")++$B$10*SUMIFS('WWD Crashes'!G:G,'WWD Crashes'!C:C,F325,'WWD Crashes'!M:M,\">0\")","v":10},{"$f":"MIN($B$16*SUMIF('Non-Crash Events'!B:B,F325,'Non-Crash Events'!R:R),50)","v":0},{"$f":"IF(VLOOKUP(F325,Intersections!A:E,5,FALSE)=\"Unique\",$B$22,IF(VLOOKUP(F325,Intersections!A:E,5,FALSE)=\"Split\",$B$23,0))","v":0},{"$f":"VLOOKUP(F325,Intersections!A:F,6,FALSE)","v":14000},4,{"$f":"VLOOKUP(F325,Intersections!A:G,7,FALSE)","v":1680},3,0,{"$f":"_xlfn.IFS(VLOOKUP(F325,Intersections!A:H,8,FALSE)<=0.7,$B$30,VLOOKUP(F325,Intersections!A:H,8,FALSE)<=2,$B$31,TRUE,0)","v":0},{"$f":"_xlfn.IFS(VLOOKUP(F325,Intersections!A:D,4,FALSE)=\"Urban\",$B$30,TRUE,0)","v":0}]
[null,null,null,null,null,"I-680 & Missouri Valley Eastbound Rest Area",{"$f":"COUNTIF('WWD Crashes'!C:C,F326)","v":1},{"$f":"COUNTIFS('Non-Crash Events'!B:B,F326,'Non-Crash Events'!R:R,\">0\")","v":0},17,null,null,null,null,null,null,null,null,null,null,null,null,null,null,null,null,null,{"$f":"SUMIFS('WWD Crashes'!G:G,'WWD Crashes'!C:C,F326)","v":0.75},{"$f":"_xlfn.IFS(AA326<0.125,$B$3,AA326<0.25,$B$4,AA326<0.5,$B$5,AA326<0.99,$B$6,AA326<1.5,$B$7,TRUE,$B$8)+$B$9*SUMIFS('WWD Crashes'!G:G,'WWD Crashes'!C:C,F326,'WWD Crashes'!L:L,\">0\")++$B$10*SUMIFS('WWD Crashes'!G:G,'WWD Crashes'!C:C,F326,'WWD Crashes'!M:M,\">0\")","v":15},{"$f":"MIN($B$16*SUMIF('Non-Crash Events'!B:B,F326,'Non-Crash Events'!R:R),50)","v":0},{"$f":"IF(VLOOKUP(F326,Intersections!A:E,5,FALSE)=\"Unique\",$B$22,IF(VLOOKUP(F326,Intersections!A:E,5,FALSE)=\"Split\",$B$23,0))","v":0},{"$f":"VLOOKUP(F326,Intersections!A:F,6,FALSE)","v":6600},1,{"$f":"VLOOKUP(F326,Intersections!A:G,7,FALSE)","v":0},1,0,{"$f":"_xlfn.IFS(VLOOKUP(F326,Intersections!A:H,8,FALSE)<=0.7,$B$30,VLOOKUP(F326,Intersections!A:H,8,FALSE)<=2,$B$31,TRUE,0)","v":0},{"$f":"_xlfn.IFS(VLOOKUP(F326,Intersections!A:D,4,FALSE)=\"Urban\",$B$30,TRUE,0)","v":0}]
[null,null,null,null,null,"US-20  N Ramp & US 65",{"$f":"COUNTIF('WWD Crashes'!C:C,F327)","v":0},{"$f":"COUNTIFS('Non-Crash Events'!B:B,F327,'Non-Crash Events'!R:R,\">0\")","v":1},17,null,null,null,null,null,null,null,null,null,null,null,null,null,null,null,null,null,{"$f":"SUMIFS('WWD Crashes'!G:G,'WWD Crashes'!C:C,F327)","v":0},{"$f":"_xlfn.IFS(AA327<0.125,$B$3,AA327<0.25,$B$4,AA327<0.5,$B$5,AA327<0.99,$B$6,AA327<1.5,$B$7,TRUE,$B$8)+$B$9*SUMIFS('WWD Crashes'!G:G,'WWD Crashes'!C:C,F327,'WWD Crashes'!L:L,\">0\")++$B$10*SUMIFS('WWD Crashes'!G:G,'WWD Crashes'!C:C,F327,'WWD Crashes'!M:M,\">0\")","v":0},{"$f":"MIN($B$16*SUMIF('Non-Crash Events'!B:B,F327,'Non-Crash Events'!R:R),50)","v":9},{"$f":"IF(VLOOKUP(F327,Intersections!A:E,5,FALSE)=\"Unique\",$B$22,IF(VLOOKUP(F327,Intersections!A:E,5,FALSE)=\"Split\",$B$23,0))","v":0},{"$f":"VLOOKUP(F327,Intersections!A:F,6,FALSE)","v":9400},2,{"$f":"VLOOKUP(F327,Intersections!A:G,7,FALSE)","v":5300},6,0,{"$f":"_xlfn.IFS(VLOOKUP(F327,Intersections!A:H,8,FALSE)<=0.7,$B$30,VLOOKUP(F327,Intersections!A:H,8,FALSE)<=2,$B$31,TRUE,0)","v":0},{"$f":"_xlfn.IFS(VLOOKUP(F327,Intersections!A:D,4,FALSE)=\"Urban\",$B$30,TRUE,0)","v":0}]
[null,null,null,null,null,"IA-100 & Covington Rd",{"$f":"COUNTIF('WWD Crashes'!C:C,F328)","v":0},{"$f":"COUNTIFS('Non-Crash Events'!B:B,F328,'Non-Crash Events'!R:R,\">0\")","v":1},16.5,null,null,null,null,null,null,null,null,null,null,null,null,null,null,null,null,null,{"$f":"SUMIFS('WWD Crashes'!G:G,'WWD Crashes'!C:C,F328)","v":0},{"$f":"_xlfn.IFS(AA328<0.125,$B$3,AA328<0.25,$B$4,AA328<0.5,$B$5,AA328<0.99,$B$6,AA328<1.5,$B$7,TRUE,$B$8)+$B$9*SUMIFS('WWD Crashes'!G:G,'WWD Crashes'!C:C,F328,'WWD Crashes'!L:L,\">0\")++$B$10*SUMIFS('WWD Crashes'!G:G,'WWD Crashes'!C:C,F328,'WWD Crashes'!M:M,\">0\")","v":0},{"$f":"MIN($B$16*SUMIF('Non-Crash Events'!B:B,F328,'Non-Crash Events'!R:R),50)","v":7.5},{"$f":"IF(VLOOKUP(F328,Intersections!A:E,5,FALSE)=\"Unique\",$B$22,IF(VLOOKUP(F328,Intersections!A:E,5,FALSE)=\"Split\",$B$23,0))","v":0},{"$f":"VLOOKUP(F328,Intersections!A:F,6,FALSE)","v":9300},2,{"$f":"VLOOKUP(F328,Intersections!A:G,7,FALSE)","v":8400},7,0,{"$f":"_xlfn.IFS(VLOOKUP(F328,Intersections!A:H,8,FALSE)<=0.7,$B$30,VLOOKUP(F328,Intersections!A:H,8,FALSE)<=2,$B$31,TRUE,0)","v":0},{"$f":"_xlfn.IFS(VLOOKUP(F328,Intersections!A:D,4,FALSE)=\"Urban\",$B$30,TRUE,0)","v":10}]
[null,null,null,null,null,"US- 20  S Ramp & KARR AVE/ US 71",{"$f":"COUNTIF('WWD Crashes'!C:C,F329)","v":0},{"$f":"COUNTIFS('Non-Crash Events'!B:B,F329,'Non-Crash Events'!R:R,\">0\")","v":0},16,null,null,null,null,null,null,null,null,null,null,null,null,null,null,null,null,null,{"$f":"SUMIFS('WWD Crashes'!G:G,'WWD Crashes'!C:C,F329)","v":0},{"$f":"_xlfn.IFS(AA329<0.125,$B$3,AA329<0.25,$B$4,AA329<0.5,$B$5,AA329<0.99,$B$6,AA329<1.5,$B$7,TRUE,$B$8)+$B$9*SUMIFS('WWD Crashes'!G:G,'WWD Crashes'!C:C,F329,'WWD Crashes'!L:L,\">0\")++$B$10*SUMIFS('WWD Crashes'!G:G,'WWD Crashes'!C:C,F329,'WWD Crashes'!M:M,\">0\")","v":0},{"$f":"MIN($B$16*SUMIF('Non-Crash Events'!B:B,F329,'Non-Crash Events'!R:R),50)","v":0},{"$f":"IF(VLOOKUP(F329,Intersections!A:E,5,FALSE)=\"Unique\",$B$22,IF(VLOOKUP(F329,Intersections!A:E,5,FALSE)=\"Split\",$B$23,0))","v":0},{"$f":"VLOOKUP(F329,Intersections!A:F,6,FALSE)","v":4730},1,{"$f":"VLOOKUP(F329,Intersections!A:G,7,FALSE)","v":3450},5,0,{"$f":"_xlfn.IFS(VLOOKUP(F329,Intersections!A:H,8,FALSE)<=0.7,$B$30,VLOOKUP(F329,Intersections!A:H,8,FALSE)<=2,$B$31,TRUE,0)","v":10},{"$f":"_xlfn.IFS(VLOOKUP(F329,Intersections!A:D,4,FALSE)=\"Urban\",$B$30,TRUE,0)","v":0}]
[null,null,null,null,null,"IA 141 E & IA 17 N",{"$f":"COUNTIF('WWD Crashes'!C:C,F330)","v":0},{"$f":"COUNTIFS('Non-Crash Events'!B:B,F330,'Non-Crash Events'!R:R,\">0\")","v":0},16,null,null,null,null,null,null,null,null,null,null,null,null,null,null,null,null,null,{"$f":"SUMIFS('WWD Crashes'!G:G,'WWD Crashes'!C:C,F330)","v":0},{"$f":"_xlfn.IFS(AA330<0.125,$B$3,AA330<0.25,$B$4,AA330<0.5,$B$5,AA330<0.99,$B$6,AA330<1.5,$B$7,TRUE,$B$8)+$B$9*SUMIFS('WWD Crashes'!G:G,'WWD Crashes'!C:C,F330,'WWD Crashes'!L:L,\">0\")++$B$10*SUMIFS('WWD Crashes'!G:G,'WWD Crashes'!C:C,F330,'WWD Crashes'!M:M,\">0\")","v":0},{"$f":"MIN($B$16*SUMIF('Non-Crash Events'!B:B,F330,'Non-Crash Events'!R:R),50)","v":0},{"$f":"IF(VLOOKUP(F330,Intersections!A:E,5,FALSE)=\"Unique\",$B$22,IF(VLOOKUP(F330,Intersections!A:E,5,FALSE)=\"Split\",$B$23,0))","v":0},{"$f":"VLOOKUP(F330,Intersections!A:F,6,FALSE)","v":18000},5,{"$f":"VLOOKUP(F330,Intersections!A:G,7,FALSE)","v":6500},6,0,{"$f":"_xlfn.IFS(VLOOKUP(F330,Intersections!A:H,8,FALSE)<=0.7,$B$30,VLOOKUP(F330,Intersections!A:H,8,FALSE)<=2,$B$31,TRUE,0)","v":5},{"$f":"_xlfn.IFS(VLOOKUP(F330,Intersections!A:D,4,FALSE)=\"Urban\",$B$30,TRUE,0)","v":0}]
[null,null,null,null,null,"US 61 NE RAMP & US IOWA 2",{"$f":"COUNTIF('WWD Crashes'!C:C,F331)","v":0},{"$f":"COUNTIFS('Non-Crash Events'!B:B,F331,'Non-Crash Events'!R:R,\">0\")","v":0},16,null,null,null,null,null,null,null,null,null,null,null,null,null,null,null,null,null,{"$f":"SUMIFS('WWD Crashes'!G:G,'WWD Crashes'!C:C,F331)","v":0},{"$f":"_xlfn.IFS(AA331<0.125,$B$3,AA331<0.25,$B$4,AA331<0.5,$B$5,AA331<0.99,$B$6,AA331<1.5,$B$7,TRUE,$B$8)+$B$9*SUMIFS('WWD Crashes'!G:G,'WWD Crashes'!C:C,F331,'WWD Crashes'!L:L,\">0\")++$B$10*SUMIFS('WWD Crashes'!G:G,'WWD Crashes'!C:C,F331,'WWD Crashes'!M:M,\">0\")","v":0},{"$f":"MIN($B$16*SUMIF('Non-Crash Events'!B:B,F331,'Non-Crash Events'!R:R),50)","v":0},{"$f":"IF(VLOOKUP(F331,Intersections!A:E,5,FALSE)=\"Unique\",$B$22,IF(VLOOKUP(F331,Intersections!A:E,5,FALSE)=\"Split\",$B$23,0))","v":0},{"$f":"VLOOKUP(F331,Intersections!A:F,6,FALSE)","v":9200},2,{"$f":"VLOOKUP(F331,Intersections!A:G,7,FALSE)","v":9700},9,0,{"$f":"_xlfn.IFS(VLOOKUP(F331,Intersections!A:H,8,FALSE)<=0.7,$B$30,VLOOKUP(F331,Intersections!A:H,8,FALSE)<=2,$B$31,TRUE,0)","v":5},{"$f":"_xlfn.IFS(VLOOKUP(F331,Intersections!A:D,4,FALSE)=\"Urban\",$B$30,TRUE,0)","v":0}]
[null,null,null,null,null,"I- 680 N Ramp & 130TH ST",{"$f":"COUNTIF('WWD Crashes'!C:C,F332)","v":1},{"$f":"COUNTIFS('Non-Crash Events'!B:B,F332,'Non-Crash Events'!R:R,\">0\")","v":0},16,null,null,null,null,null,null,null,null,null,null,null,null,null,null,null,null,null,{"$f":"SUMIFS('WWD Crashes'!G:G,'WWD Crashes'!C:C,F332)","v":0.25},{"$f":"_xlfn.IFS(AA332<0.125,$B$3,AA332<0.25,$B$4,AA332<0.5,$B$5,AA332<0.99,$B$6,AA332<1.5,$B$7,TRUE,$B$8)+$B$9*SUMIFS('WWD Crashes'!G:G,'WWD Crashes'!C:C,F332,'WWD Crashes'!L:L,\">0\")++$B$10*SUMIFS('WWD Crashes'!G:G,'WWD Crashes'!C:C,F332,'WWD Crashes'!M:M,\">0\")","v":10},{"$f":"MIN($B$16*SUMIF('Non-Crash Events'!B:B,F332,'Non-Crash Events'!R:R),50)","v":0},{"$f":"IF(VLOOKUP(F332,Intersections!A:E,5,FALSE)=\"Unique\",$B$22,IF(VLOOKUP(F332,Intersections!A:E,5,FALSE)=\"Split\",$B$23,0))","v":0},{"$f":"VLOOKUP(F332,Intersections!A:F,6,FALSE)","v":17300},5,{"$f":"VLOOKUP(F332,Intersections!A:G,7,FALSE)","v":210},1,0,{"$f":"_xlfn.IFS(VLOOKUP(F332,Intersections!A:H,8,FALSE)<=0.7,$B$30,VLOOKUP(F332,Intersections!A:H,8,FALSE)<=2,$B$31,TRUE,0)","v":0},{"$f":"_xlfn.IFS(VLOOKUP(F332,Intersections!A:D,4,FALSE)=\"Urban\",$B$30,TRUE,0)","v":0}]
[null,null,null,null,null,"US-30 & 380th Ave",{"$f":"COUNTIF('WWD Crashes'!C:C,F333)","v":1},{"$f":"COUNTIFS('Non-Crash Events'!B:B,F333,'Non-Crash Events'!R:R,\">0\")","v":0},16,null,null,null,null,null,null,null,null,null,null,null,null,null,null,null,null,null,{"$f":"SUMIFS('WWD Crashes'!G:G,'WWD Crashes'!C:C,F333)","v":0.25},{"$f":"_xlfn.IFS(AA333<0.125,$B$3,AA333<0.25,$B$4,AA333<0.5,$B$5,AA333<0.99,$B$6,AA333<1.5,$B$7,TRUE,$B$8)+$B$9*SUMIFS('WWD Crashes'!G:G,'WWD Crashes'!C:C,F333,'WWD Crashes'!L:L,\">0\")++$B$10*SUMIFS('WWD Crashes'!G:G,'WWD Crashes'!C:C,F333,'WWD Crashes'!M:M,\">0\")","v":10},{"$f":"MIN($B$16*SUMIF('Non-Crash Events'!B:B,F333,'Non-Crash Events'!R:R),50)","v":0},{"$f":"IF(VLOOKUP(F333,Intersections!A:E,5,FALSE)=\"Unique\",$B$22,IF(VLOOKUP(F333,Intersections!A:E,5,FALSE)=\"Split\",$B$23,0))","v":0},{"$f":"VLOOKUP(F333,Intersections!A:F,6,FALSE)","v":10700},3,{"$f":"VLOOKUP(F333,Intersections!A:G,7,FALSE)","v":1830},3,0,{"$f":"_xlfn.IFS(VLOOKUP(F333,Intersections!A:H,8,FALSE)<=0.7,$B$30,VLOOKUP(F333,Intersections!A:H,8,FALSE)<=2,$B$31,TRUE,0)","v":0},{"$f":"_xlfn.IFS(VLOOKUP(F333,Intersections!A:D,4,FALSE)=\"Urban\",$B$30,TRUE,0)","v":0}]
[null,null,null,null,null,"US-65 & IA-330",{"$f":"COUNTIF('WWD Crashes'!C:C,F334)","v":0},{"$f":"COUNTIFS('Non-Crash Events'!B:B,F334,'Non-Crash Events'!R:R,\">0\")","v":1},15.9,null,null,null,null,null,null,null,null,null,null,null,null,null,null,null,null,null,{"$f":"SUMIFS('WWD Crashes'!G:G,'WWD Crashes'!C:C,F334)","v":0},{"$f":"_xlfn.IFS(AA334<0.125,$B$3,AA334<0.25,$B$4,AA334<0.5,$B$5,AA334<0.99,$B$6,AA334<1.5,$B$7,TRUE,$B$8)+$B$9*SUMIFS('WWD Crashes'!G:G,'WWD Crashes'!C:C,F334,'WWD Crashes'!L:L,\">0\")++$B$10*SUMIFS('WWD Crashes'!G:G,'WWD Crashes'!C:C,F334,'WWD Crashes'!M:M,\">0\")","v":0},{"$f":"MIN($B$16*SUMIF('Non-Crash Events'!B:B,F334,'Non-Crash Events'!R:R),50)","v":9.9},{"$f":"IF(VLOOKUP(F334,Intersections!A:E,5,FALSE)=\"Unique\",$B$22,IF(VLOOKUP(F334,Intersections!A:E,5,FALSE)=\"Split\",$B$23,0))","v":0},{"$f":"VLOOKUP(F334,Intersections!A:F,6,FALSE)","v":9700},3,{"$f":"VLOOKUP(F334,Intersections!A:G,7,FALSE)","v":1710},3,0,{"$f":"_xlfn.IFS(VLOOKUP(F334,Intersections!A:H,8,FALSE)<=0.7,$B$30,VLOOKUP(F334,Intersections!A:H,8,FALSE)<=2,$B$31,TRUE,0)","v":0},{"$f":"_xlfn.IFS(VLOOKUP(F334,Intersections!A:D,4,FALSE)=\"Urban\",$B$30,TRUE,0)","v":0}]
[null,null,null,null,null,"IA-22/ROCKINGHAM RD & BUS-61/RIVER DR",{"$f":"COUNTIF('WWD Crashes'!C:C,F335)","v":0},{"$f":"COUNTIFS('Non-Crash Events'!B:B,F335,'Non-Crash Events'!R:R,\">0\")","v":0},15,null,null,null,null,null,null,null,null,null,null,null,null,null,null,null,null,null,{"$f":"SUMIFS('WWD Crashes'!G:G,'WWD Crashes'!C:C,F335)","v":0},{"$f":"_xlfn.IFS(AA335<0.125,$B$3,AA335<0.25,$B$4,AA335<0.5,$B$5,AA335<0.99,$B$6,AA335<1.5,$B$7,TRUE,$B$8)+$B$9*SUMIFS('WWD Crashes'!G:G,'WWD Crashes'!C:C,F335,'WWD Crashes'!L:L,\">0\")++$B$10*SUMIFS('WWD Crashes'!G:G,'WWD Crashes'!C:C,F335,'WWD Crashes'!M:M,\">0\")","v":0},{"$f":"MIN($B$16*SUMIF('Non-Crash Events'!B:B,F335,'Non-Crash Events'!R:R),50)","v":0},{"$f":"IF(VLOOKUP(F335,Intersections!A:E,5,FALSE)=\"Unique\",$B$22,IF(VLOOKUP(F335,Intersections!A:E,5,FALSE)=\"Split\",$B$23,0))","v":0},{"$f":"VLOOKUP(F335,Intersections!A:F,6,FALSE)","v":10800},3,{"$f":"VLOOKUP(F335,Intersections!A:G,7,FALSE)","v":7800},7,0,{"$f":"_xlfn.IFS(VLOOKUP(F335,Intersections!A:H,8,FALSE)<=0.7,$B$30,VLOOKUP(F335,Intersections!A:H,8,FALSE)<=2,$B$31,TRUE,0)","v":5},{"$f":"_xlfn.IFS(VLOOKUP(F335,Intersections!A:D,4,FALSE)=\"Urban\",$B$30,TRUE,0)","v":10}]
[null,null,null,null,null,"I 80 W & I 80 W TO ANTIQUE CITY DR, N",{"$f":"COUNTIF('WWD Crashes'!C:C,F336)","v":0},{"$f":"COUNTIFS('Non-Crash Events'!B:B,F336,'Non-Crash Events'!R:R,\">0\")","v":0},15,null,null,null,null,null,null,null,null,null,null,null,null,null,null,null,null,null,{"$f":"SUMIFS('WWD Crashes'!G:G,'WWD Crashes'!C:C,F336)","v":0},{"$f":"_xlfn.IFS(AA336<0.125,$B$3,AA336<0.25,$B$4,AA336<0.5,$B$5,AA336<0.99,$B$6,AA336<1.5,$B$7,TRUE,$B$8)+$B$9*SUMIFS('WWD Crashes'!G:G,'WWD Crashes'!C:C,F336,'WWD Crashes'!L:L,\">0\")++$B$10*SUMIFS('WWD Crashes'!G:G,'WWD Crashes'!C:C,F336,'WWD Crashes'!M:M,\">0\")","v":0},{"$f":"MIN($B$16*SUMIF('Non-Crash Events'!B:B,F336,'Non-Crash Events'!R:R),50)","v":0},{"$f":"IF(VLOOKUP(F336,Intersections!A:E,5,FALSE)=\"Unique\",$B$22,IF(VLOOKUP(F336,Intersections!A:E,5,FALSE)=\"Split\",$B$23,0))","v":0},{"$f":"VLOOKUP(F336,Intersections!A:F,6,FALSE)","v":23400},6,{"$f":"VLOOKUP(F336,Intersections!A:G,7,FALSE)","v":3290},4,0,{"$f":"_xlfn.IFS(VLOOKUP(F336,Intersections!A:H,8,FALSE)<=0.7,$B$30,VLOOKUP(F336,Intersections!A:H,8,FALSE)<=2,$B$31,TRUE,0)","v":5},{"$f":"_xlfn.IFS(VLOOKUP(F336,Intersections!A:D,4,FALSE)=\"Urban\",$B$30,TRUE,0)","v":0}]
[null,null,null,{"$f":"HYPERLINK(\"#'Weight Based'!\"&ADDRESS(5,11),\"Jump to Details\")","v":"Jump to Details"},null,"I-80 & EB Wilton Rest Area",{"$f":"COUNTIF('WWD Crashes'!C:C,F337)","v":1},{"$f":"COUNTIFS('Non-Crash Events'!B:B,F337,'Non-Crash Events'!R:R,\">0\")","v":0},15,null,null,null,null,null,null,null,null,null,null,null,null,null,null,null,null,null,{"$f":"SUMIFS('WWD Crashes'!G:G,'WWD Crashes'!C:C,F337)","v":0.125},{"$f":"_xlfn.IFS(AA337<0.125,$B$3,AA337<0.25,$B$4,AA337<0.5,$B$5,AA337<0.99,$B$6,AA337<1.5,$B$7,TRUE,$B$8)+$B$9*SUMIFS('WWD Crashes'!G:G,'WWD Crashes'!C:C,F337,'WWD Crashes'!L:L,\">0\")++$B$10*SUMIFS('WWD Crashes'!G:G,'WWD Crashes'!C:C,F337,'WWD Crashes'!M:M,\">0\")","v":5},{"$f":"MIN($B$16*SUMIF('Non-Crash Events'!B:B,F337,'Non-Crash Events'!R:R),50)","v":0},{"$f":"IF(VLOOKUP(F337,Intersections!A:E,5,FALSE)=\"Unique\",$B$22,IF(VLOOKUP(F337,Intersections!A:E,5,FALSE)=\"Split\",$B$23,0))","v":0},{"$f":"VLOOKUP(F337,Intersections!A:F,6,FALSE)","v":36200},9,{"$f":"VLOOKUP(F337,Intersections!A:G,7,FALSE)","v":0},1,0,{"$f":"_xlfn.IFS(VLOOKUP(F337,Intersections!A:H,8,FALSE)<=0.7,$B$30,VLOOKUP(F337,Intersections!A:H,8,FALSE)<=2,$B$31,TRUE,0)","v":0},{"$f":"_xlfn.IFS(VLOOKUP(F337,Intersections!A:D,4,FALSE)=\"Urban\",$B$30,TRUE,0)","v":0}]
[null,null,null,null,null,"I- 29 E  Ramp & 155 ST",{"$f":"COUNTIF('WWD Crashes'!C:C,F338)","v":1},{"$f":"COUNTIFS('Non-Crash Events'!B:B,F338,'Non-Crash Events'!R:R,\">0\")","v":0},15,null,null,null,null,null,null,null,null,null,null,null,null,null,null,null,null,null,{"$f":"SUMIFS('WWD Crashes'!G:G,'WWD Crashes'!C:C,F338)","v":0.25},{"$f":"_xlfn.IFS(AA338<0.125,$B$3,AA338<0.25,$B$4,AA338<0.5,$B$5,AA338<0.99,$B$6,AA338<1.5,$B$7,TRUE,$B$8)+$B$9*SUMIFS('WWD Crashes'!G:G,'WWD Crashes'!C:C,F338,'WWD Crashes'!L:L,\">0\")++$B$10*SUMIFS('WWD Crashes'!G:G,'WWD Crashes'!C:C,F338,'WWD Crashes'!M:M,\">0\")","v":10},{"$f":"MIN($B$16*SUMIF('Non-Crash Events'!B:B,F338,'Non-Crash Events'!R:R),50)","v":0},{"$f":"IF(VLOOKUP(F338,Intersections!A:E,5,FALSE)=\"Unique\",$B$22,IF(VLOOKUP(F338,Intersections!A:E,5,FALSE)=\"Split\",$B$23,0))","v":0},{"$f":"VLOOKUP(F338,Intersections!A:F,6,FALSE)","v":13200},4,{"$f":"VLOOKUP(F338,Intersections!A:G,7,FALSE)","v":620},1,0,{"$f":"_xlfn.IFS(VLOOKUP(F338,Intersections!A:H,8,FALSE)<=0.7,$B$30,VLOOKUP(F338,Intersections!A:H,8,FALSE)<=2,$B$31,TRUE,0)","v":0},{"$f":"_xlfn.IFS(VLOOKUP(F338,Intersections!A:D,4,FALSE)=\"Urban\",$B$30,TRUE,0)","v":0}]
[null,null,null,null,null,"I- 29 W Ramp & 200 st",{"$f":"COUNTIF('WWD Crashes'!C:C,F339)","v":1},{"$f":"COUNTIFS('Non-Crash Events'!B:B,F339,'Non-Crash Events'!R:R,\">0\")","v":0},15,null,null,null,null,null,null,null,null,null,null,null,null,null,null,null,null,null,{"$f":"SUMIFS('WWD Crashes'!G:G,'WWD Crashes'!C:C,F339)","v":0.25},{"$f":"_xlfn.IFS(AA339<0.125,$B$3,AA339<0.25,$B$4,AA339<0.5,$B$5,AA339<0.99,$B$6,AA339<1.5,$B$7,TRUE,$B$8)+$B$9*SUMIFS('WWD Crashes'!G:G,'WWD Crashes'!C:C,F339,'WWD Crashes'!L:L,\">0\")++$B$10*SUMIFS('WWD Crashes'!G:G,'WWD Crashes'!C:C,F339,'WWD Crashes'!M:M,\">0\")","v":10},{"$f":"MIN($B$16*SUMIF('Non-Crash Events'!B:B,F339,'Non-Crash Events'!R:R),50)","v":0},{"$f":"IF(VLOOKUP(F339,Intersections!A:E,5,FALSE)=\"Unique\",$B$22,IF(VLOOKUP(F339,Intersections!A:E,5,FALSE)=\"Split\",$B$23,0))","v":0},{"$f":"VLOOKUP(F339,Intersections!A:F,6,FALSE)","v":12300},4,{"$f":"VLOOKUP(F339,Intersections!A:G,7,FALSE)","v":460},1,0,{"$f":"_xlfn.IFS(VLOOKUP(F339,Intersections!A:H,8,FALSE)<=0.7,$B$30,VLOOKUP(F339,Intersections!A:H,8,FALSE)<=2,$B$31,TRUE,0)","v":0},{"$f":"_xlfn.IFS(VLOOKUP(F339,Intersections!A:D,4,FALSE)=\"Urban\",$B$30,TRUE,0)","v":0}]
[null,null,null,null,null,"I 35 N & I 35, N TO IA 3 W",{"$f":"COUNTIF('WWD Crashes'!C:C,F340)","v":0},{"$f":"COUNTIFS('Non-Crash Events'!B:B,F340,'Non-Crash Events'!R:R,\">0\")","v":0},14,null,null,null,null,null,null,null,null,null,null,null,null,null,null,null,null,null,{"$f":"SUMIFS('WWD Crashes'!G:G,'WWD Crashes'!C:C,F340)","v":0},{"$f":"_xlfn.IFS(AA340<0.125,$B$3,AA340<0.25,$B$4,AA340<0.5,$B$5,AA340<0.99,$B$6,AA340<1.5,$B$7,TRUE,$B$8)+$B$9*SUMIFS('WWD Crashes'!G:G,'WWD Crashes'!C:C,F340,'WWD Crashes'!L:L,\">0\")++$B$10*SUMIFS('WWD Crashes'!G:G,'WWD Crashes'!C:C,F340,'WWD Crashes'!M:M,\">0\")","v":0},{"$f":"MIN($B$16*SUMIF('Non-Crash Events'!B:B,F340,'Non-Crash Events'!R:R),50)","v":0},{"$f":"IF(VLOOKUP(F340,Intersections!A:E,5,FALSE)=\"Unique\",$B$22,IF(VLOOKUP(F340,Intersections!A:E,5,FALSE)=\"Split\",$B$23,0))","v":0},{"$f":"VLOOKUP(F340,Intersections!A:F,6,FALSE)","v":16200},5,{"$f":"VLOOKUP(F340,Intersections!A:G,7,FALSE)","v":3140},4,0,{"$f":"_xlfn.IFS(VLOOKUP(F340,Intersections!A:H,8,FALSE)<=0.7,$B$30,VLOOKUP(F340,Intersections!A:H,8,FALSE)<=2,$B$31,TRUE,0)","v":5},{"$f":"_xlfn.IFS(VLOOKUP(F340,Intersections!A:D,4,FALSE)=\"Urban\",$B$30,TRUE,0)","v":0}]
[null,null,null,null,null,"US-151 NW RAMP & AMBER RD",{"$f":"COUNTIF('WWD Crashes'!C:C,F341)","v":0},{"$f":"COUNTIFS('Non-Crash Events'!B:B,F341,'Non-Crash Events'!R:R,\">0\")","v":0},14,null,null,null,null,null,null,null,null,null,null,null,null,null,null,null,null,null,{"$f":"SUMIFS('WWD Crashes'!G:G,'WWD Crashes'!C:C,F341)","v":0},{"$f":"_xlfn.IFS(AA341<0.125,$B$3,AA341<0.25,$B$4,AA341<0.5,$B$5,AA341<0.99,$B$6,AA341<1.5,$B$7,TRUE,$B$8)+$B$9*SUMIFS('WWD Crashes'!G:G,'WWD Crashes'!C:C,F341,'WWD Crashes'!L:L,\">0\")++$B$10*SUMIFS('WWD Crashes'!G:G,'WWD Crashes'!C:C,F341,'WWD Crashes'!M:M,\">0\")","v":0},{"$f":"MIN($B$16*SUMIF('Non-Crash Events'!B:B,F341,'Non-Crash Events'!R:R),50)","v":0},{"$f":"IF(VLOOKUP(F341,Intersections!A:E,5,FALSE)=\"Unique\",$B$22,IF(VLOOKUP(F341,Intersections!A:E,5,FALSE)=\"Split\",$B$23,0))","v":0},{"$f":"VLOOKUP(F341,Intersections!A:F,6,FALSE)","v":11900},3,{"$f":"VLOOKUP(F341,Intersections!A:G,7,FALSE)","v":5600},6,0,{"$f":"_xlfn.IFS(VLOOKUP(F341,Intersections!A:H,8,FALSE)<=0.7,$B$30,VLOOKUP(F341,Intersections!A:H,8,FALSE)<=2,$B$31,TRUE,0)","v":5},{"$f":"_xlfn.IFS(VLOOKUP(F341,Intersections!A:D,4,FALSE)=\"Urban\",$B$30,TRUE,0)","v":0}]
[null,null,null,null,null,"US-20 NE RAMP & IA-13",{"$f":"COUNTIF('WWD Crashes'!C:C,F342)","v":0},{"$f":"COUNTIFS('Non-Crash Events'!B:B,F342,'Non-Crash Events'!R:R,\">0\")","v":0},14,null,null,null,null,null,null,null,null,null,null,null,null,null,null,null,null,null,{"$f":"SUMIFS('WWD Crashes'!G:G,'WWD Crashes'!C:C,F342)","v":0},{"$f":"_xlfn.IFS(AA342<0.125,$B$3,AA342<0.25,$B$4,AA342<0.5,$B$5,AA342<0.99,$B$6,AA342<1.5,$B$7,TRUE,$B$8)+$B$9*SUMIFS('WWD Crashes'!G:G,'WWD Crashes'!C:C,F342,'WWD Crashes'!L:L,\">0\")++$B$10*SUMIFS('WWD Crashes'!G:G,'WWD Crashes'!C:C,F342,'WWD Crashes'!M:M,\">0\")","v":0},{"$f":"MIN($B$16*SUMIF('Non-Crash Events'!B:B,F342,'Non-Crash Events'!R:R),50)","v":0},{"$f":"IF(VLOOKUP(F342,Intersections!A:E,5,FALSE)=\"Unique\",$B$22,IF(VLOOKUP(F342,Intersections!A:E,5,FALSE)=\"Split\",$B$23,0))","v":0},{"$f":"VLOOKUP(F342,Intersections!A:F,6,FALSE)","v":8300},2,{"$f":"VLOOKUP(F342,Intersections!A:G,7,FALSE)","v":6800},7,0,{"$f":"_xlfn.IFS(VLOOKUP(F342,Intersections!A:H,8,FALSE)<=0.7,$B$30,VLOOKUP(F342,Intersections!A:H,8,FALSE)<=2,$B$31,TRUE,0)","v":5},{"$f":"_xlfn.IFS(VLOOKUP(F342,Intersections!A:D,4,FALSE)=\"Urban\",$B$30,TRUE,0)","v":0}]
[null,null,null,null,null,"US 218 N & US 218 N TO S GRAND AVE,S",{"$f":"COUNTIF('WWD Crashes'!C:C,F343)","v":0},{"$f":"COUNTIFS('Non-Crash Events'!B:B,F343,'Non-Crash Events'!R:R,\">0\")","v":0},14,null,null,null,null,null,null,null,null,null,null,null,null,null,null,null,null,null,{"$f":"SUMIFS('WWD Crashes'!G:G,'WWD Crashes'!C:C,F343)","v":0},{"$f":"_xlfn.IFS(AA343<0.125,$B$3,AA343<0.25,$B$4,AA343<0.5,$B$5,AA343<0.99,$B$6,AA343<1.5,$B$7,TRUE,$B$8)+$B$9*SUMIFS('WWD Crashes'!G:G,'WWD Crashes'!C:C,F343,'WWD Crashes'!L:L,\">0\")++$B$10*SUMIFS('WWD Crashes'!G:G,'WWD Crashes'!C:C,F343,'WWD Crashes'!M:M,\">0\")","v":0},{"$f":"MIN($B$16*SUMIF('Non-Crash Events'!B:B,F343,'Non-Crash Events'!R:R),50)","v":0},{"$f":"IF(VLOOKUP(F343,Intersections!A:E,5,FALSE)=\"Unique\",$B$22,IF(VLOOKUP(F343,Intersections!A:E,5,FALSE)=\"Split\",$B$23,0))","v":0},{"$f":"VLOOKUP(F343,Intersections!A:F,6,FALSE)","v":9700},3,{"$f":"VLOOKUP(F343,Intersections!A:G,7,FALSE)","v":5000},6,0,{"$f":"_xlfn.IFS(VLOOKUP(F343,Intersections!A:H,8,FALSE)<=0.7,$B$30,VLOOKUP(F343,Intersections!A:H,8,FALSE)<=2,$B$31,TRUE,0)","v":5},{"$f":"_xlfn.IFS(VLOOKUP(F343,Intersections!A:D,4,FALSE)=\"Urban\",$B$30,TRUE,0)","v":0}]
[null,null,null,null,null,"US 75 S & US 75 TO OUTER",{"$f":"COUNTIF('WWD Crashes'!C:C,F344)","v":0},{"$f":"COUNTIFS('Non-Crash Events'!B:B,F344,'Non-Crash Events'!R:R,\">0\")","v":0},14,null,null,null,null,null,null,null,null,null,null,null,null,null,null,null,null,null,{"$f":"SUMIFS('WWD Crashes'!G:G,'WWD Crashes'!C:C,F344)","v":0},{"$f":"_xlfn.IFS(AA344<0.125,$B$3,AA344<0.25,$B$4,AA344<0.5,$B$5,AA344<0.99,$B$6,AA344<1.5,$B$7,TRUE,$B$8)+$B$9*SUMIFS('WWD Crashes'!G:G,'WWD Crashes'!C:C,F344,'WWD Crashes'!L:L,\">0\")++$B$10*SUMIFS('WWD Crashes'!G:G,'WWD Crashes'!C:C,F344,'WWD Crashes'!M:M,\">0\")","v":0},{"$f":"MIN($B$16*SUMIF('Non-Crash Events'!B:B,F344,'Non-Crash Events'!R:R),50)","v":0},{"$f":"IF(VLOOKUP(F344,Intersections!A:E,5,FALSE)=\"Unique\",$B$22,IF(VLOOKUP(F344,Intersections!A:E,5,FALSE)=\"Split\",$B$23,0))","v":0},{"$f":"VLOOKUP(F344,Intersections!A:F,6,FALSE)","v":20200},5,{"$f":"VLOOKUP(F344,Intersections!A:G,7,FALSE)","v":9000},9,0,{"$f":"_xlfn.IFS(VLOOKUP(F344,Intersections!A:H,8,FALSE)<=0.7,$B$30,VLOOKUP(F344,Intersections!A:H,8,FALSE)<=2,$B$31,TRUE,0)","v":0},{"$f":"_xlfn.IFS(VLOOKUP(F344,Intersections!A:D,4,FALSE)=\"Urban\",$B$30,TRUE,0)","v":0}]
[null,null,null,null,null,"US 65 SE Ramp & LINCOLN HWY (North of Colo)",{"$f":"COUNTIF('WWD Crashes'!C:C,F345)","v":0},{"$f":"COUNTIFS('Non-Crash Events'!B:B,F345,'Non-Crash Events'!R:R,\">0\")","v":0},13,null,null,null,null,null,null,null,null,null,null,null,null,null,null,null,null,null,{"$f":"SUMIFS('WWD Crashes'!G:G,'WWD Crashes'!C:C,F345)","v":0},{"$f":"_xlfn.IFS(AA345<0.125,$B$3,AA345<0.25,$B$4,AA345<0.5,$B$5,AA345<0.99,$B$6,AA345<1.5,$B$7,TRUE,$B$8)+$B$9*SUMIFS('WWD Crashes'!G:G,'WWD Crashes'!C:C,F345,'WWD Crashes'!L:L,\">0\")++$B$10*SUMIFS('WWD Crashes'!G:G,'WWD Crashes'!C:C,F345,'WWD Crashes'!M:M,\">0\")","v":0},{"$f":"MIN($B$16*SUMIF('Non-Crash Events'!B:B,F345,'Non-Crash Events'!R:R),50)","v":0},{"$f":"IF(VLOOKUP(F345,Intersections!A:E,5,FALSE)=\"Unique\",$B$22,IF(VLOOKUP(F345,Intersections!A:E,5,FALSE)=\"Split\",$B$23,0))","v":0},{"$f":"VLOOKUP(F345,Intersections!A:F,6,FALSE)","v":2240},1,{"$f":"VLOOKUP(F345,Intersections!A:G,7,FALSE)","v":930},2,0,{"$f":"_xlfn.IFS(VLOOKUP(F345,Intersections!A:H,8,FALSE)<=0.7,$B$30,VLOOKUP(F345,Intersections!A:H,8,FALSE)<=2,$B$31,TRUE,0)","v":10},{"$f":"_xlfn.IFS(VLOOKUP(F345,Intersections!A:D,4,FALSE)=\"Urban\",$B$30,TRUE,0)","v":0}]
[null,null,null,null,null,"I-35 SE RAMP CURV & HWY G50",{"$f":"COUNTIF('WWD Crashes'!C:C,F346)","v":0},{"$f":"COUNTIFS('Non-Crash Events'!B:B,F346,'Non-Crash Events'!R:R,\">0\")","v":0},13,null,null,null,null,null,null,null,null,null,null,null,null,null,null,null,null,null,{"$f":"SUMIFS('WWD Crashes'!G:G,'WWD Crashes'!C:C,F346)","v":0},{"$f":"_xlfn.IFS(AA346<0.125,$B$3,AA346<0.25,$B$4,AA346<0.5,$B$5,AA346<0.99,$B$6,AA346<1.5,$B$7,TRUE,$B$8)+$B$9*SUMIFS('WWD Crashes'!G:G,'WWD Crashes'!C:C,F346,'WWD Crashes'!L:L,\">0\")++$B$10*SUMIFS('WWD Crashes'!G:G,'WWD Crashes'!C:C,F346,'WWD Crashes'!M:M,\">0\")","v":0},{"$f":"MIN($B$16*SUMIF('Non-Crash Events'!B:B,F346,'Non-Crash Events'!R:R),50)","v":0},{"$f":"IF(VLOOKUP(F346,Intersections!A:E,5,FALSE)=\"Unique\",$B$22,IF(VLOOKUP(F346,Intersections!A:E,5,FALSE)=\"Split\",$B$23,0))","v":0},{"$f":"VLOOKUP(F346,Intersections!A:F,6,FALSE)","v":20700},6,{"$f":"VLOOKUP(F346,Intersections!A:G,7,FALSE)","v":1120},2,0,{"$f":"_xlfn.IFS(VLOOKUP(F346,Intersections!A:H,8,FALSE)<=0.7,$B$30,VLOOKUP(F346,Intersections!A:H,8,FALSE)<=2,$B$31,TRUE,0)","v":5},{"$f":"_xlfn.IFS(VLOOKUP(F346,Intersections!A:D,4,FALSE)=\"Urban\",$B$30,TRUE,0)","v":0}]
[null,null,null,null,null,"US-30 NE WB RAMP A & 80TH ST SW",{"$f":"COUNTIF('WWD Crashes'!C:C,F347)","v":0},{"$f":"COUNTIFS('Non-Crash Events'!B:B,F347,'Non-Crash Events'!R:R,\">0\")","v":0},12,null,null,null,null,null,null,null,null,null,null,null,null,null,null,null,null,null,{"$f":"SUMIFS('WWD Crashes'!G:G,'WWD Crashes'!C:C,F347)","v":0},{"$f":"_xlfn.IFS(AA347<0.125,$B$3,AA347<0.25,$B$4,AA347<0.5,$B$5,AA347<0.99,$B$6,AA347<1.5,$B$7,TRUE,$B$8)+$B$9*SUMIFS('WWD Crashes'!G:G,'WWD Crashes'!C:C,F347,'WWD Crashes'!L:L,\">0\")++$B$10*SUMIFS('WWD Crashes'!G:G,'WWD Crashes'!C:C,F347,'WWD Crashes'!M:M,\">0\")","v":0},{"$f":"MIN($B$16*SUMIF('Non-Crash Events'!B:B,F347,'Non-Crash Events'!R:R),50)","v":0},{"$f":"IF(VLOOKUP(F347,Intersections!A:E,5,FALSE)=\"Unique\",$B$22,IF(VLOOKUP(F347,Intersections!A:E,5,FALSE)=\"Split\",$B$23,0))","v":0},{"$f":"VLOOKUP(F347,Intersections!A:F,6,FALSE)","v":12400},4,{"$f":"VLOOKUP(F347,Intersections!A:G,7,FALSE)","v":2470},3,0,{"$f":"_xlfn.IFS(VLOOKUP(F347,Intersections!A:H,8,FALSE)<=0.7,$B$30,VLOOKUP(F347,Intersections!A:H,8,FALSE)<=2,$B$31,TRUE,0)","v":5},{"$f":"_xlfn.IFS(VLOOKUP(F347,Intersections!A:D,4,FALSE)=\"Urban\",$B$30,TRUE,0)","v":10}]
[null,null,null,null,null,"US-61 & HERSHEY AVE",{"$f":"COUNTIF('WWD Crashes'!C:C,F348)","v":0},{"$f":"COUNTIFS('Non-Crash Events'!B:B,F348,'Non-Crash Events'!R:R,\">0\")","v":0},12,null,null,null,null,null,null,null,null,null,null,null,null,null,null,null,null,null,{"$f":"SUMIFS('WWD Crashes'!G:G,'WWD Crashes'!C:C,F348)","v":0},{"$f":"_xlfn.IFS(AA348<0.125,$B$3,AA348<0.25,$B$4,AA348<0.5,$B$5,AA348<0.99,$B$6,AA348<1.5,$B$7,TRUE,$B$8)+$B$9*SUMIFS('WWD Crashes'!G:G,'WWD Crashes'!C:C,F348,'WWD Crashes'!L:L,\">0\")++$B$10*SUMIFS('WWD Crashes'!G:G,'WWD Crashes'!C:C,F348,'WWD Crashes'!M:M,\">0\")","v":0},{"$f":"MIN($B$16*SUMIF('Non-Crash Events'!B:B,F348,'Non-Crash Events'!R:R),50)","v":0},{"$f":"IF(VLOOKUP(F348,Intersections!A:E,5,FALSE)=\"Unique\",$B$22,IF(VLOOKUP(F348,Intersections!A:E,5,FALSE)=\"Split\",$B$23,0))","v":0},{"$f":"VLOOKUP(F348,Intersections!A:F,6,FALSE)","v":11100},3,{"$f":"VLOOKUP(F348,Intersections!A:G,7,FALSE)","v":2680},4,0,{"$f":"_xlfn.IFS(VLOOKUP(F348,Intersections!A:H,8,FALSE)<=0.7,$B$30,VLOOKUP(F348,Intersections!A:H,8,FALSE)<=2,$B$31,TRUE,0)","v":5},{"$f":"_xlfn.IFS(VLOOKUP(F348,Intersections!A:D,4,FALSE)=\"Urban\",$B$30,TRUE,0)","v":10}]
[null,null,null,null,null,"IA 163 E & US 63 S TO MERINO AVE S",{"$f":"COUNTIF('WWD Crashes'!C:C,F349)","v":0},{"$f":"COUNTIFS('Non-Crash Events'!B:B,F349,'Non-Crash Events'!R:R,\">0\")","v":0},12,null,null,null,null,null,null,null,null,null,null,null,null,null,null,null,null,null,{"$f":"SUMIFS('WWD Crashes'!G:G,'WWD Crashes'!C:C,F349)","v":0},{"$f":"_xlfn.IFS(AA349<0.125,$B$3,AA349<0.25,$B$4,AA349<0.5,$B$5,AA349<0.99,$B$6,AA349<1.5,$B$7,TRUE,$B$8)+$B$9*SUMIFS('WWD Crashes'!G:G,'WWD Crashes'!C:C,F349,'WWD Crashes'!L:L,\">0\")++$B$10*SUMIFS('WWD Crashes'!G:G,'WWD Crashes'!C:C,F349,'WWD Crashes'!M:M,\">0\")","v":0},{"$f":"MIN($B$16*SUMIF('Non-Crash Events'!B:B,F349,'Non-Crash Events'!R:R),50)","v":0},{"$f":"IF(VLOOKUP(F349,Intersections!A:E,5,FALSE)=\"Unique\",$B$22,IF(VLOOKUP(F349,Intersections!A:E,5,FALSE)=\"Split\",$B$23,0))","v":0},{"$f":"VLOOKUP(F349,Intersections!A:F,6,FALSE)","v":12500},4,{"$f":"VLOOKUP(F349,Intersections!A:G,7,FALSE)","v":1670},3,0,{"$f":"_xlfn.IFS(VLOOKUP(F349,Intersections!A:H,8,FALSE)<=0.7,$B$30,VLOOKUP(F349,Intersections!A:H,8,FALSE)<=2,$B$31,TRUE,0)","v":5},{"$f":"_xlfn.IFS(VLOOKUP(F349,Intersections!A:D,4,FALSE)=\"Urban\",$B$30,TRUE,0)","v":0}]
[null,null,null,null,null,"US-20 NE RAMP & BENSON-SHADY GROVE AVE",{"$f":"COUNTIF('WWD Crashes'!C:C,F350)","v":0},{"$f":"COUNTIFS('Non-Crash Events'!B:B,F350,'Non-Crash Events'!R:R,\">0\")","v":0},12,null,null,null,null,null,null,null,null,null,null,null,null,null,null,null,null,null,{"$f":"SUMIFS('WWD Crashes'!G:G,'WWD Crashes'!C:C,F350)","v":0},{"$f":"_xlfn.IFS(AA350<0.125,$B$3,AA350<0.25,$B$4,AA350<0.5,$B$5,AA350<0.99,$B$6,AA350<1.5,$B$7,TRUE,$B$8)+$B$9*SUMIFS('WWD Crashes'!G:G,'WWD Crashes'!C:C,F350,'WWD Crashes'!L:L,\">0\")++$B$10*SUMIFS('WWD Crashes'!G:G,'WWD Crashes'!C:C,F350,'WWD Crashes'!M:M,\">0\")","v":0},{"$f":"MIN($B$16*SUMIF('Non-Crash Events'!B:B,F350,'Non-Crash Events'!R:R),50)","v":0},{"$f":"IF(VLOOKUP(F350,Intersections!A:E,5,FALSE)=\"Unique\",$B$22,IF(VLOOKUP(F350,Intersections!A:E,5,FALSE)=\"Split\",$B$23,0))","v":0},{"$f":"VLOOKUP(F350,Intersections!A:F,6,FALSE)","v":11300},3,{"$f":"VLOOKUP(F350,Intersections!A:G,7,FALSE)","v":2660},4,0,{"$f":"_xlfn.IFS(VLOOKUP(F350,Intersections!A:H,8,FALSE)<=0.7,$B$30,VLOOKUP(F350,Intersections!A:H,8,FALSE)<=2,$B$31,TRUE,0)","v":5},{"$f":"_xlfn.IFS(VLOOKUP(F350,Intersections!A:D,4,FALSE)=\"Urban\",$B$30,TRUE,0)","v":0}]
[null,null,null,null,null,"US-61 NE RAMP & OAK LN",{"$f":"COUNTIF('WWD Crashes'!C:C,F351)","v":0},{"$f":"COUNTIFS('Non-Crash Events'!B:B,F351,'Non-Crash Events'!R:R,\">0\")","v":0},11,null,null,null,null,null,null,null,null,null,null,null,null,null,null,null,null,null,{"$f":"SUMIFS('WWD Crashes'!G:G,'WWD Crashes'!C:C,F351)","v":0},{"$f":"_xlfn.IFS(AA351<0.125,$B$3,AA351<0.25,$B$4,AA351<0.5,$B$5,AA351<0.99,$B$6,AA351<1.5,$B$7,TRUE,$B$8)+$B$9*SUMIFS('WWD Crashes'!G:G,'WWD Crashes'!C:C,F351,'WWD Crashes'!L:L,\">0\")++$B$10*SUMIFS('WWD Crashes'!G:G,'WWD Crashes'!C:C,F351,'WWD Crashes'!M:M,\">0\")","v":0},{"$f":"MIN($B$16*SUMIF('Non-Crash Events'!B:B,F351,'Non-Crash Events'!R:R),50)","v":0},{"$f":"IF(VLOOKUP(F351,Intersections!A:E,5,FALSE)=\"Unique\",$B$22,IF(VLOOKUP(F351,Intersections!A:E,5,FALSE)=\"Split\",$B$23,0))","v":0},{"$f":"VLOOKUP(F351,Intersections!A:F,6,FALSE)","v":11700},3,{"$f":"VLOOKUP(F351,Intersections!A:G,7,FALSE)","v":2420},3,0,{"$f":"_xlfn.IFS(VLOOKUP(F351,Intersections!A:H,8,FALSE)<=0.7,$B$30,VLOOKUP(F351,Intersections!A:H,8,FALSE)<=2,$B$31,TRUE,0)","v":5},{"$f":"_xlfn.IFS(VLOOKUP(F351,Intersections!A:D,4,FALSE)=\"Urban\",$B$30,TRUE,0)","v":0}]
[null,null,null,null,null,"IA 163 W & IA 102 E/ADAMS AVE N",{"$f":"COUNTIF('WWD Crashes'!C:C,F352)","v":0},{"$f":"COUNTIFS('Non-Crash Events'!B:B,F352,'Non-Crash Events'!R:R,\">0\")","v":0},11,null,null,null,null,null,null,null,null,null,null,null,null,null,null,null,null,null,{"$f":"SUMIFS('WWD Crashes'!G:G,'WWD Crashes'!C:C,F352)","v":0},{"$f":"_xlfn.IFS(AA352<0.125,$B$3,AA352<0.25,$B$4,AA352<0.5,$B$5,AA352<0.99,$B$6,AA352<1.5,$B$7,TRUE,$B$8)+$B$9*SUMIFS('WWD Crashes'!G:G,'WWD Crashes'!C:C,F352,'WWD Crashes'!L:L,\">0\")++$B$10*SUMIFS('WWD Crashes'!G:G,'WWD Crashes'!C:C,F352,'WWD Crashes'!M:M,\">0\")","v":0},{"$f":"MIN($B$16*SUMIF('Non-Crash Events'!B:B,F352,'Non-Crash Events'!R:R),50)","v":0},{"$f":"IF(VLOOKUP(F352,Intersections!A:E,5,FALSE)=\"Unique\",$B$22,IF(VLOOKUP(F352,Intersections!A:E,5,FALSE)=\"Split\",$B$23,0))","v":0},{"$f":"VLOOKUP(F352,Intersections!A:F,6,FALSE)","v":11400},3,{"$f":"VLOOKUP(F352,Intersections!A:G,7,FALSE)","v":2240},3,0,{"$f":"_xlfn.IFS(VLOOKUP(F352,Intersections!A:H,8,FALSE)<=0.7,$B$30,VLOOKUP(F352,Intersections!A:H,8,FALSE)<=2,$B$31,TRUE,0)","v":5},{"$f":"_xlfn.IFS(VLOOKUP(F352,Intersections!A:D,4,FALSE)=\"Urban\",$B$30,TRUE,0)","v":0}]
[null,null,null,null,null,"US-20 NE RAMP & IOWA AVE",{"$f":"COUNTIF('WWD Crashes'!C:C,F353)","v":0},{"$f":"COUNTIFS('Non-Crash Events'!B:B,F353,'Non-Crash Events'!R:R,\">0\")","v":0},11,null,null,null,null,null,null,null,null,null,null,null,null,null,null,null,null,null,{"$f":"SUMIFS('WWD Crashes'!G:G,'WWD Crashes'!C:C,F353)","v":0},{"$f":"_xlfn.IFS(AA353<0.125,$B$3,AA353<0.25,$B$4,AA353<0.5,$B$5,AA353<0.99,$B$6,AA353<1.5,$B$7,TRUE,$B$8)+$B$9*SUMIFS('WWD Crashes'!G:G,'WWD Crashes'!C:C,F353,'WWD Crashes'!L:L,\">0\")++$B$10*SUMIFS('WWD Crashes'!G:G,'WWD Crashes'!C:C,F353,'WWD Crashes'!M:M,\">0\")","v":0},{"$f":"MIN($B$16*SUMIF('Non-Crash Events'!B:B,F353,'Non-Crash Events'!R:R),50)","v":0},{"$f":"IF(VLOOKUP(F353,Intersections!A:E,5,FALSE)=\"Unique\",$B$22,IF(VLOOKUP(F353,Intersections!A:E,5,FALSE)=\"Split\",$B$23,0))","v":0},{"$f":"VLOOKUP(F353,Intersections!A:F,6,FALSE)","v":10900},3,{"$f":"VLOOKUP(F353,Intersections!A:G,7,FALSE)","v":2450},3,0,{"$f":"_xlfn.IFS(VLOOKUP(F353,Intersections!A:H,8,FALSE)<=0.7,$B$30,VLOOKUP(F353,Intersections!A:H,8,FALSE)<=2,$B$31,TRUE,0)","v":5},{"$f":"_xlfn.IFS(VLOOKUP(F353,Intersections!A:D,4,FALSE)=\"Urban\",$B$30,TRUE,0)","v":0}]
[null,null,null,null,null,"US-20 NE RAMP & RACINE AVE",{"$f":"COUNTIF('WWD Crashes'!C:C,F354)","v":0},{"$f":"COUNTIFS('Non-Crash Events'!B:B,F354,'Non-Crash Events'!R:R,\">0\")","v":0},11,null,null,null,null,null,null,null,null,null,null,null,null,null,null,null,null,null,{"$f":"SUMIFS('WWD Crashes'!G:G,'WWD Crashes'!C:C,F354)","v":0},{"$f":"_xlfn.IFS(AA354<0.125,$B$3,AA354<0.25,$B$4,AA354<0.5,$B$5,AA354<0.99,$B$6,AA354<1.5,$B$7,TRUE,$B$8)+$B$9*SUMIFS('WWD Crashes'!G:G,'WWD Crashes'!C:C,F354,'WWD Crashes'!L:L,\">0\")++$B$10*SUMIFS('WWD Crashes'!G:G,'WWD Crashes'!C:C,F354,'WWD Crashes'!M:M,\">0\")","v":0},{"$f":"MIN($B$16*SUMIF('Non-Crash Events'!B:B,F354,'Non-Crash Events'!R:R),50)","v":0},{"$f":"IF(VLOOKUP(F354,Intersections!A:E,5,FALSE)=\"Unique\",$B$22,IF(VLOOKUP(F354,Intersections!A:E,5,FALSE)=\"Split\",$B$23,0))","v":0},{"$f":"VLOOKUP(F354,Intersections!A:F,6,FALSE)","v":10600},3,{"$f":"VLOOKUP(F354,Intersections!A:G,7,FALSE)","v":2180},3,0,{"$f":"_xlfn.IFS(VLOOKUP(F354,Intersections!A:H,8,FALSE)<=0.7,$B$30,VLOOKUP(F354,Intersections!A:H,8,FALSE)<=2,$B$31,TRUE,0)","v":5},{"$f":"_xlfn.IFS(VLOOKUP(F354,Intersections!A:D,4,FALSE)=\"Urban\",$B$30,TRUE,0)","v":0}]
[null,null,null,null,null,"US-151 SW RAMP/LOOP & IA-136",{"$f":"COUNTIF('WWD Crashes'!C:C,F355)","v":0},{"$f":"COUNTIFS('Non-Crash Events'!B:B,F355,'Non-Crash Events'!R:R,\">0\")","v":0},11,null,null,null,null,null,null,null,null,null,null,null,null,null,null,null,null,null,{"$f":"SUMIFS('WWD Crashes'!G:G,'WWD Crashes'!C:C,F355)","v":0},{"$f":"_xlfn.IFS(AA355<0.125,$B$3,AA355<0.25,$B$4,AA355<0.5,$B$5,AA355<0.99,$B$6,AA355<1.5,$B$7,TRUE,$B$8)+$B$9*SUMIFS('WWD Crashes'!G:G,'WWD Crashes'!C:C,F355,'WWD Crashes'!L:L,\">0\")++$B$10*SUMIFS('WWD Crashes'!G:G,'WWD Crashes'!C:C,F355,'WWD Crashes'!M:M,\">0\")","v":0},{"$f":"MIN($B$16*SUMIF('Non-Crash Events'!B:B,F355,'Non-Crash Events'!R:R),50)","v":0},{"$f":"IF(VLOOKUP(F355,Intersections!A:E,5,FALSE)=\"Unique\",$B$22,IF(VLOOKUP(F355,Intersections!A:E,5,FALSE)=\"Split\",$B$23,0))","v":0},{"$f":"VLOOKUP(F355,Intersections!A:F,6,FALSE)","v":9400},2,{"$f":"VLOOKUP(F355,Intersections!A:G,7,FALSE)","v":2780},4,0,{"$f":"_xlfn.IFS(VLOOKUP(F355,Intersections!A:H,8,FALSE)<=0.7,$B$30,VLOOKUP(F355,Intersections!A:H,8,FALSE)<=2,$B$31,TRUE,0)","v":5},{"$f":"_xlfn.IFS(VLOOKUP(F355,Intersections!A:D,4,FALSE)=\"Urban\",$B$30,TRUE,0)","v":0}]
[null,null,null,null,null,"IA 92 E & IA 5 S",{"$f":"COUNTIF('WWD Crashes'!C:C,F356)","v":0},{"$f":"COUNTIFS('Non-Crash Events'!B:B,F356,'Non-Crash Events'!R:R,\">0\")","v":0},11,null,null,null,null,null,null,null,null,null,null,null,null,null,null,null,null,null,{"$f":"SUMIFS('WWD Crashes'!G:G,'WWD Crashes'!C:C,F356)","v":0},{"$f":"_xlfn.IFS(AA356<0.125,$B$3,AA356<0.25,$B$4,AA356<0.5,$B$5,AA356<0.99,$B$6,AA356<1.5,$B$7,TRUE,$B$8)+$B$9*SUMIFS('WWD Crashes'!G:G,'WWD Crashes'!C:C,F356,'WWD Crashes'!L:L,\">0\")++$B$10*SUMIFS('WWD Crashes'!G:G,'WWD Crashes'!C:C,F356,'WWD Crashes'!M:M,\">0\")","v":0},{"$f":"MIN($B$16*SUMIF('Non-Crash Events'!B:B,F356,'Non-Crash Events'!R:R),50)","v":0},{"$f":"IF(VLOOKUP(F356,Intersections!A:E,5,FALSE)=\"Unique\",$B$22,IF(VLOOKUP(F356,Intersections!A:E,5,FALSE)=\"Split\",$B$23,0))","v":0},{"$f":"VLOOKUP(F356,Intersections!A:F,6,FALSE)","v":6800},1,{"$f":"VLOOKUP(F356,Intersections!A:G,7,FALSE)","v":3960},5,0,{"$f":"_xlfn.IFS(VLOOKUP(F356,Intersections!A:H,8,FALSE)<=0.7,$B$30,VLOOKUP(F356,Intersections!A:H,8,FALSE)<=2,$B$31,TRUE,0)","v":5},{"$f":"_xlfn.IFS(VLOOKUP(F356,Intersections!A:D,4,FALSE)=\"Urban\",$B$30,TRUE,0)","v":0}]
[null,null,null,{"$f":"HYPERLINK(\"#'Weight Based'!\"&ADDRESS(5,11),\"Jump to Details\")","v":"Jump to Details"},null,"IA 60 W  RAMP & 450TH ST",{"$f":"COUNTIF('WWD Crashes'!C:C,F357)","v":0},{"$f":"COUNTIFS('Non-Crash Events'!B:B,F357,'Non-Crash Events'!R:R,\">0\")","v":0},11,null,null,null,null,null,null,null,null,null,null,null,null,null,null,null,null,null,{"$f":"SUMIFS('WWD Crashes'!G:G,'WWD Crashes'!C:C,F357)","v":0},{"$f":"_xlfn.IFS(AA357<0.125,$B$3,AA357<0.25,$B$4,AA357<0.5,$B$5,AA357<0.99,$B$6,AA357<1.5,$B$7,TRUE,$B$8)+$B$9*SUMIFS('WWD Crashes'!G:G,'WWD Crashes'!C:C,F357,'WWD Crashes'!L:L,\">0\")++$B$10*SUMIFS('WWD Crashes'!G:G,'WWD Crashes'!C:C,F357,'WWD Crashes'!M:M,\">0\")","v":0},{"$f":"MIN($B$16*SUMIF('Non-Crash Events'!B:B,F357,'Non-Crash Events'!R:R),50)","v":0},{"$f":"IF(VLOOKUP(F357,Intersections!A:E,5,FALSE)=\"Unique\",$B$22,IF(VLOOKUP(F357,Intersections!A:E,5,FALSE)=\"Split\",$B$23,0))","v":0},{"$f":"VLOOKUP(F357,Intersections!A:F,6,FALSE)","v":5800},1,{"$f":"VLOOKUP(F357,Intersections!A:G,7,FALSE)","v":4390},5,0,{"$f":"_xlfn.IFS(VLOOKUP(F357,Intersections!A:H,8,FALSE)<=0.7,$B$30,VLOOKUP(F357,Intersections!A:H,8,FALSE)<=2,$B$31,TRUE,0)","v":5},{"$f":"_xlfn.IFS(VLOOKUP(F357,Intersections!A:D,4,FALSE)=\"Urban\",$B$30,TRUE,0)","v":0}]
[null,null,null,null,null,"I 80 W & I 80 W TO US 151 S",{"$f":"COUNTIF('WWD Crashes'!C:C,F358)","v":0},{"$f":"COUNTIFS('Non-Crash Events'!B:B,F358,'Non-Crash Events'!R:R,\">0\")","v":0},11,null,null,null,null,null,null,null,null,null,null,null,null,null,null,null,null,null,{"$f":"SUMIFS('WWD Crashes'!G:G,'WWD Crashes'!C:C,F358)","v":0},{"$f":"_xlfn.IFS(AA358<0.125,$B$3,AA358<0.25,$B$4,AA358<0.5,$B$5,AA358<0.99,$B$6,AA358<1.5,$B$7,TRUE,$B$8)+$B$9*SUMIFS('WWD Crashes'!G:G,'WWD Crashes'!C:C,F358,'WWD Crashes'!L:L,\">0\")++$B$10*SUMIFS('WWD Crashes'!G:G,'WWD Crashes'!C:C,F358,'WWD Crashes'!M:M,\">0\")","v":0},{"$f":"MIN($B$16*SUMIF('Non-Crash Events'!B:B,F358,'Non-Crash Events'!R:R),50)","v":0},{"$f":"IF(VLOOKUP(F358,Intersections!A:E,5,FALSE)=\"Unique\",$B$22,IF(VLOOKUP(F358,Intersections!A:E,5,FALSE)=\"Split\",$B$23,0))","v":0},{"$f":"VLOOKUP(F358,Intersections!A:F,6,FALSE)","v":33500},8,{"$f":"VLOOKUP(F358,Intersections!A:G,7,FALSE)","v":2260},3,0,{"$f":"_xlfn.IFS(VLOOKUP(F358,Intersections!A:H,8,FALSE)<=0.7,$B$30,VLOOKUP(F358,Intersections!A:H,8,FALSE)<=2,$B$31,TRUE,0)","v":0},{"$f":"_xlfn.IFS(VLOOKUP(F358,Intersections!A:D,4,FALSE)=\"Urban\",$B$30,TRUE,0)","v":0}]
[null,null,null,null,null,"I- 35 W  Ramp & 190TH ST",{"$f":"COUNTIF('WWD Crashes'!C:C,F359)","v":0},{"$f":"COUNTIFS('Non-Crash Events'!B:B,F359,'Non-Crash Events'!R:R,\">0\")","v":0},11,null,null,null,null,null,null,null,null,null,null,null,null,null,null,null,null,null,{"$f":"SUMIFS('WWD Crashes'!G:G,'WWD Crashes'!C:C,F359)","v":0},{"$f":"_xlfn.IFS(AA359<0.125,$B$3,AA359<0.25,$B$4,AA359<0.5,$B$5,AA359<0.99,$B$6,AA359<1.5,$B$7,TRUE,$B$8)+$B$9*SUMIFS('WWD Crashes'!G:G,'WWD Crashes'!C:C,F359,'WWD Crashes'!L:L,\">0\")++$B$10*SUMIFS('WWD Crashes'!G:G,'WWD Crashes'!C:C,F359,'WWD Crashes'!M:M,\">0\")","v":0},{"$f":"MIN($B$16*SUMIF('Non-Crash Events'!B:B,F359,'Non-Crash Events'!R:R),50)","v":0},{"$f":"IF(VLOOKUP(F359,Intersections!A:E,5,FALSE)=\"Unique\",$B$22,IF(VLOOKUP(F359,Intersections!A:E,5,FALSE)=\"Split\",$B$23,0))","v":0},{"$f":"VLOOKUP(F359,Intersections!A:F,6,FALSE)","v":30000},8,{"$f":"VLOOKUP(F359,Intersections!A:G,7,FALSE)","v":2450},3,0,{"$f":"_xlfn.IFS(VLOOKUP(F359,Intersections!A:H,8,FALSE)<=0.7,$B$30,VLOOKUP(F359,Intersections!A:H,8,FALSE)<=2,$B$31,TRUE,0)","v":0},{"$f":"_xlfn.IFS(VLOOKUP(F359,Intersections!A:D,4,FALSE)=\"Urban\",$B$30,TRUE,0)","v":0}]
[null,null,null,null,null,"I- 29 W Ramp & IOWA 2",{"$f":"COUNTIF('WWD Crashes'!C:C,F360)","v":0},{"$f":"COUNTIFS('Non-Crash Events'!B:B,F360,'Non-Crash Events'!R:R,\">0\")","v":0},11,null,null,null,null,null,null,null,null,null,null,null,null,null,null,null,null,null,{"$f":"SUMIFS('WWD Crashes'!G:G,'WWD Crashes'!C:C,F360)","v":0},{"$f":"_xlfn.IFS(AA360<0.125,$B$3,AA360<0.25,$B$4,AA360<0.5,$B$5,AA360<0.99,$B$6,AA360<1.5,$B$7,TRUE,$B$8)+$B$9*SUMIFS('WWD Crashes'!G:G,'WWD Crashes'!C:C,F360,'WWD Crashes'!L:L,\">0\")++$B$10*SUMIFS('WWD Crashes'!G:G,'WWD Crashes'!C:C,F360,'WWD Crashes'!M:M,\">0\")","v":0},{"$f":"MIN($B$16*SUMIF('Non-Crash Events'!B:B,F360,'Non-Crash Events'!R:R),50)","v":0},{"$f":"IF(VLOOKUP(F360,Intersections!A:E,5,FALSE)=\"Unique\",$B$22,IF(VLOOKUP(F360,Intersections!A:E,5,FALSE)=\"Split\",$B$23,0))","v":0},{"$f":"VLOOKUP(F360,Intersections!A:F,6,FALSE)","v":14100},4,{"$f":"VLOOKUP(F360,Intersections!A:G,7,FALSE)","v":8000},7,0,{"$f":"_xlfn.IFS(VLOOKUP(F360,Intersections!A:H,8,FALSE)<=0.7,$B$30,VLOOKUP(F360,Intersections!A:H,8,FALSE)<=2,$B$31,TRUE,0)","v":0},{"$f":"_xlfn.IFS(VLOOKUP(F360,Intersections!A:D,4,FALSE)=\"Urban\",$B$30,TRUE,0)","v":0}]
[null,null,null,null,null,"US 61 NE RAMP & 190 st/BUS US 61",{"$f":"COUNTIF('WWD Crashes'!C:C,F361)","v":0},{"$f":"COUNTIFS('Non-Crash Events'!B:B,F361,'Non-Crash Events'!R:R,\">0\")","v":1},10.5,null,null,null,null,null,null,null,null,null,null,null,null,null,null,null,null,null,{"$f":"SUMIFS('WWD Crashes'!G:G,'WWD Crashes'!C:C,F361)","v":0},{"$f":"_xlfn.IFS(AA361<0.125,$B$3,AA361<0.25,$B$4,AA361<0.5,$B$5,AA361<0.99,$B$6,AA361<1.5,$B$7,TRUE,$B$8)+$B$9*SUMIFS('WWD Crashes'!G:G,'WWD Crashes'!C:C,F361,'WWD Crashes'!L:L,\">0\")++$B$10*SUMIFS('WWD Crashes'!G:G,'WWD Crashes'!C:C,F361,'WWD Crashes'!M:M,\">0\")","v":0},{"$f":"MIN($B$16*SUMIF('Non-Crash Events'!B:B,F361,'Non-Crash Events'!R:R),50)","v":2.5},{"$f":"IF(VLOOKUP(F361,Intersections!A:E,5,FALSE)=\"Unique\",$B$22,IF(VLOOKUP(F361,Intersections!A:E,5,FALSE)=\"Split\",$B$23,0))","v":0},{"$f":"VLOOKUP(F361,Intersections!A:F,6,FALSE)","v":11600},3,{"$f":"VLOOKUP(F361,Intersections!A:G,7,FALSE)","v":4040},5,0,{"$f":"_xlfn.IFS(VLOOKUP(F361,Intersections!A:H,8,FALSE)<=0.7,$B$30,VLOOKUP(F361,Intersections!A:H,8,FALSE)<=2,$B$31,TRUE,0)","v":0},{"$f":"_xlfn.IFS(VLOOKUP(F361,Intersections!A:D,4,FALSE)=\"Urban\",$B$30,TRUE,0)","v":0}]
[null,null,null,null,null,"IOWA 5 NE  Ramp & VETERANS PKWY",{"$f":"COUNTIF('WWD Crashes'!C:C,F362)","v":0},{"$f":"COUNTIFS('Non-Crash Events'!B:B,F362,'Non-Crash Events'!R:R,\">0\")","v":0},10,null,null,null,null,null,null,null,null,null,null,null,null,null,null,null,null,null,{"$f":"SUMIFS('WWD Crashes'!G:G,'WWD Crashes'!C:C,F362)","v":0},{"$f":"_xlfn.IFS(AA362<0.125,$B$3,AA362<0.25,$B$4,AA362<0.5,$B$5,AA362<0.99,$B$6,AA362<1.5,$B$7,TRUE,$B$8)+$B$9*SUMIFS('WWD Crashes'!G:G,'WWD Crashes'!C:C,F362,'WWD Crashes'!L:L,\">0\")++$B$10*SUMIFS('WWD Crashes'!G:G,'WWD Crashes'!C:C,F362,'WWD Crashes'!M:M,\">0\")","v":0},{"$f":"MIN($B$16*SUMIF('Non-Crash Events'!B:B,F362,'Non-Crash Events'!R:R),50)","v":0},{"$f":"IF(VLOOKUP(F362,Intersections!A:E,5,FALSE)=\"Unique\",$B$22,IF(VLOOKUP(F362,Intersections!A:E,5,FALSE)=\"Split\",$B$23,0))","v":0},{"$f":"VLOOKUP(F362,Intersections!A:F,6,FALSE)","v":31100},8,{"$f":"VLOOKUP(F362,Intersections!A:G,7,FALSE)","v":1500},2,0,{"$f":"_xlfn.IFS(VLOOKUP(F362,Intersections!A:H,8,FALSE)<=0.7,$B$30,VLOOKUP(F362,Intersections!A:H,8,FALSE)<=2,$B$31,TRUE,0)","v":0},{"$f":"_xlfn.IFS(VLOOKUP(F362,Intersections!A:D,4,FALSE)=\"Urban\",$B$30,TRUE,0)","v":10}]
[null,null,null,null,null,"I 80 W & I 80 W TO L AVE, S",{"$f":"COUNTIF('WWD Crashes'!C:C,F363)","v":0},{"$f":"COUNTIFS('Non-Crash Events'!B:B,F363,'Non-Crash Events'!R:R,\">0\")","v":0},10,null,null,null,null,null,null,null,null,null,null,null,null,null,null,null,null,null,{"$f":"SUMIFS('WWD Crashes'!G:G,'WWD Crashes'!C:C,F363)","v":0},{"$f":"_xlfn.IFS(AA363<0.125,$B$3,AA363<0.25,$B$4,AA363<0.5,$B$5,AA363<0.99,$B$6,AA363<1.5,$B$7,TRUE,$B$8)+$B$9*SUMIFS('WWD Crashes'!G:G,'WWD Crashes'!C:C,F363,'WWD Crashes'!L:L,\">0\")++$B$10*SUMIFS('WWD Crashes'!G:G,'WWD Crashes'!C:C,F363,'WWD Crashes'!M:M,\">0\")","v":0},{"$f":"MIN($B$16*SUMIF('Non-Crash Events'!B:B,F363,'Non-Crash Events'!R:R),50)","v":0},{"$f":"IF(VLOOKUP(F363,Intersections!A:E,5,FALSE)=\"Unique\",$B$22,IF(VLOOKUP(F363,Intersections!A:E,5,FALSE)=\"Split\",$B$23,0))","v":0},{"$f":"VLOOKUP(F363,Intersections!A:F,6,FALSE)","v":31400},8,{"$f":"VLOOKUP(F363,Intersections!A:G,7,FALSE)","v":1300},2,0,{"$f":"_xlfn.IFS(VLOOKUP(F363,Intersections!A:H,8,FALSE)<=0.7,$B$30,VLOOKUP(F363,Intersections!A:H,8,FALSE)<=2,$B$31,TRUE,0)","v":0},{"$f":"_xlfn.IFS(VLOOKUP(F363,Intersections!A:D,4,FALSE)=\"Urban\",$B$30,TRUE,0)","v":0}]
[null,null,null,null,null,"I 80 W & I 80 W TO IA 224 S",{"$f":"COUNTIF('WWD Crashes'!C:C,F364)","v":0},{"$f":"COUNTIFS('Non-Crash Events'!B:B,F364,'Non-Crash Events'!R:R,\">0\")","v":0},10,null,null,null,null,null,null,null,null,null,null,null,null,null,null,null,null,null,{"$f":"SUMIFS('WWD Crashes'!G:G,'WWD Crashes'!C:C,F364)","v":0},{"$f":"_xlfn.IFS(AA364<0.125,$B$3,AA364<0.25,$B$4,AA364<0.5,$B$5,AA364<0.99,$B$6,AA364<1.5,$B$7,TRUE,$B$8)+$B$9*SUMIFS('WWD Crashes'!G:G,'WWD Crashes'!C:C,F364,'WWD Crashes'!L:L,\">0\")++$B$10*SUMIFS('WWD Crashes'!G:G,'WWD Crashes'!C:C,F364,'WWD Crashes'!M:M,\">0\")","v":0},{"$f":"MIN($B$16*SUMIF('Non-Crash Events'!B:B,F364,'Non-Crash Events'!R:R),50)","v":0},{"$f":"IF(VLOOKUP(F364,Intersections!A:E,5,FALSE)=\"Unique\",$B$22,IF(VLOOKUP(F364,Intersections!A:E,5,FALSE)=\"Split\",$B$23,0))","v":0},{"$f":"VLOOKUP(F364,Intersections!A:F,6,FALSE)","v":29200},7,{"$f":"VLOOKUP(F364,Intersections!A:G,7,FALSE)","v":1760},3,0,{"$f":"_xlfn.IFS(VLOOKUP(F364,Intersections!A:H,8,FALSE)<=0.7,$B$30,VLOOKUP(F364,Intersections!A:H,8,FALSE)<=2,$B$31,TRUE,0)","v":0},{"$f":"_xlfn.IFS(VLOOKUP(F364,Intersections!A:D,4,FALSE)=\"Urban\",$B$30,TRUE,0)","v":0}]
[null,null,null,null,null,"IOWA-35 & 300th st",{"$f":"COUNTIF('WWD Crashes'!C:C,F365)","v":0},{"$f":"COUNTIFS('Non-Crash Events'!B:B,F365,'Non-Crash Events'!R:R,\">0\")","v":0},10,null,null,null,null,null,null,null,null,null,null,null,null,null,null,null,null,null,{"$f":"SUMIFS('WWD Crashes'!G:G,'WWD Crashes'!C:C,F365)","v":0},{"$f":"_xlfn.IFS(AA365<0.125,$B$3,AA365<0.25,$B$4,AA365<0.5,$B$5,AA365<0.99,$B$6,AA365<1.5,$B$7,TRUE,$B$8)+$B$9*SUMIFS('WWD Crashes'!G:G,'WWD Crashes'!C:C,F365,'WWD Crashes'!L:L,\">0\")++$B$10*SUMIFS('WWD Crashes'!G:G,'WWD Crashes'!C:C,F365,'WWD Crashes'!M:M,\">0\")","v":0},{"$f":"MIN($B$16*SUMIF('Non-Crash Events'!B:B,F365,'Non-Crash Events'!R:R),50)","v":0},{"$f":"IF(VLOOKUP(F365,Intersections!A:E,5,FALSE)=\"Unique\",$B$22,IF(VLOOKUP(F365,Intersections!A:E,5,FALSE)=\"Split\",$B$23,0))","v":0},{"$f":"VLOOKUP(F365,Intersections!A:F,6,FALSE)","v":20600},6,{"$f":"VLOOKUP(F365,Intersections!A:G,7,FALSE)","v":3290},4,0,{"$f":"_xlfn.IFS(VLOOKUP(F365,Intersections!A:H,8,FALSE)<=0.7,$B$30,VLOOKUP(F365,Intersections!A:H,8,FALSE)<=2,$B$31,TRUE,0)","v":0},{"$f":"_xlfn.IFS(VLOOKUP(F365,Intersections!A:D,4,FALSE)=\"Urban\",$B$30,TRUE,0)","v":0}]
[null,null,null,null,null,"US- 218 EAST RAMPS & IOWA 3",{"$f":"COUNTIF('WWD Crashes'!C:C,F366)","v":0},{"$f":"COUNTIFS('Non-Crash Events'!B:B,F366,'Non-Crash Events'!R:R,\">0\")","v":0},10,null,null,null,null,null,null,null,null,null,null,null,null,null,null,null,null,null,{"$f":"SUMIFS('WWD Crashes'!G:G,'WWD Crashes'!C:C,F366)","v":0},{"$f":"_xlfn.IFS(AA366<0.125,$B$3,AA366<0.25,$B$4,AA366<0.5,$B$5,AA366<0.99,$B$6,AA366<1.5,$B$7,TRUE,$B$8)+$B$9*SUMIFS('WWD Crashes'!G:G,'WWD Crashes'!C:C,F366,'WWD Crashes'!L:L,\">0\")++$B$10*SUMIFS('WWD Crashes'!G:G,'WWD Crashes'!C:C,F366,'WWD Crashes'!M:M,\">0\")","v":0},{"$f":"MIN($B$16*SUMIF('Non-Crash Events'!B:B,F366,'Non-Crash Events'!R:R),50)","v":0},{"$f":"IF(VLOOKUP(F366,Intersections!A:E,5,FALSE)=\"Unique\",$B$22,IF(VLOOKUP(F366,Intersections!A:E,5,FALSE)=\"Split\",$B$23,0))","v":0},{"$f":"VLOOKUP(F366,Intersections!A:F,6,FALSE)","v":10000},3,{"$f":"VLOOKUP(F366,Intersections!A:G,7,FALSE)","v":7100},7,0,{"$f":"_xlfn.IFS(VLOOKUP(F366,Intersections!A:H,8,FALSE)<=0.7,$B$30,VLOOKUP(F366,Intersections!A:H,8,FALSE)<=2,$B$31,TRUE,0)","v":0},{"$f":"_xlfn.IFS(VLOOKUP(F366,Intersections!A:D,4,FALSE)=\"Urban\",$B$30,TRUE,0)","v":0}]
[null,null,null,null,null,"I- 29 SE Ramp & 160TH ST",{"$f":"COUNTIF('WWD Crashes'!C:C,F367)","v":0},{"$f":"COUNTIFS('Non-Crash Events'!B:B,F367,'Non-Crash Events'!R:R,\">0\")","v":1},10,null,null,null,null,null,null,null,null,null,null,null,null,null,null,null,null,null,{"$f":"SUMIFS('WWD Crashes'!G:G,'WWD Crashes'!C:C,F367)","v":0},{"$f":"_xlfn.IFS(AA367<0.125,$B$3,AA367<0.25,$B$4,AA367<0.5,$B$5,AA367<0.99,$B$6,AA367<1.5,$B$7,TRUE,$B$8)+$B$9*SUMIFS('WWD Crashes'!G:G,'WWD Crashes'!C:C,F367,'WWD Crashes'!L:L,\">0\")++$B$10*SUMIFS('WWD Crashes'!G:G,'WWD Crashes'!C:C,F367,'WWD Crashes'!M:M,\">0\")","v":0},{"$f":"MIN($B$16*SUMIF('Non-Crash Events'!B:B,F367,'Non-Crash Events'!R:R),50)","v":5},{"$f":"IF(VLOOKUP(F367,Intersections!A:E,5,FALSE)=\"Unique\",$B$22,IF(VLOOKUP(F367,Intersections!A:E,5,FALSE)=\"Split\",$B$23,0))","v":0},{"$f":"VLOOKUP(F367,Intersections!A:F,6,FALSE)","v":15400},4,{"$f":"VLOOKUP(F367,Intersections!A:G,7,FALSE)","v":810},1,0,{"$f":"_xlfn.IFS(VLOOKUP(F367,Intersections!A:H,8,FALSE)<=0.7,$B$30,VLOOKUP(F367,Intersections!A:H,8,FALSE)<=2,$B$31,TRUE,0)","v":0},{"$f":"_xlfn.IFS(VLOOKUP(F367,Intersections!A:D,4,FALSE)=\"Urban\",$B$30,TRUE,0)","v":0}]
[null,null,null,null,null,"US 218 NE RAMP & 220TH ST",{"$f":"COUNTIF('WWD Crashes'!C:C,F368)","v":0},{"$f":"COUNTIFS('Non-Crash Events'!B:B,F368,'Non-Crash Events'!R:R,\">0\")","v":1},9.5,null,null,null,null,null,null,null,null,null,null,null,null,null,null,null,null,null,{"$f":"SUMIFS('WWD Crashes'!G:G,'WWD Crashes'!C:C,F368)","v":0},{"$f":"_xlfn.IFS(AA368<0.125,$B$3,AA368<0.25,$B$4,AA368<0.5,$B$5,AA368<0.99,$B$6,AA368<1.5,$B$7,TRUE,$B$8)+$B$9*SUMIFS('WWD Crashes'!G:G,'WWD Crashes'!C:C,F368,'WWD Crashes'!L:L,\">0\")++$B$10*SUMIFS('WWD Crashes'!G:G,'WWD Crashes'!C:C,F368,'WWD Crashes'!M:M,\">0\")","v":0},{"$f":"MIN($B$16*SUMIF('Non-Crash Events'!B:B,F368,'Non-Crash Events'!R:R),50)","v":2.5},{"$f":"IF(VLOOKUP(F368,Intersections!A:E,5,FALSE)=\"Unique\",$B$22,IF(VLOOKUP(F368,Intersections!A:E,5,FALSE)=\"Split\",$B$23,0))","v":0},{"$f":"VLOOKUP(F368,Intersections!A:F,6,FALSE)","v":15000},4,{"$f":"VLOOKUP(F368,Intersections!A:G,7,FALSE)","v":2440},3,0,{"$f":"_xlfn.IFS(VLOOKUP(F368,Intersections!A:H,8,FALSE)<=0.7,$B$30,VLOOKUP(F368,Intersections!A:H,8,FALSE)<=2,$B$31,TRUE,0)","v":0},{"$f":"_xlfn.IFS(VLOOKUP(F368,Intersections!A:D,4,FALSE)=\"Urban\",$B$30,TRUE,0)","v":0}]
[null,null,null,null,null,"US 218 S & US 218 S TO 255TH ST E",{"$f":"COUNTIF('WWD Crashes'!C:C,F369)","v":0},{"$f":"COUNTIFS('Non-Crash Events'!B:B,F369,'Non-Crash Events'!R:R,\">0\")","v":0},9,null,null,null,null,null,null,null,null,null,null,null,null,null,null,null,null,null,{"$f":"SUMIFS('WWD Crashes'!G:G,'WWD Crashes'!C:C,F369)","v":0},{"$f":"_xlfn.IFS(AA369<0.125,$B$3,AA369<0.25,$B$4,AA369<0.5,$B$5,AA369<0.99,$B$6,AA369<1.5,$B$7,TRUE,$B$8)+$B$9*SUMIFS('WWD Crashes'!G:G,'WWD Crashes'!C:C,F369,'WWD Crashes'!L:L,\">0\")++$B$10*SUMIFS('WWD Crashes'!G:G,'WWD Crashes'!C:C,F369,'WWD Crashes'!M:M,\">0\")","v":0},{"$f":"MIN($B$16*SUMIF('Non-Crash Events'!B:B,F369,'Non-Crash Events'!R:R),50)","v":0},{"$f":"IF(VLOOKUP(F369,Intersections!A:E,5,FALSE)=\"Unique\",$B$22,IF(VLOOKUP(F369,Intersections!A:E,5,FALSE)=\"Split\",$B$23,0))","v":0},{"$f":"VLOOKUP(F369,Intersections!A:F,6,FALSE)","v":9300},2,{"$f":"VLOOKUP(F369,Intersections!A:G,7,FALSE)","v":1220},2,0,{"$f":"_xlfn.IFS(VLOOKUP(F369,Intersections!A:H,8,FALSE)<=0.7,$B$30,VLOOKUP(F369,Intersections!A:H,8,FALSE)<=2,$B$31,TRUE,0)","v":5},{"$f":"_xlfn.IFS(VLOOKUP(F369,Intersections!A:D,4,FALSE)=\"Urban\",$B$30,TRUE,0)","v":0}]
[null,null,null,null,null,"IOWA 14 S MAIN ST & US 34 SW RAMP CURV",{"$f":"COUNTIF('WWD Crashes'!C:C,F370)","v":0},{"$f":"COUNTIFS('Non-Crash Events'!B:B,F370,'Non-Crash Events'!R:R,\">0\")","v":0},9,null,null,null,null,null,null,null,null,null,null,null,null,null,null,null,null,null,{"$f":"SUMIFS('WWD Crashes'!G:G,'WWD Crashes'!C:C,F370)","v":0},{"$f":"_xlfn.IFS(AA370<0.125,$B$3,AA370<0.25,$B$4,AA370<0.5,$B$5,AA370<0.99,$B$6,AA370<1.5,$B$7,TRUE,$B$8)+$B$9*SUMIFS('WWD Crashes'!G:G,'WWD Crashes'!C:C,F370,'WWD Crashes'!L:L,\">0\")++$B$10*SUMIFS('WWD Crashes'!G:G,'WWD Crashes'!C:C,F370,'WWD Crashes'!M:M,\">0\")","v":0},{"$f":"MIN($B$16*SUMIF('Non-Crash Events'!B:B,F370,'Non-Crash Events'!R:R),50)","v":0},{"$f":"IF(VLOOKUP(F370,Intersections!A:E,5,FALSE)=\"Unique\",$B$22,IF(VLOOKUP(F370,Intersections!A:E,5,FALSE)=\"Split\",$B$23,0))","v":0},{"$f":"VLOOKUP(F370,Intersections!A:F,6,FALSE)","v":2450},1,{"$f":"VLOOKUP(F370,Intersections!A:G,7,FALSE)","v":2550},3,0,{"$f":"_xlfn.IFS(VLOOKUP(F370,Intersections!A:H,8,FALSE)<=0.7,$B$30,VLOOKUP(F370,Intersections!A:H,8,FALSE)<=2,$B$31,TRUE,0)","v":5},{"$f":"_xlfn.IFS(VLOOKUP(F370,Intersections!A:D,4,FALSE)=\"Urban\",$B$30,TRUE,0)","v":0}]
[null,null,null,null,null,"I 80 E & I 80 E TO HWY T-38 S N",{"$f":"COUNTIF('WWD Crashes'!C:C,F371)","v":0},{"$f":"COUNTIFS('Non-Crash Events'!B:B,F371,'Non-Crash Events'!R:R,\">0\")","v":0},9,null,null,null,null,null,null,null,null,null,null,null,null,null,null,null,null,null,{"$f":"SUMIFS('WWD Crashes'!G:G,'WWD Crashes'!C:C,F371)","v":0},{"$f":"_xlfn.IFS(AA371<0.125,$B$3,AA371<0.25,$B$4,AA371<0.5,$B$5,AA371<0.99,$B$6,AA371<1.5,$B$7,TRUE,$B$8)+$B$9*SUMIFS('WWD Crashes'!G:G,'WWD Crashes'!C:C,F371,'WWD Crashes'!L:L,\">0\")++$B$10*SUMIFS('WWD Crashes'!G:G,'WWD Crashes'!C:C,F371,'WWD Crashes'!M:M,\">0\")","v":0},{"$f":"MIN($B$16*SUMIF('Non-Crash Events'!B:B,F371,'Non-Crash Events'!R:R),50)","v":0},{"$f":"IF(VLOOKUP(F371,Intersections!A:E,5,FALSE)=\"Unique\",$B$22,IF(VLOOKUP(F371,Intersections!A:E,5,FALSE)=\"Split\",$B$23,0))","v":0},{"$f":"VLOOKUP(F371,Intersections!A:F,6,FALSE)","v":29500},7,{"$f":"VLOOKUP(F371,Intersections!A:G,7,FALSE)","v":1160},2,0,{"$f":"_xlfn.IFS(VLOOKUP(F371,Intersections!A:H,8,FALSE)<=0.7,$B$30,VLOOKUP(F371,Intersections!A:H,8,FALSE)<=2,$B$31,TRUE,0)","v":0},{"$f":"_xlfn.IFS(VLOOKUP(F371,Intersections!A:D,4,FALSE)=\"Urban\",$B$30,TRUE,0)","v":0}]
[null,null,null,null,null,"I 80 W & I 80 W TO B AVE N",{"$f":"COUNTIF('WWD Crashes'!C:C,F372)","v":0},{"$f":"COUNTIFS('Non-Crash Events'!B:B,F372,'Non-Crash Events'!R:R,\">0\")","v":0},9,null,null,null,null,null,null,null,null,null,null,null,null,null,null,null,null,null,{"$f":"SUMIFS('WWD Crashes'!G:G,'WWD Crashes'!C:C,F372)","v":0},{"$f":"_xlfn.IFS(AA372<0.125,$B$3,AA372<0.25,$B$4,AA372<0.5,$B$5,AA372<0.99,$B$6,AA372<1.5,$B$7,TRUE,$B$8)+$B$9*SUMIFS('WWD Crashes'!G:G,'WWD Crashes'!C:C,F372,'WWD Crashes'!L:L,\">0\")++$B$10*SUMIFS('WWD Crashes'!G:G,'WWD Crashes'!C:C,F372,'WWD Crashes'!M:M,\">0\")","v":0},{"$f":"MIN($B$16*SUMIF('Non-Crash Events'!B:B,F372,'Non-Crash Events'!R:R),50)","v":0},{"$f":"IF(VLOOKUP(F372,Intersections!A:E,5,FALSE)=\"Unique\",$B$22,IF(VLOOKUP(F372,Intersections!A:E,5,FALSE)=\"Split\",$B$23,0))","v":0},{"$f":"VLOOKUP(F372,Intersections!A:F,6,FALSE)","v":29000},7,{"$f":"VLOOKUP(F372,Intersections!A:G,7,FALSE)","v":1240},2,0,{"$f":"_xlfn.IFS(VLOOKUP(F372,Intersections!A:H,8,FALSE)<=0.7,$B$30,VLOOKUP(F372,Intersections!A:H,8,FALSE)<=2,$B$31,TRUE,0)","v":0},{"$f":"_xlfn.IFS(VLOOKUP(F372,Intersections!A:D,4,FALSE)=\"Urban\",$B$30,TRUE,0)","v":0}]
[null,null,null,null,null,"I 35 N & I 35 N TO IA 9 E",{"$f":"COUNTIF('WWD Crashes'!C:C,F373)","v":0},{"$f":"COUNTIFS('Non-Crash Events'!B:B,F373,'Non-Crash Events'!R:R,\">0\")","v":0},9,null,null,null,null,null,null,null,null,null,null,null,null,null,null,null,null,null,{"$f":"SUMIFS('WWD Crashes'!G:G,'WWD Crashes'!C:C,F373)","v":0},{"$f":"_xlfn.IFS(AA373<0.125,$B$3,AA373<0.25,$B$4,AA373<0.5,$B$5,AA373<0.99,$B$6,AA373<1.5,$B$7,TRUE,$B$8)+$B$9*SUMIFS('WWD Crashes'!G:G,'WWD Crashes'!C:C,F373,'WWD Crashes'!L:L,\">0\")++$B$10*SUMIFS('WWD Crashes'!G:G,'WWD Crashes'!C:C,F373,'WWD Crashes'!M:M,\">0\")","v":0},{"$f":"MIN($B$16*SUMIF('Non-Crash Events'!B:B,F373,'Non-Crash Events'!R:R),50)","v":0},{"$f":"IF(VLOOKUP(F373,Intersections!A:E,5,FALSE)=\"Unique\",$B$22,IF(VLOOKUP(F373,Intersections!A:E,5,FALSE)=\"Split\",$B$23,0))","v":0},{"$f":"VLOOKUP(F373,Intersections!A:F,6,FALSE)","v":21300},6,{"$f":"VLOOKUP(F373,Intersections!A:G,7,FALSE)","v":2420},3,0,{"$f":"_xlfn.IFS(VLOOKUP(F373,Intersections!A:H,8,FALSE)<=0.7,$B$30,VLOOKUP(F373,Intersections!A:H,8,FALSE)<=2,$B$31,TRUE,0)","v":0},{"$f":"_xlfn.IFS(VLOOKUP(F373,Intersections!A:D,4,FALSE)=\"Urban\",$B$30,TRUE,0)","v":0}]
[null,null,null,null,null,"I- 35 E Ramp & 220TH ST",{"$f":"COUNTIF('WWD Crashes'!C:C,F374)","v":0},{"$f":"COUNTIFS('Non-Crash Events'!B:B,F374,'Non-Crash Events'!R:R,\">0\")","v":0},9,null,null,null,null,null,null,null,null,null,null,null,null,null,null,null,null,null,{"$f":"SUMIFS('WWD Crashes'!G:G,'WWD Crashes'!C:C,F374)","v":0},{"$f":"_xlfn.IFS(AA374<0.125,$B$3,AA374<0.25,$B$4,AA374<0.5,$B$5,AA374<0.99,$B$6,AA374<1.5,$B$7,TRUE,$B$8)+$B$9*SUMIFS('WWD Crashes'!G:G,'WWD Crashes'!C:C,F374,'WWD Crashes'!L:L,\">0\")++$B$10*SUMIFS('WWD Crashes'!G:G,'WWD Crashes'!C:C,F374,'WWD Crashes'!M:M,\">0\")","v":0},{"$f":"MIN($B$16*SUMIF('Non-Crash Events'!B:B,F374,'Non-Crash Events'!R:R),50)","v":0},{"$f":"IF(VLOOKUP(F374,Intersections!A:E,5,FALSE)=\"Unique\",$B$22,IF(VLOOKUP(F374,Intersections!A:E,5,FALSE)=\"Split\",$B$23,0))","v":0},{"$f":"VLOOKUP(F374,Intersections!A:F,6,FALSE)","v":17800},5,{"$f":"VLOOKUP(F374,Intersections!A:G,7,FALSE)","v":3290},4,0,{"$f":"_xlfn.IFS(VLOOKUP(F374,Intersections!A:H,8,FALSE)<=0.7,$B$30,VLOOKUP(F374,Intersections!A:H,8,FALSE)<=2,$B$31,TRUE,0)","v":0},{"$f":"_xlfn.IFS(VLOOKUP(F374,Intersections!A:D,4,FALSE)=\"Urban\",$B$30,TRUE,0)","v":0}]
[null,null,null,null,null,"I 35 N & I 35 N TO VIRGINIA ST,E",{"$f":"COUNTIF('WWD Crashes'!C:C,F375)","v":0},{"$f":"COUNTIFS('Non-Crash Events'!B:B,F375,'Non-Crash Events'!R:R,\">0\")","v":0},9,null,null,null,null,null,null,null,null,null,null,null,null,null,null,null,null,null,{"$f":"SUMIFS('WWD Crashes'!G:G,'WWD Crashes'!C:C,F375)","v":0},{"$f":"_xlfn.IFS(AA375<0.125,$B$3,AA375<0.25,$B$4,AA375<0.5,$B$5,AA375<0.99,$B$6,AA375<1.5,$B$7,TRUE,$B$8)+$B$9*SUMIFS('WWD Crashes'!G:G,'WWD Crashes'!C:C,F375,'WWD Crashes'!L:L,\">0\")++$B$10*SUMIFS('WWD Crashes'!G:G,'WWD Crashes'!C:C,F375,'WWD Crashes'!M:M,\">0\")","v":0},{"$f":"MIN($B$16*SUMIF('Non-Crash Events'!B:B,F375,'Non-Crash Events'!R:R),50)","v":0},{"$f":"IF(VLOOKUP(F375,Intersections!A:E,5,FALSE)=\"Unique\",$B$22,IF(VLOOKUP(F375,Intersections!A:E,5,FALSE)=\"Split\",$B$23,0))","v":0},{"$f":"VLOOKUP(F375,Intersections!A:F,6,FALSE)","v":17800},5,{"$f":"VLOOKUP(F375,Intersections!A:G,7,FALSE)","v":2890},4,0,{"$f":"_xlfn.IFS(VLOOKUP(F375,Intersections!A:H,8,FALSE)<=0.7,$B$30,VLOOKUP(F375,Intersections!A:H,8,FALSE)<=2,$B$31,TRUE,0)","v":0},{"$f":"_xlfn.IFS(VLOOKUP(F375,Intersections!A:D,4,FALSE)=\"Urban\",$B$30,TRUE,0)","v":0}]
[null,null,null,null,null,"US 63 N & US 63 N TO IA 149 N",{"$f":"COUNTIF('WWD Crashes'!C:C,F376)","v":0},{"$f":"COUNTIFS('Non-Crash Events'!B:B,F376,'Non-Crash Events'!R:R,\">0\")","v":0},9,null,null,null,null,null,null,null,null,null,null,null,null,null,null,null,null,null,{"$f":"SUMIFS('WWD Crashes'!G:G,'WWD Crashes'!C:C,F376)","v":0},{"$f":"_xlfn.IFS(AA376<0.125,$B$3,AA376<0.25,$B$4,AA376<0.5,$B$5,AA376<0.99,$B$6,AA376<1.5,$B$7,TRUE,$B$8)+$B$9*SUMIFS('WWD Crashes'!G:G,'WWD Crashes'!C:C,F376,'WWD Crashes'!L:L,\">0\")++$B$10*SUMIFS('WWD Crashes'!G:G,'WWD Crashes'!C:C,F376,'WWD Crashes'!M:M,\">0\")","v":0},{"$f":"MIN($B$16*SUMIF('Non-Crash Events'!B:B,F376,'Non-Crash Events'!R:R),50)","v":0},{"$f":"IF(VLOOKUP(F376,Intersections!A:E,5,FALSE)=\"Unique\",$B$22,IF(VLOOKUP(F376,Intersections!A:E,5,FALSE)=\"Split\",$B$23,0))","v":0},{"$f":"VLOOKUP(F376,Intersections!A:F,6,FALSE)","v":8200},2,{"$f":"VLOOKUP(F376,Intersections!A:G,7,FALSE)","v":7700},7,0,{"$f":"_xlfn.IFS(VLOOKUP(F376,Intersections!A:H,8,FALSE)<=0.7,$B$30,VLOOKUP(F376,Intersections!A:H,8,FALSE)<=2,$B$31,TRUE,0)","v":0},{"$f":"_xlfn.IFS(VLOOKUP(F376,Intersections!A:D,4,FALSE)=\"Urban\",$B$30,TRUE,0)","v":0}]
[null,null,null,{"$f":"HYPERLINK(\"#'Weight Based'!\"&ADDRESS(5,11),\"Jump to Details\")","v":"Jump to Details"},null,"US- 20 N RAMP & F AVE",{"$f":"COUNTIF('WWD Crashes'!C:C,F377)","v":0},{"$f":"COUNTIFS('Non-Crash Events'!B:B,F377,'Non-Crash Events'!R:R,\">0\")","v":0},8,null,null,null,null,null,null,null,null,null,null,null,null,null,null,null,null,null,{"$f":"SUMIFS('WWD Crashes'!G:G,'WWD Crashes'!C:C,F377)","v":0},{"$f":"_xlfn.IFS(AA377<0.125,$B$3,AA377<0.25,$B$4,AA377<0.5,$B$5,AA377<0.99,$B$6,AA377<1.5,$B$7,TRUE,$B$8)+$B$9*SUMIFS('WWD Crashes'!G:G,'WWD Crashes'!C:C,F377,'WWD Crashes'!L:L,\">0\")++$B$10*SUMIFS('WWD Crashes'!G:G,'WWD Crashes'!C:C,F377,'WWD Crashes'!M:M,\">0\")","v":0},{"$f":"MIN($B$16*SUMIF('Non-Crash Events'!B:B,F377,'Non-Crash Events'!R:R),50)","v":0},{"$f":"IF(VLOOKUP(F377,Intersections!A:E,5,FALSE)=\"Unique\",$B$22,IF(VLOOKUP(F377,Intersections!A:E,5,FALSE)=\"Split\",$B$23,0))","v":0},{"$f":"VLOOKUP(F377,Intersections!A:F,6,FALSE)","v":9600},2,{"$f":"VLOOKUP(F377,Intersections!A:G,7,FALSE)","v":520},1,0,{"$f":"_xlfn.IFS(VLOOKUP(F377,Intersections!A:H,8,FALSE)<=0.7,$B$30,VLOOKUP(F377,Intersections!A:H,8,FALSE)<=2,$B$31,TRUE,0)","v":5},{"$f":"_xlfn.IFS(VLOOKUP(F377,Intersections!A:D,4,FALSE)=\"Urban\",$B$30,TRUE,0)","v":0}]
[null,null,null,null,null,"US- 30 NE Ramp & L AVE/BUS-30",{"$f":"COUNTIF('WWD Crashes'!C:C,F378)","v":0},{"$f":"COUNTIFS('Non-Crash Events'!B:B,F378,'Non-Crash Events'!R:R,\">0\")","v":0},8,null,null,null,null,null,null,null,null,null,null,null,null,null,null,null,null,null,{"$f":"SUMIFS('WWD Crashes'!G:G,'WWD Crashes'!C:C,F378)","v":0},{"$f":"_xlfn.IFS(AA378<0.125,$B$3,AA378<0.25,$B$4,AA378<0.5,$B$5,AA378<0.99,$B$6,AA378<1.5,$B$7,TRUE,$B$8)+$B$9*SUMIFS('WWD Crashes'!G:G,'WWD Crashes'!C:C,F378,'WWD Crashes'!L:L,\">0\")++$B$10*SUMIFS('WWD Crashes'!G:G,'WWD Crashes'!C:C,F378,'WWD Crashes'!M:M,\">0\")","v":0},{"$f":"MIN($B$16*SUMIF('Non-Crash Events'!B:B,F378,'Non-Crash Events'!R:R),50)","v":0},{"$f":"IF(VLOOKUP(F378,Intersections!A:E,5,FALSE)=\"Unique\",$B$22,IF(VLOOKUP(F378,Intersections!A:E,5,FALSE)=\"Split\",$B$23,0))","v":0},{"$f":"VLOOKUP(F378,Intersections!A:F,6,FALSE)","v":6600},1,{"$f":"VLOOKUP(F378,Intersections!A:G,7,FALSE)","v":1620},2,0,{"$f":"_xlfn.IFS(VLOOKUP(F378,Intersections!A:H,8,FALSE)<=0.7,$B$30,VLOOKUP(F378,Intersections!A:H,8,FALSE)<=2,$B$31,TRUE,0)","v":5},{"$f":"_xlfn.IFS(VLOOKUP(F378,Intersections!A:D,4,FALSE)=\"Urban\",$B$30,TRUE,0)","v":0}]
[null,null,null,null,null,"I- 29 E & 260TH ST",{"$f":"COUNTIF('WWD Crashes'!C:C,F379)","v":0},{"$f":"COUNTIFS('Non-Crash Events'!B:B,F379,'Non-Crash Events'!R:R,\">0\")","v":0},8,null,null,null,null,null,null,null,null,null,null,null,null,null,null,null,null,null,{"$f":"SUMIFS('WWD Crashes'!G:G,'WWD Crashes'!C:C,F379)","v":0},{"$f":"_xlfn.IFS(AA379<0.125,$B$3,AA379<0.25,$B$4,AA379<0.5,$B$5,AA379<0.99,$B$6,AA379<1.5,$B$7,TRUE,$B$8)+$B$9*SUMIFS('WWD Crashes'!G:G,'WWD Crashes'!C:C,F379,'WWD Crashes'!L:L,\">0\")++$B$10*SUMIFS('WWD Crashes'!G:G,'WWD Crashes'!C:C,F379,'WWD Crashes'!M:M,\">0\")","v":0},{"$f":"MIN($B$16*SUMIF('Non-Crash Events'!B:B,F379,'Non-Crash Events'!R:R),50)","v":0},{"$f":"IF(VLOOKUP(F379,Intersections!A:E,5,FALSE)=\"Unique\",$B$22,IF(VLOOKUP(F379,Intersections!A:E,5,FALSE)=\"Split\",$B$23,0))","v":0},{"$f":"VLOOKUP(F379,Intersections!A:F,6,FALSE)","v":20400},5,{"$f":"VLOOKUP(F379,Intersections!A:G,7,FALSE)","v":1830},3,0,{"$f":"_xlfn.IFS(VLOOKUP(F379,Intersections!A:H,8,FALSE)<=0.7,$B$30,VLOOKUP(F379,Intersections!A:H,8,FALSE)<=2,$B$31,TRUE,0)","v":0},{"$f":"_xlfn.IFS(VLOOKUP(F379,Intersections!A:D,4,FALSE)=\"Urban\",$B$30,TRUE,0)","v":0}]
[null,null,null,null,null,"US 20 N Ramp & Co Rd V51/S CANFIELD RD",{"$f":"COUNTIF('WWD Crashes'!C:C,F380)","v":0},{"$f":"COUNTIFS('Non-Crash Events'!B:B,F380,'Non-Crash Events'!R:R,\">0\")","v":0},8,null,null,null,null,null,null,null,null,null,null,null,null,null,null,null,null,null,{"$f":"SUMIFS('WWD Crashes'!G:G,'WWD Crashes'!C:C,F380)","v":0},{"$f":"_xlfn.IFS(AA380<0.125,$B$3,AA380<0.25,$B$4,AA380<0.5,$B$5,AA380<0.99,$B$6,AA380<1.5,$B$7,TRUE,$B$8)+$B$9*SUMIFS('WWD Crashes'!G:G,'WWD Crashes'!C:C,F380,'WWD Crashes'!L:L,\">0\")++$B$10*SUMIFS('WWD Crashes'!G:G,'WWD Crashes'!C:C,F380,'WWD Crashes'!M:M,\">0\")","v":0},{"$f":"MIN($B$16*SUMIF('Non-Crash Events'!B:B,F380,'Non-Crash Events'!R:R),50)","v":0},{"$f":"IF(VLOOKUP(F380,Intersections!A:E,5,FALSE)=\"Unique\",$B$22,IF(VLOOKUP(F380,Intersections!A:E,5,FALSE)=\"Split\",$B$23,0))","v":0},{"$f":"VLOOKUP(F380,Intersections!A:F,6,FALSE)","v":13300},4,{"$f":"VLOOKUP(F380,Intersections!A:G,7,FALSE)","v":2860},4,0,{"$f":"_xlfn.IFS(VLOOKUP(F380,Intersections!A:H,8,FALSE)<=0.7,$B$30,VLOOKUP(F380,Intersections!A:H,8,FALSE)<=2,$B$31,TRUE,0)","v":0},{"$f":"_xlfn.IFS(VLOOKUP(F380,Intersections!A:D,4,FALSE)=\"Urban\",$B$30,TRUE,0)","v":0}]
[null,null,null,null,null,"US 169 & US 20 N Ramp",{"$f":"COUNTIF('WWD Crashes'!C:C,F381)","v":0},{"$f":"COUNTIFS('Non-Crash Events'!B:B,F381,'Non-Crash Events'!R:R,\">0\")","v":0},8,null,null,null,null,null,null,null,null,null,null,null,null,null,null,null,null,null,{"$f":"SUMIFS('WWD Crashes'!G:G,'WWD Crashes'!C:C,F381)","v":0},{"$f":"_xlfn.IFS(AA381<0.125,$B$3,AA381<0.25,$B$4,AA381<0.5,$B$5,AA381<0.99,$B$6,AA381<1.5,$B$7,TRUE,$B$8)+$B$9*SUMIFS('WWD Crashes'!G:G,'WWD Crashes'!C:C,F381,'WWD Crashes'!L:L,\">0\")++$B$10*SUMIFS('WWD Crashes'!G:G,'WWD Crashes'!C:C,F381,'WWD Crashes'!M:M,\">0\")","v":0},{"$f":"MIN($B$16*SUMIF('Non-Crash Events'!B:B,F381,'Non-Crash Events'!R:R),50)","v":0},{"$f":"IF(VLOOKUP(F381,Intersections!A:E,5,FALSE)=\"Unique\",$B$22,IF(VLOOKUP(F381,Intersections!A:E,5,FALSE)=\"Split\",$B$23,0))","v":0},{"$f":"VLOOKUP(F381,Intersections!A:F,6,FALSE)","v":7700},1,{"$f":"VLOOKUP(F381,Intersections!A:G,7,FALSE)","v":7200},7,0,{"$f":"_xlfn.IFS(VLOOKUP(F381,Intersections!A:H,8,FALSE)<=0.7,$B$30,VLOOKUP(F381,Intersections!A:H,8,FALSE)<=2,$B$31,TRUE,0)","v":0},{"$f":"_xlfn.IFS(VLOOKUP(F381,Intersections!A:D,4,FALSE)=\"Urban\",$B$30,TRUE,0)","v":0}]
[null,null,null,null,null,"US-218 & US-18 E",{"$f":"COUNTIF('WWD Crashes'!C:C,F382)","v":0},{"$f":"COUNTIFS('Non-Crash Events'!B:B,F382,'Non-Crash Events'!R:R,\">0\")","v":0},8,null,null,null,null,null,null,null,null,null,null,null,null,null,null,null,null,null,{"$f":"SUMIFS('WWD Crashes'!G:G,'WWD Crashes'!C:C,F382)","v":0},{"$f":"_xlfn.IFS(AA382<0.125,$B$3,AA382<0.25,$B$4,AA382<0.5,$B$5,AA382<0.99,$B$6,AA382<1.5,$B$7,TRUE,$B$8)+$B$9*SUMIFS('WWD Crashes'!G:G,'WWD Crashes'!C:C,F382,'WWD Crashes'!L:L,\">0\")++$B$10*SUMIFS('WWD Crashes'!G:G,'WWD Crashes'!C:C,F382,'WWD Crashes'!M:M,\">0\")","v":0},{"$f":"MIN($B$16*SUMIF('Non-Crash Events'!B:B,F382,'Non-Crash Events'!R:R),50)","v":0},{"$f":"IF(VLOOKUP(F382,Intersections!A:E,5,FALSE)=\"Unique\",$B$22,IF(VLOOKUP(F382,Intersections!A:E,5,FALSE)=\"Split\",$B$23,0))","v":0},{"$f":"VLOOKUP(F382,Intersections!A:F,6,FALSE)","v":11200},3,{"$f":"VLOOKUP(F382,Intersections!A:G,7,FALSE)","v":3650},5,0,{"$f":"_xlfn.IFS(VLOOKUP(F382,Intersections!A:H,8,FALSE)<=0.7,$B$30,VLOOKUP(F382,Intersections!A:H,8,FALSE)<=2,$B$31,TRUE,0)","v":0},{"$f":"_xlfn.IFS(VLOOKUP(F382,Intersections!A:D,4,FALSE)=\"Urban\",$B$30,TRUE,0)","v":0}]
[null,null,null,null,null,"IA-141 & US-169",{"$f":"COUNTIF('WWD Crashes'!C:C,F383)","v":0},{"$f":"COUNTIFS('Non-Crash Events'!B:B,F383,'Non-Crash Events'!R:R,\">0\")","v":0},8,null,null,null,null,null,null,null,null,null,null,null,null,null,null,null,null,null,{"$f":"SUMIFS('WWD Crashes'!G:G,'WWD Crashes'!C:C,F383)","v":0},{"$f":"_xlfn.IFS(AA383<0.125,$B$3,AA383<0.25,$B$4,AA383<0.5,$B$5,AA383<0.99,$B$6,AA383<1.5,$B$7,TRUE,$B$8)+$B$9*SUMIFS('WWD Crashes'!G:G,'WWD Crashes'!C:C,F383,'WWD Crashes'!L:L,\">0\")++$B$10*SUMIFS('WWD Crashes'!G:G,'WWD Crashes'!C:C,F383,'WWD Crashes'!M:M,\">0\")","v":0},{"$f":"MIN($B$16*SUMIF('Non-Crash Events'!B:B,F383,'Non-Crash Events'!R:R),50)","v":0},{"$f":"IF(VLOOKUP(F383,Intersections!A:E,5,FALSE)=\"Unique\",$B$22,IF(VLOOKUP(F383,Intersections!A:E,5,FALSE)=\"Split\",$B$23,0))","v":0},{"$f":"VLOOKUP(F383,Intersections!A:F,6,FALSE)","v":10300},3,{"$f":"VLOOKUP(F383,Intersections!A:G,7,FALSE)","v":4000},5,0,{"$f":"_xlfn.IFS(VLOOKUP(F383,Intersections!A:H,8,FALSE)<=0.7,$B$30,VLOOKUP(F383,Intersections!A:H,8,FALSE)<=2,$B$31,TRUE,0)","v":0},{"$f":"_xlfn.IFS(VLOOKUP(F383,Intersections!A:D,4,FALSE)=\"Urban\",$B$30,TRUE,0)","v":0}]
[null,null,null,null,null,"US 61 SE RAMP & 303rd AVE",{"$f":"COUNTIF('WWD Crashes'!C:C,F384)","v":0},{"$f":"COUNTIFS('Non-Crash Events'!B:B,F384,'Non-Crash Events'!R:R,\">0\")","v":1},7.5,null,null,null,null,null,null,null,null,null,null,null,null,null,null,null,null,null,{"$f":"SUMIFS('WWD Crashes'!G:G,'WWD Crashes'!C:C,F384)","v":0},{"$f":"_xlfn.IFS(AA384<0.125,$B$3,AA384<0.25,$B$4,AA384<0.5,$B$5,AA384<0.99,$B$6,AA384<1.5,$B$7,TRUE,$B$8)+$B$9*SUMIFS('WWD Crashes'!G:G,'WWD Crashes'!C:C,F384,'WWD Crashes'!L:L,\">0\")++$B$10*SUMIFS('WWD Crashes'!G:G,'WWD Crashes'!C:C,F384,'WWD Crashes'!M:M,\">0\")","v":0},{"$f":"MIN($B$16*SUMIF('Non-Crash Events'!B:B,F384,'Non-Crash Events'!R:R),50)","v":2.5},{"$f":"IF(VLOOKUP(F384,Intersections!A:E,5,FALSE)=\"Unique\",$B$22,IF(VLOOKUP(F384,Intersections!A:E,5,FALSE)=\"Split\",$B$23,0))","v":0},{"$f":"VLOOKUP(F384,Intersections!A:F,6,FALSE)","v":6200},1,{"$f":"VLOOKUP(F384,Intersections!A:G,7,FALSE)","v":3030},4,0,{"$f":"_xlfn.IFS(VLOOKUP(F384,Intersections!A:H,8,FALSE)<=0.7,$B$30,VLOOKUP(F384,Intersections!A:H,8,FALSE)<=2,$B$31,TRUE,0)","v":0},{"$f":"_xlfn.IFS(VLOOKUP(F384,Intersections!A:D,4,FALSE)=\"Urban\",$B$30,TRUE,0)","v":0}]
[null,null,null,null,null,"US 18 E RAMP & 225TH ST",{"$f":"COUNTIF('WWD Crashes'!C:C,F385)","v":0},{"$f":"COUNTIFS('Non-Crash Events'!B:B,F385,'Non-Crash Events'!R:R,\">0\")","v":0},7,null,null,null,null,null,null,null,null,null,null,null,null,null,null,null,null,null,{"$f":"SUMIFS('WWD Crashes'!G:G,'WWD Crashes'!C:C,F385)","v":0},{"$f":"_xlfn.IFS(AA385<0.125,$B$3,AA385<0.25,$B$4,AA385<0.5,$B$5,AA385<0.99,$B$6,AA385<1.5,$B$7,TRUE,$B$8)+$B$9*SUMIFS('WWD Crashes'!G:G,'WWD Crashes'!C:C,F385,'WWD Crashes'!L:L,\">0\")++$B$10*SUMIFS('WWD Crashes'!G:G,'WWD Crashes'!C:C,F385,'WWD Crashes'!M:M,\">0\")","v":0},{"$f":"MIN($B$16*SUMIF('Non-Crash Events'!B:B,F385,'Non-Crash Events'!R:R),50)","v":0},{"$f":"IF(VLOOKUP(F385,Intersections!A:E,5,FALSE)=\"Unique\",$B$22,IF(VLOOKUP(F385,Intersections!A:E,5,FALSE)=\"Split\",$B$23,0))","v":0},{"$f":"VLOOKUP(F385,Intersections!A:F,6,FALSE)","v":5300},1,{"$f":"VLOOKUP(F385,Intersections!A:G,7,FALSE)","v":690},1,0,{"$f":"_xlfn.IFS(VLOOKUP(F385,Intersections!A:H,8,FALSE)<=0.7,$B$30,VLOOKUP(F385,Intersections!A:H,8,FALSE)<=2,$B$31,TRUE,0)","v":5},{"$f":"_xlfn.IFS(VLOOKUP(F385,Intersections!A:D,4,FALSE)=\"Urban\",$B$30,TRUE,0)","v":0}]
[null,null,null,null,null,"I- 35 E Ramp & 270TH ST",{"$f":"COUNTIF('WWD Crashes'!C:C,F386)","v":0},{"$f":"COUNTIFS('Non-Crash Events'!B:B,F386,'Non-Crash Events'!R:R,\">0\")","v":0},{"$f":"SUM(AB386,AC386,AD386,AF386,AH386,AI386,AJ386)","v":7},null,null,null,null,null,null,null,null,null,null,null,null,null,null,null,null,null,{"$f":"SUMIFS('WWD Crashes'!G:G,'WWD Crashes'!C:C,F386)","v":0},{"$f":"_xlfn.IFS(AA386<0.125,$B$3,AA386<0.25,$B$4,AA386<0.5,$B$5,AA386<0.99,$B$6,AA386<1.5,$B$7,TRUE,$B$8)+$B$9*SUMIFS('WWD Crashes'!G:G,'WWD Crashes'!C:C,F386,'WWD Crashes'!L:L,\">0\")++$B$10*SUMIFS('WWD Crashes'!G:G,'WWD Crashes'!C:C,F386,'WWD Crashes'!M:M,\">0\")","v":0},{"$f":"MIN($B$16*SUMIF('Non-Crash Events'!B:B,F386,'Non-Crash Events'!R:R),50)","v":0},{"$f":"IF(VLOOKUP(F386,Intersections!A:E,5,FALSE)=\"Unique\",$B$22,IF(VLOOKUP(F386,Intersections!A:E,5,FALSE)=\"Split\",$B$23,0))","v":0},{"$f":"VLOOKUP(F386,Intersections!A:F,6,FALSE)","v":24200},6,{"$f":"VLOOKUP(F386,Intersections!A:G,7,FALSE)","v":370},1,0,{"$f":"_xlfn.IFS(VLOOKUP(F386,Intersections!A:H,8,FALSE)<=0.7,$B$30,VLOOKUP(F386,Intersections!A:H,8,FALSE)<=2,$B$31,TRUE,0)","v":0},{"$f":"_xlfn.IFS(VLOOKUP(F386,Intersections!A:D,4,FALSE)=\"Urban\",$B$30,TRUE,0)","v":0}]
[null,null,null,null,null,"I 80 E & I 80 E TO IA 148 S",{"$f":"COUNTIF('WWD Crashes'!C:C,F387)","v":0},{"$f":"COUNTIFS('Non-Crash Events'!B:B,F387,'Non-Crash Events'!R:R,\">0\")","v":0},7,null,null,null,null,null,null,null,null,null,null,null,null,null,null,null,null,null,{"$f":"SUMIFS('WWD Crashes'!G:G,'WWD Crashes'!C:C,F387)","v":0},{"$f":"_xlfn.IFS(AA387<0.125,$B$3,AA387<0.25,$B$4,AA387<0.5,$B$5,AA387<0.99,$B$6,AA387<1.5,$B$7,TRUE,$B$8)+$B$9*SUMIFS('WWD Crashes'!G:G,'WWD Crashes'!C:C,F387,'WWD Crashes'!L:L,\">0\")++$B$10*SUMIFS('WWD Crashes'!G:G,'WWD Crashes'!C:C,F387,'WWD Crashes'!M:M,\">0\")","v":0},{"$f":"MIN($B$16*SUMIF('Non-Crash Events'!B:B,F387,'Non-Crash Events'!R:R),50)","v":0},{"$f":"IF(VLOOKUP(F387,Intersections!A:E,5,FALSE)=\"Unique\",$B$22,IF(VLOOKUP(F387,Intersections!A:E,5,FALSE)=\"Split\",$B$23,0))","v":0},{"$f":"VLOOKUP(F387,Intersections!A:F,6,FALSE)","v":22600},{"$f":"_xlfn.IFS(AE387<7821,1,AE387<9601,2,AE387<11931,3,AE387<15801,4,AE387<20401,5,AE387<24821,6,AE387<29771,7,AE387<36181,8,AE387<67181,9,TRUE,10)","v":6},{"$f":"VLOOKUP(F387,Intersections!A:G,7,FALSE)","v":750},{"$f":"_xlfn.IFS(AG387<827,1,AG387<1663,2,AG387<2590,3,AG387<3401,4,AG387<4671,5,AG387<6501,6,AG387<8401,7,AG387<1161,8,AG387<19401,9,TRUE,10)","v":1},{"$f":"IF(AND(AF387>8,AG387>8),5,0)","v":0},{"$f":"_xlfn.IFS(VLOOKUP(F387,Intersections!A:H,8,FALSE)<=0.7,$B$30,VLOOKUP(F387,Intersections!A:H,8,FALSE)<=2,$B$31,TRUE,0)","v":0},{"$f":"_xlfn.IFS(VLOOKUP(F387,Intersections!A:D,4,FALSE)=\"Urban\",$B$30,TRUE,0)","v":0}]
[null,null,null,null,null,"I- 29 E Ramp & ROSEWOOD RD",{"$f":"COUNTIF('WWD Crashes'!C:C,F388)","v":0},{"$f":"COUNTIFS('Non-Crash Events'!B:B,F388,'Non-Crash Events'!R:R,\">0\")","v":0},7,null,null,null,null,null,null,null,null,null,null,null,null,null,null,null,null,null,{"$f":"SUMIFS('WWD Crashes'!G:G,'WWD Crashes'!C:C,F388)","v":0},{"$f":"_xlfn.IFS(AA388<0.125,$B$3,AA388<0.25,$B$4,AA388<0.5,$B$5,AA388<0.99,$B$6,AA388<1.5,$B$7,TRUE,$B$8)+$B$9*SUMIFS('WWD Crashes'!G:G,'WWD Crashes'!C:C,F388,'WWD Crashes'!L:L,\">0\")++$B$10*SUMIFS('WWD Crashes'!G:G,'WWD Crashes'!C:C,F388,'WWD Crashes'!M:M,\">0\")","v":0},{"$f":"MIN($B$16*SUMIF('Non-Crash Events'!B:B,F388,'Non-Crash Events'!R:R),50)","v":0},{"$f":"IF(VLOOKUP(F388,Intersections!A:E,5,FALSE)=\"Unique\",$B$22,IF(VLOOKUP(F388,Intersections!A:E,5,FALSE)=\"Split\",$B$23,0))","v":0},{"$f":"VLOOKUP(F388,Intersections!A:F,6,FALSE)","v":22800},6,{"$f":"VLOOKUP(F388,Intersections!A:G,7,FALSE)","v":240},1,0,{"$f":"_xlfn.IFS(VLOOKUP(F388,Intersections!A:H,8,FALSE)<=0.7,$B$30,VLOOKUP(F388,Intersections!A:H,8,FALSE)<=2,$B$31,TRUE,0)","v":0},{"$f":"_xlfn.IFS(VLOOKUP(F388,Intersections!A:D,4,FALSE)=\"Urban\",$B$30,TRUE,0)","v":0}]
[null,null,null,null,null,"I 80 W & I 80 W TO 560TH ST, S",{"$f":"COUNTIF('WWD Crashes'!C:C,F389)","v":0},{"$f":"COUNTIFS('Non-Crash Events'!B:B,F389,'Non-Crash Events'!R:R,\">0\")","v":0},7,null,null,null,null,null,null,null,null,null,null,null,null,null,null,null,null,null,{"$f":"SUMIFS('WWD Crashes'!G:G,'WWD Crashes'!C:C,F389)","v":0},{"$f":"_xlfn.IFS(AA389<0.125,$B$3,AA389<0.25,$B$4,AA389<0.5,$B$5,AA389<0.99,$B$6,AA389<1.5,$B$7,TRUE,$B$8)+$B$9*SUMIFS('WWD Crashes'!G:G,'WWD Crashes'!C:C,F389,'WWD Crashes'!L:L,\">0\")++$B$10*SUMIFS('WWD Crashes'!G:G,'WWD Crashes'!C:C,F389,'WWD Crashes'!M:M,\">0\")","v":0},{"$f":"MIN($B$16*SUMIF('Non-Crash Events'!B:B,F389,'Non-Crash Events'!R:R),50)","v":0},{"$f":"IF(VLOOKUP(F389,Intersections!A:E,5,FALSE)=\"Unique\",$B$22,IF(VLOOKUP(F389,Intersections!A:E,5,FALSE)=\"Split\",$B$23,0))","v":0},{"$f":"VLOOKUP(F389,Intersections!A:F,6,FALSE)","v":22800},6,{"$f":"VLOOKUP(F389,Intersections!A:G,7,FALSE)","v":180},1,0,{"$f":"_xlfn.IFS(VLOOKUP(F389,Intersections!A:H,8,FALSE)<=0.7,$B$30,VLOOKUP(F389,Intersections!A:H,8,FALSE)<=2,$B$31,TRUE,0)","v":0},{"$f":"_xlfn.IFS(VLOOKUP(F389,Intersections!A:D,4,FALSE)=\"Urban\",$B$30,TRUE,0)","v":0}]
[null,null,null,null,null,"I 80 W TO 690TH ST, N",{"$f":"COUNTIF('WWD Crashes'!C:C,F390)","v":0},{"$f":"COUNTIFS('Non-Crash Events'!B:B,F390,'Non-Crash Events'!R:R,\">0\")","v":0},7,null,null,null,null,null,null,null,null,null,null,null,null,null,null,null,null,null,{"$f":"SUMIFS('WWD Crashes'!G:G,'WWD Crashes'!C:C,F390)","v":0},{"$f":"_xlfn.IFS(AA390<0.125,$B$3,AA390<0.25,$B$4,AA390<0.5,$B$5,AA390<0.99,$B$6,AA390<1.5,$B$7,TRUE,$B$8)+$B$9*SUMIFS('WWD Crashes'!G:G,'WWD Crashes'!C:C,F390,'WWD Crashes'!L:L,\">0\")++$B$10*SUMIFS('WWD Crashes'!G:G,'WWD Crashes'!C:C,F390,'WWD Crashes'!M:M,\">0\")","v":0},{"$f":"MIN($B$16*SUMIF('Non-Crash Events'!B:B,F390,'Non-Crash Events'!R:R),50)","v":0},{"$f":"IF(VLOOKUP(F390,Intersections!A:E,5,FALSE)=\"Unique\",$B$22,IF(VLOOKUP(F390,Intersections!A:E,5,FALSE)=\"Split\",$B$23,0))","v":0},{"$f":"VLOOKUP(F390,Intersections!A:F,6,FALSE)","v":22600},6,{"$f":"VLOOKUP(F390,Intersections!A:G,7,FALSE)","v":210},1,0,{"$f":"_xlfn.IFS(VLOOKUP(F390,Intersections!A:H,8,FALSE)<=0.7,$B$30,VLOOKUP(F390,Intersections!A:H,8,FALSE)<=2,$B$31,TRUE,0)","v":0},{"$f":"_xlfn.IFS(VLOOKUP(F390,Intersections!A:D,4,FALSE)=\"Urban\",$B$30,TRUE,0)","v":0}]
[null,null,null,null,null,"I- 35 NE RAMP & TRURO PAVEMENT",{"$f":"COUNTIF('WWD Crashes'!C:C,F391)","v":0},{"$f":"COUNTIFS('Non-Crash Events'!B:B,F391,'Non-Crash Events'!R:R,\">0\")","v":0},7,null,null,null,null,null,null,null,null,null,null,null,null,null,null,null,null,null,{"$f":"SUMIFS('WWD Crashes'!G:G,'WWD Crashes'!C:C,F391)","v":0},{"$f":"_xlfn.IFS(AA391<0.125,$B$3,AA391<0.25,$B$4,AA391<0.5,$B$5,AA391<0.99,$B$6,AA391<1.5,$B$7,TRUE,$B$8)+$B$9*SUMIFS('WWD Crashes'!G:G,'WWD Crashes'!C:C,F391,'WWD Crashes'!L:L,\">0\")++$B$10*SUMIFS('WWD Crashes'!G:G,'WWD Crashes'!C:C,F391,'WWD Crashes'!M:M,\">0\")","v":0},{"$f":"MIN($B$16*SUMIF('Non-Crash Events'!B:B,F391,'Non-Crash Events'!R:R),50)","v":0},{"$f":"IF(VLOOKUP(F391,Intersections!A:E,5,FALSE)=\"Unique\",$B$22,IF(VLOOKUP(F391,Intersections!A:E,5,FALSE)=\"Split\",$B$23,0))","v":0},{"$f":"VLOOKUP(F391,Intersections!A:F,6,FALSE)","v":17600},5,{"$f":"VLOOKUP(F391,Intersections!A:G,7,FALSE)","v":1060},2,0,{"$f":"_xlfn.IFS(VLOOKUP(F391,Intersections!A:H,8,FALSE)<=0.7,$B$30,VLOOKUP(F391,Intersections!A:H,8,FALSE)<=2,$B$31,TRUE,0)","v":0},{"$f":"_xlfn.IFS(VLOOKUP(F391,Intersections!A:D,4,FALSE)=\"Urban\",$B$30,TRUE,0)","v":0}]
[null,null,null,null,null,"IA-35 East RAMP & 210th st",{"$f":"COUNTIF('WWD Crashes'!C:C,F392)","v":0},{"$f":"COUNTIFS('Non-Crash Events'!B:B,F392,'Non-Crash Events'!R:R,\">0\")","v":0},7,null,null,null,null,null,null,null,null,null,null,null,null,null,null,null,null,null,{"$f":"SUMIFS('WWD Crashes'!G:G,'WWD Crashes'!C:C,F392)","v":0},{"$f":"_xlfn.IFS(AA392<0.125,$B$3,AA392<0.25,$B$4,AA392<0.5,$B$5,AA392<0.99,$B$6,AA392<1.5,$B$7,TRUE,$B$8)+$B$9*SUMIFS('WWD Crashes'!G:G,'WWD Crashes'!C:C,F392,'WWD Crashes'!L:L,\">0\")++$B$10*SUMIFS('WWD Crashes'!G:G,'WWD Crashes'!C:C,F392,'WWD Crashes'!M:M,\">0\")","v":0},{"$f":"MIN($B$16*SUMIF('Non-Crash Events'!B:B,F392,'Non-Crash Events'!R:R),50)","v":0},{"$f":"IF(VLOOKUP(F392,Intersections!A:E,5,FALSE)=\"Unique\",$B$22,IF(VLOOKUP(F392,Intersections!A:E,5,FALSE)=\"Split\",$B$23,0))","v":0},{"$f":"VLOOKUP(F392,Intersections!A:F,6,FALSE)","v":17600},5,{"$f":"VLOOKUP(F392,Intersections!A:G,7,FALSE)","v":980},2,0,{"$f":"_xlfn.IFS(VLOOKUP(F392,Intersections!A:H,8,FALSE)<=0.7,$B$30,VLOOKUP(F392,Intersections!A:H,8,FALSE)<=2,$B$31,TRUE,0)","v":0},{"$f":"_xlfn.IFS(VLOOKUP(F392,Intersections!A:D,4,FALSE)=\"Urban\",$B$30,TRUE,0)","v":0}]
[null,null,null,null,null,"I-380 NE RAMP & BLACKHAWK-BUCHANAN AVE",{"$f":"COUNTIF('WWD Crashes'!C:C,F393)","v":0},{"$f":"COUNTIFS('Non-Crash Events'!B:B,F393,'Non-Crash Events'!R:R,\">0\")","v":0},7,null,null,null,null,null,null,null,null,null,null,null,null,null,null,null,null,null,{"$f":"SUMIFS('WWD Crashes'!G:G,'WWD Crashes'!C:C,F393)","v":0},{"$f":"_xlfn.IFS(AA393<0.125,$B$3,AA393<0.25,$B$4,AA393<0.5,$B$5,AA393<0.99,$B$6,AA393<1.5,$B$7,TRUE,$B$8)+$B$9*SUMIFS('WWD Crashes'!G:G,'WWD Crashes'!C:C,F393,'WWD Crashes'!L:L,\">0\")++$B$10*SUMIFS('WWD Crashes'!G:G,'WWD Crashes'!C:C,F393,'WWD Crashes'!M:M,\">0\")","v":0},{"$f":"MIN($B$16*SUMIF('Non-Crash Events'!B:B,F393,'Non-Crash Events'!R:R),50)","v":0},{"$f":"IF(VLOOKUP(F393,Intersections!A:E,5,FALSE)=\"Unique\",$B$22,IF(VLOOKUP(F393,Intersections!A:E,5,FALSE)=\"Split\",$B$23,0))","v":0},{"$f":"VLOOKUP(F393,Intersections!A:F,6,FALSE)","v":17300},5,{"$f":"VLOOKUP(F393,Intersections!A:G,7,FALSE)","v":1080},2,0,{"$f":"_xlfn.IFS(VLOOKUP(F393,Intersections!A:H,8,FALSE)<=0.7,$B$30,VLOOKUP(F393,Intersections!A:H,8,FALSE)<=2,$B$31,TRUE,0)","v":0},{"$f":"_xlfn.IFS(VLOOKUP(F393,Intersections!A:D,4,FALSE)=\"Urban\",$B$30,TRUE,0)","v":0}]
[null,null,null,null,null,"IA-35 East RAMP & 250th st",{"$f":"COUNTIF('WWD Crashes'!C:C,F394)","v":0},{"$f":"COUNTIFS('Non-Crash Events'!B:B,F394,'Non-Crash Events'!R:R,\">0\")","v":0},7,null,null,null,null,null,null,null,null,null,null,null,null,null,null,null,null,null,{"$f":"SUMIFS('WWD Crashes'!G:G,'WWD Crashes'!C:C,F394)","v":0},{"$f":"_xlfn.IFS(AA394<0.125,$B$3,AA394<0.25,$B$4,AA394<0.5,$B$5,AA394<0.99,$B$6,AA394<1.5,$B$7,TRUE,$B$8)+$B$9*SUMIFS('WWD Crashes'!G:G,'WWD Crashes'!C:C,F394,'WWD Crashes'!L:L,\">0\")++$B$10*SUMIFS('WWD Crashes'!G:G,'WWD Crashes'!C:C,F394,'WWD Crashes'!M:M,\">0\")","v":0},{"$f":"MIN($B$16*SUMIF('Non-Crash Events'!B:B,F394,'Non-Crash Events'!R:R),50)","v":0},{"$f":"IF(VLOOKUP(F394,Intersections!A:E,5,FALSE)=\"Unique\",$B$22,IF(VLOOKUP(F394,Intersections!A:E,5,FALSE)=\"Split\",$B$23,0))","v":0},{"$f":"VLOOKUP(F394,Intersections!A:F,6,FALSE)","v":16800},5,{"$f":"VLOOKUP(F394,Intersections!A:G,7,FALSE)","v":1030},2,0,{"$f":"_xlfn.IFS(VLOOKUP(F394,Intersections!A:H,8,FALSE)<=0.7,$B$30,VLOOKUP(F394,Intersections!A:H,8,FALSE)<=2,$B$31,TRUE,0)","v":0},{"$f":"_xlfn.IFS(VLOOKUP(F394,Intersections!A:D,4,FALSE)=\"Urban\",$B$30,TRUE,0)","v":0}]
[null,null,null,null,null,"I- 35 E Ramp & 190TH ST",{"$f":"COUNTIF('WWD Crashes'!C:C,F395)","v":0},{"$f":"COUNTIFS('Non-Crash Events'!B:B,F395,'Non-Crash Events'!R:R,\">0\")","v":0},7,null,null,null,null,null,null,null,null,null,null,null,null,null,null,null,null,null,{"$f":"SUMIFS('WWD Crashes'!G:G,'WWD Crashes'!C:C,F395)","v":0},{"$f":"_xlfn.IFS(AA395<0.125,$B$3,AA395<0.25,$B$4,AA395<0.5,$B$5,AA395<0.99,$B$6,AA395<1.5,$B$7,TRUE,$B$8)+$B$9*SUMIFS('WWD Crashes'!G:G,'WWD Crashes'!C:C,F395,'WWD Crashes'!L:L,\">0\")++$B$10*SUMIFS('WWD Crashes'!G:G,'WWD Crashes'!C:C,F395,'WWD Crashes'!M:M,\">0\")","v":0},{"$f":"MIN($B$16*SUMIF('Non-Crash Events'!B:B,F395,'Non-Crash Events'!R:R),50)","v":0},{"$f":"IF(VLOOKUP(F395,Intersections!A:E,5,FALSE)=\"Unique\",$B$22,IF(VLOOKUP(F395,Intersections!A:E,5,FALSE)=\"Split\",$B$23,0))","v":0},{"$f":"VLOOKUP(F395,Intersections!A:F,6,FALSE)","v":16200},5,{"$f":"VLOOKUP(F395,Intersections!A:G,7,FALSE)","v":910},2,0,{"$f":"_xlfn.IFS(VLOOKUP(F395,Intersections!A:H,8,FALSE)<=0.7,$B$30,VLOOKUP(F395,Intersections!A:H,8,FALSE)<=2,$B$31,TRUE,0)","v":0},{"$f":"_xlfn.IFS(VLOOKUP(F395,Intersections!A:D,4,FALSE)=\"Urban\",$B$30,TRUE,0)","v":0}]
[null,null,null,null,null,"US- 20 N Ramp, Loop & 1ST ST/U AVENUE",{"$f":"COUNTIF('WWD Crashes'!C:C,F396)","v":1},{"$f":"COUNTIFS('Non-Crash Events'!B:B,F396,'Non-Crash Events'!R:R,\">0\")","v":0},17,null,null,null,null,null,null,null,null,null,null,null,null,null,null,null,null,null,{"$f":"SUMIFS('WWD Crashes'!G:G,'WWD Crashes'!C:C,F396)","v":0.33},{"$f":"_xlfn.IFS(AA396<0.125,$B$3,AA396<0.25,$B$4,AA396<0.5,$B$5,AA396<0.99,$B$6,AA396<1.5,$B$7,TRUE,$B$8)+$B$9*SUMIFS('WWD Crashes'!G:G,'WWD Crashes'!C:C,F396,'WWD Crashes'!L:L,\">0\")++$B$10*SUMIFS('WWD Crashes'!G:G,'WWD Crashes'!C:C,F396,'WWD Crashes'!M:M,\">0\")","v":10},{"$f":"MIN($B$16*SUMIF('Non-Crash Events'!B:B,F396,'Non-Crash Events'!R:R),50)","v":0},{"$f":"IF(VLOOKUP(F396,Intersections!A:E,5,FALSE)=\"Unique\",$B$22,IF(VLOOKUP(F396,Intersections!A:E,5,FALSE)=\"Split\",$B$23,0))","v":0},{"$f":"VLOOKUP(F396,Intersections!A:F,6,FALSE)","v":14000},4,{"$f":"VLOOKUP(F396,Intersections!A:G,7,FALSE)","v":2370},3,0,{"$f":"_xlfn.IFS(VLOOKUP(F396,Intersections!A:H,8,FALSE)<=0.7,$B$30,VLOOKUP(F396,Intersections!A:H,8,FALSE)<=2,$B$31,TRUE,0)","v":0},{"$f":"_xlfn.IFS(VLOOKUP(F396,Intersections!A:D,4,FALSE)=\"Urban\",$B$30,TRUE,0)","v":0}]
[null,null,null,{"$f":"HYPERLINK(\"#'Weight Based'!\"&ADDRESS(5,11),\"Jump to Details\")","v":"Jump to Details"},null,"US 34 W & US 34 W TO IA 16 E",{"$f":"COUNTIF('WWD Crashes'!C:C,F397)","v":0},{"$f":"COUNTIFS('Non-Crash Events'!B:B,F397,'Non-Crash Events'!R:R,\">0\")","v":0},7,null,null,null,null,null,null,null,null,null,null,null,null,null,null,null,null,null,{"$f":"SUMIFS('WWD Crashes'!G:G,'WWD Crashes'!C:C,F397)","v":0},{"$f":"_xlfn.IFS(AA397<0.125,$B$3,AA397<0.25,$B$4,AA397<0.5,$B$5,AA397<0.99,$B$6,AA397<1.5,$B$7,TRUE,$B$8)+$B$9*SUMIFS('WWD Crashes'!G:G,'WWD Crashes'!C:C,F397,'WWD Crashes'!L:L,\">0\")++$B$10*SUMIFS('WWD Crashes'!G:G,'WWD Crashes'!C:C,F397,'WWD Crashes'!M:M,\">0\")","v":0},{"$f":"MIN($B$16*SUMIF('Non-Crash Events'!B:B,F397,'Non-Crash Events'!R:R),50)","v":0},{"$f":"IF(VLOOKUP(F397,Intersections!A:E,5,FALSE)=\"Unique\",$B$22,IF(VLOOKUP(F397,Intersections!A:E,5,FALSE)=\"Split\",$B$23,0))","v":0},{"$f":"VLOOKUP(F397,Intersections!A:F,6,FALSE)","v":9800},3,{"$f":"VLOOKUP(F397,Intersections!A:G,7,FALSE)","v":2640},4,0,{"$f":"_xlfn.IFS(VLOOKUP(F397,Intersections!A:H,8,FALSE)<=0.7,$B$30,VLOOKUP(F397,Intersections!A:H,8,FALSE)<=2,$B$31,TRUE,0)","v":0},{"$f":"_xlfn.IFS(VLOOKUP(F397,Intersections!A:D,4,FALSE)=\"Urban\",$B$30,TRUE,0)","v":0}]
[null,null,null,null,null,"IA-100 & E Ave NW",{"$f":"COUNTIF('WWD Crashes'!C:C,F398)","v":0},{"$f":"COUNTIFS('Non-Crash Events'!B:B,F398,'Non-Crash Events'!R:R,\">0\")","v":1},6.5,null,null,null,null,null,null,null,null,null,null,null,null,null,null,null,null,null,{"$f":"SUMIFS('WWD Crashes'!G:G,'WWD Crashes'!C:C,F398)","v":0},{"$f":"_xlfn.IFS(AA398<0.125,$B$3,AA398<0.25,$B$4,AA398<0.5,$B$5,AA398<0.99,$B$6,AA398<1.5,$B$7,TRUE,$B$8)+$B$9*SUMIFS('WWD Crashes'!G:G,'WWD Crashes'!C:C,F398,'WWD Crashes'!L:L,\">0\")++$B$10*SUMIFS('WWD Crashes'!G:G,'WWD Crashes'!C:C,F398,'WWD Crashes'!M:M,\">0\")","v":0},{"$f":"MIN($B$16*SUMIF('Non-Crash Events'!B:B,F398,'Non-Crash Events'!R:R),50)","v":2.5},{"$f":"IF(VLOOKUP(F398,Intersections!A:E,5,FALSE)=\"Unique\",$B$22,IF(VLOOKUP(F398,Intersections!A:E,5,FALSE)=\"Split\",$B$23,0))","v":0},{"$f":"VLOOKUP(F398,Intersections!A:F,6,FALSE)","v":8100},2,{"$f":"VLOOKUP(F398,Intersections!A:G,7,FALSE)","v":1080},2,0,{"$f":"_xlfn.IFS(VLOOKUP(F398,Intersections!A:H,8,FALSE)<=0.7,$B$30,VLOOKUP(F398,Intersections!A:H,8,FALSE)<=2,$B$31,TRUE,0)","v":0},{"$f":"_xlfn.IFS(VLOOKUP(F398,Intersections!A:D,4,FALSE)=\"Urban\",$B$30,TRUE,0)","v":10}]
[null,null,null,null,null,"IA-35 HWY East ramp & 410th st",{"$f":"COUNTIF('WWD Crashes'!C:C,F399)","v":0},{"$f":"COUNTIFS('Non-Crash Events'!B:B,F399,'Non-Crash Events'!R:R,\">0\")","v":0},6,null,null,null,null,null,null,null,null,null,null,null,null,null,null,null,null,null,{"$f":"SUMIFS('WWD Crashes'!G:G,'WWD Crashes'!C:C,F399)","v":0},{"$f":"_xlfn.IFS(AA399<0.125,$B$3,AA399<0.25,$B$4,AA399<0.5,$B$5,AA399<0.99,$B$6,AA399<1.5,$B$7,TRUE,$B$8)+$B$9*SUMIFS('WWD Crashes'!G:G,'WWD Crashes'!C:C,F399,'WWD Crashes'!L:L,\">0\")++$B$10*SUMIFS('WWD Crashes'!G:G,'WWD Crashes'!C:C,F399,'WWD Crashes'!M:M,\">0\")","v":0},{"$f":"MIN($B$16*SUMIF('Non-Crash Events'!B:B,F399,'Non-Crash Events'!R:R),50)","v":0},{"$f":"IF(VLOOKUP(F399,Intersections!A:E,5,FALSE)=\"Unique\",$B$22,IF(VLOOKUP(F399,Intersections!A:E,5,FALSE)=\"Split\",$B$23,0))","v":0},{"$f":"VLOOKUP(F399,Intersections!A:F,6,FALSE)","v":19200},5,{"$f":"VLOOKUP(F399,Intersections!A:G,7,FALSE)","v":760},1,0,{"$f":"_xlfn.IFS(VLOOKUP(F399,Intersections!A:H,8,FALSE)<=0.7,$B$30,VLOOKUP(F399,Intersections!A:H,8,FALSE)<=2,$B$31,TRUE,0)","v":0},{"$f":"_xlfn.IFS(VLOOKUP(F399,Intersections!A:D,4,FALSE)=\"Urban\",$B$30,TRUE,0)","v":0}]
[null,null,null,null,null,"I 35 S & I 35 S TO SHAW ST,E",{"$f":"COUNTIF('WWD Crashes'!C:C,F400)","v":0},{"$f":"COUNTIFS('Non-Crash Events'!B:B,F400,'Non-Crash Events'!R:R,\">0\")","v":0},6,null,null,null,null,null,null,null,null,null,null,null,null,null,null,null,null,null,{"$f":"SUMIFS('WWD Crashes'!G:G,'WWD Crashes'!C:C,F400)","v":0},{"$f":"_xlfn.IFS(AA400<0.125,$B$3,AA400<0.25,$B$4,AA400<0.5,$B$5,AA400<0.99,$B$6,AA400<1.5,$B$7,TRUE,$B$8)+$B$9*SUMIFS('WWD Crashes'!G:G,'WWD Crashes'!C:C,F400,'WWD Crashes'!L:L,\">0\")++$B$10*SUMIFS('WWD Crashes'!G:G,'WWD Crashes'!C:C,F400,'WWD Crashes'!M:M,\">0\")","v":0},{"$f":"MIN($B$16*SUMIF('Non-Crash Events'!B:B,F400,'Non-Crash Events'!R:R),50)","v":0},{"$f":"IF(VLOOKUP(F400,Intersections!A:E,5,FALSE)=\"Unique\",$B$22,IF(VLOOKUP(F400,Intersections!A:E,5,FALSE)=\"Split\",$B$23,0))","v":0},{"$f":"VLOOKUP(F400,Intersections!A:F,6,FALSE)","v":18600},5,{"$f":"VLOOKUP(F400,Intersections!A:G,7,FALSE)","v":680},1,0,{"$f":"_xlfn.IFS(VLOOKUP(F400,Intersections!A:H,8,FALSE)<=0.7,$B$30,VLOOKUP(F400,Intersections!A:H,8,FALSE)<=2,$B$31,TRUE,0)","v":0},{"$f":"_xlfn.IFS(VLOOKUP(F400,Intersections!A:D,4,FALSE)=\"Urban\",$B$30,TRUE,0)","v":0}]
[null,null,null,null,null,"IA-35 East RAMP & 150TH ST",{"$f":"COUNTIF('WWD Crashes'!C:C,F401)","v":0},{"$f":"COUNTIFS('Non-Crash Events'!B:B,F401,'Non-Crash Events'!R:R,\">0\")","v":0},6,null,null,null,null,null,null,null,null,null,null,null,null,null,null,null,null,null,{"$f":"SUMIFS('WWD Crashes'!G:G,'WWD Crashes'!C:C,F401)","v":0},{"$f":"_xlfn.IFS(AA401<0.125,$B$3,AA401<0.25,$B$4,AA401<0.5,$B$5,AA401<0.99,$B$6,AA401<1.5,$B$7,TRUE,$B$8)+$B$9*SUMIFS('WWD Crashes'!G:G,'WWD Crashes'!C:C,F401,'WWD Crashes'!L:L,\">0\")++$B$10*SUMIFS('WWD Crashes'!G:G,'WWD Crashes'!C:C,F401,'WWD Crashes'!M:M,\">0\")","v":0},{"$f":"MIN($B$16*SUMIF('Non-Crash Events'!B:B,F401,'Non-Crash Events'!R:R),50)","v":0},{"$f":"IF(VLOOKUP(F401,Intersections!A:E,5,FALSE)=\"Unique\",$B$22,IF(VLOOKUP(F401,Intersections!A:E,5,FALSE)=\"Split\",$B$23,0))","v":0},{"$f":"VLOOKUP(F401,Intersections!A:F,6,FALSE)","v":17300},5,{"$f":"VLOOKUP(F401,Intersections!A:G,7,FALSE)","v":720},1,0,{"$f":"_xlfn.IFS(VLOOKUP(F401,Intersections!A:H,8,FALSE)<=0.7,$B$30,VLOOKUP(F401,Intersections!A:H,8,FALSE)<=2,$B$31,TRUE,0)","v":0},{"$f":"_xlfn.IFS(VLOOKUP(F401,Intersections!A:D,4,FALSE)=\"Urban\",$B$30,TRUE,0)","v":0}]
[null,null,null,null,null,"IA-35 East RAMP & 125th st",{"$f":"COUNTIF('WWD Crashes'!C:C,F402)","v":0},{"$f":"COUNTIFS('Non-Crash Events'!B:B,F402,'Non-Crash Events'!R:R,\">0\")","v":0},6,null,null,null,null,null,null,null,null,null,null,null,null,null,null,null,null,null,{"$f":"SUMIFS('WWD Crashes'!G:G,'WWD Crashes'!C:C,F402)","v":0},{"$f":"_xlfn.IFS(AA402<0.125,$B$3,AA402<0.25,$B$4,AA402<0.5,$B$5,AA402<0.99,$B$6,AA402<1.5,$B$7,TRUE,$B$8)+$B$9*SUMIFS('WWD Crashes'!G:G,'WWD Crashes'!C:C,F402,'WWD Crashes'!L:L,\">0\")++$B$10*SUMIFS('WWD Crashes'!G:G,'WWD Crashes'!C:C,F402,'WWD Crashes'!M:M,\">0\")","v":0},{"$f":"MIN($B$16*SUMIF('Non-Crash Events'!B:B,F402,'Non-Crash Events'!R:R),50)","v":0},{"$f":"IF(VLOOKUP(F402,Intersections!A:E,5,FALSE)=\"Unique\",$B$22,IF(VLOOKUP(F402,Intersections!A:E,5,FALSE)=\"Split\",$B$23,0))","v":0},{"$f":"VLOOKUP(F402,Intersections!A:F,6,FALSE)","v":17100},5,{"$f":"VLOOKUP(F402,Intersections!A:G,7,FALSE)","v":230},1,0,{"$f":"_xlfn.IFS(VLOOKUP(F402,Intersections!A:H,8,FALSE)<=0.7,$B$30,VLOOKUP(F402,Intersections!A:H,8,FALSE)<=2,$B$31,TRUE,0)","v":0},{"$f":"_xlfn.IFS(VLOOKUP(F402,Intersections!A:D,4,FALSE)=\"Urban\",$B$30,TRUE,0)","v":0}]
[null,null,null,null,null,"IA-35 East RAMP & 190th St",{"$f":"COUNTIF('WWD Crashes'!C:C,F403)","v":0},{"$f":"COUNTIFS('Non-Crash Events'!B:B,F403,'Non-Crash Events'!R:R,\">0\")","v":0},6,null,null,null,null,null,null,null,null,null,null,null,null,null,null,null,null,null,{"$f":"SUMIFS('WWD Crashes'!G:G,'WWD Crashes'!C:C,F403)","v":0},{"$f":"_xlfn.IFS(AA403<0.125,$B$3,AA403<0.25,$B$4,AA403<0.5,$B$5,AA403<0.99,$B$6,AA403<1.5,$B$7,TRUE,$B$8)+$B$9*SUMIFS('WWD Crashes'!G:G,'WWD Crashes'!C:C,F403,'WWD Crashes'!L:L,\">0\")++$B$10*SUMIFS('WWD Crashes'!G:G,'WWD Crashes'!C:C,F403,'WWD Crashes'!M:M,\">0\")","v":0},{"$f":"MIN($B$16*SUMIF('Non-Crash Events'!B:B,F403,'Non-Crash Events'!R:R),50)","v":0},{"$f":"IF(VLOOKUP(F403,Intersections!A:E,5,FALSE)=\"Unique\",$B$22,IF(VLOOKUP(F403,Intersections!A:E,5,FALSE)=\"Split\",$B$23,0))","v":0},{"$f":"VLOOKUP(F403,Intersections!A:F,6,FALSE)","v":16300},5,{"$f":"VLOOKUP(F403,Intersections!A:G,7,FALSE)","v":670},1,0,{"$f":"_xlfn.IFS(VLOOKUP(F403,Intersections!A:H,8,FALSE)<=0.7,$B$30,VLOOKUP(F403,Intersections!A:H,8,FALSE)<=2,$B$31,TRUE,0)","v":0},{"$f":"_xlfn.IFS(VLOOKUP(F403,Intersections!A:D,4,FALSE)=\"Urban\",$B$30,TRUE,0)","v":0}]
[null,null,null,null,null,"I- 29 E  Ramp & IA 127/IOWA 127",{"$f":"COUNTIF('WWD Crashes'!C:C,F404)","v":0},{"$f":"COUNTIFS('Non-Crash Events'!B:B,F404,'Non-Crash Events'!R:R,\">0\")","v":0},6,null,null,null,null,null,null,null,null,null,null,null,null,null,null,null,null,null,{"$f":"SUMIFS('WWD Crashes'!G:G,'WWD Crashes'!C:C,F404)","v":0},{"$f":"_xlfn.IFS(AA404<0.125,$B$3,AA404<0.25,$B$4,AA404<0.5,$B$5,AA404<0.99,$B$6,AA404<1.5,$B$7,TRUE,$B$8)+$B$9*SUMIFS('WWD Crashes'!G:G,'WWD Crashes'!C:C,F404,'WWD Crashes'!L:L,\">0\")++$B$10*SUMIFS('WWD Crashes'!G:G,'WWD Crashes'!C:C,F404,'WWD Crashes'!M:M,\">0\")","v":0},{"$f":"MIN($B$16*SUMIF('Non-Crash Events'!B:B,F404,'Non-Crash Events'!R:R),50)","v":0},{"$f":"IF(VLOOKUP(F404,Intersections!A:E,5,FALSE)=\"Unique\",$B$22,IF(VLOOKUP(F404,Intersections!A:E,5,FALSE)=\"Split\",$B$23,0))","v":0},{"$f":"VLOOKUP(F404,Intersections!A:F,6,FALSE)","v":15500},4,{"$f":"VLOOKUP(F404,Intersections!A:G,7,FALSE)","v":1420},2,0,{"$f":"_xlfn.IFS(VLOOKUP(F404,Intersections!A:H,8,FALSE)<=0.7,$B$30,VLOOKUP(F404,Intersections!A:H,8,FALSE)<=2,$B$31,TRUE,0)","v":0},{"$f":"_xlfn.IFS(VLOOKUP(F404,Intersections!A:D,4,FALSE)=\"Urban\",$B$30,TRUE,0)","v":0}]
[null,null,null,null,null,"US-18 & Thrush Ave",{"$f":"COUNTIF('WWD Crashes'!C:C,F405)","v":1},{"$f":"COUNTIFS('Non-Crash Events'!B:B,F405,'Non-Crash Events'!R:R,\">0\")","v":0},6,null,null,null,null,null,null,null,null,null,null,null,null,null,null,null,null,null,{"$f":"SUMIFS('WWD Crashes'!G:G,'WWD Crashes'!C:C,F405)","v":0},{"$f":"_xlfn.IFS(AA405<0.125,$B$3,AA405<0.25,$B$4,AA405<0.5,$B$5,AA405<0.99,$B$6,AA405<1.5,$B$7,TRUE,$B$8)+$B$9*SUMIFS('WWD Crashes'!G:G,'WWD Crashes'!C:C,F405,'WWD Crashes'!L:L,\">0\")++$B$10*SUMIFS('WWD Crashes'!G:G,'WWD Crashes'!C:C,F405,'WWD Crashes'!M:M,\">0\")","v":0},{"$f":"MIN($B$16*SUMIF('Non-Crash Events'!B:B,F405,'Non-Crash Events'!R:R),50)","v":0},{"$f":"IF(VLOOKUP(F405,Intersections!A:E,5,FALSE)=\"Unique\",$B$22,IF(VLOOKUP(F405,Intersections!A:E,5,FALSE)=\"Split\",$B$23,0))","v":0},{"$f":"VLOOKUP(F405,Intersections!A:F,6,FALSE)","v":11600},3,{"$f":"VLOOKUP(F405,Intersections!A:G,7,FALSE)","v":2230},3,0,{"$f":"_xlfn.IFS(VLOOKUP(F405,Intersections!A:H,8,FALSE)<=0.7,$B$30,VLOOKUP(F405,Intersections!A:H,8,FALSE)<=2,$B$31,TRUE,0)","v":0},{"$f":"_xlfn.IFS(VLOOKUP(F405,Intersections!A:D,4,FALSE)=\"Urban\",$B$30,TRUE,0)","v":0}]
[null,null,null,null,null,"US- 18 HWY/ N RAMP & MALLARD AVE",{"$f":"COUNTIF('WWD Crashes'!C:C,F406)","v":0},{"$f":"COUNTIFS('Non-Crash Events'!B:B,F406,'Non-Crash Events'!R:R,\">0\")","v":0},6,null,null,null,null,null,null,null,null,null,null,null,null,null,null,null,null,null,{"$f":"SUMIFS('WWD Crashes'!G:G,'WWD Crashes'!C:C,F406)","v":0},{"$f":"_xlfn.IFS(AA406<0.125,$B$3,AA406<0.25,$B$4,AA406<0.5,$B$5,AA406<0.99,$B$6,AA406<1.5,$B$7,TRUE,$B$8)+$B$9*SUMIFS('WWD Crashes'!G:G,'WWD Crashes'!C:C,F406,'WWD Crashes'!L:L,\">0\")++$B$10*SUMIFS('WWD Crashes'!G:G,'WWD Crashes'!C:C,F406,'WWD Crashes'!M:M,\">0\")","v":0},{"$f":"MIN($B$16*SUMIF('Non-Crash Events'!B:B,F406,'Non-Crash Events'!R:R),50)","v":0},{"$f":"IF(VLOOKUP(F406,Intersections!A:E,5,FALSE)=\"Unique\",$B$22,IF(VLOOKUP(F406,Intersections!A:E,5,FALSE)=\"Split\",$B$23,0))","v":0},{"$f":"VLOOKUP(F406,Intersections!A:F,6,FALSE)","v":9600},2,{"$f":"VLOOKUP(F406,Intersections!A:G,7,FALSE)","v":3020},4,0,{"$f":"_xlfn.IFS(VLOOKUP(F406,Intersections!A:H,8,FALSE)<=0.7,$B$30,VLOOKUP(F406,Intersections!A:H,8,FALSE)<=2,$B$31,TRUE,0)","v":0},{"$f":"_xlfn.IFS(VLOOKUP(F406,Intersections!A:D,4,FALSE)=\"Urban\",$B$30,TRUE,0)","v":0}]
[null,null,null,null,null,"US- 218 WEST RAMPS & IOWA 188",{"$f":"COUNTIF('WWD Crashes'!C:C,F407)","v":0},{"$f":"COUNTIFS('Non-Crash Events'!B:B,F407,'Non-Crash Events'!R:R,\">0\")","v":0},6,null,null,null,null,null,null,null,null,null,null,null,null,null,null,null,null,null,{"$f":"SUMIFS('WWD Crashes'!G:G,'WWD Crashes'!C:C,F407)","v":0},{"$f":"_xlfn.IFS(AA407<0.125,$B$3,AA407<0.25,$B$4,AA407<0.5,$B$5,AA407<0.99,$B$6,AA407<1.5,$B$7,TRUE,$B$8)+$B$9*SUMIFS('WWD Crashes'!G:G,'WWD Crashes'!C:C,F407,'WWD Crashes'!L:L,\">0\")++$B$10*SUMIFS('WWD Crashes'!G:G,'WWD Crashes'!C:C,F407,'WWD Crashes'!M:M,\">0\")","v":0},{"$f":"MIN($B$16*SUMIF('Non-Crash Events'!B:B,F407,'Non-Crash Events'!R:R),50)","v":0},{"$f":"IF(VLOOKUP(F407,Intersections!A:E,5,FALSE)=\"Unique\",$B$22,IF(VLOOKUP(F407,Intersections!A:E,5,FALSE)=\"Split\",$B$23,0))","v":0},{"$f":"VLOOKUP(F407,Intersections!A:F,6,FALSE)","v":10400},3,{"$f":"VLOOKUP(F407,Intersections!A:G,7,FALSE)","v":1750},3,0,{"$f":"_xlfn.IFS(VLOOKUP(F407,Intersections!A:H,8,FALSE)<=0.7,$B$30,VLOOKUP(F407,Intersections!A:H,8,FALSE)<=2,$B$31,TRUE,0)","v":0},{"$f":"_xlfn.IFS(VLOOKUP(F407,Intersections!A:D,4,FALSE)=\"Urban\",$B$30,TRUE,0)","v":0}]
[null,null,null,null,null,"IA 163 W & IA 163 W TO QUICKSILVER AVE N",{"$f":"COUNTIF('WWD Crashes'!C:C,F408)","v":0},{"$f":"COUNTIFS('Non-Crash Events'!B:B,F408,'Non-Crash Events'!R:R,\">0\")","v":0},6,null,null,null,null,null,null,null,null,null,null,null,null,null,null,null,null,null,{"$f":"SUMIFS('WWD Crashes'!G:G,'WWD Crashes'!C:C,F408)","v":0},{"$f":"_xlfn.IFS(AA408<0.125,$B$3,AA408<0.25,$B$4,AA408<0.5,$B$5,AA408<0.99,$B$6,AA408<1.5,$B$7,TRUE,$B$8)+$B$9*SUMIFS('WWD Crashes'!G:G,'WWD Crashes'!C:C,F408,'WWD Crashes'!L:L,\">0\")++$B$10*SUMIFS('WWD Crashes'!G:G,'WWD Crashes'!C:C,F408,'WWD Crashes'!M:M,\">0\")","v":0},{"$f":"MIN($B$16*SUMIF('Non-Crash Events'!B:B,F408,'Non-Crash Events'!R:R),50)","v":0},{"$f":"IF(VLOOKUP(F408,Intersections!A:E,5,FALSE)=\"Unique\",$B$22,IF(VLOOKUP(F408,Intersections!A:E,5,FALSE)=\"Split\",$B$23,0))","v":0},{"$f":"VLOOKUP(F408,Intersections!A:F,6,FALSE)","v":10200},3,{"$f":"VLOOKUP(F408,Intersections!A:G,7,FALSE)","v":1780},3,0,{"$f":"_xlfn.IFS(VLOOKUP(F408,Intersections!A:H,8,FALSE)<=0.7,$B$30,VLOOKUP(F408,Intersections!A:H,8,FALSE)<=2,$B$31,TRUE,0)","v":0},{"$f":"_xlfn.IFS(VLOOKUP(F408,Intersections!A:D,4,FALSE)=\"Urban\",$B$30,TRUE,0)","v":0}]
[null,null,null,null,null,"IA 17 N & US 20 W",{"$f":"COUNTIF('WWD Crashes'!C:C,F409)","v":0},{"$f":"COUNTIFS('Non-Crash Events'!B:B,F409,'Non-Crash Events'!R:R,\">0\")","v":0},6,null,null,null,null,null,null,null,null,null,null,null,null,null,null,null,null,null,{"$f":"SUMIFS('WWD Crashes'!G:G,'WWD Crashes'!C:C,F409)","v":0},{"$f":"_xlfn.IFS(AA409<0.125,$B$3,AA409<0.25,$B$4,AA409<0.5,$B$5,AA409<0.99,$B$6,AA409<1.5,$B$7,TRUE,$B$8)+$B$9*SUMIFS('WWD Crashes'!G:G,'WWD Crashes'!C:C,F409,'WWD Crashes'!L:L,\">0\")++$B$10*SUMIFS('WWD Crashes'!G:G,'WWD Crashes'!C:C,F409,'WWD Crashes'!M:M,\">0\")","v":0},{"$f":"MIN($B$16*SUMIF('Non-Crash Events'!B:B,F409,'Non-Crash Events'!R:R),50)","v":0},{"$f":"IF(VLOOKUP(F409,Intersections!A:E,5,FALSE)=\"Unique\",$B$22,IF(VLOOKUP(F409,Intersections!A:E,5,FALSE)=\"Split\",$B$23,0))","v":0},{"$f":"VLOOKUP(F409,Intersections!A:F,6,FALSE)","v":10000},3,{"$f":"VLOOKUP(F409,Intersections!A:G,7,FALSE)","v":1950},3,0,{"$f":"_xlfn.IFS(VLOOKUP(F409,Intersections!A:H,8,FALSE)<=0.7,$B$30,VLOOKUP(F409,Intersections!A:H,8,FALSE)<=2,$B$31,TRUE,0)","v":0},{"$f":"_xlfn.IFS(VLOOKUP(F409,Intersections!A:D,4,FALSE)=\"Urban\",$B$30,TRUE,0)","v":0}]
[null,null,null,null,null,"US 20 W & US 20 W TO GRANT AVE S",{"$f":"COUNTIF('WWD Crashes'!C:C,F410)","v":0},{"$f":"COUNTIFS('Non-Crash Events'!B:B,F410,'Non-Crash Events'!R:R,\">0\")","v":0},6,null,null,null,null,null,null,null,null,null,null,null,null,null,null,null,null,null,{"$f":"SUMIFS('WWD Crashes'!G:G,'WWD Crashes'!C:C,F410)","v":0},{"$f":"_xlfn.IFS(AA410<0.125,$B$3,AA410<0.25,$B$4,AA410<0.5,$B$5,AA410<0.99,$B$6,AA410<1.5,$B$7,TRUE,$B$8)+$B$9*SUMIFS('WWD Crashes'!G:G,'WWD Crashes'!C:C,F410,'WWD Crashes'!L:L,\">0\")++$B$10*SUMIFS('WWD Crashes'!G:G,'WWD Crashes'!C:C,F410,'WWD Crashes'!M:M,\">0\")","v":0},{"$f":"MIN($B$16*SUMIF('Non-Crash Events'!B:B,F410,'Non-Crash Events'!R:R),50)","v":0},{"$f":"IF(VLOOKUP(F410,Intersections!A:E,5,FALSE)=\"Unique\",$B$22,IF(VLOOKUP(F410,Intersections!A:E,5,FALSE)=\"Split\",$B$23,0))","v":0},{"$f":"VLOOKUP(F410,Intersections!A:F,6,FALSE)","v":5500},1,{"$f":"VLOOKUP(F410,Intersections!A:G,7,FALSE)","v":3510},5,0,{"$f":"_xlfn.IFS(VLOOKUP(F410,Intersections!A:H,8,FALSE)<=0.7,$B$30,VLOOKUP(F410,Intersections!A:H,8,FALSE)<=2,$B$31,TRUE,0)","v":0},{"$f":"_xlfn.IFS(VLOOKUP(F410,Intersections!A:D,4,FALSE)=\"Urban\",$B$30,TRUE,0)","v":0}]
[null,null,null,null,null,"IA-35 N RAMP & DOWS WILLIAMS RD",{"$f":"COUNTIF('WWD Crashes'!C:C,F411)","v":0},{"$f":"COUNTIFS('Non-Crash Events'!B:B,F411,'Non-Crash Events'!R:R,\">0\")","v":0},5,null,null,null,null,null,null,null,null,null,null,null,null,null,null,null,null,null,{"$f":"SUMIFS('WWD Crashes'!G:G,'WWD Crashes'!C:C,F411)","v":0},{"$f":"_xlfn.IFS(AA411<0.125,$B$3,AA411<0.25,$B$4,AA411<0.5,$B$5,AA411<0.99,$B$6,AA411<1.5,$B$7,TRUE,$B$8)+$B$9*SUMIFS('WWD Crashes'!G:G,'WWD Crashes'!C:C,F411,'WWD Crashes'!L:L,\">0\")++$B$10*SUMIFS('WWD Crashes'!G:G,'WWD Crashes'!C:C,F411,'WWD Crashes'!M:M,\">0\")","v":0},{"$f":"MIN($B$16*SUMIF('Non-Crash Events'!B:B,F411,'Non-Crash Events'!R:R),50)","v":0},{"$f":"IF(VLOOKUP(F411,Intersections!A:E,5,FALSE)=\"Unique\",$B$22,IF(VLOOKUP(F411,Intersections!A:E,5,FALSE)=\"Split\",$B$23,0))","v":0},{"$f":"VLOOKUP(F411,Intersections!A:F,6,FALSE)","v":15800},4,{"$f":"VLOOKUP(F411,Intersections!A:G,7,FALSE)","v":500},1,0,{"$f":"_xlfn.IFS(VLOOKUP(F411,Intersections!A:H,8,FALSE)<=0.7,$B$30,VLOOKUP(F411,Intersections!A:H,8,FALSE)<=2,$B$31,TRUE,0)","v":0},{"$f":"_xlfn.IFS(VLOOKUP(F411,Intersections!A:D,4,FALSE)=\"Urban\",$B$30,TRUE,0)","v":0}]
[null,null,null,null,null,"I- 35 NE RAMP & ELK ST",{"$f":"COUNTIF('WWD Crashes'!C:C,F412)","v":0},{"$f":"COUNTIFS('Non-Crash Events'!B:B,F412,'Non-Crash Events'!R:R,\">0\")","v":0},5,null,null,null,null,null,null,null,null,null,null,null,null,null,null,null,null,null,{"$f":"SUMIFS('WWD Crashes'!G:G,'WWD Crashes'!C:C,F412)","v":0},{"$f":"_xlfn.IFS(AA412<0.125,$B$3,AA412<0.25,$B$4,AA412<0.5,$B$5,AA412<0.99,$B$6,AA412<1.5,$B$7,TRUE,$B$8)+$B$9*SUMIFS('WWD Crashes'!G:G,'WWD Crashes'!C:C,F412,'WWD Crashes'!L:L,\">0\")++$B$10*SUMIFS('WWD Crashes'!G:G,'WWD Crashes'!C:C,F412,'WWD Crashes'!M:M,\">0\")","v":0},{"$f":"MIN($B$16*SUMIF('Non-Crash Events'!B:B,F412,'Non-Crash Events'!R:R),50)","v":0},{"$f":"IF(VLOOKUP(F412,Intersections!A:E,5,FALSE)=\"Unique\",$B$22,IF(VLOOKUP(F412,Intersections!A:E,5,FALSE)=\"Split\",$B$23,0))","v":0},{"$f":"VLOOKUP(F412,Intersections!A:F,6,FALSE)","v":15800},4,{"$f":"VLOOKUP(F412,Intersections!A:G,7,FALSE)","v":370},1,0,{"$f":"_xlfn.IFS(VLOOKUP(F412,Intersections!A:H,8,FALSE)<=0.7,$B$30,VLOOKUP(F412,Intersections!A:H,8,FALSE)<=2,$B$31,TRUE,0)","v":0},{"$f":"_xlfn.IFS(VLOOKUP(F412,Intersections!A:D,4,FALSE)=\"Urban\",$B$30,TRUE,0)","v":0}]
[null,null,null,null,null,"I 35 N & I 35 N TO LINE ST,E",{"$f":"COUNTIF('WWD Crashes'!C:C,F413)","v":0},{"$f":"COUNTIFS('Non-Crash Events'!B:B,F413,'Non-Crash Events'!R:R,\">0\")","v":0},5,null,null,null,null,null,null,null,null,null,null,null,null,null,null,null,null,null,{"$f":"SUMIFS('WWD Crashes'!G:G,'WWD Crashes'!C:C,F413)","v":0},{"$f":"_xlfn.IFS(AA413<0.125,$B$3,AA413<0.25,$B$4,AA413<0.5,$B$5,AA413<0.99,$B$6,AA413<1.5,$B$7,TRUE,$B$8)+$B$9*SUMIFS('WWD Crashes'!G:G,'WWD Crashes'!C:C,F413,'WWD Crashes'!L:L,\">0\")++$B$10*SUMIFS('WWD Crashes'!G:G,'WWD Crashes'!C:C,F413,'WWD Crashes'!M:M,\">0\")","v":0},{"$f":"MIN($B$16*SUMIF('Non-Crash Events'!B:B,F413,'Non-Crash Events'!R:R),50)","v":0},{"$f":"IF(VLOOKUP(F413,Intersections!A:E,5,FALSE)=\"Unique\",$B$22,IF(VLOOKUP(F413,Intersections!A:E,5,FALSE)=\"Split\",$B$23,0))","v":0},{"$f":"VLOOKUP(F413,Intersections!A:F,6,FALSE)","v":15300},4,{"$f":"VLOOKUP(F413,Intersections!A:G,7,FALSE)","v":360},1,0,{"$f":"_xlfn.IFS(VLOOKUP(F413,Intersections!A:H,8,FALSE)<=0.7,$B$30,VLOOKUP(F413,Intersections!A:H,8,FALSE)<=2,$B$31,TRUE,0)","v":0},{"$f":"_xlfn.IFS(VLOOKUP(F413,Intersections!A:D,4,FALSE)=\"Urban\",$B$30,TRUE,0)","v":0}]
[null,null,null,null,null,"I- 29 N Ramp & EASTON TRL",{"$f":"COUNTIF('WWD Crashes'!C:C,F414)","v":0},{"$f":"COUNTIFS('Non-Crash Events'!B:B,F414,'Non-Crash Events'!R:R,\">0\")","v":0},5,null,null,null,null,null,null,null,null,null,null,null,null,null,null,null,null,null,{"$f":"SUMIFS('WWD Crashes'!G:G,'WWD Crashes'!C:C,F414)","v":0},{"$f":"_xlfn.IFS(AA414<0.125,$B$3,AA414<0.25,$B$4,AA414<0.5,$B$5,AA414<0.99,$B$6,AA414<1.5,$B$7,TRUE,$B$8)+$B$9*SUMIFS('WWD Crashes'!G:G,'WWD Crashes'!C:C,F414,'WWD Crashes'!L:L,\">0\")++$B$10*SUMIFS('WWD Crashes'!G:G,'WWD Crashes'!C:C,F414,'WWD Crashes'!M:M,\">0\")","v":0},{"$f":"MIN($B$16*SUMIF('Non-Crash Events'!B:B,F414,'Non-Crash Events'!R:R),50)","v":0},{"$f":"IF(VLOOKUP(F414,Intersections!A:E,5,FALSE)=\"Unique\",$B$22,IF(VLOOKUP(F414,Intersections!A:E,5,FALSE)=\"Split\",$B$23,0))","v":0},{"$f":"VLOOKUP(F414,Intersections!A:F,6,FALSE)","v":15000},4,{"$f":"VLOOKUP(F414,Intersections!A:G,7,FALSE)","v":390},1,0,{"$f":"_xlfn.IFS(VLOOKUP(F414,Intersections!A:H,8,FALSE)<=0.7,$B$30,VLOOKUP(F414,Intersections!A:H,8,FALSE)<=2,$B$31,TRUE,0)","v":0},{"$f":"_xlfn.IFS(VLOOKUP(F414,Intersections!A:D,4,FALSE)=\"Urban\",$B$30,TRUE,0)","v":0}]
[null,null,null,null,null,"I- 35 NE RAMP & COUNTY HWY J20",{"$f":"COUNTIF('WWD Crashes'!C:C,F415)","v":0},{"$f":"COUNTIFS('Non-Crash Events'!B:B,F415,'Non-Crash Events'!R:R,\">0\")","v":0},5,null,null,null,null,null,null,null,null,null,null,null,null,null,null,null,null,null,{"$f":"SUMIFS('WWD Crashes'!G:G,'WWD Crashes'!C:C,F415)","v":0},{"$f":"_xlfn.IFS(AA415<0.125,$B$3,AA415<0.25,$B$4,AA415<0.5,$B$5,AA415<0.99,$B$6,AA415<1.5,$B$7,TRUE,$B$8)+$B$9*SUMIFS('WWD Crashes'!G:G,'WWD Crashes'!C:C,F415,'WWD Crashes'!L:L,\">0\")++$B$10*SUMIFS('WWD Crashes'!G:G,'WWD Crashes'!C:C,F415,'WWD Crashes'!M:M,\">0\")","v":0},{"$f":"MIN($B$16*SUMIF('Non-Crash Events'!B:B,F415,'Non-Crash Events'!R:R),50)","v":0},{"$f":"IF(VLOOKUP(F415,Intersections!A:E,5,FALSE)=\"Unique\",$B$22,IF(VLOOKUP(F415,Intersections!A:E,5,FALSE)=\"Split\",$B$23,0))","v":0},{"$f":"VLOOKUP(F415,Intersections!A:F,6,FALSE)","v":14800},4,{"$f":"VLOOKUP(F415,Intersections!A:G,7,FALSE)","v":260},1,0,{"$f":"_xlfn.IFS(VLOOKUP(F415,Intersections!A:H,8,FALSE)<=0.7,$B$30,VLOOKUP(F415,Intersections!A:H,8,FALSE)<=2,$B$31,TRUE,0)","v":0},{"$f":"_xlfn.IFS(VLOOKUP(F415,Intersections!A:D,4,FALSE)=\"Urban\",$B$30,TRUE,0)","v":0}]
[null,null,null,null,null,"I- 29 E  Ramp & WAUBONSIE AVE",{"$f":"COUNTIF('WWD Crashes'!C:C,F416)","v":0},{"$f":"COUNTIFS('Non-Crash Events'!B:B,F416,'Non-Crash Events'!R:R,\">0\")","v":0},5,null,null,null,null,null,null,null,null,null,null,null,null,null,null,null,null,null,{"$f":"SUMIFS('WWD Crashes'!G:G,'WWD Crashes'!C:C,F416)","v":0},{"$f":"_xlfn.IFS(AA416<0.125,$B$3,AA416<0.25,$B$4,AA416<0.5,$B$5,AA416<0.99,$B$6,AA416<1.5,$B$7,TRUE,$B$8)+$B$9*SUMIFS('WWD Crashes'!G:G,'WWD Crashes'!C:C,F416,'WWD Crashes'!L:L,\">0\")++$B$10*SUMIFS('WWD Crashes'!G:G,'WWD Crashes'!C:C,F416,'WWD Crashes'!M:M,\">0\")","v":0},{"$f":"MIN($B$16*SUMIF('Non-Crash Events'!B:B,F416,'Non-Crash Events'!R:R),50)","v":0},{"$f":"IF(VLOOKUP(F416,Intersections!A:E,5,FALSE)=\"Unique\",$B$22,IF(VLOOKUP(F416,Intersections!A:E,5,FALSE)=\"Split\",$B$23,0))","v":0},{"$f":"VLOOKUP(F416,Intersections!A:F,6,FALSE)","v":14100},4,{"$f":"VLOOKUP(F416,Intersections!A:G,7,FALSE)","v":550},1,0,{"$f":"_xlfn.IFS(VLOOKUP(F416,Intersections!A:H,8,FALSE)<=0.7,$B$30,VLOOKUP(F416,Intersections!A:H,8,FALSE)<=2,$B$31,TRUE,0)","v":0},{"$f":"_xlfn.IFS(VLOOKUP(F416,Intersections!A:D,4,FALSE)=\"Urban\",$B$30,TRUE,0)","v":0}]
[null,null,null,{"$f":"HYPERLINK(\"#'Weight Based'!\"&ADDRESS(5,11),\"Jump to Details\")","v":"Jump to Details"},null,"US- 18 HWY/ S RAMP & ZINNIA AVE",{"$f":"COUNTIF('WWD Crashes'!C:C,F417)","v":0},{"$f":"COUNTIFS('Non-Crash Events'!B:B,F417,'Non-Crash Events'!R:R,\">0\")","v":0},5,null,null,null,null,null,null,null,null,null,null,null,null,null,null,null,null,null,{"$f":"SUMIFS('WWD Crashes'!G:G,'WWD Crashes'!C:C,F417)","v":0},{"$f":"_xlfn.IFS(AA417<0.125,$B$3,AA417<0.25,$B$4,AA417<0.5,$B$5,AA417<0.99,$B$6,AA417<1.5,$B$7,TRUE,$B$8)+$B$9*SUMIFS('WWD Crashes'!G:G,'WWD Crashes'!C:C,F417,'WWD Crashes'!L:L,\">0\")++$B$10*SUMIFS('WWD Crashes'!G:G,'WWD Crashes'!C:C,F417,'WWD Crashes'!M:M,\">0\")","v":0},{"$f":"MIN($B$16*SUMIF('Non-Crash Events'!B:B,F417,'Non-Crash Events'!R:R),50)","v":0},{"$f":"IF(VLOOKUP(F417,Intersections!A:E,5,FALSE)=\"Unique\",$B$22,IF(VLOOKUP(F417,Intersections!A:E,5,FALSE)=\"Split\",$B$23,0))","v":0},{"$f":"VLOOKUP(F417,Intersections!A:F,6,FALSE)","v":12600},4,{"$f":"VLOOKUP(F417,Intersections!A:G,7,FALSE)","v":820},1,0,{"$f":"_xlfn.IFS(VLOOKUP(F417,Intersections!A:H,8,FALSE)<=0.7,$B$30,VLOOKUP(F417,Intersections!A:H,8,FALSE)<=2,$B$31,TRUE,0)","v":0},{"$f":"_xlfn.IFS(VLOOKUP(F417,Intersections!A:D,4,FALSE)=\"Urban\",$B$30,TRUE,0)","v":0}]
[null,null,null,null,null,"US 34 E & US 34 E TO AGENCY HENDRICK RD N",{"$f":"COUNTIF('WWD Crashes'!C:C,F418)","v":0},{"$f":"COUNTIFS('Non-Crash Events'!B:B,F418,'Non-Crash Events'!R:R,\">0\")","v":0},5,null,null,null,null,null,null,null,null,null,null,null,null,null,null,null,null,null,{"$f":"SUMIFS('WWD Crashes'!G:G,'WWD Crashes'!C:C,F418)","v":0},{"$f":"_xlfn.IFS(AA418<0.125,$B$3,AA418<0.25,$B$4,AA418<0.5,$B$5,AA418<0.99,$B$6,AA418<1.5,$B$7,TRUE,$B$8)+$B$9*SUMIFS('WWD Crashes'!G:G,'WWD Crashes'!C:C,F418,'WWD Crashes'!L:L,\">0\")++$B$10*SUMIFS('WWD Crashes'!G:G,'WWD Crashes'!C:C,F418,'WWD Crashes'!M:M,\">0\")","v":0},{"$f":"MIN($B$16*SUMIF('Non-Crash Events'!B:B,F418,'Non-Crash Events'!R:R),50)","v":0},{"$f":"IF(VLOOKUP(F418,Intersections!A:E,5,FALSE)=\"Unique\",$B$22,IF(VLOOKUP(F418,Intersections!A:E,5,FALSE)=\"Split\",$B$23,0))","v":0},{"$f":"VLOOKUP(F418,Intersections!A:F,6,FALSE)","v":10800},3,{"$f":"VLOOKUP(F418,Intersections!A:G,7,FALSE)","v":1380},2,0,{"$f":"_xlfn.IFS(VLOOKUP(F418,Intersections!A:H,8,FALSE)<=0.7,$B$30,VLOOKUP(F418,Intersections!A:H,8,FALSE)<=2,$B$31,TRUE,0)","v":0},{"$f":"_xlfn.IFS(VLOOKUP(F418,Intersections!A:D,4,FALSE)=\"Urban\",$B$30,TRUE,0)","v":0}]
[null,null,null,null,null,"US- 218 EAST RAMPS & 210TH ST",{"$f":"COUNTIF('WWD Crashes'!C:C,F419)","v":0},{"$f":"COUNTIFS('Non-Crash Events'!B:B,F419,'Non-Crash Events'!R:R,\">0\")","v":0},5,null,null,null,null,null,null,null,null,null,null,null,null,null,null,null,null,null,{"$f":"SUMIFS('WWD Crashes'!G:G,'WWD Crashes'!C:C,F419)","v":0},{"$f":"_xlfn.IFS(AA419<0.125,$B$3,AA419<0.25,$B$4,AA419<0.5,$B$5,AA419<0.99,$B$6,AA419<1.5,$B$7,TRUE,$B$8)+$B$9*SUMIFS('WWD Crashes'!G:G,'WWD Crashes'!C:C,F419,'WWD Crashes'!L:L,\">0\")++$B$10*SUMIFS('WWD Crashes'!G:G,'WWD Crashes'!C:C,F419,'WWD Crashes'!M:M,\">0\")","v":0},{"$f":"MIN($B$16*SUMIF('Non-Crash Events'!B:B,F419,'Non-Crash Events'!R:R),50)","v":0},{"$f":"IF(VLOOKUP(F419,Intersections!A:E,5,FALSE)=\"Unique\",$B$22,IF(VLOOKUP(F419,Intersections!A:E,5,FALSE)=\"Split\",$B$23,0))","v":0},{"$f":"VLOOKUP(F419,Intersections!A:F,6,FALSE)","v":9200},2,{"$f":"VLOOKUP(F419,Intersections!A:G,7,FALSE)","v":2030},3,0,{"$f":"_xlfn.IFS(VLOOKUP(F419,Intersections!A:H,8,FALSE)<=0.7,$B$30,VLOOKUP(F419,Intersections!A:H,8,FALSE)<=2,$B$31,TRUE,0)","v":0},{"$f":"_xlfn.IFS(VLOOKUP(F419,Intersections!A:D,4,FALSE)=\"Urban\",$B$30,TRUE,0)","v":0}]
[null,null,null,null,null,"US 63 S & US 63 S TO IA 3 W",{"$f":"COUNTIF('WWD Crashes'!C:C,F420)","v":0},{"$f":"COUNTIFS('Non-Crash Events'!B:B,F420,'Non-Crash Events'!R:R,\">0\")","v":0},5,null,null,null,null,null,null,null,null,null,null,null,null,null,null,null,null,null,{"$f":"SUMIFS('WWD Crashes'!G:G,'WWD Crashes'!C:C,F420)","v":0},{"$f":"_xlfn.IFS(AA420<0.125,$B$3,AA420<0.25,$B$4,AA420<0.5,$B$5,AA420<0.99,$B$6,AA420<1.5,$B$7,TRUE,$B$8)+$B$9*SUMIFS('WWD Crashes'!G:G,'WWD Crashes'!C:C,F420,'WWD Crashes'!L:L,\">0\")++$B$10*SUMIFS('WWD Crashes'!G:G,'WWD Crashes'!C:C,F420,'WWD Crashes'!M:M,\">0\")","v":0},{"$f":"MIN($B$16*SUMIF('Non-Crash Events'!B:B,F420,'Non-Crash Events'!R:R),50)","v":0},{"$f":"IF(VLOOKUP(F420,Intersections!A:E,5,FALSE)=\"Unique\",$B$22,IF(VLOOKUP(F420,Intersections!A:E,5,FALSE)=\"Split\",$B$23,0))","v":0},{"$f":"VLOOKUP(F420,Intersections!A:F,6,FALSE)","v":7300},1,{"$f":"VLOOKUP(F420,Intersections!A:G,7,FALSE)","v":3220},4,0,{"$f":"_xlfn.IFS(VLOOKUP(F420,Intersections!A:H,8,FALSE)<=0.7,$B$30,VLOOKUP(F420,Intersections!A:H,8,FALSE)<=2,$B$31,TRUE,0)","v":0},{"$f":"_xlfn.IFS(VLOOKUP(F420,Intersections!A:D,4,FALSE)=\"Urban\",$B$30,TRUE,0)","v":0}]
[null,null,null,null,null,"US-20 NE RAMP & IA-187",{"$f":"COUNTIF('WWD Crashes'!C:C,F421)","v":0},{"$f":"COUNTIFS('Non-Crash Events'!B:B,F421,'Non-Crash Events'!R:R,\">0\")","v":0},5,null,null,null,null,null,null,null,null,null,null,null,null,null,null,null,null,null,{"$f":"SUMIFS('WWD Crashes'!G:G,'WWD Crashes'!C:C,F421)","v":0},{"$f":"_xlfn.IFS(AA421<0.125,$B$3,AA421<0.25,$B$4,AA421<0.5,$B$5,AA421<0.99,$B$6,AA421<1.5,$B$7,TRUE,$B$8)+$B$9*SUMIFS('WWD Crashes'!G:G,'WWD Crashes'!C:C,F421,'WWD Crashes'!L:L,\">0\")++$B$10*SUMIFS('WWD Crashes'!G:G,'WWD Crashes'!C:C,F421,'WWD Crashes'!M:M,\">0\")","v":0},{"$f":"MIN($B$16*SUMIF('Non-Crash Events'!B:B,F421,'Non-Crash Events'!R:R),50)","v":0},{"$f":"IF(VLOOKUP(F421,Intersections!A:E,5,FALSE)=\"Unique\",$B$22,IF(VLOOKUP(F421,Intersections!A:E,5,FALSE)=\"Split\",$B$23,0))","v":0},{"$f":"VLOOKUP(F421,Intersections!A:F,6,FALSE)","v":8500},2,{"$f":"VLOOKUP(F421,Intersections!A:G,7,FALSE)","v":1690},3,0,{"$f":"_xlfn.IFS(VLOOKUP(F421,Intersections!A:H,8,FALSE)<=0.7,$B$30,VLOOKUP(F421,Intersections!A:H,8,FALSE)<=2,$B$31,TRUE,0)","v":0},{"$f":"_xlfn.IFS(VLOOKUP(F421,Intersections!A:D,4,FALSE)=\"Urban\",$B$30,TRUE,0)","v":0}]
[null,null,null,null,null,"US-20 & County Road S27",{"$f":"COUNTIF('WWD Crashes'!C:C,F422)","v":0},{"$f":"COUNTIFS('Non-Crash Events'!B:B,F422,'Non-Crash Events'!R:R,\">0\")","v":1},5,null,null,null,null,null,null,null,null,null,null,null,null,null,null,null,null,null,{"$f":"SUMIFS('WWD Crashes'!G:G,'WWD Crashes'!C:C,F422)","v":0},{"$f":"_xlfn.IFS(AA422<0.125,$B$3,AA422<0.25,$B$4,AA422<0.5,$B$5,AA422<0.99,$B$6,AA422<1.5,$B$7,TRUE,$B$8)+$B$9*SUMIFS('WWD Crashes'!G:G,'WWD Crashes'!C:C,F422,'WWD Crashes'!L:L,\">0\")++$B$10*SUMIFS('WWD Crashes'!G:G,'WWD Crashes'!C:C,F422,'WWD Crashes'!M:M,\">0\")","v":0},{"$f":"MIN($B$16*SUMIF('Non-Crash Events'!B:B,F422,'Non-Crash Events'!R:R),50)","v":1},{"$f":"IF(VLOOKUP(F422,Intersections!A:E,5,FALSE)=\"Unique\",$B$22,IF(VLOOKUP(F422,Intersections!A:E,5,FALSE)=\"Split\",$B$23,0))","v":0},{"$f":"VLOOKUP(F422,Intersections!A:F,6,FALSE)","v":8900},2,{"$f":"VLOOKUP(F422,Intersections!A:G,7,FALSE)","v":1370},2,0,{"$f":"_xlfn.IFS(VLOOKUP(F422,Intersections!A:H,8,FALSE)<=0.7,$B$30,VLOOKUP(F422,Intersections!A:H,8,FALSE)<=2,$B$31,TRUE,0)","v":0},{"$f":"_xlfn.IFS(VLOOKUP(F422,Intersections!A:D,4,FALSE)=\"Urban\",$B$30,TRUE,0)","v":0}]
[null,null,null,null,null,"US- 20 S Ramp, loop/170TH ST & CO HWY S56/",{"$f":"COUNTIF('WWD Crashes'!C:C,F423)","v":0},{"$f":"COUNTIFS('Non-Crash Events'!B:B,F423,'Non-Crash Events'!R:R,\">0\")","v":0},4,null,null,null,null,null,null,null,null,null,null,null,null,null,null,null,null,null,{"$f":"SUMIFS('WWD Crashes'!G:G,'WWD Crashes'!C:C,F423)","v":0},{"$f":"_xlfn.IFS(AA423<0.125,$B$3,AA423<0.25,$B$4,AA423<0.5,$B$5,AA423<0.99,$B$6,AA423<1.5,$B$7,TRUE,$B$8)+$B$9*SUMIFS('WWD Crashes'!G:G,'WWD Crashes'!C:C,F423,'WWD Crashes'!L:L,\">0\")++$B$10*SUMIFS('WWD Crashes'!G:G,'WWD Crashes'!C:C,F423,'WWD Crashes'!M:M,\">0\")","v":0},{"$f":"MIN($B$16*SUMIF('Non-Crash Events'!B:B,F423,'Non-Crash Events'!R:R),50)","v":0},{"$f":"IF(VLOOKUP(F423,Intersections!A:E,5,FALSE)=\"Unique\",$B$22,IF(VLOOKUP(F423,Intersections!A:E,5,FALSE)=\"Split\",$B$23,0))","v":0},{"$f":"VLOOKUP(F423,Intersections!A:F,6,FALSE)","v":9400},2,{"$f":"VLOOKUP(F423,Intersections!A:G,7,FALSE)","v":1600},2,0,{"$f":"_xlfn.IFS(VLOOKUP(F423,Intersections!A:H,8,FALSE)<=0.7,$B$30,VLOOKUP(F423,Intersections!A:H,8,FALSE)<=2,$B$31,TRUE,0)","v":0},{"$f":"_xlfn.IFS(VLOOKUP(F423,Intersections!A:D,4,FALSE)=\"Urban\",$B$30,TRUE,0)","v":0}]
[null,null,null,null,null,"US-61 SE RAMP & IA-136",{"$f":"COUNTIF('WWD Crashes'!C:C,F424)","v":0},{"$f":"COUNTIFS('Non-Crash Events'!B:B,F424,'Non-Crash Events'!R:R,\">0\")","v":0},4,null,null,null,null,null,null,null,null,null,null,null,null,null,null,null,null,null,{"$f":"SUMIFS('WWD Crashes'!G:G,'WWD Crashes'!C:C,F424)","v":0},{"$f":"_xlfn.IFS(AA424<0.125,$B$3,AA424<0.25,$B$4,AA424<0.5,$B$5,AA424<0.99,$B$6,AA424<1.5,$B$7,TRUE,$B$8)+$B$9*SUMIFS('WWD Crashes'!G:G,'WWD Crashes'!C:C,F424,'WWD Crashes'!L:L,\">0\")++$B$10*SUMIFS('WWD Crashes'!G:G,'WWD Crashes'!C:C,F424,'WWD Crashes'!M:M,\">0\")","v":0},{"$f":"MIN($B$16*SUMIF('Non-Crash Events'!B:B,F424,'Non-Crash Events'!R:R),50)","v":0},{"$f":"IF(VLOOKUP(F424,Intersections!A:E,5,FALSE)=\"Unique\",$B$22,IF(VLOOKUP(F424,Intersections!A:E,5,FALSE)=\"Split\",$B$23,0))","v":0},{"$f":"VLOOKUP(F424,Intersections!A:F,6,FALSE)","v":9500},2,{"$f":"VLOOKUP(F424,Intersections!A:G,7,FALSE)","v":1280},2,0,{"$f":"_xlfn.IFS(VLOOKUP(F424,Intersections!A:H,8,FALSE)<=0.7,$B$30,VLOOKUP(F424,Intersections!A:H,8,FALSE)<=2,$B$31,TRUE,0)","v":0},{"$f":"_xlfn.IFS(VLOOKUP(F424,Intersections!A:D,4,FALSE)=\"Urban\",$B$30,TRUE,0)","v":0}]
[null,null,null,null,null,"US- 20 S RAMP & CO HWY D35",{"$f":"COUNTIF('WWD Crashes'!C:C,F425)","v":0},{"$f":"COUNTIFS('Non-Crash Events'!B:B,F425,'Non-Crash Events'!R:R,\">0\")","v":0},4,null,null,null,null,null,null,null,null,null,null,null,null,null,null,null,null,null,{"$f":"SUMIFS('WWD Crashes'!G:G,'WWD Crashes'!C:C,F425)","v":0},{"$f":"_xlfn.IFS(AA425<0.125,$B$3,AA425<0.25,$B$4,AA425<0.5,$B$5,AA425<0.99,$B$6,AA425<1.5,$B$7,TRUE,$B$8)+$B$9*SUMIFS('WWD Crashes'!G:G,'WWD Crashes'!C:C,F425,'WWD Crashes'!L:L,\">0\")++$B$10*SUMIFS('WWD Crashes'!G:G,'WWD Crashes'!C:C,F425,'WWD Crashes'!M:M,\">0\")","v":0},{"$f":"MIN($B$16*SUMIF('Non-Crash Events'!B:B,F425,'Non-Crash Events'!R:R),50)","v":0},{"$f":"IF(VLOOKUP(F425,Intersections!A:E,5,FALSE)=\"Unique\",$B$22,IF(VLOOKUP(F425,Intersections!A:E,5,FALSE)=\"Split\",$B$23,0))","v":0},{"$f":"VLOOKUP(F425,Intersections!A:F,6,FALSE)","v":9400},2,{"$f":"VLOOKUP(F425,Intersections!A:G,7,FALSE)","v":1240},2,0,{"$f":"_xlfn.IFS(VLOOKUP(F425,Intersections!A:H,8,FALSE)<=0.7,$B$30,VLOOKUP(F425,Intersections!A:H,8,FALSE)<=2,$B$31,TRUE,0)","v":0},{"$f":"_xlfn.IFS(VLOOKUP(F425,Intersections!A:D,4,FALSE)=\"Urban\",$B$30,TRUE,0)","v":0}]
[null,null,null,null,null,"US 34 E & ASH ST S",{"$f":"COUNTIF('WWD Crashes'!C:C,F426)","v":0},{"$f":"COUNTIFS('Non-Crash Events'!B:B,F426,'Non-Crash Events'!R:R,\">0\")","v":0},4,null,null,null,null,null,null,null,null,null,null,null,null,null,null,null,null,null,{"$f":"SUMIFS('WWD Crashes'!G:G,'WWD Crashes'!C:C,F426)","v":0},{"$f":"_xlfn.IFS(AA426<0.125,$B$3,AA426<0.25,$B$4,AA426<0.5,$B$5,AA426<0.99,$B$6,AA426<1.5,$B$7,TRUE,$B$8)+$B$9*SUMIFS('WWD Crashes'!G:G,'WWD Crashes'!C:C,F426,'WWD Crashes'!L:L,\">0\")++$B$10*SUMIFS('WWD Crashes'!G:G,'WWD Crashes'!C:C,F426,'WWD Crashes'!M:M,\">0\")","v":0},{"$f":"MIN($B$16*SUMIF('Non-Crash Events'!B:B,F426,'Non-Crash Events'!R:R),50)","v":0},{"$f":"IF(VLOOKUP(F426,Intersections!A:E,5,FALSE)=\"Unique\",$B$22,IF(VLOOKUP(F426,Intersections!A:E,5,FALSE)=\"Split\",$B$23,0))","v":0},{"$f":"VLOOKUP(F426,Intersections!A:F,6,FALSE)","v":8300},2,{"$f":"VLOOKUP(F426,Intersections!A:G,7,FALSE)","v":1650},2,0,{"$f":"_xlfn.IFS(VLOOKUP(F426,Intersections!A:H,8,FALSE)<=0.7,$B$30,VLOOKUP(F426,Intersections!A:H,8,FALSE)<=2,$B$31,TRUE,0)","v":0},{"$f":"_xlfn.IFS(VLOOKUP(F426,Intersections!A:D,4,FALSE)=\"Urban\",$B$30,TRUE,0)","v":0}]
[null,null,null,null,null,"US-34 & BUS-34/Burlington Ave",{"$f":"COUNTIF('WWD Crashes'!C:C,F427)","v":0},{"$f":"COUNTIFS('Non-Crash Events'!B:B,F427,'Non-Crash Events'!R:R,\">0\")","v":0},4,null,null,null,null,null,null,null,null,null,null,null,null,null,null,null,null,null,{"$f":"SUMIFS('WWD Crashes'!G:G,'WWD Crashes'!C:C,F427)","v":0},{"$f":"_xlfn.IFS(AA427<0.125,$B$3,AA427<0.25,$B$4,AA427<0.5,$B$5,AA427<0.99,$B$6,AA427<1.5,$B$7,TRUE,$B$8)+$B$9*SUMIFS('WWD Crashes'!G:G,'WWD Crashes'!C:C,F427,'WWD Crashes'!L:L,\">0\")++$B$10*SUMIFS('WWD Crashes'!G:G,'WWD Crashes'!C:C,F427,'WWD Crashes'!M:M,\">0\")","v":0},{"$f":"MIN($B$16*SUMIF('Non-Crash Events'!B:B,F427,'Non-Crash Events'!R:R),50)","v":0},{"$f":"IF(VLOOKUP(F427,Intersections!A:E,5,FALSE)=\"Unique\",$B$22,IF(VLOOKUP(F427,Intersections!A:E,5,FALSE)=\"Split\",$B$23,0))","v":0},{"$f":"VLOOKUP(F427,Intersections!A:F,6,FALSE)","v":6500},1,{"$f":"VLOOKUP(F427,Intersections!A:G,7,FALSE)","v":2420},3,0,{"$f":"_xlfn.IFS(VLOOKUP(F427,Intersections!A:H,8,FALSE)<=0.7,$B$30,VLOOKUP(F427,Intersections!A:H,8,FALSE)<=2,$B$31,TRUE,0)","v":0},{"$f":"_xlfn.IFS(VLOOKUP(F427,Intersections!A:D,4,FALSE)=\"Urban\",$B$30,TRUE,0)","v":0}]
[null,null,null,null,null,"US- 20  N  Ramp & IOWA 4 / MARSHALL AVE",{"$f":"COUNTIF('WWD Crashes'!C:C,F428)","v":0},{"$f":"COUNTIFS('Non-Crash Events'!B:B,F428,'Non-Crash Events'!R:R,\">0\")","v":0},4,null,null,null,null,null,null,null,null,null,null,null,null,null,null,null,null,null,{"$f":"SUMIFS('WWD Crashes'!G:G,'WWD Crashes'!C:C,F428)","v":0},{"$f":"_xlfn.IFS(AA428<0.125,$B$3,AA428<0.25,$B$4,AA428<0.5,$B$5,AA428<0.99,$B$6,AA428<1.5,$B$7,TRUE,$B$8)+$B$9*SUMIFS('WWD Crashes'!G:G,'WWD Crashes'!C:C,F428,'WWD Crashes'!L:L,\">0\")++$B$10*SUMIFS('WWD Crashes'!G:G,'WWD Crashes'!C:C,F428,'WWD Crashes'!M:M,\">0\")","v":0},{"$f":"MIN($B$16*SUMIF('Non-Crash Events'!B:B,F428,'Non-Crash Events'!R:R),50)","v":0},{"$f":"IF(VLOOKUP(F428,Intersections!A:E,5,FALSE)=\"Unique\",$B$22,IF(VLOOKUP(F428,Intersections!A:E,5,FALSE)=\"Split\",$B$23,0))","v":0},{"$f":"VLOOKUP(F428,Intersections!A:F,6,FALSE)","v":5700},1,{"$f":"VLOOKUP(F428,Intersections!A:G,7,FALSE)","v":2580},3,0,{"$f":"_xlfn.IFS(VLOOKUP(F428,Intersections!A:H,8,FALSE)<=0.7,$B$30,VLOOKUP(F428,Intersections!A:H,8,FALSE)<=2,$B$31,TRUE,0)","v":0},{"$f":"_xlfn.IFS(VLOOKUP(F428,Intersections!A:D,4,FALSE)=\"Urban\",$B$30,TRUE,0)","v":0}]
[null,null,null,null,null,"US 61 N & US 61 N TO J 40 S",{"$f":"COUNTIF('WWD Crashes'!C:C,F429)","v":0},{"$f":"COUNTIFS('Non-Crash Events'!B:B,F429,'Non-Crash Events'!R:R,\">0\")","v":0},4,null,null,null,null,null,null,null,null,null,null,null,null,null,null,null,null,null,{"$f":"SUMIFS('WWD Crashes'!G:G,'WWD Crashes'!C:C,F429)","v":0},{"$f":"_xlfn.IFS(AA429<0.125,$B$3,AA429<0.25,$B$4,AA429<0.5,$B$5,AA429<0.99,$B$6,AA429<1.5,$B$7,TRUE,$B$8)+$B$9*SUMIFS('WWD Crashes'!G:G,'WWD Crashes'!C:C,F429,'WWD Crashes'!L:L,\">0\")++$B$10*SUMIFS('WWD Crashes'!G:G,'WWD Crashes'!C:C,F429,'WWD Crashes'!M:M,\">0\")","v":0},{"$f":"MIN($B$16*SUMIF('Non-Crash Events'!B:B,F429,'Non-Crash Events'!R:R),50)","v":0},{"$f":"IF(VLOOKUP(F429,Intersections!A:E,5,FALSE)=\"Unique\",$B$22,IF(VLOOKUP(F429,Intersections!A:E,5,FALSE)=\"Split\",$B$23,0))","v":0},{"$f":"VLOOKUP(F429,Intersections!A:F,6,FALSE)","v":6000},1,{"$f":"VLOOKUP(F429,Intersections!A:G,7,FALSE)","v":2200},3,0,{"$f":"_xlfn.IFS(VLOOKUP(F429,Intersections!A:H,8,FALSE)<=0.7,$B$30,VLOOKUP(F429,Intersections!A:H,8,FALSE)<=2,$B$31,TRUE,0)","v":0},{"$f":"_xlfn.IFS(VLOOKUP(F429,Intersections!A:D,4,FALSE)=\"Urban\",$B$30,TRUE,0)","v":0}]
[null,null,null,null,null,"IOWA 9  E RAMP & IOWA 60",{"$f":"COUNTIF('WWD Crashes'!C:C,F430)","v":0},{"$f":"COUNTIFS('Non-Crash Events'!B:B,F430,'Non-Crash Events'!R:R,\">0\")","v":0},4,null,null,null,null,null,null,null,null,null,null,null,null,null,null,null,null,null,{"$f":"SUMIFS('WWD Crashes'!G:G,'WWD Crashes'!C:C,F430)","v":0},{"$f":"_xlfn.IFS(AA430<0.125,$B$3,AA430<0.25,$B$4,AA430<0.5,$B$5,AA430<0.99,$B$6,AA430<1.5,$B$7,TRUE,$B$8)+$B$9*SUMIFS('WWD Crashes'!G:G,'WWD Crashes'!C:C,F430,'WWD Crashes'!L:L,\">0\")++$B$10*SUMIFS('WWD Crashes'!G:G,'WWD Crashes'!C:C,F430,'WWD Crashes'!M:M,\">0\")","v":0},{"$f":"MIN($B$16*SUMIF('Non-Crash Events'!B:B,F430,'Non-Crash Events'!R:R),50)","v":0},{"$f":"IF(VLOOKUP(F430,Intersections!A:E,5,FALSE)=\"Unique\",$B$22,IF(VLOOKUP(F430,Intersections!A:E,5,FALSE)=\"Split\",$B$23,0))","v":0},{"$f":"VLOOKUP(F430,Intersections!A:F,6,FALSE)","v":3450},1,{"$f":"VLOOKUP(F430,Intersections!A:G,7,FALSE)","v":1900},3,0,{"$f":"_xlfn.IFS(VLOOKUP(F430,Intersections!A:H,8,FALSE)<=0.7,$B$30,VLOOKUP(F430,Intersections!A:H,8,FALSE)<=2,$B$31,TRUE,0)","v":0},{"$f":"_xlfn.IFS(VLOOKUP(F430,Intersections!A:D,4,FALSE)=\"Urban\",$B$30,TRUE,0)","v":0}]
[null,null,null,null,null,"US- 20 S loop & NEELY AVE",{"$f":"COUNTIF('WWD Crashes'!C:C,F431)","v":0},{"$f":"COUNTIFS('Non-Crash Events'!B:B,F431,'Non-Crash Events'!R:R,\">0\")","v":0},3,null,null,null,null,null,null,null,null,null,null,null,null,null,null,null,null,null,{"$f":"SUMIFS('WWD Crashes'!G:G,'WWD Crashes'!C:C,F431)","v":0},{"$f":"_xlfn.IFS(AA431<0.125,$B$3,AA431<0.25,$B$4,AA431<0.5,$B$5,AA431<0.99,$B$6,AA431<1.5,$B$7,TRUE,$B$8)+$B$9*SUMIFS('WWD Crashes'!G:G,'WWD Crashes'!C:C,F431,'WWD Crashes'!L:L,\">0\")++$B$10*SUMIFS('WWD Crashes'!G:G,'WWD Crashes'!C:C,F431,'WWD Crashes'!M:M,\">0\")","v":0},{"$f":"MIN($B$16*SUMIF('Non-Crash Events'!B:B,F431,'Non-Crash Events'!R:R),50)","v":0},{"$f":"IF(VLOOKUP(F431,Intersections!A:E,5,FALSE)=\"Unique\",$B$22,IF(VLOOKUP(F431,Intersections!A:E,5,FALSE)=\"Split\",$B$23,0))","v":0},{"$f":"VLOOKUP(F431,Intersections!A:F,6,FALSE)","v":9500},2,{"$f":"VLOOKUP(F431,Intersections!A:G,7,FALSE)","v":390},1,0,{"$f":"_xlfn.IFS(VLOOKUP(F431,Intersections!A:H,8,FALSE)<=0.7,$B$30,VLOOKUP(F431,Intersections!A:H,8,FALSE)<=2,$B$31,TRUE,0)","v":0},{"$f":"_xlfn.IFS(VLOOKUP(F431,Intersections!A:D,4,FALSE)=\"Urban\",$B$30,TRUE,0)","v":0}]
[null,null,null,null,null,"IA 191 N & IA 191 S TO I 680 W",{"$f":"COUNTIF('WWD Crashes'!C:C,F432)","v":0},{"$f":"COUNTIFS('Non-Crash Events'!B:B,F432,'Non-Crash Events'!R:R,\">0\")","v":0},3,null,null,null,null,null,null,null,null,null,null,null,null,null,null,null,null,null,{"$f":"SUMIFS('WWD Crashes'!G:G,'WWD Crashes'!C:C,F432)","v":0},{"$f":"_xlfn.IFS(AA432<0.125,$B$3,AA432<0.25,$B$4,AA432<0.5,$B$5,AA432<0.99,$B$6,AA432<1.5,$B$7,TRUE,$B$8)+$B$9*SUMIFS('WWD Crashes'!G:G,'WWD Crashes'!C:C,F432,'WWD Crashes'!L:L,\">0\")++$B$10*SUMIFS('WWD Crashes'!G:G,'WWD Crashes'!C:C,F432,'WWD Crashes'!M:M,\">0\")","v":0},{"$f":"MIN($B$16*SUMIF('Non-Crash Events'!B:B,F432,'Non-Crash Events'!R:R),50)","v":0},{"$f":"IF(VLOOKUP(F432,Intersections!A:E,5,FALSE)=\"Unique\",$B$22,IF(VLOOKUP(F432,Intersections!A:E,5,FALSE)=\"Split\",$B$23,0))","v":0},{"$f":"VLOOKUP(F432,Intersections!A:F,6,FALSE)","v":7400},1,{"$f":"VLOOKUP(F432,Intersections!A:G,7,FALSE)","v":1620},2,0,{"$f":"_xlfn.IFS(VLOOKUP(F432,Intersections!A:H,8,FALSE)<=0.7,$B$30,VLOOKUP(F432,Intersections!A:H,8,FALSE)<=2,$B$31,TRUE,0)","v":0},{"$f":"_xlfn.IFS(VLOOKUP(F432,Intersections!A:D,4,FALSE)=\"Urban\",$B$30,TRUE,0)","v":0}]
[null,null,null,null,null,"US-59 N & US-34",{"$f":"COUNTIF('WWD Crashes'!C:C,F433)","v":0},{"$f":"COUNTIFS('Non-Crash Events'!B:B,F433,'Non-Crash Events'!R:R,\">0\")","v":0},3,null,null,null,null,null,null,null,null,null,null,null,null,null,null,null,null,null,{"$f":"SUMIFS('WWD Crashes'!G:G,'WWD Crashes'!C:C,F433)","v":0},{"$f":"_xlfn.IFS(AA433<0.125,$B$3,AA433<0.25,$B$4,AA433<0.5,$B$5,AA433<0.99,$B$6,AA433<1.5,$B$7,TRUE,$B$8)+$B$9*SUMIFS('WWD Crashes'!G:G,'WWD Crashes'!C:C,F433,'WWD Crashes'!L:L,\">0\")++$B$10*SUMIFS('WWD Crashes'!G:G,'WWD Crashes'!C:C,F433,'WWD Crashes'!M:M,\">0\")","v":0},{"$f":"MIN($B$16*SUMIF('Non-Crash Events'!B:B,F433,'Non-Crash Events'!R:R),50)","v":0},{"$f":"IF(VLOOKUP(F433,Intersections!A:E,5,FALSE)=\"Unique\",$B$22,IF(VLOOKUP(F433,Intersections!A:E,5,FALSE)=\"Split\",$B$23,0))","v":0},{"$f":"VLOOKUP(F433,Intersections!A:F,6,FALSE)","v":4320},1,{"$f":"VLOOKUP(F433,Intersections!A:G,7,FALSE)","v":1650},2,0,{"$f":"_xlfn.IFS(VLOOKUP(F433,Intersections!A:H,8,FALSE)<=0.7,$B$30,VLOOKUP(F433,Intersections!A:H,8,FALSE)<=2,$B$31,TRUE,0)","v":0},{"$f":"_xlfn.IFS(VLOOKUP(F433,Intersections!A:D,4,FALSE)=\"Urban\",$B$30,TRUE,0)","v":0}]
[null,null,null,null,null,"US-30 & University Blvd",{"$f":"COUNTIF('WWD Crashes'!C:C,F434)","v":1},{"$f":"COUNTIFS('Non-Crash Events'!B:B,F434,'Non-Crash Events'!R:R,\">0\")","v":22},{"$f":"SUM(I433:I433)","v":3},null,null,null,null,null,null,null,null,null,null,null,null,null,null,null,null,null,{"$f":"SUMIFS('WWD Crashes'!G:G,'WWD Crashes'!C:C,F434)","v":1},{"$f":"_xlfn.IFS(AA434<0.125,$B$3,AA434<0.25,$B$4,AA434<0.5,$B$5,AA434<0.99,$B$6,AA434<1.5,$B$7,TRUE,$B$8)+$B$9*SUMIFS('WWD Crashes'!G:G,'WWD Crashes'!C:C,F434,'WWD Crashes'!L:L,\">0\")++$B$10*SUMIFS('WWD Crashes'!G:G,'WWD Crashes'!C:C,F434,'WWD Crashes'!M:M,\">0\")","v":20},{"$f":"MIN($B$16*SUMIF('Non-Crash Events'!B:B,F434,'Non-Crash Events'!R:R),50)","v":50},{"$f":"IF(VLOOKUP(F434,Intersections!A:E,5,FALSE)=\"Unique\",$B$22,IF(VLOOKUP(F434,Intersections!A:E,5,FALSE)=\"Split\",$B$23,0))","v":0},{"$f":"VLOOKUP(F434,Intersections!A:F,6,FALSE)","v":18300},{"$f":"_xlfn.IFS(AE434<7821,1,AE434<9601,2,AE434<11931,3,AE434<15801,4,AE434<20401,5,AE434<24821,6,AE434<29771,7,AE434<36181,8,AE434<67181,9,TRUE,10)","v":5},{"$f":"VLOOKUP(F434,Intersections!A:G,7,FALSE)","v":15400},{"$f":"_xlfn.IFS(AG434<827,1,AG434<1663,2,AG434<2590,3,AG434<3401,4,AG434<4671,5,AG434<6501,6,AG434<8401,7,AG434<1161,8,AG434<19401,9,TRUE,10)","v":9},{"$f":"IF(AND(AF434>8,AG434>8),5,0)","v":0},{"$f":"_xlfn.IFS(VLOOKUP(F434,Intersections!A:H,8,FALSE)<=0.7,$B$30,VLOOKUP(F434,Intersections!A:H,8,FALSE)<=2,$B$31,TRUE,0)","v":10},{"$f":"_xlfn.IFS(VLOOKUP(F434,Intersections!A:D,4,FALSE)=\"Urban\",$B$30,TRUE,0)","v":10}]
[null,null,null,null,null,"US- 20  S Ramp & UNION AVE/ IOWA 196",{"$f":"COUNTIF('WWD Crashes'!C:C,F435)","v":0},{"$f":"COUNTIFS('Non-Crash Events'!B:B,F435,'Non-Crash Events'!R:R,\">0\")","v":0},{"$f":"SUM(AB435,AC435,AD435,AF435,AH435,AI435,AJ435)","v":0}]
[]
[null,null,null,{"$f":"HYPERLINK(\"#'Weight Based'!\"&ADDRESS(5,11),\"Jump to Details\")","v":"Jump to Details"}]
[]
[]
[]
[]
[]
[]
[]
[]
[]
[]
[]
[]
[]
[]
[]
[]
[]
[]
[]
[null,null,null,{"$f":"HYPERLINK(\"#'Weight Based'!\"&ADDRESS(5,11),\"Jump to Details\")","v":"Jump to Details"}]

{"sheet":"Cameras","index":4,"n_rows":120,"n_cols":17,"rows_kept":120,"cut":false,"hidden":false,"merged":[]}
["Fy '21 Interchange #","Rank","Interchange","Existing DOT Pole","# of Cameras","Target Side","# of Crashes","# of Non-Crash Events","Total Points","Camera Cumulative Total","Camera Install Cost","ITS $ Electrical",null,"US-30 At-Grade Corridor","Existing DOT Pole","Targeted Side","# of Non-Crash Events"]
["N.17",{"$f":"MATCH(C2,'Weight Based'!F:F,0)-1","v":1},"I-380 & Wilson Ave","Yes, or Sensor Pole - Need to decide to keep Doug's sensor or not",{"$f":"IF(F2=\"Both\",2,1)","v":1},"E",{"$f":"COUNTIF('WWD Crashes'!C:C,C2)","v":3},{"$f":"COUNTIF('Non-Crash Events'!B:B,C2)","v":4},{"$f":"VLOOKUP(C2,'Weight Based'!F:I,4,FALSE)","v":201.5},{"$f":"E2","v":1},4000,null,null,"US-30 & 3rd St/CR-S14","Yes","Both",4]
["N.04",{"$f":"MATCH(C3,'Weight Based'!F:F,0)-1","v":4},"I-80 & Grand Prairie Pkwy","Yes, existing Camera Pole",{"$f":"IF(F3=\"Both\",2,1)","v":2},"Both",{"$f":"COUNTIF('WWD Crashes'!C:C,C3)","v":1},{"$f":"COUNTIF('Non-Crash Events'!B:B,C3)","v":1},{"$f":"VLOOKUP(C3,'Weight Based'!F:I,4,FALSE)","v":185},{"$f":"E3+J2","v":3},6000,null,null,"US-30 & 650th Ave/CR-S27","No","Both",6]
["N.19",{"$f":"MATCH(C4,'Weight Based'!F:F,0)-1","v":2},"I-380 & 1st St","No, however viable streetlight (East side of Rv)",1,"N",{"$f":"COUNTIF('WWD Crashes'!C:C,C4)","v":1},{"$f":"COUNTIF('Non-Crash Events'!B:B,C4)","v":6},{"$f":"VLOOKUP(C4,'Weight Based'!F:I,4,FALSE)","v":191.15},4,4000,7000,null,"US-30 & 600th Ave","Yes","N",2]
["N.05",{"$f":"MATCH(C5,'Weight Based'!F:F,0)-1","v":14},"I-35 & US-6/Hickman Rd","Yes, existing Camera Pole",{"$f":"IF(F5=\"Both\",2,1)","v":1},"E",{"$f":"COUNTIF('WWD Crashes'!C:C,C5)","v":1},{"$f":"COUNTIF('Non-Crash Events'!B:B,C5)","v":1},{"$f":"VLOOKUP(C5,'Weight Based'!F:I,4,FALSE)","v":130},5,4000,null,null,"US-30 & 580th Ave","Yes","Both",6]
["N.35",{"$f":"MATCH(C6,'Weight Based'!F:F,0)-1","v":7},"I-29 & IA-192/16th St","Yes, existing Camera Pole",{"$f":"IF(F6=\"Both\",2,1)","v":1},"W",{"$f":"COUNTIF('WWD Crashes'!C:C,C6)","v":1},{"$f":"COUNTIF('Non-Crash Events'!B:B,C6)","v":0},{"$f":"VLOOKUP(C6,'Weight Based'!F:I,4,FALSE)","v":148.25},6,4000,null,null,"US-30 & Sand Hill Trail","Yes","Both",4]
["N.74",{"$f":"MATCH(C7,'Weight Based'!F:F,0)-1","v":3},"US-30 & Kirkwood Blvd","Yes, but lots of trees - Look in daytime",2,"SE & SW",{"$f":"COUNTIF('WWD Crashes'!C:C,C7)","v":3},{"$f":"COUNTIF('Non-Crash Events'!B:B,C7)","v":6},{"$f":"VLOOKUP(C7,'Weight Based'!F:I,4,FALSE)","v":186.9},8,6000,null,null,"US-30 & W Ave","No","N",3]
["N.14",{"$f":"MATCH(C8,'Weight Based'!F:F,0)-1","v":6},"I-80 & 1st Ave","Yes, existing Camera Pole",{"$f":"IF(F8=\"Both\",2,1)","v":1},"S",{"$f":"COUNTIF('WWD Crashes'!C:C,C8)","v":2},{"$f":"COUNTIF('Non-Crash Events'!B:B,C8)","v":2},{"$f":"VLOOKUP(C8,'Weight Based'!F:I,4,FALSE)","v":154},9,4000,null,null,"US-30 & Corporal Roger Snedden Dr","Yes","Both",15]
["N.26",{"$f":"MATCH(C9,'Weight Based'!F:F,0)-1","v":11},"I-35 & Grand Ave","Yes, existing Camera Pole",{"$f":"IF(F9=\"Both\",2,1)","v":1},"W",{"$f":"COUNTIF('WWD Crashes'!C:C,C9)","v":2},{"$f":"COUNTIF('Non-Crash Events'!B:B,C9)","v":1},{"$f":"VLOOKUP(C9,'Weight Based'!F:I,4,FALSE)","v":128.25},10,4000,null,null,"US-30 & Marshall St","No","N",4]
["N.34",{"$f":"MATCH(C10,'Weight Based'!F:F,0)-1","v":8},"I-280 & US-6","No, Mount on Truss S. of Interchange",2,"Both",{"$f":"COUNTIF('WWD Crashes'!C:C,C10)","v":1},{"$f":"COUNTIF('Non-Crash Events'!B:B,C10)","v":2},{"$f":"VLOOKUP(C10,'Weight Based'!F:I,4,FALSE)","v":144.25},12,6000,0,null,"US-30 & S Linn St","No","N",9]
["N.16",{"$f":"MATCH(C11,'Weight Based'!F:F,0)-1","v":9},"I-380 & 33rd Ave","Yes, existing Camera Pole",{"$f":"IF(F11=\"Both\",2,1)","v":1},"E",{"$f":"COUNTIF('WWD Crashes'!C:C,C11)","v":2},{"$f":"COUNTIF('Non-Crash Events'!B:B,C11)","v":5},{"$f":"VLOOKUP(C11,'Weight Based'!F:I,4,FALSE)","v":141.15},13,4000,null,null,"Highway 163 - Pleasant Hill At-Grade Corridor"]
["N.50",{"$f":"MATCH(C12,'Weight Based'!F:F,0)-1","v":13},"US-218 & Barrick Rd","No, however viable streetlight",2,"Both",{"$f":"COUNTIF('WWD Crashes'!C:C,C12)","v":1},{"$f":"COUNTIF('Non-Crash Events'!B:B,C12)","v":0},{"$f":"VLOOKUP(C12,'Weight Based'!F:I,4,FALSE)","v":130.25},15,6000,8000,null,"IA-163 & 60th St","No","Both",0]
["N.07",{"$f":"MATCH(C13,'Weight Based'!F:F,0)-1","v":28},"I-35 & Merle Hay Rd","Yes, existing Camera Pole",1,"W",{"$f":"COUNTIF('WWD Crashes'!C:C,C13)","v":2},{"$f":"COUNTIF('Non-Crash Events'!B:B,C13)","v":0},{"$f":"VLOOKUP(C13,'Weight Based'!F:I,4,FALSE)","v":97.5},16,4000,null,null,"IA-163 & 64th St","No","Both",0]
["N.25",{"$f":"MATCH(C14,'Weight Based'!F:F,0)-1","v":215},"I-35 & IA-92","Yes, existing Camera Pole",1,"W",{"$f":"COUNTIF('WWD Crashes'!C:C,C14)","v":0},{"$f":"COUNTIF('Non-Crash Events'!B:B,C14)","v":2},{"$f":"VLOOKUP(C14,'Weight Based'!F:I,4,FALSE)","v":22},17,4000,null,null,"IA-163 & 70th St","No","Both",1]
["N.37",{"$f":"MATCH(C15,'Weight Based'!F:F,0)-1","v":27},"I-29 & 275th St","No, however viable streetlight",1,"E",{"$f":"COUNTIF('WWD Crashes'!C:C,C15)","v":1},{"$f":"COUNTIF('Non-Crash Events'!B:B,C15)","v":0},{"$f":"VLOOKUP(C15,'Weight Based'!F:I,4,FALSE)","v":101.25},18,4000,7000,null,"IA-163 & 75th St","No","Both",0]
["N.29",{"$f":"MATCH(C16,'Weight Based'!F:F,0)-1","v":22},"I-35 & Oralabor Rd","Yes, existing Camera Pole",2,"Both",{"$f":"COUNTIF('WWD Crashes'!C:C,C16)","v":3},{"$f":"COUNTIF('Non-Crash Events'!B:B,C16)","v":1},{"$f":"VLOOKUP(C16,'Weight Based'!F:I,4,FALSE)","v":107.5},20,6000,null,null,"IA-163 & 80th St","No","Both",0]
["N.06",{"$f":"MATCH(C17,'Weight Based'!F:F,0)-1","v":29},"I-80 & 86th St","Yes, existing Camera Pole",1,"N",{"$f":"COUNTIF('WWD Crashes'!C:C,C17)","v":3},{"$f":"COUNTIF('Non-Crash Events'!B:B,C17)","v":0},{"$f":"VLOOKUP(C17,'Weight Based'!F:I,4,FALSE)","v":96.5},21,4000]
["N.18",{"$f":"MATCH(C18,'Weight Based'!F:F,0)-1","v":25},"I-380 & 1st Ave","Yes - New camera aimed west at Exit Ramp",1,"W",{"$f":"COUNTIF('WWD Crashes'!C:C,C18)","v":1},{"$f":"COUNTIF('Non-Crash Events'!B:B,C18)","v":3},{"$f":"VLOOKUP(C18,'Weight Based'!F:I,4,FALSE)","v":103.65},22,4000]
["N.32",{"$f":"MATCH(C19,'Weight Based'!F:F,0)-1","v":48},"I-235 & 7th St/5th Ave","Yes, existing Camera Pole",1,"S",{"$f":"COUNTIF('WWD Crashes'!C:C,C19)","v":2},{"$f":"COUNTIF('Non-Crash Events'!B:B,C19)","v":0},{"$f":"VLOOKUP(C19,'Weight Based'!F:I,4,FALSE)","v":84},23,4000]
["N.20",{"$f":"MATCH(C20,'Weight Based'!F:F,0)-1","v":12},"I-380 & 7th St","Yes, existing Camera Pole",1,"W",{"$f":"COUNTIF('WWD Crashes'!C:C,C20)","v":1},{"$f":"COUNTIF('Non-Crash Events'!B:B,C20)","v":5},{"$f":"VLOOKUP(C20,'Weight Based'!F:I,4,FALSE)","v":132},24,4000]
["N.28",{"$f":"MATCH(C21,'Weight Based'!F:F,0)-1","v":42},"I-35 & Corporate Woods Dr","Yes, existing Camera Pole",2,"Both",{"$f":"COUNTIF('WWD Crashes'!C:C,C21)","v":1},{"$f":"COUNTIF('Non-Crash Events'!B:B,C21)","v":0},{"$f":"VLOOKUP(C21,'Weight Based'!F:I,4,FALSE)","v":81.5},26,6000]
["N.65",{"$f":"MATCH(C22,'Weight Based'!F:F,0)-1","v":49},"IA-141 & IA-415","Yes",1,"W",{"$f":"COUNTIF('WWD Crashes'!C:C,C22)","v":1},{"$f":"COUNTIF('Non-Crash Events'!B:B,C22)","v":0},{"$f":"VLOOKUP(C22,'Weight Based'!F:I,4,FALSE)","v":84},27,4000]
["N.09",{"$f":"MATCH(C23,'Weight Based'!F:F,0)-1","v":10},"I-80 & US-69","Yes, existing Camera Pole",2,"Both",{"$f":"COUNTIF('WWD Crashes'!C:C,C23)","v":2},{"$f":"COUNTIF('Non-Crash Events'!B:B,C23)","v":1},{"$f":"VLOOKUP(C23,'Weight Based'!F:I,4,FALSE)","v":135},29,6000]
["N.27",{"$f":"MATCH(C24,'Weight Based'!F:F,0)-1","v":17},"I-35 & Mills Civic Pkwy","Yes, existing Camera Pole - Add Spaceship",1,"W",{"$f":"COUNTIF('WWD Crashes'!C:C,C24)","v":3},{"$f":"COUNTIF('Non-Crash Events'!B:B,C24)","v":1},{"$f":"VLOOKUP(C24,'Weight Based'!F:I,4,FALSE)","v":120},30,4000]
["N.36",{"$f":"MATCH(C25,'Weight Based'!F:F,0)-1","v":33},"I-29 & IA-175","No, however viable streetlight",1,"E",{"$f":"COUNTIF('WWD Crashes'!C:C,C25)","v":1},{"$f":"COUNTIF('Non-Crash Events'!B:B,C25)","v":0},{"$f":"VLOOKUP(C25,'Weight Based'!F:I,4,FALSE)","v":91.25},31,4000,5000]
["N.42",{"$f":"MATCH(C26,'Weight Based'!F:F,0)-1","v":45},"US-20 & 330th Ave/CR-X49","In Process",0,"Both",{"$f":"COUNTIF('WWD Crashes'!C:C,C26)","v":2},{"$f":"COUNTIF('Non-Crash Events'!B:B,C26)","v":0},{"$f":"VLOOKUP(C26,'Weight Based'!F:I,4,FALSE)","v":85.25},31,"None","None in '21"]
["N.31",{"$f":"MATCH(C27,'Weight Based'!F:F,0)-1","v":18},"I-235 & Keosauqua Way","Yes, existing camera pole on truss will work",{"$f":"IF(F27=\"Both\",2,1)","v":2},"Both",{"$f":"COUNTIF('WWD Crashes'!C:C,C27)","v":3},{"$f":"COUNTIF('Non-Crash Events'!B:B,C27)","v":1},{"$f":"VLOOKUP(C27,'Weight Based'!F:I,4,FALSE)","v":119},33,6000]
["N.75",{"$f":"MATCH(C28,'Weight Based'!F:F,0)-1","v":41},"US-30 & C St","Yes, existing camera pole will work",2,"NW & SE",{"$f":"COUNTIF('WWD Crashes'!C:C,C28)","v":0},{"$f":"COUNTIF('Non-Crash Events'!B:B,C28)","v":2},{"$f":"VLOOKUP(C28,'Weight Based'!F:I,4,FALSE)","v":86.9},35,6000]
["N.73",{"$f":"MATCH(C29,'Weight Based'!F:F,0)-1","v":38},"US-30 & WACONIA AVE/6TH ST SW","No, will need a new pole and an electrical run",2,"N",{"$f":"COUNTIF('WWD Crashes'!C:C,C29)","v":1},{"$f":"COUNTIF('Non-Crash Events'!B:B,C29)","v":0},{"$f":"VLOOKUP(C29,'Weight Based'!F:I,4,FALSE)","v":87},37,6000,10000]
["N.08",{"$f":"MATCH(C30,'Weight Based'!F:F,0)-1","v":90},"I-80 & IA-415/2nd St","West Camera on truss  (Intrans?)w/ existing camera-East camera on DMS ",1,"Both",{"$f":"COUNTIF('WWD Crashes'!C:C,C30)","v":2},{"$f":"COUNTIF('Non-Crash Events'!B:B,C30)","v":0},{"$f":"VLOOKUP(C30,'Weight Based'!F:I,4,FALSE)","v":60},38,4000]
["N.70",{"$f":"MATCH(C31,'Weight Based'!F:F,0)-1","v":30},"US-30 & IA-330","No, but doing anyway",2,"Both",{"$f":"COUNTIF('WWD Crashes'!C:C,C31)","v":3},{"$f":"COUNTIF('Non-Crash Events'!B:B,C31)","v":5},{"$f":"VLOOKUP(C31,'Weight Based'!F:I,4,FALSE)","v":99.3},40,6000,12000]
["N.10",{"$f":"MATCH(C32,'Weight Based'!F:F,0)-1","v":61},"I-80 & IA-14","Yes",{"$f":"IF(F32=\"Both\",2,1)","v":1},"S",{"$f":"COUNTIF('WWD Crashes'!C:C,C32)","v":0},{"$f":"COUNTIF('Non-Crash Events'!B:B,C32)","v":0},{"$f":"VLOOKUP(C32,'Weight Based'!F:I,4,FALSE)","v":75},41,4000]
["N.55",{"$f":"MATCH(C33,'Weight Based'!F:F,0)-1","v":34},"US-34 & Main St","Yes, on a street light pole w/ RWIS items",1,"W",{"$f":"COUNTIF('WWD Crashes'!C:C,C33)","v":1},{"$f":"COUNTIF('Non-Crash Events'!B:B,C33)","v":0},{"$f":"VLOOKUP(C33,'Weight Based'!F:I,4,FALSE)","v":89},42,4000]
["N.67",{"$f":"MATCH(C34,'Weight Based'!F:F,0)-1","v":56},"US-30 & Duff Ave/US-69","Yes, existing camera pole will work",1,"N",{"$f":"COUNTIF('WWD Crashes'!C:C,C34)","v":0},{"$f":"COUNTIF('Non-Crash Events'!B:B,C34)","v":6},{"$f":"VLOOKUP(C34,'Weight Based'!F:I,4,FALSE)","v":78},43,4000]
["N.23",{"$f":"MATCH(C35,'Weight Based'!F:F,0)-1","v":35},"I-35 & US-34","Yes",1,"W",{"$f":"COUNTIF('WWD Crashes'!C:C,C35)","v":1},{"$f":"COUNTIF('Non-Crash Events'!B:B,C35)","v":0},{"$f":"VLOOKUP(C35,'Weight Based'!F:I,4,FALSE)","v":89},44,4000]
["N.33",{"$f":"MATCH(C36,'Weight Based'!F:F,0)-1","v":52},"I-235 & E 14th St","Yes",1,"W",{"$f":"COUNTIF('WWD Crashes'!C:C,C36)","v":2},{"$f":"COUNTIF('Non-Crash Events'!B:B,C36)","v":0},{"$f":"VLOOKUP(C36,'Weight Based'!F:I,4,FALSE)","v":85},45,4000]
["N.72",{"$f":"MATCH(C37,'Weight Based'!F:F,0)-1","v":47},"US-30 & Edgewood Rd","Yes",1,"N",{"$f":"COUNTIF('WWD Crashes'!C:C,C37)","v":2},{"$f":"COUNTIF('Non-Crash Events'!B:B,C37)","v":6},{"$f":"VLOOKUP(C37,'Weight Based'!F:I,4,FALSE)","v":84.199999999999989},46,4000]
["N.38",{"$f":"MATCH(C38,'Weight Based'!F:F,0)-1","v":74},"I-29 & Singing Hills Blvd","Yes",2,"Both",{"$f":"COUNTIF('WWD Crashes'!C:C,C38)","v":2},{"$f":"COUNTIF('Non-Crash Events'!B:B,C38)","v":1},{"$f":"VLOOKUP(C38,'Weight Based'!F:I,4,FALSE)","v":68},48,6000]
["N.68",{"$f":"MATCH(C39,'Weight Based'!F:F,0)-1","v":59},"US-30 & Dayton Ave","Yes",1,"N",{"$f":"COUNTIF('WWD Crashes'!C:C,C39)","v":0},{"$f":"COUNTIF('Non-Crash Events'!B:B,C39)","v":5},{"$f":"VLOOKUP(C39,'Weight Based'!F:I,4,FALSE)","v":77},49,4000]
["N.45",{"$f":"MATCH(C40,'Weight Based'!F:F,0)-1","v":54},"US-151 & IA-1","Yes",1,"S",{"$f":"COUNTIF('WWD Crashes'!C:C,C40)","v":1},{"$f":"COUNTIF('Non-Crash Events'!B:B,C40)","v":0},{"$f":"VLOOKUP(C40,'Weight Based'!F:I,4,FALSE)","v":79},50,4000]
["N.64",{"$f":"MATCH(C41,'Weight Based'!F:F,0)-1","v":60},"IA-100 & Edgewood Rd","Yes",1,"S",{"$f":"COUNTIF('WWD Crashes'!C:C,C41)","v":0},{"$f":"COUNTIF('Non-Crash Events'!B:B,C41)","v":5},{"$f":"VLOOKUP(C41,'Weight Based'!F:I,4,FALSE)","v":75.800000000000011},51,4000]
["N.95",100,"US 63 N. Side of New Hampton","No camera pole, but could use lighting",1,"N",{"$f":"COUNTIF('WWD Crashes'!C:C,C42)","v":0},{"$f":"COUNTIF('Non-Crash Events'!B:B,C42)","v":0},{"$f":"VLOOKUP(C42,'Weight Based'!F:I,4,FALSE)","v":{"$error":"#N/A"}},52,4000,3000]
["N.46",{"$f":"MATCH(C43,'Weight Based'!F:F,0)-1","v":15},"US-218 & IA-2","No camera/pole in middle.  However could do West side very easy with streetlight and existign power close.  Splitting this one - Need was both sides, but by placing on west side, we will still \"see\" the east side (but not detect)",{"$f":"IF(F43=\"Both\",2,1)","v":1},"West",{"$f":"COUNTIF('WWD Crashes'!C:C,C43)","v":2},{"$f":"COUNTIF('Non-Crash Events'!B:B,C43)","v":0},{"$f":"VLOOKUP(C43,'Weight Based'!F:I,4,FALSE)","v":128.75},53,4000,7000]
["N/A",{"$f":"MATCH(C44,'Weight Based'!F:F,0)-1","v":{"$error":"#N/A"}},"US 65 & Ia 330","No existing camera, but streetlighs will work",1,"South",{"$f":"COUNTIF('WWD Crashes'!C:C,C44)","v":0},{"$f":"COUNTIF('Non-Crash Events'!B:B,C44)","v":0},{"$f":"VLOOKUP(C44,'Weight Based'!F:I,4,FALSE)","v":{"$error":"#N/A"}},54,4000,7000]
[null,{"$f":"MATCH(C45,'Weight Based'!F:F,0)-1","v":199},"I-80 & Magnolia Rd","No, camera pols, but street lights and pwr is fairly close",1,"West",{"$f":"COUNTIF('WWD Crashes'!C:C,C45)","v":2},{"$f":"COUNTIF('Non-Crash Events'!B:B,C45)","v":2},{"$f":"VLOOKUP(C45,'Weight Based'!F:I,4,FALSE)","v":35},55,4000,7000]
[null,{"$f":"MATCH(C46,'Weight Based'!F:F,0)-1","v":{"$error":"#N/A"}},"US-30 & Corporal Roger Snedden Dr","Yes",1,"West",{"$f":"COUNTIF('WWD Crashes'!C:C,C46)","v":0},{"$f":"COUNTIF('Non-Crash Events'!B:B,C46)","v":19},{"$f":"VLOOKUP(C46,'Weight Based'!F:I,4,FALSE)","v":{"$error":"#N/A"}},56,4000]
[null,{"$f":"MATCH(C47,'Weight Based'!F:F,0)-1","v":{"$error":"#N/A"}},"US-30 & SW 4th St/CR-S14","Yes",1,"East",{"$f":"COUNTIF('WWD Crashes'!C:C,C47)","v":0},{"$f":"COUNTIF('Non-Crash Events'!B:B,C47)","v":5},{"$f":"VLOOKUP(C47,'Weight Based'!F:I,4,FALSE)","v":{"$error":"#N/A"}},57,4000]
[null,{"$f":"MATCH(C48,'Weight Based'!F:F,0)-1","v":{"$error":"#N/A"}},"US-30 & 650th Ave/CR-S27","New pole needed.  Place in SE Quad 300' east ",1,"West",{"$f":"COUNTIF('WWD Crashes'!C:C,C48)","v":0},{"$f":"COUNTIF('Non-Crash Events'!B:B,C48)","v":7},{"$f":"VLOOKUP(C48,'Weight Based'!F:I,4,FALSE)","v":{"$error":"#N/A"}},58,4000,11000]
[null,{"$f":"MATCH(C49,'Weight Based'!F:F,0)-1","v":59},"US-30 & Dayton Ave","Yes",1,"N",{"$f":"COUNTIF('WWD Crashes'!C:C,C49)","v":0},{"$f":"COUNTIF('Non-Crash Events'!B:B,C49)","v":5},{"$f":"VLOOKUP(C49,'Weight Based'!F:I,4,FALSE)","v":77},59,4000]
["N/A",{"$f":"MATCH(C50,'Weight Based'!F:F,0)-1","v":433},"US-30 & University Blvd","Yes - Need to compare repair cost",1,"South",{"$f":"COUNTIF('WWD Crashes'!C:C,C50)","v":1},{"$f":"COUNTIF('Non-Crash Events'!B:B,C50)","v":23},{"$f":"VLOOKUP(C50,'Weight Based'!F:I,4,FALSE)","v":3},60,4000]
[null,null,null,null,null,null,null,null,null,null,{"$f":"SUM(K2:K50)","v":216000},{"$f":"SUM(L2:L50)","v":84000},{"$f":"SUM(K51:L51)","v":300000}]
[null,null,null,null,null,null,null,null,null,null,null,"r"]
["N.13",{"$f":"MATCH(C53,'Weight Based'!F:F,0)-1","v":55},"I-80 & Coral Ridge Ave","Yes, S.Side, but lots of trees - Look in daytime",1,"Both",{"$f":"COUNTIF('WWD Crashes'!C:C,C53)","v":1},{"$f":"COUNTIF('Non-Crash Events'!B:B,C53)","v":3},{"$f":"VLOOKUP(C53,'Weight Based'!F:I,4,FALSE)","v":78.900000000000006}]
["N.61",{"$f":"MATCH(C54,'Weight Based'!F:F,0)-1","v":5},"IA-163 & CR-G28","No, however viable streetlight (New Pole)",{"$f":"IF(F54=\"Both\",2,1)","v":1},"E",{"$f":"COUNTIF('WWD Crashes'!C:C,C54)","v":2},{"$f":"COUNTIF('Non-Crash Events'!B:B,C54)","v":0},{"$f":"VLOOKUP(C54,'Weight Based'!F:I,4,FALSE)","v":166.25},{"$f":"E54+J3","v":4},4000,15000]
["N.63",{"$f":"MATCH(C55,'Weight Based'!F:F,0)-1","v":37},"IA-5 & McKimber St","No, will need a new pole and an electrical run",2,"W",{"$f":"COUNTIF('WWD Crashes'!C:C,C55)","v":1},{"$f":"COUNTIF('Non-Crash Events'!B:B,C55)","v":0},{"$f":"VLOOKUP(C55,'Weight Based'!F:I,4,FALSE)","v":87.5},{"$f":"E55+J28","v":37},6000,15000]
["N.69",{"$f":"MATCH(C56,'Weight Based'!F:F,0)-1","v":19},"US-30 & 19th St","Yes, need to be 100% sure (since I have a CCTV there)",{"$f":"IF(F56=\"Both\",2,1)","v":1},"S",{"$f":"COUNTIF('WWD Crashes'!C:C,C56)","v":0},{"$f":"COUNTIF('Non-Crash Events'!B:B,C56)","v":14},{"$f":"VLOOKUP(C56,'Weight Based'!F:I,4,FALSE)","v":119},{"$f":"E56+J21","v":27},4000]
["N.44",{"$f":"MATCH(C57,'Weight Based'!F:F,0)-1","v":26},"US-20 & Bryant St","Probably nothing of ours - Need to talk to Dave , and decide if it is worth the hassel",2,"Both",{"$f":"COUNTIF('WWD Crashes'!C:C,C57)","v":3},{"$f":"COUNTIF('Non-Crash Events'!B:B,C57)","v":0},{"$f":"VLOOKUP(C57,'Weight Based'!F:I,4,FALSE)","v":102},{"$f":"E57+J30","v":40},6000,10000]
["N.59",{"$f":"MATCH(C58,'Weight Based'!F:F,0)-1","v":66},"US-65 & US-6","South side has truss w/ Camera. N side needs help-No pwr - New Pole",2,"Both",{"$f":"COUNTIF('WWD Crashes'!C:C,C58)","v":0},{"$f":"COUNTIF('Non-Crash Events'!B:B,C58)","v":2},{"$f":"VLOOKUP(C58,'Weight Based'!F:I,4,FALSE)","v":72}]
["N.39",{"$f":"MATCH(C59,'Weight Based'!F:F,0)-1","v":67},"US-20 & US-63","Pwr at tower lighting is close,  needs pole",1,"S",{"$f":"COUNTIF('WWD Crashes'!C:C,C59)","v":0},{"$f":"COUNTIF('Non-Crash Events'!B:B,C59)","v":0},{"$f":"VLOOKUP(C59,'Weight Based'!F:I,4,FALSE)","v":72}]
["N.48",{"$f":"MATCH(C60,'Weight Based'!F:F,0)-1","v":57},"US-218 & Riverside Dr","No - New Pole Required.  Skipping this round.  In Future, consider a Spaceship Camera & Hold For InTrans",1,"SW",{"$f":"COUNTIF('WWD Crashes'!C:C,C60)","v":0},{"$f":"COUNTIF('Non-Crash Events'!B:B,C60)","v":1},{"$f":"VLOOKUP(C60,'Weight Based'!F:I,4,FALSE)","v":77.900000000000006}]
["N.54",{"$f":"MATCH(C61,'Weight Based'!F:F,0)-1","v":64},"US-34 & Gear Ave","No - New Pole Required.  But Pwr is very close.",1,"S",{"$f":"COUNTIF('WWD Crashes'!C:C,C61)","v":0},{"$f":"COUNTIF('Non-Crash Events'!B:B,C61)","v":0},{"$f":"VLOOKUP(C61,'Weight Based'!F:I,4,FALSE)","v":73}]
["N.49",{"$f":"MATCH(C62,'Weight Based'!F:F,0)-1","v":31},"US-218 & Sergeant Rd","No - New Pole Required.  Would probably want to do a ITS Spaceship camera then add a WWD, power near.  Tower lighting VERY urban",1,"S",{"$f":"COUNTIF('WWD Crashes'!C:C,C62)","v":1},{"$f":"COUNTIF('Non-Crash Events'!B:B,C62)","v":0},{"$f":"VLOOKUP(C62,'Weight Based'!F:I,4,FALSE)","v":94}]
["N.62",{"$f":"MATCH(C63,'Weight Based'!F:F,0)-1","v":46},"IA-5 & 110th Pl","No - New Pole Required. No street lights.  Pwr is there, but would be new service",1,"N",{"$f":"COUNTIF('WWD Crashes'!C:C,C63)","v":1},{"$f":"COUNTIF('Non-Crash Events'!B:B,C63)","v":0},{"$f":"VLOOKUP(C63,'Weight Based'!F:I,4,FALSE)","v":84.5}]
["N.46",{"$f":"MATCH(C64,'Weight Based'!F:F,0)-1","v":15},"US-218 & IA-2","No camera/pole in middle.  However could do West side very easy with streetlight and existign power close.  Splitting this up)",1,"East",{"$f":"COUNTIF('WWD Crashes'!C:C,C64)","v":2},{"$f":"COUNTIF('Non-Crash Events'!B:B,C64)","v":0},{"$f":"VLOOKUP(C64,'Weight Based'!F:I,4,FALSE)","v":128.75}]
["N.24",{"$f":"MATCH(C65,'Weight Based'!F:F,0)-1","v":50},"I-35 & Clay St","No, Plenty of Street lights, but source is on other side of interstate (I think)",1,"E",{"$f":"COUNTIF('WWD Crashes'!C:C,C65)","v":1},{"$f":"COUNTIF('Non-Crash Events'!B:B,C65)","v":0},{"$f":"VLOOKUP(C65,'Weight Based'!F:I,4,FALSE)","v":81}]
["N.03",{"$f":"MATCH(C66,'Weight Based'!F:F,0)-1","v":71},"I-80 & CR-F60/ELDORADO AVE","No, street light on N side of bridge.  Pwr due west, but requires boring",1,"E",{"$f":"COUNTIF('WWD Crashes'!C:C,C66)","v":1},{"$f":"COUNTIF('Non-Crash Events'!B:B,C66)","v":0},{"$f":"VLOOKUP(C66,'Weight Based'!F:I,4,FALSE)","v":68.5}]
["N.47",{"$f":"MATCH(C67,'Weight Based'!F:F,0)-1","v":44},"US-218 & IA-92","No, streetlight pole on bridge?  Prw just not super east",1,"E",{"$f":"COUNTIF('WWD Crashes'!C:C,C67)","v":1},{"$f":"COUNTIF('Non-Crash Events'!B:B,C67)","v":1},{"$f":"VLOOKUP(C67,'Weight Based'!F:I,4,FALSE)","v":85.5}]
["N.41",{"$f":"MATCH(C68,'Weight Based'!F:F,0)-1","v":76},"US-20 & 270th Ave","No.  Some streetlights but pwr reqiires some boring",1,"S",{"$f":"COUNTIF('WWD Crashes'!C:C,C68)","v":2},{"$f":"COUNTIF('Non-Crash Events'!B:B,C68)","v":0},{"$f":"VLOOKUP(C68,'Weight Based'!F:I,4,FALSE)","v":67.5}]
["N.01",{"$f":"MATCH(C69,'Weight Based'!F:F,0)-1","v":72},"I-80 & CR-G30/White Pole Rd/Cedar Ave","No.  Some streetlights.  Pwr not super easy",1,"NW",{"$f":"COUNTIF('WWD Crashes'!C:C,C69)","v":0},{"$f":"COUNTIF('Non-Crash Events'!B:B,C69)","v":0},{"$f":"VLOOKUP(C69,'Weight Based'!F:I,4,FALSE)","v":68}]
["N.43",{"$f":"MATCH(C70,'Weight Based'!F:F,0)-1","v":51},"US-20 & IA-136","No, streetlights exist, but pw would require boring",1,"S",{"$f":"COUNTIF('WWD Crashes'!C:C,C70)","v":2},{"$f":"COUNTIF('Non-Crash Events'!B:B,C70)","v":0},{"$f":"VLOOKUP(C70,'Weight Based'!F:I,4,FALSE)","v":80.5}]
["N.51",{"$f":"MATCH(C71,'Weight Based'!F:F,0)-1","v":39},"US-34 & Locust St","No, streetlights exist, but pre is on other side of interchange",1,"NE",{"$f":"COUNTIF('WWD Crashes'!C:C,C71)","v":1},{"$f":"COUNTIF('Non-Crash Events'!B:B,C71)","v":0},{"$f":"VLOOKUP(C71,'Weight Based'!F:I,4,FALSE)","v":87}]
["N.02",{"$f":"MATCH(C72,'Weight Based'!F:F,0)-1","v":65},"I-80 & CR-P20/Pinewood Ave","No, streetlights exist.  Very treey pwr doable, but not easy",1,"NE",{"$f":"COUNTIF('WWD Crashes'!C:C,C72)","v":1},{"$f":"COUNTIF('Non-Crash Events'!B:B,C72)","v":0},{"$f":"VLOOKUP(C72,'Weight Based'!F:I,4,FALSE)","v":72}]
["N.52",{"$f":"MATCH(C73,'Weight Based'!F:F,0)-1","v":69},"US-34 & BUS-34 / Middletown","No, streetlights and pwr is doable, just not \"easy\"",1,"S",{"$f":"COUNTIF('WWD Crashes'!C:C,C73)","v":1},{"$f":"COUNTIF('Non-Crash Events'!B:B,C73)","v":0},{"$f":"VLOOKUP(C73,'Weight Based'!F:I,4,FALSE)","v":70}]
["N.60",{"$f":"MATCH(C74,'Weight Based'!F:F,0)-1","v":73},"IA-163 & IA-117","No, Streetlights are aroud but pwr on other side of interchange",1,"NW",{"$f":"COUNTIF('WWD Crashes'!C:C,C74)","v":0},{"$f":"COUNTIF('Non-Crash Events'!B:B,C74)","v":0},{"$f":"VLOOKUP(C74,'Weight Based'!F:I,4,FALSE)","v":68}]
["N.15",{"$f":"MATCH(C75,'Weight Based'!F:F,0)-1","v":20},"I-80 & IA-38","No, Interchange being reconstructed",1,"S",{"$f":"COUNTIF('WWD Crashes'!C:C,C75)","v":2},{"$f":"COUNTIF('Non-Crash Events'!B:B,C75)","v":0},{"$f":"VLOOKUP(C75,'Weight Based'!F:I,4,FALSE)","v":118.75}]
["N.40",{"$f":"MATCH(C76,'Weight Based'!F:F,0)-1","v":77},"US-20 & IA-38","No, Streetlight but needs to bore under road",1,"E",{"$f":"COUNTIF('WWD Crashes'!C:C,C76)","v":0},{"$f":"COUNTIF('Non-Crash Events'!B:B,C76)","v":0},{"$f":"VLOOKUP(C76,'Weight Based'!F:I,4,FALSE)","v":65}]
["N.53",{"$f":"MATCH(C77,'Weight Based'!F:F,0)-1","v":40},"US-34 & Mount Pleasant St","No.  Streetlights around, but pwr on other side of 4 lane",1,"W",{"$f":"COUNTIF('WWD Crashes'!C:C,C77)","v":2},{"$f":"COUNTIF('Non-Crash Events'!B:B,C77)","v":0},{"$f":"VLOOKUP(C77,'Weight Based'!F:I,4,FALSE)","v":87}]
["N.71",{"$f":"MATCH(C78,'Weight Based'!F:F,0)-1","v":36},"US-30 & US-63","No.  If we added a pole and 200' trenched",1,"N",{"$f":"COUNTIF('WWD Crashes'!C:C,C78)","v":1},{"$f":"COUNTIF('Non-Crash Events'!B:B,C78)","v":0},{"$f":"VLOOKUP(C78,'Weight Based'!F:I,4,FALSE)","v":89}]
["N.57",{"$f":"MATCH(C79,'Weight Based'!F:F,0)-1","v":32},"US-61 & Main St","No.  If we added a pole and 200' trenched",1,"S",{"$f":"COUNTIF('WWD Crashes'!C:C,C79)","v":3},{"$f":"COUNTIF('Non-Crash Events'!B:B,C79)","v":0},{"$f":"VLOOKUP(C79,'Weight Based'!F:I,4,FALSE)","v":93}]
["N.56",{"$f":"MATCH(C80,'Weight Based'!F:F,0)-1","v":68},"US-61 & 9th St/11th St","No.  Just seems complicated.  Will not be cheap",1,"E",{"$f":"COUNTIF('WWD Crashes'!C:C,C80)","v":2},{"$f":"COUNTIF('Non-Crash Events'!B:B,C80)","v":0},{"$f":"VLOOKUP(C80,'Weight Based'!F:I,4,FALSE)","v":71}]
[]
[]
[null,{"$f":"MATCH(C83,'Weight Based'!F:F,0)-1","v":79},"I-380 & 29th St","Yes",{"$f":"IF(F83=\"Both\",2,1)","v":1},"E",{"$f":"COUNTIF('WWD Crashes'!C:C,C83)","v":0},{"$f":"COUNTIF('Non-Crash Events'!B:B,C83)","v":1},{"$f":"VLOOKUP(C83,'Weight Based'!F:I,4,FALSE)","v":64}]
[null,{"$f":"MATCH(C84,'Weight Based'!F:F,0)-1","v":80},"I-380 & 42nd St","Yes",1,"E",{"$f":"COUNTIF('WWD Crashes'!C:C,C84)","v":0},{"$f":"COUNTIF('Non-Crash Events'!B:B,C84)","v":1},{"$f":"VLOOKUP(C84,'Weight Based'!F:I,4,FALSE)","v":64}]
[null,{"$f":"MATCH(C85,'Weight Based'!F:F,0)-1","v":91},"US-30 & IA-17","Yes",2,"Both",{"$f":"COUNTIF('WWD Crashes'!C:C,C85)","v":0},{"$f":"COUNTIF('Non-Crash Events'!B:B,C85)","v":8},{"$f":"VLOOKUP(C85,'Weight Based'!F:I,4,FALSE)","v":60},null,null,null,{"$f":"SUM(R61)","v":0},"Cameras"]
[null,{"$f":"MATCH(C86,'Weight Based'!F:F,0)-1","v":104},"US-34 & US-71","Yes",2,"Both",{"$f":"COUNTIF('WWD Crashes'!C:C,C86)","v":0},{"$f":"COUNTIF('Non-Crash Events'!B:B,C86)","v":0},{"$f":"VLOOKUP(C86,'Weight Based'!F:I,4,FALSE)","v":55},null,null,null,5000,"Estimated for camera and install on existing pole w/ power, comms and cabinet"]
[null,{"$f":"MATCH(C87,'Weight Based'!F:F,0)-1","v":133},"I-35 & University Ave","Yes",1,"W",{"$f":"COUNTIF('WWD Crashes'!C:C,C87)","v":0},{"$f":"COUNTIF('Non-Crash Events'!B:B,C87)","v":1},{"$f":"VLOOKUP(C87,'Weight Based'!F:I,4,FALSE)","v":45}]
[null,{"$f":"MATCH(C88,'Weight Based'!F:F,0)-1","v":187},"I-235 & 19th St/MLK Pkwy","Yes",1,"SW",{"$f":"COUNTIF('WWD Crashes'!C:C,C88)","v":0},{"$f":"COUNTIF('Non-Crash Events'!B:B,C88)","v":0},{"$f":"VLOOKUP(C88,'Weight Based'!F:I,4,FALSE)","v":35}]
[null,{"$f":"MATCH(C89,'Weight Based'!F:F,0)-1","v":188},"I-235 & 22nd St","Yes",1,"N",{"$f":"COUNTIF('WWD Crashes'!C:C,C89)","v":0},{"$f":"COUNTIF('Non-Crash Events'!B:B,C89)","v":0},{"$f":"VLOOKUP(C89,'Weight Based'!F:I,4,FALSE)","v":35}]
[null,{"$f":"MATCH(C90,'Weight Based'!F:F,0)-1","v":192},"I-80 & Jordan Creek Pkwy","Yes",1,"S",{"$f":"COUNTIF('WWD Crashes'!C:C,C90)","v":0},{"$f":"COUNTIF('Non-Crash Events'!B:B,C90)","v":0},{"$f":"VLOOKUP(C90,'Weight Based'!F:I,4,FALSE)","v":35}]
[null,{"$f":"MATCH(C91,'Weight Based'!F:F,0)-1","v":63},"US-63 & US-18/IA-346","No",1,"W",{"$f":"COUNTIF('WWD Crashes'!C:C,C91)","v":1},{"$f":"COUNTIF('Non-Crash Events'!B:B,C91)","v":0},{"$f":"VLOOKUP(C91,'Weight Based'!F:I,4,FALSE)","v":74}]
[null,{"$f":"MATCH(C92,'Weight Based'!F:F,0)-1","v":78},"US-34 & Grand Ave/Jewel Ave","No",1,"W",{"$f":"COUNTIF('WWD Crashes'!C:C,C92)","v":0},{"$f":"COUNTIF('Non-Crash Events'!B:B,C92)","v":0},{"$f":"VLOOKUP(C92,'Weight Based'!F:I,4,FALSE)","v":64}]
[null,{"$f":"MATCH(C93,'Weight Based'!F:F,0)-1","v":70},"I-380 & Diagonal Dr","No",1,"E",{"$f":"COUNTIF('WWD Crashes'!C:C,C93)","v":0},{"$f":"COUNTIF('Non-Crash Events'!B:B,C93)","v":2},{"$f":"VLOOKUP(C93,'Weight Based'!F:I,4,FALSE)","v":69}]
[null,{"$f":"MATCH(C94,'Weight Based'!F:F,0)-1","v":83},"IA-27 & US-218","No",1,"W",{"$f":"COUNTIF('WWD Crashes'!C:C,C94)","v":1},{"$f":"COUNTIF('Non-Crash Events'!B:B,C94)","v":0},{"$f":"VLOOKUP(C94,'Weight Based'!F:I,4,FALSE)","v":62.5}]
[null,{"$f":"MATCH(C95,'Weight Based'!F:F,0)-1","v":84},"US-30 & BUS-30/Lincoln Hwy","No",2,"Both",{"$f":"COUNTIF('WWD Crashes'!C:C,C95)","v":0},{"$f":"COUNTIF('Non-Crash Events'!B:B,C95)","v":0},{"$f":"VLOOKUP(C95,'Weight Based'!F:I,4,FALSE)","v":62}]
[null,{"$f":"MATCH(C96,'Weight Based'!F:F,0)-1","v":85},"US-20 & Jefferson Rd","No",1,"W",{"$f":"COUNTIF('WWD Crashes'!C:C,C96)","v":0},{"$f":"COUNTIF('Non-Crash Events'!B:B,C96)","v":0},{"$f":"VLOOKUP(C96,'Weight Based'!F:I,4,FALSE)","v":62}]
[null,{"$f":"MATCH(C97,'Weight Based'!F:F,0)-1","v":86},"US-169 & 2nd Ave","No",1,"S",{"$f":"COUNTIF('WWD Crashes'!C:C,C97)","v":0},{"$f":"COUNTIF('Non-Crash Events'!B:B,C97)","v":0},{"$f":"VLOOKUP(C97,'Weight Based'!F:I,4,FALSE)","v":62}]
[null,{"$f":"MATCH(C98,'Weight Based'!F:F,0)-1","v":87},"I-680 & CR-L34","No",2,"Both",{"$f":"COUNTIF('WWD Crashes'!C:C,C98)","v":1},{"$f":"COUNTIF('Non-Crash Events'!B:B,C98)","v":0},{"$f":"VLOOKUP(C98,'Weight Based'!F:I,4,FALSE)","v":62}]
[null,{"$f":"MATCH(C99,'Weight Based'!F:F,0)-1","v":88},"US-218 & IA-14","No",1,"W",{"$f":"COUNTIF('WWD Crashes'!C:C,C99)","v":0},{"$f":"COUNTIF('Non-Crash Events'!B:B,C99)","v":0},{"$f":"VLOOKUP(C99,'Weight Based'!F:I,4,FALSE)","v":61}]
[null,{"$f":"MATCH(C100,'Weight Based'!F:F,0)-1","v":89},"I-80 & IA-173","No",1,"W",{"$f":"COUNTIF('WWD Crashes'!C:C,C100)","v":1},{"$f":"COUNTIF('Non-Crash Events'!B:B,C100)","v":0},{"$f":"VLOOKUP(C100,'Weight Based'!F:I,4,FALSE)","v":60.5}]
[null,{"$f":"MATCH(C101,'Weight Based'!F:F,0)-1","v":92},"I-380 & 330th St","No",1,"N",{"$f":"COUNTIF('WWD Crashes'!C:C,C101)","v":1},{"$f":"COUNTIF('Non-Crash Events'!B:B,C101)","v":0},{"$f":"VLOOKUP(C101,'Weight Based'!F:I,4,FALSE)","v":59.5}]
[null,{"$f":"MATCH(C102,'Weight Based'!F:F,0)-1","v":95},"IA-60 & 170th St/A22","No",1,"E",{"$f":"COUNTIF('WWD Crashes'!C:C,C102)","v":0},{"$f":"COUNTIF('Non-Crash Events'!B:B,C102)","v":0},{"$f":"VLOOKUP(C102,'Weight Based'!F:I,4,FALSE)","v":59}]
[null,{"$f":"MATCH(C103,'Weight Based'!F:F,0)-1","v":96},"US-20 & Quail Ave/Nelson Ave","No",1,"S",{"$f":"COUNTIF('WWD Crashes'!C:C,C103)","v":0},{"$f":"COUNTIF('Non-Crash Events'!B:B,C103)","v":0},{"$f":"VLOOKUP(C103,'Weight Based'!F:I,4,FALSE)","v":59}]
[null,{"$f":"MATCH(C104,'Weight Based'!F:F,0)-1","v":99},"IA-60 & 2nd Ave","No",1,"NE",{"$f":"COUNTIF('WWD Crashes'!C:C,C104)","v":0},{"$f":"COUNTIF('Non-Crash Events'!B:B,C104)","v":0},{"$f":"VLOOKUP(C104,'Weight Based'!F:I,4,FALSE)","v":58}]
[null,{"$f":"MATCH(C105,'Weight Based'!F:F,0)-1","v":102},"IA-60 & 470th St","No",1,"E",{"$f":"COUNTIF('WWD Crashes'!C:C,C105)","v":0},{"$f":"COUNTIF('Non-Crash Events'!B:B,C105)","v":0},{"$f":"VLOOKUP(C105,'Weight Based'!F:I,4,FALSE)","v":57}]
[null,{"$f":"MATCH(C106,'Weight Based'!F:F,0)-1","v":109},"US-63 & 145th Ave","No",1,"E",{"$f":"COUNTIF('WWD Crashes'!C:C,C106)","v":0},{"$f":"COUNTIF('Non-Crash Events'!B:B,C106)","v":0},{"$f":"VLOOKUP(C106,'Weight Based'!F:I,4,FALSE)","v":54}]
[null,{"$f":"MATCH(C107,'Weight Based'!F:F,0)-1","v":137},"I-29 & 35th St","No",1,"W",{"$f":"COUNTIF('WWD Crashes'!C:C,C107)","v":0},{"$f":"COUNTIF('Non-Crash Events'!B:B,C107)","v":0},{"$f":"VLOOKUP(C107,'Weight Based'!F:I,4,FALSE)","v":44}]
[]
[]
["N.22",{"$f":"MATCH(C110,'Weight Based'!F:F,0)-1","v":53},"I-380 & Blairs Ferry Rd","Hold for Intrans Project",{"$f":"IF(F110=\"Both\",2,1)","v":1},"W",{"$f":"COUNTIF('WWD Crashes'!C:C,C110)","v":1},{"$f":"COUNTIF('Non-Crash Events'!B:B,C110)","v":1},{"$f":"VLOOKUP(C110,'Weight Based'!F:I,4,FALSE)","v":79}]
["N.11",{"$f":"MATCH(C111,'Weight Based'!F:F,0)-1","v":16},"I-80 & IA-21","Hold for Intrans Project",1,"S",{"$f":"COUNTIF('WWD Crashes'!C:C,C111)","v":4},{"$f":"COUNTIF('Non-Crash Events'!B:B,C111)","v":4},{"$f":"VLOOKUP(C111,'Weight Based'!F:I,4,FALSE)","v":124.4}]
["N.21",{"$f":"MATCH(C112,'Weight Based'!F:F,0)-1","v":24},"I-380 & Glass Rd","Hold for Intrans Project",1,"W",{"$f":"COUNTIF('WWD Crashes'!C:C,C112)","v":2},{"$f":"COUNTIF('Non-Crash Events'!B:B,C112)","v":2},{"$f":"VLOOKUP(C112,'Weight Based'!F:I,4,FALSE)","v":103.9}]
["N.66",{"$f":"MATCH(C113,'Weight Based'!F:F,0)-1","v":43},"US-30 & IA-930/Lincoln Way","Hold for Intrans Project",1,"W",{"$f":"COUNTIF('WWD Crashes'!C:C,C113)","v":0},{"$f":"COUNTIF('Non-Crash Events'!B:B,C113)","v":7},{"$f":"VLOOKUP(C113,'Weight Based'!F:I,4,FALSE)","v":86}]
["N.58",{"$f":"MATCH(C114,'Weight Based'!F:F,0)-1","v":58},"US-65 & Vandalia Rd","Hold for Intrans Project",1,"N",{"$f":"COUNTIF('WWD Crashes'!C:C,C114)","v":0},{"$f":"COUNTIF('Non-Crash Events'!B:B,C114)","v":1},{"$f":"VLOOKUP(C114,'Weight Based'!F:I,4,FALSE)","v":77.900000000000006}]
[null,{"$f":"MATCH(C115,'Weight Based'!F:F,0)-1","v":100},"I-29 & Desoto Ave","Hold for Intrans Project",1,"S",{"$f":"COUNTIF('WWD Crashes'!C:C,C115)","v":0},{"$f":"COUNTIF('Non-Crash Events'!B:B,C115)","v":0},{"$f":"VLOOKUP(C115,'Weight Based'!F:I,4,FALSE)","v":58}]
[null,{"$f":"MATCH(C116,'Weight Based'!F:F,0)-1","v":134},"I-235 & 50th St","Hold for Intrans Project",1,"SE",{"$f":"COUNTIF('WWD Crashes'!C:C,C116)","v":0},{"$f":"COUNTIF('Non-Crash Events'!B:B,C116)","v":1},{"$f":"VLOOKUP(C116,'Weight Based'!F:I,4,FALSE)","v":45}]
[null,{"$f":"MATCH(C117,'Weight Based'!F:F,0)-1","v":148},"I-29 & 25th St","Hold for Intrans Project",1,"N",{"$f":"COUNTIF('WWD Crashes'!C:C,C117)","v":1},{"$f":"COUNTIF('Non-Crash Events'!B:B,C117)","v":0},{"$f":"VLOOKUP(C117,'Weight Based'!F:I,4,FALSE)","v":42}]
[null,23,"I-380 & 1st Ave","Hold for Intrans Project - Aimed North",1,"N",{"$f":"COUNTIF('WWD Crashes'!C:C,C118)","v":1},{"$f":"COUNTIF('Non-Crash Events'!B:B,C118)","v":3},{"$f":"VLOOKUP(C118,'Weight Based'!F:I,4,FALSE)","v":103.65}]
["N.12",{"$f":"MATCH(C119,'Weight Based'!F:F,0)-1","v":21},"I-80 & Black Hawk Ave","Hold for Intrans Project",{"$f":"IF(F119=\"Both\",2,1)","v":2},"Both",{"$f":"COUNTIF('WWD Crashes'!C:C,C119)","v":1},{"$f":"COUNTIF('Non-Crash Events'!B:B,C119)","v":3},{"$f":"VLOOKUP(C119,'Weight Based'!F:I,4,FALSE)","v":109.9}]
["N.13",{"$f":"MATCH(C120,'Weight Based'!F:F,0)-1","v":55},"I-80 & Coral Ridge Ave","Yes, on the east side of interchange. Intrans",1,"Both",{"$f":"COUNTIF('WWD Crashes'!C:C,C120)","v":1},{"$f":"COUNTIF('Non-Crash Events'!B:B,C120)","v":3},{"$f":"VLOOKUP(C120,'Weight Based'!F:I,4,FALSE)","v":78.900000000000006}]

{"sheet":"Camera Sheet for DTS","index":5,"n_rows":52,"n_cols":6,"rows_kept":52,"cut":false,"hidden":false,"merged":[]}
[null,"Location",{"$f":"Cameras!C1","v":"Interchange"},{"$f":"Cameras!D1","v":"Existing DOT Pole"},{"$f":"Cameras!E1","v":"# of Cameras"},{"$f":"Cameras!F1","v":"Target Side"}]
[null,1,{"$f":"Cameras!C2","v":"I-380 & Wilson Ave"},{"$f":"Cameras!D2","v":"Yes, or Sensor Pole - Need to decide to keep Doug's sensor or not"},{"$f":"Cameras!E2","v":1},{"$f":"Cameras!F2","v":"E"}]
[null,2,{"$f":"Cameras!C3","v":"I-80 & Grand Prairie Pkwy"},{"$f":"Cameras!D3","v":"Yes, existing Camera Pole"},{"$f":"Cameras!E3","v":2},{"$f":"Cameras!F3","v":"Both"}]
[null,3,{"$f":"Cameras!C4","v":"I-380 & 1st St"},{"$f":"Cameras!D4","v":"No, however viable streetlight (East side of Rv)"},{"$f":"Cameras!E4","v":1},{"$f":"Cameras!F4","v":"N"}]
[null,4,{"$f":"Cameras!C5","v":"I-35 & US-6/Hickman Rd"},{"$f":"Cameras!D5","v":"Yes, existing Camera Pole"},{"$f":"Cameras!E5","v":1},{"$f":"Cameras!F5","v":"E"}]
[null,5,{"$f":"Cameras!C6","v":"I-29 & IA-192/16th St"},{"$f":"Cameras!D6","v":"Yes, existing Camera Pole"},{"$f":"Cameras!E6","v":1},{"$f":"Cameras!F6","v":"W"}]
[null,6,{"$f":"Cameras!C7","v":"US-30 & Kirkwood Blvd"},{"$f":"Cameras!D7","v":"Yes, but lots of trees - Look in daytime"},{"$f":"Cameras!E7","v":2},{"$f":"Cameras!F7","v":"SE & SW"}]
[null,7,{"$f":"Cameras!C8","v":"I-80 & 1st Ave"},{"$f":"Cameras!D8","v":"Yes, existing Camera Pole"},{"$f":"Cameras!E8","v":1},{"$f":"Cameras!F8","v":"S"}]
[null,8,{"$f":"Cameras!C9","v":"I-35 & Grand Ave"},{"$f":"Cameras!D9","v":"Yes, existing Camera Pole"},{"$f":"Cameras!E9","v":1},{"$f":"Cameras!F9","v":"W"}]
[null,9,{"$f":"Cameras!C10","v":"I-280 & US-6"},{"$f":"Cameras!D10","v":"No, Mount on Truss S. of Interchange"},{"$f":"Cameras!E10","v":2},{"$f":"Cameras!F10","v":"Both"}]
[null,10,{"$f":"Cameras!C11","v":"I-380 & 33rd Ave"},{"$f":"Cameras!D11","v":"Yes, existing Camera Pole"},{"$f":"Cameras!E11","v":1},{"$f":"Cameras!F11","v":"E"}]
[null,11,{"$f":"Cameras!C12","v":"US-218 & Barrick Rd"},{"$f":"Cameras!D12","v":"No, however viable streetlight"},{"$f":"Cameras!E12","v":2},{"$f":"Cameras!F12","v":"Both"}]
[null,12,{"$f":"Cameras!C13","v":"I-35 & Merle Hay Rd"},{"$f":"Cameras!D13","v":"Yes, existing Camera Pole"},{"$f":"Cameras!E13","v":1},{"$f":"Cameras!F13","v":"W"}]
[null,13,{"$f":"Cameras!C14","v":"I-35 & IA-92"},{"$f":"Cameras!D14","v":"Yes, existing Camera Pole"},{"$f":"Cameras!E14","v":1},{"$f":"Cameras!F14","v":"W"}]
[null,14,{"$f":"Cameras!C15","v":"I-29 & 275th St"},{"$f":"Cameras!D15","v":"No, however viable streetlight"},{"$f":"Cameras!E15","v":1},{"$f":"Cameras!F15","v":"E"}]
[null,15,{"$f":"Cameras!C16","v":"I-35 & Oralabor Rd"},{"$f":"Cameras!D16","v":"Yes, existing Camera Pole"},{"$f":"Cameras!E16","v":2},{"$f":"Cameras!F16","v":"Both"}]
[null,16,{"$f":"Cameras!C17","v":"I-80 & 86th St"},{"$f":"Cameras!D17","v":"Yes, existing Camera Pole"},{"$f":"Cameras!E17","v":1},{"$f":"Cameras!F17","v":"N"}]
[null,17,{"$f":"Cameras!C18","v":"I-380 & 1st Ave"},{"$f":"Cameras!D18","v":"Yes - New camera aimed west at Exit Ramp"},{"$f":"Cameras!E18","v":1},{"$f":"Cameras!F18","v":"W"}]
[null,18,{"$f":"Cameras!C19","v":"I-235 & 7th St/5th Ave"},{"$f":"Cameras!D19","v":"Yes, existing Camera Pole"},{"$f":"Cameras!E19","v":1},{"$f":"Cameras!F19","v":"S"}]
[null,19,{"$f":"Cameras!C20","v":"I-380 & 7th St"},{"$f":"Cameras!D20","v":"Yes, existing Camera Pole"},{"$f":"Cameras!E20","v":1},{"$f":"Cameras!F20","v":"W"}]
[null,20,{"$f":"Cameras!C21","v":"I-35 & Corporate Woods Dr"},{"$f":"Cameras!D21","v":"Yes, existing Camera Pole"},{"$f":"Cameras!E21","v":2},{"$f":"Cameras!F21","v":"Both"}]
[null,21,{"$f":"Cameras!C22","v":"IA-141 & IA-415"},{"$f":"Cameras!D22","v":"Yes"},{"$f":"Cameras!E22","v":1},{"$f":"Cameras!F22","v":"W"}]
[null,22,{"$f":"Cameras!C23","v":"I-80 & US-69"},{"$f":"Cameras!D23","v":"Yes, existing Camera Pole"},{"$f":"Cameras!E23","v":2},{"$f":"Cameras!F23","v":"Both"}]
[null,23,{"$f":"Cameras!C24","v":"I-35 & Mills Civic Pkwy"},{"$f":"Cameras!D24","v":"Yes, existing Camera Pole - Add Spaceship"},{"$f":"Cameras!E24","v":1},{"$f":"Cameras!F24","v":"W"}]
[null,24,{"$f":"Cameras!C25","v":"I-29 & IA-175"},{"$f":"Cameras!D25","v":"No, however viable streetlight"},{"$f":"Cameras!E25","v":1},{"$f":"Cameras!F25","v":"E"}]
[null,25,{"$f":"Cameras!C26","v":"US-20 & 330th Ave/CR-X49"},{"$f":"Cameras!D26","v":"In Process"},{"$f":"Cameras!E26","v":0},{"$f":"Cameras!F26","v":"Both"}]
[null,26,{"$f":"Cameras!C27","v":"I-235 & Keosauqua Way"},{"$f":"Cameras!D27","v":"Yes, existing camera pole on truss will work"},{"$f":"Cameras!E27","v":2},{"$f":"Cameras!F27","v":"Both"}]
[null,27,{"$f":"Cameras!C28","v":"US-30 & C St"},{"$f":"Cameras!D28","v":"Yes, existing camera pole will work"},{"$f":"Cameras!E28","v":2},{"$f":"Cameras!F28","v":"NW & SE"}]
[null,28,{"$f":"Cameras!C29","v":"US-30 & WACONIA AVE/6TH ST SW"},{"$f":"Cameras!D29","v":"No, will need a new pole and an electrical run"},{"$f":"Cameras!E29","v":2},{"$f":"Cameras!F29","v":"N"}]
[null,29,{"$f":"Cameras!C30","v":"I-80 & IA-415/2nd St"},{"$f":"Cameras!D30","v":"West Camera on truss  (Intrans?)w/ existing camera-East camera on DMS "},{"$f":"Cameras!E30","v":1},{"$f":"Cameras!F30","v":"Both"}]
[null,30,{"$f":"Cameras!C31","v":"US-30 & IA-330"},{"$f":"Cameras!D31","v":"No, but doing anyway"},{"$f":"Cameras!E31","v":2},{"$f":"Cameras!F31","v":"Both"}]
[null,31,{"$f":"Cameras!C32","v":"I-80 & IA-14"},{"$f":"Cameras!D32","v":"Yes"},{"$f":"Cameras!E32","v":1},{"$f":"Cameras!F32","v":"S"}]
[null,32,{"$f":"Cameras!C33","v":"US-34 & Main St"},{"$f":"Cameras!D33","v":"Yes, on a street light pole w/ RWIS items"},{"$f":"Cameras!E33","v":1},{"$f":"Cameras!F33","v":"W"}]
[null,33,{"$f":"Cameras!C34","v":"US-30 & Duff Ave/US-69"},{"$f":"Cameras!D34","v":"Yes, existing camera pole will work"},{"$f":"Cameras!E34","v":1},{"$f":"Cameras!F34","v":"N"}]
[null,34,{"$f":"Cameras!C35","v":"I-35 & US-34"},{"$f":"Cameras!D35","v":"Yes"},{"$f":"Cameras!E35","v":1},{"$f":"Cameras!F35","v":"W"}]
[null,35,{"$f":"Cameras!C36","v":"I-235 & E 14th St"},{"$f":"Cameras!D36","v":"Yes"},{"$f":"Cameras!E36","v":1},{"$f":"Cameras!F36","v":"W"}]
[null,36,{"$f":"Cameras!C37","v":"US-30 & Edgewood Rd"},{"$f":"Cameras!D37","v":"Yes"},{"$f":"Cameras!E37","v":1},{"$f":"Cameras!F37","v":"N"}]
[null,37,{"$f":"Cameras!C38","v":"I-29 & Singing Hills Blvd"},{"$f":"Cameras!D38","v":"Yes"},{"$f":"Cameras!E38","v":2},{"$f":"Cameras!F38","v":"Both"}]
[null,38,{"$f":"Cameras!C39","v":"US-30 & Dayton Ave"},{"$f":"Cameras!D39","v":"Yes"},{"$f":"Cameras!E39","v":1},{"$f":"Cameras!F39","v":"N"}]
[null,39,{"$f":"Cameras!C40","v":"US-151 & IA-1"},{"$f":"Cameras!D40","v":"Yes"},{"$f":"Cameras!E40","v":1},{"$f":"Cameras!F40","v":"S"}]
[null,40,{"$f":"Cameras!C41","v":"IA-100 & Edgewood Rd"},{"$f":"Cameras!D41","v":"Yes"},{"$f":"Cameras!E41","v":1},{"$f":"Cameras!F41","v":"S"}]
[null,41,{"$f":"Cameras!C42","v":"US 63 N. Side of New Hampton"},{"$f":"Cameras!D42","v":"No camera pole, but could use lighting"},{"$f":"Cameras!E42","v":1},{"$f":"Cameras!F42","v":"N"}]
[null,42,{"$f":"Cameras!C43","v":"US-218 & IA-2"},{"$f":"Cameras!D43","v":"No camera/pole in middle.  However could do West side very easy with streetlight and existign power close.  Splitting this one - Need was both sides, but by placing on west side, we will still \"see\" the east side (but not detect)"},{"$f":"Cameras!E43","v":1},{"$f":"Cameras!F43","v":"West"}]
[null,43,{"$f":"Cameras!C44","v":"US 65 & Ia 330"},{"$f":"Cameras!D44","v":"No existing camera, but streetlighs will work"},{"$f":"Cameras!E44","v":1},{"$f":"Cameras!F44","v":"South"}]
[null,44,{"$f":"Cameras!C45","v":"I-80 & Magnolia Rd"},{"$f":"Cameras!D45","v":"No, camera pols, but street lights and pwr is fairly close"},{"$f":"Cameras!E45","v":1},{"$f":"Cameras!F45","v":"West"}]
[null,45,{"$f":"Cameras!C46","v":"US-30 & Corporal Roger Snedden Dr"},{"$f":"Cameras!D46","v":"Yes"},{"$f":"Cameras!E46","v":1},{"$f":"Cameras!F46","v":"West"}]
[null,46,{"$f":"Cameras!C47","v":"US-30 & SW 4th St/CR-S14"},{"$f":"Cameras!D47","v":"Yes"},{"$f":"Cameras!E47","v":1},{"$f":"Cameras!F47","v":"East"}]
[null,47,{"$f":"Cameras!C48","v":"US-30 & 650th Ave/CR-S27"},{"$f":"Cameras!D48","v":"New pole needed.  Place in SE Quad 300' east "},{"$f":"Cameras!E48","v":1},{"$f":"Cameras!F48","v":"West"}]
[null,48,{"$f":"Cameras!C49","v":"US-30 & Dayton Ave"},{"$f":"Cameras!D49","v":"Yes"},{"$f":"Cameras!E49","v":1},{"$f":"Cameras!F49","v":"N"}]
[null,49,{"$f":"Cameras!C50","v":"US-30 & University Blvd"},{"$f":"Cameras!D50","v":"Yes - Need to compare repair cost"},{"$f":"Cameras!E50","v":1},{"$f":"Cameras!F50","v":"South"}]
[]
[null,null,null,null,{"$f":"SUM(E2:E50)","v":60},"Total # of Cameras"]

{"sheet":"Location Sheet For Snyder","index":6,"n_rows":97,"n_cols":7,"rows_kept":97,"cut":false,"hidden":false,"merged":[]}
["Fy '21 Interchange #","Rank as of 3/2/21","Interchange","Target Side","# of Crashes 3/2/21","# of Non-Crash Events 3/2/21","Total Points 3/2/21"]
["N.01",72,"I-80 & CR-G30/White Pole Rd/Cedar Ave","NW",0,0,68]
["N.02",65,"I-80 & CR-P20/Pinewood Ave","NE",1,0,72]
["N.03",71,"I-80 & CR-F60/ELDORADO AVE","E",1,0,68.5]
["N.04",4,"I-80 & Grand Prairie Pkwy","Both",1,1,185]
["N.05",14,"I-35 & US-6/Hickman Rd","E",1,1,130]
["N.06",29,"I-80 & 86th St","N",3,0,96.5]
["N.07",28,"I-35 & Merle Hay Rd","W",2,0,97.5]
["N.08",90,"I-80 & IA-415/2nd St","Both",2,0,60]
["N.09",10,"I-80 & US-69","Both",2,1,135]
["N.10",61,"I-80 & IA-14","S",0,0,75]
["N.11",16,"I-80 & IA-21","S",4,4,124.4]
["N.12",21,"I-80 & Black Hawk Ave","Both",1,3,109.9]
["N.13",55,"I-80 & Coral Ridge Ave","Both",1,3,78.900000000000006]
["N.13",55,"I-80 & Coral Ridge Ave","Both",1,3,78.900000000000006]
["N.14",6,"I-80 & 1st Ave","S",2,2,154]
["N.15",20,"I-80 & IA-38","S",2,0,118.75]
["N.16",9,"I-380 & 33rd Ave","E",2,5,141.15]
["N.17",1,"I-380 & Wilson Ave","E",3,4,201.5]
["N.18",25,"I-380 & 1st Ave","W",1,3,103.65]
["N.19",2,"I-380 & 1st St","N",1,6,191.15]
["N.20",12,"I-380 & 7th St","W",1,5,132]
["N.21",24,"I-380 & Glass Rd","W",2,2,103.9]
["N.22",53,"I-380 & Blairs Ferry Rd","W",1,1,79]
["N.23",35,"I-35 & US-34","W",1,0,89]
["N.24",50,"I-35 & Clay St","E",1,0,81]
["N.25",215,"I-35 & IA-92","W",1,2,32]
["N.26",11,"I-35 & Grand Ave","W",3,1,133.25]
["N.27",17,"I-35 & Mills Civic Pkwy","W",2,1,120]
["N.28",42,"I-35 & Corporate Woods Dr","Both",1,0,81.5]
["N.29",22,"I-35 & Oralabor Rd","Both",3,1,107.5]
["N.30",23,"I-235 & 73rd St","South",1,0,105]
["N.31",18,"I-235 & Keosauqua Way","Both",3,1,119]
["N.32",48,"I-235 & 7th St/5th Ave","S",2,0,84]
["N.33",52,"I-235 & E 14th St","W",2,0,85]
["N.34",8,"I-280 & US-6","Both",1,2,144.25]
["N.35",7,"I-29 & IA-192/16th St","W",1,0,148.25]
["N.36",33,"I-29 & IA-175","E",1,0,91.25]
["N.37",27,"I-29 & 275th St","E",1,0,101.25]
["N.38",74,"I-29 & Singing Hills Blvd","Both",2,1,68]
["N.39",67,"US-20 & US-63","S",0,0,72]
["N.40",77,"US-20 & IA-38","E",0,0,65]
["N.41",76,"US-20 & 270th Ave","S",2,0,67.5]
["N.42",45,"US-20 & 330th Ave/CR-X49","Both",2,0,85.25]
["N.43",51,"US-20 & IA-136","S",2,0,80.5]
["N.44",26,"US-20 & Bryant St","Both",3,0,102]
["N.45",54,"US-151 & IA-1","S",1,0,79]
["N.46",15,"US-218 & IA-2","Both",2,0,128.75]
["N.47",44,"US-218 & IA-92","E",1,1,85.5]
["N.48",57,"US-218 & Riverside Dr","SW",0,1,77.900000000000006]
["N.49",31,"US-218 & Sergeant Rd","S",1,0,94]
["N.50",13,"US-218 & Barrick Rd","Both",1,0,130.25]
["N.51",39,"US-34 & Locust St","NE",1,0,87]
["N.52",69,"US-34 & BUS-34 / Middletown","S",1,0,70]
["N.53",40,"US-34 & Mount Pleasant St","W",2,0,87]
["N.54",64,"US-34 & Gear Ave","S",0,0,73]
["N.55",34,"US-34 & Main St","W",1,0,89]
["N.56",68,"US-61 & 9th St/11th St","E",2,0,71]
["N.57",32,"US-61 & Main St","S",3,0,93]
["N.58",58,"US-65 & Vandalia Rd","N",0,1,77.900000000000006]
["N.59",66,"US-65 & US-6","Both",0,2,72]
["N.60",73,"IA-163 & IA-117","NW",0,0,68]
["N.61",5,"IA-163 & CR-G28","E",2,0,166.25]
["N.62",46,"IA-5 & 110th Pl","N",1,0,84.5]
["N.63",37,"IA-5 & McKimber St","W",1,0,87.5]
["N.64",60,"IA-100 & Edgewood Rd","S",0,5,75.800000000000011]
["N.65",49,"IA-141 & IA-415","W",1,0,84]
["N.66",43,"US-30 & IA-930/Lincoln Way","W",0,6,86]
["N.67",56,"US-30 & Duff Ave/US-69","N",0,6,78]
["N.68",59,"US-30 & Dayton Ave","N",0,5,77]
["N.69",19,"US-30 & 19th St","S",0,14,119]
["N.70",30,"US-30 & IA-330","Both",3,4,96]
["N.71",36,"US-30 & US-63","N",1,0,89]
["N.72",47,"US-30 & Edgewood Rd","N",2,6,84.199999999999989]
["N.73",38,"US-30 & WACONIA AVE/6TH ST SW","N",1,0,87]
["N.74",3,"US-30 & Kirkwood Blvd","SE & SW",3,6,186.9]
["N.75",41,"US-30 & C St","NW & SE",0,2,86.9]
["N.76","N/a","IA-163 & 60th St","Both",0]
["N.77","N/a","IA-163 & 64th St","Both",0]
["N.78","N/a","IA-163 & 70th St","Both",1]
["N.79","N/a","IA-163 & 75th St","Both",0]
["N.80","N/a","IA-163 & 80th St","Both",0]
["N.81","N/a","US-30 & Story St"]
["N.82","N/a","US-30 & S Linn St","N",9]
["N.83","N/a","US-30 & Corporal Roger Snedden Dr","Both",15]
["N.84","N/a","US-30 & Marshall St","N",4]
["N.85","N/a","US-30 & U Ave"]
["N.86","N/a","US-30 & W Ave","N",3]
["N.87","N/a","US-30 & Sand Hill Trail","Both",4]
["N.88","N/a","US-30 & 580th Ave","Both",6]
["N.89","N/a","US-30 & 600th Ave","N",2]
["N.90","N/a","US-30 & 610th Ave"]
["N.91","N/a","US-30 & 3rd St/CR-S14","Both",4]
["N.92","N/a","US-30 & 650th Ave/CR-S27","Both",6]
["N.93","N/a","US-30 & 32nd Ave"]
["N.94","N/a","US-30 & IA-279"]
["N.95",100,"US 63 N. Side of New Hampton","N",{"$f":"COUNTIF('WWD Crashes'!C:C,C97)","v":0},{"$f":"COUNTIF('Non-Crash Events'!B:B,C97)","v":0},{"$f":"VLOOKUP(C97,'Weight Based'!F:I,4,FALSE)","v":{"$error":"#N/A"}}]